{"text_format":"1","workbook":"xlsx","n_sheets":11,"sheets":["Legende","IN_OUT","NR_Berechnung","NR_Mittelwertbildung","NR_Veränderung","NR_Indices","NR_Arbeitsprod_Arbeitskraft","HI_Hilfstabelle","RD_Einwohner","RD_BIP_Kopf","RD_Daten_Produktivität"],"not_rendered":{"charts":0,"images":1,"macros":0,"external_links":3,"defined_names":78,"comments":0,"pivot_tables":0},"unopened":[],"bounds":{"document_bytes":16777216,"sheet_cells":100000,"rows_first":2000,"rows_last":500,"rows_between":2000,"halvings":0,"cell_chars":16384,"cell_head_chars":4096},"cells_cut":0,"cells_raw":0,"read":"whole","date_system":"1900"}

{"sheet":"Legende","index":0,"n_rows":26,"n_cols":3,"rows_kept":26,"cut":false,"hidden":false,"merged":[[4,0,4,2],[6,0,6,2],[16,0,16,1],[21,0,21,1]]}
[]
[]
[]
[]
["Gutachten zur Ermittlung von Produktivitätsfortschrittsraten \nim Auftrag der Bundesnetzagentur"]
[]
["Tool 2\nEntwicklung der Arbeitsproduktivität für Post-, Kurier- und Expressdienste in anderen europäischen Ländern"]
[]
[null,"Version","1.0"]
[null,"Datum","2020-09-24"]
[]
[]
[null,"Wirtschaftszweig:","Post-, Kurier und Expressdienste (WZ 53) anderer europäischer Länder"]
[null,"Datenbasis:","EU KLEMS-Datenbank (Release 2019)"]
[null,null,"Eurostat"]
[]
["Legende - Zellen"]
[null,null,"Inputzellen"]
[null,null,"Outputzellen"]
[]
[]
["Legende - Arbeitsblätter"]
[null,"IN_OUT_","Dateneingabe und Parameterwahl / Ergebnisse"]
[null,"NR_","Nebenrechnung"]
[null,"RD_","Rohdaten"]
[null,"HI_","Hilfstabelle"]

{"sheet":"IN_OUT","index":1,"n_rows":55,"n_cols":10,"rows_kept":55,"cut":false,"hidden":false,"merged":[[1,5,1,7],[3,1,21,1],[29,2,29,3],[29,5,29,6],[29,8,29,9],[34,2,35,3],[34,5,35,6],[34,8,35,9],[54,2,54,3],[53,2,53,3],[52,2,52,3],[51,2,51,3],[50,2,50,3],[49,2,49,3],[48,2,48,3],[47,2,47,3],[46,2,46,3],[45,2,45,3],[44,2,44,3],[43,2,43,3],[42,2,42,3],[41,2,41,3],[40,2,40,3],[39,2,39,3],[38,2,38,3],[37,2,37,3],[37,5,37,6],[38,5,38,6],[39,5,39,6],[40,5,40,6],[41,5,41,6],[42,5,42,6],[43,5,43,6],[44,5,44,6],[45,5,45,6],[46,5,46,6],[47,8,47,9],[48,8,48,9],[49,8,49,9],[47,5,47,6],[48,5,48,6],[49,5,49,6],[42,8,42,9],[43,8,43,9],[44,8,44,9],[45,8,45,9],[46,8,46,9],[37,8,37,9],[38,8,38,9],[39,8,39,9],[40,8,40,9],[41,8,41,9],[50,8,50,9],[51,8,51,9],[52,8,52,9],[53,8,53,9],[52,5,52,6],[53,5,53,6],[50,5,50,6],[51,5,51,6]]}
[]
[null,null,null,null,null,"Verfügbare Jahre"]
[null,null,null,"Bei Auswahl \"Alle verfügbaren Länder\" wird die individuelle Länderauswahl ignoriert.",null,"Bruttowertschöpfung pro Stunde","Bruttowertschöpfung pro Erwerbstätige(r)","Produktionswert pro Erwerbstätige(r)"]
[null,"Länderauswahl","Alle verfügbaren Länder"]
[null,null,"Österreich",null,null,"1996 bis 2017","1996 bis 2017","1996 bis 2017"]
[null,null,"Belgien",null,null,"2000 bis 2016","1996 bis 2016","1996 bis 2016"]
[null,null,"Tschechien",null,null,"1996 bis 2017","1996 bis 2017","1996 bis 2017"]
[null,null,"Dänemark",null,null,"1996 bis 2017","1996 bis 2017","1996 bis 2017"]
[null,null,"Estland",null,null,"2001 bis 2017","1996 bis 2017","1996 bis 2017"]
[null,null,"Frankreich",null,null,"nicht verfügbar","1996 bis 2017","1996 bis 2016"]
[null,null,"Griechenland",null,null,"1996 bis 2017","1996 bis 2017","1996 bis 2017"]
[null,null,"Italien",null,null,"nicht verfügbar","1996 bis 2017","1996 bis 2015"]
[null,null,"Spanien",null,null,"1996 bis 2017","1996 bis 2017","nicht verfügbar"]
[null,null,"Finnland",null,null,"1996 bis 2017","1996 bis 2017","1996 bis 2017"]
[null,null,"Ungarn",null,null,"2011 bis 2017","1996 bis 2017","1996 bis 2017"]
[null,null,"Irland",null,null,"1996 bis 2017","1996 bis 2017","nicht verfügbar"]
[null,null,"Niederlande",null,null,"1996 bis 2017","1996 bis 2017","1996 bis 2017"]
[null,null,"Portugal",null,null,"2011 bis 2017","1996 bis 2017","1996 bis 2016"]
[null,null,"Rumänien",null,null,"1996 bis 2017","1996 bis 2017","1996 bis 2017"]
[null,null,"Slowenien",null,null,"1996 bis 2017","1996 bis 2017","2001 bis 2016"]
[null,null,"Slowakei",null,null,"1996 bis 2017","1996 bis 2017","1996 bis 2015"]
[null,null,"Großbritannien",null,null,"nicht verfügbar","1996 bis 2016","nicht verfügbar"]
[]
[null,"Ländergewichtung","Nach Einwohnerzahl"]
[]
[null,"Berechnungsperiode"]
[null,"Startjahr",2011]
[null,"Endjahr",2017]
[]
[null,null,"Bruttowertschöpfung pro Stunde",null,null,"Bruttowertschöpfung pro Erwerbstätige(r)",null,null,"Produktionswert pro Erwerbstätige(r)"]
[]
[null,null,"Arithmetisches Mittel","Geometrisches Mittel",null,"Arithmetisches Mittel","Geometrisches Mittel",null,"Arithmetisches Mittel","Geometrisches Mittel"]
[null,null,{"$f":"IF(HI_Hilfstabelle!D22=0,\"Bitte treffen Sie eine Auswahl.\",\nIF(IN_OUT!C27>=IN_OUT!C28,\"Das Startjahr muss größer als das Endjahr sein.\",\nIF(AND(HI_Hilfstabelle!C3=\"Alle verfügbaren\",IN_OUT!C24=\"Gleichgewichtet (einfacher Durchschnitt)\"),NR_Berechnung!AA26,\nIF(AND(HI_Hilfstabelle!C3=\"Alle verfügbaren\",IN_OUT!C24=\"Nach Einwohnerzahl\"),NR_Berechnung!AF26,\nIF(AND(HI_Hilfstabelle!C3=\"Alle verfügbaren\",IN_OUT!C24=\"Nach BIP pro Kopf\"),NR_Berechnung!AK26,\nIF(ISERROR(HI_Hilfstabelle!E22),\"Die ausgewählten Länder oder Jahre sind nicht verfügbar.\",\nIF(IN_OUT!C24=\"Gleichgewichtet (einfacher Durchschnitt)\",NR_Berechnung!BL26,\nIF(IN_OUT!C24=\"Nach Einwohnerzahl\",NR_Berechnung!BQ26,\nIF(IN_OUT!C24=\"Nach BIP pro Kopf\",NR_Berechnung!BV26)))))))))","v":"Die ausgewählten Länder oder Jahre sind nicht verfügbar."},{"$f":"IF(HI_Hilfstabelle!D22=0,\"Bitte treffen Sie eine Auswahl.\",\nIF(IN_OUT!C27>=IN_OUT!C28,\"Das Startjahr muss größer als das Endjahr sein.\",\nIF(AND(HI_Hilfstabelle!C3=\"Alle verfügbaren\",IN_OUT!C24=\"Gleichgewichtet (einfacher Durchschnitt)\"),NR_Berechnung!AB26,\nIF(AND(HI_Hilfstabelle!C3=\"Alle verfügbaren\",IN_OUT!C24=\"Nach Einwohnerzahl\"),NR_Berechnung!AG26,\nIF(AND(HI_Hilfstabelle!C3=\"Alle verfügbaren\",IN_OUT!C24=\"Nach BIP pro Kopf\"),NR_Berechnung!AL26,\nIF(ISERROR(HI_Hilfstabelle!E22),\"Die ausgewählten Länder oder Jahre sind nicht verfügbar.\",\nIF(IN_OUT!C24=\"Gleichgewichtet (einfacher Durchschnitt)\",NR_Berechnung!BM26,\nIF(IN_OUT!C24=\"Nach Einwohnerzahl\",NR_Berechnung!BR26,\nIF(IN_OUT!C24=\"Nach BIP pro Kopf\",NR_Berechnung!BW26)))))))))","v":"Die ausgewählten Länder oder Jahre sind nicht verfügbar."},null,{"$f":"IF(HI_Hilfstabelle!D22=0,\"Bitte treffen Sie eine Auswahl.\",\nIF(IN_OUT!C27>=IN_OUT!C28,\"Das Startjahr muss größer als das Endjahr sein.\",\nIF(AND(HI_Hilfstabelle!C3=\"Alle verfügbaren\",IN_OUT!C24=\"Gleichgewichtet (einfacher Durchschnitt)\"),NR_Berechnung!AA85,\nIF(AND(HI_Hilfstabelle!C3=\"Alle verfügbaren\",IN_OUT!C24=\"Nach Einwohnerzahl\"),NR_Berechnung!AF85,\nIF(AND(HI_Hilfstabelle!C3=\"Alle verfügbaren\",IN_OUT!C24=\"Nach BIP pro Kopf\"),NR_Berechnung!AK85,\nIF(ISERROR(HI_Hilfstabelle!G22),\"Die ausgewählten Länder oder Jahre sind nicht verfügbar.\",\nIF(IN_OUT!C24=\"Gleichgewichtet (einfacher Durchschnitt)\",NR_Berechnung!BL85,\nIF(IN_OUT!C24=\"Nach Einwohnerzahl\",NR_Berechnung!BQ85,\nIF(IN_OUT!C24=\"Nach BIP pro Kopf\",NR_Berechnung!BV85)))))))))","v":-9.4227668748139148E-3},{"$f":"IF(HI_Hilfstabelle!D22=0,\"Bitte treffen Sie eine Auswahl.\",\nIF(IN_OUT!C27>=IN_OUT!C28,\"Das Startjahr muss größer als das Endjahr sein.\",\nIF(AND(HI_Hilfstabelle!C3=\"Alle verfügbaren\",IN_OUT!C24=\"Gleichgewichtet (einfacher Durchschnitt)\"),NR_Berechnung!AB85,\nIF(AND(HI_Hilfstabelle!C3=\"Alle verfügbaren\",IN_OUT!C24=\"Nach Einwohnerzahl\"),NR_Berechnung!AG85,\nIF(AND(HI_Hilfstabelle!C3=\"Alle verfügbaren\",IN_OUT!C24=\"Nach BIP pro Kopf\"),NR_Berechnung!AL85,\nIF(ISERROR(HI_Hilfstabelle!G22),\"Die ausgewählten Länder oder Jahre sind nicht verfügbar.\",\nIF(IN_OUT!C24=\"Gleichgewichtet (einfacher Durchschnitt)\",NR_Berechnung!BM85,\nIF(IN_OUT!C24=\"Nach Einwohnerzahl\",NR_Berechnung!BR85,\nIF(IN_OUT!C24=\"Nach BIP pro Kopf\",NR_Berechnung!BW85)))))))))","v":-1.2736358486955091E-2},null,{"$f":"IF(HI_Hilfstabelle!D22=0,\"Bitte treffen Sie eine Auswahl.\",\nIF(IN_OUT!C27>=IN_OUT!C28,\"Das Startjahr muss größer als das Endjahr sein.\",\nIF(AND(HI_Hilfstabelle!C3=\"Alle verfügbaren\",IN_OUT!C24=\"Gleichgewichtet (einfacher Durchschnitt)\"),NR_Berechnung!AA55,\nIF(AND(HI_Hilfstabelle!C3=\"Alle verfügbaren\",IN_OUT!C24=\"Nach Einwohnerzahl\"),NR_Berechnung!AF55,\nIF(AND(HI_Hilfstabelle!C3=\"Alle verfügbaren\",IN_OUT!C24=\"Nach BIP pro Kopf\"),NR_Berechnung!AK55,\nIF(ISERROR(HI_Hilfstabelle!F22),\"Die ausgewählten Länder oder Jahre sind nicht verfügbar.\",\nIF(IN_OUT!C24=\"Gleichgewichtet (einfacher Durchschnitt)\",NR_Berechnung!BL55,\nIF(IN_OUT!C24=\"Nach Einwohnerzahl\",NR_Berechnung!BQ55,\nIF(IN_OUT!C24=\"Nach BIP pro Kopf\",NR_Berechnung!BV55)))))))))","v":"Die ausgewählten Länder oder Jahre sind nicht verfügbar."},{"$f":"IF(HI_Hilfstabelle!D22=0,\"Bitte treffen Sie eine Auswahl.\",\nIF(IN_OUT!C27>=IN_OUT!C28,\"Das Startjahr muss größer als das Endjahr sein.\",\nIF(AND(HI_Hilfstabelle!C3=\"Alle verfügbaren\",IN_OUT!C24=\"Gleichgewichtet (einfacher Durchschnitt)\"),NR_Berechnung!AB55,\nIF(AND(HI_Hilfstabelle!C3=\"Alle verfügbaren\",IN_OUT!C24=\"Nach Einwohnerzahl\"),NR_Berechnung!AG55,\nIF(AND(HI_Hilfstabelle!C3=\"Alle verfügbaren\",IN_OUT!C24=\"Nach BIP pro Kopf\"),NR_Berechnung!AL55,\nIF(ISERROR(HI_Hilfstabelle!F22),\"Die ausgewählten Länder oder Jahre sind nicht verfügbar.\",\nIF(IN_OUT!C24=\"Gleichgewichtet (einfacher Durchschnitt)\",NR_Berechnung!BM55,\nIF(IN_OUT!C24=\"Nach Einwohnerzahl\",NR_Berechnung!BR55,\nIF(IN_OUT!C24=\"Nach BIP pro Kopf\",NR_Berechnung!BW55)))))))))","v":"Die ausgewählten Länder oder Jahre sind nicht verfügbar."}]
[]
[null,null,{"$f":"IF(HI_Hilfstabelle!B3=TRUE, \"Sie haben 'Alle verfügbaren Länder' ausgewählt. Folgende Länder wurden für die Berechnung berücksichtigt:\",\"\")","v":""},null,null,{"$f":"IF(HI_Hilfstabelle!B3=TRUE, \"Sie haben 'Alle verfügbaren Länder' ausgewählt. Folgende Länder wurden für die Berechnung berücksichtigt:\",\"\")","v":""},null,null,{"$f":"IF(HI_Hilfstabelle!B3=TRUE, \"Sie haben 'Alle verfügbaren Länder' ausgewählt. Folgende Länder wurden für die Berechnung berücksichtigt:\",\"\")","v":""}]
[]
[]
[null,null,{"$f":"IF(AND(HI_Hilfstabelle!$B$3=TRUE,NR_Berechnung!AA4<>\"\"),NR_Berechnung!A4,\"\")","v":""},null,null,{"$f":"IF(AND(HI_Hilfstabelle!$B$3=TRUE,NR_Berechnung!AA63<>\"\"),NR_Berechnung!A63,\"\")","v":""},null,null,{"$f":"IF(AND(HI_Hilfstabelle!$B$3=TRUE,NR_Berechnung!AA33<>\"\"),NR_Berechnung!A33,\"\")","v":""}]
[null,null,{"$f":"IF(AND(HI_Hilfstabelle!$B$3=TRUE,NR_Berechnung!AA5<>\"\"),NR_Berechnung!A5,\"\")","v":""},null,null,{"$f":"IF(AND(HI_Hilfstabelle!$B$3=TRUE,NR_Berechnung!AA64<>\"\"),NR_Berechnung!A64,\"\")","v":""},null,null,{"$f":"IF(AND(HI_Hilfstabelle!$B$3=TRUE,NR_Berechnung!AA34<>\"\"),NR_Berechnung!A34,\"\")","v":""}]
[null,null,{"$f":"IF(AND(HI_Hilfstabelle!$B$3=TRUE,NR_Berechnung!AA6<>\"\"),NR_Berechnung!A6,\"\")","v":""},null,null,{"$f":"IF(AND(HI_Hilfstabelle!$B$3=TRUE,NR_Berechnung!AA65<>\"\"),NR_Berechnung!A65,\"\")","v":""},null,null,{"$f":"IF(AND(HI_Hilfstabelle!$B$3=TRUE,NR_Berechnung!AA35<>\"\"),NR_Berechnung!A35,\"\")","v":""}]
[null,null,{"$f":"IF(AND(HI_Hilfstabelle!$B$3=TRUE,NR_Berechnung!AA7<>\"\"),NR_Berechnung!A7,\"\")","v":""},null,null,{"$f":"IF(AND(HI_Hilfstabelle!$B$3=TRUE,NR_Berechnung!AA66<>\"\"),NR_Berechnung!A66,\"\")","v":""},null,null,{"$f":"IF(AND(HI_Hilfstabelle!$B$3=TRUE,NR_Berechnung!AA36<>\"\"),NR_Berechnung!A36,\"\")","v":""}]
[null,null,{"$f":"IF(AND(HI_Hilfstabelle!$B$3=TRUE,NR_Berechnung!AA8<>\"\"),NR_Berechnung!A8,\"\")","v":""},null,null,{"$f":"IF(AND(HI_Hilfstabelle!$B$3=TRUE,NR_Berechnung!AA67<>\"\"),NR_Berechnung!A67,\"\")","v":""},null,null,{"$f":"IF(AND(HI_Hilfstabelle!$B$3=TRUE,NR_Berechnung!AA37<>\"\"),NR_Berechnung!A37,\"\")","v":""}]
[null,null,{"$f":"IF(AND(HI_Hilfstabelle!$B$3=TRUE,NR_Berechnung!AA9<>\"\"),NR_Berechnung!A9,\"\")","v":""},null,null,{"$f":"IF(AND(HI_Hilfstabelle!$B$3=TRUE,NR_Berechnung!AA68<>\"\"),NR_Berechnung!A68,\"\")","v":""},null,null,{"$f":"IF(AND(HI_Hilfstabelle!$B$3=TRUE,NR_Berechnung!AA38<>\"\"),NR_Berechnung!A38,\"\")","v":""}]
[null,null,{"$f":"IF(AND(HI_Hilfstabelle!$B$3=TRUE,NR_Berechnung!AA10<>\"\"),NR_Berechnung!A10,\"\")","v":""},null,null,{"$f":"IF(AND(HI_Hilfstabelle!$B$3=TRUE,NR_Berechnung!AA69<>\"\"),NR_Berechnung!A69,\"\")","v":""},null,null,{"$f":"IF(AND(HI_Hilfstabelle!$B$3=TRUE,NR_Berechnung!AA39<>\"\"),NR_Berechnung!A39,\"\")","v":""}]
[null,null,{"$f":"IF(AND(HI_Hilfstabelle!$B$3=TRUE,NR_Berechnung!AA11<>\"\"),NR_Berechnung!A11,\"\")","v":""},null,null,{"$f":"IF(AND(HI_Hilfstabelle!$B$3=TRUE,NR_Berechnung!AA70<>\"\"),NR_Berechnung!A70,\"\")","v":""},null,null,{"$f":"IF(AND(HI_Hilfstabelle!$B$3=TRUE,NR_Berechnung!AA40<>\"\"),NR_Berechnung!A40,\"\")","v":""}]
[null,null,{"$f":"IF(AND(HI_Hilfstabelle!$B$3=TRUE,NR_Berechnung!AA12<>\"\"),NR_Berechnung!A12,\"\")","v":""},null,null,{"$f":"IF(AND(HI_Hilfstabelle!$B$3=TRUE,NR_Berechnung!AA71<>\"\"),NR_Berechnung!A71,\"\")","v":""},null,null,{"$f":"IF(AND(HI_Hilfstabelle!$B$3=TRUE,NR_Berechnung!AA41<>\"\"),NR_Berechnung!A41,\"\")","v":""}]
[null,null,{"$f":"IF(AND(HI_Hilfstabelle!$B$3=TRUE,NR_Berechnung!AA13<>\"\"),NR_Berechnung!A13,\"\")","v":""},null,null,{"$f":"IF(AND(HI_Hilfstabelle!$B$3=TRUE,NR_Berechnung!AA72<>\"\"),NR_Berechnung!A72,\"\")","v":""},null,null,{"$f":"IF(AND(HI_Hilfstabelle!$B$3=TRUE,NR_Berechnung!AA42<>\"\"),NR_Berechnung!A42,\"\")","v":""}]
[null,null,{"$f":"IF(AND(HI_Hilfstabelle!$B$3=TRUE,NR_Berechnung!AA14<>\"\"),NR_Berechnung!A14,\"\")","v":""},null,null,{"$f":"IF(AND(HI_Hilfstabelle!$B$3=TRUE,NR_Berechnung!AA73<>\"\"),NR_Berechnung!A73,\"\")","v":""},null,null,{"$f":"IF(AND(HI_Hilfstabelle!$B$3=TRUE,NR_Berechnung!AA43<>\"\"),NR_Berechnung!A43,\"\")","v":""}]
[null,null,{"$f":"IF(AND(HI_Hilfstabelle!$B$3=TRUE,NR_Berechnung!AA15<>\"\"),NR_Berechnung!A15,\"\")","v":""},null,null,{"$f":"IF(AND(HI_Hilfstabelle!$B$3=TRUE,NR_Berechnung!AA74<>\"\"),NR_Berechnung!A74,\"\")","v":""},null,null,{"$f":"IF(AND(HI_Hilfstabelle!$B$3=TRUE,NR_Berechnung!AA44<>\"\"),NR_Berechnung!A44,\"\")","v":""}]
[null,null,{"$f":"IF(AND(HI_Hilfstabelle!$B$3=TRUE,NR_Berechnung!AA16<>\"\"),NR_Berechnung!A16,\"\")","v":""},null,null,{"$f":"IF(AND(HI_Hilfstabelle!$B$3=TRUE,NR_Berechnung!AA75<>\"\"),NR_Berechnung!A75,\"\")","v":""},null,null,{"$f":"IF(AND(HI_Hilfstabelle!$B$3=TRUE,NR_Berechnung!AA45<>\"\"),NR_Berechnung!A45,\"\")","v":""}]
[null,null,{"$f":"IF(AND(HI_Hilfstabelle!$B$3=TRUE,NR_Berechnung!AA17<>\"\"),NR_Berechnung!A17,\"\")","v":""},null,null,{"$f":"IF(AND(HI_Hilfstabelle!$B$3=TRUE,NR_Berechnung!AA76<>\"\"),NR_Berechnung!A76,\"\")","v":""},null,null,{"$f":"IF(AND(HI_Hilfstabelle!$B$3=TRUE,NR_Berechnung!AA46<>\"\"),NR_Berechnung!A46,\"\")","v":""}]
[null,null,{"$f":"IF(AND(HI_Hilfstabelle!$B$3=TRUE,NR_Berechnung!AA18<>\"\"),NR_Berechnung!A18,\"\")","v":""},null,null,{"$f":"IF(AND(HI_Hilfstabelle!$B$3=TRUE,NR_Berechnung!AA77<>\"\"),NR_Berechnung!A77,\"\")","v":""},null,null,{"$f":"IF(AND(HI_Hilfstabelle!$B$3=TRUE,NR_Berechnung!AA47<>\"\"),NR_Berechnung!A47,\"\")","v":""}]
[null,null,{"$f":"IF(AND(HI_Hilfstabelle!$B$3=TRUE,NR_Berechnung!AA19<>\"\"),NR_Berechnung!A19,\"\")","v":""},null,null,{"$f":"IF(AND(HI_Hilfstabelle!$B$3=TRUE,NR_Berechnung!AA78<>\"\"),NR_Berechnung!A78,\"\")","v":""},null,null,{"$f":"IF(AND(HI_Hilfstabelle!$B$3=TRUE,NR_Berechnung!AA48<>\"\"),NR_Berechnung!A48,\"\")","v":""}]
[null,null,{"$f":"IF(AND(HI_Hilfstabelle!$B$3=TRUE,NR_Berechnung!AA20<>\"\"),NR_Berechnung!A20,\"\")","v":""},null,null,{"$f":"IF(AND(HI_Hilfstabelle!$B$3=TRUE,NR_Berechnung!AA79<>\"\"),NR_Berechnung!A79,\"\")","v":""},null,null,{"$f":"IF(AND(HI_Hilfstabelle!$B$3=TRUE,NR_Berechnung!AA49<>\"\"),NR_Berechnung!A49,\"\")","v":""}]
[null,null,{"$f":"IF(AND(HI_Hilfstabelle!$B$3=TRUE,NR_Berechnung!AA21<>\"\"),NR_Berechnung!A21,\"\")","v":""}]

{"sheet":"NR_Berechnung","index":2,"n_rows":86,"n_cols":75,"rows_kept":86,"cut":false,"hidden":false,"merged":[[30,2,30,23],[60,2,60,23],[1,2,1,23],[1,68,1,69],[1,73,1,74],[1,26,1,27],[1,31,1,32],[1,36,1,37],[1,39,1,60],[1,63,1,64],[30,73,30,74],[60,26,60,27],[60,31,60,32],[60,36,60,37],[60,39,60,60],[60,63,60,64],[60,68,60,69],[60,73,60,74],[30,26,30,27],[30,31,30,32],[30,36,30,37],[30,39,30,60],[30,63,30,64],[30,68,30,69]]}
[]
[null,null,"Bruttowertschöpfung pro Arbeitsstunde - Alle Länder",null,null,null,null,null,null,null,null,null,null,null,null,null,null,null,null,null,null,null,null,null,null,null,"Gleichgewichtet",null,"Nach Einwohnerzahl",null,null,"Gewichtete Verändrungsrate",null,"Nach BIP/Kopf",null,null,"Gewichtete Verändrungsrate",null,null,"Bruttowertschöpfung pro Arbeitsstunde - Länderauswahl",null,null,null,null,null,null,null,null,null,null,null,null,null,null,null,null,null,null,null,null,null,null,null,"Gleichgewichtet",null,"Nach Einwohnerzahl",null,null,"Gewichtete Verändrungsrate",null,"Nach BIP/Kopf",null,null,"Gewichtete Verändrungsrate"]
[null,null,1996,{"$f":"C3+1","v":1997},1998,1999,2000,2001,2002,2003,2004,2005,2006,2007,2008,2009,2010,2011,2012,2013,2014,2015,2016,2017,"Arithmet. Mittel","Geomittel","Arithmet. Mittel","Geomittel","Absolut","Anteil AM","Anteil GM","Arithmet. Mittel","Geomittel","Absolut","Anteil AM","Anteil GM","Arithmet. Mittel","Geomittel",null,1996,{"$f":"AN3+1","v":1997},{"$f":"AO3+1","v":1998},{"$f":"AP3+1","v":1999},{"$f":"AQ3+1","v":2000},{"$f":"AR3+1","v":2001},{"$f":"AS3+1","v":2002},{"$f":"AT3+1","v":2003},{"$f":"AU3+1","v":2004},{"$f":"AV3+1","v":2005},{"$f":"AW3+1","v":2006},{"$f":"AX3+1","v":2007},{"$f":"AY3+1","v":2008},{"$f":"AZ3+1","v":2009},{"$f":"BA3+1","v":2010},{"$f":"BB3+1","v":2011},{"$f":"BC3+1","v":2012},{"$f":"BD3+1","v":2013},{"$f":"BE3+1","v":2014},{"$f":"BF3+1","v":2015},{"$f":"BG3+1","v":2016},{"$f":"BH3+1","v":2017},"Arithmet. Mittel","Geomittel","Arithmet. Mittel","Geomittel","Absolut","Anteil AM","Anteil GM","Arithmet. Mittel","Geomittel","Absolut","Anteil AM","Anteil GM","Arithmet. Mittel","Geomittel"]
["Österreich",null,{"$f":"IF(NR_Veränderung!C88=\"\",1/0,NR_Veränderung!C88)","v":1.1714726354525455},{"$f":"IF(NR_Veränderung!D88=\"\",1/0,NR_Veränderung!D88)","v":0.93608864980551054},{"$f":"IF(NR_Veränderung!E88=\"\",1/0,NR_Veränderung!E88)","v":1.1670414407532503},{"$f":"IF(NR_Veränderung!F88=\"\",1/0,NR_Veränderung!F88)","v":1.1161691456287488},{"$f":"IF(NR_Veränderung!G88=\"\",1/0,NR_Veränderung!G88)","v":1.0063065143140777},{"$f":"IF(NR_Veränderung!H88=\"\",1/0,NR_Veränderung!H88)","v":1.0067051525503028},{"$f":"IF(NR_Veränderung!I88=\"\",1/0,NR_Veränderung!I88)","v":1.0147000497664114},{"$f":"IF(NR_Veränderung!J88=\"\",1/0,NR_Veränderung!J88)","v":1.0727847431814286},{"$f":"IF(NR_Veränderung!K88=\"\",1/0,NR_Veränderung!K88)","v":1.058185817176418},{"$f":"IF(NR_Veränderung!L88=\"\",1/0,NR_Veränderung!L88)","v":1.2607581232532588},{"$f":"IF(NR_Veränderung!M88=\"\",1/0,NR_Veränderung!M88)","v":1.1611491976911439},{"$f":"IF(NR_Veränderung!N88=\"\",1/0,NR_Veränderung!N88)","v":1.0291574853344194},{"$f":"IF(NR_Veränderung!O88=\"\",1/0,NR_Veränderung!O88)","v":1.0622144698018767},{"$f":"IF(NR_Veränderung!P88=\"\",1/0,NR_Veränderung!P88)","v":1.0138121724186357},{"$f":"IF(NR_Veränderung!Q88=\"\",1/0,NR_Veränderung!Q88)","v":1.0043162042030322},{"$f":"IF(NR_Veränderung!R88=\"\",1/0,NR_Veränderung!R88)","v":0.994338994858457},{"$f":"IF(NR_Veränderung!S88=\"\",1/0,NR_Veränderung!S88)","v":1.0279692786715287},{"$f":"IF(NR_Veränderung!T88=\"\",1/0,NR_Veränderung!T88)","v":1.0437962455953307},{"$f":"IF(NR_Veränderung!U88=\"\",1/0,NR_Veränderung!U88)","v":1.0619932080874503},{"$f":"IF(NR_Veränderung!V88=\"\",1/0,NR_Veränderung!V88)","v":0.93799221129171007},{"$f":"IF(NR_Veränderung!W88=\"\",1/0,NR_Veränderung!W88)","v":0.95405238672909598},{"$f":"IF(NR_Veränderung!X88=\"\",1/0,NR_Veränderung!X88)","v":1.0567140328641862},{"$f":"TRANSPOSE(NR_Mittelwertbildung!B30:S31)","v":1.0109794797282512},1.0099107634961357,{"$f":"IF(ISERROR(Y4),\"\",Y4)","v":1.0109794797282512},{"$f":"IF(ISERROR(Z4),\"\",Z4)","v":1.0099107634961357},{"$f":"IF(AA4=\"\",\"\",HI_Hilfstabelle!H4)","v":8901064},{"$f":"IFERROR(AC4/AC$23,\"\")","v":5.5763974076710819E-2},{"$f":"IFERROR(AC4/AC$23,\"\")","v":5.5763974076710819E-2},{"$f":"IFERROR(AD4*AA4,\"\")","v":5.6376233499652789E-2},{"$f":"IFERROR(AE4*AB4,\"\")","v":5.6316637635389744E-2},{"$f":"IF(AA4=\"\",\"\",HI_Hilfstabelle!J4)","v":126},{"$f":"IFERROR(AH4/AH$23,\"\")","v":8.9743589743589744E-2},{"$f":"IFERROR(AH4/AH$23,\"\")","v":8.9743589743589744E-2},{"$f":"IFERROR(AI4*Y4,\"\")","v":9.0728927667919984E-2},{"$f":"IFERROR(AJ4*Z4,\"\")","v":9.0633017236832689E-2},null,{"$f":"IF(HI_Hilfstabelle!$C4=HI_Hilfstabelle!$A4,IFERROR(NR_Berechnung!C4,1/0),\"\")","v":1.1714726354525455},{"$f":"IF(HI_Hilfstabelle!$C4=HI_Hilfstabelle!$A4,IFERROR(NR_Berechnung!D4,1/0),\"\")","v":0.93608864980551054},{"$f":"IF(HI_Hilfstabelle!$C4=HI_Hilfstabelle!$A4,IFERROR(NR_Berechnung!E4,1/0),\"\")","v":1.1670414407532503},{"$f":"IF(HI_Hilfstabelle!$C4=HI_Hilfstabelle!$A4,IFERROR(NR_Berechnung!F4,1/0),\"\")","v":1.1161691456287488},{"$f":"IF(HI_Hilfstabelle!$C4=HI_Hilfstabelle!$A4,IFERROR(NR_Berechnung!G4,1/0),\"\")","v":1.0063065143140777},{"$f":"IF(HI_Hilfstabelle!$C4=HI_Hilfstabelle!$A4,IFERROR(NR_Berechnung!H4,1/0),\"\")","v":1.0067051525503028},{"$f":"IF(HI_Hilfstabelle!$C4=HI_Hilfstabelle!$A4,IFERROR(NR_Berechnung!I4,1/0),\"\")","v":1.0147000497664114},{"$f":"IF(HI_Hilfstabelle!$C4=HI_Hilfstabelle!$A4,IFERROR(NR_Berechnung!J4,1/0),\"\")","v":1.0727847431814286},{"$f":"IF(HI_Hilfstabelle!$C4=HI_Hilfstabelle!$A4,IFERROR(NR_Berechnung!K4,1/0),\"\")","v":1.058185817176418},{"$f":"IF(HI_Hilfstabelle!$C4=HI_Hilfstabelle!$A4,IFERROR(NR_Berechnung!L4,1/0),\"\")","v":1.2607581232532588},{"$f":"IF(HI_Hilfstabelle!$C4=HI_Hilfstabelle!$A4,IFERROR(NR_Berechnung!M4,1/0),\"\")","v":1.1611491976911439},{"$f":"IF(HI_Hilfstabelle!$C4=HI_Hilfstabelle!$A4,IFERROR(NR_Berechnung!N4,1/0),\"\")","v":1.0291574853344194},{"$f":"IF(HI_Hilfstabelle!$C4=HI_Hilfstabelle!$A4,IFERROR(NR_Berechnung!O4,1/0),\"\")","v":1.0622144698018767},{"$f":"IF(HI_Hilfstabelle!$C4=HI_Hilfstabelle!$A4,IFERROR(NR_Berechnung!P4,1/0),\"\")","v":1.0138121724186357},{"$f":"IF(HI_Hilfstabelle!$C4=HI_Hilfstabelle!$A4,IFERROR(NR_Berechnung!Q4,1/0),\"\")","v":1.0043162042030322},{"$f":"IF(HI_Hilfstabelle!$C4=HI_Hilfstabelle!$A4,IFERROR(NR_Berechnung!R4,1/0),\"\")","v":0.994338994858457},{"$f":"IF(HI_Hilfstabelle!$C4=HI_Hilfstabelle!$A4,IFERROR(NR_Berechnung!S4,1/0),\"\")","v":1.0279692786715287},{"$f":"IF(HI_Hilfstabelle!$C4=HI_Hilfstabelle!$A4,IFERROR(NR_Berechnung!T4,1/0),\"\")","v":1.0437962455953307},{"$f":"IF(HI_Hilfstabelle!$C4=HI_Hilfstabelle!$A4,IFERROR(NR_Berechnung!U4,1/0),\"\")","v":1.0619932080874503},{"$f":"IF(HI_Hilfstabelle!$C4=HI_Hilfstabelle!$A4,IFERROR(NR_Berechnung!V4,1/0),\"\")","v":0.93799221129171007},{"$f":"IF(HI_Hilfstabelle!$C4=HI_Hilfstabelle!$A4,IFERROR(NR_Berechnung!W4,1/0),\"\")","v":0.95405238672909598},{"$f":"IF(HI_Hilfstabelle!$C4=HI_Hilfstabelle!$A4,IFERROR(NR_Berechnung!X4,1/0),\"\")","v":1.0567140328641862},{"$f":"TRANSPOSE(NR_Mittelwertbildung!U30:AL31)","v":1.0109794797282512},1.0099107634961357,{"$f":"IF(ISERROR(BJ4),\"\",BJ4)","v":1.0109794797282512},{"$f":"IF(ISERROR(BK4),\"\",BK4)","v":1.0099107634961357},{"$f":"IF(BL4=\"\",\"\",HI_Hilfstabelle!H4)","v":8901064},{"$f":"IFERROR(BN4/BN$23,\"\")","v":5.5763974076710819E-2},{"$f":"IFERROR(BN4/BN$23,\"\")","v":5.5763974076710819E-2},{"$f":"IFERROR(BO4*BL4,\"\")","v":5.6376233499652789E-2},{"$f":"IFERROR(BP4*BM4,\"\")","v":5.6316637635389744E-2},{"$f":"IF(BL4=\"\",\"\",HI_Hilfstabelle!J4)","v":126},{"$f":"IFERROR(BS4/BS$23,\"\")","v":8.9743589743589744E-2},{"$f":"IFERROR(BS4/BS$23,\"\")","v":8.9743589743589744E-2},{"$f":"IFERROR(BT4*BJ4,\"\")","v":9.0728927667919984E-2},{"$f":"IFERROR(BU4*BK4,\"\")","v":9.0633017236832689E-2}]
["Belgien",null,{"$f":"IF(NR_Veränderung!C89=\"\",1/0,NR_Veränderung!C89)","v":{"$error":"#DIV/0!"}},{"$f":"IF(NR_Veränderung!D89=\"\",1/0,NR_Veränderung!D89)","v":{"$error":"#DIV/0!"}},{"$f":"IF(NR_Veränderung!E89=\"\",1/0,NR_Veränderung!E89)","v":{"$error":"#DIV/0!"}},{"$f":"IF(NR_Veränderung!F89=\"\",1/0,NR_Veränderung!F89)","v":{"$error":"#DIV/0!"}},{"$f":"IF(NR_Veränderung!G89=\"\",1/0,NR_Veränderung!G89)","v":1.0340627538646492},{"$f":"IF(NR_Veränderung!H89=\"\",1/0,NR_Veränderung!H89)","v":0.88862035689453434},{"$f":"IF(NR_Veränderung!I89=\"\",1/0,NR_Veränderung!I89)","v":0.98333934035284776},{"$f":"IF(NR_Veränderung!J89=\"\",1/0,NR_Veränderung!J89)","v":1.0193805738603943},{"$f":"IF(NR_Veränderung!K89=\"\",1/0,NR_Veränderung!K89)","v":1.017816219822105},{"$f":"IF(NR_Veränderung!L89=\"\",1/0,NR_Veränderung!L89)","v":1.0132508867902399},{"$f":"IF(NR_Veränderung!M89=\"\",1/0,NR_Veränderung!M89)","v":1.0242263081422629},{"$f":"IF(NR_Veränderung!N89=\"\",1/0,NR_Veränderung!N89)","v":1.0705091946394025},{"$f":"IF(NR_Veränderung!O89=\"\",1/0,NR_Veränderung!O89)","v":1.0547461877591244},{"$f":"IF(NR_Veränderung!P89=\"\",1/0,NR_Veränderung!P89)","v":0.96815529134725664},{"$f":"IF(NR_Veränderung!Q89=\"\",1/0,NR_Veränderung!Q89)","v":1.009970632946227},{"$f":"IF(NR_Veränderung!R89=\"\",1/0,NR_Veränderung!R89)","v":1.0435333033836203},{"$f":"IF(NR_Veränderung!S89=\"\",1/0,NR_Veränderung!S89)","v":0.95841055782964968},{"$f":"IF(NR_Veränderung!T89=\"\",1/0,NR_Veränderung!T89)","v":1.011974192930426},{"$f":"IF(NR_Veränderung!U89=\"\",1/0,NR_Veränderung!U89)","v":0.97591628982093859},{"$f":"IF(NR_Veränderung!V89=\"\",1/0,NR_Veränderung!V89)","v":0.98735670256191188},{"$f":"IF(NR_Veränderung!W89=\"\",1/0,NR_Veränderung!W89)","v":0.97099881911557129},{"$f":"IF(NR_Veränderung!X89=\"\",1/0,NR_Veränderung!X89)","v":{"$error":"#DIV/0!"}},{"$error":"#DIV/0!"},{"$error":"#DIV/0!"},"",{"$f":"IF(ISERROR(Z5),\"\",Z5)","v":""},{"$f":"IF(AA5=\"\",\"\",HI_Hilfstabelle!H5)","v":""},{"$f":"IFERROR(AC5/AC$23,\"\")","v":""},{"$f":"IFERROR(AC5/AC$23,\"\")","v":""},{"$f":"IFERROR(AD5*AA5,\"\")","v":""},{"$f":"IFERROR(AE5*AB5,\"\")","v":""},{"$f":"IF(AA5=\"\",\"\",HI_Hilfstabelle!J5)","v":""},{"$f":"IFERROR(AH5/AH$23,\"\")","v":""},{"$f":"IFERROR(AH5/AH$23,\"\")","v":""},{"$f":"IFERROR(AI5*Y5,\"\")","v":""},{"$f":"IFERROR(AJ5*Z5,\"\")","v":""},null,{"$f":"IF(HI_Hilfstabelle!$C5=HI_Hilfstabelle!$A5,IFERROR(NR_Berechnung!C5,1/0),\"\")","v":""},{"$f":"IF(HI_Hilfstabelle!$C5=HI_Hilfstabelle!$A5,IFERROR(NR_Berechnung!D5,1/0),\"\")","v":""},{"$f":"IF(HI_Hilfstabelle!$C5=HI_Hilfstabelle!$A5,IFERROR(NR_Berechnung!E5,1/0),\"\")","v":""},{"$f":"IF(HI_Hilfstabelle!$C5=HI_Hilfstabelle!$A5,IFERROR(NR_Berechnung!F5,1/0),\"\")","v":""},{"$f":"IF(HI_Hilfstabelle!$C5=HI_Hilfstabelle!$A5,IFERROR(NR_Berechnung!G5,1/0),\"\")","v":""},{"$f":"IF(HI_Hilfstabelle!$C5=HI_Hilfstabelle!$A5,IFERROR(NR_Berechnung!H5,1/0),\"\")","v":""},{"$f":"IF(HI_Hilfstabelle!$C5=HI_Hilfstabelle!$A5,IFERROR(NR_Berechnung!I5,1/0),\"\")","v":""},{"$f":"IF(HI_Hilfstabelle!$C5=HI_Hilfstabelle!$A5,IFERROR(NR_Berechnung!J5,1/0),\"\")","v":""},{"$f":"IF(HI_Hilfstabelle!$C5=HI_Hilfstabelle!$A5,IFERROR(NR_Berechnung!K5,1/0),\"\")","v":""},{"$f":"IF(HI_Hilfstabelle!$C5=HI_Hilfstabelle!$A5,IFERROR(NR_Berechnung!L5,1/0),\"\")","v":""},{"$f":"IF(HI_Hilfstabelle!$C5=HI_Hilfstabelle!$A5,IFERROR(NR_Berechnung!M5,1/0),\"\")","v":""},{"$f":"IF(HI_Hilfstabelle!$C5=HI_Hilfstabelle!$A5,IFERROR(NR_Berechnung!N5,1/0),\"\")","v":""},{"$f":"IF(HI_Hilfstabelle!$C5=HI_Hilfstabelle!$A5,IFERROR(NR_Berechnung!O5,1/0),\"\")","v":""},{"$f":"IF(HI_Hilfstabelle!$C5=HI_Hilfstabelle!$A5,IFERROR(NR_Berechnung!P5,1/0),\"\")","v":""},{"$f":"IF(HI_Hilfstabelle!$C5=HI_Hilfstabelle!$A5,IFERROR(NR_Berechnung!Q5,1/0),\"\")","v":""},{"$f":"IF(HI_Hilfstabelle!$C5=HI_Hilfstabelle!$A5,IFERROR(NR_Berechnung!R5,1/0),\"\")","v":""},{"$f":"IF(HI_Hilfstabelle!$C5=HI_Hilfstabelle!$A5,IFERROR(NR_Berechnung!S5,1/0),\"\")","v":""},{"$f":"IF(HI_Hilfstabelle!$C5=HI_Hilfstabelle!$A5,IFERROR(NR_Berechnung!T5,1/0),\"\")","v":""},{"$f":"IF(HI_Hilfstabelle!$C5=HI_Hilfstabelle!$A5,IFERROR(NR_Berechnung!U5,1/0),\"\")","v":""},{"$f":"IF(HI_Hilfstabelle!$C5=HI_Hilfstabelle!$A5,IFERROR(NR_Berechnung!V5,1/0),\"\")","v":""},{"$f":"IF(HI_Hilfstabelle!$C5=HI_Hilfstabelle!$A5,IFERROR(NR_Berechnung!W5,1/0),\"\")","v":""},{"$f":"IF(HI_Hilfstabelle!$C5=HI_Hilfstabelle!$A5,IFERROR(NR_Berechnung!X5,1/0),\"\")","v":""},{"$error":"#DIV/0!"},{"$error":"#NUM!"},"",{"$f":"IF(ISERROR(BK5),\"\",BK5)","v":""},{"$f":"IF(BL5=\"\",\"\",HI_Hilfstabelle!H5)","v":""},{"$f":"IFERROR(BN5/BN$23,\"\")","v":""},{"$f":"IFERROR(BN5/BN$23,\"\")","v":""},{"$f":"IFERROR(BO5*BL5,\"\")","v":""},{"$f":"IFERROR(BP5*BM5,\"\")","v":""},{"$f":"IF(BL5=\"\",\"\",HI_Hilfstabelle!J5)","v":""},{"$f":"IFERROR(BS5/BS$23,\"\")","v":""},{"$f":"IFERROR(BS5/BS$23,\"\")","v":""},{"$f":"IFERROR(BT5*BJ5,\"\")","v":""},{"$f":"IFERROR(BU5*BK5,\"\")","v":""}]
["Tschechien",null,{"$f":"IF(NR_Veränderung!C90=\"\",1/0,NR_Veränderung!C90)","v":1.0561175664708704},{"$f":"IF(NR_Veränderung!D90=\"\",1/0,NR_Veränderung!D90)","v":0.87100036889553356},{"$f":"IF(NR_Veränderung!E90=\"\",1/0,NR_Veränderung!E90)","v":1.1034839426533596},{"$f":"IF(NR_Veränderung!F90=\"\",1/0,NR_Veränderung!F90)","v":0.93855014930931147},{"$f":"IF(NR_Veränderung!G90=\"\",1/0,NR_Veränderung!G90)","v":1.1012197401742807},{"$f":"IF(NR_Veränderung!H90=\"\",1/0,NR_Veränderung!H90)","v":1.1581991918785135},{"$f":"IF(NR_Veränderung!I90=\"\",1/0,NR_Veränderung!I90)","v":1.0294027413598283},{"$f":"IF(NR_Veränderung!J90=\"\",1/0,NR_Veränderung!J90)","v":1.2252504019346513},{"$f":"IF(NR_Veränderung!K90=\"\",1/0,NR_Veränderung!K90)","v":0.98233597920564919},{"$f":"IF(NR_Veränderung!L90=\"\",1/0,NR_Veränderung!L90)","v":0.99888531324105301},{"$f":"IF(NR_Veränderung!M90=\"\",1/0,NR_Veränderung!M90)","v":1.1232681387080909},{"$f":"IF(NR_Veränderung!N90=\"\",1/0,NR_Veränderung!N90)","v":1.0787972383322},{"$f":"IF(NR_Veränderung!O90=\"\",1/0,NR_Veränderung!O90)","v":0.91058856207588923},{"$f":"IF(NR_Veränderung!P90=\"\",1/0,NR_Veränderung!P90)","v":0.99759351538988605},{"$f":"IF(NR_Veränderung!Q90=\"\",1/0,NR_Veränderung!Q90)","v":0.9398025207376457},{"$f":"IF(NR_Veränderung!R90=\"\",1/0,NR_Veränderung!R90)","v":1.0274736159842608},{"$f":"IF(NR_Veränderung!S90=\"\",1/0,NR_Veränderung!S90)","v":1.0166091395357606},{"$f":"IF(NR_Veränderung!T90=\"\",1/0,NR_Veränderung!T90)","v":0.96548247540618548},{"$f":"IF(NR_Veränderung!U90=\"\",1/0,NR_Veränderung!U90)","v":0.94314902128329303},{"$f":"IF(NR_Veränderung!V90=\"\",1/0,NR_Veränderung!V90)","v":0.98567291927334533},{"$f":"IF(NR_Veränderung!W90=\"\",1/0,NR_Veränderung!W90)","v":0.94239102141030728},{"$f":"IF(NR_Veränderung!X90=\"\",1/0,NR_Veränderung!X90)","v":0.93562673752681147},0.97377213291713749,0.97316840063775889,0.97377213291713749,0.97316840063775889,{"$f":"IF(AA6=\"\",\"\",HI_Hilfstabelle!H6)","v":10693939},6.6996095879540557E-2,6.6996095879540557E-2,6.5238931181741261E-2,6.5198483476066438E-2,{"$f":"IF(AA6=\"\",\"\",HI_Hilfstabelle!J6)","v":93},6.623931623931624E-2,6.623931623931624E-2,6.4502000257331757E-2,6.446200944395411E-2,null,{"$f":"IF(HI_Hilfstabelle!$C6=HI_Hilfstabelle!$A6,IFERROR(NR_Berechnung!C6,1/0),\"\")","v":1.0561175664708704},{"$f":"IF(HI_Hilfstabelle!$C6=HI_Hilfstabelle!$A6,IFERROR(NR_Berechnung!D6,1/0),\"\")","v":0.87100036889553356},{"$f":"IF(HI_Hilfstabelle!$C6=HI_Hilfstabelle!$A6,IFERROR(NR_Berechnung!E6,1/0),\"\")","v":1.1034839426533596},{"$f":"IF(HI_Hilfstabelle!$C6=HI_Hilfstabelle!$A6,IFERROR(NR_Berechnung!F6,1/0),\"\")","v":0.93855014930931147},{"$f":"IF(HI_Hilfstabelle!$C6=HI_Hilfstabelle!$A6,IFERROR(NR_Berechnung!G6,1/0),\"\")","v":1.1012197401742807},{"$f":"IF(HI_Hilfstabelle!$C6=HI_Hilfstabelle!$A6,IFERROR(NR_Berechnung!H6,1/0),\"\")","v":1.1581991918785135},{"$f":"IF(HI_Hilfstabelle!$C6=HI_Hilfstabelle!$A6,IFERROR(NR_Berechnung!I6,1/0),\"\")","v":1.0294027413598283},{"$f":"IF(HI_Hilfstabelle!$C6=HI_Hilfstabelle!$A6,IFERROR(NR_Berechnung!J6,1/0),\"\")","v":1.2252504019346513},{"$f":"IF(HI_Hilfstabelle!$C6=HI_Hilfstabelle!$A6,IFERROR(NR_Berechnung!K6,1/0),\"\")","v":0.98233597920564919},{"$f":"IF(HI_Hilfstabelle!$C6=HI_Hilfstabelle!$A6,IFERROR(NR_Berechnung!L6,1/0),\"\")","v":0.99888531324105301},{"$f":"IF(HI_Hilfstabelle!$C6=HI_Hilfstabelle!$A6,IFERROR(NR_Berechnung!M6,1/0),\"\")","v":1.1232681387080909},{"$f":"IF(HI_Hilfstabelle!$C6=HI_Hilfstabelle!$A6,IFERROR(NR_Berechnung!N6,1/0),\"\")","v":1.0787972383322},{"$f":"IF(HI_Hilfstabelle!$C6=HI_Hilfstabelle!$A6,IFERROR(NR_Berechnung!O6,1/0),\"\")","v":0.91058856207588923},{"$f":"IF(HI_Hilfstabelle!$C6=HI_Hilfstabelle!$A6,IFERROR(NR_Berechnung!P6,1/0),\"\")","v":0.99759351538988605},{"$f":"IF(HI_Hilfstabelle!$C6=HI_Hilfstabelle!$A6,IFERROR(NR_Berechnung!Q6,1/0),\"\")","v":0.9398025207376457},{"$f":"IF(HI_Hilfstabelle!$C6=HI_Hilfstabelle!$A6,IFERROR(NR_Berechnung!R6,1/0),\"\")","v":1.0274736159842608},{"$f":"IF(HI_Hilfstabelle!$C6=HI_Hilfstabelle!$A6,IFERROR(NR_Berechnung!S6,1/0),\"\")","v":1.0166091395357606},{"$f":"IF(HI_Hilfstabelle!$C6=HI_Hilfstabelle!$A6,IFERROR(NR_Berechnung!T6,1/0),\"\")","v":0.96548247540618548},{"$f":"IF(HI_Hilfstabelle!$C6=HI_Hilfstabelle!$A6,IFERROR(NR_Berechnung!U6,1/0),\"\")","v":0.94314902128329303},{"$f":"IF(HI_Hilfstabelle!$C6=HI_Hilfstabelle!$A6,IFERROR(NR_Berechnung!V6,1/0),\"\")","v":0.98567291927334533},{"$f":"IF(HI_Hilfstabelle!$C6=HI_Hilfstabelle!$A6,IFERROR(NR_Berechnung!W6,1/0),\"\")","v":0.94239102141030728},{"$f":"IF(HI_Hilfstabelle!$C6=HI_Hilfstabelle!$A6,IFERROR(NR_Berechnung!X6,1/0),\"\")","v":0.93562673752681147},0.97377213291713749,0.97316840063775889,0.97377213291713749,0.97316840063775889,{"$f":"IF(BL6=\"\",\"\",HI_Hilfstabelle!H6)","v":10693939},6.6996095879540557E-2,6.6996095879540557E-2,6.5238931181741261E-2,6.5198483476066438E-2,{"$f":"IF(BL6=\"\",\"\",HI_Hilfstabelle!J6)","v":93},6.623931623931624E-2,6.623931623931624E-2,6.4502000257331757E-2,6.446200944395411E-2]
["Dänemark",null,{"$f":"IF(NR_Veränderung!C91=\"\",1/0,NR_Veränderung!C91)","v":0.98663261323137008},{"$f":"IF(NR_Veränderung!D91=\"\",1/0,NR_Veränderung!D91)","v":1.0112031476522412},{"$f":"IF(NR_Veränderung!E91=\"\",1/0,NR_Veränderung!E91)","v":0.97090988705981884},{"$f":"IF(NR_Veränderung!F91=\"\",1/0,NR_Veränderung!F91)","v":0.94771565548824699},{"$f":"IF(NR_Veränderung!G91=\"\",1/0,NR_Veränderung!G91)","v":0.86660443633015793},{"$f":"IF(NR_Veränderung!H91=\"\",1/0,NR_Veränderung!H91)","v":1.1937922092896036},{"$f":"IF(NR_Veränderung!I91=\"\",1/0,NR_Veränderung!I91)","v":0.9753187879164491},{"$f":"IF(NR_Veränderung!J91=\"\",1/0,NR_Veränderung!J91)","v":0.98206228605533341},{"$f":"IF(NR_Veränderung!K91=\"\",1/0,NR_Veränderung!K91)","v":0.9482849901410072},{"$f":"IF(NR_Veränderung!L91=\"\",1/0,NR_Veränderung!L91)","v":1.0226922010631483},{"$f":"IF(NR_Veränderung!M91=\"\",1/0,NR_Veränderung!M91)","v":0.83514652487563301},{"$f":"IF(NR_Veränderung!N91=\"\",1/0,NR_Veränderung!N91)","v":0.97958617831093187},{"$f":"IF(NR_Veränderung!O91=\"\",1/0,NR_Veränderung!O91)","v":0.87180695364975991},{"$f":"IF(NR_Veränderung!P91=\"\",1/0,NR_Veränderung!P91)","v":0.9832281682837275},{"$f":"IF(NR_Veränderung!Q91=\"\",1/0,NR_Veränderung!Q91)","v":1.018238081598474},{"$f":"IF(NR_Veränderung!R91=\"\",1/0,NR_Veränderung!R91)","v":0.90211962493340503},{"$f":"IF(NR_Veränderung!S91=\"\",1/0,NR_Veränderung!S91)","v":0.96535319816010667},{"$f":"IF(NR_Veränderung!T91=\"\",1/0,NR_Veränderung!T91)","v":1.0004972046979992},{"$f":"IF(NR_Veränderung!U91=\"\",1/0,NR_Veränderung!U91)","v":1.0070551532038228},{"$f":"IF(NR_Veränderung!V91=\"\",1/0,NR_Veränderung!V91)","v":0.9129985288510315},{"$f":"IF(NR_Veränderung!W91=\"\",1/0,NR_Veränderung!W91)","v":0.87575862907567292},{"$f":"IF(NR_Veränderung!X91=\"\",1/0,NR_Veränderung!X91)","v":1.1920566465950253},0.97940556935958056,0.97478789839520075,0.97940556935958056,0.97478789839520075,{"$f":"IF(AA7=\"\",\"\",HI_Hilfstabelle!H7)","v":5822763},3.6478830506873214E-2,3.6478830506873214E-2,3.5727569762155797E-2,3.5559122525709676E-2,{"$f":"IF(AA7=\"\",\"\",HI_Hilfstabelle!J7)","v":130},9.2592592592592587E-2,9.2592592592592587E-2,9.0685700866627819E-2,9.0258138740296354E-2,null,{"$f":"IF(HI_Hilfstabelle!$C7=HI_Hilfstabelle!$A7,IFERROR(NR_Berechnung!C7,1/0),\"\")","v":0.98663261323137008},{"$f":"IF(HI_Hilfstabelle!$C7=HI_Hilfstabelle!$A7,IFERROR(NR_Berechnung!D7,1/0),\"\")","v":1.0112031476522412},{"$f":"IF(HI_Hilfstabelle!$C7=HI_Hilfstabelle!$A7,IFERROR(NR_Berechnung!E7,1/0),\"\")","v":0.97090988705981884},{"$f":"IF(HI_Hilfstabelle!$C7=HI_Hilfstabelle!$A7,IFERROR(NR_Berechnung!F7,1/0),\"\")","v":0.94771565548824699},{"$f":"IF(HI_Hilfstabelle!$C7=HI_Hilfstabelle!$A7,IFERROR(NR_Berechnung!G7,1/0),\"\")","v":0.86660443633015793},{"$f":"IF(HI_Hilfstabelle!$C7=HI_Hilfstabelle!$A7,IFERROR(NR_Berechnung!H7,1/0),\"\")","v":1.1937922092896036},{"$f":"IF(HI_Hilfstabelle!$C7=HI_Hilfstabelle!$A7,IFERROR(NR_Berechnung!I7,1/0),\"\")","v":0.9753187879164491},{"$f":"IF(HI_Hilfstabelle!$C7=HI_Hilfstabelle!$A7,IFERROR(NR_Berechnung!J7,1/0),\"\")","v":0.98206228605533341},{"$f":"IF(HI_Hilfstabelle!$C7=HI_Hilfstabelle!$A7,IFERROR(NR_Berechnung!K7,1/0),\"\")","v":0.9482849901410072},{"$f":"IF(HI_Hilfstabelle!$C7=HI_Hilfstabelle!$A7,IFERROR(NR_Berechnung!L7,1/0),\"\")","v":1.0226922010631483},{"$f":"IF(HI_Hilfstabelle!$C7=HI_Hilfstabelle!$A7,IFERROR(NR_Berechnung!M7,1/0),\"\")","v":0.83514652487563301},{"$f":"IF(HI_Hilfstabelle!$C7=HI_Hilfstabelle!$A7,IFERROR(NR_Berechnung!N7,1/0),\"\")","v":0.97958617831093187},{"$f":"IF(HI_Hilfstabelle!$C7=HI_Hilfstabelle!$A7,IFERROR(NR_Berechnung!O7,1/0),\"\")","v":0.87180695364975991},{"$f":"IF(HI_Hilfstabelle!$C7=HI_Hilfstabelle!$A7,IFERROR(NR_Berechnung!P7,1/0),\"\")","v":0.9832281682837275},{"$f":"IF(HI_Hilfstabelle!$C7=HI_Hilfstabelle!$A7,IFERROR(NR_Berechnung!Q7,1/0),\"\")","v":1.018238081598474},{"$f":"IF(HI_Hilfstabelle!$C7=HI_Hilfstabelle!$A7,IFERROR(NR_Berechnung!R7,1/0),\"\")","v":0.90211962493340503},{"$f":"IF(HI_Hilfstabelle!$C7=HI_Hilfstabelle!$A7,IFERROR(NR_Berechnung!S7,1/0),\"\")","v":0.96535319816010667},{"$f":"IF(HI_Hilfstabelle!$C7=HI_Hilfstabelle!$A7,IFERROR(NR_Berechnung!T7,1/0),\"\")","v":1.0004972046979992},{"$f":"IF(HI_Hilfstabelle!$C7=HI_Hilfstabelle!$A7,IFERROR(NR_Berechnung!U7,1/0),\"\")","v":1.0070551532038228},{"$f":"IF(HI_Hilfstabelle!$C7=HI_Hilfstabelle!$A7,IFERROR(NR_Berechnung!V7,1/0),\"\")","v":0.9129985288510315},{"$f":"IF(HI_Hilfstabelle!$C7=HI_Hilfstabelle!$A7,IFERROR(NR_Berechnung!W7,1/0),\"\")","v":0.87575862907567292},{"$f":"IF(HI_Hilfstabelle!$C7=HI_Hilfstabelle!$A7,IFERROR(NR_Berechnung!X7,1/0),\"\")","v":1.1920566465950253},0.97940556935958056,0.97478789839520075,0.97940556935958056,0.97478789839520075,{"$f":"IF(BL7=\"\",\"\",HI_Hilfstabelle!H7)","v":5822763},3.6478830506873214E-2,3.6478830506873214E-2,3.5727569762155797E-2,3.5559122525709676E-2,{"$f":"IF(BL7=\"\",\"\",HI_Hilfstabelle!J7)","v":130},9.2592592592592587E-2,9.2592592592592587E-2,9.0685700866627819E-2,9.0258138740296354E-2]
["Estland",null,{"$f":"IF(NR_Veränderung!C92=\"\",1/0,NR_Veränderung!C92)","v":{"$error":"#DIV/0!"}},{"$f":"IF(NR_Veränderung!D92=\"\",1/0,NR_Veränderung!D92)","v":{"$error":"#DIV/0!"}},{"$f":"IF(NR_Veränderung!E92=\"\",1/0,NR_Veränderung!E92)","v":{"$error":"#DIV/0!"}},{"$f":"IF(NR_Veränderung!F92=\"\",1/0,NR_Veränderung!F92)","v":{"$error":"#DIV/0!"}},{"$f":"IF(NR_Veränderung!G92=\"\",1/0,NR_Veränderung!G92)","v":{"$error":"#DIV/0!"}},{"$f":"IF(NR_Veränderung!H92=\"\",1/0,NR_Veränderung!H92)","v":1.7289174049572815},{"$f":"IF(NR_Veränderung!I92=\"\",1/0,NR_Veränderung!I92)","v":0.90515688912989611},{"$f":"IF(NR_Veränderung!J92=\"\",1/0,NR_Veränderung!J92)","v":1.0010137629058844},{"$f":"IF(NR_Veränderung!K92=\"\",1/0,NR_Veränderung!K92)","v":1.4480112362640971},{"$f":"IF(NR_Veränderung!L92=\"\",1/0,NR_Veränderung!L92)","v":1.1936901791577823},{"$f":"IF(NR_Veränderung!M92=\"\",1/0,NR_Veränderung!M92)","v":0.95540629979164127},{"$f":"IF(NR_Veränderung!N92=\"\",1/0,NR_Veränderung!N92)","v":0.94931080526057099},{"$f":"IF(NR_Veränderung!O92=\"\",1/0,NR_Veränderung!O92)","v":1.2132017514488289},{"$f":"IF(NR_Veränderung!P92=\"\",1/0,NR_Veränderung!P92)","v":0.82218995108513571},{"$f":"IF(NR_Veränderung!Q92=\"\",1/0,NR_Veränderung!Q92)","v":1.1321647905526289},{"$f":"IF(NR_Veränderung!R92=\"\",1/0,NR_Veränderung!R92)","v":0.68772222226611168},{"$f":"IF(NR_Veränderung!S92=\"\",1/0,NR_Veränderung!S92)","v":1.2263445661027741},{"$f":"IF(NR_Veränderung!T92=\"\",1/0,NR_Veränderung!T92)","v":1.0991726447475301},{"$f":"IF(NR_Veränderung!U92=\"\",1/0,NR_Veränderung!U92)","v":0.65768312808216933},{"$f":"IF(NR_Veränderung!V92=\"\",1/0,NR_Veränderung!V92)","v":1.0582546252225056},{"$f":"IF(NR_Veränderung!W92=\"\",1/0,NR_Veränderung!W92)","v":1.088641433081073},{"$f":"IF(NR_Veränderung!X92=\"\",1/0,NR_Veränderung!X92)","v":0.98167426022099613},0.97135612567473717,0.94827827891789274,0.97135612567473717,0.94827827891789274,{"$f":"IF(AA8=\"\",\"\",HI_Hilfstabelle!H8)","v":1328976},8.3258566855120737E-3,8.3258566855120737E-3,8.0873718929621169E-3,7.8952290482544197E-3,{"$f":"IF(AA8=\"\",\"\",HI_Hilfstabelle!J8)","v":84},5.9829059829059832E-2,5.9829059829059832E-2,5.8115323758317614E-2,5.6734597883976494E-2,null,{"$f":"IF(HI_Hilfstabelle!$C8=HI_Hilfstabelle!$A8,IFERROR(NR_Berechnung!C8,1/0),\"\")","v":{"$error":"#DIV/0!"}},{"$f":"IF(HI_Hilfstabelle!$C8=HI_Hilfstabelle!$A8,IFERROR(NR_Berechnung!D8,1/0),\"\")","v":{"$error":"#DIV/0!"}},{"$f":"IF(HI_Hilfstabelle!$C8=HI_Hilfstabelle!$A8,IFERROR(NR_Berechnung!E8,1/0),\"\")","v":{"$error":"#DIV/0!"}},{"$f":"IF(HI_Hilfstabelle!$C8=HI_Hilfstabelle!$A8,IFERROR(NR_Berechnung!F8,1/0),\"\")","v":{"$error":"#DIV/0!"}},{"$f":"IF(HI_Hilfstabelle!$C8=HI_Hilfstabelle!$A8,IFERROR(NR_Berechnung!G8,1/0),\"\")","v":{"$error":"#DIV/0!"}},{"$f":"IF(HI_Hilfstabelle!$C8=HI_Hilfstabelle!$A8,IFERROR(NR_Berechnung!H8,1/0),\"\")","v":1.7289174049572815},{"$f":"IF(HI_Hilfstabelle!$C8=HI_Hilfstabelle!$A8,IFERROR(NR_Berechnung!I8,1/0),\"\")","v":0.90515688912989611},{"$f":"IF(HI_Hilfstabelle!$C8=HI_Hilfstabelle!$A8,IFERROR(NR_Berechnung!J8,1/0),\"\")","v":1.0010137629058844},{"$f":"IF(HI_Hilfstabelle!$C8=HI_Hilfstabelle!$A8,IFERROR(NR_Berechnung!K8,1/0),\"\")","v":1.4480112362640971},{"$f":"IF(HI_Hilfstabelle!$C8=HI_Hilfstabelle!$A8,IFERROR(NR_Berechnung!L8,1/0),\"\")","v":1.1936901791577823},{"$f":"IF(HI_Hilfstabelle!$C8=HI_Hilfstabelle!$A8,IFERROR(NR_Berechnung!M8,1/0),\"\")","v":0.95540629979164127},{"$f":"IF(HI_Hilfstabelle!$C8=HI_Hilfstabelle!$A8,IFERROR(NR_Berechnung!N8,1/0),\"\")","v":0.94931080526057099},{"$f":"IF(HI_Hilfstabelle!$C8=HI_Hilfstabelle!$A8,IFERROR(NR_Berechnung!O8,1/0),\"\")","v":1.2132017514488289},{"$f":"IF(HI_Hilfstabelle!$C8=HI_Hilfstabelle!$A8,IFERROR(NR_Berechnung!P8,1/0),\"\")","v":0.82218995108513571},{"$f":"IF(HI_Hilfstabelle!$C8=HI_Hilfstabelle!$A8,IFERROR(NR_Berechnung!Q8,1/0),\"\")","v":1.1321647905526289},{"$f":"IF(HI_Hilfstabelle!$C8=HI_Hilfstabelle!$A8,IFERROR(NR_Berechnung!R8,1/0),\"\")","v":0.68772222226611168},{"$f":"IF(HI_Hilfstabelle!$C8=HI_Hilfstabelle!$A8,IFERROR(NR_Berechnung!S8,1/0),\"\")","v":1.2263445661027741},{"$f":"IF(HI_Hilfstabelle!$C8=HI_Hilfstabelle!$A8,IFERROR(NR_Berechnung!T8,1/0),\"\")","v":1.0991726447475301},{"$f":"IF(HI_Hilfstabelle!$C8=HI_Hilfstabelle!$A8,IFERROR(NR_Berechnung!U8,1/0),\"\")","v":0.65768312808216933},{"$f":"IF(HI_Hilfstabelle!$C8=HI_Hilfstabelle!$A8,IFERROR(NR_Berechnung!V8,1/0),\"\")","v":1.0582546252225056},{"$f":"IF(HI_Hilfstabelle!$C8=HI_Hilfstabelle!$A8,IFERROR(NR_Berechnung!W8,1/0),\"\")","v":1.088641433081073},{"$f":"IF(HI_Hilfstabelle!$C8=HI_Hilfstabelle!$A8,IFERROR(NR_Berechnung!X8,1/0),\"\")","v":0.98167426022099613},0.97135612567473717,0.94827827891789274,0.97135612567473717,0.94827827891789274,{"$f":"IF(BL8=\"\",\"\",HI_Hilfstabelle!H8)","v":1328976},8.3258566855120737E-3,8.3258566855120737E-3,8.0873718929621169E-3,7.8952290482544197E-3,{"$f":"IF(BL8=\"\",\"\",HI_Hilfstabelle!J8)","v":84},5.9829059829059832E-2,5.9829059829059832E-2,5.8115323758317614E-2,5.6734597883976494E-2]
["Frankreich",null,{"$f":"IF(NR_Veränderung!C93=\"\",1/0,NR_Veränderung!C93)","v":{"$error":"#DIV/0!"}},{"$f":"IF(NR_Veränderung!D93=\"\",1/0,NR_Veränderung!D93)","v":{"$error":"#DIV/0!"}},{"$f":"IF(NR_Veränderung!E93=\"\",1/0,NR_Veränderung!E93)","v":{"$error":"#DIV/0!"}},{"$f":"IF(NR_Veränderung!F93=\"\",1/0,NR_Veränderung!F93)","v":{"$error":"#DIV/0!"}},{"$f":"IF(NR_Veränderung!G93=\"\",1/0,NR_Veränderung!G93)","v":{"$error":"#DIV/0!"}},{"$f":"IF(NR_Veränderung!H93=\"\",1/0,NR_Veränderung!H93)","v":{"$error":"#DIV/0!"}},{"$f":"IF(NR_Veränderung!I93=\"\",1/0,NR_Veränderung!I93)","v":{"$error":"#DIV/0!"}},{"$f":"IF(NR_Veränderung!J93=\"\",1/0,NR_Veränderung!J93)","v":{"$error":"#DIV/0!"}},{"$f":"IF(NR_Veränderung!K93=\"\",1/0,NR_Veränderung!K93)","v":{"$error":"#DIV/0!"}},{"$f":"IF(NR_Veränderung!L93=\"\",1/0,NR_Veränderung!L93)","v":{"$error":"#DIV/0!"}},{"$f":"IF(NR_Veränderung!M93=\"\",1/0,NR_Veränderung!M93)","v":{"$error":"#DIV/0!"}},{"$f":"IF(NR_Veränderung!N93=\"\",1/0,NR_Veränderung!N93)","v":{"$error":"#DIV/0!"}},{"$f":"IF(NR_Veränderung!O93=\"\",1/0,NR_Veränderung!O93)","v":{"$error":"#DIV/0!"}},{"$f":"IF(NR_Veränderung!P93=\"\",1/0,NR_Veränderung!P93)","v":{"$error":"#DIV/0!"}},{"$f":"IF(NR_Veränderung!Q93=\"\",1/0,NR_Veränderung!Q93)","v":{"$error":"#DIV/0!"}},{"$f":"IF(NR_Veränderung!R93=\"\",1/0,NR_Veränderung!R93)","v":{"$error":"#DIV/0!"}},{"$f":"IF(NR_Veränderung!S93=\"\",1/0,NR_Veränderung!S93)","v":{"$error":"#DIV/0!"}},{"$f":"IF(NR_Veränderung!T93=\"\",1/0,NR_Veränderung!T93)","v":{"$error":"#DIV/0!"}},{"$f":"IF(NR_Veränderung!U93=\"\",1/0,NR_Veränderung!U93)","v":{"$error":"#DIV/0!"}},{"$f":"IF(NR_Veränderung!V93=\"\",1/0,NR_Veränderung!V93)","v":{"$error":"#DIV/0!"}},{"$f":"IF(NR_Veränderung!W93=\"\",1/0,NR_Veränderung!W93)","v":{"$error":"#DIV/0!"}},{"$f":"IF(NR_Veränderung!X93=\"\",1/0,NR_Veränderung!X93)","v":{"$error":"#DIV/0!"}},{"$error":"#DIV/0!"},{"$error":"#DIV/0!"},"","",{"$f":"IF(AA9=\"\",\"\",HI_Hilfstabelle!H9)","v":""},"","","","",{"$f":"IF(AA9=\"\",\"\",HI_Hilfstabelle!J9)","v":""},"","","","",null,{"$f":"IF(HI_Hilfstabelle!$C9=HI_Hilfstabelle!$A9,IFERROR(NR_Berechnung!C9,1/0),\"\")","v":""},{"$f":"IF(HI_Hilfstabelle!$C9=HI_Hilfstabelle!$A9,IFERROR(NR_Berechnung!D9,1/0),\"\")","v":""},{"$f":"IF(HI_Hilfstabelle!$C9=HI_Hilfstabelle!$A9,IFERROR(NR_Berechnung!E9,1/0),\"\")","v":""},{"$f":"IF(HI_Hilfstabelle!$C9=HI_Hilfstabelle!$A9,IFERROR(NR_Berechnung!F9,1/0),\"\")","v":""},{"$f":"IF(HI_Hilfstabelle!$C9=HI_Hilfstabelle!$A9,IFERROR(NR_Berechnung!G9,1/0),\"\")","v":""},{"$f":"IF(HI_Hilfstabelle!$C9=HI_Hilfstabelle!$A9,IFERROR(NR_Berechnung!H9,1/0),\"\")","v":""},{"$f":"IF(HI_Hilfstabelle!$C9=HI_Hilfstabelle!$A9,IFERROR(NR_Berechnung!I9,1/0),\"\")","v":""},{"$f":"IF(HI_Hilfstabelle!$C9=HI_Hilfstabelle!$A9,IFERROR(NR_Berechnung!J9,1/0),\"\")","v":""},{"$f":"IF(HI_Hilfstabelle!$C9=HI_Hilfstabelle!$A9,IFERROR(NR_Berechnung!K9,1/0),\"\")","v":""},{"$f":"IF(HI_Hilfstabelle!$C9=HI_Hilfstabelle!$A9,IFERROR(NR_Berechnung!L9,1/0),\"\")","v":""},{"$f":"IF(HI_Hilfstabelle!$C9=HI_Hilfstabelle!$A9,IFERROR(NR_Berechnung!M9,1/0),\"\")","v":""},{"$f":"IF(HI_Hilfstabelle!$C9=HI_Hilfstabelle!$A9,IFERROR(NR_Berechnung!N9,1/0),\"\")","v":""},{"$f":"IF(HI_Hilfstabelle!$C9=HI_Hilfstabelle!$A9,IFERROR(NR_Berechnung!O9,1/0),\"\")","v":""},{"$f":"IF(HI_Hilfstabelle!$C9=HI_Hilfstabelle!$A9,IFERROR(NR_Berechnung!P9,1/0),\"\")","v":""},{"$f":"IF(HI_Hilfstabelle!$C9=HI_Hilfstabelle!$A9,IFERROR(NR_Berechnung!Q9,1/0),\"\")","v":""},{"$f":"IF(HI_Hilfstabelle!$C9=HI_Hilfstabelle!$A9,IFERROR(NR_Berechnung!R9,1/0),\"\")","v":""},{"$f":"IF(HI_Hilfstabelle!$C9=HI_Hilfstabelle!$A9,IFERROR(NR_Berechnung!S9,1/0),\"\")","v":""},{"$f":"IF(HI_Hilfstabelle!$C9=HI_Hilfstabelle!$A9,IFERROR(NR_Berechnung!T9,1/0),\"\")","v":""},{"$f":"IF(HI_Hilfstabelle!$C9=HI_Hilfstabelle!$A9,IFERROR(NR_Berechnung!U9,1/0),\"\")","v":""},{"$f":"IF(HI_Hilfstabelle!$C9=HI_Hilfstabelle!$A9,IFERROR(NR_Berechnung!V9,1/0),\"\")","v":""},{"$f":"IF(HI_Hilfstabelle!$C9=HI_Hilfstabelle!$A9,IFERROR(NR_Berechnung!W9,1/0),\"\")","v":""},{"$f":"IF(HI_Hilfstabelle!$C9=HI_Hilfstabelle!$A9,IFERROR(NR_Berechnung!X9,1/0),\"\")","v":""},{"$error":"#DIV/0!"},{"$error":"#NUM!"},"","",{"$f":"IF(BL9=\"\",\"\",HI_Hilfstabelle!H9)","v":""},"","","","",{"$f":"IF(BL9=\"\",\"\",HI_Hilfstabelle!J9)","v":""},"","","",""]
["Griechenland",null,{"$f":"IF(NR_Veränderung!C94=\"\",1/0,NR_Veränderung!C94)","v":0.99720825172865957},{"$f":"IF(NR_Veränderung!D94=\"\",1/0,NR_Veränderung!D94)","v":1.2017797932598679},{"$f":"IF(NR_Veränderung!E94=\"\",1/0,NR_Veränderung!E94)","v":1.0360365247720402},{"$f":"IF(NR_Veränderung!F94=\"\",1/0,NR_Veränderung!F94)","v":1.2834908339573043},{"$f":"IF(NR_Veränderung!G94=\"\",1/0,NR_Veränderung!G94)","v":1.0170074842609216},{"$f":"IF(NR_Veränderung!H94=\"\",1/0,NR_Veränderung!H94)","v":1.1057702768460151},{"$f":"IF(NR_Veränderung!I94=\"\",1/0,NR_Veränderung!I94)","v":1.0601341163180436},{"$f":"IF(NR_Veränderung!J94=\"\",1/0,NR_Veränderung!J94)","v":0.97960672291862561},{"$f":"IF(NR_Veränderung!K94=\"\",1/0,NR_Veränderung!K94)","v":1.0331195615815507},{"$f":"IF(NR_Veränderung!L94=\"\",1/0,NR_Veränderung!L94)","v":0.98557535700626042},{"$f":"IF(NR_Veränderung!M94=\"\",1/0,NR_Veränderung!M94)","v":1.0930181733622486},{"$f":"IF(NR_Veränderung!N94=\"\",1/0,NR_Veränderung!N94)","v":1.0310778867651369},{"$f":"IF(NR_Veränderung!O94=\"\",1/0,NR_Veränderung!O94)","v":1.0527972724501835},{"$f":"IF(NR_Veränderung!P94=\"\",1/0,NR_Veränderung!P94)","v":0.88214562784725703},{"$f":"IF(NR_Veränderung!Q94=\"\",1/0,NR_Veränderung!Q94)","v":0.93250551625502964},{"$f":"IF(NR_Veränderung!R94=\"\",1/0,NR_Veränderung!R94)","v":1.0020218812356667},{"$f":"IF(NR_Veränderung!S94=\"\",1/0,NR_Veränderung!S94)","v":0.90678916259733999},{"$f":"IF(NR_Veränderung!T94=\"\",1/0,NR_Veränderung!T94)","v":0.90399875268479246},{"$f":"IF(NR_Veränderung!U94=\"\",1/0,NR_Veränderung!U94)","v":0.90237570098852415},{"$f":"IF(NR_Veränderung!V94=\"\",1/0,NR_Veränderung!V94)","v":0.85652497566419139},{"$f":"IF(NR_Veränderung!W94=\"\",1/0,NR_Veränderung!W94)","v":0.94683701778695228},{"$f":"IF(NR_Veränderung!X94=\"\",1/0,NR_Veränderung!X94)","v":1.0233736407632301},0.93456016167438527,0.93294375590959444,0.93456016167438527,0.93294375590959444,{"$f":"IF(AA10=\"\",\"\",HI_Hilfstabelle!H10)","v":10709739},6.7095080763865847E-2,6.7095080763865847E-2,6.2704389526234403E-2,6.259593665089859E-2,{"$f":"IF(AA10=\"\",\"\",HI_Hilfstabelle!J10)","v":67},4.7720797720797722E-2,4.7720797720797722E-2,4.4597956433179355E-2,4.4520820260643044E-2,null,{"$f":"IF(HI_Hilfstabelle!$C10=HI_Hilfstabelle!$A10,IFERROR(NR_Berechnung!C10,1/0),\"\")","v":0.99720825172865957},{"$f":"IF(HI_Hilfstabelle!$C10=HI_Hilfstabelle!$A10,IFERROR(NR_Berechnung!D10,1/0),\"\")","v":1.2017797932598679},{"$f":"IF(HI_Hilfstabelle!$C10=HI_Hilfstabelle!$A10,IFERROR(NR_Berechnung!E10,1/0),\"\")","v":1.0360365247720402},{"$f":"IF(HI_Hilfstabelle!$C10=HI_Hilfstabelle!$A10,IFERROR(NR_Berechnung!F10,1/0),\"\")","v":1.2834908339573043},{"$f":"IF(HI_Hilfstabelle!$C10=HI_Hilfstabelle!$A10,IFERROR(NR_Berechnung!G10,1/0),\"\")","v":1.0170074842609216},{"$f":"IF(HI_Hilfstabelle!$C10=HI_Hilfstabelle!$A10,IFERROR(NR_Berechnung!H10,1/0),\"\")","v":1.1057702768460151},{"$f":"IF(HI_Hilfstabelle!$C10=HI_Hilfstabelle!$A10,IFERROR(NR_Berechnung!I10,1/0),\"\")","v":1.0601341163180436},{"$f":"IF(HI_Hilfstabelle!$C10=HI_Hilfstabelle!$A10,IFERROR(NR_Berechnung!J10,1/0),\"\")","v":0.97960672291862561},{"$f":"IF(HI_Hilfstabelle!$C10=HI_Hilfstabelle!$A10,IFERROR(NR_Berechnung!K10,1/0),\"\")","v":1.0331195615815507},{"$f":"IF(HI_Hilfstabelle!$C10=HI_Hilfstabelle!$A10,IFERROR(NR_Berechnung!L10,1/0),\"\")","v":0.98557535700626042},{"$f":"IF(HI_Hilfstabelle!$C10=HI_Hilfstabelle!$A10,IFERROR(NR_Berechnung!M10,1/0),\"\")","v":1.0930181733622486},{"$f":"IF(HI_Hilfstabelle!$C10=HI_Hilfstabelle!$A10,IFERROR(NR_Berechnung!N10,1/0),\"\")","v":1.0310778867651369},{"$f":"IF(HI_Hilfstabelle!$C10=HI_Hilfstabelle!$A10,IFERROR(NR_Berechnung!O10,1/0),\"\")","v":1.0527972724501835},{"$f":"IF(HI_Hilfstabelle!$C10=HI_Hilfstabelle!$A10,IFERROR(NR_Berechnung!P10,1/0),\"\")","v":0.88214562784725703},{"$f":"IF(HI_Hilfstabelle!$C10=HI_Hilfstabelle!$A10,IFERROR(NR_Berechnung!Q10,1/0),\"\")","v":0.93250551625502964},{"$f":"IF(HI_Hilfstabelle!$C10=HI_Hilfstabelle!$A10,IFERROR(NR_Berechnung!R10,1/0),\"\")","v":1.0020218812356667},{"$f":"IF(HI_Hilfstabelle!$C10=HI_Hilfstabelle!$A10,IFERROR(NR_Berechnung!S10,1/0),\"\")","v":0.90678916259733999},{"$f":"IF(HI_Hilfstabelle!$C10=HI_Hilfstabelle!$A10,IFERROR(NR_Berechnung!T10,1/0),\"\")","v":0.90399875268479246},{"$f":"IF(HI_Hilfstabelle!$C10=HI_Hilfstabelle!$A10,IFERROR(NR_Berechnung!U10,1/0),\"\")","v":0.90237570098852415},{"$f":"IF(HI_Hilfstabelle!$C10=HI_Hilfstabelle!$A10,IFERROR(NR_Berechnung!V10,1/0),\"\")","v":0.85652497566419139},{"$f":"IF(HI_Hilfstabelle!$C10=HI_Hilfstabelle!$A10,IFERROR(NR_Berechnung!W10,1/0),\"\")","v":0.94683701778695228},{"$f":"IF(HI_Hilfstabelle!$C10=HI_Hilfstabelle!$A10,IFERROR(NR_Berechnung!X10,1/0),\"\")","v":1.0233736407632301},0.93456016167438527,0.93294375590959444,0.93456016167438527,0.93294375590959444,{"$f":"IF(BL10=\"\",\"\",HI_Hilfstabelle!H10)","v":10709739},6.7095080763865847E-2,6.7095080763865847E-2,6.2704389526234403E-2,6.259593665089859E-2,{"$f":"IF(BL10=\"\",\"\",HI_Hilfstabelle!J10)","v":67},4.7720797720797722E-2,4.7720797720797722E-2,4.4597956433179355E-2,4.4520820260643044E-2]
["Italien",null,{"$f":"IF(NR_Veränderung!C95=\"\",1/0,NR_Veränderung!C95)","v":{"$error":"#DIV/0!"}},{"$f":"IF(NR_Veränderung!D95=\"\",1/0,NR_Veränderung!D95)","v":{"$error":"#DIV/0!"}},{"$f":"IF(NR_Veränderung!E95=\"\",1/0,NR_Veränderung!E95)","v":{"$error":"#DIV/0!"}},{"$f":"IF(NR_Veränderung!F95=\"\",1/0,NR_Veränderung!F95)","v":{"$error":"#DIV/0!"}},{"$f":"IF(NR_Veränderung!G95=\"\",1/0,NR_Veränderung!G95)","v":{"$error":"#DIV/0!"}},{"$f":"IF(NR_Veränderung!H95=\"\",1/0,NR_Veränderung!H95)","v":{"$error":"#DIV/0!"}},{"$f":"IF(NR_Veränderung!I95=\"\",1/0,NR_Veränderung!I95)","v":{"$error":"#DIV/0!"}},{"$f":"IF(NR_Veränderung!J95=\"\",1/0,NR_Veränderung!J95)","v":{"$error":"#DIV/0!"}},{"$f":"IF(NR_Veränderung!K95=\"\",1/0,NR_Veränderung!K95)","v":{"$error":"#DIV/0!"}},{"$f":"IF(NR_Veränderung!L95=\"\",1/0,NR_Veränderung!L95)","v":{"$error":"#DIV/0!"}},{"$f":"IF(NR_Veränderung!M95=\"\",1/0,NR_Veränderung!M95)","v":{"$error":"#DIV/0!"}},{"$f":"IF(NR_Veränderung!N95=\"\",1/0,NR_Veränderung!N95)","v":{"$error":"#DIV/0!"}},{"$f":"IF(NR_Veränderung!O95=\"\",1/0,NR_Veränderung!O95)","v":{"$error":"#DIV/0!"}},{"$f":"IF(NR_Veränderung!P95=\"\",1/0,NR_Veränderung!P95)","v":{"$error":"#DIV/0!"}},{"$f":"IF(NR_Veränderung!Q95=\"\",1/0,NR_Veränderung!Q95)","v":{"$error":"#DIV/0!"}},{"$f":"IF(NR_Veränderung!R95=\"\",1/0,NR_Veränderung!R95)","v":{"$error":"#DIV/0!"}},{"$f":"IF(NR_Veränderung!S95=\"\",1/0,NR_Veränderung!S95)","v":{"$error":"#DIV/0!"}},{"$f":"IF(NR_Veränderung!T95=\"\",1/0,NR_Veränderung!T95)","v":{"$error":"#DIV/0!"}},{"$f":"IF(NR_Veränderung!U95=\"\",1/0,NR_Veränderung!U95)","v":{"$error":"#DIV/0!"}},{"$f":"IF(NR_Veränderung!V95=\"\",1/0,NR_Veränderung!V95)","v":{"$error":"#DIV/0!"}},{"$f":"IF(NR_Veränderung!W95=\"\",1/0,NR_Veränderung!W95)","v":{"$error":"#DIV/0!"}},{"$f":"IF(NR_Veränderung!X95=\"\",1/0,NR_Veränderung!X95)","v":{"$error":"#DIV/0!"}},{"$error":"#DIV/0!"},{"$error":"#DIV/0!"},"","",{"$f":"IF(AA11=\"\",\"\",HI_Hilfstabelle!H11)","v":""},"","","","",{"$f":"IF(AA11=\"\",\"\",HI_Hilfstabelle!J11)","v":""},"","","","",null,{"$f":"IF(HI_Hilfstabelle!$C11=HI_Hilfstabelle!$A11,IFERROR(NR_Berechnung!C11,1/0),\"\")","v":{"$error":"#DIV/0!"}},{"$f":"IF(HI_Hilfstabelle!$C11=HI_Hilfstabelle!$A11,IFERROR(NR_Berechnung!D11,1/0),\"\")","v":{"$error":"#DIV/0!"}},{"$f":"IF(HI_Hilfstabelle!$C11=HI_Hilfstabelle!$A11,IFERROR(NR_Berechnung!E11,1/0),\"\")","v":{"$error":"#DIV/0!"}},{"$f":"IF(HI_Hilfstabelle!$C11=HI_Hilfstabelle!$A11,IFERROR(NR_Berechnung!F11,1/0),\"\")","v":{"$error":"#DIV/0!"}},{"$f":"IF(HI_Hilfstabelle!$C11=HI_Hilfstabelle!$A11,IFERROR(NR_Berechnung!G11,1/0),\"\")","v":{"$error":"#DIV/0!"}},{"$f":"IF(HI_Hilfstabelle!$C11=HI_Hilfstabelle!$A11,IFERROR(NR_Berechnung!H11,1/0),\"\")","v":{"$error":"#DIV/0!"}},{"$f":"IF(HI_Hilfstabelle!$C11=HI_Hilfstabelle!$A11,IFERROR(NR_Berechnung!I11,1/0),\"\")","v":{"$error":"#DIV/0!"}},{"$f":"IF(HI_Hilfstabelle!$C11=HI_Hilfstabelle!$A11,IFERROR(NR_Berechnung!J11,1/0),\"\")","v":{"$error":"#DIV/0!"}},{"$f":"IF(HI_Hilfstabelle!$C11=HI_Hilfstabelle!$A11,IFERROR(NR_Berechnung!K11,1/0),\"\")","v":{"$error":"#DIV/0!"}},{"$f":"IF(HI_Hilfstabelle!$C11=HI_Hilfstabelle!$A11,IFERROR(NR_Berechnung!L11,1/0),\"\")","v":{"$error":"#DIV/0!"}},{"$f":"IF(HI_Hilfstabelle!$C11=HI_Hilfstabelle!$A11,IFERROR(NR_Berechnung!M11,1/0),\"\")","v":{"$error":"#DIV/0!"}},{"$f":"IF(HI_Hilfstabelle!$C11=HI_Hilfstabelle!$A11,IFERROR(NR_Berechnung!N11,1/0),\"\")","v":{"$error":"#DIV/0!"}},{"$f":"IF(HI_Hilfstabelle!$C11=HI_Hilfstabelle!$A11,IFERROR(NR_Berechnung!O11,1/0),\"\")","v":{"$error":"#DIV/0!"}},{"$f":"IF(HI_Hilfstabelle!$C11=HI_Hilfstabelle!$A11,IFERROR(NR_Berechnung!P11,1/0),\"\")","v":{"$error":"#DIV/0!"}},{"$f":"IF(HI_Hilfstabelle!$C11=HI_Hilfstabelle!$A11,IFERROR(NR_Berechnung!Q11,1/0),\"\")","v":{"$error":"#DIV/0!"}},{"$f":"IF(HI_Hilfstabelle!$C11=HI_Hilfstabelle!$A11,IFERROR(NR_Berechnung!R11,1/0),\"\")","v":{"$error":"#DIV/0!"}},{"$f":"IF(HI_Hilfstabelle!$C11=HI_Hilfstabelle!$A11,IFERROR(NR_Berechnung!S11,1/0),\"\")","v":{"$error":"#DIV/0!"}},{"$f":"IF(HI_Hilfstabelle!$C11=HI_Hilfstabelle!$A11,IFERROR(NR_Berechnung!T11,1/0),\"\")","v":{"$error":"#DIV/0!"}},{"$f":"IF(HI_Hilfstabelle!$C11=HI_Hilfstabelle!$A11,IFERROR(NR_Berechnung!U11,1/0),\"\")","v":{"$error":"#DIV/0!"}},{"$f":"IF(HI_Hilfstabelle!$C11=HI_Hilfstabelle!$A11,IFERROR(NR_Berechnung!V11,1/0),\"\")","v":{"$error":"#DIV/0!"}},{"$f":"IF(HI_Hilfstabelle!$C11=HI_Hilfstabelle!$A11,IFERROR(NR_Berechnung!W11,1/0),\"\")","v":{"$error":"#DIV/0!"}},{"$f":"IF(HI_Hilfstabelle!$C11=HI_Hilfstabelle!$A11,IFERROR(NR_Berechnung!X11,1/0),\"\")","v":{"$error":"#DIV/0!"}},{"$error":"#DIV/0!"},{"$error":"#DIV/0!"},"","",{"$f":"IF(BL11=\"\",\"\",HI_Hilfstabelle!H11)","v":""},"","","","",{"$f":"IF(BL11=\"\",\"\",HI_Hilfstabelle!J11)","v":""},"","","",""]
["Spanien",null,{"$f":"IF(NR_Veränderung!C96=\"\",1/0,NR_Veränderung!C96)","v":1.137103128563576},{"$f":"IF(NR_Veränderung!D96=\"\",1/0,NR_Veränderung!D96)","v":1.1218393870396057},{"$f":"IF(NR_Veränderung!E96=\"\",1/0,NR_Veränderung!E96)","v":1.0834085955529815},{"$f":"IF(NR_Veränderung!F96=\"\",1/0,NR_Veränderung!F96)","v":1.0240861128510612},{"$f":"IF(NR_Veränderung!G96=\"\",1/0,NR_Veränderung!G96)","v":1.1121934533663194},{"$f":"IF(NR_Veränderung!H96=\"\",1/0,NR_Veränderung!H96)","v":1.0543156543492402},{"$f":"IF(NR_Veränderung!I96=\"\",1/0,NR_Veränderung!I96)","v":1.0909923043307597},{"$f":"IF(NR_Veränderung!J96=\"\",1/0,NR_Veränderung!J96)","v":1.0607299316641843},{"$f":"IF(NR_Veränderung!K96=\"\",1/0,NR_Veränderung!K96)","v":1.0745275160181995},{"$f":"IF(NR_Veränderung!L96=\"\",1/0,NR_Veränderung!L96)","v":1.0822085553183867},{"$f":"IF(NR_Veränderung!M96=\"\",1/0,NR_Veränderung!M96)","v":1.0153899361708447},{"$f":"IF(NR_Veränderung!N96=\"\",1/0,NR_Veränderung!N96)","v":1.08541900081273},{"$f":"IF(NR_Veränderung!O96=\"\",1/0,NR_Veränderung!O96)","v":1.0063749113428537},{"$f":"IF(NR_Veränderung!P96=\"\",1/0,NR_Veränderung!P96)","v":0.97258653350285174},{"$f":"IF(NR_Veränderung!Q96=\"\",1/0,NR_Veränderung!Q96)","v":1.0901101145926004},{"$f":"IF(NR_Veränderung!R96=\"\",1/0,NR_Veränderung!R96)","v":1.0167374039482848},{"$f":"IF(NR_Veränderung!S96=\"\",1/0,NR_Veränderung!S96)","v":0.96448118341036193},{"$f":"IF(NR_Veränderung!T96=\"\",1/0,NR_Veränderung!T96)","v":1.0619407634561469},{"$f":"IF(NR_Veränderung!U96=\"\",1/0,NR_Veränderung!U96)","v":1.1519339741032917},{"$f":"IF(NR_Veränderung!V96=\"\",1/0,NR_Veränderung!V96)","v":0.94252462422712391},{"$f":"IF(NR_Veränderung!W96=\"\",1/0,NR_Veränderung!W96)","v":0.95257802692439542},{"$f":"IF(NR_Veränderung!X96=\"\",1/0,NR_Veränderung!X96)","v":0.98693595372187648},1.0110188471130688,1.0087592379055934,1.0110188471130688,1.0087592379055934,{"$f":"IF(AA12=\"\",\"\",HI_Hilfstabelle!H12)","v":47329981},0.29651599331666589,0.29651599331666589,0.29978325771360198,0.29911324744493989,{"$f":"IF(AA12=\"\",\"\",HI_Hilfstabelle!J12)","v":91},6.4814814814814811E-2,6.4814814814814811E-2,6.5528999349921124E-2,6.5382543197584755E-2,null,{"$f":"IF(HI_Hilfstabelle!$C12=HI_Hilfstabelle!$A12,IFERROR(NR_Berechnung!C12,1/0),\"\")","v":1.137103128563576},{"$f":"IF(HI_Hilfstabelle!$C12=HI_Hilfstabelle!$A12,IFERROR(NR_Berechnung!D12,1/0),\"\")","v":1.1218393870396057},{"$f":"IF(HI_Hilfstabelle!$C12=HI_Hilfstabelle!$A12,IFERROR(NR_Berechnung!E12,1/0),\"\")","v":1.0834085955529815},{"$f":"IF(HI_Hilfstabelle!$C12=HI_Hilfstabelle!$A12,IFERROR(NR_Berechnung!F12,1/0),\"\")","v":1.0240861128510612},{"$f":"IF(HI_Hilfstabelle!$C12=HI_Hilfstabelle!$A12,IFERROR(NR_Berechnung!G12,1/0),\"\")","v":1.1121934533663194},{"$f":"IF(HI_Hilfstabelle!$C12=HI_Hilfstabelle!$A12,IFERROR(NR_Berechnung!H12,1/0),\"\")","v":1.0543156543492402},{"$f":"IF(HI_Hilfstabelle!$C12=HI_Hilfstabelle!$A12,IFERROR(NR_Berechnung!I12,1/0),\"\")","v":1.0909923043307597},{"$f":"IF(HI_Hilfstabelle!$C12=HI_Hilfstabelle!$A12,IFERROR(NR_Berechnung!J12,1/0),\"\")","v":1.0607299316641843},{"$f":"IF(HI_Hilfstabelle!$C12=HI_Hilfstabelle!$A12,IFERROR(NR_Berechnung!K12,1/0),\"\")","v":1.0745275160181995},{"$f":"IF(HI_Hilfstabelle!$C12=HI_Hilfstabelle!$A12,IFERROR(NR_Berechnung!L12,1/0),\"\")","v":1.0822085553183867},{"$f":"IF(HI_Hilfstabelle!$C12=HI_Hilfstabelle!$A12,IFERROR(NR_Berechnung!M12,1/0),\"\")","v":1.0153899361708447},{"$f":"IF(HI_Hilfstabelle!$C12=HI_Hilfstabelle!$A12,IFERROR(NR_Berechnung!N12,1/0),\"\")","v":1.08541900081273},{"$f":"IF(HI_Hilfstabelle!$C12=HI_Hilfstabelle!$A12,IFERROR(NR_Berechnung!O12,1/0),\"\")","v":1.0063749113428537},{"$f":"IF(HI_Hilfstabelle!$C12=HI_Hilfstabelle!$A12,IFERROR(NR_Berechnung!P12,1/0),\"\")","v":0.97258653350285174},{"$f":"IF(HI_Hilfstabelle!$C12=HI_Hilfstabelle!$A12,IFERROR(NR_Berechnung!Q12,1/0),\"\")","v":1.0901101145926004},{"$f":"IF(HI_Hilfstabelle!$C12=HI_Hilfstabelle!$A12,IFERROR(NR_Berechnung!R12,1/0),\"\")","v":1.0167374039482848},{"$f":"IF(HI_Hilfstabelle!$C12=HI_Hilfstabelle!$A12,IFERROR(NR_Berechnung!S12,1/0),\"\")","v":0.96448118341036193},{"$f":"IF(HI_Hilfstabelle!$C12=HI_Hilfstabelle!$A12,IFERROR(NR_Berechnung!T12,1/0),\"\")","v":1.0619407634561469},{"$f":"IF(HI_Hilfstabelle!$C12=HI_Hilfstabelle!$A12,IFERROR(NR_Berechnung!U12,1/0),\"\")","v":1.1519339741032917},{"$f":"IF(HI_Hilfstabelle!$C12=HI_Hilfstabelle!$A12,IFERROR(NR_Berechnung!V12,1/0),\"\")","v":0.94252462422712391},{"$f":"IF(HI_Hilfstabelle!$C12=HI_Hilfstabelle!$A12,IFERROR(NR_Berechnung!W12,1/0),\"\")","v":0.95257802692439542},{"$f":"IF(HI_Hilfstabelle!$C12=HI_Hilfstabelle!$A12,IFERROR(NR_Berechnung!X12,1/0),\"\")","v":0.98693595372187648},1.0110188471130688,1.0087592379055934,1.0110188471130688,1.0087592379055934,{"$f":"IF(BL12=\"\",\"\",HI_Hilfstabelle!H12)","v":47329981},0.29651599331666589,0.29651599331666589,0.29978325771360198,0.29911324744493989,{"$f":"IF(BL12=\"\",\"\",HI_Hilfstabelle!J12)","v":91},6.4814814814814811E-2,6.4814814814814811E-2,6.5528999349921124E-2,6.5382543197584755E-2]
["Finnland",null,{"$f":"IF(NR_Veränderung!C97=\"\",1/0,NR_Veränderung!C97)","v":1.0166192054525931},{"$f":"IF(NR_Veränderung!D97=\"\",1/0,NR_Veränderung!D97)","v":1.0600667962713721},{"$f":"IF(NR_Veränderung!E97=\"\",1/0,NR_Veränderung!E97)","v":1.0154144007862616},{"$f":"IF(NR_Veränderung!F97=\"\",1/0,NR_Veränderung!F97)","v":1.0964605606649016},{"$f":"IF(NR_Veränderung!G97=\"\",1/0,NR_Veränderung!G97)","v":1.036030837340661},{"$f":"IF(NR_Veränderung!H97=\"\",1/0,NR_Veränderung!H97)","v":1.0657073164676383},{"$f":"IF(NR_Veränderung!I97=\"\",1/0,NR_Veränderung!I97)","v":1.023468485537451},{"$f":"IF(NR_Veränderung!J97=\"\",1/0,NR_Veränderung!J97)","v":1.0346569357084552},{"$f":"IF(NR_Veränderung!K97=\"\",1/0,NR_Veränderung!K97)","v":0.97753155501859923},{"$f":"IF(NR_Veränderung!L97=\"\",1/0,NR_Veränderung!L97)","v":1.0251585597047355},{"$f":"IF(NR_Veränderung!M97=\"\",1/0,NR_Veränderung!M97)","v":0.99597977779795965},{"$f":"IF(NR_Veränderung!N97=\"\",1/0,NR_Veränderung!N97)","v":0.96942422895118663},{"$f":"IF(NR_Veränderung!O97=\"\",1/0,NR_Veränderung!O97)","v":0.98460100479027901},{"$f":"IF(NR_Veränderung!P97=\"\",1/0,NR_Veränderung!P97)","v":0.96819407008086245},{"$f":"IF(NR_Veränderung!Q97=\"\",1/0,NR_Veränderung!Q97)","v":1.0744981331523056},{"$f":"IF(NR_Veränderung!R97=\"\",1/0,NR_Veränderung!R97)","v":0.98419052360799919},{"$f":"IF(NR_Veränderung!S97=\"\",1/0,NR_Veränderung!S97)","v":1.0391983662620139},{"$f":"IF(NR_Veränderung!T97=\"\",1/0,NR_Veränderung!T97)","v":0.88574720210664915},{"$f":"IF(NR_Veränderung!U97=\"\",1/0,NR_Veränderung!U97)","v":0.84333635699125487},{"$f":"IF(NR_Veränderung!V97=\"\",1/0,NR_Veränderung!V97)","v":0.94823632593025686},{"$f":"IF(NR_Veränderung!W97=\"\",1/0,NR_Veränderung!W97)","v":0.95206155060169662},{"$f":"IF(NR_Veränderung!X97=\"\",1/0,NR_Veränderung!X97)","v":0.89767144491553952},0.93577739577362995,0.93380312858883729,0.93577739577362995,0.93380312858883729,{"$f":"IF(AA13=\"\",\"\",HI_Hilfstabelle!H13)","v":5525292},3.4615214524270091E-2,3.4615214524270091E-2,3.2392135301666999E-2,3.2323795619537174E-2,{"$f":"IF(AA13=\"\",\"\",HI_Hilfstabelle!J13)","v":111},7.9059829059829057E-2,7.9059829059829057E-2,7.3982400947915181E-2,7.3826315721767052E-2,null,{"$f":"IF(HI_Hilfstabelle!$C13=HI_Hilfstabelle!$A13,IFERROR(NR_Berechnung!C13,1/0),\"\")","v":1.0166192054525931},{"$f":"IF(HI_Hilfstabelle!$C13=HI_Hilfstabelle!$A13,IFERROR(NR_Berechnung!D13,1/0),\"\")","v":1.0600667962713721},{"$f":"IF(HI_Hilfstabelle!$C13=HI_Hilfstabelle!$A13,IFERROR(NR_Berechnung!E13,1/0),\"\")","v":1.0154144007862616},{"$f":"IF(HI_Hilfstabelle!$C13=HI_Hilfstabelle!$A13,IFERROR(NR_Berechnung!F13,1/0),\"\")","v":1.0964605606649016},{"$f":"IF(HI_Hilfstabelle!$C13=HI_Hilfstabelle!$A13,IFERROR(NR_Berechnung!G13,1/0),\"\")","v":1.036030837340661},{"$f":"IF(HI_Hilfstabelle!$C13=HI_Hilfstabelle!$A13,IFERROR(NR_Berechnung!H13,1/0),\"\")","v":1.0657073164676383},{"$f":"IF(HI_Hilfstabelle!$C13=HI_Hilfstabelle!$A13,IFERROR(NR_Berechnung!I13,1/0),\"\")","v":1.023468485537451},{"$f":"IF(HI_Hilfstabelle!$C13=HI_Hilfstabelle!$A13,IFERROR(NR_Berechnung!J13,1/0),\"\")","v":1.0346569357084552},{"$f":"IF(HI_Hilfstabelle!$C13=HI_Hilfstabelle!$A13,IFERROR(NR_Berechnung!K13,1/0),\"\")","v":0.97753155501859923},{"$f":"IF(HI_Hilfstabelle!$C13=HI_Hilfstabelle!$A13,IFERROR(NR_Berechnung!L13,1/0),\"\")","v":1.0251585597047355},{"$f":"IF(HI_Hilfstabelle!$C13=HI_Hilfstabelle!$A13,IFERROR(NR_Berechnung!M13,1/0),\"\")","v":0.99597977779795965},{"$f":"IF(HI_Hilfstabelle!$C13=HI_Hilfstabelle!$A13,IFERROR(NR_Berechnung!N13,1/0),\"\")","v":0.96942422895118663},{"$f":"IF(HI_Hilfstabelle!$C13=HI_Hilfstabelle!$A13,IFERROR(NR_Berechnung!O13,1/0),\"\")","v":0.98460100479027901},{"$f":"IF(HI_Hilfstabelle!$C13=HI_Hilfstabelle!$A13,IFERROR(NR_Berechnung!P13,1/0),\"\")","v":0.96819407008086245},{"$f":"IF(HI_Hilfstabelle!$C13=HI_Hilfstabelle!$A13,IFERROR(NR_Berechnung!Q13,1/0),\"\")","v":1.0744981331523056},{"$f":"IF(HI_Hilfstabelle!$C13=HI_Hilfstabelle!$A13,IFERROR(NR_Berechnung!R13,1/0),\"\")","v":0.98419052360799919},{"$f":"IF(HI_Hilfstabelle!$C13=HI_Hilfstabelle!$A13,IFERROR(NR_Berechnung!S13,1/0),\"\")","v":1.0391983662620139},{"$f":"IF(HI_Hilfstabelle!$C13=HI_Hilfstabelle!$A13,IFERROR(NR_Berechnung!T13,1/0),\"\")","v":0.88574720210664915},{"$f":"IF(HI_Hilfstabelle!$C13=HI_Hilfstabelle!$A13,IFERROR(NR_Berechnung!U13,1/0),\"\")","v":0.84333635699125487},{"$f":"IF(HI_Hilfstabelle!$C13=HI_Hilfstabelle!$A13,IFERROR(NR_Berechnung!V13,1/0),\"\")","v":0.94823632593025686},{"$f":"IF(HI_Hilfstabelle!$C13=HI_Hilfstabelle!$A13,IFERROR(NR_Berechnung!W13,1/0),\"\")","v":0.95206155060169662},{"$f":"IF(HI_Hilfstabelle!$C13=HI_Hilfstabelle!$A13,IFERROR(NR_Berechnung!X13,1/0),\"\")","v":0.89767144491553952},0.93577739577362995,0.93380312858883729,0.93577739577362995,0.93380312858883729,{"$f":"IF(BL13=\"\",\"\",HI_Hilfstabelle!H13)","v":5525292},3.4615214524270091E-2,3.4615214524270091E-2,3.2392135301666999E-2,3.2323795619537174E-2,{"$f":"IF(BL13=\"\",\"\",HI_Hilfstabelle!J13)","v":111},7.9059829059829057E-2,7.9059829059829057E-2,7.3982400947915181E-2,7.3826315721767052E-2]
["Ungarn",null,{"$f":"IF(NR_Veränderung!C98=\"\",1/0,NR_Veränderung!C98)","v":{"$error":"#DIV/0!"}},{"$f":"IF(NR_Veränderung!D98=\"\",1/0,NR_Veränderung!D98)","v":{"$error":"#DIV/0!"}},{"$f":"IF(NR_Veränderung!E98=\"\",1/0,NR_Veränderung!E98)","v":{"$error":"#DIV/0!"}},{"$f":"IF(NR_Veränderung!F98=\"\",1/0,NR_Veränderung!F98)","v":{"$error":"#DIV/0!"}},{"$f":"IF(NR_Veränderung!G98=\"\",1/0,NR_Veränderung!G98)","v":{"$error":"#DIV/0!"}},{"$f":"IF(NR_Veränderung!H98=\"\",1/0,NR_Veränderung!H98)","v":{"$error":"#DIV/0!"}},{"$f":"IF(NR_Veränderung!I98=\"\",1/0,NR_Veränderung!I98)","v":{"$error":"#DIV/0!"}},{"$f":"IF(NR_Veränderung!J98=\"\",1/0,NR_Veränderung!J98)","v":{"$error":"#DIV/0!"}},{"$f":"IF(NR_Veränderung!K98=\"\",1/0,NR_Veränderung!K98)","v":{"$error":"#DIV/0!"}},{"$f":"IF(NR_Veränderung!L98=\"\",1/0,NR_Veränderung!L98)","v":{"$error":"#DIV/0!"}},{"$f":"IF(NR_Veränderung!M98=\"\",1/0,NR_Veränderung!M98)","v":{"$error":"#DIV/0!"}},{"$f":"IF(NR_Veränderung!N98=\"\",1/0,NR_Veränderung!N98)","v":{"$error":"#DIV/0!"}},{"$f":"IF(NR_Veränderung!O98=\"\",1/0,NR_Veränderung!O98)","v":{"$error":"#DIV/0!"}},{"$f":"IF(NR_Veränderung!P98=\"\",1/0,NR_Veränderung!P98)","v":{"$error":"#DIV/0!"}},{"$f":"IF(NR_Veränderung!Q98=\"\",1/0,NR_Veränderung!Q98)","v":{"$error":"#DIV/0!"}},{"$f":"IF(NR_Veränderung!R98=\"\",1/0,NR_Veränderung!R98)","v":0.98023155629334568},{"$f":"IF(NR_Veränderung!S98=\"\",1/0,NR_Veränderung!S98)","v":0.98796649756238653},{"$f":"IF(NR_Veränderung!T98=\"\",1/0,NR_Veränderung!T98)","v":1.0717244817156253},{"$f":"IF(NR_Veränderung!U98=\"\",1/0,NR_Veränderung!U98)","v":1.0361707489721823},{"$f":"IF(NR_Veränderung!V98=\"\",1/0,NR_Veränderung!V98)","v":1.0233495395093684},{"$f":"IF(NR_Veränderung!W98=\"\",1/0,NR_Veränderung!W98)","v":0.93404315330729604},{"$f":"IF(NR_Veränderung!X98=\"\",1/0,NR_Veränderung!X98)","v":0.93616596525192253},0.99566456323030383,0.99453129142936458,0.99566456323030383,0.99453129142936458,{"$f":"IF(AA14=\"\",\"\",HI_Hilfstabelle!H14)","v":9769526},6.1204772216642001E-2,6.1204772216642001E-2,6.0939422796693093E-2,6.0870061154257062E-2,{"$f":"IF(AA14=\"\",\"\",HI_Hilfstabelle!J14)","v":73},5.1994301994301995E-2,5.1994301994301995E-2,5.1768883985621211E-2,5.170996030936155E-2,null,{"$f":"IF(HI_Hilfstabelle!$C14=HI_Hilfstabelle!$A14,IFERROR(NR_Berechnung!C14,1/0),\"\")","v":{"$error":"#DIV/0!"}},{"$f":"IF(HI_Hilfstabelle!$C14=HI_Hilfstabelle!$A14,IFERROR(NR_Berechnung!D14,1/0),\"\")","v":{"$error":"#DIV/0!"}},{"$f":"IF(HI_Hilfstabelle!$C14=HI_Hilfstabelle!$A14,IFERROR(NR_Berechnung!E14,1/0),\"\")","v":{"$error":"#DIV/0!"}},{"$f":"IF(HI_Hilfstabelle!$C14=HI_Hilfstabelle!$A14,IFERROR(NR_Berechnung!F14,1/0),\"\")","v":{"$error":"#DIV/0!"}},{"$f":"IF(HI_Hilfstabelle!$C14=HI_Hilfstabelle!$A14,IFERROR(NR_Berechnung!G14,1/0),\"\")","v":{"$error":"#DIV/0!"}},{"$f":"IF(HI_Hilfstabelle!$C14=HI_Hilfstabelle!$A14,IFERROR(NR_Berechnung!H14,1/0),\"\")","v":{"$error":"#DIV/0!"}},{"$f":"IF(HI_Hilfstabelle!$C14=HI_Hilfstabelle!$A14,IFERROR(NR_Berechnung!I14,1/0),\"\")","v":{"$error":"#DIV/0!"}},{"$f":"IF(HI_Hilfstabelle!$C14=HI_Hilfstabelle!$A14,IFERROR(NR_Berechnung!J14,1/0),\"\")","v":{"$error":"#DIV/0!"}},{"$f":"IF(HI_Hilfstabelle!$C14=HI_Hilfstabelle!$A14,IFERROR(NR_Berechnung!K14,1/0),\"\")","v":{"$error":"#DIV/0!"}},{"$f":"IF(HI_Hilfstabelle!$C14=HI_Hilfstabelle!$A14,IFERROR(NR_Berechnung!L14,1/0),\"\")","v":{"$error":"#DIV/0!"}},{"$f":"IF(HI_Hilfstabelle!$C14=HI_Hilfstabelle!$A14,IFERROR(NR_Berechnung!M14,1/0),\"\")","v":{"$error":"#DIV/0!"}},{"$f":"IF(HI_Hilfstabelle!$C14=HI_Hilfstabelle!$A14,IFERROR(NR_Berechnung!N14,1/0),\"\")","v":{"$error":"#DIV/0!"}},{"$f":"IF(HI_Hilfstabelle!$C14=HI_Hilfstabelle!$A14,IFERROR(NR_Berechnung!O14,1/0),\"\")","v":{"$error":"#DIV/0!"}},{"$f":"IF(HI_Hilfstabelle!$C14=HI_Hilfstabelle!$A14,IFERROR(NR_Berechnung!P14,1/0),\"\")","v":{"$error":"#DIV/0!"}},{"$f":"IF(HI_Hilfstabelle!$C14=HI_Hilfstabelle!$A14,IFERROR(NR_Berechnung!Q14,1/0),\"\")","v":{"$error":"#DIV/0!"}},{"$f":"IF(HI_Hilfstabelle!$C14=HI_Hilfstabelle!$A14,IFERROR(NR_Berechnung!R14,1/0),\"\")","v":0.98023155629334568},{"$f":"IF(HI_Hilfstabelle!$C14=HI_Hilfstabelle!$A14,IFERROR(NR_Berechnung!S14,1/0),\"\")","v":0.98796649756238653},{"$f":"IF(HI_Hilfstabelle!$C14=HI_Hilfstabelle!$A14,IFERROR(NR_Berechnung!T14,1/0),\"\")","v":1.0717244817156253},{"$f":"IF(HI_Hilfstabelle!$C14=HI_Hilfstabelle!$A14,IFERROR(NR_Berechnung!U14,1/0),\"\")","v":1.0361707489721823},{"$f":"IF(HI_Hilfstabelle!$C14=HI_Hilfstabelle!$A14,IFERROR(NR_Berechnung!V14,1/0),\"\")","v":1.0233495395093684},{"$f":"IF(HI_Hilfstabelle!$C14=HI_Hilfstabelle!$A14,IFERROR(NR_Berechnung!W14,1/0),\"\")","v":0.93404315330729604},{"$f":"IF(HI_Hilfstabelle!$C14=HI_Hilfstabelle!$A14,IFERROR(NR_Berechnung!X14,1/0),\"\")","v":0.93616596525192253},0.99566456323030383,0.99453129142936458,0.99566456323030383,0.99453129142936458,{"$f":"IF(BL14=\"\",\"\",HI_Hilfstabelle!H14)","v":9769526},6.1204772216642001E-2,6.1204772216642001E-2,6.0939422796693093E-2,6.0870061154257062E-2,{"$f":"IF(BL14=\"\",\"\",HI_Hilfstabelle!J14)","v":73},5.1994301994301995E-2,5.1994301994301995E-2,5.1768883985621211E-2,5.170996030936155E-2]
["Irland",null,{"$f":"IF(NR_Veränderung!C99=\"\",1/0,NR_Veränderung!C99)","v":1.016104856320502},{"$f":"IF(NR_Veränderung!D99=\"\",1/0,NR_Veränderung!D99)","v":1.0533064861467365},{"$f":"IF(NR_Veränderung!E99=\"\",1/0,NR_Veränderung!E99)","v":0.93134716999917366},{"$f":"IF(NR_Veränderung!F99=\"\",1/0,NR_Veränderung!F99)","v":1.0449748822342091},{"$f":"IF(NR_Veränderung!G99=\"\",1/0,NR_Veränderung!G99)","v":0.96347446906156264},{"$f":"IF(NR_Veränderung!H99=\"\",1/0,NR_Veränderung!H99)","v":0.93858163390891691},{"$f":"IF(NR_Veränderung!I99=\"\",1/0,NR_Veränderung!I99)","v":0.94726842528392285},{"$f":"IF(NR_Veränderung!J99=\"\",1/0,NR_Veränderung!J99)","v":1.0393869741341524},{"$f":"IF(NR_Veränderung!K99=\"\",1/0,NR_Veränderung!K99)","v":1.2147739955357144},{"$f":"IF(NR_Veränderung!L99=\"\",1/0,NR_Veränderung!L99)","v":0.79413525743931856},{"$f":"IF(NR_Veränderung!M99=\"\",1/0,NR_Veränderung!M99)","v":0.91528900827725679},{"$f":"IF(NR_Veränderung!N99=\"\",1/0,NR_Veränderung!N99)","v":1.0105229876637472},{"$f":"IF(NR_Veränderung!O99=\"\",1/0,NR_Veränderung!O99)","v":1.0202929070085103},{"$f":"IF(NR_Veränderung!P99=\"\",1/0,NR_Veränderung!P99)","v":0.98495281407039392},{"$f":"IF(NR_Veränderung!Q99=\"\",1/0,NR_Veränderung!Q99)","v":1.2391081950087772},{"$f":"IF(NR_Veränderung!R99=\"\",1/0,NR_Veränderung!R99)","v":0.97675153061657061},{"$f":"IF(NR_Veränderung!S99=\"\",1/0,NR_Veränderung!S99)","v":1.0448014153293868},{"$f":"IF(NR_Veränderung!T99=\"\",1/0,NR_Veränderung!T99)","v":0.99969751599876133},{"$f":"IF(NR_Veränderung!U99=\"\",1/0,NR_Veränderung!U99)","v":0.91424474883551266},{"$f":"IF(NR_Veränderung!V99=\"\",1/0,NR_Veränderung!V99)","v":0.90455602710811422},{"$f":"IF(NR_Veränderung!W99=\"\",1/0,NR_Veränderung!W99)","v":0.9378312162620519},{"$f":"IF(NR_Veränderung!X99=\"\",1/0,NR_Veränderung!X99)","v":0.98074773931492742},0.96551859906647497,0.96442093747810942,0.96551859906647497,0.96442093747810942,{"$f":"IF(AA15=\"\",\"\",HI_Hilfstabelle!H15)","v":4963839},3.1097786659770803E-2,3.1097786659770803E-2,3.0025491409810021E-2,2.9991356563910401E-2,{"$f":"IF(AA15=\"\",\"\",HI_Hilfstabelle!J15)","v":193},0.13746438746438747,0.13746438746438747,0.13272442280614649,0.13257353342825864,null,{"$f":"IF(HI_Hilfstabelle!$C15=HI_Hilfstabelle!$A15,IFERROR(NR_Berechnung!C15,1/0),\"\")","v":1.016104856320502},{"$f":"IF(HI_Hilfstabelle!$C15=HI_Hilfstabelle!$A15,IFERROR(NR_Berechnung!D15,1/0),\"\")","v":1.0533064861467365},{"$f":"IF(HI_Hilfstabelle!$C15=HI_Hilfstabelle!$A15,IFERROR(NR_Berechnung!E15,1/0),\"\")","v":0.93134716999917366},{"$f":"IF(HI_Hilfstabelle!$C15=HI_Hilfstabelle!$A15,IFERROR(NR_Berechnung!F15,1/0),\"\")","v":1.0449748822342091},{"$f":"IF(HI_Hilfstabelle!$C15=HI_Hilfstabelle!$A15,IFERROR(NR_Berechnung!G15,1/0),\"\")","v":0.96347446906156264},{"$f":"IF(HI_Hilfstabelle!$C15=HI_Hilfstabelle!$A15,IFERROR(NR_Berechnung!H15,1/0),\"\")","v":0.93858163390891691},{"$f":"IF(HI_Hilfstabelle!$C15=HI_Hilfstabelle!$A15,IFERROR(NR_Berechnung!I15,1/0),\"\")","v":0.94726842528392285},{"$f":"IF(HI_Hilfstabelle!$C15=HI_Hilfstabelle!$A15,IFERROR(NR_Berechnung!J15,1/0),\"\")","v":1.0393869741341524},{"$f":"IF(HI_Hilfstabelle!$C15=HI_Hilfstabelle!$A15,IFERROR(NR_Berechnung!K15,1/0),\"\")","v":1.2147739955357144},{"$f":"IF(HI_Hilfstabelle!$C15=HI_Hilfstabelle!$A15,IFERROR(NR_Berechnung!L15,1/0),\"\")","v":0.79413525743931856},{"$f":"IF(HI_Hilfstabelle!$C15=HI_Hilfstabelle!$A15,IFERROR(NR_Berechnung!M15,1/0),\"\")","v":0.91528900827725679},{"$f":"IF(HI_Hilfstabelle!$C15=HI_Hilfstabelle!$A15,IFERROR(NR_Berechnung!N15,1/0),\"\")","v":1.0105229876637472},{"$f":"IF(HI_Hilfstabelle!$C15=HI_Hilfstabelle!$A15,IFERROR(NR_Berechnung!O15,1/0),\"\")","v":1.0202929070085103},{"$f":"IF(HI_Hilfstabelle!$C15=HI_Hilfstabelle!$A15,IFERROR(NR_Berechnung!P15,1/0),\"\")","v":0.98495281407039392},{"$f":"IF(HI_Hilfstabelle!$C15=HI_Hilfstabelle!$A15,IFERROR(NR_Berechnung!Q15,1/0),\"\")","v":1.2391081950087772},{"$f":"IF(HI_Hilfstabelle!$C15=HI_Hilfstabelle!$A15,IFERROR(NR_Berechnung!R15,1/0),\"\")","v":0.97675153061657061},{"$f":"IF(HI_Hilfstabelle!$C15=HI_Hilfstabelle!$A15,IFERROR(NR_Berechnung!S15,1/0),\"\")","v":1.0448014153293868},{"$f":"IF(HI_Hilfstabelle!$C15=HI_Hilfstabelle!$A15,IFERROR(NR_Berechnung!T15,1/0),\"\")","v":0.99969751599876133},{"$f":"IF(HI_Hilfstabelle!$C15=HI_Hilfstabelle!$A15,IFERROR(NR_Berechnung!U15,1/0),\"\")","v":0.91424474883551266},{"$f":"IF(HI_Hilfstabelle!$C15=HI_Hilfstabelle!$A15,IFERROR(NR_Berechnung!V15,1/0),\"\")","v":0.90455602710811422},{"$f":"IF(HI_Hilfstabelle!$C15=HI_Hilfstabelle!$A15,IFERROR(NR_Berechnung!W15,1/0),\"\")","v":0.9378312162620519},{"$f":"IF(HI_Hilfstabelle!$C15=HI_Hilfstabelle!$A15,IFERROR(NR_Berechnung!X15,1/0),\"\")","v":0.98074773931492742},0.96551859906647497,0.96442093747810942,0.96551859906647497,0.96442093747810942,{"$f":"IF(BL15=\"\",\"\",HI_Hilfstabelle!H15)","v":4963839},3.1097786659770803E-2,3.1097786659770803E-2,3.0025491409810021E-2,2.9991356563910401E-2,{"$f":"IF(BL15=\"\",\"\",HI_Hilfstabelle!J15)","v":193},0.13746438746438747,0.13746438746438747,0.13272442280614649,0.13257353342825864]
["Niederlande",null,{"$f":"IF(NR_Veränderung!C100=\"\",1/0,NR_Veränderung!C100)","v":1.0027547318517089},{"$f":"IF(NR_Veränderung!D100=\"\",1/0,NR_Veränderung!D100)","v":0.98521501594885419},{"$f":"IF(NR_Veränderung!E100=\"\",1/0,NR_Veränderung!E100)","v":1.0688779984227486},{"$f":"IF(NR_Veränderung!F100=\"\",1/0,NR_Veränderung!F100)","v":0.96272123756519046},{"$f":"IF(NR_Veränderung!G100=\"\",1/0,NR_Veränderung!G100)","v":1.0478700521642959},{"$f":"IF(NR_Veränderung!H100=\"\",1/0,NR_Veränderung!H100)","v":1.0407659839609156},{"$f":"IF(NR_Veränderung!I100=\"\",1/0,NR_Veränderung!I100)","v":1.0063308277182881},{"$f":"IF(NR_Veränderung!J100=\"\",1/0,NR_Veränderung!J100)","v":1.0390950797902483},{"$f":"IF(NR_Veränderung!K100=\"\",1/0,NR_Veränderung!K100)","v":1.0951470370176066},{"$f":"IF(NR_Veränderung!L100=\"\",1/0,NR_Veränderung!L100)","v":1.026918845591636},{"$f":"IF(NR_Veränderung!M100=\"\",1/0,NR_Veränderung!M100)","v":0.99629969405531815},{"$f":"IF(NR_Veränderung!N100=\"\",1/0,NR_Veränderung!N100)","v":1.0074255797144676},{"$f":"IF(NR_Veränderung!O100=\"\",1/0,NR_Veränderung!O100)","v":1.0129385758589025},{"$f":"IF(NR_Veränderung!P100=\"\",1/0,NR_Veränderung!P100)","v":0.96827736958669863},{"$f":"IF(NR_Veränderung!Q100=\"\",1/0,NR_Veränderung!Q100)","v":0.9807336023688874},{"$f":"IF(NR_Veränderung!R100=\"\",1/0,NR_Veränderung!R100)","v":0.90431137467333556},{"$f":"IF(NR_Veränderung!S100=\"\",1/0,NR_Veränderung!S100)","v":0.87262420424050491},{"$f":"IF(NR_Veränderung!T100=\"\",1/0,NR_Veränderung!T100)","v":0.93931787696733571},{"$f":"IF(NR_Veränderung!U100=\"\",1/0,NR_Veränderung!U100)","v":0.97533215659318118},{"$f":"IF(NR_Veränderung!V100=\"\",1/0,NR_Veränderung!V100)","v":0.90322937991899832},{"$f":"IF(NR_Veränderung!W100=\"\",1/0,NR_Veränderung!W100)","v":0.95936852684864005},{"$f":"IF(NR_Veränderung!X100=\"\",1/0,NR_Veränderung!X100)","v":0.98733340113636492},0.93450241719690852,0.93367119751004624,0.93450241719690852,0.93367119751004624,{"$f":"IF(AA16=\"\",\"\",HI_Hilfstabelle!H16)","v":17407585},0.10905618908909542,0.10905618908909542,0.10191327231404279,0.10182262266269776,{"$f":"IF(AA16=\"\",\"\",HI_Hilfstabelle!J16)","v":128},9.1168091168091173E-2,9.1168091168091173E-2,8.519680156780933E-2,8.512102085561675E-2,null,{"$f":"IF(HI_Hilfstabelle!$C16=HI_Hilfstabelle!$A16,IFERROR(NR_Berechnung!C16,1/0),\"\")","v":1.0027547318517089},{"$f":"IF(HI_Hilfstabelle!$C16=HI_Hilfstabelle!$A16,IFERROR(NR_Berechnung!D16,1/0),\"\")","v":0.98521501594885419},{"$f":"IF(HI_Hilfstabelle!$C16=HI_Hilfstabelle!$A16,IFERROR(NR_Berechnung!E16,1/0),\"\")","v":1.0688779984227486},{"$f":"IF(HI_Hilfstabelle!$C16=HI_Hilfstabelle!$A16,IFERROR(NR_Berechnung!F16,1/0),\"\")","v":0.96272123756519046},{"$f":"IF(HI_Hilfstabelle!$C16=HI_Hilfstabelle!$A16,IFERROR(NR_Berechnung!G16,1/0),\"\")","v":1.0478700521642959},{"$f":"IF(HI_Hilfstabelle!$C16=HI_Hilfstabelle!$A16,IFERROR(NR_Berechnung!H16,1/0),\"\")","v":1.0407659839609156},{"$f":"IF(HI_Hilfstabelle!$C16=HI_Hilfstabelle!$A16,IFERROR(NR_Berechnung!I16,1/0),\"\")","v":1.0063308277182881},{"$f":"IF(HI_Hilfstabelle!$C16=HI_Hilfstabelle!$A16,IFERROR(NR_Berechnung!J16,1/0),\"\")","v":1.0390950797902483},{"$f":"IF(HI_Hilfstabelle!$C16=HI_Hilfstabelle!$A16,IFERROR(NR_Berechnung!K16,1/0),\"\")","v":1.0951470370176066},{"$f":"IF(HI_Hilfstabelle!$C16=HI_Hilfstabelle!$A16,IFERROR(NR_Berechnung!L16,1/0),\"\")","v":1.026918845591636},{"$f":"IF(HI_Hilfstabelle!$C16=HI_Hilfstabelle!$A16,IFERROR(NR_Berechnung!M16,1/0),\"\")","v":0.99629969405531815},{"$f":"IF(HI_Hilfstabelle!$C16=HI_Hilfstabelle!$A16,IFERROR(NR_Berechnung!N16,1/0),\"\")","v":1.0074255797144676},{"$f":"IF(HI_Hilfstabelle!$C16=HI_Hilfstabelle!$A16,IFERROR(NR_Berechnung!O16,1/0),\"\")","v":1.0129385758589025},{"$f":"IF(HI_Hilfstabelle!$C16=HI_Hilfstabelle!$A16,IFERROR(NR_Berechnung!P16,1/0),\"\")","v":0.96827736958669863},{"$f":"IF(HI_Hilfstabelle!$C16=HI_Hilfstabelle!$A16,IFERROR(NR_Berechnung!Q16,1/0),\"\")","v":0.9807336023688874},{"$f":"IF(HI_Hilfstabelle!$C16=HI_Hilfstabelle!$A16,IFERROR(NR_Berechnung!R16,1/0),\"\")","v":0.90431137467333556},{"$f":"IF(HI_Hilfstabelle!$C16=HI_Hilfstabelle!$A16,IFERROR(NR_Berechnung!S16,1/0),\"\")","v":0.87262420424050491},{"$f":"IF(HI_Hilfstabelle!$C16=HI_Hilfstabelle!$A16,IFERROR(NR_Berechnung!T16,1/0),\"\")","v":0.93931787696733571},{"$f":"IF(HI_Hilfstabelle!$C16=HI_Hilfstabelle!$A16,IFERROR(NR_Berechnung!U16,1/0),\"\")","v":0.97533215659318118},{"$f":"IF(HI_Hilfstabelle!$C16=HI_Hilfstabelle!$A16,IFERROR(NR_Berechnung!V16,1/0),\"\")","v":0.90322937991899832},{"$f":"IF(HI_Hilfstabelle!$C16=HI_Hilfstabelle!$A16,IFERROR(NR_Berechnung!W16,1/0),\"\")","v":0.95936852684864005},{"$f":"IF(HI_Hilfstabelle!$C16=HI_Hilfstabelle!$A16,IFERROR(NR_Berechnung!X16,1/0),\"\")","v":0.98733340113636492},0.93450241719690852,0.93367119751004624,0.93450241719690852,0.93367119751004624,{"$f":"IF(BL16=\"\",\"\",HI_Hilfstabelle!H16)","v":17407585},0.10905618908909542,0.10905618908909542,0.10191327231404279,0.10182262266269776,{"$f":"IF(BL16=\"\",\"\",HI_Hilfstabelle!J16)","v":128},9.1168091168091173E-2,9.1168091168091173E-2,8.519680156780933E-2,8.512102085561675E-2]
["Portugal",null,{"$f":"IF(NR_Veränderung!C101=\"\",1/0,NR_Veränderung!C101)","v":{"$error":"#DIV/0!"}},{"$f":"IF(NR_Veränderung!D101=\"\",1/0,NR_Veränderung!D101)","v":{"$error":"#DIV/0!"}},{"$f":"IF(NR_Veränderung!E101=\"\",1/0,NR_Veränderung!E101)","v":{"$error":"#DIV/0!"}},{"$f":"IF(NR_Veränderung!F101=\"\",1/0,NR_Veränderung!F101)","v":{"$error":"#DIV/0!"}},{"$f":"IF(NR_Veränderung!G101=\"\",1/0,NR_Veränderung!G101)","v":{"$error":"#DIV/0!"}},{"$f":"IF(NR_Veränderung!H101=\"\",1/0,NR_Veränderung!H101)","v":{"$error":"#DIV/0!"}},{"$f":"IF(NR_Veränderung!I101=\"\",1/0,NR_Veränderung!I101)","v":{"$error":"#DIV/0!"}},{"$f":"IF(NR_Veränderung!J101=\"\",1/0,NR_Veränderung!J101)","v":{"$error":"#DIV/0!"}},{"$f":"IF(NR_Veränderung!K101=\"\",1/0,NR_Veränderung!K101)","v":{"$error":"#DIV/0!"}},{"$f":"IF(NR_Veränderung!L101=\"\",1/0,NR_Veränderung!L101)","v":{"$error":"#DIV/0!"}},{"$f":"IF(NR_Veränderung!M101=\"\",1/0,NR_Veränderung!M101)","v":{"$error":"#DIV/0!"}},{"$f":"IF(NR_Veränderung!N101=\"\",1/0,NR_Veränderung!N101)","v":{"$error":"#DIV/0!"}},{"$f":"IF(NR_Veränderung!O101=\"\",1/0,NR_Veränderung!O101)","v":{"$error":"#DIV/0!"}},{"$f":"IF(NR_Veränderung!P101=\"\",1/0,NR_Veränderung!P101)","v":{"$error":"#DIV/0!"}},{"$f":"IF(NR_Veränderung!Q101=\"\",1/0,NR_Veränderung!Q101)","v":{"$error":"#DIV/0!"}},{"$f":"IF(NR_Veränderung!R101=\"\",1/0,NR_Veränderung!R101)","v":0.98509696267611613},{"$f":"IF(NR_Veränderung!S101=\"\",1/0,NR_Veränderung!S101)","v":0.91436745527023378},{"$f":"IF(NR_Veränderung!T101=\"\",1/0,NR_Veränderung!T101)","v":0.99836477901800069},{"$f":"IF(NR_Veränderung!U101=\"\",1/0,NR_Veränderung!U101)","v":1.0224369222558167},{"$f":"IF(NR_Veränderung!V101=\"\",1/0,NR_Veränderung!V101)","v":0.96848504996519591},{"$f":"IF(NR_Veränderung!W101=\"\",1/0,NR_Veränderung!W101)","v":0.96908076999225712},{"$f":"IF(NR_Veränderung!X101=\"\",1/0,NR_Veränderung!X101)","v":0.996512916499803},0.97919212223963203,0.97867238695505543,0.97919212223963203,0.97867238695505543,{"$f":"IF(AA17=\"\",\"\",HI_Hilfstabelle!H17)","v":10295909},6.4502491227135722E-2,6.4502491227135722E-2,6.3160331274442275E-2,6.3126807053808437E-2,{"$f":"IF(AA17=\"\",\"\",HI_Hilfstabelle!J17)","v":79},5.6267806267806267E-2,5.6267806267806267E-2,5.5096992633141689E-2,5.506774826883859E-2,null,{"$f":"IF(HI_Hilfstabelle!$C17=HI_Hilfstabelle!$A17,IFERROR(NR_Berechnung!C17,1/0),\"\")","v":{"$error":"#DIV/0!"}},{"$f":"IF(HI_Hilfstabelle!$C17=HI_Hilfstabelle!$A17,IFERROR(NR_Berechnung!D17,1/0),\"\")","v":{"$error":"#DIV/0!"}},{"$f":"IF(HI_Hilfstabelle!$C17=HI_Hilfstabelle!$A17,IFERROR(NR_Berechnung!E17,1/0),\"\")","v":{"$error":"#DIV/0!"}},{"$f":"IF(HI_Hilfstabelle!$C17=HI_Hilfstabelle!$A17,IFERROR(NR_Berechnung!F17,1/0),\"\")","v":{"$error":"#DIV/0!"}},{"$f":"IF(HI_Hilfstabelle!$C17=HI_Hilfstabelle!$A17,IFERROR(NR_Berechnung!G17,1/0),\"\")","v":{"$error":"#DIV/0!"}},{"$f":"IF(HI_Hilfstabelle!$C17=HI_Hilfstabelle!$A17,IFERROR(NR_Berechnung!H17,1/0),\"\")","v":{"$error":"#DIV/0!"}},{"$f":"IF(HI_Hilfstabelle!$C17=HI_Hilfstabelle!$A17,IFERROR(NR_Berechnung!I17,1/0),\"\")","v":{"$error":"#DIV/0!"}},{"$f":"IF(HI_Hilfstabelle!$C17=HI_Hilfstabelle!$A17,IFERROR(NR_Berechnung!J17,1/0),\"\")","v":{"$error":"#DIV/0!"}},{"$f":"IF(HI_Hilfstabelle!$C17=HI_Hilfstabelle!$A17,IFERROR(NR_Berechnung!K17,1/0),\"\")","v":{"$error":"#DIV/0!"}},{"$f":"IF(HI_Hilfstabelle!$C17=HI_Hilfstabelle!$A17,IFERROR(NR_Berechnung!L17,1/0),\"\")","v":{"$error":"#DIV/0!"}},{"$f":"IF(HI_Hilfstabelle!$C17=HI_Hilfstabelle!$A17,IFERROR(NR_Berechnung!M17,1/0),\"\")","v":{"$error":"#DIV/0!"}},{"$f":"IF(HI_Hilfstabelle!$C17=HI_Hilfstabelle!$A17,IFERROR(NR_Berechnung!N17,1/0),\"\")","v":{"$error":"#DIV/0!"}},{"$f":"IF(HI_Hilfstabelle!$C17=HI_Hilfstabelle!$A17,IFERROR(NR_Berechnung!O17,1/0),\"\")","v":{"$error":"#DIV/0!"}},{"$f":"IF(HI_Hilfstabelle!$C17=HI_Hilfstabelle!$A17,IFERROR(NR_Berechnung!P17,1/0),\"\")","v":{"$error":"#DIV/0!"}},{"$f":"IF(HI_Hilfstabelle!$C17=HI_Hilfstabelle!$A17,IFERROR(NR_Berechnung!Q17,1/0),\"\")","v":{"$error":"#DIV/0!"}},{"$f":"IF(HI_Hilfstabelle!$C17=HI_Hilfstabelle!$A17,IFERROR(NR_Berechnung!R17,1/0),\"\")","v":0.98509696267611613},{"$f":"IF(HI_Hilfstabelle!$C17=HI_Hilfstabelle!$A17,IFERROR(NR_Berechnung!S17,1/0),\"\")","v":0.91436745527023378},{"$f":"IF(HI_Hilfstabelle!$C17=HI_Hilfstabelle!$A17,IFERROR(NR_Berechnung!T17,1/0),\"\")","v":0.99836477901800069},{"$f":"IF(HI_Hilfstabelle!$C17=HI_Hilfstabelle!$A17,IFERROR(NR_Berechnung!U17,1/0),\"\")","v":1.0224369222558167},{"$f":"IF(HI_Hilfstabelle!$C17=HI_Hilfstabelle!$A17,IFERROR(NR_Berechnung!V17,1/0),\"\")","v":0.96848504996519591},{"$f":"IF(HI_Hilfstabelle!$C17=HI_Hilfstabelle!$A17,IFERROR(NR_Berechnung!W17,1/0),\"\")","v":0.96908076999225712},{"$f":"IF(HI_Hilfstabelle!$C17=HI_Hilfstabelle!$A17,IFERROR(NR_Berechnung!X17,1/0),\"\")","v":0.996512916499803},0.97919212223963203,0.97867238695505543,0.97919212223963203,0.97867238695505543,{"$f":"IF(BL17=\"\",\"\",HI_Hilfstabelle!H17)","v":10295909},6.4502491227135722E-2,6.4502491227135722E-2,6.3160331274442275E-2,6.3126807053808437E-2,{"$f":"IF(BL17=\"\",\"\",HI_Hilfstabelle!J17)","v":79},5.6267806267806267E-2,5.6267806267806267E-2,5.5096992633141689E-2,5.506774826883859E-2]
["Rumänien",null,{"$f":"IF(NR_Veränderung!C102=\"\",1/0,NR_Veränderung!C102)","v":1.2875543084027761},{"$f":"IF(NR_Veränderung!D102=\"\",1/0,NR_Veränderung!D102)","v":1.0412621846277219},{"$f":"IF(NR_Veränderung!E102=\"\",1/0,NR_Veränderung!E102)","v":0.9872002515163989},{"$f":"IF(NR_Veränderung!F102=\"\",1/0,NR_Veränderung!F102)","v":1.0297423088474558},{"$f":"IF(NR_Veränderung!G102=\"\",1/0,NR_Veränderung!G102)","v":0.97035349024490192},{"$f":"IF(NR_Veränderung!H102=\"\",1/0,NR_Veränderung!H102)","v":1.0737264634189962},{"$f":"IF(NR_Veränderung!I102=\"\",1/0,NR_Veränderung!I102)","v":0.97126961163252601},{"$f":"IF(NR_Veränderung!J102=\"\",1/0,NR_Veränderung!J102)","v":0.99940982300798198},{"$f":"IF(NR_Veränderung!K102=\"\",1/0,NR_Veränderung!K102)","v":1.0309764922651581},{"$f":"IF(NR_Veränderung!L102=\"\",1/0,NR_Veränderung!L102)","v":1.0859997491410469},{"$f":"IF(NR_Veränderung!M102=\"\",1/0,NR_Veränderung!M102)","v":0.98990724488569448},{"$f":"IF(NR_Veränderung!N102=\"\",1/0,NR_Veränderung!N102)","v":0.92960785770369703},{"$f":"IF(NR_Veränderung!O102=\"\",1/0,NR_Veränderung!O102)","v":1.297411050708585},{"$f":"IF(NR_Veränderung!P102=\"\",1/0,NR_Veränderung!P102)","v":0.76649519056642179},{"$f":"IF(NR_Veränderung!Q102=\"\",1/0,NR_Veränderung!Q102)","v":0.70646642117957126},{"$f":"IF(NR_Veränderung!R102=\"\",1/0,NR_Veränderung!R102)","v":0.9907372620840037},{"$f":"IF(NR_Veränderung!S102=\"\",1/0,NR_Veränderung!S102)","v":1.0399749199964707},{"$f":"IF(NR_Veränderung!T102=\"\",1/0,NR_Veränderung!T102)","v":1.0129044169923866},{"$f":"IF(NR_Veränderung!U102=\"\",1/0,NR_Veränderung!U102)","v":1.2136876847259594},{"$f":"IF(NR_Veränderung!V102=\"\",1/0,NR_Veränderung!V102)","v":0.82413326566828649},{"$f":"IF(NR_Veränderung!W102=\"\",1/0,NR_Veränderung!W102)","v":1.480595157003525},{"$f":"IF(NR_Veränderung!X102=\"\",1/0,NR_Veränderung!X102)","v":0.80292377737335596},1.052136640549141,1.0313236577203602,1.052136640549141,1.0313236577203602,{"$f":"IF(AA18=\"\",\"\",HI_Hilfstabelle!H18)","v":19317984},0.12102458301505464,0.12102458301505464,0.12733439819732023,0.12481551562916753,{"$f":"IF(AA18=\"\",\"\",HI_Hilfstabelle!J18)","v":70},4.9857549857549859E-2,4.9857549857549859E-2,5.2456955013133813E-2,5.1419270684063545E-2,null,{"$f":"IF(HI_Hilfstabelle!$C18=HI_Hilfstabelle!$A18,IFERROR(NR_Berechnung!C18,1/0),\"\")","v":1.2875543084027761},{"$f":"IF(HI_Hilfstabelle!$C18=HI_Hilfstabelle!$A18,IFERROR(NR_Berechnung!D18,1/0),\"\")","v":1.0412621846277219},{"$f":"IF(HI_Hilfstabelle!$C18=HI_Hilfstabelle!$A18,IFERROR(NR_Berechnung!E18,1/0),\"\")","v":0.9872002515163989},{"$f":"IF(HI_Hilfstabelle!$C18=HI_Hilfstabelle!$A18,IFERROR(NR_Berechnung!F18,1/0),\"\")","v":1.0297423088474558},{"$f":"IF(HI_Hilfstabelle!$C18=HI_Hilfstabelle!$A18,IFERROR(NR_Berechnung!G18,1/0),\"\")","v":0.97035349024490192},{"$f":"IF(HI_Hilfstabelle!$C18=HI_Hilfstabelle!$A18,IFERROR(NR_Berechnung!H18,1/0),\"\")","v":1.0737264634189962},{"$f":"IF(HI_Hilfstabelle!$C18=HI_Hilfstabelle!$A18,IFERROR(NR_Berechnung!I18,1/0),\"\")","v":0.97126961163252601},{"$f":"IF(HI_Hilfstabelle!$C18=HI_Hilfstabelle!$A18,IFERROR(NR_Berechnung!J18,1/0),\"\")","v":0.99940982300798198},{"$f":"IF(HI_Hilfstabelle!$C18=HI_Hilfstabelle!$A18,IFERROR(NR_Berechnung!K18,1/0),\"\")","v":1.0309764922651581},{"$f":"IF(HI_Hilfstabelle!$C18=HI_Hilfstabelle!$A18,IFERROR(NR_Berechnung!L18,1/0),\"\")","v":1.0859997491410469},{"$f":"IF(HI_Hilfstabelle!$C18=HI_Hilfstabelle!$A18,IFERROR(NR_Berechnung!M18,1/0),\"\")","v":0.98990724488569448},{"$f":"IF(HI_Hilfstabelle!$C18=HI_Hilfstabelle!$A18,IFERROR(NR_Berechnung!N18,1/0),\"\")","v":0.92960785770369703},{"$f":"IF(HI_Hilfstabelle!$C18=HI_Hilfstabelle!$A18,IFERROR(NR_Berechnung!O18,1/0),\"\")","v":1.297411050708585},{"$f":"IF(HI_Hilfstabelle!$C18=HI_Hilfstabelle!$A18,IFERROR(NR_Berechnung!P18,1/0),\"\")","v":0.76649519056642179},{"$f":"IF(HI_Hilfstabelle!$C18=HI_Hilfstabelle!$A18,IFERROR(NR_Berechnung!Q18,1/0),\"\")","v":0.70646642117957126},{"$f":"IF(HI_Hilfstabelle!$C18=HI_Hilfstabelle!$A18,IFERROR(NR_Berechnung!R18,1/0),\"\")","v":0.9907372620840037},{"$f":"IF(HI_Hilfstabelle!$C18=HI_Hilfstabelle!$A18,IFERROR(NR_Berechnung!S18,1/0),\"\")","v":1.0399749199964707},{"$f":"IF(HI_Hilfstabelle!$C18=HI_Hilfstabelle!$A18,IFERROR(NR_Berechnung!T18,1/0),\"\")","v":1.0129044169923866},{"$f":"IF(HI_Hilfstabelle!$C18=HI_Hilfstabelle!$A18,IFERROR(NR_Berechnung!U18,1/0),\"\")","v":1.2136876847259594},{"$f":"IF(HI_Hilfstabelle!$C18=HI_Hilfstabelle!$A18,IFERROR(NR_Berechnung!V18,1/0),\"\")","v":0.82413326566828649},{"$f":"IF(HI_Hilfstabelle!$C18=HI_Hilfstabelle!$A18,IFERROR(NR_Berechnung!W18,1/0),\"\")","v":1.480595157003525},{"$f":"IF(HI_Hilfstabelle!$C18=HI_Hilfstabelle!$A18,IFERROR(NR_Berechnung!X18,1/0),\"\")","v":0.80292377737335596},1.052136640549141,1.0313236577203602,1.052136640549141,1.0313236577203602,{"$f":"IF(BL18=\"\",\"\",HI_Hilfstabelle!H18)","v":19317984},0.12102458301505464,0.12102458301505464,0.12733439819732023,0.12481551562916753,{"$f":"IF(BL18=\"\",\"\",HI_Hilfstabelle!J18)","v":70},4.9857549857549859E-2,4.9857549857549859E-2,5.2456955013133813E-2,5.1419270684063545E-2]
["Slowenien",null,{"$f":"IF(NR_Veränderung!C103=\"\",1/0,NR_Veränderung!C103)","v":1.0129151357985569},{"$f":"IF(NR_Veränderung!D103=\"\",1/0,NR_Veränderung!D103)","v":1.0274570617067302},{"$f":"IF(NR_Veränderung!E103=\"\",1/0,NR_Veränderung!E103)","v":0.94553372623959153},{"$f":"IF(NR_Veränderung!F103=\"\",1/0,NR_Veränderung!F103)","v":1.0155160387548066},{"$f":"IF(NR_Veränderung!G103=\"\",1/0,NR_Veränderung!G103)","v":1.0362387442852141},{"$f":"IF(NR_Veränderung!H103=\"\",1/0,NR_Veränderung!H103)","v":0.876457144165945},{"$f":"IF(NR_Veränderung!I103=\"\",1/0,NR_Veränderung!I103)","v":1.0126119179862563},{"$f":"IF(NR_Veränderung!J103=\"\",1/0,NR_Veränderung!J103)","v":1.0024498538570124},{"$f":"IF(NR_Veränderung!K103=\"\",1/0,NR_Veränderung!K103)","v":0.92984431614653473},{"$f":"IF(NR_Veränderung!L103=\"\",1/0,NR_Veränderung!L103)","v":0.99465838013859664},{"$f":"IF(NR_Veränderung!M103=\"\",1/0,NR_Veränderung!M103)","v":1.0791640441003612},{"$f":"IF(NR_Veränderung!N103=\"\",1/0,NR_Veränderung!N103)","v":0.99766712378265199},{"$f":"IF(NR_Veränderung!O103=\"\",1/0,NR_Veränderung!O103)","v":1.0648514467513113},{"$f":"IF(NR_Veränderung!P103=\"\",1/0,NR_Veränderung!P103)","v":0.95356347120763096},{"$f":"IF(NR_Veränderung!Q103=\"\",1/0,NR_Veränderung!Q103)","v":0.98642764747813838},{"$f":"IF(NR_Veränderung!R103=\"\",1/0,NR_Veränderung!R103)","v":1.0666222686383426},{"$f":"IF(NR_Veränderung!S103=\"\",1/0,NR_Veränderung!S103)","v":0.97711446338055241},{"$f":"IF(NR_Veränderung!T103=\"\",1/0,NR_Veränderung!T103)","v":0.93898741161956212},{"$f":"IF(NR_Veränderung!U103=\"\",1/0,NR_Veränderung!U103)","v":1.0216050024958947},{"$f":"IF(NR_Veränderung!V103=\"\",1/0,NR_Veränderung!V103)","v":0.96267538788234952},{"$f":"IF(NR_Veränderung!W103=\"\",1/0,NR_Veränderung!W103)","v":1.0066490286561476},{"$f":"IF(NR_Veränderung!X103=\"\",1/0,NR_Veränderung!X103)","v":0.94534697529710576},0.98842864828142218,0.98752869111179997,0.98842864828142218,0.98752869111179997,{"$f":"IF(AA19=\"\",\"\",HI_Hilfstabelle!H19)","v":2095861},1.3130288521955264E-2,1.3130288521955264E-2,1.2978353335301314E-2,1.2966536638006773E-2,{"$f":"IF(AA19=\"\",\"\",HI_Hilfstabelle!J19)","v":89},6.3390313390313396E-2,6.3390313390313396E-2,6.2656801778523202E-2,6.259975321150299E-2,null,{"$f":"IF(HI_Hilfstabelle!$C19=HI_Hilfstabelle!$A19,IFERROR(NR_Berechnung!C19,1/0),\"\")","v":1.0129151357985569},{"$f":"IF(HI_Hilfstabelle!$C19=HI_Hilfstabelle!$A19,IFERROR(NR_Berechnung!D19,1/0),\"\")","v":1.0274570617067302},{"$f":"IF(HI_Hilfstabelle!$C19=HI_Hilfstabelle!$A19,IFERROR(NR_Berechnung!E19,1/0),\"\")","v":0.94553372623959153},{"$f":"IF(HI_Hilfstabelle!$C19=HI_Hilfstabelle!$A19,IFERROR(NR_Berechnung!F19,1/0),\"\")","v":1.0155160387548066},{"$f":"IF(HI_Hilfstabelle!$C19=HI_Hilfstabelle!$A19,IFERROR(NR_Berechnung!G19,1/0),\"\")","v":1.0362387442852141},{"$f":"IF(HI_Hilfstabelle!$C19=HI_Hilfstabelle!$A19,IFERROR(NR_Berechnung!H19,1/0),\"\")","v":0.876457144165945},{"$f":"IF(HI_Hilfstabelle!$C19=HI_Hilfstabelle!$A19,IFERROR(NR_Berechnung!I19,1/0),\"\")","v":1.0126119179862563},{"$f":"IF(HI_Hilfstabelle!$C19=HI_Hilfstabelle!$A19,IFERROR(NR_Berechnung!J19,1/0),\"\")","v":1.0024498538570124},{"$f":"IF(HI_Hilfstabelle!$C19=HI_Hilfstabelle!$A19,IFERROR(NR_Berechnung!K19,1/0),\"\")","v":0.92984431614653473},{"$f":"IF(HI_Hilfstabelle!$C19=HI_Hilfstabelle!$A19,IFERROR(NR_Berechnung!L19,1/0),\"\")","v":0.99465838013859664},{"$f":"IF(HI_Hilfstabelle!$C19=HI_Hilfstabelle!$A19,IFERROR(NR_Berechnung!M19,1/0),\"\")","v":1.0791640441003612},{"$f":"IF(HI_Hilfstabelle!$C19=HI_Hilfstabelle!$A19,IFERROR(NR_Berechnung!N19,1/0),\"\")","v":0.99766712378265199},{"$f":"IF(HI_Hilfstabelle!$C19=HI_Hilfstabelle!$A19,IFERROR(NR_Berechnung!O19,1/0),\"\")","v":1.0648514467513113},{"$f":"IF(HI_Hilfstabelle!$C19=HI_Hilfstabelle!$A19,IFERROR(NR_Berechnung!P19,1/0),\"\")","v":0.95356347120763096},{"$f":"IF(HI_Hilfstabelle!$C19=HI_Hilfstabelle!$A19,IFERROR(NR_Berechnung!Q19,1/0),\"\")","v":0.98642764747813838},{"$f":"IF(HI_Hilfstabelle!$C19=HI_Hilfstabelle!$A19,IFERROR(NR_Berechnung!R19,1/0),\"\")","v":1.0666222686383426},{"$f":"IF(HI_Hilfstabelle!$C19=HI_Hilfstabelle!$A19,IFERROR(NR_Berechnung!S19,1/0),\"\")","v":0.97711446338055241},{"$f":"IF(HI_Hilfstabelle!$C19=HI_Hilfstabelle!$A19,IFERROR(NR_Berechnung!T19,1/0),\"\")","v":0.93898741161956212},{"$f":"IF(HI_Hilfstabelle!$C19=HI_Hilfstabelle!$A19,IFERROR(NR_Berechnung!U19,1/0),\"\")","v":1.0216050024958947},{"$f":"IF(HI_Hilfstabelle!$C19=HI_Hilfstabelle!$A19,IFERROR(NR_Berechnung!V19,1/0),\"\")","v":0.96267538788234952},{"$f":"IF(HI_Hilfstabelle!$C19=HI_Hilfstabelle!$A19,IFERROR(NR_Berechnung!W19,1/0),\"\")","v":1.0066490286561476},{"$f":"IF(HI_Hilfstabelle!$C19=HI_Hilfstabelle!$A19,IFERROR(NR_Berechnung!X19,1/0),\"\")","v":0.94534697529710576},0.98842864828142218,0.98752869111179997,0.98842864828142218,0.98752869111179997,{"$f":"IF(BL19=\"\",\"\",HI_Hilfstabelle!H19)","v":2095861},1.3130288521955264E-2,1.3130288521955264E-2,1.2978353335301314E-2,1.2966536638006773E-2,{"$f":"IF(BL19=\"\",\"\",HI_Hilfstabelle!J19)","v":89},6.3390313390313396E-2,6.3390313390313396E-2,6.2656801778523202E-2,6.259975321150299E-2]
["Slowakei",null,{"$f":"IF(NR_Veränderung!C104=\"\",1/0,NR_Veränderung!C104)","v":1.215475663752565},{"$f":"IF(NR_Veränderung!D104=\"\",1/0,NR_Veränderung!D104)","v":1.1769627700109748},{"$f":"IF(NR_Veränderung!E104=\"\",1/0,NR_Veränderung!E104)","v":1.0891579300543148},{"$f":"IF(NR_Veränderung!F104=\"\",1/0,NR_Veränderung!F104)","v":1.0869628407856484},{"$f":"IF(NR_Veränderung!G104=\"\",1/0,NR_Veränderung!G104)","v":0.77590123658980936},{"$f":"IF(NR_Veränderung!H104=\"\",1/0,NR_Veränderung!H104)","v":1.0035167830687011},{"$f":"IF(NR_Veränderung!I104=\"\",1/0,NR_Veränderung!I104)","v":0.9052482145157762},{"$f":"IF(NR_Veränderung!J104=\"\",1/0,NR_Veränderung!J104)","v":1.116832027290183},{"$f":"IF(NR_Veränderung!K104=\"\",1/0,NR_Veränderung!K104)","v":0.84987441412298226},{"$f":"IF(NR_Veränderung!L104=\"\",1/0,NR_Veränderung!L104)","v":1.469064651083501},{"$f":"IF(NR_Veränderung!M104=\"\",1/0,NR_Veränderung!M104)","v":0.99934375297166211},{"$f":"IF(NR_Veränderung!N104=\"\",1/0,NR_Veränderung!N104)","v":1.0225752305482474},{"$f":"IF(NR_Veränderung!O104=\"\",1/0,NR_Veränderung!O104)","v":0.8569518842609114},{"$f":"IF(NR_Veränderung!P104=\"\",1/0,NR_Veränderung!P104)","v":0.88772193178074166},{"$f":"IF(NR_Veränderung!Q104=\"\",1/0,NR_Veränderung!Q104)","v":0.94364074148968635},{"$f":"IF(NR_Veränderung!R104=\"\",1/0,NR_Veränderung!R104)","v":0.99939186729951857},{"$f":"IF(NR_Veränderung!S104=\"\",1/0,NR_Veränderung!S104)","v":1.0541882721077538},{"$f":"IF(NR_Veränderung!T104=\"\",1/0,NR_Veränderung!T104)","v":0.96557797244521604},{"$f":"IF(NR_Veränderung!U104=\"\",1/0,NR_Veränderung!U104)","v":1.0460497306631513},{"$f":"IF(NR_Veränderung!V104=\"\",1/0,NR_Veränderung!V104)","v":1.0298091262873739},{"$f":"IF(NR_Veränderung!W104=\"\",1/0,NR_Veränderung!W104)","v":1.0557574649727028},{"$f":"IF(NR_Veränderung!X104=\"\",1/0,NR_Veränderung!X104)","v":1.0621190711625452},1.0304133578483232,1.0298737012173367,1.0304133578483232,1.0298737012173367,{"$f":"IF(AA20=\"\",\"\",HI_Hilfstabelle!H20)","v":5457873},3.4192843516907628E-2,3.4192843516907628E-2,3.5232762702639059E-2,3.5214310307902875E-2,{"$f":"IF(AA20=\"\",\"\",HI_Hilfstabelle!J20)","v":70},4.9857549857549859E-2,4.9857549857549859E-2,5.1373885362808139E-2,5.1346979405422773E-2,null,{"$f":"IF(HI_Hilfstabelle!$C20=HI_Hilfstabelle!$A20,IFERROR(NR_Berechnung!C20,1/0),\"\")","v":1.215475663752565},{"$f":"IF(HI_Hilfstabelle!$C20=HI_Hilfstabelle!$A20,IFERROR(NR_Berechnung!D20,1/0),\"\")","v":1.1769627700109748},{"$f":"IF(HI_Hilfstabelle!$C20=HI_Hilfstabelle!$A20,IFERROR(NR_Berechnung!E20,1/0),\"\")","v":1.0891579300543148},{"$f":"IF(HI_Hilfstabelle!$C20=HI_Hilfstabelle!$A20,IFERROR(NR_Berechnung!F20,1/0),\"\")","v":1.0869628407856484},{"$f":"IF(HI_Hilfstabelle!$C20=HI_Hilfstabelle!$A20,IFERROR(NR_Berechnung!G20,1/0),\"\")","v":0.77590123658980936},{"$f":"IF(HI_Hilfstabelle!$C20=HI_Hilfstabelle!$A20,IFERROR(NR_Berechnung!H20,1/0),\"\")","v":1.0035167830687011},{"$f":"IF(HI_Hilfstabelle!$C20=HI_Hilfstabelle!$A20,IFERROR(NR_Berechnung!I20,1/0),\"\")","v":0.9052482145157762},{"$f":"IF(HI_Hilfstabelle!$C20=HI_Hilfstabelle!$A20,IFERROR(NR_Berechnung!J20,1/0),\"\")","v":1.116832027290183},{"$f":"IF(HI_Hilfstabelle!$C20=HI_Hilfstabelle!$A20,IFERROR(NR_Berechnung!K20,1/0),\"\")","v":0.84987441412298226},{"$f":"IF(HI_Hilfstabelle!$C20=HI_Hilfstabelle!$A20,IFERROR(NR_Berechnung!L20,1/0),\"\")","v":1.469064651083501},{"$f":"IF(HI_Hilfstabelle!$C20=HI_Hilfstabelle!$A20,IFERROR(NR_Berechnung!M20,1/0),\"\")","v":0.99934375297166211},{"$f":"IF(HI_Hilfstabelle!$C20=HI_Hilfstabelle!$A20,IFERROR(NR_Berechnung!N20,1/0),\"\")","v":1.0225752305482474},{"$f":"IF(HI_Hilfstabelle!$C20=HI_Hilfstabelle!$A20,IFERROR(NR_Berechnung!O20,1/0),\"\")","v":0.8569518842609114},{"$f":"IF(HI_Hilfstabelle!$C20=HI_Hilfstabelle!$A20,IFERROR(NR_Berechnung!P20,1/0),\"\")","v":0.88772193178074166},{"$f":"IF(HI_Hilfstabelle!$C20=HI_Hilfstabelle!$A20,IFERROR(NR_Berechnung!Q20,1/0),\"\")","v":0.94364074148968635},{"$f":"IF(HI_Hilfstabelle!$C20=HI_Hilfstabelle!$A20,IFERROR(NR_Berechnung!R20,1/0),\"\")","v":0.99939186729951857},{"$f":"IF(HI_Hilfstabelle!$C20=HI_Hilfstabelle!$A20,IFERROR(NR_Berechnung!S20,1/0),\"\")","v":1.0541882721077538},{"$f":"IF(HI_Hilfstabelle!$C20=HI_Hilfstabelle!$A20,IFERROR(NR_Berechnung!T20,1/0),\"\")","v":0.96557797244521604},{"$f":"IF(HI_Hilfstabelle!$C20=HI_Hilfstabelle!$A20,IFERROR(NR_Berechnung!U20,1/0),\"\")","v":1.0460497306631513},{"$f":"IF(HI_Hilfstabelle!$C20=HI_Hilfstabelle!$A20,IFERROR(NR_Berechnung!V20,1/0),\"\")","v":1.0298091262873739},{"$f":"IF(HI_Hilfstabelle!$C20=HI_Hilfstabelle!$A20,IFERROR(NR_Berechnung!W20,1/0),\"\")","v":1.0557574649727028},{"$f":"IF(HI_Hilfstabelle!$C20=HI_Hilfstabelle!$A20,IFERROR(NR_Berechnung!X20,1/0),\"\")","v":1.0621190711625452},1.0304133578483232,1.0298737012173367,1.0304133578483232,1.0298737012173367,{"$f":"IF(BL20=\"\",\"\",HI_Hilfstabelle!H20)","v":5457873},3.4192843516907628E-2,3.4192843516907628E-2,3.5232762702639059E-2,3.5214310307902875E-2,{"$f":"IF(BL20=\"\",\"\",HI_Hilfstabelle!J20)","v":70},4.9857549857549859E-2,4.9857549857549859E-2,5.1373885362808139E-2,5.1346979405422773E-2]
["Großbritannien",null,{"$f":"IF(NR_Veränderung!C105=\"\",1/0,NR_Veränderung!C105)","v":{"$error":"#DIV/0!"}},{"$f":"IF(NR_Veränderung!D105=\"\",1/0,NR_Veränderung!D105)","v":{"$error":"#DIV/0!"}},{"$f":"IF(NR_Veränderung!E105=\"\",1/0,NR_Veränderung!E105)","v":{"$error":"#DIV/0!"}},{"$f":"IF(NR_Veränderung!F105=\"\",1/0,NR_Veränderung!F105)","v":{"$error":"#DIV/0!"}},{"$f":"IF(NR_Veränderung!G105=\"\",1/0,NR_Veränderung!G105)","v":{"$error":"#DIV/0!"}},{"$f":"IF(NR_Veränderung!H105=\"\",1/0,NR_Veränderung!H105)","v":{"$error":"#DIV/0!"}},{"$f":"IF(NR_Veränderung!I105=\"\",1/0,NR_Veränderung!I105)","v":{"$error":"#DIV/0!"}},{"$f":"IF(NR_Veränderung!J105=\"\",1/0,NR_Veränderung!J105)","v":{"$error":"#DIV/0!"}},{"$f":"IF(NR_Veränderung!K105=\"\",1/0,NR_Veränderung!K105)","v":{"$error":"#DIV/0!"}},{"$f":"IF(NR_Veränderung!L105=\"\",1/0,NR_Veränderung!L105)","v":{"$error":"#DIV/0!"}},{"$f":"IF(NR_Veränderung!M105=\"\",1/0,NR_Veränderung!M105)","v":{"$error":"#DIV/0!"}},{"$f":"IF(NR_Veränderung!N105=\"\",1/0,NR_Veränderung!N105)","v":{"$error":"#DIV/0!"}},{"$f":"IF(NR_Veränderung!O105=\"\",1/0,NR_Veränderung!O105)","v":{"$error":"#DIV/0!"}},{"$f":"IF(NR_Veränderung!P105=\"\",1/0,NR_Veränderung!P105)","v":{"$error":"#DIV/0!"}},{"$f":"IF(NR_Veränderung!Q105=\"\",1/0,NR_Veränderung!Q105)","v":{"$error":"#DIV/0!"}},{"$f":"IF(NR_Veränderung!R105=\"\",1/0,NR_Veränderung!R105)","v":{"$error":"#DIV/0!"}},{"$f":"IF(NR_Veränderung!S105=\"\",1/0,NR_Veränderung!S105)","v":{"$error":"#DIV/0!"}},{"$f":"IF(NR_Veränderung!T105=\"\",1/0,NR_Veränderung!T105)","v":{"$error":"#DIV/0!"}},{"$f":"IF(NR_Veränderung!U105=\"\",1/0,NR_Veränderung!U105)","v":{"$error":"#DIV/0!"}},{"$f":"IF(NR_Veränderung!V105=\"\",1/0,NR_Veränderung!V105)","v":{"$error":"#DIV/0!"}},{"$f":"IF(NR_Veränderung!W105=\"\",1/0,NR_Veränderung!W105)","v":{"$error":"#DIV/0!"}},{"$f":"IF(NR_Veränderung!X105=\"\",1/0,NR_Veränderung!X105)","v":{"$error":"#DIV/0!"}},{"$error":"#DIV/0!"},{"$error":"#DIV/0!"},"","",{"$f":"IF(AA21=\"\",\"\",HI_Hilfstabelle!H21)","v":""},"","","","",{"$f":"IF(AA21=\"\",\"\",HI_Hilfstabelle!J21)","v":""},"","","","",null,{"$f":"IF(HI_Hilfstabelle!$C21=HI_Hilfstabelle!$A21,IFERROR(NR_Berechnung!C21,1/0),\"\")","v":""},{"$f":"IF(HI_Hilfstabelle!$C21=HI_Hilfstabelle!$A21,IFERROR(NR_Berechnung!D21,1/0),\"\")","v":""},{"$f":"IF(HI_Hilfstabelle!$C21=HI_Hilfstabelle!$A21,IFERROR(NR_Berechnung!E21,1/0),\"\")","v":""},{"$f":"IF(HI_Hilfstabelle!$C21=HI_Hilfstabelle!$A21,IFERROR(NR_Berechnung!F21,1/0),\"\")","v":""},{"$f":"IF(HI_Hilfstabelle!$C21=HI_Hilfstabelle!$A21,IFERROR(NR_Berechnung!G21,1/0),\"\")","v":""},{"$f":"IF(HI_Hilfstabelle!$C21=HI_Hilfstabelle!$A21,IFERROR(NR_Berechnung!H21,1/0),\"\")","v":""},{"$f":"IF(HI_Hilfstabelle!$C21=HI_Hilfstabelle!$A21,IFERROR(NR_Berechnung!I21,1/0),\"\")","v":""},{"$f":"IF(HI_Hilfstabelle!$C21=HI_Hilfstabelle!$A21,IFERROR(NR_Berechnung!J21,1/0),\"\")","v":""},{"$f":"IF(HI_Hilfstabelle!$C21=HI_Hilfstabelle!$A21,IFERROR(NR_Berechnung!K21,1/0),\"\")","v":""},{"$f":"IF(HI_Hilfstabelle!$C21=HI_Hilfstabelle!$A21,IFERROR(NR_Berechnung!L21,1/0),\"\")","v":""},{"$f":"IF(HI_Hilfstabelle!$C21=HI_Hilfstabelle!$A21,IFERROR(NR_Berechnung!M21,1/0),\"\")","v":""},{"$f":"IF(HI_Hilfstabelle!$C21=HI_Hilfstabelle!$A21,IFERROR(NR_Berechnung!N21,1/0),\"\")","v":""},{"$f":"IF(HI_Hilfstabelle!$C21=HI_Hilfstabelle!$A21,IFERROR(NR_Berechnung!O21,1/0),\"\")","v":""},{"$f":"IF(HI_Hilfstabelle!$C21=HI_Hilfstabelle!$A21,IFERROR(NR_Berechnung!P21,1/0),\"\")","v":""},{"$f":"IF(HI_Hilfstabelle!$C21=HI_Hilfstabelle!$A21,IFERROR(NR_Berechnung!Q21,1/0),\"\")","v":""},{"$f":"IF(HI_Hilfstabelle!$C21=HI_Hilfstabelle!$A21,IFERROR(NR_Berechnung!R21,1/0),\"\")","v":""},{"$f":"IF(HI_Hilfstabelle!$C21=HI_Hilfstabelle!$A21,IFERROR(NR_Berechnung!S21,1/0),\"\")","v":""},{"$f":"IF(HI_Hilfstabelle!$C21=HI_Hilfstabelle!$A21,IFERROR(NR_Berechnung!T21,1/0),\"\")","v":""},{"$f":"IF(HI_Hilfstabelle!$C21=HI_Hilfstabelle!$A21,IFERROR(NR_Berechnung!U21,1/0),\"\")","v":""},{"$f":"IF(HI_Hilfstabelle!$C21=HI_Hilfstabelle!$A21,IFERROR(NR_Berechnung!V21,1/0),\"\")","v":""},{"$f":"IF(HI_Hilfstabelle!$C21=HI_Hilfstabelle!$A21,IFERROR(NR_Berechnung!W21,1/0),\"\")","v":""},{"$f":"IF(HI_Hilfstabelle!$C21=HI_Hilfstabelle!$A21,IFERROR(NR_Berechnung!X21,1/0),\"\")","v":""},{"$error":"#DIV/0!"},{"$error":"#NUM!"},"","",{"$f":"IF(BL21=\"\",\"\",HI_Hilfstabelle!H21)","v":""},"","","","",{"$f":"IF(BL21=\"\",\"\",HI_Hilfstabelle!J21)","v":""},"","","",""]
[]
[null,null,null,null,null,null,null,null,null,null,null,null,null,null,null,null,null,null,null,null,null,null,null,null,null,null,null,"Summe",{"$f":"SUM(AC4:AC21)","v":159620331},{"$f":"SUM(AD4:AD21)","v":1},null,null,null,{"$f":"SUM(AH4:AH21)","v":1404},{"$f":"SUM(AI4:AI21)","v":1},null,null,null,null,null,null,null,null,null,null,null,null,null,null,null,null,null,null,null,null,null,null,null,null,null,null,null,null,null,"Summe",{"$f":"SUM(BN4:BN21)","v":159620331},null,null,null,null,{"$f":"SUM(BS4:BS21)","v":1404}]
[null,null,null,null,null,null,null,null,null,null,null,null,null,null,null,null,null,null,null,null,null,null,null,null,null,null,"Arithmet. Mittel","Geomittel",null,null,null,"Arithmet. Mittel","Geomittel",null,null,null,"Arithmet. Mittel","Geomittel",null,null,null,null,null,null,null,null,null,null,null,null,null,null,null,null,null,null,null,null,null,null,null,null,null,"Arithmet. Mittel","Geomittel",null,null,null,"Arithmet. Mittel","Geomittel",null,null,null,"Arithmet. Mittel","Geomittel"]
[null,null,null,null,null,null,null,null,null,null,null,null,null,null,null,null,null,null,null,null,null,null,null,null,null,"Mittelwert",{"$f":"AVERAGE(AA4:AA21)","v":0.98305186147521406},{"$f":"AVERAGE(AB4:AB21)","v":0.97869095194807765},null,null,null,{"$f":"IF(AND(AF4=\"\",AF5=\"\",AF6=\"\",AF7=\"\",AF8=\"\",AF9=\"\",AF10=\"\",AF11=\"\",AF12=\"\",AF13=\"\",AF14=\"\",AF15=\"\",AF16=\"\",AF17=\"\",AF18=\"\",AF19=\"\",AF20=\"\",AF21=\"\"),1/0,SUM(AF4:AF21))","v":0.99189392090826423},{"$f":"IF(AND(AG4=\"\",AG5=\"\",AG6=\"\",AG7=\"\",AG8=\"\",AG9=\"\",AG10=\"\",AG11=\"\",AG12=\"\",AG13=\"\",AG14=\"\",AG15=\"\",AG16=\"\",AG17=\"\",AG18=\"\",AG19=\"\",AG20=\"\",AG21=\"\"),1/0,SUM(AG4:AG21))","v":0.98780966241054668},null,null,null,{"$f":"IF(AND(AK4=\"\",AK5=\"\",AK6=\"\",AK7=\"\",AK8=\"\",AK9=\"\",AK10=\"\",AK11=\"\",AK12=\"\",AK13=\"\",AK14=\"\",AK15=\"\",AK16=\"\",AK17=\"\",AK18=\"\",AK19=\"\",AK20=\"\",AK21=\"\"),1/0,SUM(AK4:AK21))","v":0.9794160524283968},{"$f":"IF(AND(AL4=\"\",AL5=\"\",AL6=\"\",AL7=\"\",AL8=\"\",AL9=\"\",AL10=\"\",AL11=\"\",AL12=\"\",AL13=\"\",AL14=\"\",AL15=\"\",AL16=\"\",AL17=\"\",AL18=\"\",AL19=\"\",AL20=\"\",AL21=\"\"),1/0,SUM(AL4:AL21))","v":0.97565570864811935},null,null,null,null,null,null,null,null,null,null,null,null,null,null,null,null,null,null,null,null,null,null,null,null,null,{"$f":"AVERAGE(BL4:BL21)","v":0.98305186147521406},{"$f":"AVERAGE(BM4:BM21)","v":0.97869095194807765},null,null,null,{"$f":"IF(AND(BQ4=\"\",BQ5=\"\",BQ6=\"\",BQ7=\"\",BQ8=\"\",BQ9=\"\",BQ10=\"\",BQ11=\"\",BQ12=\"\",BQ13=\"\",BQ14=\"\",BQ15=\"\",BQ16=\"\",BQ17=\"\",BQ18=\"\",BQ19=\"\",BQ20=\"\",BQ21=\"\"),1/0,SUM(BQ4:BQ21))","v":0.99189392090826423},{"$f":"IF(AND(BR4=\"\",BR5=\"\",BR6=\"\",BR7=\"\",BR8=\"\",BR9=\"\",BR10=\"\",BR11=\"\",BR12=\"\",BR13=\"\",BR14=\"\",BR15=\"\",BR16=\"\",BR17=\"\",BR18=\"\",BR19=\"\",BR20=\"\",BR21=\"\"),1/0,SUM(BR4:BR21))","v":0.98780966241054668},null,null,null,{"$f":"IF(AND(BV4=\"\",BV5=\"\",BV6=\"\",BV7=\"\",BV8=\"\",BV9=\"\",BV10=\"\",BV11=\"\",BV12=\"\",BV13=\"\",BV14=\"\",BV15=\"\",BV16=\"\",BV17=\"\",BV18=\"\",BV19=\"\",BV20=\"\",BV21=\"\"),1/0,SUM(BV4:BV21))","v":0.9794160524283968},{"$f":"IF(AND(BW4=\"\",BW5=\"\",BW6=\"\",BW7=\"\",BW8=\"\",BW9=\"\",BW10=\"\",BW11=\"\",BW12=\"\",BW13=\"\",BW14=\"\",BW15=\"\",BW16=\"\",BW17=\"\",BW18=\"\",BW19=\"\",BW20=\"\",BW21=\"\"),1/0,SUM(BW4:BW21))","v":0.97565570864811935}]
[null,null,null,null,null,null,null,null,null,null,null,null,null,null,null,null,null,null,null,null,null,null,null,null,null,null,{"$f":"AA25-1","v":-1.6948138524785938E-2},{"$f":"AB25-1","v":-2.1309048051922352E-2},null,null,null,{"$f":"AF25-1","v":-8.1060790917357739E-3},-1.2190337589453315E-2,null,null,null,{"$f":"AK25-1","v":-2.0583947571603201E-2},{"$f":"AL25-1","v":-2.4344291351880654E-2},null,null,null,null,null,null,null,null,null,null,null,null,null,null,null,null,null,null,null,null,null,null,null,null,null,{"$f":"BL25-1","v":-1.6948138524785938E-2},{"$f":"BM25-1","v":-2.1309048051922352E-2},null,null,null,{"$f":"BQ25-1","v":-8.1060790917357739E-3},{"$f":"BR25-1","v":-1.2190337589453315E-2},null,null,null,{"$f":"BV25-1","v":-2.0583947571603201E-2},{"$f":"BW25-1","v":-2.4344291351880654E-2}]
[null,null,null,null,null,null,null,null,null,null,null,null,null,null,null,null,null,null,null,null,null,null,null,null,null,"Anzahl Länder",{"$f":"COUNT(AA4:AA21)","v":14},null,null,null,null,null,null,null,null,null,null,null,null,null,null,null,null,null,null,null,null,null,null,null,null,null,null,null,null,null,null,null,null,null,null,null,null,{"$f":"COUNT(BL4:BL21)","v":14}]
[]
[]
[]
[null,null,"Produktionswert pro Erwerbstätige  - Alle Länder",null,null,null,null,null,null,null,null,null,null,null,null,null,null,null,null,null,null,null,null,null,null,null,"Gleichgewichtet",null,"Nach Einwohnerzahl",null,null,"Gewichtete Verändrungsrate",null,"Nach BIP/Kopf",null,null,"Gewichtete Verändrungsrate",null,null,"Produktionswert pro Erwerbstätige  - Länderauswahl",null,null,null,null,null,null,null,null,null,null,null,null,null,null,null,null,null,null,null,null,null,null,null,"Gleichgewichtet",null,"Nach Einwohnerzahl",null,null,"Gewichtete Verändrungsrate",null,"Nach BIP/Kopf",null,null,"Gewichtete Verändrungsrate"]
[null,null,1996,{"$f":"C32+1","v":1997},{"$f":"D32+1","v":1998},{"$f":"E32+1","v":1999},{"$f":"F32+1","v":2000},{"$f":"G32+1","v":2001},{"$f":"H32+1","v":2002},{"$f":"I32+1","v":2003},{"$f":"J32+1","v":2004},{"$f":"K32+1","v":2005},{"$f":"L32+1","v":2006},{"$f":"M32+1","v":2007},{"$f":"N32+1","v":2008},{"$f":"O32+1","v":2009},{"$f":"P32+1","v":2010},{"$f":"Q32+1","v":2011},{"$f":"R32+1","v":2012},{"$f":"S32+1","v":2013},{"$f":"T32+1","v":2014},{"$f":"U32+1","v":2015},{"$f":"V32+1","v":2016},{"$f":"W32+1","v":2017},"Arithmet. Mittel","Geomittel","Arithmet. Mittel","Geomittel","Absolut","Anteil AM","Anteil GM","Arithmet. Mittel","Geomittel","Absolut","Anteil AM","Anteil GM","Arithmet. Mittel","Geomittel",null,1996,{"$f":"AN32+1","v":1997},{"$f":"AO32+1","v":1998},{"$f":"AP32+1","v":1999},{"$f":"AQ32+1","v":2000},{"$f":"AR32+1","v":2001},{"$f":"AS32+1","v":2002},{"$f":"AT32+1","v":2003},{"$f":"AU32+1","v":2004},{"$f":"AV32+1","v":2005},{"$f":"AW32+1","v":2006},{"$f":"AX32+1","v":2007},{"$f":"AY32+1","v":2008},{"$f":"AZ32+1","v":2009},{"$f":"BA32+1","v":2010},{"$f":"BB32+1","v":2011},{"$f":"BC32+1","v":2012},{"$f":"BD32+1","v":2013},{"$f":"BE32+1","v":2014},{"$f":"BF32+1","v":2015},{"$f":"BG32+1","v":2016},{"$f":"BH32+1","v":2017},"Arithmet. Mittel","Geomittel","Arithmet. Mittel","Geomittel","Absolut","Anteil AM","Anteil GM","Arithmet. Mittel","Geomittel","Absolut","Anteil AM","Anteil GM","Arithmet. Mittel","Geomittel"]
["Österreich",null,{"$f":"IF(NR_Veränderung!C46=\"\",1/0,NR_Veränderung!C46)","v":1.2273669909685243},{"$f":"IF(NR_Veränderung!D46=\"\",1/0,NR_Veränderung!D46)","v":1.0894817194200579},{"$f":"IF(NR_Veränderung!E46=\"\",1/0,NR_Veränderung!E46)","v":1.1412388270600229},{"$f":"IF(NR_Veränderung!F46=\"\",1/0,NR_Veränderung!F46)","v":1.1010456130322952},{"$f":"IF(NR_Veränderung!G46=\"\",1/0,NR_Veränderung!G46)","v":1.1378679676857926},{"$f":"IF(NR_Veränderung!H46=\"\",1/0,NR_Veränderung!H46)","v":0.99625761315315242},{"$f":"IF(NR_Veränderung!I46=\"\",1/0,NR_Veränderung!I46)","v":1.0248556163321234},{"$f":"IF(NR_Veränderung!J46=\"\",1/0,NR_Veränderung!J46)","v":1.1043575190612243},{"$f":"IF(NR_Veränderung!K46=\"\",1/0,NR_Veränderung!K46)","v":1.0432525681482185},{"$f":"IF(NR_Veränderung!L46=\"\",1/0,NR_Veränderung!L46)","v":1.2675056363513431},{"$f":"IF(NR_Veränderung!M46=\"\",1/0,NR_Veränderung!M46)","v":1.1131361508863473},{"$f":"IF(NR_Veränderung!N46=\"\",1/0,NR_Veränderung!N46)","v":1.0616928223633717},{"$f":"IF(NR_Veränderung!O46=\"\",1/0,NR_Veränderung!O46)","v":1.0288281269903892},{"$f":"IF(NR_Veränderung!P46=\"\",1/0,NR_Veränderung!P46)","v":1.0250625382063578},{"$f":"IF(NR_Veränderung!Q46=\"\",1/0,NR_Veränderung!Q46)","v":1.062399350335651},{"$f":"IF(NR_Veränderung!R46=\"\",1/0,NR_Veränderung!R46)","v":0.99324406946374277},{"$f":"IF(NR_Veränderung!S46=\"\",1/0,NR_Veränderung!S46)","v":1.0088600333891287},{"$f":"IF(NR_Veränderung!T46=\"\",1/0,NR_Veränderung!T46)","v":1.0287670823691473},{"$f":"IF(NR_Veränderung!U46=\"\",1/0,NR_Veränderung!U46)","v":1.0262624734583676},{"$f":"IF(NR_Veränderung!V46=\"\",1/0,NR_Veränderung!V46)","v":0.98551247638082984},{"$f":"IF(NR_Veränderung!W46=\"\",1/0,NR_Veränderung!W46)","v":1.0572966660989782},{"$f":"IF(NR_Veränderung!X46=\"\",1/0,NR_Veränderung!X46)","v":1.0216624519424991},{"$f":"TRANSPOSE(NR_Mittelwertbildung!AN30:BE31)","v":1.0173721790146704},1.0171278523941543,{"$f":"IF(ISERROR(Y33),\"\",Y33)","v":1.0173721790146704},{"$f":"IF(ISERROR(Z33),\"\",Z33)","v":1.0171278523941543},{"$f":"IF(AA33=\"\",\"\",HI_Hilfstabelle!H4)","v":8901064},{"$f":"IFERROR(AC33/AC$52,\"\")","v":9.9478940188205967E-2},{"$f":"IFERROR(AC33/AC$52,\"\")","v":9.9478940188205967E-2},{"$f":"IFERROR(AD33*AA33,\"\")","v":0.10120710614534517},{"$f":"IFERROR(AE33*AB33,\"\")","v":0.10118280079207646},{"$f":"IF(AA33=\"\",\"\",HI_Hilfstabelle!J4)","v":126},{"$f":"IFERROR(AH33/AH$52,\"\")","v":0.14285714285714285},{"$f":"IFERROR(AH33/AH$52,\"\")","v":0.14285714285714285},{"$f":"IFERROR(AI33*Y33,\"\")","v":0.14533888271638148},{"$f":"IFERROR(AJ33*Z33,\"\")","v":0.14530397891345059},null,{"$f":"IF(HI_Hilfstabelle!$C4=HI_Hilfstabelle!$A4,IFERROR(NR_Berechnung!C33,1/0),\"\")","v":1.2273669909685243},{"$f":"IF(HI_Hilfstabelle!$C4=HI_Hilfstabelle!$A4,IFERROR(NR_Berechnung!D33,1/0),\"\")","v":1.0894817194200579},{"$f":"IF(HI_Hilfstabelle!$C4=HI_Hilfstabelle!$A4,IFERROR(NR_Berechnung!E33,1/0),\"\")","v":1.1412388270600229},{"$f":"IF(HI_Hilfstabelle!$C4=HI_Hilfstabelle!$A4,IFERROR(NR_Berechnung!F33,1/0),\"\")","v":1.1010456130322952},{"$f":"IF(HI_Hilfstabelle!$C4=HI_Hilfstabelle!$A4,IFERROR(NR_Berechnung!G33,1/0),\"\")","v":1.1378679676857926},{"$f":"IF(HI_Hilfstabelle!$C4=HI_Hilfstabelle!$A4,IFERROR(NR_Berechnung!H33,1/0),\"\")","v":0.99625761315315242},{"$f":"IF(HI_Hilfstabelle!$C4=HI_Hilfstabelle!$A4,IFERROR(NR_Berechnung!I33,1/0),\"\")","v":1.0248556163321234},{"$f":"IF(HI_Hilfstabelle!$C4=HI_Hilfstabelle!$A4,IFERROR(NR_Berechnung!J33,1/0),\"\")","v":1.1043575190612243},{"$f":"IF(HI_Hilfstabelle!$C4=HI_Hilfstabelle!$A4,IFERROR(NR_Berechnung!K33,1/0),\"\")","v":1.0432525681482185},{"$f":"IF(HI_Hilfstabelle!$C4=HI_Hilfstabelle!$A4,IFERROR(NR_Berechnung!L33,1/0),\"\")","v":1.2675056363513431},{"$f":"IF(HI_Hilfstabelle!$C4=HI_Hilfstabelle!$A4,IFERROR(NR_Berechnung!M33,1/0),\"\")","v":1.1131361508863473},{"$f":"IF(HI_Hilfstabelle!$C4=HI_Hilfstabelle!$A4,IFERROR(NR_Berechnung!N33,1/0),\"\")","v":1.0616928223633717},{"$f":"IF(HI_Hilfstabelle!$C4=HI_Hilfstabelle!$A4,IFERROR(NR_Berechnung!O33,1/0),\"\")","v":1.0288281269903892},{"$f":"IF(HI_Hilfstabelle!$C4=HI_Hilfstabelle!$A4,IFERROR(NR_Berechnung!P33,1/0),\"\")","v":1.0250625382063578},{"$f":"IF(HI_Hilfstabelle!$C4=HI_Hilfstabelle!$A4,IFERROR(NR_Berechnung!Q33,1/0),\"\")","v":1.062399350335651},{"$f":"IF(HI_Hilfstabelle!$C4=HI_Hilfstabelle!$A4,IFERROR(NR_Berechnung!R33,1/0),\"\")","v":0.99324406946374277},{"$f":"IF(HI_Hilfstabelle!$C4=HI_Hilfstabelle!$A4,IFERROR(NR_Berechnung!S33,1/0),\"\")","v":1.0088600333891287},{"$f":"IF(HI_Hilfstabelle!$C4=HI_Hilfstabelle!$A4,IFERROR(NR_Berechnung!T33,1/0),\"\")","v":1.0287670823691473},{"$f":"IF(HI_Hilfstabelle!$C4=HI_Hilfstabelle!$A4,IFERROR(NR_Berechnung!U33,1/0),\"\")","v":1.0262624734583676},{"$f":"IF(HI_Hilfstabelle!$C4=HI_Hilfstabelle!$A4,IFERROR(NR_Berechnung!V33,1/0),\"\")","v":0.98551247638082984},{"$f":"IF(HI_Hilfstabelle!$C4=HI_Hilfstabelle!$A4,IFERROR(NR_Berechnung!W33,1/0),\"\")","v":1.0572966660989782},{"$f":"IF(HI_Hilfstabelle!$C4=HI_Hilfstabelle!$A4,IFERROR(NR_Berechnung!X33,1/0),\"\")","v":1.0216624519424991},{"$f":"TRANSPOSE(NR_Mittelwertbildung!BG30:BX31)","v":1.0173721790146704},1.0171278523941543,{"$f":"IF(ISERROR(BJ33),\"\",BJ33)","v":1.0173721790146704},{"$f":"IF(ISERROR(BK33),\"\",BK33)","v":1.0171278523941543},{"$f":"IF(BL33=\"\",\"\",HI_Hilfstabelle!H4)","v":8901064},{"$f":"IFERROR(BN33/BN$52,\"\")","v":9.9478940188205967E-2},{"$f":"IFERROR(BN33/BN$52,\"\")","v":9.9478940188205967E-2},{"$f":"IFERROR(BO33*BL33,\"\")","v":0.10120710614534517},{"$f":"IFERROR(BP33*BM33,\"\")","v":0.10118280079207646},{"$f":"IF(BL33=\"\",\"\",HI_Hilfstabelle!J4)","v":126},{"$f":"IFERROR(BS33/BS$52,\"\")","v":0.14285714285714285},{"$f":"IFERROR(BS33/BS$52,\"\")","v":0.14285714285714285},{"$f":"IFERROR(BT33*BJ33,\"\")","v":0.14533888271638148},{"$f":"IFERROR(BU33*BK33,\"\")","v":0.14530397891345059}]
["Belgien",null,{"$f":"IF(NR_Veränderung!C47=\"\",1/0,NR_Veränderung!C47)","v":1.0012419824268455},{"$f":"IF(NR_Veränderung!D47=\"\",1/0,NR_Veränderung!D47)","v":1.1054409150626159},{"$f":"IF(NR_Veränderung!E47=\"\",1/0,NR_Veränderung!E47)","v":1.1383369551671734},{"$f":"IF(NR_Veränderung!F47=\"\",1/0,NR_Veränderung!F47)","v":0.99573403707496444},{"$f":"IF(NR_Veränderung!G47=\"\",1/0,NR_Veränderung!G47)","v":1.0261489118350553},{"$f":"IF(NR_Veränderung!H47=\"\",1/0,NR_Veränderung!H47)","v":0.92896259133076187},{"$f":"IF(NR_Veränderung!I47=\"\",1/0,NR_Veränderung!I47)","v":0.99592293339118332},{"$f":"IF(NR_Veränderung!J47=\"\",1/0,NR_Veränderung!J47)","v":1.0121071638012287},{"$f":"IF(NR_Veränderung!K47=\"\",1/0,NR_Veränderung!K47)","v":1.0501926632765437},{"$f":"IF(NR_Veränderung!L47=\"\",1/0,NR_Veränderung!L47)","v":1.0331645896511614},{"$f":"IF(NR_Veränderung!M47=\"\",1/0,NR_Veränderung!M47)","v":1.0535826130526491},{"$f":"IF(NR_Veränderung!N47=\"\",1/0,NR_Veränderung!N47)","v":1.081406236954261},{"$f":"IF(NR_Veränderung!O47=\"\",1/0,NR_Veränderung!O47)","v":1.0390253405623644},{"$f":"IF(NR_Veränderung!P47=\"\",1/0,NR_Veränderung!P47)","v":0.98842039989699138},{"$f":"IF(NR_Veränderung!Q47=\"\",1/0,NR_Veränderung!Q47)","v":1.0398362074861878},{"$f":"IF(NR_Veränderung!R47=\"\",1/0,NR_Veränderung!R47)","v":1.0481638170079004},{"$f":"IF(NR_Veränderung!S47=\"\",1/0,NR_Veränderung!S47)","v":1.0375492145607952},{"$f":"IF(NR_Veränderung!T47=\"\",1/0,NR_Veränderung!T47)","v":0.98422156200327415},{"$f":"IF(NR_Veränderung!U47=\"\",1/0,NR_Veränderung!U47)","v":1.0210924334599947},{"$f":"IF(NR_Veränderung!V47=\"\",1/0,NR_Veränderung!V47)","v":1.0351296383280062},{"$f":"IF(NR_Veränderung!W47=\"\",1/0,NR_Veränderung!W47)","v":1.0057155775330604},{"$f":"IF(NR_Veränderung!X47=\"\",1/0,NR_Veränderung!X47)","v":{"$error":"#DIV/0!"}},{"$error":"#DIV/0!"},{"$error":"#DIV/0!"},"",{"$f":"IF(ISERROR(Z34),\"\",Z34)","v":""},{"$f":"IF(AA34=\"\",\"\",HI_Hilfstabelle!H5)","v":""},"","",{"$f":"IFERROR(AD34*AA34,\"\")","v":""},{"$f":"IFERROR(AE34*AB34,\"\")","v":""},{"$f":"IF(AA34=\"\",\"\",HI_Hilfstabelle!J5)","v":""},{"$f":"IFERROR(AH34/AH$52,\"\")","v":""},{"$f":"IFERROR(AH34/AH$52,\"\")","v":""},{"$f":"IFERROR(AI34*Y34,\"\")","v":""},{"$f":"IFERROR(AJ34*Z34,\"\")","v":""},null,{"$f":"IF(HI_Hilfstabelle!$C5=HI_Hilfstabelle!$A5,IFERROR(NR_Berechnung!C34,1/0),\"\")","v":""},{"$f":"IF(HI_Hilfstabelle!$C5=HI_Hilfstabelle!$A5,IFERROR(NR_Berechnung!D34,1/0),\"\")","v":""},{"$f":"IF(HI_Hilfstabelle!$C5=HI_Hilfstabelle!$A5,IFERROR(NR_Berechnung!E34,1/0),\"\")","v":""},{"$f":"IF(HI_Hilfstabelle!$C5=HI_Hilfstabelle!$A5,IFERROR(NR_Berechnung!F34,1/0),\"\")","v":""},{"$f":"IF(HI_Hilfstabelle!$C5=HI_Hilfstabelle!$A5,IFERROR(NR_Berechnung!G34,1/0),\"\")","v":""},{"$f":"IF(HI_Hilfstabelle!$C5=HI_Hilfstabelle!$A5,IFERROR(NR_Berechnung!H34,1/0),\"\")","v":""},{"$f":"IF(HI_Hilfstabelle!$C5=HI_Hilfstabelle!$A5,IFERROR(NR_Berechnung!I34,1/0),\"\")","v":""},{"$f":"IF(HI_Hilfstabelle!$C5=HI_Hilfstabelle!$A5,IFERROR(NR_Berechnung!J34,1/0),\"\")","v":""},{"$f":"IF(HI_Hilfstabelle!$C5=HI_Hilfstabelle!$A5,IFERROR(NR_Berechnung!K34,1/0),\"\")","v":""},{"$f":"IF(HI_Hilfstabelle!$C5=HI_Hilfstabelle!$A5,IFERROR(NR_Berechnung!L34,1/0),\"\")","v":""},{"$f":"IF(HI_Hilfstabelle!$C5=HI_Hilfstabelle!$A5,IFERROR(NR_Berechnung!M34,1/0),\"\")","v":""},{"$f":"IF(HI_Hilfstabelle!$C5=HI_Hilfstabelle!$A5,IFERROR(NR_Berechnung!N34,1/0),\"\")","v":""},{"$f":"IF(HI_Hilfstabelle!$C5=HI_Hilfstabelle!$A5,IFERROR(NR_Berechnung!O34,1/0),\"\")","v":""},{"$f":"IF(HI_Hilfstabelle!$C5=HI_Hilfstabelle!$A5,IFERROR(NR_Berechnung!P34,1/0),\"\")","v":""},{"$f":"IF(HI_Hilfstabelle!$C5=HI_Hilfstabelle!$A5,IFERROR(NR_Berechnung!Q34,1/0),\"\")","v":""},{"$f":"IF(HI_Hilfstabelle!$C5=HI_Hilfstabelle!$A5,IFERROR(NR_Berechnung!R34,1/0),\"\")","v":""},{"$f":"IF(HI_Hilfstabelle!$C5=HI_Hilfstabelle!$A5,IFERROR(NR_Berechnung!S34,1/0),\"\")","v":""},{"$f":"IF(HI_Hilfstabelle!$C5=HI_Hilfstabelle!$A5,IFERROR(NR_Berechnung!T34,1/0),\"\")","v":""},{"$f":"IF(HI_Hilfstabelle!$C5=HI_Hilfstabelle!$A5,IFERROR(NR_Berechnung!U34,1/0),\"\")","v":""},{"$f":"IF(HI_Hilfstabelle!$C5=HI_Hilfstabelle!$A5,IFERROR(NR_Berechnung!V34,1/0),\"\")","v":""},{"$f":"IF(HI_Hilfstabelle!$C5=HI_Hilfstabelle!$A5,IFERROR(NR_Berechnung!W34,1/0),\"\")","v":""},{"$f":"IF(HI_Hilfstabelle!$C5=HI_Hilfstabelle!$A5,IFERROR(NR_Berechnung!X34,1/0),\"\")","v":""},{"$error":"#DIV/0!"},{"$error":"#NUM!"},{"$f":"IF(ISERROR(BJ34),\"\",BJ34)","v":""},{"$f":"IF(ISERROR(BK34),\"\",BK34)","v":""},{"$f":"IF(BL34=\"\",\"\",HI_Hilfstabelle!H5)","v":""},{"$f":"IFERROR(BN34/BN$52,\"\")","v":""},{"$f":"IFERROR(BN34/BN$52,\"\")","v":""},{"$f":"IFERROR(BO34*BL34,\"\")","v":""},{"$f":"IFERROR(BP34*BM34,\"\")","v":""},{"$f":"IF(BL34=\"\",\"\",HI_Hilfstabelle!J5)","v":""},{"$f":"IFERROR(BS34/BS$52,\"\")","v":""},{"$f":"IFERROR(BS34/BS$52,\"\")","v":""},{"$f":"IFERROR(BT34*BJ34,\"\")","v":""},{"$f":"IFERROR(BU34*BK34,\"\")","v":""}]
["Tschechien",null,{"$f":"IF(NR_Veränderung!C48=\"\",1/0,NR_Veränderung!C48)","v":1.04636755052423},{"$f":"IF(NR_Veränderung!D48=\"\",1/0,NR_Veränderung!D48)","v":0.96800251335258325},{"$f":"IF(NR_Veränderung!E48=\"\",1/0,NR_Veränderung!E48)","v":1.0319008377539416},{"$f":"IF(NR_Veränderung!F48=\"\",1/0,NR_Veränderung!F48)","v":1.0132682410246914},{"$f":"IF(NR_Veränderung!G48=\"\",1/0,NR_Veränderung!G48)","v":1.0527938687732552},{"$f":"IF(NR_Veränderung!H48=\"\",1/0,NR_Veränderung!H48)","v":1.1262053073915708},{"$f":"IF(NR_Veränderung!I48=\"\",1/0,NR_Veränderung!I48)","v":1.0359539276589964},{"$f":"IF(NR_Veränderung!J48=\"\",1/0,NR_Veränderung!J48)","v":1.1884325064003014},{"$f":"IF(NR_Veränderung!K48=\"\",1/0,NR_Veränderung!K48)","v":1.0345471162063313},{"$f":"IF(NR_Veränderung!L48=\"\",1/0,NR_Veränderung!L48)","v":1.0320502940333065},{"$f":"IF(NR_Veränderung!M48=\"\",1/0,NR_Veränderung!M48)","v":1.1766307826184821},{"$f":"IF(NR_Veränderung!N48=\"\",1/0,NR_Veränderung!N48)","v":0.97765009801569536},{"$f":"IF(NR_Veränderung!O48=\"\",1/0,NR_Veränderung!O48)","v":0.88109336251728365},{"$f":"IF(NR_Veränderung!P48=\"\",1/0,NR_Veränderung!P48)","v":1.1317356656638837},{"$f":"IF(NR_Veränderung!Q48=\"\",1/0,NR_Veränderung!Q48)","v":1.0246414316148105},{"$f":"IF(NR_Veränderung!R48=\"\",1/0,NR_Veränderung!R48)","v":1.055612145226579},{"$f":"IF(NR_Veränderung!S48=\"\",1/0,NR_Veränderung!S48)","v":1.0461312451989044},{"$f":"IF(NR_Veränderung!T48=\"\",1/0,NR_Veränderung!T48)","v":0.93740713804883413},{"$f":"IF(NR_Veränderung!U48=\"\",1/0,NR_Veränderung!U48)","v":1.0046197717205099},{"$f":"IF(NR_Veränderung!V48=\"\",1/0,NR_Veränderung!V48)","v":1.0410022340817859},{"$f":"IF(NR_Veränderung!W48=\"\",1/0,NR_Veränderung!W48)","v":1.0234904502436497},{"$f":"IF(NR_Veränderung!X48=\"\",1/0,NR_Veränderung!X48)","v":0.97373712123407064},1.0117143008220475,1.0109134130078035,1.0117143008220475,1.0109134130078035,{"$f":"IF(AA35=\"\",\"\",HI_Hilfstabelle!H6)","v":10693939},0.11951624189617366,0.11951624189617366,0.12091629110686604,0.12082057200512715,{"$f":"IF(AA35=\"\",\"\",HI_Hilfstabelle!J6)","v":93},0.10544217687074831,0.10544217687074831,0.10667735824994379,0.10659291089538064,null,{"$f":"IF(HI_Hilfstabelle!$C6=HI_Hilfstabelle!$A6,IFERROR(NR_Berechnung!C35,1/0),\"\")","v":1.04636755052423},{"$f":"IF(HI_Hilfstabelle!$C6=HI_Hilfstabelle!$A6,IFERROR(NR_Berechnung!D35,1/0),\"\")","v":0.96800251335258325},{"$f":"IF(HI_Hilfstabelle!$C6=HI_Hilfstabelle!$A6,IFERROR(NR_Berechnung!E35,1/0),\"\")","v":1.0319008377539416},{"$f":"IF(HI_Hilfstabelle!$C6=HI_Hilfstabelle!$A6,IFERROR(NR_Berechnung!F35,1/0),\"\")","v":1.0132682410246914},{"$f":"IF(HI_Hilfstabelle!$C6=HI_Hilfstabelle!$A6,IFERROR(NR_Berechnung!G35,1/0),\"\")","v":1.0527938687732552},{"$f":"IF(HI_Hilfstabelle!$C6=HI_Hilfstabelle!$A6,IFERROR(NR_Berechnung!H35,1/0),\"\")","v":1.1262053073915708},{"$f":"IF(HI_Hilfstabelle!$C6=HI_Hilfstabelle!$A6,IFERROR(NR_Berechnung!I35,1/0),\"\")","v":1.0359539276589964},{"$f":"IF(HI_Hilfstabelle!$C6=HI_Hilfstabelle!$A6,IFERROR(NR_Berechnung!J35,1/0),\"\")","v":1.1884325064003014},{"$f":"IF(HI_Hilfstabelle!$C6=HI_Hilfstabelle!$A6,IFERROR(NR_Berechnung!K35,1/0),\"\")","v":1.0345471162063313},{"$f":"IF(HI_Hilfstabelle!$C6=HI_Hilfstabelle!$A6,IFERROR(NR_Berechnung!L35,1/0),\"\")","v":1.0320502940333065},{"$f":"IF(HI_Hilfstabelle!$C6=HI_Hilfstabelle!$A6,IFERROR(NR_Berechnung!M35,1/0),\"\")","v":1.1766307826184821},{"$f":"IF(HI_Hilfstabelle!$C6=HI_Hilfstabelle!$A6,IFERROR(NR_Berechnung!N35,1/0),\"\")","v":0.97765009801569536},{"$f":"IF(HI_Hilfstabelle!$C6=HI_Hilfstabelle!$A6,IFERROR(NR_Berechnung!O35,1/0),\"\")","v":0.88109336251728365},{"$f":"IF(HI_Hilfstabelle!$C6=HI_Hilfstabelle!$A6,IFERROR(NR_Berechnung!P35,1/0),\"\")","v":1.1317356656638837},{"$f":"IF(HI_Hilfstabelle!$C6=HI_Hilfstabelle!$A6,IFERROR(NR_Berechnung!Q35,1/0),\"\")","v":1.0246414316148105},{"$f":"IF(HI_Hilfstabelle!$C6=HI_Hilfstabelle!$A6,IFERROR(NR_Berechnung!R35,1/0),\"\")","v":1.055612145226579},{"$f":"IF(HI_Hilfstabelle!$C6=HI_Hilfstabelle!$A6,IFERROR(NR_Berechnung!S35,1/0),\"\")","v":1.0461312451989044},{"$f":"IF(HI_Hilfstabelle!$C6=HI_Hilfstabelle!$A6,IFERROR(NR_Berechnung!T35,1/0),\"\")","v":0.93740713804883413},{"$f":"IF(HI_Hilfstabelle!$C6=HI_Hilfstabelle!$A6,IFERROR(NR_Berechnung!U35,1/0),\"\")","v":1.0046197717205099},{"$f":"IF(HI_Hilfstabelle!$C6=HI_Hilfstabelle!$A6,IFERROR(NR_Berechnung!V35,1/0),\"\")","v":1.0410022340817859},{"$f":"IF(HI_Hilfstabelle!$C6=HI_Hilfstabelle!$A6,IFERROR(NR_Berechnung!W35,1/0),\"\")","v":1.0234904502436497},{"$f":"IF(HI_Hilfstabelle!$C6=HI_Hilfstabelle!$A6,IFERROR(NR_Berechnung!X35,1/0),\"\")","v":0.97373712123407064},1.0117143008220475,1.0109134130078035,1.0117143008220475,1.0109134130078035,{"$f":"IF(BL35=\"\",\"\",HI_Hilfstabelle!H6)","v":10693939},0.11951624189617366,0.11951624189617366,0.12091629110686604,0.12082057200512715,{"$f":"IF(BL35=\"\",\"\",HI_Hilfstabelle!J6)","v":93},0.10544217687074831,0.10544217687074831,0.10667735824994379,0.10659291089538064]
["Dänemark",null,{"$f":"IF(NR_Veränderung!C49=\"\",1/0,NR_Veränderung!C49)","v":1.0489429481610193},{"$f":"IF(NR_Veränderung!D49=\"\",1/0,NR_Veränderung!D49)","v":1.0365445014895782},{"$f":"IF(NR_Veränderung!E49=\"\",1/0,NR_Veränderung!E49)","v":1.0025832236681775},{"$f":"IF(NR_Veränderung!F49=\"\",1/0,NR_Veränderung!F49)","v":1.0237879536594743},{"$f":"IF(NR_Veränderung!G49=\"\",1/0,NR_Veränderung!G49)","v":1.0321380112424889},{"$f":"IF(NR_Veränderung!H49=\"\",1/0,NR_Veränderung!H49)","v":1.0185052015916394},{"$f":"IF(NR_Veränderung!I49=\"\",1/0,NR_Veränderung!I49)","v":0.98307089524654379},{"$f":"IF(NR_Veränderung!J49=\"\",1/0,NR_Veränderung!J49)","v":0.99675862565727846},{"$f":"IF(NR_Veränderung!K49=\"\",1/0,NR_Veränderung!K49)","v":0.98567505381132647},{"$f":"IF(NR_Veränderung!L49=\"\",1/0,NR_Veränderung!L49)","v":1.1264001445840539},{"$f":"IF(NR_Veränderung!M49=\"\",1/0,NR_Veränderung!M49)","v":0.97642510954934703},{"$f":"IF(NR_Veränderung!N49=\"\",1/0,NR_Veränderung!N49)","v":1.0055245626387914},{"$f":"IF(NR_Veränderung!O49=\"\",1/0,NR_Veränderung!O49)","v":0.98378096479791388},{"$f":"IF(NR_Veränderung!P49=\"\",1/0,NR_Veränderung!P49)","v":1.0317001309471845},{"$f":"IF(NR_Veränderung!Q49=\"\",1/0,NR_Veränderung!Q49)","v":0.93138405603262386},{"$f":"IF(NR_Veränderung!R49=\"\",1/0,NR_Veränderung!R49)","v":0.95705342626402645},{"$f":"IF(NR_Veränderung!S49=\"\",1/0,NR_Veränderung!S49)","v":1.0359845524643116},{"$f":"IF(NR_Veränderung!T49=\"\",1/0,NR_Veränderung!T49)","v":0.90571925071303461},{"$f":"IF(NR_Veränderung!U49=\"\",1/0,NR_Veränderung!U49)","v":0.98143548987954787},{"$f":"IF(NR_Veränderung!V49=\"\",1/0,NR_Veränderung!V49)","v":1.0476119667352577},{"$f":"IF(NR_Veränderung!W49=\"\",1/0,NR_Veränderung!W49)","v":0.98052571867737726},{"$f":"IF(NR_Veränderung!X49=\"\",1/0,NR_Veränderung!X49)","v":1.1719736457311936},1.0114720072092498,1.0084969438130542,1.0114720072092498,1.0084969438130542,{"$f":"IF(AA36=\"\",\"\",HI_Hilfstabelle!H7)","v":5822763},6.5075623791391535E-2,6.5075623791391535E-2,6.5822171816672811E-2,6.5628567710346447E-2,{"$f":"IF(AA36=\"\",\"\",HI_Hilfstabelle!J7)","v":130},0.14739229024943309,0.14739229024943309,0.14908317566576243,0.14864467425815991,null,{"$f":"IF(HI_Hilfstabelle!$C7=HI_Hilfstabelle!$A7,IFERROR(NR_Berechnung!C36,1/0),\"\")","v":1.0489429481610193},{"$f":"IF(HI_Hilfstabelle!$C7=HI_Hilfstabelle!$A7,IFERROR(NR_Berechnung!D36,1/0),\"\")","v":1.0365445014895782},{"$f":"IF(HI_Hilfstabelle!$C7=HI_Hilfstabelle!$A7,IFERROR(NR_Berechnung!E36,1/0),\"\")","v":1.0025832236681775},{"$f":"IF(HI_Hilfstabelle!$C7=HI_Hilfstabelle!$A7,IFERROR(NR_Berechnung!F36,1/0),\"\")","v":1.0237879536594743},{"$f":"IF(HI_Hilfstabelle!$C7=HI_Hilfstabelle!$A7,IFERROR(NR_Berechnung!G36,1/0),\"\")","v":1.0321380112424889},{"$f":"IF(HI_Hilfstabelle!$C7=HI_Hilfstabelle!$A7,IFERROR(NR_Berechnung!H36,1/0),\"\")","v":1.0185052015916394},{"$f":"IF(HI_Hilfstabelle!$C7=HI_Hilfstabelle!$A7,IFERROR(NR_Berechnung!I36,1/0),\"\")","v":0.98307089524654379},{"$f":"IF(HI_Hilfstabelle!$C7=HI_Hilfstabelle!$A7,IFERROR(NR_Berechnung!J36,1/0),\"\")","v":0.99675862565727846},{"$f":"IF(HI_Hilfstabelle!$C7=HI_Hilfstabelle!$A7,IFERROR(NR_Berechnung!K36,1/0),\"\")","v":0.98567505381132647},{"$f":"IF(HI_Hilfstabelle!$C7=HI_Hilfstabelle!$A7,IFERROR(NR_Berechnung!L36,1/0),\"\")","v":1.1264001445840539},{"$f":"IF(HI_Hilfstabelle!$C7=HI_Hilfstabelle!$A7,IFERROR(NR_Berechnung!M36,1/0),\"\")","v":0.97642510954934703},{"$f":"IF(HI_Hilfstabelle!$C7=HI_Hilfstabelle!$A7,IFERROR(NR_Berechnung!N36,1/0),\"\")","v":1.0055245626387914},{"$f":"IF(HI_Hilfstabelle!$C7=HI_Hilfstabelle!$A7,IFERROR(NR_Berechnung!O36,1/0),\"\")","v":0.98378096479791388},{"$f":"IF(HI_Hilfstabelle!$C7=HI_Hilfstabelle!$A7,IFERROR(NR_Berechnung!P36,1/0),\"\")","v":1.0317001309471845},{"$f":"IF(HI_Hilfstabelle!$C7=HI_Hilfstabelle!$A7,IFERROR(NR_Berechnung!Q36,1/0),\"\")","v":0.93138405603262386},{"$f":"IF(HI_Hilfstabelle!$C7=HI_Hilfstabelle!$A7,IFERROR(NR_Berechnung!R36,1/0),\"\")","v":0.95705342626402645},{"$f":"IF(HI_Hilfstabelle!$C7=HI_Hilfstabelle!$A7,IFERROR(NR_Berechnung!S36,1/0),\"\")","v":1.0359845524643116},{"$f":"IF(HI_Hilfstabelle!$C7=HI_Hilfstabelle!$A7,IFERROR(NR_Berechnung!T36,1/0),\"\")","v":0.90571925071303461},{"$f":"IF(HI_Hilfstabelle!$C7=HI_Hilfstabelle!$A7,IFERROR(NR_Berechnung!U36,1/0),\"\")","v":0.98143548987954787},{"$f":"IF(HI_Hilfstabelle!$C7=HI_Hilfstabelle!$A7,IFERROR(NR_Berechnung!V36,1/0),\"\")","v":1.0476119667352577},{"$f":"IF(HI_Hilfstabelle!$C7=HI_Hilfstabelle!$A7,IFERROR(NR_Berechnung!W36,1/0),\"\")","v":0.98052571867737726},{"$f":"IF(HI_Hilfstabelle!$C7=HI_Hilfstabelle!$A7,IFERROR(NR_Berechnung!X36,1/0),\"\")","v":1.1719736457311936},1.0114720072092498,1.0084969438130542,1.0114720072092498,1.0084969438130542,{"$f":"IF(BL36=\"\",\"\",HI_Hilfstabelle!H7)","v":5822763},6.5075623791391535E-2,6.5075623791391535E-2,6.5822171816672811E-2,6.5628567710346447E-2,{"$f":"IF(BL36=\"\",\"\",HI_Hilfstabelle!J7)","v":130},0.14739229024943309,0.14739229024943309,0.14908317566576243,0.14864467425815991]
["Estland",null,{"$f":"IF(NR_Veränderung!C50=\"\",1/0,NR_Veränderung!C50)","v":1.1651271613237935},{"$f":"IF(NR_Veränderung!D50=\"\",1/0,NR_Veränderung!D50)","v":1.0834188083515672},{"$f":"IF(NR_Veränderung!E50=\"\",1/0,NR_Veränderung!E50)","v":1.2251965376216905},{"$f":"IF(NR_Veränderung!F50=\"\",1/0,NR_Veränderung!F50)","v":0.97792479931136611},{"$f":"IF(NR_Veränderung!G50=\"\",1/0,NR_Veränderung!G50)","v":1.0950343846226618},{"$f":"IF(NR_Veränderung!H50=\"\",1/0,NR_Veränderung!H50)","v":1.1464325733270855},{"$f":"IF(NR_Veränderung!I50=\"\",1/0,NR_Veränderung!I50)","v":1.1586828969261758},{"$f":"IF(NR_Veränderung!J50=\"\",1/0,NR_Veränderung!J50)","v":1.0689853168204397},{"$f":"IF(NR_Veränderung!K50=\"\",1/0,NR_Veränderung!K50)","v":1.2235108094128779},{"$f":"IF(NR_Veränderung!L50=\"\",1/0,NR_Veränderung!L50)","v":1.2851493504221041},{"$f":"IF(NR_Veränderung!M50=\"\",1/0,NR_Veränderung!M50)","v":0.99843599957989815},{"$f":"IF(NR_Veränderung!N50=\"\",1/0,NR_Veränderung!N50)","v":1.1793145357316484},{"$f":"IF(NR_Veränderung!O50=\"\",1/0,NR_Veränderung!O50)","v":0.98547367792132834},{"$f":"IF(NR_Veränderung!P50=\"\",1/0,NR_Veränderung!P50)","v":0.92051257567871558},{"$f":"IF(NR_Veränderung!Q50=\"\",1/0,NR_Veränderung!Q50)","v":0.95950291403534393},{"$f":"IF(NR_Veränderung!R50=\"\",1/0,NR_Veränderung!R50)","v":1.0742203393250045},{"$f":"IF(NR_Veränderung!S50=\"\",1/0,NR_Veränderung!S50)","v":1.0021475823719281},{"$f":"IF(NR_Veränderung!T50=\"\",1/0,NR_Veränderung!T50)","v":1.0862633823753527},{"$f":"IF(NR_Veränderung!U50=\"\",1/0,NR_Veränderung!U50)","v":0.91815569014360843},{"$f":"IF(NR_Veränderung!V50=\"\",1/0,NR_Veränderung!V50)","v":1.1559990949208665},{"$f":"IF(NR_Veränderung!W50=\"\",1/0,NR_Veränderung!W50)","v":1.1361465106180095},{"$f":"IF(NR_Veränderung!X50=\"\",1/0,NR_Veränderung!X50)","v":1.005440149598287},1.0540532499075794,1.051140221172038,1.0540532499075794,1.051140221172038,{"$f":"IF(AA37=\"\",\"\",HI_Hilfstabelle!H8)","v":1328976},1.4852732663821E-2,1.4852732663821E-2,1.5655571134308984E-2,1.5612304697257958E-2,{"$f":"IF(AA37=\"\",\"\",HI_Hilfstabelle!J8)","v":84},9.5238095238095233E-2,9.5238095238095233E-2,0.10038602380072184,0.10010859249257505,null,{"$f":"IF(HI_Hilfstabelle!$C8=HI_Hilfstabelle!$A8,IFERROR(NR_Berechnung!C37,1/0),\"\")","v":1.1651271613237935},{"$f":"IF(HI_Hilfstabelle!$C8=HI_Hilfstabelle!$A8,IFERROR(NR_Berechnung!D37,1/0),\"\")","v":1.0834188083515672},{"$f":"IF(HI_Hilfstabelle!$C8=HI_Hilfstabelle!$A8,IFERROR(NR_Berechnung!E37,1/0),\"\")","v":1.2251965376216905},{"$f":"IF(HI_Hilfstabelle!$C8=HI_Hilfstabelle!$A8,IFERROR(NR_Berechnung!F37,1/0),\"\")","v":0.97792479931136611},{"$f":"IF(HI_Hilfstabelle!$C8=HI_Hilfstabelle!$A8,IFERROR(NR_Berechnung!G37,1/0),\"\")","v":1.0950343846226618},{"$f":"IF(HI_Hilfstabelle!$C8=HI_Hilfstabelle!$A8,IFERROR(NR_Berechnung!H37,1/0),\"\")","v":1.1464325733270855},{"$f":"IF(HI_Hilfstabelle!$C8=HI_Hilfstabelle!$A8,IFERROR(NR_Berechnung!I37,1/0),\"\")","v":1.1586828969261758},{"$f":"IF(HI_Hilfstabelle!$C8=HI_Hilfstabelle!$A8,IFERROR(NR_Berechnung!J37,1/0),\"\")","v":1.0689853168204397},{"$f":"IF(HI_Hilfstabelle!$C8=HI_Hilfstabelle!$A8,IFERROR(NR_Berechnung!K37,1/0),\"\")","v":1.2235108094128779},{"$f":"IF(HI_Hilfstabelle!$C8=HI_Hilfstabelle!$A8,IFERROR(NR_Berechnung!L37,1/0),\"\")","v":1.2851493504221041},{"$f":"IF(HI_Hilfstabelle!$C8=HI_Hilfstabelle!$A8,IFERROR(NR_Berechnung!M37,1/0),\"\")","v":0.99843599957989815},{"$f":"IF(HI_Hilfstabelle!$C8=HI_Hilfstabelle!$A8,IFERROR(NR_Berechnung!N37,1/0),\"\")","v":1.1793145357316484},{"$f":"IF(HI_Hilfstabelle!$C8=HI_Hilfstabelle!$A8,IFERROR(NR_Berechnung!O37,1/0),\"\")","v":0.98547367792132834},{"$f":"IF(HI_Hilfstabelle!$C8=HI_Hilfstabelle!$A8,IFERROR(NR_Berechnung!P37,1/0),\"\")","v":0.92051257567871558},{"$f":"IF(HI_Hilfstabelle!$C8=HI_Hilfstabelle!$A8,IFERROR(NR_Berechnung!Q37,1/0),\"\")","v":0.95950291403534393},{"$f":"IF(HI_Hilfstabelle!$C8=HI_Hilfstabelle!$A8,IFERROR(NR_Berechnung!R37,1/0),\"\")","v":1.0742203393250045},{"$f":"IF(HI_Hilfstabelle!$C8=HI_Hilfstabelle!$A8,IFERROR(NR_Berechnung!S37,1/0),\"\")","v":1.0021475823719281},{"$f":"IF(HI_Hilfstabelle!$C8=HI_Hilfstabelle!$A8,IFERROR(NR_Berechnung!T37,1/0),\"\")","v":1.0862633823753527},{"$f":"IF(HI_Hilfstabelle!$C8=HI_Hilfstabelle!$A8,IFERROR(NR_Berechnung!U37,1/0),\"\")","v":0.91815569014360843},{"$f":"IF(HI_Hilfstabelle!$C8=HI_Hilfstabelle!$A8,IFERROR(NR_Berechnung!V37,1/0),\"\")","v":1.1559990949208665},{"$f":"IF(HI_Hilfstabelle!$C8=HI_Hilfstabelle!$A8,IFERROR(NR_Berechnung!W37,1/0),\"\")","v":1.1361465106180095},{"$f":"IF(HI_Hilfstabelle!$C8=HI_Hilfstabelle!$A8,IFERROR(NR_Berechnung!X37,1/0),\"\")","v":1.005440149598287},1.0540532499075794,1.051140221172038,1.0540532499075794,1.051140221172038,{"$f":"IF(BL37=\"\",\"\",HI_Hilfstabelle!H8)","v":1328976},1.4852732663821E-2,1.4852732663821E-2,1.5655571134308984E-2,1.5612304697257958E-2,{"$f":"IF(BL37=\"\",\"\",HI_Hilfstabelle!J8)","v":84},9.5238095238095233E-2,9.5238095238095233E-2,0.10038602380072184,0.10010859249257505]
["Frankreich",null,{"$f":"IF(NR_Veränderung!C51=\"\",1/0,NR_Veränderung!C51)","v":1.0377547482374698},{"$f":"IF(NR_Veränderung!D51=\"\",1/0,NR_Veränderung!D51)","v":1.1339821424125702},{"$f":"IF(NR_Veränderung!E51=\"\",1/0,NR_Veränderung!E51)","v":1.1452502785068255},{"$f":"IF(NR_Veränderung!F51=\"\",1/0,NR_Veränderung!F51)","v":1.1911233411397348},{"$f":"IF(NR_Veränderung!G51=\"\",1/0,NR_Veränderung!G51)","v":0.91772402540829112},{"$f":"IF(NR_Veränderung!H51=\"\",1/0,NR_Veränderung!H51)","v":0.96127619867929914},{"$f":"IF(NR_Veränderung!I51=\"\",1/0,NR_Veränderung!I51)","v":0.97659977070214621},{"$f":"IF(NR_Veränderung!J51=\"\",1/0,NR_Veränderung!J51)","v":0.97224545305331289},{"$f":"IF(NR_Veränderung!K51=\"\",1/0,NR_Veränderung!K51)","v":1.027119291875505},{"$f":"IF(NR_Veränderung!L51=\"\",1/0,NR_Veränderung!L51)","v":1.0191513032422124},{"$f":"IF(NR_Veränderung!M51=\"\",1/0,NR_Veränderung!M51)","v":0.97413665593722909},{"$f":"IF(NR_Veränderung!N51=\"\",1/0,NR_Veränderung!N51)","v":1.0357620086570984},{"$f":"IF(NR_Veränderung!O51=\"\",1/0,NR_Veränderung!O51)","v":0.99963237415408956},{"$f":"IF(NR_Veränderung!P51=\"\",1/0,NR_Veränderung!P51)","v":1.0083875257780277},{"$f":"IF(NR_Veränderung!Q51=\"\",1/0,NR_Veränderung!Q51)","v":0.98477539100051115},{"$f":"IF(NR_Veränderung!R51=\"\",1/0,NR_Veränderung!R51)","v":0.98380798463877117},{"$f":"IF(NR_Veränderung!S51=\"\",1/0,NR_Veränderung!S51)","v":1.0008329533755558},{"$f":"IF(NR_Veränderung!T51=\"\",1/0,NR_Veränderung!T51)","v":0.97486215074383542},{"$f":"IF(NR_Veränderung!U51=\"\",1/0,NR_Veränderung!U51)","v":0.98854222864505248},{"$f":"IF(NR_Veränderung!V51=\"\",1/0,NR_Veränderung!V51)","v":0.9596687370600413},{"$f":"IF(NR_Veränderung!W51=\"\",1/0,NR_Veränderung!W51)","v":1.030128667254514},{"$f":"IF(NR_Veränderung!X51=\"\",1/0,NR_Veränderung!X51)","v":{"$error":"#DIV/0!"}},{"$error":"#DIV/0!"},{"$error":"#DIV/0!"},"","",{"$f":"IF(AA38=\"\",\"\",HI_Hilfstabelle!H9)","v":""},"","","","",{"$f":"IF(AA38=\"\",\"\",HI_Hilfstabelle!J9)","v":""},"","","","",null,{"$f":"IF(HI_Hilfstabelle!$C9=HI_Hilfstabelle!$A9,IFERROR(NR_Berechnung!C38,1/0),\"\")","v":""},{"$f":"IF(HI_Hilfstabelle!$C9=HI_Hilfstabelle!$A9,IFERROR(NR_Berechnung!D38,1/0),\"\")","v":""},{"$f":"IF(HI_Hilfstabelle!$C9=HI_Hilfstabelle!$A9,IFERROR(NR_Berechnung!E38,1/0),\"\")","v":""},{"$f":"IF(HI_Hilfstabelle!$C9=HI_Hilfstabelle!$A9,IFERROR(NR_Berechnung!F38,1/0),\"\")","v":""},{"$f":"IF(HI_Hilfstabelle!$C9=HI_Hilfstabelle!$A9,IFERROR(NR_Berechnung!G38,1/0),\"\")","v":""},{"$f":"IF(HI_Hilfstabelle!$C9=HI_Hilfstabelle!$A9,IFERROR(NR_Berechnung!H38,1/0),\"\")","v":""},{"$f":"IF(HI_Hilfstabelle!$C9=HI_Hilfstabelle!$A9,IFERROR(NR_Berechnung!I38,1/0),\"\")","v":""},{"$f":"IF(HI_Hilfstabelle!$C9=HI_Hilfstabelle!$A9,IFERROR(NR_Berechnung!J38,1/0),\"\")","v":""},{"$f":"IF(HI_Hilfstabelle!$C9=HI_Hilfstabelle!$A9,IFERROR(NR_Berechnung!K38,1/0),\"\")","v":""},{"$f":"IF(HI_Hilfstabelle!$C9=HI_Hilfstabelle!$A9,IFERROR(NR_Berechnung!L38,1/0),\"\")","v":""},{"$f":"IF(HI_Hilfstabelle!$C9=HI_Hilfstabelle!$A9,IFERROR(NR_Berechnung!M38,1/0),\"\")","v":""},{"$f":"IF(HI_Hilfstabelle!$C9=HI_Hilfstabelle!$A9,IFERROR(NR_Berechnung!N38,1/0),\"\")","v":""},{"$f":"IF(HI_Hilfstabelle!$C9=HI_Hilfstabelle!$A9,IFERROR(NR_Berechnung!O38,1/0),\"\")","v":""},{"$f":"IF(HI_Hilfstabelle!$C9=HI_Hilfstabelle!$A9,IFERROR(NR_Berechnung!P38,1/0),\"\")","v":""},{"$f":"IF(HI_Hilfstabelle!$C9=HI_Hilfstabelle!$A9,IFERROR(NR_Berechnung!Q38,1/0),\"\")","v":""},{"$f":"IF(HI_Hilfstabelle!$C9=HI_Hilfstabelle!$A9,IFERROR(NR_Berechnung!R38,1/0),\"\")","v":""},{"$f":"IF(HI_Hilfstabelle!$C9=HI_Hilfstabelle!$A9,IFERROR(NR_Berechnung!S38,1/0),\"\")","v":""},{"$f":"IF(HI_Hilfstabelle!$C9=HI_Hilfstabelle!$A9,IFERROR(NR_Berechnung!T38,1/0),\"\")","v":""},{"$f":"IF(HI_Hilfstabelle!$C9=HI_Hilfstabelle!$A9,IFERROR(NR_Berechnung!U38,1/0),\"\")","v":""},{"$f":"IF(HI_Hilfstabelle!$C9=HI_Hilfstabelle!$A9,IFERROR(NR_Berechnung!V38,1/0),\"\")","v":""},{"$f":"IF(HI_Hilfstabelle!$C9=HI_Hilfstabelle!$A9,IFERROR(NR_Berechnung!W38,1/0),\"\")","v":""},{"$f":"IF(HI_Hilfstabelle!$C9=HI_Hilfstabelle!$A9,IFERROR(NR_Berechnung!X38,1/0),\"\")","v":""},{"$error":"#DIV/0!"},{"$error":"#NUM!"},"","",{"$f":"IF(BL38=\"\",\"\",HI_Hilfstabelle!H9)","v":""},"","","","",{"$f":"IF(BL38=\"\",\"\",HI_Hilfstabelle!J9)","v":""},"","","",""]
["Griechenland",null,{"$f":"IF(NR_Veränderung!C52=\"\",1/0,NR_Veränderung!C52)","v":1.0037384432853529},{"$f":"IF(NR_Veränderung!D52=\"\",1/0,NR_Veränderung!D52)","v":1.2117097077572507},{"$f":"IF(NR_Veränderung!E52=\"\",1/0,NR_Veränderung!E52)","v":1.0410306475494902},{"$f":"IF(NR_Veränderung!F52=\"\",1/0,NR_Veränderung!F52)","v":1.3091787781465092},{"$f":"IF(NR_Veränderung!G52=\"\",1/0,NR_Veränderung!G52)","v":1.0292015633451104},{"$f":"IF(NR_Veränderung!H52=\"\",1/0,NR_Veränderung!H52)","v":1.1302763519094767},{"$f":"IF(NR_Veränderung!I52=\"\",1/0,NR_Veränderung!I52)","v":1.0662775788291705},{"$f":"IF(NR_Veränderung!J52=\"\",1/0,NR_Veränderung!J52)","v":0.96536523307366151},{"$f":"IF(NR_Veränderung!K52=\"\",1/0,NR_Veränderung!K52)","v":1.0342115483226522},{"$f":"IF(NR_Veränderung!L52=\"\",1/0,NR_Veränderung!L52)","v":1.0287085815145525},{"$f":"IF(NR_Veränderung!M52=\"\",1/0,NR_Veränderung!M52)","v":1.0800052531735325},{"$f":"IF(NR_Veränderung!N52=\"\",1/0,NR_Veränderung!N52)","v":1.1753552031827705},{"$f":"IF(NR_Veränderung!O52=\"\",1/0,NR_Veränderung!O52)","v":1.0188514935099584},{"$f":"IF(NR_Veränderung!P52=\"\",1/0,NR_Veränderung!P52)","v":0.97259405841050395},{"$f":"IF(NR_Veränderung!Q52=\"\",1/0,NR_Veränderung!Q52)","v":0.89728073647066731},{"$f":"IF(NR_Veränderung!R52=\"\",1/0,NR_Veränderung!R52)","v":1.0334754415776879},{"$f":"IF(NR_Veränderung!S52=\"\",1/0,NR_Veränderung!S52)","v":0.88899580551203083},{"$f":"IF(NR_Veränderung!T52=\"\",1/0,NR_Veränderung!T52)","v":0.95768269620167523},{"$f":"IF(NR_Veränderung!U52=\"\",1/0,NR_Veränderung!U52)","v":0.9998228218697367},{"$f":"IF(NR_Veränderung!V52=\"\",1/0,NR_Veränderung!V52)","v":0.94617199751218506},{"$f":"IF(NR_Veränderung!W52=\"\",1/0,NR_Veränderung!W52)","v":0.98316836233775207},{"$f":"IF(NR_Veränderung!X52=\"\",1/0,NR_Veränderung!X52)","v":0.98243328176041855},0.97025005811021237,0.9693121549719218,0.97025005811021237,0.9693121549719218,{"$f":"IF(AA39=\"\",\"\",HI_Hilfstabelle!H10)","v":10709739},0.1196928238480587,0.1196928238480587,0.11613196929395436,0.1160197090188364,{"$f":"IF(AA39=\"\",\"\",HI_Hilfstabelle!J10)","v":67},7.5963718820861684E-2,7.5963718820861684E-2,7.3703802600208881E-2,7.363255598993057E-2,null,{"$f":"IF(HI_Hilfstabelle!$C10=HI_Hilfstabelle!$A10,IFERROR(NR_Berechnung!C39,1/0),\"\")","v":1.0037384432853529},{"$f":"IF(HI_Hilfstabelle!$C10=HI_Hilfstabelle!$A10,IFERROR(NR_Berechnung!D39,1/0),\"\")","v":1.2117097077572507},{"$f":"IF(HI_Hilfstabelle!$C10=HI_Hilfstabelle!$A10,IFERROR(NR_Berechnung!E39,1/0),\"\")","v":1.0410306475494902},{"$f":"IF(HI_Hilfstabelle!$C10=HI_Hilfstabelle!$A10,IFERROR(NR_Berechnung!F39,1/0),\"\")","v":1.3091787781465092},{"$f":"IF(HI_Hilfstabelle!$C10=HI_Hilfstabelle!$A10,IFERROR(NR_Berechnung!G39,1/0),\"\")","v":1.0292015633451104},{"$f":"IF(HI_Hilfstabelle!$C10=HI_Hilfstabelle!$A10,IFERROR(NR_Berechnung!H39,1/0),\"\")","v":1.1302763519094767},{"$f":"IF(HI_Hilfstabelle!$C10=HI_Hilfstabelle!$A10,IFERROR(NR_Berechnung!I39,1/0),\"\")","v":1.0662775788291705},{"$f":"IF(HI_Hilfstabelle!$C10=HI_Hilfstabelle!$A10,IFERROR(NR_Berechnung!J39,1/0),\"\")","v":0.96536523307366151},{"$f":"IF(HI_Hilfstabelle!$C10=HI_Hilfstabelle!$A10,IFERROR(NR_Berechnung!K39,1/0),\"\")","v":1.0342115483226522},{"$f":"IF(HI_Hilfstabelle!$C10=HI_Hilfstabelle!$A10,IFERROR(NR_Berechnung!L39,1/0),\"\")","v":1.0287085815145525},{"$f":"IF(HI_Hilfstabelle!$C10=HI_Hilfstabelle!$A10,IFERROR(NR_Berechnung!M39,1/0),\"\")","v":1.0800052531735325},{"$f":"IF(HI_Hilfstabelle!$C10=HI_Hilfstabelle!$A10,IFERROR(NR_Berechnung!N39,1/0),\"\")","v":1.1753552031827705},{"$f":"IF(HI_Hilfstabelle!$C10=HI_Hilfstabelle!$A10,IFERROR(NR_Berechnung!O39,1/0),\"\")","v":1.0188514935099584},{"$f":"IF(HI_Hilfstabelle!$C10=HI_Hilfstabelle!$A10,IFERROR(NR_Berechnung!P39,1/0),\"\")","v":0.97259405841050395},{"$f":"IF(HI_Hilfstabelle!$C10=HI_Hilfstabelle!$A10,IFERROR(NR_Berechnung!Q39,1/0),\"\")","v":0.89728073647066731},{"$f":"IF(HI_Hilfstabelle!$C10=HI_Hilfstabelle!$A10,IFERROR(NR_Berechnung!R39,1/0),\"\")","v":1.0334754415776879},{"$f":"IF(HI_Hilfstabelle!$C10=HI_Hilfstabelle!$A10,IFERROR(NR_Berechnung!S39,1/0),\"\")","v":0.88899580551203083},{"$f":"IF(HI_Hilfstabelle!$C10=HI_Hilfstabelle!$A10,IFERROR(NR_Berechnung!T39,1/0),\"\")","v":0.95768269620167523},{"$f":"IF(HI_Hilfstabelle!$C10=HI_Hilfstabelle!$A10,IFERROR(NR_Berechnung!U39,1/0),\"\")","v":0.9998228218697367},{"$f":"IF(HI_Hilfstabelle!$C10=HI_Hilfstabelle!$A10,IFERROR(NR_Berechnung!V39,1/0),\"\")","v":0.94617199751218506},{"$f":"IF(HI_Hilfstabelle!$C10=HI_Hilfstabelle!$A10,IFERROR(NR_Berechnung!W39,1/0),\"\")","v":0.98316836233775207},{"$f":"IF(HI_Hilfstabelle!$C10=HI_Hilfstabelle!$A10,IFERROR(NR_Berechnung!X39,1/0),\"\")","v":0.98243328176041855},0.97025005811021237,0.9693121549719218,0.97025005811021237,0.9693121549719218,{"$f":"IF(BL39=\"\",\"\",HI_Hilfstabelle!H10)","v":10709739},0.1196928238480587,0.1196928238480587,0.11613196929395436,0.1160197090188364,{"$f":"IF(BL39=\"\",\"\",HI_Hilfstabelle!J10)","v":67},7.5963718820861684E-2,7.5963718820861684E-2,7.3703802600208881E-2,7.363255598993057E-2]
["Italien",null,{"$f":"IF(NR_Veränderung!C53=\"\",1/0,NR_Veränderung!C53)","v":1.009192107807751},{"$f":"IF(NR_Veränderung!D53=\"\",1/0,NR_Veränderung!D53)","v":1.11174393694135},{"$f":"IF(NR_Veränderung!E53=\"\",1/0,NR_Veränderung!E53)","v":1.0519097075429169},{"$f":"IF(NR_Veränderung!F53=\"\",1/0,NR_Veränderung!F53)","v":1.1431832099200994},{"$f":"IF(NR_Veränderung!G53=\"\",1/0,NR_Veränderung!G53)","v":1.0391565054363217},{"$f":"IF(NR_Veränderung!H53=\"\",1/0,NR_Veränderung!H53)","v":1.1597228821375665},{"$f":"IF(NR_Veränderung!I53=\"\",1/0,NR_Veränderung!I53)","v":0.94175171847919814},{"$f":"IF(NR_Veränderung!J53=\"\",1/0,NR_Veränderung!J53)","v":1.0340287256953924},{"$f":"IF(NR_Veränderung!K53=\"\",1/0,NR_Veränderung!K53)","v":0.97711199311482178},{"$f":"IF(NR_Veränderung!L53=\"\",1/0,NR_Veränderung!L53)","v":1.0452946383022126},{"$f":"IF(NR_Veränderung!M53=\"\",1/0,NR_Veränderung!M53)","v":1.0127965317217824},{"$f":"IF(NR_Veränderung!N53=\"\",1/0,NR_Veränderung!N53)","v":1.0727984612749502},{"$f":"IF(NR_Veränderung!O53=\"\",1/0,NR_Veränderung!O53)","v":0.93583389370934267},{"$f":"IF(NR_Veränderung!P53=\"\",1/0,NR_Veränderung!P53)","v":0.97412942927352997},{"$f":"IF(NR_Veränderung!Q53=\"\",1/0,NR_Veränderung!Q53)","v":1.0332444560531231},{"$f":"IF(NR_Veränderung!R53=\"\",1/0,NR_Veränderung!R53)","v":0.95306933661743098},{"$f":"IF(NR_Veränderung!S53=\"\",1/0,NR_Veränderung!S53)","v":0.93097409210663817},{"$f":"IF(NR_Veränderung!T53=\"\",1/0,NR_Veränderung!T53)","v":0.99521108608168707},{"$f":"IF(NR_Veränderung!U53=\"\",1/0,NR_Veränderung!U53)","v":0.96616419417489285},{"$f":"IF(NR_Veränderung!V53=\"\",1/0,NR_Veränderung!V53)","v":1.0664663881988268},{"$f":"IF(NR_Veränderung!W53=\"\",1/0,NR_Veränderung!W53)","v":{"$error":"#DIV/0!"}},{"$f":"IF(NR_Veränderung!X53=\"\",1/0,NR_Veränderung!X53)","v":{"$error":"#DIV/0!"}},{"$error":"#DIV/0!"},{"$error":"#DIV/0!"},"","",{"$f":"IF(AA40=\"\",\"\",HI_Hilfstabelle!H11)","v":""},"","","","",{"$f":"IF(AA40=\"\",\"\",HI_Hilfstabelle!J11)","v":""},"","","","",null,{"$f":"IF(HI_Hilfstabelle!$C11=HI_Hilfstabelle!$A11,IFERROR(NR_Berechnung!C40,1/0),\"\")","v":1.009192107807751},{"$f":"IF(HI_Hilfstabelle!$C11=HI_Hilfstabelle!$A11,IFERROR(NR_Berechnung!D40,1/0),\"\")","v":1.11174393694135},{"$f":"IF(HI_Hilfstabelle!$C11=HI_Hilfstabelle!$A11,IFERROR(NR_Berechnung!E40,1/0),\"\")","v":1.0519097075429169},{"$f":"IF(HI_Hilfstabelle!$C11=HI_Hilfstabelle!$A11,IFERROR(NR_Berechnung!F40,1/0),\"\")","v":1.1431832099200994},{"$f":"IF(HI_Hilfstabelle!$C11=HI_Hilfstabelle!$A11,IFERROR(NR_Berechnung!G40,1/0),\"\")","v":1.0391565054363217},{"$f":"IF(HI_Hilfstabelle!$C11=HI_Hilfstabelle!$A11,IFERROR(NR_Berechnung!H40,1/0),\"\")","v":1.1597228821375665},{"$f":"IF(HI_Hilfstabelle!$C11=HI_Hilfstabelle!$A11,IFERROR(NR_Berechnung!I40,1/0),\"\")","v":0.94175171847919814},{"$f":"IF(HI_Hilfstabelle!$C11=HI_Hilfstabelle!$A11,IFERROR(NR_Berechnung!J40,1/0),\"\")","v":1.0340287256953924},{"$f":"IF(HI_Hilfstabelle!$C11=HI_Hilfstabelle!$A11,IFERROR(NR_Berechnung!K40,1/0),\"\")","v":0.97711199311482178},{"$f":"IF(HI_Hilfstabelle!$C11=HI_Hilfstabelle!$A11,IFERROR(NR_Berechnung!L40,1/0),\"\")","v":1.0452946383022126},{"$f":"IF(HI_Hilfstabelle!$C11=HI_Hilfstabelle!$A11,IFERROR(NR_Berechnung!M40,1/0),\"\")","v":1.0127965317217824},{"$f":"IF(HI_Hilfstabelle!$C11=HI_Hilfstabelle!$A11,IFERROR(NR_Berechnung!N40,1/0),\"\")","v":1.0727984612749502},{"$f":"IF(HI_Hilfstabelle!$C11=HI_Hilfstabelle!$A11,IFERROR(NR_Berechnung!O40,1/0),\"\")","v":0.93583389370934267},{"$f":"IF(HI_Hilfstabelle!$C11=HI_Hilfstabelle!$A11,IFERROR(NR_Berechnung!P40,1/0),\"\")","v":0.97412942927352997},{"$f":"IF(HI_Hilfstabelle!$C11=HI_Hilfstabelle!$A11,IFERROR(NR_Berechnung!Q40,1/0),\"\")","v":1.0332444560531231},{"$f":"IF(HI_Hilfstabelle!$C11=HI_Hilfstabelle!$A11,IFERROR(NR_Berechnung!R40,1/0),\"\")","v":0.95306933661743098},{"$f":"IF(HI_Hilfstabelle!$C11=HI_Hilfstabelle!$A11,IFERROR(NR_Berechnung!S40,1/0),\"\")","v":0.93097409210663817},{"$f":"IF(HI_Hilfstabelle!$C11=HI_Hilfstabelle!$A11,IFERROR(NR_Berechnung!T40,1/0),\"\")","v":0.99521108608168707},{"$f":"IF(HI_Hilfstabelle!$C11=HI_Hilfstabelle!$A11,IFERROR(NR_Berechnung!U40,1/0),\"\")","v":0.96616419417489285},{"$f":"IF(HI_Hilfstabelle!$C11=HI_Hilfstabelle!$A11,IFERROR(NR_Berechnung!V40,1/0),\"\")","v":1.0664663881988268},{"$f":"IF(HI_Hilfstabelle!$C11=HI_Hilfstabelle!$A11,IFERROR(NR_Berechnung!W40,1/0),\"\")","v":{"$error":"#DIV/0!"}},{"$f":"IF(HI_Hilfstabelle!$C11=HI_Hilfstabelle!$A11,IFERROR(NR_Berechnung!X40,1/0),\"\")","v":{"$error":"#DIV/0!"}},{"$error":"#DIV/0!"},{"$error":"#DIV/0!"},"","",{"$f":"IF(BL40=\"\",\"\",HI_Hilfstabelle!H11)","v":""},"","","","",{"$f":"IF(BL40=\"\",\"\",HI_Hilfstabelle!J11)","v":""},"","","",""]
["Spanien",null,{"$f":"IF(NR_Veränderung!C54=\"\",1/0,NR_Veränderung!C54)","v":{"$error":"#DIV/0!"}},{"$f":"IF(NR_Veränderung!D54=\"\",1/0,NR_Veränderung!D54)","v":{"$error":"#DIV/0!"}},{"$f":"IF(NR_Veränderung!E54=\"\",1/0,NR_Veränderung!E54)","v":{"$error":"#DIV/0!"}},{"$f":"IF(NR_Veränderung!F54=\"\",1/0,NR_Veränderung!F54)","v":{"$error":"#DIV/0!"}},{"$f":"IF(NR_Veränderung!G54=\"\",1/0,NR_Veränderung!G54)","v":{"$error":"#DIV/0!"}},{"$f":"IF(NR_Veränderung!H54=\"\",1/0,NR_Veränderung!H54)","v":{"$error":"#DIV/0!"}},{"$f":"IF(NR_Veränderung!I54=\"\",1/0,NR_Veränderung!I54)","v":{"$error":"#DIV/0!"}},{"$f":"IF(NR_Veränderung!J54=\"\",1/0,NR_Veränderung!J54)","v":{"$error":"#DIV/0!"}},{"$f":"IF(NR_Veränderung!K54=\"\",1/0,NR_Veränderung!K54)","v":{"$error":"#DIV/0!"}},{"$f":"IF(NR_Veränderung!L54=\"\",1/0,NR_Veränderung!L54)","v":{"$error":"#DIV/0!"}},{"$f":"IF(NR_Veränderung!M54=\"\",1/0,NR_Veränderung!M54)","v":{"$error":"#DIV/0!"}},{"$f":"IF(NR_Veränderung!N54=\"\",1/0,NR_Veränderung!N54)","v":{"$error":"#DIV/0!"}},{"$f":"IF(NR_Veränderung!O54=\"\",1/0,NR_Veränderung!O54)","v":{"$error":"#DIV/0!"}},{"$f":"IF(NR_Veränderung!P54=\"\",1/0,NR_Veränderung!P54)","v":{"$error":"#DIV/0!"}},{"$f":"IF(NR_Veränderung!Q54=\"\",1/0,NR_Veränderung!Q54)","v":{"$error":"#DIV/0!"}},{"$f":"IF(NR_Veränderung!R54=\"\",1/0,NR_Veränderung!R54)","v":{"$error":"#DIV/0!"}},{"$f":"IF(NR_Veränderung!S54=\"\",1/0,NR_Veränderung!S54)","v":{"$error":"#DIV/0!"}},{"$f":"IF(NR_Veränderung!T54=\"\",1/0,NR_Veränderung!T54)","v":{"$error":"#DIV/0!"}},{"$f":"IF(NR_Veränderung!U54=\"\",1/0,NR_Veränderung!U54)","v":{"$error":"#DIV/0!"}},{"$f":"IF(NR_Veränderung!V54=\"\",1/0,NR_Veränderung!V54)","v":{"$error":"#DIV/0!"}},{"$f":"IF(NR_Veränderung!W54=\"\",1/0,NR_Veränderung!W54)","v":{"$error":"#DIV/0!"}},{"$f":"IF(NR_Veränderung!X54=\"\",1/0,NR_Veränderung!X54)","v":{"$error":"#DIV/0!"}},{"$error":"#DIV/0!"},{"$error":"#DIV/0!"},"","",{"$f":"IF(AA41=\"\",\"\",HI_Hilfstabelle!H12)","v":""},"","","","",{"$f":"IF(AA41=\"\",\"\",HI_Hilfstabelle!J12)","v":""},"","","","",null,{"$f":"IF(HI_Hilfstabelle!$C12=HI_Hilfstabelle!$A12,IFERROR(NR_Berechnung!C41,1/0),\"\")","v":{"$error":"#DIV/0!"}},{"$f":"IF(HI_Hilfstabelle!$C12=HI_Hilfstabelle!$A12,IFERROR(NR_Berechnung!D41,1/0),\"\")","v":{"$error":"#DIV/0!"}},{"$f":"IF(HI_Hilfstabelle!$C12=HI_Hilfstabelle!$A12,IFERROR(NR_Berechnung!E41,1/0),\"\")","v":{"$error":"#DIV/0!"}},{"$f":"IF(HI_Hilfstabelle!$C12=HI_Hilfstabelle!$A12,IFERROR(NR_Berechnung!F41,1/0),\"\")","v":{"$error":"#DIV/0!"}},{"$f":"IF(HI_Hilfstabelle!$C12=HI_Hilfstabelle!$A12,IFERROR(NR_Berechnung!G41,1/0),\"\")","v":{"$error":"#DIV/0!"}},{"$f":"IF(HI_Hilfstabelle!$C12=HI_Hilfstabelle!$A12,IFERROR(NR_Berechnung!H41,1/0),\"\")","v":{"$error":"#DIV/0!"}},{"$f":"IF(HI_Hilfstabelle!$C12=HI_Hilfstabelle!$A12,IFERROR(NR_Berechnung!I41,1/0),\"\")","v":{"$error":"#DIV/0!"}},{"$f":"IF(HI_Hilfstabelle!$C12=HI_Hilfstabelle!$A12,IFERROR(NR_Berechnung!J41,1/0),\"\")","v":{"$error":"#DIV/0!"}},{"$f":"IF(HI_Hilfstabelle!$C12=HI_Hilfstabelle!$A12,IFERROR(NR_Berechnung!K41,1/0),\"\")","v":{"$error":"#DIV/0!"}},{"$f":"IF(HI_Hilfstabelle!$C12=HI_Hilfstabelle!$A12,IFERROR(NR_Berechnung!L41,1/0),\"\")","v":{"$error":"#DIV/0!"}},{"$f":"IF(HI_Hilfstabelle!$C12=HI_Hilfstabelle!$A12,IFERROR(NR_Berechnung!M41,1/0),\"\")","v":{"$error":"#DIV/0!"}},{"$f":"IF(HI_Hilfstabelle!$C12=HI_Hilfstabelle!$A12,IFERROR(NR_Berechnung!N41,1/0),\"\")","v":{"$error":"#DIV/0!"}},{"$f":"IF(HI_Hilfstabelle!$C12=HI_Hilfstabelle!$A12,IFERROR(NR_Berechnung!O41,1/0),\"\")","v":{"$error":"#DIV/0!"}},{"$f":"IF(HI_Hilfstabelle!$C12=HI_Hilfstabelle!$A12,IFERROR(NR_Berechnung!P41,1/0),\"\")","v":{"$error":"#DIV/0!"}},{"$f":"IF(HI_Hilfstabelle!$C12=HI_Hilfstabelle!$A12,IFERROR(NR_Berechnung!Q41,1/0),\"\")","v":{"$error":"#DIV/0!"}},{"$f":"IF(HI_Hilfstabelle!$C12=HI_Hilfstabelle!$A12,IFERROR(NR_Berechnung!R41,1/0),\"\")","v":{"$error":"#DIV/0!"}},{"$f":"IF(HI_Hilfstabelle!$C12=HI_Hilfstabelle!$A12,IFERROR(NR_Berechnung!S41,1/0),\"\")","v":{"$error":"#DIV/0!"}},{"$f":"IF(HI_Hilfstabelle!$C12=HI_Hilfstabelle!$A12,IFERROR(NR_Berechnung!T41,1/0),\"\")","v":{"$error":"#DIV/0!"}},{"$f":"IF(HI_Hilfstabelle!$C12=HI_Hilfstabelle!$A12,IFERROR(NR_Berechnung!U41,1/0),\"\")","v":{"$error":"#DIV/0!"}},{"$f":"IF(HI_Hilfstabelle!$C12=HI_Hilfstabelle!$A12,IFERROR(NR_Berechnung!V41,1/0),\"\")","v":{"$error":"#DIV/0!"}},{"$f":"IF(HI_Hilfstabelle!$C12=HI_Hilfstabelle!$A12,IFERROR(NR_Berechnung!W41,1/0),\"\")","v":{"$error":"#DIV/0!"}},{"$f":"IF(HI_Hilfstabelle!$C12=HI_Hilfstabelle!$A12,IFERROR(NR_Berechnung!X41,1/0),\"\")","v":{"$error":"#DIV/0!"}},{"$error":"#DIV/0!"},{"$error":"#DIV/0!"},"","",{"$f":"IF(BL41=\"\",\"\",HI_Hilfstabelle!H12)","v":""},"","","","",{"$f":"IF(BL41=\"\",\"\",HI_Hilfstabelle!J12)","v":""},"","","",""]
["Finnland",null,{"$f":"IF(NR_Veränderung!C55=\"\",1/0,NR_Veränderung!C55)","v":1.0396744659206509},{"$f":"IF(NR_Veränderung!D55=\"\",1/0,NR_Veränderung!D55)","v":1.0708722613194406},{"$f":"IF(NR_Veränderung!E55=\"\",1/0,NR_Veränderung!E55)","v":1.021682604491243},{"$f":"IF(NR_Veränderung!F55=\"\",1/0,NR_Veränderung!F55)","v":1.1002240171641322},{"$f":"IF(NR_Veränderung!G55=\"\",1/0,NR_Veränderung!G55)","v":1.0470124147229001},{"$f":"IF(NR_Veränderung!H55=\"\",1/0,NR_Veränderung!H55)","v":0.99381621545328636},{"$f":"IF(NR_Veränderung!I55=\"\",1/0,NR_Veränderung!I55)","v":1.0066662061342913},{"$f":"IF(NR_Veränderung!J55=\"\",1/0,NR_Veränderung!J55)","v":1.0252726877912706},{"$f":"IF(NR_Veränderung!K55=\"\",1/0,NR_Veränderung!K55)","v":1.0434090003982475},{"$f":"IF(NR_Veränderung!L55=\"\",1/0,NR_Veränderung!L55)","v":1.0015287922541194},{"$f":"IF(NR_Veränderung!M55=\"\",1/0,NR_Veränderung!M55)","v":0.98957030152934877},{"$f":"IF(NR_Veränderung!N55=\"\",1/0,NR_Veränderung!N55)","v":0.9980802510557355},{"$f":"IF(NR_Veränderung!O55=\"\",1/0,NR_Veränderung!O55)","v":1.0049387379900017},{"$f":"IF(NR_Veränderung!P55=\"\",1/0,NR_Veränderung!P55)","v":0.92402527817003677},{"$f":"IF(NR_Veränderung!Q55=\"\",1/0,NR_Veränderung!Q55)","v":1.0609197871566909},{"$f":"IF(NR_Veränderung!R55=\"\",1/0,NR_Veränderung!R55)","v":1.093444093214732},{"$f":"IF(NR_Veränderung!S55=\"\",1/0,NR_Veränderung!S55)","v":1.0497071140059506},{"$f":"IF(NR_Veränderung!T55=\"\",1/0,NR_Veränderung!T55)","v":0.95305286671630662},{"$f":"IF(NR_Veränderung!U55=\"\",1/0,NR_Veränderung!U55)","v":0.9323354798785557},{"$f":"IF(NR_Veränderung!V55=\"\",1/0,NR_Veränderung!V55)","v":0.86084996926999169},{"$f":"IF(NR_Veränderung!W55=\"\",1/0,NR_Veränderung!W55)","v":0.99732954203526514},{"$f":"IF(NR_Veränderung!X55=\"\",1/0,NR_Veränderung!X55)","v":1.0023848095543082},0.98415769638215855,0.98153952726047211,0.98415769638215855,0.98153952726047211,{"$f":"IF(AA42=\"\",\"\",HI_Hilfstabelle!H13)","v":5525292},6.1751066208531123E-2,6.1751066208531123E-2,6.0772787068930141E-2,6.061111233415175E-2,{"$f":"IF(AA42=\"\",\"\",HI_Hilfstabelle!J13)","v":111},0.12585034013605442,0.12585034013605442,0.12385658083721043,0.12352708336271248,null,{"$f":"IF(HI_Hilfstabelle!$C13=HI_Hilfstabelle!$A13,IFERROR(NR_Berechnung!C42,1/0),\"\")","v":1.0396744659206509},{"$f":"IF(HI_Hilfstabelle!$C13=HI_Hilfstabelle!$A13,IFERROR(NR_Berechnung!D42,1/0),\"\")","v":1.0708722613194406},{"$f":"IF(HI_Hilfstabelle!$C13=HI_Hilfstabelle!$A13,IFERROR(NR_Berechnung!E42,1/0),\"\")","v":1.021682604491243},{"$f":"IF(HI_Hilfstabelle!$C13=HI_Hilfstabelle!$A13,IFERROR(NR_Berechnung!F42,1/0),\"\")","v":1.1002240171641322},{"$f":"IF(HI_Hilfstabelle!$C13=HI_Hilfstabelle!$A13,IFERROR(NR_Berechnung!G42,1/0),\"\")","v":1.0470124147229001},{"$f":"IF(HI_Hilfstabelle!$C13=HI_Hilfstabelle!$A13,IFERROR(NR_Berechnung!H42,1/0),\"\")","v":0.99381621545328636},{"$f":"IF(HI_Hilfstabelle!$C13=HI_Hilfstabelle!$A13,IFERROR(NR_Berechnung!I42,1/0),\"\")","v":1.0066662061342913},{"$f":"IF(HI_Hilfstabelle!$C13=HI_Hilfstabelle!$A13,IFERROR(NR_Berechnung!J42,1/0),\"\")","v":1.0252726877912706},{"$f":"IF(HI_Hilfstabelle!$C13=HI_Hilfstabelle!$A13,IFERROR(NR_Berechnung!K42,1/0),\"\")","v":1.0434090003982475},{"$f":"IF(HI_Hilfstabelle!$C13=HI_Hilfstabelle!$A13,IFERROR(NR_Berechnung!L42,1/0),\"\")","v":1.0015287922541194},{"$f":"IF(HI_Hilfstabelle!$C13=HI_Hilfstabelle!$A13,IFERROR(NR_Berechnung!M42,1/0),\"\")","v":0.98957030152934877},{"$f":"IF(HI_Hilfstabelle!$C13=HI_Hilfstabelle!$A13,IFERROR(NR_Berechnung!N42,1/0),\"\")","v":0.9980802510557355},{"$f":"IF(HI_Hilfstabelle!$C13=HI_Hilfstabelle!$A13,IFERROR(NR_Berechnung!O42,1/0),\"\")","v":1.0049387379900017},{"$f":"IF(HI_Hilfstabelle!$C13=HI_Hilfstabelle!$A13,IFERROR(NR_Berechnung!P42,1/0),\"\")","v":0.92402527817003677},{"$f":"IF(HI_Hilfstabelle!$C13=HI_Hilfstabelle!$A13,IFERROR(NR_Berechnung!Q42,1/0),\"\")","v":1.0609197871566909},{"$f":"IF(HI_Hilfstabelle!$C13=HI_Hilfstabelle!$A13,IFERROR(NR_Berechnung!R42,1/0),\"\")","v":1.093444093214732},{"$f":"IF(HI_Hilfstabelle!$C13=HI_Hilfstabelle!$A13,IFERROR(NR_Berechnung!S42,1/0),\"\")","v":1.0497071140059506},{"$f":"IF(HI_Hilfstabelle!$C13=HI_Hilfstabelle!$A13,IFERROR(NR_Berechnung!T42,1/0),\"\")","v":0.95305286671630662},{"$f":"IF(HI_Hilfstabelle!$C13=HI_Hilfstabelle!$A13,IFERROR(NR_Berechnung!U42,1/0),\"\")","v":0.9323354798785557},{"$f":"IF(HI_Hilfstabelle!$C13=HI_Hilfstabelle!$A13,IFERROR(NR_Berechnung!V42,1/0),\"\")","v":0.86084996926999169},{"$f":"IF(HI_Hilfstabelle!$C13=HI_Hilfstabelle!$A13,IFERROR(NR_Berechnung!W42,1/0),\"\")","v":0.99732954203526514},{"$f":"IF(HI_Hilfstabelle!$C13=HI_Hilfstabelle!$A13,IFERROR(NR_Berechnung!X42,1/0),\"\")","v":1.0023848095543082},0.98415769638215855,0.98153952726047211,0.98415769638215855,0.98153952726047211,{"$f":"IF(BL42=\"\",\"\",HI_Hilfstabelle!H13)","v":5525292},6.1751066208531123E-2,6.1751066208531123E-2,6.0772787068930141E-2,6.061111233415175E-2,{"$f":"IF(BL42=\"\",\"\",HI_Hilfstabelle!J13)","v":111},0.12585034013605442,0.12585034013605442,0.12385658083721043,0.12352708336271248]
["Ungarn",null,{"$f":"IF(NR_Veränderung!C56=\"\",1/0,NR_Veränderung!C56)","v":0.91456434099397388},{"$f":"IF(NR_Veränderung!D56=\"\",1/0,NR_Veränderung!D56)","v":0.97122929523379653},{"$f":"IF(NR_Veränderung!E56=\"\",1/0,NR_Veränderung!E56)","v":1.0687774401713066},{"$f":"IF(NR_Veränderung!F56=\"\",1/0,NR_Veränderung!F56)","v":1.0418907467244034},{"$f":"IF(NR_Veränderung!G56=\"\",1/0,NR_Veränderung!G56)","v":0.95086906241988456},{"$f":"IF(NR_Veränderung!H56=\"\",1/0,NR_Veränderung!H56)","v":1.4789682673970934},{"$f":"IF(NR_Veränderung!I56=\"\",1/0,NR_Veränderung!I56)","v":1.2753300770563873},{"$f":"IF(NR_Veränderung!J56=\"\",1/0,NR_Veränderung!J56)","v":0.90190509824738141},{"$f":"IF(NR_Veränderung!K56=\"\",1/0,NR_Veränderung!K56)","v":1.2210220779612502},{"$f":"IF(NR_Veränderung!L56=\"\",1/0,NR_Veränderung!L56)","v":1.0718772363857316},{"$f":"IF(NR_Veränderung!M56=\"\",1/0,NR_Veränderung!M56)","v":0.98894518994409863},{"$f":"IF(NR_Veränderung!N56=\"\",1/0,NR_Veränderung!N56)","v":1.0719123903194887},{"$f":"IF(NR_Veränderung!O56=\"\",1/0,NR_Veränderung!O56)","v":1.1310747259962037},{"$f":"IF(NR_Veränderung!P56=\"\",1/0,NR_Veränderung!P56)","v":0.85448649215783357},{"$f":"IF(NR_Veränderung!Q56=\"\",1/0,NR_Veränderung!Q56)","v":0.9950563872827396},{"$f":"IF(NR_Veränderung!R56=\"\",1/0,NR_Veränderung!R56)","v":0.99659793201806524},{"$f":"IF(NR_Veränderung!S56=\"\",1/0,NR_Veränderung!S56)","v":0.97735701713085454},{"$f":"IF(NR_Veränderung!T56=\"\",1/0,NR_Veränderung!T56)","v":1.0533991471145214},{"$f":"IF(NR_Veränderung!U56=\"\",1/0,NR_Veränderung!U56)","v":1.0623428924460889},{"$f":"IF(NR_Veränderung!V56=\"\",1/0,NR_Veränderung!V56)","v":1.0425785718037452},{"$f":"IF(NR_Veränderung!W56=\"\",1/0,NR_Veränderung!W56)","v":0.96711649574127001},{"$f":"IF(NR_Veränderung!X56=\"\",1/0,NR_Veränderung!X56)","v":0.94898596647354772},1.0069111461040134,1.0060305791869628,1.0069111461040134,1.0060305791869628,{"$f":"IF(AA43=\"\",\"\",HI_Hilfstabelle!H14)","v":9769526},0.1091849348146607,0.1091849348146607,0.109939527851522,0.10984338321008388,{"$f":"IF(AA43=\"\",\"\",HI_Hilfstabelle!J14)","v":73},8.2766439909297052E-2,8.2766439909297052E-2,8.3338450868019248E-2,8.3265569479193072E-2,null,{"$f":"IF(HI_Hilfstabelle!$C14=HI_Hilfstabelle!$A14,IFERROR(NR_Berechnung!C43,1/0),\"\")","v":0.91456434099397388},{"$f":"IF(HI_Hilfstabelle!$C14=HI_Hilfstabelle!$A14,IFERROR(NR_Berechnung!D43,1/0),\"\")","v":0.97122929523379653},{"$f":"IF(HI_Hilfstabelle!$C14=HI_Hilfstabelle!$A14,IFERROR(NR_Berechnung!E43,1/0),\"\")","v":1.0687774401713066},{"$f":"IF(HI_Hilfstabelle!$C14=HI_Hilfstabelle!$A14,IFERROR(NR_Berechnung!F43,1/0),\"\")","v":1.0418907467244034},{"$f":"IF(HI_Hilfstabelle!$C14=HI_Hilfstabelle!$A14,IFERROR(NR_Berechnung!G43,1/0),\"\")","v":0.95086906241988456},{"$f":"IF(HI_Hilfstabelle!$C14=HI_Hilfstabelle!$A14,IFERROR(NR_Berechnung!H43,1/0),\"\")","v":1.4789682673970934},{"$f":"IF(HI_Hilfstabelle!$C14=HI_Hilfstabelle!$A14,IFERROR(NR_Berechnung!I43,1/0),\"\")","v":1.2753300770563873},{"$f":"IF(HI_Hilfstabelle!$C14=HI_Hilfstabelle!$A14,IFERROR(NR_Berechnung!J43,1/0),\"\")","v":0.90190509824738141},{"$f":"IF(HI_Hilfstabelle!$C14=HI_Hilfstabelle!$A14,IFERROR(NR_Berechnung!K43,1/0),\"\")","v":1.2210220779612502},{"$f":"IF(HI_Hilfstabelle!$C14=HI_Hilfstabelle!$A14,IFERROR(NR_Berechnung!L43,1/0),\"\")","v":1.0718772363857316},{"$f":"IF(HI_Hilfstabelle!$C14=HI_Hilfstabelle!$A14,IFERROR(NR_Berechnung!M43,1/0),\"\")","v":0.98894518994409863},{"$f":"IF(HI_Hilfstabelle!$C14=HI_Hilfstabelle!$A14,IFERROR(NR_Berechnung!N43,1/0),\"\")","v":1.0719123903194887},{"$f":"IF(HI_Hilfstabelle!$C14=HI_Hilfstabelle!$A14,IFERROR(NR_Berechnung!O43,1/0),\"\")","v":1.1310747259962037},{"$f":"IF(HI_Hilfstabelle!$C14=HI_Hilfstabelle!$A14,IFERROR(NR_Berechnung!P43,1/0),\"\")","v":0.85448649215783357},{"$f":"IF(HI_Hilfstabelle!$C14=HI_Hilfstabelle!$A14,IFERROR(NR_Berechnung!Q43,1/0),\"\")","v":0.9950563872827396},{"$f":"IF(HI_Hilfstabelle!$C14=HI_Hilfstabelle!$A14,IFERROR(NR_Berechnung!R43,1/0),\"\")","v":0.99659793201806524},{"$f":"IF(HI_Hilfstabelle!$C14=HI_Hilfstabelle!$A14,IFERROR(NR_Berechnung!S43,1/0),\"\")","v":0.97735701713085454},{"$f":"IF(HI_Hilfstabelle!$C14=HI_Hilfstabelle!$A14,IFERROR(NR_Berechnung!T43,1/0),\"\")","v":1.0533991471145214},{"$f":"IF(HI_Hilfstabelle!$C14=HI_Hilfstabelle!$A14,IFERROR(NR_Berechnung!U43,1/0),\"\")","v":1.0623428924460889},{"$f":"IF(HI_Hilfstabelle!$C14=HI_Hilfstabelle!$A14,IFERROR(NR_Berechnung!V43,1/0),\"\")","v":1.0425785718037452},{"$f":"IF(HI_Hilfstabelle!$C14=HI_Hilfstabelle!$A14,IFERROR(NR_Berechnung!W43,1/0),\"\")","v":0.96711649574127001},{"$f":"IF(HI_Hilfstabelle!$C14=HI_Hilfstabelle!$A14,IFERROR(NR_Berechnung!X43,1/0),\"\")","v":0.94898596647354772},1.0069111461040134,1.0060305791869628,1.0069111461040134,1.0060305791869628,{"$f":"IF(BL43=\"\",\"\",HI_Hilfstabelle!H14)","v":9769526},0.1091849348146607,0.1091849348146607,0.109939527851522,0.10984338321008388,{"$f":"IF(BL43=\"\",\"\",HI_Hilfstabelle!J14)","v":73},8.2766439909297052E-2,8.2766439909297052E-2,8.3338450868019248E-2,8.3265569479193072E-2]
["Irland",null,{"$f":"IF(NR_Veränderung!C57=\"\",1/0,NR_Veränderung!C57)","v":{"$error":"#DIV/0!"}},{"$f":"IF(NR_Veränderung!D57=\"\",1/0,NR_Veränderung!D57)","v":{"$error":"#DIV/0!"}},{"$f":"IF(NR_Veränderung!E57=\"\",1/0,NR_Veränderung!E57)","v":{"$error":"#DIV/0!"}},{"$f":"IF(NR_Veränderung!F57=\"\",1/0,NR_Veränderung!F57)","v":{"$error":"#DIV/0!"}},{"$f":"IF(NR_Veränderung!G57=\"\",1/0,NR_Veränderung!G57)","v":{"$error":"#DIV/0!"}},{"$f":"IF(NR_Veränderung!H57=\"\",1/0,NR_Veränderung!H57)","v":{"$error":"#DIV/0!"}},{"$f":"IF(NR_Veränderung!I57=\"\",1/0,NR_Veränderung!I57)","v":{"$error":"#DIV/0!"}},{"$f":"IF(NR_Veränderung!J57=\"\",1/0,NR_Veränderung!J57)","v":{"$error":"#DIV/0!"}},{"$f":"IF(NR_Veränderung!K57=\"\",1/0,NR_Veränderung!K57)","v":{"$error":"#DIV/0!"}},{"$f":"IF(NR_Veränderung!L57=\"\",1/0,NR_Veränderung!L57)","v":{"$error":"#DIV/0!"}},{"$f":"IF(NR_Veränderung!M57=\"\",1/0,NR_Veränderung!M57)","v":{"$error":"#DIV/0!"}},{"$f":"IF(NR_Veränderung!N57=\"\",1/0,NR_Veränderung!N57)","v":{"$error":"#DIV/0!"}},{"$f":"IF(NR_Veränderung!O57=\"\",1/0,NR_Veränderung!O57)","v":{"$error":"#DIV/0!"}},{"$f":"IF(NR_Veränderung!P57=\"\",1/0,NR_Veränderung!P57)","v":{"$error":"#DIV/0!"}},{"$f":"IF(NR_Veränderung!Q57=\"\",1/0,NR_Veränderung!Q57)","v":{"$error":"#DIV/0!"}},{"$f":"IF(NR_Veränderung!R57=\"\",1/0,NR_Veränderung!R57)","v":{"$error":"#DIV/0!"}},{"$f":"IF(NR_Veränderung!S57=\"\",1/0,NR_Veränderung!S57)","v":{"$error":"#DIV/0!"}},{"$f":"IF(NR_Veränderung!T57=\"\",1/0,NR_Veränderung!T57)","v":{"$error":"#DIV/0!"}},{"$f":"IF(NR_Veränderung!U57=\"\",1/0,NR_Veränderung!U57)","v":{"$error":"#DIV/0!"}},{"$f":"IF(NR_Veränderung!V57=\"\",1/0,NR_Veränderung!V57)","v":{"$error":"#DIV/0!"}},{"$f":"IF(NR_Veränderung!W57=\"\",1/0,NR_Veränderung!W57)","v":{"$error":"#DIV/0!"}},{"$f":"IF(NR_Veränderung!X57=\"\",1/0,NR_Veränderung!X57)","v":{"$error":"#DIV/0!"}},{"$error":"#DIV/0!"},{"$error":"#DIV/0!"},"","",{"$f":"IF(AA44=\"\",\"\",HI_Hilfstabelle!H15)","v":""},"","","","",{"$f":"IF(AA44=\"\",\"\",HI_Hilfstabelle!J15)","v":""},"","","","",null,{"$f":"IF(HI_Hilfstabelle!$C15=HI_Hilfstabelle!$A15,IFERROR(NR_Berechnung!C44,1/0),\"\")","v":{"$error":"#DIV/0!"}},{"$f":"IF(HI_Hilfstabelle!$C15=HI_Hilfstabelle!$A15,IFERROR(NR_Berechnung!D44,1/0),\"\")","v":{"$error":"#DIV/0!"}},{"$f":"IF(HI_Hilfstabelle!$C15=HI_Hilfstabelle!$A15,IFERROR(NR_Berechnung!E44,1/0),\"\")","v":{"$error":"#DIV/0!"}},{"$f":"IF(HI_Hilfstabelle!$C15=HI_Hilfstabelle!$A15,IFERROR(NR_Berechnung!F44,1/0),\"\")","v":{"$error":"#DIV/0!"}},{"$f":"IF(HI_Hilfstabelle!$C15=HI_Hilfstabelle!$A15,IFERROR(NR_Berechnung!G44,1/0),\"\")","v":{"$error":"#DIV/0!"}},{"$f":"IF(HI_Hilfstabelle!$C15=HI_Hilfstabelle!$A15,IFERROR(NR_Berechnung!H44,1/0),\"\")","v":{"$error":"#DIV/0!"}},{"$f":"IF(HI_Hilfstabelle!$C15=HI_Hilfstabelle!$A15,IFERROR(NR_Berechnung!I44,1/0),\"\")","v":{"$error":"#DIV/0!"}},{"$f":"IF(HI_Hilfstabelle!$C15=HI_Hilfstabelle!$A15,IFERROR(NR_Berechnung!J44,1/0),\"\")","v":{"$error":"#DIV/0!"}},{"$f":"IF(HI_Hilfstabelle!$C15=HI_Hilfstabelle!$A15,IFERROR(NR_Berechnung!K44,1/0),\"\")","v":{"$error":"#DIV/0!"}},{"$f":"IF(HI_Hilfstabelle!$C15=HI_Hilfstabelle!$A15,IFERROR(NR_Berechnung!L44,1/0),\"\")","v":{"$error":"#DIV/0!"}},{"$f":"IF(HI_Hilfstabelle!$C15=HI_Hilfstabelle!$A15,IFERROR(NR_Berechnung!M44,1/0),\"\")","v":{"$error":"#DIV/0!"}},{"$f":"IF(HI_Hilfstabelle!$C15=HI_Hilfstabelle!$A15,IFERROR(NR_Berechnung!N44,1/0),\"\")","v":{"$error":"#DIV/0!"}},{"$f":"IF(HI_Hilfstabelle!$C15=HI_Hilfstabelle!$A15,IFERROR(NR_Berechnung!O44,1/0),\"\")","v":{"$error":"#DIV/0!"}},{"$f":"IF(HI_Hilfstabelle!$C15=HI_Hilfstabelle!$A15,IFERROR(NR_Berechnung!P44,1/0),\"\")","v":{"$error":"#DIV/0!"}},{"$f":"IF(HI_Hilfstabelle!$C15=HI_Hilfstabelle!$A15,IFERROR(NR_Berechnung!Q44,1/0),\"\")","v":{"$error":"#DIV/0!"}},{"$f":"IF(HI_Hilfstabelle!$C15=HI_Hilfstabelle!$A15,IFERROR(NR_Berechnung!R44,1/0),\"\")","v":{"$error":"#DIV/0!"}},{"$f":"IF(HI_Hilfstabelle!$C15=HI_Hilfstabelle!$A15,IFERROR(NR_Berechnung!S44,1/0),\"\")","v":{"$error":"#DIV/0!"}},{"$f":"IF(HI_Hilfstabelle!$C15=HI_Hilfstabelle!$A15,IFERROR(NR_Berechnung!T44,1/0),\"\")","v":{"$error":"#DIV/0!"}},{"$f":"IF(HI_Hilfstabelle!$C15=HI_Hilfstabelle!$A15,IFERROR(NR_Berechnung!U44,1/0),\"\")","v":{"$error":"#DIV/0!"}},{"$f":"IF(HI_Hilfstabelle!$C15=HI_Hilfstabelle!$A15,IFERROR(NR_Berechnung!V44,1/0),\"\")","v":{"$error":"#DIV/0!"}},{"$f":"IF(HI_Hilfstabelle!$C15=HI_Hilfstabelle!$A15,IFERROR(NR_Berechnung!W44,1/0),\"\")","v":{"$error":"#DIV/0!"}},{"$f":"IF(HI_Hilfstabelle!$C15=HI_Hilfstabelle!$A15,IFERROR(NR_Berechnung!X44,1/0),\"\")","v":{"$error":"#DIV/0!"}},{"$error":"#DIV/0!"},{"$error":"#DIV/0!"},"","",{"$f":"IF(BL44=\"\",\"\",HI_Hilfstabelle!H15)","v":""},"","","","",{"$f":"IF(BL44=\"\",\"\",HI_Hilfstabelle!J15)","v":""},"","","",""]
["Niederlande",null,{"$f":"IF(NR_Veränderung!C58=\"\",1/0,NR_Veränderung!C58)","v":1.0491007707679136},{"$f":"IF(NR_Veränderung!D58=\"\",1/0,NR_Veränderung!D58)","v":1.0093482905982905},{"$f":"IF(NR_Veränderung!E58=\"\",1/0,NR_Veränderung!E58)","v":1.039347429127391},{"$f":"IF(NR_Veränderung!F58=\"\",1/0,NR_Veränderung!F58)","v":0.99938485701197577},{"$f":"IF(NR_Veränderung!G58=\"\",1/0,NR_Veränderung!G58)","v":1.0130857266249187},{"$f":"IF(NR_Veränderung!H58=\"\",1/0,NR_Veränderung!H58)","v":1.0108205357757734},{"$f":"IF(NR_Veränderung!I58=\"\",1/0,NR_Veränderung!I58)","v":1.0382574082264484},{"$f":"IF(NR_Veränderung!J58=\"\",1/0,NR_Veränderung!J58)","v":1.0383345445805747},{"$f":"IF(NR_Veränderung!K58=\"\",1/0,NR_Veränderung!K58)","v":1.0989381794730051},{"$f":"IF(NR_Veränderung!L58=\"\",1/0,NR_Veränderung!L58)","v":1.0094211561763762},{"$f":"IF(NR_Veränderung!M58=\"\",1/0,NR_Veränderung!M58)","v":1.0202805155420775},{"$f":"IF(NR_Veränderung!N58=\"\",1/0,NR_Veränderung!N58)","v":1.0153958409339656},{"$f":"IF(NR_Veränderung!O58=\"\",1/0,NR_Veränderung!O58)","v":0.98372833392288639},{"$f":"IF(NR_Veränderung!P58=\"\",1/0,NR_Veränderung!P58)","v":0.94034505804599144},{"$f":"IF(NR_Veränderung!Q58=\"\",1/0,NR_Veränderung!Q58)","v":0.97092543113917895},{"$f":"IF(NR_Veränderung!R58=\"\",1/0,NR_Veränderung!R58)","v":0.9803807303807307},{"$f":"IF(NR_Veränderung!S58=\"\",1/0,NR_Veränderung!S58)","v":0.94798450251421951},{"$f":"IF(NR_Veränderung!T58=\"\",1/0,NR_Veränderung!T58)","v":0.95266615146831535},{"$f":"IF(NR_Veränderung!U58=\"\",1/0,NR_Veränderung!U58)","v":1.0533578525709559},{"$f":"IF(NR_Veränderung!V58=\"\",1/0,NR_Veränderung!V58)","v":0.99497476113214356},{"$f":"IF(NR_Veränderung!W58=\"\",1/0,NR_Veränderung!W58)","v":1.0693808312128923},{"$f":"IF(NR_Veränderung!X58=\"\",1/0,NR_Veränderung!X58)","v":1.0448567060593559},1.0062287907626593,1.0051823138346245,1.0062287907626593,1.0051823138346245,{"$f":"IF(AA45=\"\",\"\",HI_Hilfstabelle!H16)","v":17407585},0.19454843904460312,0.19454843904460312,0.19576024056461391,0.19555665011176857,{"$f":"IF(AA45=\"\",\"\",HI_Hilfstabelle!J16)","v":128},0.14512471655328799,0.14512471655328799,0.14602866804718864,0.14587679837962805,null,{"$f":"IF(HI_Hilfstabelle!$C16=HI_Hilfstabelle!$A16,IFERROR(NR_Berechnung!C45,1/0),\"\")","v":1.0491007707679136},{"$f":"IF(HI_Hilfstabelle!$C16=HI_Hilfstabelle!$A16,IFERROR(NR_Berechnung!D45,1/0),\"\")","v":1.0093482905982905},{"$f":"IF(HI_Hilfstabelle!$C16=HI_Hilfstabelle!$A16,IFERROR(NR_Berechnung!E45,1/0),\"\")","v":1.039347429127391},{"$f":"IF(HI_Hilfstabelle!$C16=HI_Hilfstabelle!$A16,IFERROR(NR_Berechnung!F45,1/0),\"\")","v":0.99938485701197577},{"$f":"IF(HI_Hilfstabelle!$C16=HI_Hilfstabelle!$A16,IFERROR(NR_Berechnung!G45,1/0),\"\")","v":1.0130857266249187},{"$f":"IF(HI_Hilfstabelle!$C16=HI_Hilfstabelle!$A16,IFERROR(NR_Berechnung!H45,1/0),\"\")","v":1.0108205357757734},{"$f":"IF(HI_Hilfstabelle!$C16=HI_Hilfstabelle!$A16,IFERROR(NR_Berechnung!I45,1/0),\"\")","v":1.0382574082264484},{"$f":"IF(HI_Hilfstabelle!$C16=HI_Hilfstabelle!$A16,IFERROR(NR_Berechnung!J45,1/0),\"\")","v":1.0383345445805747},{"$f":"IF(HI_Hilfstabelle!$C16=HI_Hilfstabelle!$A16,IFERROR(NR_Berechnung!K45,1/0),\"\")","v":1.0989381794730051},{"$f":"IF(HI_Hilfstabelle!$C16=HI_Hilfstabelle!$A16,IFERROR(NR_Berechnung!L45,1/0),\"\")","v":1.0094211561763762},{"$f":"IF(HI_Hilfstabelle!$C16=HI_Hilfstabelle!$A16,IFERROR(NR_Berechnung!M45,1/0),\"\")","v":1.0202805155420775},{"$f":"IF(HI_Hilfstabelle!$C16=HI_Hilfstabelle!$A16,IFERROR(NR_Berechnung!N45,1/0),\"\")","v":1.0153958409339656},{"$f":"IF(HI_Hilfstabelle!$C16=HI_Hilfstabelle!$A16,IFERROR(NR_Berechnung!O45,1/0),\"\")","v":0.98372833392288639},{"$f":"IF(HI_Hilfstabelle!$C16=HI_Hilfstabelle!$A16,IFERROR(NR_Berechnung!P45,1/0),\"\")","v":0.94034505804599144},{"$f":"IF(HI_Hilfstabelle!$C16=HI_Hilfstabelle!$A16,IFERROR(NR_Berechnung!Q45,1/0),\"\")","v":0.97092543113917895},{"$f":"IF(HI_Hilfstabelle!$C16=HI_Hilfstabelle!$A16,IFERROR(NR_Berechnung!R45,1/0),\"\")","v":0.9803807303807307},{"$f":"IF(HI_Hilfstabelle!$C16=HI_Hilfstabelle!$A16,IFERROR(NR_Berechnung!S45,1/0),\"\")","v":0.94798450251421951},{"$f":"IF(HI_Hilfstabelle!$C16=HI_Hilfstabelle!$A16,IFERROR(NR_Berechnung!T45,1/0),\"\")","v":0.95266615146831535},{"$f":"IF(HI_Hilfstabelle!$C16=HI_Hilfstabelle!$A16,IFERROR(NR_Berechnung!U45,1/0),\"\")","v":1.0533578525709559},{"$f":"IF(HI_Hilfstabelle!$C16=HI_Hilfstabelle!$A16,IFERROR(NR_Berechnung!V45,1/0),\"\")","v":0.99497476113214356},{"$f":"IF(HI_Hilfstabelle!$C16=HI_Hilfstabelle!$A16,IFERROR(NR_Berechnung!W45,1/0),\"\")","v":1.0693808312128923},{"$f":"IF(HI_Hilfstabelle!$C16=HI_Hilfstabelle!$A16,IFERROR(NR_Berechnung!X45,1/0),\"\")","v":1.0448567060593559},1.0062287907626593,1.0051823138346245,1.0062287907626593,1.0051823138346245,{"$f":"IF(BL45=\"\",\"\",HI_Hilfstabelle!H16)","v":17407585},0.19454843904460312,0.19454843904460312,0.19576024056461391,0.19555665011176857,{"$f":"IF(BL45=\"\",\"\",HI_Hilfstabelle!J16)","v":128},0.14512471655328799,0.14512471655328799,0.14602866804718864,0.14587679837962805]
["Portugal",null,{"$f":"IF(NR_Veränderung!C59=\"\",1/0,NR_Veränderung!C59)","v":1.0636984138746421},{"$f":"IF(NR_Veränderung!D59=\"\",1/0,NR_Veränderung!D59)","v":1.0411927381156336},{"$f":"IF(NR_Veränderung!E59=\"\",1/0,NR_Veränderung!E59)","v":1.0428287824864861},{"$f":"IF(NR_Veränderung!F59=\"\",1/0,NR_Veränderung!F59)","v":1.0238861149626031},{"$f":"IF(NR_Veränderung!G59=\"\",1/0,NR_Veränderung!G59)","v":1.0658872386618883},{"$f":"IF(NR_Veränderung!H59=\"\",1/0,NR_Veränderung!H59)","v":0.98874009982384681},{"$f":"IF(NR_Veränderung!I59=\"\",1/0,NR_Veränderung!I59)","v":1.0041407746049256},{"$f":"IF(NR_Veränderung!J59=\"\",1/0,NR_Veränderung!J59)","v":0.99629646120172022},{"$f":"IF(NR_Veränderung!K59=\"\",1/0,NR_Veränderung!K59)","v":1.0384727575976851},{"$f":"IF(NR_Veränderung!L59=\"\",1/0,NR_Veränderung!L59)","v":1.0342738013591584},{"$f":"IF(NR_Veränderung!M59=\"\",1/0,NR_Veränderung!M59)","v":1.0166322855494547},{"$f":"IF(NR_Veränderung!N59=\"\",1/0,NR_Veränderung!N59)","v":1.0794908548083049},{"$f":"IF(NR_Veränderung!O59=\"\",1/0,NR_Veränderung!O59)","v":1.0116747948176938},{"$f":"IF(NR_Veränderung!P59=\"\",1/0,NR_Veränderung!P59)","v":0.96646264229269996},{"$f":"IF(NR_Veränderung!Q59=\"\",1/0,NR_Veränderung!Q59)","v":1.0360101053614954},{"$f":"IF(NR_Veränderung!R59=\"\",1/0,NR_Veränderung!R59)","v":0.98733766136193524},{"$f":"IF(NR_Veränderung!S59=\"\",1/0,NR_Veränderung!S59)","v":0.97551421301552255},{"$f":"IF(NR_Veränderung!T59=\"\",1/0,NR_Veränderung!T59)","v":1.0387471029382245},{"$f":"IF(NR_Veränderung!U59=\"\",1/0,NR_Veränderung!U59)","v":1.0336249804842697},{"$f":"IF(NR_Veränderung!V59=\"\",1/0,NR_Veränderung!V59)","v":0.97004255492435798},{"$f":"IF(NR_Veränderung!W59=\"\",1/0,NR_Veränderung!W59)","v":0.94698014405023423},{"$f":"IF(NR_Veränderung!X59=\"\",1/0,NR_Veränderung!X59)","v":{"$error":"#DIV/0!"}},{"$error":"#DIV/0!"},{"$error":"#DIV/0!"},"","",{"$f":"IF(AA46=\"\",\"\",HI_Hilfstabelle!H17)","v":""},"","","","",{"$f":"IF(AA46=\"\",\"\",HI_Hilfstabelle!J17)","v":""},"","","","",null,{"$f":"IF(HI_Hilfstabelle!$C17=HI_Hilfstabelle!$A17,IFERROR(NR_Berechnung!C46,1/0),\"\")","v":1.0636984138746421},{"$f":"IF(HI_Hilfstabelle!$C17=HI_Hilfstabelle!$A17,IFERROR(NR_Berechnung!D46,1/0),\"\")","v":1.0411927381156336},{"$f":"IF(HI_Hilfstabelle!$C17=HI_Hilfstabelle!$A17,IFERROR(NR_Berechnung!E46,1/0),\"\")","v":1.0428287824864861},{"$f":"IF(HI_Hilfstabelle!$C17=HI_Hilfstabelle!$A17,IFERROR(NR_Berechnung!F46,1/0),\"\")","v":1.0238861149626031},{"$f":"IF(HI_Hilfstabelle!$C17=HI_Hilfstabelle!$A17,IFERROR(NR_Berechnung!G46,1/0),\"\")","v":1.0658872386618883},{"$f":"IF(HI_Hilfstabelle!$C17=HI_Hilfstabelle!$A17,IFERROR(NR_Berechnung!H46,1/0),\"\")","v":0.98874009982384681},{"$f":"IF(HI_Hilfstabelle!$C17=HI_Hilfstabelle!$A17,IFERROR(NR_Berechnung!I46,1/0),\"\")","v":1.0041407746049256},{"$f":"IF(HI_Hilfstabelle!$C17=HI_Hilfstabelle!$A17,IFERROR(NR_Berechnung!J46,1/0),\"\")","v":0.99629646120172022},{"$f":"IF(HI_Hilfstabelle!$C17=HI_Hilfstabelle!$A17,IFERROR(NR_Berechnung!K46,1/0),\"\")","v":1.0384727575976851},{"$f":"IF(HI_Hilfstabelle!$C17=HI_Hilfstabelle!$A17,IFERROR(NR_Berechnung!L46,1/0),\"\")","v":1.0342738013591584},{"$f":"IF(HI_Hilfstabelle!$C17=HI_Hilfstabelle!$A17,IFERROR(NR_Berechnung!M46,1/0),\"\")","v":1.0166322855494547},{"$f":"IF(HI_Hilfstabelle!$C17=HI_Hilfstabelle!$A17,IFERROR(NR_Berechnung!N46,1/0),\"\")","v":1.0794908548083049},{"$f":"IF(HI_Hilfstabelle!$C17=HI_Hilfstabelle!$A17,IFERROR(NR_Berechnung!O46,1/0),\"\")","v":1.0116747948176938},{"$f":"IF(HI_Hilfstabelle!$C17=HI_Hilfstabelle!$A17,IFERROR(NR_Berechnung!P46,1/0),\"\")","v":0.96646264229269996},{"$f":"IF(HI_Hilfstabelle!$C17=HI_Hilfstabelle!$A17,IFERROR(NR_Berechnung!Q46,1/0),\"\")","v":1.0360101053614954},{"$f":"IF(HI_Hilfstabelle!$C17=HI_Hilfstabelle!$A17,IFERROR(NR_Berechnung!R46,1/0),\"\")","v":0.98733766136193524},{"$f":"IF(HI_Hilfstabelle!$C17=HI_Hilfstabelle!$A17,IFERROR(NR_Berechnung!S46,1/0),\"\")","v":0.97551421301552255},{"$f":"IF(HI_Hilfstabelle!$C17=HI_Hilfstabelle!$A17,IFERROR(NR_Berechnung!T46,1/0),\"\")","v":1.0387471029382245},{"$f":"IF(HI_Hilfstabelle!$C17=HI_Hilfstabelle!$A17,IFERROR(NR_Berechnung!U46,1/0),\"\")","v":1.0336249804842697},{"$f":"IF(HI_Hilfstabelle!$C17=HI_Hilfstabelle!$A17,IFERROR(NR_Berechnung!V46,1/0),\"\")","v":0.97004255492435798},{"$f":"IF(HI_Hilfstabelle!$C17=HI_Hilfstabelle!$A17,IFERROR(NR_Berechnung!W46,1/0),\"\")","v":0.94698014405023423},{"$f":"IF(HI_Hilfstabelle!$C17=HI_Hilfstabelle!$A17,IFERROR(NR_Berechnung!X46,1/0),\"\")","v":{"$error":"#DIV/0!"}},{"$error":"#DIV/0!"},{"$error":"#DIV/0!"},"","",{"$f":"IF(BL46=\"\",\"\",HI_Hilfstabelle!H17)","v":""},"","","","",{"$f":"IF(BL46=\"\",\"\",HI_Hilfstabelle!J17)","v":""},"","","",""]
["Rumänien",null,{"$f":"IF(NR_Veränderung!C60=\"\",1/0,NR_Veränderung!C60)","v":1.277172874762021},{"$f":"IF(NR_Veränderung!D60=\"\",1/0,NR_Veränderung!D60)","v":1.0528301886792453},{"$f":"IF(NR_Veränderung!E60=\"\",1/0,NR_Veränderung!E60)","v":1.0264431883963872},{"$f":"IF(NR_Veränderung!F60=\"\",1/0,NR_Veränderung!F60)","v":1.0395184931463479},{"$f":"IF(NR_Veränderung!G60=\"\",1/0,NR_Veränderung!G60)","v":0.92187854688302318},{"$f":"IF(NR_Veränderung!H60=\"\",1/0,NR_Veränderung!H60)","v":1.0852935547096585},{"$f":"IF(NR_Veränderung!I60=\"\",1/0,NR_Veränderung!I60)","v":0.9857237764818777},{"$f":"IF(NR_Veränderung!J60=\"\",1/0,NR_Veränderung!J60)","v":1.00065979640824},{"$f":"IF(NR_Veränderung!K60=\"\",1/0,NR_Veränderung!K60)","v":1.0198194788728148},{"$f":"IF(NR_Veränderung!L60=\"\",1/0,NR_Veränderung!L60)","v":1.0552425062386865},{"$f":"IF(NR_Veränderung!M60=\"\",1/0,NR_Veränderung!M60)","v":1.0037981613774596},{"$f":"IF(NR_Veränderung!N60=\"\",1/0,NR_Veränderung!N60)","v":0.97816524482111389},{"$f":"IF(NR_Veränderung!O60=\"\",1/0,NR_Veränderung!O60)","v":1.271077394991873},{"$f":"IF(NR_Veränderung!P60=\"\",1/0,NR_Veränderung!P60)","v":0.8515253971145702},{"$f":"IF(NR_Veränderung!Q60=\"\",1/0,NR_Veränderung!Q60)","v":0.73274838513989471},{"$f":"IF(NR_Veränderung!R60=\"\",1/0,NR_Veränderung!R60)","v":1.020074969130953},{"$f":"IF(NR_Veränderung!S60=\"\",1/0,NR_Veränderung!S60)","v":1.0428983955344882},{"$f":"IF(NR_Veränderung!T60=\"\",1/0,NR_Veränderung!T60)","v":1.06361454236037},{"$f":"IF(NR_Veränderung!U60=\"\",1/0,NR_Veränderung!U60)","v":1.2051818373855232},{"$f":"IF(NR_Veränderung!V60=\"\",1/0,NR_Veränderung!V60)","v":0.94139396318493307},{"$f":"IF(NR_Veränderung!W60=\"\",1/0,NR_Veränderung!W60)","v":1.3790990521932589},{"$f":"IF(NR_Veränderung!X60=\"\",1/0,NR_Veränderung!X60)","v":0.86952178932066526},1.0745406498728847,1.0635685033857341,1.0745406498728847,1.0635685033857341,{"$f":"IF(AA47=\"\",\"\",HI_Hilfstabelle!H18)","v":19317984},0.21589919754455419,0.21589919754455419,0.23199246403655957,{"$f":"IFERROR(AE47*AB47,\"\")","v":0.22962358641464245},{"$f":"IF(AA47=\"\",\"\",HI_Hilfstabelle!J18)","v":70},7.9365079365079361E-2,7.9365079365079361E-2,8.5281003958165444E-2,8.4410198681407464E-2,null,{"$f":"IF(HI_Hilfstabelle!$C18=HI_Hilfstabelle!$A18,IFERROR(NR_Berechnung!C47,1/0),\"\")","v":1.277172874762021},{"$f":"IF(HI_Hilfstabelle!$C18=HI_Hilfstabelle!$A18,IFERROR(NR_Berechnung!D47,1/0),\"\")","v":1.0528301886792453},{"$f":"IF(HI_Hilfstabelle!$C18=HI_Hilfstabelle!$A18,IFERROR(NR_Berechnung!E47,1/0),\"\")","v":1.0264431883963872},{"$f":"IF(HI_Hilfstabelle!$C18=HI_Hilfstabelle!$A18,IFERROR(NR_Berechnung!F47,1/0),\"\")","v":1.0395184931463479},{"$f":"IF(HI_Hilfstabelle!$C18=HI_Hilfstabelle!$A18,IFERROR(NR_Berechnung!G47,1/0),\"\")","v":0.92187854688302318},{"$f":"IF(HI_Hilfstabelle!$C18=HI_Hilfstabelle!$A18,IFERROR(NR_Berechnung!H47,1/0),\"\")","v":1.0852935547096585},{"$f":"IF(HI_Hilfstabelle!$C18=HI_Hilfstabelle!$A18,IFERROR(NR_Berechnung!I47,1/0),\"\")","v":0.9857237764818777},{"$f":"IF(HI_Hilfstabelle!$C18=HI_Hilfstabelle!$A18,IFERROR(NR_Berechnung!J47,1/0),\"\")","v":1.00065979640824},{"$f":"IF(HI_Hilfstabelle!$C18=HI_Hilfstabelle!$A18,IFERROR(NR_Berechnung!K47,1/0),\"\")","v":1.0198194788728148},{"$f":"IF(HI_Hilfstabelle!$C18=HI_Hilfstabelle!$A18,IFERROR(NR_Berechnung!L47,1/0),\"\")","v":1.0552425062386865},{"$f":"IF(HI_Hilfstabelle!$C18=HI_Hilfstabelle!$A18,IFERROR(NR_Berechnung!M47,1/0),\"\")","v":1.0037981613774596},{"$f":"IF(HI_Hilfstabelle!$C18=HI_Hilfstabelle!$A18,IFERROR(NR_Berechnung!N47,1/0),\"\")","v":0.97816524482111389},{"$f":"IF(HI_Hilfstabelle!$C18=HI_Hilfstabelle!$A18,IFERROR(NR_Berechnung!O47,1/0),\"\")","v":1.271077394991873},{"$f":"IF(HI_Hilfstabelle!$C18=HI_Hilfstabelle!$A18,IFERROR(NR_Berechnung!P47,1/0),\"\")","v":0.8515253971145702},{"$f":"IF(HI_Hilfstabelle!$C18=HI_Hilfstabelle!$A18,IFERROR(NR_Berechnung!Q47,1/0),\"\")","v":0.73274838513989471},{"$f":"IF(HI_Hilfstabelle!$C18=HI_Hilfstabelle!$A18,IFERROR(NR_Berechnung!R47,1/0),\"\")","v":1.020074969130953},{"$f":"IF(HI_Hilfstabelle!$C18=HI_Hilfstabelle!$A18,IFERROR(NR_Berechnung!S47,1/0),\"\")","v":1.0428983955344882},{"$f":"IF(HI_Hilfstabelle!$C18=HI_Hilfstabelle!$A18,IFERROR(NR_Berechnung!T47,1/0),\"\")","v":1.06361454236037},{"$f":"IF(HI_Hilfstabelle!$C18=HI_Hilfstabelle!$A18,IFERROR(NR_Berechnung!U47,1/0),\"\")","v":1.2051818373855232},{"$f":"IF(HI_Hilfstabelle!$C18=HI_Hilfstabelle!$A18,IFERROR(NR_Berechnung!V47,1/0),\"\")","v":0.94139396318493307},{"$f":"IF(HI_Hilfstabelle!$C18=HI_Hilfstabelle!$A18,IFERROR(NR_Berechnung!W47,1/0),\"\")","v":1.3790990521932589},{"$f":"IF(HI_Hilfstabelle!$C18=HI_Hilfstabelle!$A18,IFERROR(NR_Berechnung!X47,1/0),\"\")","v":0.86952178932066526},1.0745406498728847,1.0635685033857341,1.0745406498728847,1.0635685033857341,{"$f":"IF(BL47=\"\",\"\",HI_Hilfstabelle!H18)","v":19317984},0.21589919754455419,0.21589919754455419,0.23199246403655957,0.22962358641464245,{"$f":"IF(BL47=\"\",\"\",HI_Hilfstabelle!J18)","v":70},7.9365079365079361E-2,7.9365079365079361E-2,8.5281003958165444E-2,8.4410198681407464E-2]
["Slowenien",null,{"$f":"IF(NR_Veränderung!C61=\"\",1/0,NR_Veränderung!C61)","v":{"$error":"#DIV/0!"}},{"$f":"IF(NR_Veränderung!D61=\"\",1/0,NR_Veränderung!D61)","v":{"$error":"#DIV/0!"}},{"$f":"IF(NR_Veränderung!E61=\"\",1/0,NR_Veränderung!E61)","v":{"$error":"#DIV/0!"}},{"$f":"IF(NR_Veränderung!F61=\"\",1/0,NR_Veränderung!F61)","v":{"$error":"#DIV/0!"}},{"$f":"IF(NR_Veränderung!G61=\"\",1/0,NR_Veränderung!G61)","v":{"$error":"#DIV/0!"}},{"$f":"IF(NR_Veränderung!H61=\"\",1/0,NR_Veränderung!H61)","v":0.86918414500993602},{"$f":"IF(NR_Veränderung!I61=\"\",1/0,NR_Veränderung!I61)","v":1.0354909409238493},{"$f":"IF(NR_Veränderung!J61=\"\",1/0,NR_Veränderung!J61)","v":1.0097341758361478},{"$f":"IF(NR_Veränderung!K61=\"\",1/0,NR_Veränderung!K61)","v":0.9913700686106347},{"$f":"IF(NR_Veränderung!L61=\"\",1/0,NR_Veränderung!L61)","v":0.96688787581510738},{"$f":"IF(NR_Veränderung!M61=\"\",1/0,NR_Veränderung!M61)","v":1.0686487411709638},{"$f":"IF(NR_Veränderung!N61=\"\",1/0,NR_Veränderung!N61)","v":0.99571261897194863},{"$f":"IF(NR_Veränderung!O61=\"\",1/0,NR_Veränderung!O61)","v":1.0776665685408691},{"$f":"IF(NR_Veränderung!P61=\"\",1/0,NR_Veränderung!P61)","v":0.95078838480896755},{"$f":"IF(NR_Veränderung!Q61=\"\",1/0,NR_Veränderung!Q61)","v":1.044725272679272},{"$f":"IF(NR_Veränderung!R61=\"\",1/0,NR_Veränderung!R61)","v":1.0726466165413533},{"$f":"IF(NR_Veränderung!S61=\"\",1/0,NR_Veränderung!S61)","v":0.96373677357558707},{"$f":"IF(NR_Veränderung!T61=\"\",1/0,NR_Veränderung!T61)","v":0.96764154710226735},{"$f":"IF(NR_Veränderung!U61=\"\",1/0,NR_Veränderung!U61)","v":1.0540149182600371},{"$f":"IF(NR_Veränderung!V61=\"\",1/0,NR_Veränderung!V61)","v":1.0123847506615933},{"$f":"IF(NR_Veränderung!W61=\"\",1/0,NR_Veränderung!W61)","v":1.0612271174999972},{"$f":"IF(NR_Veränderung!X61=\"\",1/0,NR_Veränderung!X61)","v":{"$error":"#DIV/0!"}},{"$error":"#DIV/0!"},{"$error":"#DIV/0!"},"","",{"$f":"IF(AA48=\"\",\"\",HI_Hilfstabelle!H19)","v":""},"","","","",{"$f":"IF(AA48=\"\",\"\",HI_Hilfstabelle!J19)","v":""},"","","","",null,{"$f":"IF(HI_Hilfstabelle!$C19=HI_Hilfstabelle!$A19,IFERROR(NR_Berechnung!C48,1/0),\"\")","v":{"$error":"#DIV/0!"}},{"$f":"IF(HI_Hilfstabelle!$C19=HI_Hilfstabelle!$A19,IFERROR(NR_Berechnung!D48,1/0),\"\")","v":{"$error":"#DIV/0!"}},{"$f":"IF(HI_Hilfstabelle!$C19=HI_Hilfstabelle!$A19,IFERROR(NR_Berechnung!E48,1/0),\"\")","v":{"$error":"#DIV/0!"}},{"$f":"IF(HI_Hilfstabelle!$C19=HI_Hilfstabelle!$A19,IFERROR(NR_Berechnung!F48,1/0),\"\")","v":{"$error":"#DIV/0!"}},{"$f":"IF(HI_Hilfstabelle!$C19=HI_Hilfstabelle!$A19,IFERROR(NR_Berechnung!G48,1/0),\"\")","v":{"$error":"#DIV/0!"}},{"$f":"IF(HI_Hilfstabelle!$C19=HI_Hilfstabelle!$A19,IFERROR(NR_Berechnung!H48,1/0),\"\")","v":0.86918414500993602},{"$f":"IF(HI_Hilfstabelle!$C19=HI_Hilfstabelle!$A19,IFERROR(NR_Berechnung!I48,1/0),\"\")","v":1.0354909409238493},{"$f":"IF(HI_Hilfstabelle!$C19=HI_Hilfstabelle!$A19,IFERROR(NR_Berechnung!J48,1/0),\"\")","v":1.0097341758361478},{"$f":"IF(HI_Hilfstabelle!$C19=HI_Hilfstabelle!$A19,IFERROR(NR_Berechnung!K48,1/0),\"\")","v":0.9913700686106347},{"$f":"IF(HI_Hilfstabelle!$C19=HI_Hilfstabelle!$A19,IFERROR(NR_Berechnung!L48,1/0),\"\")","v":0.96688787581510738},{"$f":"IF(HI_Hilfstabelle!$C19=HI_Hilfstabelle!$A19,IFERROR(NR_Berechnung!M48,1/0),\"\")","v":1.0686487411709638},{"$f":"IF(HI_Hilfstabelle!$C19=HI_Hilfstabelle!$A19,IFERROR(NR_Berechnung!N48,1/0),\"\")","v":0.99571261897194863},{"$f":"IF(HI_Hilfstabelle!$C19=HI_Hilfstabelle!$A19,IFERROR(NR_Berechnung!O48,1/0),\"\")","v":1.0776665685408691},{"$f":"IF(HI_Hilfstabelle!$C19=HI_Hilfstabelle!$A19,IFERROR(NR_Berechnung!P48,1/0),\"\")","v":0.95078838480896755},{"$f":"IF(HI_Hilfstabelle!$C19=HI_Hilfstabelle!$A19,IFERROR(NR_Berechnung!Q48,1/0),\"\")","v":1.044725272679272},{"$f":"IF(HI_Hilfstabelle!$C19=HI_Hilfstabelle!$A19,IFERROR(NR_Berechnung!R48,1/0),\"\")","v":1.0726466165413533},{"$f":"IF(HI_Hilfstabelle!$C19=HI_Hilfstabelle!$A19,IFERROR(NR_Berechnung!S48,1/0),\"\")","v":0.96373677357558707},{"$f":"IF(HI_Hilfstabelle!$C19=HI_Hilfstabelle!$A19,IFERROR(NR_Berechnung!T48,1/0),\"\")","v":0.96764154710226735},{"$f":"IF(HI_Hilfstabelle!$C19=HI_Hilfstabelle!$A19,IFERROR(NR_Berechnung!U48,1/0),\"\")","v":1.0540149182600371},{"$f":"IF(HI_Hilfstabelle!$C19=HI_Hilfstabelle!$A19,IFERROR(NR_Berechnung!V48,1/0),\"\")","v":1.0123847506615933},{"$f":"IF(HI_Hilfstabelle!$C19=HI_Hilfstabelle!$A19,IFERROR(NR_Berechnung!W48,1/0),\"\")","v":1.0612271174999972},{"$f":"IF(HI_Hilfstabelle!$C19=HI_Hilfstabelle!$A19,IFERROR(NR_Berechnung!X48,1/0),\"\")","v":{"$error":"#DIV/0!"}},{"$error":"#DIV/0!"},{"$error":"#DIV/0!"},"","",{"$f":"IF(BL48=\"\",\"\",HI_Hilfstabelle!H19)","v":""},"","","","",{"$f":"IF(BL48=\"\",\"\",HI_Hilfstabelle!J19)","v":""},"","","",""]
["Slowakei",null,{"$f":"IF(NR_Veränderung!C62=\"\",1/0,NR_Veränderung!C62)","v":1.1828669911158887},{"$f":"IF(NR_Veränderung!D62=\"\",1/0,NR_Veränderung!D62)","v":1.13977742424307},{"$f":"IF(NR_Veränderung!E62=\"\",1/0,NR_Veränderung!E62)","v":1.040792833674012},{"$f":"IF(NR_Veränderung!F62=\"\",1/0,NR_Veränderung!F62)","v":1.0981544619895969},{"$f":"IF(NR_Veränderung!G62=\"\",1/0,NR_Veränderung!G62)","v":0.79046920679135091},{"$f":"IF(NR_Veränderung!H62=\"\",1/0,NR_Veränderung!H62)","v":1.0436128623162295},{"$f":"IF(NR_Veränderung!I62=\"\",1/0,NR_Veränderung!I62)","v":0.87399015552868653},{"$f":"IF(NR_Veränderung!J62=\"\",1/0,NR_Veränderung!J62)","v":1.0756150655271253},{"$f":"IF(NR_Veränderung!K62=\"\",1/0,NR_Veränderung!K62)","v":1.0335552552716749},{"$f":"IF(NR_Veränderung!L62=\"\",1/0,NR_Veränderung!L62)","v":1.1360651770374461},{"$f":"IF(NR_Veränderung!M62=\"\",1/0,NR_Veränderung!M62)","v":1.1104450905053105},{"$f":"IF(NR_Veränderung!N62=\"\",1/0,NR_Veränderung!N62)","v":1.1087088906995619},{"$f":"IF(NR_Veränderung!O62=\"\",1/0,NR_Veränderung!O62)","v":0.9894479545999274},{"$f":"IF(NR_Veränderung!P62=\"\",1/0,NR_Veränderung!P62)","v":0.90430725460259131},{"$f":"IF(NR_Veränderung!Q62=\"\",1/0,NR_Veränderung!Q62)","v":1.0206722270120903},{"$f":"IF(NR_Veränderung!R62=\"\",1/0,NR_Veränderung!R62)","v":1.0844489075019603},{"$f":"IF(NR_Veränderung!S62=\"\",1/0,NR_Veränderung!S62)","v":1.0493243555656155},{"$f":"IF(NR_Veränderung!T62=\"\",1/0,NR_Veränderung!T62)","v":0.99996299099662656},{"$f":"IF(NR_Veränderung!U62=\"\",1/0,NR_Veränderung!U62)","v":1.0796047302617735},{"$f":"IF(NR_Veränderung!V62=\"\",1/0,NR_Veränderung!V62)","v":1.0558512257310859},{"$f":"IF(NR_Veränderung!W62=\"\",1/0,NR_Veränderung!W62)","v":{"$error":"#DIV/0!"}},{"$f":"IF(NR_Veränderung!X62=\"\",1/0,NR_Veränderung!X62)","v":{"$error":"#DIV/0!"}},{"$error":"#DIV/0!"},{"$error":"#DIV/0!"},"","",{"$f":"IF(AA49=\"\",\"\",HI_Hilfstabelle!H20)","v":""},"","","","",{"$f":"IF(AA49=\"\",\"\",HI_Hilfstabelle!J20)","v":""},"","","","",null,{"$f":"IF(HI_Hilfstabelle!$C20=HI_Hilfstabelle!$A20,IFERROR(NR_Berechnung!C49,1/0),\"\")","v":1.1828669911158887},{"$f":"IF(HI_Hilfstabelle!$C20=HI_Hilfstabelle!$A20,IFERROR(NR_Berechnung!D49,1/0),\"\")","v":1.13977742424307},{"$f":"IF(HI_Hilfstabelle!$C20=HI_Hilfstabelle!$A20,IFERROR(NR_Berechnung!E49,1/0),\"\")","v":1.040792833674012},{"$f":"IF(HI_Hilfstabelle!$C20=HI_Hilfstabelle!$A20,IFERROR(NR_Berechnung!F49,1/0),\"\")","v":1.0981544619895969},{"$f":"IF(HI_Hilfstabelle!$C20=HI_Hilfstabelle!$A20,IFERROR(NR_Berechnung!G49,1/0),\"\")","v":0.79046920679135091},{"$f":"IF(HI_Hilfstabelle!$C20=HI_Hilfstabelle!$A20,IFERROR(NR_Berechnung!H49,1/0),\"\")","v":1.0436128623162295},{"$f":"IF(HI_Hilfstabelle!$C20=HI_Hilfstabelle!$A20,IFERROR(NR_Berechnung!I49,1/0),\"\")","v":0.87399015552868653},{"$f":"IF(HI_Hilfstabelle!$C20=HI_Hilfstabelle!$A20,IFERROR(NR_Berechnung!J49,1/0),\"\")","v":1.0756150655271253},{"$f":"IF(HI_Hilfstabelle!$C20=HI_Hilfstabelle!$A20,IFERROR(NR_Berechnung!K49,1/0),\"\")","v":1.0335552552716749},{"$f":"IF(HI_Hilfstabelle!$C20=HI_Hilfstabelle!$A20,IFERROR(NR_Berechnung!L49,1/0),\"\")","v":1.1360651770374461},{"$f":"IF(HI_Hilfstabelle!$C20=HI_Hilfstabelle!$A20,IFERROR(NR_Berechnung!M49,1/0),\"\")","v":1.1104450905053105},{"$f":"IF(HI_Hilfstabelle!$C20=HI_Hilfstabelle!$A20,IFERROR(NR_Berechnung!N49,1/0),\"\")","v":1.1087088906995619},{"$f":"IF(HI_Hilfstabelle!$C20=HI_Hilfstabelle!$A20,IFERROR(NR_Berechnung!O49,1/0),\"\")","v":0.9894479545999274},{"$f":"IF(HI_Hilfstabelle!$C20=HI_Hilfstabelle!$A20,IFERROR(NR_Berechnung!P49,1/0),\"\")","v":0.90430725460259131},{"$f":"IF(HI_Hilfstabelle!$C20=HI_Hilfstabelle!$A20,IFERROR(NR_Berechnung!Q49,1/0),\"\")","v":1.0206722270120903},{"$f":"IF(HI_Hilfstabelle!$C20=HI_Hilfstabelle!$A20,IFERROR(NR_Berechnung!R49,1/0),\"\")","v":1.0844489075019603},{"$f":"IF(HI_Hilfstabelle!$C20=HI_Hilfstabelle!$A20,IFERROR(NR_Berechnung!S49,1/0),\"\")","v":1.0493243555656155},{"$f":"IF(HI_Hilfstabelle!$C20=HI_Hilfstabelle!$A20,IFERROR(NR_Berechnung!T49,1/0),\"\")","v":0.99996299099662656},{"$f":"IF(HI_Hilfstabelle!$C20=HI_Hilfstabelle!$A20,IFERROR(NR_Berechnung!U49,1/0),\"\")","v":1.0796047302617735},{"$f":"IF(HI_Hilfstabelle!$C20=HI_Hilfstabelle!$A20,IFERROR(NR_Berechnung!V49,1/0),\"\")","v":1.0558512257310859},{"$f":"IF(HI_Hilfstabelle!$C20=HI_Hilfstabelle!$A20,IFERROR(NR_Berechnung!W49,1/0),\"\")","v":{"$error":"#DIV/0!"}},{"$f":"IF(HI_Hilfstabelle!$C20=HI_Hilfstabelle!$A20,IFERROR(NR_Berechnung!X49,1/0),\"\")","v":{"$error":"#DIV/0!"}},{"$error":"#DIV/0!"},{"$error":"#DIV/0!"},"","",{"$f":"IF(BL49=\"\",\"\",HI_Hilfstabelle!H20)","v":""},"","","","",{"$f":"IF(BL49=\"\",\"\",HI_Hilfstabelle!J20)","v":""},"","","",""]
["Großbritannien",null,{"$f":"IF(NR_Veränderung!C63=\"\",1/0,NR_Veränderung!C63)","v":{"$error":"#DIV/0!"}},{"$f":"IF(NR_Veränderung!D63=\"\",1/0,NR_Veränderung!D63)","v":{"$error":"#DIV/0!"}},{"$f":"IF(NR_Veränderung!E63=\"\",1/0,NR_Veränderung!E63)","v":{"$error":"#DIV/0!"}},{"$f":"IF(NR_Veränderung!F63=\"\",1/0,NR_Veränderung!F63)","v":{"$error":"#DIV/0!"}},{"$f":"IF(NR_Veränderung!G63=\"\",1/0,NR_Veränderung!G63)","v":{"$error":"#DIV/0!"}},{"$f":"IF(NR_Veränderung!H63=\"\",1/0,NR_Veränderung!H63)","v":{"$error":"#DIV/0!"}},{"$f":"IF(NR_Veränderung!I63=\"\",1/0,NR_Veränderung!I63)","v":{"$error":"#DIV/0!"}},{"$f":"IF(NR_Veränderung!J63=\"\",1/0,NR_Veränderung!J63)","v":{"$error":"#DIV/0!"}},{"$f":"IF(NR_Veränderung!K63=\"\",1/0,NR_Veränderung!K63)","v":{"$error":"#DIV/0!"}},{"$f":"IF(NR_Veränderung!L63=\"\",1/0,NR_Veränderung!L63)","v":{"$error":"#DIV/0!"}},{"$f":"IF(NR_Veränderung!M63=\"\",1/0,NR_Veränderung!M63)","v":{"$error":"#DIV/0!"}},{"$f":"IF(NR_Veränderung!N63=\"\",1/0,NR_Veränderung!N63)","v":{"$error":"#DIV/0!"}},{"$f":"IF(NR_Veränderung!O63=\"\",1/0,NR_Veränderung!O63)","v":{"$error":"#DIV/0!"}},{"$f":"IF(NR_Veränderung!P63=\"\",1/0,NR_Veränderung!P63)","v":{"$error":"#DIV/0!"}},{"$f":"IF(NR_Veränderung!Q63=\"\",1/0,NR_Veränderung!Q63)","v":{"$error":"#DIV/0!"}},{"$f":"IF(NR_Veränderung!R63=\"\",1/0,NR_Veränderung!R63)","v":{"$error":"#DIV/0!"}},{"$f":"IF(NR_Veränderung!S63=\"\",1/0,NR_Veränderung!S63)","v":{"$error":"#DIV/0!"}},{"$f":"IF(NR_Veränderung!T63=\"\",1/0,NR_Veränderung!T63)","v":{"$error":"#DIV/0!"}},{"$f":"IF(NR_Veränderung!U63=\"\",1/0,NR_Veränderung!U63)","v":{"$error":"#DIV/0!"}},{"$f":"IF(NR_Veränderung!V63=\"\",1/0,NR_Veränderung!V63)","v":{"$error":"#DIV/0!"}},{"$f":"IF(NR_Veränderung!W63=\"\",1/0,NR_Veränderung!W63)","v":{"$error":"#DIV/0!"}},{"$f":"IF(NR_Veränderung!X63=\"\",1/0,NR_Veränderung!X63)","v":{"$error":"#DIV/0!"}},{"$error":"#DIV/0!"},{"$error":"#DIV/0!"},"","",{"$f":"IF(AA50=\"\",\"\",HI_Hilfstabelle!H50)","v":""},"","","","",{"$f":"IF(AA50=\"\",\"\",HI_Hilfstabelle!J21)","v":""},"","",null,null,null,{"$f":"IF(HI_Hilfstabelle!$C21=HI_Hilfstabelle!$A21,IFERROR(NR_Berechnung!C50,1/0),\"\")","v":""},{"$f":"IF(HI_Hilfstabelle!$C21=HI_Hilfstabelle!$A21,IFERROR(NR_Berechnung!D50,1/0),\"\")","v":""},{"$f":"IF(HI_Hilfstabelle!$C21=HI_Hilfstabelle!$A21,IFERROR(NR_Berechnung!E50,1/0),\"\")","v":""},{"$f":"IF(HI_Hilfstabelle!$C21=HI_Hilfstabelle!$A21,IFERROR(NR_Berechnung!F50,1/0),\"\")","v":""},{"$f":"IF(HI_Hilfstabelle!$C21=HI_Hilfstabelle!$A21,IFERROR(NR_Berechnung!G50,1/0),\"\")","v":""},{"$f":"IF(HI_Hilfstabelle!$C21=HI_Hilfstabelle!$A21,IFERROR(NR_Berechnung!H50,1/0),\"\")","v":""},{"$f":"IF(HI_Hilfstabelle!$C21=HI_Hilfstabelle!$A21,IFERROR(NR_Berechnung!I50,1/0),\"\")","v":""},{"$f":"IF(HI_Hilfstabelle!$C21=HI_Hilfstabelle!$A21,IFERROR(NR_Berechnung!J50,1/0),\"\")","v":""},{"$f":"IF(HI_Hilfstabelle!$C21=HI_Hilfstabelle!$A21,IFERROR(NR_Berechnung!K50,1/0),\"\")","v":""},{"$f":"IF(HI_Hilfstabelle!$C21=HI_Hilfstabelle!$A21,IFERROR(NR_Berechnung!L50,1/0),\"\")","v":""},{"$f":"IF(HI_Hilfstabelle!$C21=HI_Hilfstabelle!$A21,IFERROR(NR_Berechnung!M50,1/0),\"\")","v":""},{"$f":"IF(HI_Hilfstabelle!$C21=HI_Hilfstabelle!$A21,IFERROR(NR_Berechnung!N50,1/0),\"\")","v":""},{"$f":"IF(HI_Hilfstabelle!$C21=HI_Hilfstabelle!$A21,IFERROR(NR_Berechnung!O50,1/0),\"\")","v":""},{"$f":"IF(HI_Hilfstabelle!$C21=HI_Hilfstabelle!$A21,IFERROR(NR_Berechnung!P50,1/0),\"\")","v":""},{"$f":"IF(HI_Hilfstabelle!$C21=HI_Hilfstabelle!$A21,IFERROR(NR_Berechnung!Q50,1/0),\"\")","v":""},{"$f":"IF(HI_Hilfstabelle!$C21=HI_Hilfstabelle!$A21,IFERROR(NR_Berechnung!R50,1/0),\"\")","v":""},{"$f":"IF(HI_Hilfstabelle!$C21=HI_Hilfstabelle!$A21,IFERROR(NR_Berechnung!S50,1/0),\"\")","v":""},{"$f":"IF(HI_Hilfstabelle!$C21=HI_Hilfstabelle!$A21,IFERROR(NR_Berechnung!T50,1/0),\"\")","v":""},{"$f":"IF(HI_Hilfstabelle!$C21=HI_Hilfstabelle!$A21,IFERROR(NR_Berechnung!U50,1/0),\"\")","v":""},{"$f":"IF(HI_Hilfstabelle!$C21=HI_Hilfstabelle!$A21,IFERROR(NR_Berechnung!V50,1/0),\"\")","v":""},{"$f":"IF(HI_Hilfstabelle!$C21=HI_Hilfstabelle!$A21,IFERROR(NR_Berechnung!W50,1/0),\"\")","v":""},{"$f":"IF(HI_Hilfstabelle!$C21=HI_Hilfstabelle!$A21,IFERROR(NR_Berechnung!X50,1/0),\"\")","v":""},{"$error":"#DIV/0!"},{"$error":"#NUM!"},"","",{"$f":"IF(BL50=\"\",\"\",HI_Hilfstabelle!H21)","v":""},"","","","",{"$f":"IF(BL50=\"\",\"\",HI_Hilfstabelle!J21)","v":""},null,"","",""]
[]
[null,null,null,null,null,null,null,null,null,null,null,null,null,null,null,null,null,null,null,null,null,null,null,null,null,null,null,"Summe",{"$f":"SUM(AC33:AC50)","v":89476868},{"$f":"SUM(AD33:AD50)","v":0.99999999999999989},null,null,null,{"$f":"SUM(AH33:AH50)","v":882},{"$f":"SUM(AI33:AI50)","v":1},null,null,null,null,null,null,null,null,null,null,null,null,null,null,null,null,null,null,null,null,null,null,null,null,null,null,null,null,null,"Summe",{"$f":"SUM(BN33:BN50)","v":89476868},null,null,null,null,{"$f":"SUM(BS33:BS50)","v":882}]
[null,null,null,null,null,null,null,null,null,null,null,null,null,null,null,null,null,null,null,null,null,null,null,null,null,null,"Arithmet. Mittel","Geomittel",null,null,null,"Arithmet. Mittel","Geomittel",null,null,null,"Arithmet. Mittel","Geomittel",null,null,null,null,null,null,null,null,null,null,null,null,null,null,null,null,null,null,null,null,null,null,null,null,null,"Arithmet. Mittel","Geomittel",null,null,null,"Arithmet. Mittel","Geomittel",null,null,null,"Arithmet. Mittel","Geomittel"]
[null,null,null,null,null,null,null,null,null,null,null,null,null,null,null,null,null,null,null,null,null,null,null,null,null,"Mittelwert",{"$f":"AVERAGE(AA33:AA50)","v":1.015188897576164},{"$f":"AVERAGE(AB33:AB50)","v":1.0125901676696405},null,null,null,{"$f":"IF(AND(AF33=\"\",AF34=\"\",AF35=\"\",AF36=\"\",AF37=\"\",AF38=\"\",AF39=\"\",AF40=\"\",AF41=\"\",AF42=\"\",AF43=\"\",AF44=\"\",AF45=\"\",AF46=\"\",AF47=\"\",AF48=\"\",AF49=\"\",AF50=\"\"),1/0,SUM(AF33:AF50))","v":1.0181981290187729},{"$f":"IF(AND(AG33=\"\",AG34=\"\",AG35=\"\",AG36=\"\",AG37=\"\",AG38=\"\",AG39=\"\",AG40=\"\",AG41=\"\",AG42=\"\",AG43=\"\",AG44=\"\",AG45=\"\",AG46=\"\",AG47=\"\",AG48=\"\",AG49=\"\",AG50=\"\"),1/0,SUM(AG33:AG50))","v":1.014898686294291},null,null,null,{"$f":"IF(AND(AK33=\"\",AK34=\"\",AK35=\"\",AK36=\"\",AK37=\"\",AK38=\"\",AK39=\"\",AK40=\"\",AK41=\"\",AK42=\"\",AK43=\"\",AK44=\"\",AK45=\"\",AK46=\"\",AK47=\"\",AK48=\"\",AK49=\"\",AK50=\"\"),1/0,SUM(AK33:AK50))","v":1.0136939467436021},{"$f":"IF(AND(AL33=\"\",AL34=\"\",AL35=\"\",AL36=\"\",AL37=\"\",AL38=\"\",AL39=\"\",AL40=\"\",AL41=\"\",AL42=\"\",AL43=\"\",AL44=\"\",AL45=\"\",AL46=\"\",AL47=\"\",AL48=\"\",AL49=\"\",AL50=\"\"),1/0,SUM(AL33:AL50))","v":1.0113623624524379},null,null,null,null,null,null,null,null,null,null,null,null,null,null,null,null,null,null,null,null,null,null,null,null,null,{"$f":"AVERAGE(BL33:BL50)","v":1.015188897576164},{"$f":"AVERAGE(BM33:BM50)","v":1.0125901676696405},null,null,null,{"$f":"IF(AND(BQ33=\"\",BQ34=\"\",BQ35=\"\",BQ36=\"\",BQ37=\"\",BQ38=\"\",BQ39=\"\",BQ40=\"\",BQ41=\"\",BQ42=\"\",BQ43=\"\",BQ44=\"\",BQ45=\"\",BQ46=\"\",BQ47=\"\",BQ48=\"\",BQ49=\"\",BQ50=\"\"),1/0,SUM(BQ33:BQ50))","v":1.0181981290187729},{"$f":"IF(AND(BR33=\"\",BR34=\"\",BR35=\"\",BR36=\"\",BR37=\"\",BR38=\"\",BR39=\"\",BR40=\"\",BR41=\"\",BR42=\"\",BR43=\"\",BR44=\"\",BR45=\"\",BR46=\"\",BR47=\"\",BR48=\"\",BR49=\"\",BR50=\"\"),1/0,SUM(BR33:BR50))","v":1.014898686294291},null,null,null,{"$f":"IF(AND(BV33=\"\",BV34=\"\",BV35=\"\",BV36=\"\",BV37=\"\",BV38=\"\",BV39=\"\",BV40=\"\",BV41=\"\",BV42=\"\",BV43=\"\",BV44=\"\",BV45=\"\",BV46=\"\",BV47=\"\",BV48=\"\",BV49=\"\",BV50=\"\"),1/0,SUM(BV33:BV50))","v":1.0136939467436021},{"$f":"IF(AND(BW33=\"\",BW34=\"\",BW35=\"\",BW36=\"\",BW37=\"\",BW38=\"\",BW39=\"\",BW40=\"\",BW41=\"\",BW42=\"\",BW43=\"\",BW44=\"\",BW45=\"\",BW46=\"\",BW47=\"\",BW48=\"\",BW49=\"\",BW50=\"\"),1/0,SUM(BW33:BW50))","v":1.0113623624524379}]
[null,null,null,null,null,null,null,null,null,null,null,null,null,null,null,null,null,null,null,null,null,null,null,null,null,null,{"$f":"AA54-1","v":1.518889757616404E-2},{"$f":"AB54-1","v":1.2590167669640495E-2},null,null,null,{"$f":"AF54-1","v":1.8198129018772935E-2},{"$f":"AG54-1","v":1.489868629429103E-2},null,null,null,{"$f":"AK54-1","v":1.3693946743602137E-2},{"$f":"AL54-1","v":1.1362362452437935E-2},null,null,null,null,null,null,null,null,null,null,null,null,null,null,null,null,null,null,null,null,null,null,null,null,null,{"$f":"BL54-1","v":1.518889757616404E-2},{"$f":"BM54-1","v":1.2590167669640495E-2},null,null,null,{"$f":"BQ54-1","v":1.8198129018772935E-2},{"$f":"BR54-1","v":1.489868629429103E-2},null,null,null,{"$f":"BV54-1","v":1.3693946743602137E-2},{"$f":"BW54-1","v":1.1362362452437935E-2}]
[null,null,null,null,null,null,null,null,null,null,null,null,null,null,null,null,null,null,null,null,null,null,null,null,null,"Anzahl Länder",{"$f":"COUNT(AA33:AA50)","v":9},null,null,null,null,null,null,null,null,null,null,null,null,null,null,null,null,null,null,null,null,null,null,null,null,null,null,null,null,null,null,null,null,null,null,null,null,{"$f":"COUNT(BL33:BL50)","v":9}]
[]
[]
[]
[]
[null,null,"Bruttowertschöpfung pro Erwerbstätige - Alle Länder",null,null,null,null,null,null,null,null,null,null,null,null,null,null,null,null,null,null,null,null,null,null,null,"Gleichgewichtet",null,"Nach Einwohnerzahl",null,null,"Gewichtete Verändrungsrate",null,"Nach BIP/Kopf",null,null,"Gewichtete Verändrungsrate",null,null,"Bruttowertschöpfung pro Erwerbstätige - Länderauswahl",null,null,null,null,null,null,null,null,null,null,null,null,null,null,null,null,null,null,null,null,null,null,null,"Gleichgewichtet",null,"Nach Einwohnerzahl",null,null,"Gewichtete Verändrungsrate",null,"Nach BIP/Kopf",null,null,"Gewichtete Verändrungsrate"]
[null,null,1996,{"$f":"C62+1","v":1997},1998,1999,2000,2001,2002,2003,2004,2005,2006,2007,2008,2009,2010,2011,2012,2013,2014,2015,2016,2017,"Arithmet. Mittel","Geomittel","Arithmet. Mittel","Geomittel","Absolut","Anteil AM","Anteil GM","Arithmet. Mittel","Geomittel","Absolut","Anteil AM","Anteil GM","Arithmet. Mittel","Geomittel",null,1996,{"$f":"AN62+1","v":1997},{"$f":"AO62+1","v":1998},{"$f":"AP62+1","v":1999},{"$f":"AQ62+1","v":2000},{"$f":"AR62+1","v":2001},{"$f":"AS62+1","v":2002},{"$f":"AT62+1","v":2003},{"$f":"AU62+1","v":2004},{"$f":"AV62+1","v":2005},{"$f":"AW62+1","v":2006},{"$f":"AX62+1","v":2007},{"$f":"AY62+1","v":2008},{"$f":"AZ62+1","v":2009},{"$f":"BA62+1","v":2010},{"$f":"BB62+1","v":2011},{"$f":"BC62+1","v":2012},{"$f":"BD62+1","v":2013},{"$f":"BE62+1","v":2014},{"$f":"BF62+1","v":2015},{"$f":"BG62+1","v":2016},{"$f":"BH62+1","v":2017},"Arithmet. Mittel","Geomittel","Arithmet. Mittel","Geomittel","Absolut","Anteil AM","Anteil GM","Arithmet. Mittel","Geomittel","Absolut","Anteil AM","Anteil GM","Arithmet. Mittel","Geomittel"]
["Österreich",null,{"$f":"NR_Veränderung!C4","v":1.2011791475322364},{"$f":"NR_Veränderung!D4","v":0.96330853236944103},{"$f":"NR_Veränderung!E4","v":1.1298301613835042},{"$f":"NR_Veränderung!F4","v":1.1117954979024047},{"$f":"NR_Veränderung!G4","v":1.0038511858397863},{"$f":"NR_Veränderung!H4","v":1.0095099766341673},{"$f":"NR_Veränderung!I4","v":1.0160799412783521},{"$f":"NR_Veränderung!J4","v":1.0868884372253498},{"$f":"NR_Veränderung!K4","v":1.0596899460833},{"$f":"NR_Veränderung!L4","v":1.2435410709940524},{"$f":"NR_Veränderung!M4","v":1.1080144431920216},{"$f":"NR_Veränderung!N4","v":1.066226391813285},{"$f":"NR_Veränderung!O4","v":1.0361251483039029},{"$f":"NR_Veränderung!P4","v":1.0237828822452593},{"$f":"NR_Veränderung!Q4","v":1.0273579582986558},{"$f":"NR_Veränderung!R4","v":0.9816684681968646},{"$f":"NR_Veränderung!S4","v":0.99904987644304544},{"$f":"NR_Veränderung!T4","v":1.0303114847408035},{"$f":"NR_Veränderung!U4","v":1.0226708542999705},{"$f":"NR_Veränderung!V4","v":0.93609395281916397},{"$f":"NR_Veränderung!W4","v":1.0025418756189148},{"$f":"NR_Veränderung!X4","v":1.0278997195787114},{"$f":"TRANSPOSE(NR_Mittelwertbildung!BZ30:CQ31)","v":1.0000337473853533},0.99954917023767853,{"$f":"IF(ISERROR(Y63),\"\",Y63)","v":1.0000337473853533},{"$f":"IF(ISERROR(Z63),\"\",Z63)","v":0.99954917023767853},{"$f":"IF(AA63=\"\",\"\",HI_Hilfstabelle!H4)","v":8901064},{"$f":"IFERROR(AC63/AC$82,\"\")","v":3.1018073311366939E-2},{"$f":"IFERROR(AC63/AC$82,\"\")","v":3.1018073311366939E-2},{"$f":"IFERROR(AD63*AA63,\"\")","v":3.1019120090239896E-2},{"$f":"IFERROR(AE63*AB63,\"\")","v":3.1004089440748304E-2},{"$f":"IF(AA63=\"\",\"\",HI_Hilfstabelle!J4)","v":126},{"$f":"IFERROR(AH63/AH$82,\"\")","v":7.8455790784557902E-2},{"$f":"IFERROR(AH63/AH$82,\"\")","v":7.8455790784557902E-2},{"$f":"IFERROR(AI63*Y63,\"\")","v":7.8458438462362709E-2},{"$f":"IFERROR(AJ63*Z63,\"\")","v":7.842042057904576E-2},null,{"$f":"IF(HI_Hilfstabelle!$C4=HI_Hilfstabelle!$A4,IFERROR(NR_Berechnung!C63,1/0),\"\")","v":1.2011791475322364},{"$f":"IF(HI_Hilfstabelle!$C4=HI_Hilfstabelle!$A4,IFERROR(NR_Berechnung!D63,1/0),\"\")","v":0.96330853236944103},{"$f":"IF(HI_Hilfstabelle!$C4=HI_Hilfstabelle!$A4,IFERROR(NR_Berechnung!E63,1/0),\"\")","v":1.1298301613835042},{"$f":"IF(HI_Hilfstabelle!$C4=HI_Hilfstabelle!$A4,IFERROR(NR_Berechnung!F63,1/0),\"\")","v":1.1117954979024047},{"$f":"IF(HI_Hilfstabelle!$C4=HI_Hilfstabelle!$A4,IFERROR(NR_Berechnung!G63,1/0),\"\")","v":1.0038511858397863},{"$f":"IF(HI_Hilfstabelle!$C4=HI_Hilfstabelle!$A4,IFERROR(NR_Berechnung!H63,1/0),\"\")","v":1.0095099766341673},{"$f":"IF(HI_Hilfstabelle!$C4=HI_Hilfstabelle!$A4,IFERROR(NR_Berechnung!I63,1/0),\"\")","v":1.0160799412783521},{"$f":"IF(HI_Hilfstabelle!$C4=HI_Hilfstabelle!$A4,IFERROR(NR_Berechnung!J63,1/0),\"\")","v":1.0868884372253498},{"$f":"IF(HI_Hilfstabelle!$C4=HI_Hilfstabelle!$A4,IFERROR(NR_Berechnung!K63,1/0),\"\")","v":1.0596899460833},{"$f":"IF(HI_Hilfstabelle!$C4=HI_Hilfstabelle!$A4,IFERROR(NR_Berechnung!L63,1/0),\"\")","v":1.2435410709940524},{"$f":"IF(HI_Hilfstabelle!$C4=HI_Hilfstabelle!$A4,IFERROR(NR_Berechnung!M63,1/0),\"\")","v":1.1080144431920216},{"$f":"IF(HI_Hilfstabelle!$C4=HI_Hilfstabelle!$A4,IFERROR(NR_Berechnung!N63,1/0),\"\")","v":1.066226391813285},{"$f":"IF(HI_Hilfstabelle!$C4=HI_Hilfstabelle!$A4,IFERROR(NR_Berechnung!O63,1/0),\"\")","v":1.0361251483039029},{"$f":"IF(HI_Hilfstabelle!$C4=HI_Hilfstabelle!$A4,IFERROR(NR_Berechnung!P63,1/0),\"\")","v":1.0237828822452593},{"$f":"IF(HI_Hilfstabelle!$C4=HI_Hilfstabelle!$A4,IFERROR(NR_Berechnung!Q63,1/0),\"\")","v":1.0273579582986558},{"$f":"IF(HI_Hilfstabelle!$C4=HI_Hilfstabelle!$A4,IFERROR(NR_Berechnung!R63,1/0),\"\")","v":0.9816684681968646},{"$f":"IF(HI_Hilfstabelle!$C4=HI_Hilfstabelle!$A4,IFERROR(NR_Berechnung!S63,1/0),\"\")","v":0.99904987644304544},{"$f":"IF(HI_Hilfstabelle!$C4=HI_Hilfstabelle!$A4,IFERROR(NR_Berechnung!T63,1/0),\"\")","v":1.0303114847408035},{"$f":"IF(HI_Hilfstabelle!$C4=HI_Hilfstabelle!$A4,IFERROR(NR_Berechnung!U63,1/0),\"\")","v":1.0226708542999705},{"$f":"IF(HI_Hilfstabelle!$C4=HI_Hilfstabelle!$A4,IFERROR(NR_Berechnung!V63,1/0),\"\")","v":0.93609395281916397},{"$f":"IF(HI_Hilfstabelle!$C4=HI_Hilfstabelle!$A4,IFERROR(NR_Berechnung!W63,1/0),\"\")","v":1.0025418756189148},{"$f":"IF(HI_Hilfstabelle!$C4=HI_Hilfstabelle!$A4,IFERROR(NR_Berechnung!X63,1/0),\"\")","v":1.0278997195787114},{"$f":"TRANSPOSE(NR_Mittelwertbildung!CS30:DJ31)","v":1.0000337473853533},0.99954917023767853,{"$f":"IF(ISERROR(BJ63),\"\",BJ63)","v":1.0000337473853533},{"$f":"IF(ISERROR(BK63),\"\",BK63)","v":0.99954917023767853},{"$f":"IF(BL63=\"\",\"\",HI_Hilfstabelle!H4)","v":8901064},{"$f":"IFERROR(BN63/BN$82,\"\")","v":4.0484229934400193E-2},{"$f":"IFERROR(BN63/BN$82,\"\")","v":4.0484229934400193E-2},{"$f":"IFERROR(BO63*BL63,\"\")","v":4.0485596171308522E-2},{"$f":"IFERROR(BP63*BM63,\"\")","v":4.0465978438641102E-2},{"$f":"IF(BL63=\"\",\"\",HI_Hilfstabelle!J4)","v":126},{"$f":"IFERROR(BS63/BS$82,\"\")","v":8.4000000000000005E-2},{"$f":"IFERROR(BS63/BS$82,\"\")","v":8.4000000000000005E-2},{"$f":"IFERROR(BT63*BJ63,\"\")","v":8.4002834780369684E-2},{"$f":"IFERROR(BU63*BK63,\"\")","v":8.3962130299965007E-2}]
["Belgien",null,{"$f":"NR_Veränderung!C5","v":1.0206469910574156},{"$f":"NR_Veränderung!D5","v":0.99231938802494979},{"$f":"NR_Veränderung!E5","v":1.0295002404189364},{"$f":"NR_Veränderung!F5","v":1.0008292222735311},{"$f":"NR_Veränderung!G5","v":1.0304423716229947},{"$f":"NR_Veränderung!H5","v":0.89079866193235779},{"$f":"NR_Veränderung!I5","v":0.95337170173900021},{"$f":"NR_Veränderung!J5","v":1.0233582921996269},{"$f":"NR_Veränderung!K5","v":1.0124665352769486},{"$f":"NR_Veränderung!L5","v":1.0065132888249753},{"$f":"NR_Veränderung!M5","v":1.0277444415500665},{"$f":"NR_Veränderung!N5","v":1.054837756886674},{"$f":"NR_Veränderung!O5","v":1.0584557971211317},{"$f":"NR_Veränderung!P5","v":0.96397640098135673},{"$f":"NR_Veränderung!Q5","v":1.0134323837773866},{"$f":"NR_Veränderung!R5","v":1.0430447579518649},{"$f":"NR_Veränderung!S5","v":0.97621785681551931},{"$f":"NR_Veränderung!T5","v":1.0143246862172359},{"$f":"NR_Veränderung!U5","v":0.97451854608336597},{"$f":"NR_Veränderung!V5","v":0.98652565246371204},{"$f":"NR_Veränderung!W5","v":0.96016041861135237},{"$f":"1/0","v":{"$error":"#DIV/0!"}},{"$error":"#DIV/0!"},{"$error":"#DIV/0!"},{"$f":"IF(ISERROR(Y64),\"\",Y64)","v":""},{"$f":"IF(ISERROR(Z64),\"\",Z64)","v":""},{"$f":"IF(AA64=\"\",\"\",HI_Hilfstabelle!H5)","v":""},{"$f":"IFERROR(AC64/AC$82,\"\")","v":""},{"$f":"IFERROR(AC64/AC$82,\"\")","v":""},{"$f":"IFERROR(AD64*AA64,\"\")","v":""},{"$f":"IFERROR(AE64*AB64,\"\")","v":""},{"$f":"IF(AA64=\"\",\"\",HI_Hilfstabelle!J5)","v":""},{"$f":"IFERROR(AH64/AH$82,\"\")","v":""},{"$f":"IFERROR(AH64/AH$82,\"\")","v":""},{"$f":"IFERROR(AI64*Y64,\"\")","v":""},{"$f":"IFERROR(AJ64*Z64,\"\")","v":""},null,{"$f":"IF(HI_Hilfstabelle!$C5=HI_Hilfstabelle!$A5,IFERROR(NR_Berechnung!C64,1/0),\"\")","v":""},{"$f":"IF(HI_Hilfstabelle!$C5=HI_Hilfstabelle!$A5,IFERROR(NR_Berechnung!D64,1/0),\"\")","v":""},{"$f":"IF(HI_Hilfstabelle!$C5=HI_Hilfstabelle!$A5,IFERROR(NR_Berechnung!E64,1/0),\"\")","v":""},{"$f":"IF(HI_Hilfstabelle!$C5=HI_Hilfstabelle!$A5,IFERROR(NR_Berechnung!F64,1/0),\"\")","v":""},{"$f":"IF(HI_Hilfstabelle!$C5=HI_Hilfstabelle!$A5,IFERROR(NR_Berechnung!G64,1/0),\"\")","v":""},{"$f":"IF(HI_Hilfstabelle!$C5=HI_Hilfstabelle!$A5,IFERROR(NR_Berechnung!H64,1/0),\"\")","v":""},{"$f":"IF(HI_Hilfstabelle!$C5=HI_Hilfstabelle!$A5,IFERROR(NR_Berechnung!I64,1/0),\"\")","v":""},{"$f":"IF(HI_Hilfstabelle!$C5=HI_Hilfstabelle!$A5,IFERROR(NR_Berechnung!J64,1/0),\"\")","v":""},{"$f":"IF(HI_Hilfstabelle!$C5=HI_Hilfstabelle!$A5,IFERROR(NR_Berechnung!K64,1/0),\"\")","v":""},{"$f":"IF(HI_Hilfstabelle!$C5=HI_Hilfstabelle!$A5,IFERROR(NR_Berechnung!L64,1/0),\"\")","v":""},{"$f":"IF(HI_Hilfstabelle!$C5=HI_Hilfstabelle!$A5,IFERROR(NR_Berechnung!M64,1/0),\"\")","v":""},{"$f":"IF(HI_Hilfstabelle!$C5=HI_Hilfstabelle!$A5,IFERROR(NR_Berechnung!N64,1/0),\"\")","v":""},{"$f":"IF(HI_Hilfstabelle!$C5=HI_Hilfstabelle!$A5,IFERROR(NR_Berechnung!O64,1/0),\"\")","v":""},{"$f":"IF(HI_Hilfstabelle!$C5=HI_Hilfstabelle!$A5,IFERROR(NR_Berechnung!P64,1/0),\"\")","v":""},{"$f":"IF(HI_Hilfstabelle!$C5=HI_Hilfstabelle!$A5,IFERROR(NR_Berechnung!Q64,1/0),\"\")","v":""},{"$f":"IF(HI_Hilfstabelle!$C5=HI_Hilfstabelle!$A5,IFERROR(NR_Berechnung!R64,1/0),\"\")","v":""},{"$f":"IF(HI_Hilfstabelle!$C5=HI_Hilfstabelle!$A5,IFERROR(NR_Berechnung!S64,1/0),\"\")","v":""},{"$f":"IF(HI_Hilfstabelle!$C5=HI_Hilfstabelle!$A5,IFERROR(NR_Berechnung!T64,1/0),\"\")","v":""},{"$f":"IF(HI_Hilfstabelle!$C5=HI_Hilfstabelle!$A5,IFERROR(NR_Berechnung!U64,1/0),\"\")","v":""},{"$f":"IF(HI_Hilfstabelle!$C5=HI_Hilfstabelle!$A5,IFERROR(NR_Berechnung!V64,1/0),\"\")","v":""},{"$f":"IF(HI_Hilfstabelle!$C5=HI_Hilfstabelle!$A5,IFERROR(NR_Berechnung!W64,1/0),\"\")","v":""},{"$f":"IF(HI_Hilfstabelle!$C5=HI_Hilfstabelle!$A5,IFERROR(NR_Berechnung!X64,1/0),\"\")","v":""},{"$error":"#DIV/0!"},{"$error":"#NUM!"},{"$f":"IF(ISERROR(BJ64),\"\",BJ64)","v":""},{"$f":"IF(ISERROR(BK64),\"\",BK64)","v":""},{"$f":"IF(BL64=\"\",\"\",HI_Hilfstabelle!H5)","v":""},{"$f":"IFERROR(BN64/BN$82,\"\")","v":""},{"$f":"IFERROR(BN64/BN$82,\"\")","v":""},{"$f":"IFERROR(BO64*BL64,\"\")","v":""},{"$f":"IFERROR(BP64*BM64,\"\")","v":""},{"$f":"IF(BL64=\"\",\"\",HI_Hilfstabelle!J5)","v":""},{"$f":"IFERROR(BS64/BS$82,\"\")","v":""},{"$f":"IFERROR(BS64/BS$82,\"\")","v":""},{"$f":"IFERROR(BT64*BJ64,\"\")","v":""},{"$f":"IFERROR(BU64*BK64,\"\")","v":""}]
["Tschechien",null,{"$f":"NR_Veränderung!C6","v":1.0545872550715572},{"$f":"NR_Veränderung!D6","v":0.87562121823578964},{"$f":"NR_Veränderung!E6","v":1.112642291164549},{"$f":"NR_Veränderung!F6","v":0.94921324614473912},{"$f":"NR_Veränderung!G6","v":1.1019991724828242},{"$f":"NR_Veränderung!H6","v":1.1022732837752034},{"$f":"NR_Veränderung!I6","v":1.0251298972273546},{"$f":"NR_Veränderung!J6","v":1.2176727584637901},{"$f":"NR_Veränderung!K6","v":0.99389250918145133},{"$f":"NR_Veränderung!L6","v":1.0033130725133204},{"$f":"NR_Veränderung!M6","v":1.1127094048493391},{"$f":"NR_Veränderung!N6","v":1.0746410577477927},{"$f":"NR_Veränderung!O6","v":0.91207396502217086},{"$f":"NR_Veränderung!P6","v":1.0274921586204737},{"$f":"NR_Veränderung!Q6","v":0.95462169387958029},{"$f":"NR_Veränderung!R6","v":1.0300135085248934},{"$f":"NR_Veränderung!S6","v":1.0141995647497604},{"$f":"NR_Veränderung!T6","v":0.94238660355453874},{"$f":"NR_Veränderung!U6","v":0.95273538881726638},{"$f":"NR_Veränderung!V6","v":0.97763369668331579},{"$f":"NR_Veränderung!W6","v":0.95141767471824368},{"$f":"NR_Veränderung!X6","v":0.94956538613016139},0.97399311759688278,0.97346423256652626,0.97399311759688278,0.97346423256652626,{"$f":"IF(AA65=\"\",\"\",HI_Hilfstabelle!H6)","v":10693939},3.7265812703884169E-2,3.7265812703884169E-2,3.629664509523766E-2,3.6276935764754506E-2,{"$f":"IF(AA65=\"\",\"\",HI_Hilfstabelle!J6)","v":93},5.7907845579078458E-2,5.7907845579078458E-2,5.6401843048885493E-2,5.6371216456218523E-2,null,{"$f":"IF(HI_Hilfstabelle!$C6=HI_Hilfstabelle!$A6,IFERROR(NR_Berechnung!C65,1/0),\"\")","v":1.0545872550715572},{"$f":"IF(HI_Hilfstabelle!$C6=HI_Hilfstabelle!$A6,IFERROR(NR_Berechnung!D65,1/0),\"\")","v":0.87562121823578964},{"$f":"IF(HI_Hilfstabelle!$C6=HI_Hilfstabelle!$A6,IFERROR(NR_Berechnung!E65,1/0),\"\")","v":1.112642291164549},{"$f":"IF(HI_Hilfstabelle!$C6=HI_Hilfstabelle!$A6,IFERROR(NR_Berechnung!F65,1/0),\"\")","v":0.94921324614473912},{"$f":"IF(HI_Hilfstabelle!$C6=HI_Hilfstabelle!$A6,IFERROR(NR_Berechnung!G65,1/0),\"\")","v":1.1019991724828242},{"$f":"IF(HI_Hilfstabelle!$C6=HI_Hilfstabelle!$A6,IFERROR(NR_Berechnung!H65,1/0),\"\")","v":1.1022732837752034},{"$f":"IF(HI_Hilfstabelle!$C6=HI_Hilfstabelle!$A6,IFERROR(NR_Berechnung!I65,1/0),\"\")","v":1.0251298972273546},{"$f":"IF(HI_Hilfstabelle!$C6=HI_Hilfstabelle!$A6,IFERROR(NR_Berechnung!J65,1/0),\"\")","v":1.2176727584637901},{"$f":"IF(HI_Hilfstabelle!$C6=HI_Hilfstabelle!$A6,IFERROR(NR_Berechnung!K65,1/0),\"\")","v":0.99389250918145133},{"$f":"IF(HI_Hilfstabelle!$C6=HI_Hilfstabelle!$A6,IFERROR(NR_Berechnung!L65,1/0),\"\")","v":1.0033130725133204},{"$f":"IF(HI_Hilfstabelle!$C6=HI_Hilfstabelle!$A6,IFERROR(NR_Berechnung!M65,1/0),\"\")","v":1.1127094048493391},{"$f":"IF(HI_Hilfstabelle!$C6=HI_Hilfstabelle!$A6,IFERROR(NR_Berechnung!N65,1/0),\"\")","v":1.0746410577477927},{"$f":"IF(HI_Hilfstabelle!$C6=HI_Hilfstabelle!$A6,IFERROR(NR_Berechnung!O65,1/0),\"\")","v":0.91207396502217086},{"$f":"IF(HI_Hilfstabelle!$C6=HI_Hilfstabelle!$A6,IFERROR(NR_Berechnung!P65,1/0),\"\")","v":1.0274921586204737},{"$f":"IF(HI_Hilfstabelle!$C6=HI_Hilfstabelle!$A6,IFERROR(NR_Berechnung!Q65,1/0),\"\")","v":0.95462169387958029},{"$f":"IF(HI_Hilfstabelle!$C6=HI_Hilfstabelle!$A6,IFERROR(NR_Berechnung!R65,1/0),\"\")","v":1.0300135085248934},{"$f":"IF(HI_Hilfstabelle!$C6=HI_Hilfstabelle!$A6,IFERROR(NR_Berechnung!S65,1/0),\"\")","v":1.0141995647497604},{"$f":"IF(HI_Hilfstabelle!$C6=HI_Hilfstabelle!$A6,IFERROR(NR_Berechnung!T65,1/0),\"\")","v":0.94238660355453874},{"$f":"IF(HI_Hilfstabelle!$C6=HI_Hilfstabelle!$A6,IFERROR(NR_Berechnung!U65,1/0),\"\")","v":0.95273538881726638},{"$f":"IF(HI_Hilfstabelle!$C6=HI_Hilfstabelle!$A6,IFERROR(NR_Berechnung!V65,1/0),\"\")","v":0.97763369668331579},{"$f":"IF(HI_Hilfstabelle!$C6=HI_Hilfstabelle!$A6,IFERROR(NR_Berechnung!W65,1/0),\"\")","v":0.95141767471824368},{"$f":"IF(HI_Hilfstabelle!$C6=HI_Hilfstabelle!$A6,IFERROR(NR_Berechnung!X65,1/0),\"\")","v":0.94956538613016139},0.97399311759688278,0.97346423256652626,0.97399311759688278,0.97346423256652626,{"$f":"IF(BL65=\"\",\"\",HI_Hilfstabelle!H6)","v":10693939},4.8638666723489425E-2,4.8638666723489425E-2,4.7373726637767226E-2,4.7348002375040672E-2,{"$f":"IF(BL65=\"\",\"\",HI_Hilfstabelle!J6)","v":93},6.2E-2,6.2E-2,6.0387573291006733E-2,6.0354782419124627E-2]
["Dänemark",null,{"$f":"NR_Veränderung!C7","v":1.0262928348909661},{"$f":"NR_Veränderung!D7","v":0.98474118497724472},{"$f":"NR_Veränderung!E7","v":0.95145571033511378},{"$f":"NR_Veränderung!F7","v":0.92815381914908002},{"$f":"NR_Veränderung!G7","v":0.87343465045592694},{"$f":"NR_Veränderung!H7","v":1.2757075376478662},{"$f":"NR_Veränderung!I7","v":0.96833170094678445},{"$f":"NR_Veränderung!J7","v":0.96469804618117228},{"$f":"NR_Veränderung!K7","v":0.96490229178944686},{"$f":"NR_Veränderung!L7","v":0.96646748168046348},{"$f":"NR_Veränderung!M7","v":0.85848502642395774},{"$f":"NR_Veränderung!N7","v":0.95749621403331653},{"$f":"NR_Veränderung!O7","v":0.89366261316762197},{"$f":"NR_Veränderung!P7","v":0.97775319320124732},{"$f":"NR_Veränderung!Q7","v":0.92233076358044619},{"$f":"NR_Veränderung!R7","v":0.78955670999914229},{"$f":"NR_Veränderung!S7","v":0.95120493515058246},{"$f":"NR_Veränderung!T7","v":1.0055874058819485},{"$f":"NR_Veränderung!U7","v":0.97489594172736727},{"$f":"NR_Veränderung!V7","v":0.94072408240324301},{"$f":"NR_Veränderung!W7","v":0.88180699415444574},{"$f":"NR_Veränderung!X7","v":1.1644203627028344},0.95831377600279488,0.9524768819276922,0.95831377600279488,0.9524768819276922,{"$f":"IF(AA66=\"\",\"\",HI_Hilfstabelle!H7)","v":5822763},2.0290932590611065E-2,2.0290932590611065E-2,1.9445080229526662E-2,1.9326644205310217E-2,{"$f":"IF(AA66=\"\",\"\",HI_Hilfstabelle!J7)","v":130},8.0946450809464512E-2,8.0946450809464512E-2,7.7572098929242425E-2,7.7099623070112075E-2,null,{"$f":"IF(HI_Hilfstabelle!$C7=HI_Hilfstabelle!$A7,IFERROR(NR_Berechnung!C66,1/0),\"\")","v":1.0262928348909661},{"$f":"IF(HI_Hilfstabelle!$C7=HI_Hilfstabelle!$A7,IFERROR(NR_Berechnung!D66,1/0),\"\")","v":0.98474118497724472},{"$f":"IF(HI_Hilfstabelle!$C7=HI_Hilfstabelle!$A7,IFERROR(NR_Berechnung!E66,1/0),\"\")","v":0.95145571033511378},{"$f":"IF(HI_Hilfstabelle!$C7=HI_Hilfstabelle!$A7,IFERROR(NR_Berechnung!F66,1/0),\"\")","v":0.92815381914908002},{"$f":"IF(HI_Hilfstabelle!$C7=HI_Hilfstabelle!$A7,IFERROR(NR_Berechnung!G66,1/0),\"\")","v":0.87343465045592694},{"$f":"IF(HI_Hilfstabelle!$C7=HI_Hilfstabelle!$A7,IFERROR(NR_Berechnung!H66,1/0),\"\")","v":1.2757075376478662},{"$f":"IF(HI_Hilfstabelle!$C7=HI_Hilfstabelle!$A7,IFERROR(NR_Berechnung!I66,1/0),\"\")","v":0.96833170094678445},{"$f":"IF(HI_Hilfstabelle!$C7=HI_Hilfstabelle!$A7,IFERROR(NR_Berechnung!J66,1/0),\"\")","v":0.96469804618117228},{"$f":"IF(HI_Hilfstabelle!$C7=HI_Hilfstabelle!$A7,IFERROR(NR_Berechnung!K66,1/0),\"\")","v":0.96490229178944686},{"$f":"IF(HI_Hilfstabelle!$C7=HI_Hilfstabelle!$A7,IFERROR(NR_Berechnung!L66,1/0),\"\")","v":0.96646748168046348},{"$f":"IF(HI_Hilfstabelle!$C7=HI_Hilfstabelle!$A7,IFERROR(NR_Berechnung!M66,1/0),\"\")","v":0.85848502642395774},{"$f":"IF(HI_Hilfstabelle!$C7=HI_Hilfstabelle!$A7,IFERROR(NR_Berechnung!N66,1/0),\"\")","v":0.95749621403331653},{"$f":"IF(HI_Hilfstabelle!$C7=HI_Hilfstabelle!$A7,IFERROR(NR_Berechnung!O66,1/0),\"\")","v":0.89366261316762197},{"$f":"IF(HI_Hilfstabelle!$C7=HI_Hilfstabelle!$A7,IFERROR(NR_Berechnung!P66,1/0),\"\")","v":0.97775319320124732},{"$f":"IF(HI_Hilfstabelle!$C7=HI_Hilfstabelle!$A7,IFERROR(NR_Berechnung!Q66,1/0),\"\")","v":0.92233076358044619},{"$f":"IF(HI_Hilfstabelle!$C7=HI_Hilfstabelle!$A7,IFERROR(NR_Berechnung!R66,1/0),\"\")","v":0.78955670999914229},{"$f":"IF(HI_Hilfstabelle!$C7=HI_Hilfstabelle!$A7,IFERROR(NR_Berechnung!S66,1/0),\"\")","v":0.95120493515058246},{"$f":"IF(HI_Hilfstabelle!$C7=HI_Hilfstabelle!$A7,IFERROR(NR_Berechnung!T66,1/0),\"\")","v":1.0055874058819485},{"$f":"IF(HI_Hilfstabelle!$C7=HI_Hilfstabelle!$A7,IFERROR(NR_Berechnung!U66,1/0),\"\")","v":0.97489594172736727},{"$f":"IF(HI_Hilfstabelle!$C7=HI_Hilfstabelle!$A7,IFERROR(NR_Berechnung!V66,1/0),\"\")","v":0.94072408240324301},{"$f":"IF(HI_Hilfstabelle!$C7=HI_Hilfstabelle!$A7,IFERROR(NR_Berechnung!W66,1/0),\"\")","v":0.88180699415444574},{"$f":"IF(HI_Hilfstabelle!$C7=HI_Hilfstabelle!$A7,IFERROR(NR_Berechnung!X66,1/0),\"\")","v":1.1644203627028344},0.95831377600279488,0.9524768819276922,0.95831377600279488,0.9524768819276922,{"$f":"IF(BL66=\"\",\"\",HI_Hilfstabelle!H7)","v":5822763},2.648335930912505E-2,2.648335930912505E-2,2.5379368060766395E-2,2.5224787497726147E-2,{"$f":"IF(BL66=\"\",\"\",HI_Hilfstabelle!J7)","v":130},8.666666666666667E-2,8.666666666666667E-2,8.305386058690889E-2,8.2547996433733326E-2]
["Estland",null,{"$f":"NR_Veränderung!C8","v":1.1478355805597609},{"$f":"NR_Veränderung!D8","v":1.1127938141316598},{"$f":"NR_Veränderung!E8","v":1.2190913988753709},{"$f":"NR_Veränderung!F8","v":0.97279263526207727},{"$f":"NR_Veränderung!G8","v":1.1059918333707552},{"$f":"NR_Veränderung!H8","v":1.2177281877936443},{"$f":"NR_Veränderung!I8","v":1.1590470908274573},{"$f":"NR_Veränderung!J8","v":1.0339651797671781},{"$f":"NR_Veränderung!K8","v":1.2747876215891893},{"$f":"NR_Veränderung!L8","v":1.2814961143151677},{"$f":"NR_Veränderung!M8","v":0.92948260026533325},{"$f":"NR_Veränderung!N8","v":1.1549937179324881},{"$f":"NR_Veränderung!O8","v":0.95236995902740895},{"$f":"NR_Veränderung!P8","v":0.86207694878217633},{"$f":"NR_Veränderung!Q8","v":0.91770755947435068},{"$f":"NR_Veränderung!R8","v":0.9273683480124294},{"$f":"NR_Veränderung!S8","v":0.93115068608300533},{"$f":"NR_Veränderung!T8","v":1.1146456210969757},{"$f":"NR_Veränderung!U8","v":0.90043667782755865},{"$f":"NR_Veränderung!V8","v":0.94632522904779504},{"$f":"NR_Veränderung!W8","v":0.99635698505792158},{"$f":"NR_Veränderung!X8","v":1.0444639288772888},0.98010678228613912,0.97762659818752362,0.98010678228613912,0.97762659818752362,{"$f":"IF(AA67=\"\",\"\",HI_Hilfstabelle!H8)","v":1328976},4.6311626337084185E-3,4.6311626337084185E-3,4.5390339071677598E-3,4.5275477712455334E-3,{"$f":"IF(AA67=\"\",\"\",HI_Hilfstabelle!J8)","v":84},5.2303860523038606E-2,5.2303860523038606E-2,5.1263368438378386E-2,5.1133645235212945E-2,null,{"$f":"IF(HI_Hilfstabelle!$C8=HI_Hilfstabelle!$A8,IFERROR(NR_Berechnung!C67,1/0),\"\")","v":1.1478355805597609},{"$f":"IF(HI_Hilfstabelle!$C8=HI_Hilfstabelle!$A8,IFERROR(NR_Berechnung!D67,1/0),\"\")","v":1.1127938141316598},{"$f":"IF(HI_Hilfstabelle!$C8=HI_Hilfstabelle!$A8,IFERROR(NR_Berechnung!E67,1/0),\"\")","v":1.2190913988753709},{"$f":"IF(HI_Hilfstabelle!$C8=HI_Hilfstabelle!$A8,IFERROR(NR_Berechnung!F67,1/0),\"\")","v":0.97279263526207727},{"$f":"IF(HI_Hilfstabelle!$C8=HI_Hilfstabelle!$A8,IFERROR(NR_Berechnung!G67,1/0),\"\")","v":1.1059918333707552},{"$f":"IF(HI_Hilfstabelle!$C8=HI_Hilfstabelle!$A8,IFERROR(NR_Berechnung!H67,1/0),\"\")","v":1.2177281877936443},{"$f":"IF(HI_Hilfstabelle!$C8=HI_Hilfstabelle!$A8,IFERROR(NR_Berechnung!I67,1/0),\"\")","v":1.1590470908274573},{"$f":"IF(HI_Hilfstabelle!$C8=HI_Hilfstabelle!$A8,IFERROR(NR_Berechnung!J67,1/0),\"\")","v":1.0339651797671781},{"$f":"IF(HI_Hilfstabelle!$C8=HI_Hilfstabelle!$A8,IFERROR(NR_Berechnung!K67,1/0),\"\")","v":1.2747876215891893},{"$f":"IF(HI_Hilfstabelle!$C8=HI_Hilfstabelle!$A8,IFERROR(NR_Berechnung!L67,1/0),\"\")","v":1.2814961143151677},{"$f":"IF(HI_Hilfstabelle!$C8=HI_Hilfstabelle!$A8,IFERROR(NR_Berechnung!M67,1/0),\"\")","v":0.92948260026533325},{"$f":"IF(HI_Hilfstabelle!$C8=HI_Hilfstabelle!$A8,IFERROR(NR_Berechnung!N67,1/0),\"\")","v":1.1549937179324881},{"$f":"IF(HI_Hilfstabelle!$C8=HI_Hilfstabelle!$A8,IFERROR(NR_Berechnung!O67,1/0),\"\")","v":0.95236995902740895},{"$f":"IF(HI_Hilfstabelle!$C8=HI_Hilfstabelle!$A8,IFERROR(NR_Berechnung!P67,1/0),\"\")","v":0.86207694878217633},{"$f":"IF(HI_Hilfstabelle!$C8=HI_Hilfstabelle!$A8,IFERROR(NR_Berechnung!Q67,1/0),\"\")","v":0.91770755947435068},{"$f":"IF(HI_Hilfstabelle!$C8=HI_Hilfstabelle!$A8,IFERROR(NR_Berechnung!R67,1/0),\"\")","v":0.9273683480124294},{"$f":"IF(HI_Hilfstabelle!$C8=HI_Hilfstabelle!$A8,IFERROR(NR_Berechnung!S67,1/0),\"\")","v":0.93115068608300533},{"$f":"IF(HI_Hilfstabelle!$C8=HI_Hilfstabelle!$A8,IFERROR(NR_Berechnung!T67,1/0),\"\")","v":1.1146456210969757},{"$f":"IF(HI_Hilfstabelle!$C8=HI_Hilfstabelle!$A8,IFERROR(NR_Berechnung!U67,1/0),\"\")","v":0.90043667782755865},{"$f":"IF(HI_Hilfstabelle!$C8=HI_Hilfstabelle!$A8,IFERROR(NR_Berechnung!V67,1/0),\"\")","v":0.94632522904779504},{"$f":"IF(HI_Hilfstabelle!$C8=HI_Hilfstabelle!$A8,IFERROR(NR_Berechnung!W67,1/0),\"\")","v":0.99635698505792158},{"$f":"IF(HI_Hilfstabelle!$C8=HI_Hilfstabelle!$A8,IFERROR(NR_Berechnung!X67,1/0),\"\")","v":1.0444639288772888},0.98010678228613912,0.97762659818752362,0.98010678228613912,0.97762659818752362,{"$f":"IF(BL67=\"\",\"\",HI_Hilfstabelle!H8)","v":1328976},6.044509955360329E-3,6.044509955360329E-3,5.9242652028447468E-3,5.9092737053695384E-3,{"$f":"IF(BL67=\"\",\"\",HI_Hilfstabelle!J8)","v":84},5.6000000000000001E-2,5.6000000000000001E-2,5.4885979808023795E-2,5.4747089498501322E-2]
["Frankreich",null,{"$f":"NR_Veränderung!C9","v":1.0335884370956465},{"$f":"NR_Veränderung!D9","v":0.9966563036367756},{"$f":"NR_Veränderung!E9","v":1.0390583482144333},{"$f":"NR_Veränderung!F9","v":1.0619332281808622},{"$f":"NR_Veränderung!G9","v":0.92007292055612899},{"$f":"NR_Veränderung!H9","v":0.96257646258776874},{"$f":"NR_Veränderung!I9","v":0.97764336120500506},{"$f":"NR_Veränderung!J9","v":0.97334058534315826},{"$f":"NR_Veränderung!K9","v":1.0277614133891575},{"$f":"NR_Veränderung!L9","v":1.0134779374351908},{"$f":"NR_Veränderung!M9","v":0.97026505573320343},{"$f":"NR_Veränderung!N9","v":1.0434742413572449},{"$f":"NR_Veränderung!O9","v":1.0065270048476342},{"$f":"NR_Veränderung!P9","v":1.0150742355428843},{"$f":"NR_Veränderung!Q9","v":0.95698256945307003},{"$f":"NR_Veränderung!R9","v":0.95376022369800761},{"$f":"NR_Veränderung!S9","v":0.98521751915600297},{"$f":"NR_Veränderung!T9","v":0.94936963994952439},{"$f":"NR_Veränderung!U9","v":0.97066558618581},{"$f":"NR_Veränderung!V9","v":0.92331290658129472},{"$f":"NR_Veränderung!W9","v":0.98567230098324754},{"$f":"NR_Veränderung!X9","v":1.0062736255729958},0.96775311458955471,0.96740995111859485,0.96775311458955471,0.96740995111859485,{"$f":"IF(AA68=\"\",\"\",HI_Hilfstabelle!H9)","v":67098824},0.23382330943115423,0.23382330943115423,0.22628323596563671,0.226202996347181,{"$f":"IF(AA68=\"\",\"\",HI_Hilfstabelle!J9)","v":106},6.6002490660024907E-2,6.6002490660024907E-2,6.38741159069071E-2,6.3851466263120202E-2,null,{"$f":"IF(HI_Hilfstabelle!$C9=HI_Hilfstabelle!$A9,IFERROR(NR_Berechnung!C68,1/0),\"\")","v":""},{"$f":"IF(HI_Hilfstabelle!$C9=HI_Hilfstabelle!$A9,IFERROR(NR_Berechnung!D68,1/0),\"\")","v":""},{"$f":"IF(HI_Hilfstabelle!$C9=HI_Hilfstabelle!$A9,IFERROR(NR_Berechnung!E68,1/0),\"\")","v":""},{"$f":"IF(HI_Hilfstabelle!$C9=HI_Hilfstabelle!$A9,IFERROR(NR_Berechnung!F68,1/0),\"\")","v":""},{"$f":"IF(HI_Hilfstabelle!$C9=HI_Hilfstabelle!$A9,IFERROR(NR_Berechnung!G68,1/0),\"\")","v":""},{"$f":"IF(HI_Hilfstabelle!$C9=HI_Hilfstabelle!$A9,IFERROR(NR_Berechnung!H68,1/0),\"\")","v":""},{"$f":"IF(HI_Hilfstabelle!$C9=HI_Hilfstabelle!$A9,IFERROR(NR_Berechnung!I68,1/0),\"\")","v":""},{"$f":"IF(HI_Hilfstabelle!$C9=HI_Hilfstabelle!$A9,IFERROR(NR_Berechnung!J68,1/0),\"\")","v":""},{"$f":"IF(HI_Hilfstabelle!$C9=HI_Hilfstabelle!$A9,IFERROR(NR_Berechnung!K68,1/0),\"\")","v":""},{"$f":"IF(HI_Hilfstabelle!$C9=HI_Hilfstabelle!$A9,IFERROR(NR_Berechnung!L68,1/0),\"\")","v":""},{"$f":"IF(HI_Hilfstabelle!$C9=HI_Hilfstabelle!$A9,IFERROR(NR_Berechnung!M68,1/0),\"\")","v":""},{"$f":"IF(HI_Hilfstabelle!$C9=HI_Hilfstabelle!$A9,IFERROR(NR_Berechnung!N68,1/0),\"\")","v":""},{"$f":"IF(HI_Hilfstabelle!$C9=HI_Hilfstabelle!$A9,IFERROR(NR_Berechnung!O68,1/0),\"\")","v":""},{"$f":"IF(HI_Hilfstabelle!$C9=HI_Hilfstabelle!$A9,IFERROR(NR_Berechnung!P68,1/0),\"\")","v":""},{"$f":"IF(HI_Hilfstabelle!$C9=HI_Hilfstabelle!$A9,IFERROR(NR_Berechnung!Q68,1/0),\"\")","v":""},{"$f":"IF(HI_Hilfstabelle!$C9=HI_Hilfstabelle!$A9,IFERROR(NR_Berechnung!R68,1/0),\"\")","v":""},{"$f":"IF(HI_Hilfstabelle!$C9=HI_Hilfstabelle!$A9,IFERROR(NR_Berechnung!S68,1/0),\"\")","v":""},{"$f":"IF(HI_Hilfstabelle!$C9=HI_Hilfstabelle!$A9,IFERROR(NR_Berechnung!T68,1/0),\"\")","v":""},{"$f":"IF(HI_Hilfstabelle!$C9=HI_Hilfstabelle!$A9,IFERROR(NR_Berechnung!U68,1/0),\"\")","v":""},{"$f":"IF(HI_Hilfstabelle!$C9=HI_Hilfstabelle!$A9,IFERROR(NR_Berechnung!V68,1/0),\"\")","v":""},{"$f":"IF(HI_Hilfstabelle!$C9=HI_Hilfstabelle!$A9,IFERROR(NR_Berechnung!W68,1/0),\"\")","v":""},{"$f":"IF(HI_Hilfstabelle!$C9=HI_Hilfstabelle!$A9,IFERROR(NR_Berechnung!X68,1/0),\"\")","v":""},{"$error":"#DIV/0!"},{"$error":"#NUM!"},"","",{"$f":"IF(BL68=\"\",\"\",HI_Hilfstabelle!H9)","v":""},"","","","",{"$f":"IF(BL68=\"\",\"\",HI_Hilfstabelle!J9)","v":""},"","","",""]
["Griechenland",null,{"$f":"NR_Veränderung!C10","v":0.99715758565436219},{"$f":"NR_Veränderung!D10","v":1.2018644222983832},{"$f":"NR_Veränderung!E10","v":1.0360413990298318},{"$f":"NR_Veränderung!F10","v":1.2829637275185266},{"$f":"NR_Veränderung!G10","v":1.0172839020473579},{"$f":"NR_Veränderung!H10","v":1.1102716111451842},{"$f":"NR_Veränderung!I10","v":1.0568401288407627},{"$f":"NR_Veränderung!J10","v":0.97896777116813516},{"$f":"NR_Veränderung!K10","v":1.032120067225222},{"$f":"NR_Veränderung!L10","v":1.0211553226449588},{"$f":"NR_Veränderung!M10","v":1.0866396087175079},{"$f":"NR_Veränderung!N10","v":1.0241469239135574},{"$f":"NR_Veränderung!O10","v":1.0789906519384787},{"$f":"NR_Veränderung!P10","v":0.89001274180209977},{"$f":"NR_Veränderung!Q10","v":0.92571869451658173},{"$f":"NR_Veränderung!R10","v":0.96658221553772383},{"$f":"NR_Veränderung!S10","v":0.90534190308656581},{"$f":"NR_Veränderung!T10","v":0.88825744265838358},{"$f":"NR_Veränderung!U10","v":0.90804798779866447},{"$f":"NR_Veränderung!V10","v":0.89507538120533503},{"$f":"NR_Veränderung!W10","v":0.98671415892877068},{"$f":"NR_Veränderung!X10","v":0.98509450544063693},0.93358765637943997,0.93271046485740983,0.93358765637943997,0.93271046485740983,{"$f":"IF(AA69=\"\",\"\",HI_Hilfstabelle!H10)","v":10709739},3.7320871914594218E-2,3.7320871914594218E-2,3.4842305344783282E-2,3.4809567792345023E-2,{"$f":"IF(AA69=\"\",\"\",HI_Hilfstabelle!J10)","v":67},4.1718555417185554E-2,4.1718555417185554E-2,3.8947928379466049E-2,3.8911333216342749E-2,null,{"$f":"IF(HI_Hilfstabelle!$C10=HI_Hilfstabelle!$A10,IFERROR(NR_Berechnung!C69,1/0),\"\")","v":0.99715758565436219},{"$f":"IF(HI_Hilfstabelle!$C10=HI_Hilfstabelle!$A10,IFERROR(NR_Berechnung!D69,1/0),\"\")","v":1.2018644222983832},{"$f":"IF(HI_Hilfstabelle!$C10=HI_Hilfstabelle!$A10,IFERROR(NR_Berechnung!E69,1/0),\"\")","v":1.0360413990298318},{"$f":"IF(HI_Hilfstabelle!$C10=HI_Hilfstabelle!$A10,IFERROR(NR_Berechnung!F69,1/0),\"\")","v":1.2829637275185266},{"$f":"IF(HI_Hilfstabelle!$C10=HI_Hilfstabelle!$A10,IFERROR(NR_Berechnung!G69,1/0),\"\")","v":1.0172839020473579},{"$f":"IF(HI_Hilfstabelle!$C10=HI_Hilfstabelle!$A10,IFERROR(NR_Berechnung!H69,1/0),\"\")","v":1.1102716111451842},{"$f":"IF(HI_Hilfstabelle!$C10=HI_Hilfstabelle!$A10,IFERROR(NR_Berechnung!I69,1/0),\"\")","v":1.0568401288407627},{"$f":"IF(HI_Hilfstabelle!$C10=HI_Hilfstabelle!$A10,IFERROR(NR_Berechnung!J69,1/0),\"\")","v":0.97896777116813516},{"$f":"IF(HI_Hilfstabelle!$C10=HI_Hilfstabelle!$A10,IFERROR(NR_Berechnung!K69,1/0),\"\")","v":1.032120067225222},{"$f":"IF(HI_Hilfstabelle!$C10=HI_Hilfstabelle!$A10,IFERROR(NR_Berechnung!L69,1/0),\"\")","v":1.0211553226449588},{"$f":"IF(HI_Hilfstabelle!$C10=HI_Hilfstabelle!$A10,IFERROR(NR_Berechnung!M69,1/0),\"\")","v":1.0866396087175079},{"$f":"IF(HI_Hilfstabelle!$C10=HI_Hilfstabelle!$A10,IFERROR(NR_Berechnung!N69,1/0),\"\")","v":1.0241469239135574},{"$f":"IF(HI_Hilfstabelle!$C10=HI_Hilfstabelle!$A10,IFERROR(NR_Berechnung!O69,1/0),\"\")","v":1.0789906519384787},{"$f":"IF(HI_Hilfstabelle!$C10=HI_Hilfstabelle!$A10,IFERROR(NR_Berechnung!P69,1/0),\"\")","v":0.89001274180209977},{"$f":"IF(HI_Hilfstabelle!$C10=HI_Hilfstabelle!$A10,IFERROR(NR_Berechnung!Q69,1/0),\"\")","v":0.92571869451658173},{"$f":"IF(HI_Hilfstabelle!$C10=HI_Hilfstabelle!$A10,IFERROR(NR_Berechnung!R69,1/0),\"\")","v":0.96658221553772383},{"$f":"IF(HI_Hilfstabelle!$C10=HI_Hilfstabelle!$A10,IFERROR(NR_Berechnung!S69,1/0),\"\")","v":0.90534190308656581},{"$f":"IF(HI_Hilfstabelle!$C10=HI_Hilfstabelle!$A10,IFERROR(NR_Berechnung!T69,1/0),\"\")","v":0.88825744265838358},{"$f":"IF(HI_Hilfstabelle!$C10=HI_Hilfstabelle!$A10,IFERROR(NR_Berechnung!U69,1/0),\"\")","v":0.90804798779866447},{"$f":"IF(HI_Hilfstabelle!$C10=HI_Hilfstabelle!$A10,IFERROR(NR_Berechnung!V69,1/0),\"\")","v":0.89507538120533503},{"$f":"IF(HI_Hilfstabelle!$C10=HI_Hilfstabelle!$A10,IFERROR(NR_Berechnung!W69,1/0),\"\")","v":0.98671415892877068},{"$f":"IF(HI_Hilfstabelle!$C10=HI_Hilfstabelle!$A10,IFERROR(NR_Berechnung!X69,1/0),\"\")","v":0.98509450544063693},0.93358765637943997,0.93271046485740983,0.93358765637943997,0.93271046485740983,{"$f":"IF(BL69=\"\",\"\",HI_Hilfstabelle!H10)","v":10709739},4.8710529012420671E-2,4.8710529012420671E-2,4.5475548621708529E-2,4.543282015862523E-2,{"$f":"IF(BL69=\"\",\"\",HI_Hilfstabelle!J10)","v":67},4.4666666666666667E-2,4.4666666666666667E-2,4.1700248651614986E-2,4.1661067430297641E-2]
["Italien",null,{"$f":"NR_Veränderung!C11","v":1.002226474110949},{"$f":"NR_Veränderung!D11","v":1.0830413600508531},{"$f":"NR_Veränderung!E11","v":1.024622851423034},{"$f":"NR_Veränderung!F11","v":1.1240784228950453},{"$f":"NR_Veränderung!G11","v":1.0460423283181635},{"$f":"NR_Veränderung!H11","v":1.1531777191514641},{"$f":"NR_Veränderung!I11","v":0.97869128990712451},{"$f":"NR_Veränderung!J11","v":1.0229949742176336},{"$f":"NR_Veränderung!K11","v":0.98359941075158852},{"$f":"NR_Veränderung!L11","v":1.0417291125908459},{"$f":"NR_Veränderung!M11","v":1.0166931396589705},{"$f":"NR_Veränderung!N11","v":1.0446709678718589},{"$f":"NR_Veränderung!O11","v":0.97769860488459659},{"$f":"NR_Veränderung!P11","v":0.99856773739775484},{"$f":"NR_Veränderung!Q11","v":1.0340607914555233},{"$f":"NR_Veränderung!R11","v":0.95571411846117071},{"$f":"NR_Veränderung!S11","v":0.95545129513021487},{"$f":"NR_Veränderung!T11","v":1.0943345822268369},{"$f":"NR_Veränderung!U11","v":0.89265676040625275},{"$f":"NR_Veränderung!V11","v":1.02771418013454},{"$f":"NR_Veränderung!W11","v":0.99401527002912116},{"$f":"NR_Veränderung!X11","v":1.0151625348123889},0.9907212487429321,0.98893432690177507,0.9907212487429321,0.98893432690177507,{"$f":"IF(AA70=\"\",\"\",HI_Hilfstabelle!H11)","v":60244639},0.20993811853491176,0.20993811853491176,0.20799015495364948,0.20761501194434803,{"$f":"IF(AA70=\"\",\"\",HI_Hilfstabelle!J11)","v":96},5.9775840597758409E-2,5.9775840597758409E-2,5.922119544166967E-2,5.9114380686532013E-2,null,{"$f":"IF(HI_Hilfstabelle!$C11=HI_Hilfstabelle!$A11,IFERROR(NR_Berechnung!C70,1/0),\"\")","v":1.002226474110949},{"$f":"IF(HI_Hilfstabelle!$C11=HI_Hilfstabelle!$A11,IFERROR(NR_Berechnung!D70,1/0),\"\")","v":1.0830413600508531},{"$f":"IF(HI_Hilfstabelle!$C11=HI_Hilfstabelle!$A11,IFERROR(NR_Berechnung!E70,1/0),\"\")","v":1.024622851423034},{"$f":"IF(HI_Hilfstabelle!$C11=HI_Hilfstabelle!$A11,IFERROR(NR_Berechnung!F70,1/0),\"\")","v":1.1240784228950453},{"$f":"IF(HI_Hilfstabelle!$C11=HI_Hilfstabelle!$A11,IFERROR(NR_Berechnung!G70,1/0),\"\")","v":1.0460423283181635},{"$f":"IF(HI_Hilfstabelle!$C11=HI_Hilfstabelle!$A11,IFERROR(NR_Berechnung!H70,1/0),\"\")","v":1.1531777191514641},{"$f":"IF(HI_Hilfstabelle!$C11=HI_Hilfstabelle!$A11,IFERROR(NR_Berechnung!I70,1/0),\"\")","v":0.97869128990712451},{"$f":"IF(HI_Hilfstabelle!$C11=HI_Hilfstabelle!$A11,IFERROR(NR_Berechnung!J70,1/0),\"\")","v":1.0229949742176336},{"$f":"IF(HI_Hilfstabelle!$C11=HI_Hilfstabelle!$A11,IFERROR(NR_Berechnung!K70,1/0),\"\")","v":0.98359941075158852},{"$f":"IF(HI_Hilfstabelle!$C11=HI_Hilfstabelle!$A11,IFERROR(NR_Berechnung!L70,1/0),\"\")","v":1.0417291125908459},{"$f":"IF(HI_Hilfstabelle!$C11=HI_Hilfstabelle!$A11,IFERROR(NR_Berechnung!M70,1/0),\"\")","v":1.0166931396589705},{"$f":"IF(HI_Hilfstabelle!$C11=HI_Hilfstabelle!$A11,IFERROR(NR_Berechnung!N70,1/0),\"\")","v":1.0446709678718589},{"$f":"IF(HI_Hilfstabelle!$C11=HI_Hilfstabelle!$A11,IFERROR(NR_Berechnung!O70,1/0),\"\")","v":0.97769860488459659},{"$f":"IF(HI_Hilfstabelle!$C11=HI_Hilfstabelle!$A11,IFERROR(NR_Berechnung!P70,1/0),\"\")","v":0.99856773739775484},{"$f":"IF(HI_Hilfstabelle!$C11=HI_Hilfstabelle!$A11,IFERROR(NR_Berechnung!Q70,1/0),\"\")","v":1.0340607914555233},{"$f":"IF(HI_Hilfstabelle!$C11=HI_Hilfstabelle!$A11,IFERROR(NR_Berechnung!R70,1/0),\"\")","v":0.95571411846117071},{"$f":"IF(HI_Hilfstabelle!$C11=HI_Hilfstabelle!$A11,IFERROR(NR_Berechnung!S70,1/0),\"\")","v":0.95545129513021487},{"$f":"IF(HI_Hilfstabelle!$C11=HI_Hilfstabelle!$A11,IFERROR(NR_Berechnung!T70,1/0),\"\")","v":1.0943345822268369},{"$f":"IF(HI_Hilfstabelle!$C11=HI_Hilfstabelle!$A11,IFERROR(NR_Berechnung!U70,1/0),\"\")","v":0.89265676040625275},{"$f":"IF(HI_Hilfstabelle!$C11=HI_Hilfstabelle!$A11,IFERROR(NR_Berechnung!V70,1/0),\"\")","v":1.02771418013454},{"$f":"IF(HI_Hilfstabelle!$C11=HI_Hilfstabelle!$A11,IFERROR(NR_Berechnung!W70,1/0),\"\")","v":0.99401527002912116},{"$f":"IF(HI_Hilfstabelle!$C11=HI_Hilfstabelle!$A11,IFERROR(NR_Berechnung!X70,1/0),\"\")","v":1.0151625348123889},0.9907212487429321,0.98893432690177507,0.9907212487429321,0.98893432690177507,{"$f":"IF(BL70=\"\",\"\",HI_Hilfstabelle!H11)","v":60244639},0.27400744647953695,0.27400744647953695,0.27146499954106901,0.27097536965031505,{"$f":"IF(BL70=\"\",\"\",HI_Hilfstabelle!J11)","v":96},6.4000000000000001E-2,6.4000000000000001E-2,6.340615991954765E-2,6.3291796921713606E-2]
["Spanien",null,{"$f":"NR_Veränderung!C12","v":1.1577738414947716},{"$f":"NR_Veränderung!D12","v":1.114294101570013},{"$f":"NR_Veränderung!E12","v":1.0785890942654959},{"$f":"NR_Veränderung!F12","v":1.0182293897269181},{"$f":"NR_Veränderung!G12","v":1.0896146552891779},{"$f":"NR_Veränderung!H12","v":1.061731806734036},{"$f":"NR_Veränderung!I12","v":1.0826050989747615},{"$f":"NR_Veränderung!J12","v":1.0574376347397598},{"$f":"NR_Veränderung!K12","v":1.0604825146750865},{"$f":"NR_Veränderung!L12","v":1.0509137122646768},{"$f":"NR_Veränderung!M12","v":1.0047512652094324},{"$f":"NR_Veränderung!N12","v":1.0830951108218871},{"$f":"NR_Veränderung!O12","v":1.0130531479287479},{"$f":"NR_Veränderung!P12","v":0.97973226411433767},{"$f":"NR_Veränderung!Q12","v":1.1003344481605351},{"$f":"NR_Veränderung!R12","v":1.0422425005244389},{"$f":"NR_Veränderung!S12","v":0.95685413093963345},{"$f":"NR_Veränderung!T12","v":1.0752908233869574},{"$f":"NR_Veränderung!U12","v":1.1212024969882817},{"$f":"NR_Veränderung!V12","v":0.97197914836291233},{"$f":"NR_Veränderung!W12","v":0.93780334994063386},{"$f":"NR_Veränderung!X12","v":0.96059315131626},1.0094236573513025,1.0073731918158562,1.0094236573513025,1.0073731918158562,{"$f":"IF(AA71=\"\",\"\",HI_Hilfstabelle!H12)","v":47329981},0.16493363270768577,0.16493363270768577,0.16648791074802857,0.16614972001852552,{"$f":"IF(AA71=\"\",\"\",HI_Hilfstabelle!J12)","v":91},5.6662515566625153E-2,5.6662515566625153E-2,5.7196483697987868E-2,5.7080299162666819E-2,null,{"$f":"IF(HI_Hilfstabelle!$C12=HI_Hilfstabelle!$A12,IFERROR(NR_Berechnung!C71,1/0),\"\")","v":1.1577738414947716},{"$f":"IF(HI_Hilfstabelle!$C12=HI_Hilfstabelle!$A12,IFERROR(NR_Berechnung!D71,1/0),\"\")","v":1.114294101570013},{"$f":"IF(HI_Hilfstabelle!$C12=HI_Hilfstabelle!$A12,IFERROR(NR_Berechnung!E71,1/0),\"\")","v":1.0785890942654959},{"$f":"IF(HI_Hilfstabelle!$C12=HI_Hilfstabelle!$A12,IFERROR(NR_Berechnung!F71,1/0),\"\")","v":1.0182293897269181},{"$f":"IF(HI_Hilfstabelle!$C12=HI_Hilfstabelle!$A12,IFERROR(NR_Berechnung!G71,1/0),\"\")","v":1.0896146552891779},{"$f":"IF(HI_Hilfstabelle!$C12=HI_Hilfstabelle!$A12,IFERROR(NR_Berechnung!H71,1/0),\"\")","v":1.061731806734036},{"$f":"IF(HI_Hilfstabelle!$C12=HI_Hilfstabelle!$A12,IFERROR(NR_Berechnung!I71,1/0),\"\")","v":1.0826050989747615},{"$f":"IF(HI_Hilfstabelle!$C12=HI_Hilfstabelle!$A12,IFERROR(NR_Berechnung!J71,1/0),\"\")","v":1.0574376347397598},{"$f":"IF(HI_Hilfstabelle!$C12=HI_Hilfstabelle!$A12,IFERROR(NR_Berechnung!K71,1/0),\"\")","v":1.0604825146750865},{"$f":"IF(HI_Hilfstabelle!$C12=HI_Hilfstabelle!$A12,IFERROR(NR_Berechnung!L71,1/0),\"\")","v":1.0509137122646768},{"$f":"IF(HI_Hilfstabelle!$C12=HI_Hilfstabelle!$A12,IFERROR(NR_Berechnung!M71,1/0),\"\")","v":1.0047512652094324},{"$f":"IF(HI_Hilfstabelle!$C12=HI_Hilfstabelle!$A12,IFERROR(NR_Berechnung!N71,1/0),\"\")","v":1.0830951108218871},{"$f":"IF(HI_Hilfstabelle!$C12=HI_Hilfstabelle!$A12,IFERROR(NR_Berechnung!O71,1/0),\"\")","v":1.0130531479287479},{"$f":"IF(HI_Hilfstabelle!$C12=HI_Hilfstabelle!$A12,IFERROR(NR_Berechnung!P71,1/0),\"\")","v":0.97973226411433767},{"$f":"IF(HI_Hilfstabelle!$C12=HI_Hilfstabelle!$A12,IFERROR(NR_Berechnung!Q71,1/0),\"\")","v":1.1003344481605351},{"$f":"IF(HI_Hilfstabelle!$C12=HI_Hilfstabelle!$A12,IFERROR(NR_Berechnung!R71,1/0),\"\")","v":1.0422425005244389},{"$f":"IF(HI_Hilfstabelle!$C12=HI_Hilfstabelle!$A12,IFERROR(NR_Berechnung!S71,1/0),\"\")","v":0.95685413093963345},{"$f":"IF(HI_Hilfstabelle!$C12=HI_Hilfstabelle!$A12,IFERROR(NR_Berechnung!T71,1/0),\"\")","v":1.0752908233869574},{"$f":"IF(HI_Hilfstabelle!$C12=HI_Hilfstabelle!$A12,IFERROR(NR_Berechnung!U71,1/0),\"\")","v":1.1212024969882817},{"$f":"IF(HI_Hilfstabelle!$C12=HI_Hilfstabelle!$A12,IFERROR(NR_Berechnung!V71,1/0),\"\")","v":0.97197914836291233},{"$f":"IF(HI_Hilfstabelle!$C12=HI_Hilfstabelle!$A12,IFERROR(NR_Berechnung!W71,1/0),\"\")","v":0.93780334994063386},{"$f":"IF(HI_Hilfstabelle!$C12=HI_Hilfstabelle!$A12,IFERROR(NR_Berechnung!X71,1/0),\"\")","v":0.96059315131626},1.0094236573513025,1.0073731918158562,1.0094236573513025,1.0073731918158562,{"$f":"IF(BL71=\"\",\"\",HI_Hilfstabelle!H12)","v":47329981},0.21526840314762283,0.21526840314762283,0.21729701881744806,0.21685561837592329,{"$f":"IF(BL71=\"\",\"\",HI_Hilfstabelle!J12)","v":91},6.0666666666666667E-2,6.0666666666666667E-2,6.1238368545979013E-2,6.1113973636828606E-2]
["Finnland",null,{"$f":"NR_Veränderung!C13","v":1.0332850940665701},{"$f":"NR_Veränderung!D13","v":1.0589102530567984},{"$f":"NR_Veränderung!E13","v":1.0128509675412776},{"$f":"NR_Veränderung!F13","v":1.0950971452619769},{"$f":"NR_Veränderung!G13","v":1.0322923895442977},{"$f":"NR_Veränderung!H13","v":1.0132020726315178},{"$f":"NR_Veränderung!I13","v":0.97954545454545461},{"$f":"NR_Veränderung!J13","v":1.0110492948635008},{"$f":"NR_Veränderung!K13","v":1.0220806908165827},{"$f":"NR_Veränderung!L13","v":0.99817284142596108},{"$f":"NR_Veränderung!M13","v":0.99464648558988189},{"$f":"NR_Veränderung!N13","v":0.99403035357726843},{"$f":"NR_Veränderung!O13","v":0.98193586926724685},{"$f":"NR_Veränderung!P13","v":0.97154235390198107},{"$f":"NR_Veränderung!Q13","v":1.0579434783702846},{"$f":"NR_Veränderung!R13","v":0.98538806484994823},{"$f":"NR_Veränderung!S13","v":1.0289465930632691},{"$f":"NR_Veränderung!T13","v":0.88611412306858217},{"$f":"NR_Veränderung!U13","v":0.84096333261011058},{"$f":"NR_Veränderung!V13","v":0.93546576533790571},{"$f":"NR_Veränderung!W13","v":0.95612794741468266},{"$f":"NR_Veränderung!X13","v":0.88497525865946924},0.93114015500056679,0.92919311753981815,0.93114015500056679,0.92919311753981815,{"$f":"IF(AA72=\"\",\"\",HI_Hilfstabelle!H13)","v":5525292},1.9254317497628289E-2,1.9254317497628289E-2,1.7928468179171729E-2,1.78909793017227E-2,{"$f":"IF(AA72=\"\",\"\",HI_Hilfstabelle!J13)","v":111},6.9115815691158156E-2,6.9115815691158156E-2,6.4356511335655606E-2,6.4221940253374729E-2,null,{"$f":"IF(HI_Hilfstabelle!$C13=HI_Hilfstabelle!$A13,IFERROR(NR_Berechnung!C72,1/0),\"\")","v":1.0332850940665701},{"$f":"IF(HI_Hilfstabelle!$C13=HI_Hilfstabelle!$A13,IFERROR(NR_Berechnung!D72,1/0),\"\")","v":1.0589102530567984},{"$f":"IF(HI_Hilfstabelle!$C13=HI_Hilfstabelle!$A13,IFERROR(NR_Berechnung!E72,1/0),\"\")","v":1.0128509675412776},{"$f":"IF(HI_Hilfstabelle!$C13=HI_Hilfstabelle!$A13,IFERROR(NR_Berechnung!F72,1/0),\"\")","v":1.0950971452619769},{"$f":"IF(HI_Hilfstabelle!$C13=HI_Hilfstabelle!$A13,IFERROR(NR_Berechnung!G72,1/0),\"\")","v":1.0322923895442977},{"$f":"IF(HI_Hilfstabelle!$C13=HI_Hilfstabelle!$A13,IFERROR(NR_Berechnung!H72,1/0),\"\")","v":1.0132020726315178},{"$f":"IF(HI_Hilfstabelle!$C13=HI_Hilfstabelle!$A13,IFERROR(NR_Berechnung!I72,1/0),\"\")","v":0.97954545454545461},{"$f":"IF(HI_Hilfstabelle!$C13=HI_Hilfstabelle!$A13,IFERROR(NR_Berechnung!J72,1/0),\"\")","v":1.0110492948635008},{"$f":"IF(HI_Hilfstabelle!$C13=HI_Hilfstabelle!$A13,IFERROR(NR_Berechnung!K72,1/0),\"\")","v":1.0220806908165827},{"$f":"IF(HI_Hilfstabelle!$C13=HI_Hilfstabelle!$A13,IFERROR(NR_Berechnung!L72,1/0),\"\")","v":0.99817284142596108},{"$f":"IF(HI_Hilfstabelle!$C13=HI_Hilfstabelle!$A13,IFERROR(NR_Berechnung!M72,1/0),\"\")","v":0.99464648558988189},{"$f":"IF(HI_Hilfstabelle!$C13=HI_Hilfstabelle!$A13,IFERROR(NR_Berechnung!N72,1/0),\"\")","v":0.99403035357726843},{"$f":"IF(HI_Hilfstabelle!$C13=HI_Hilfstabelle!$A13,IFERROR(NR_Berechnung!O72,1/0),\"\")","v":0.98193586926724685},{"$f":"IF(HI_Hilfstabelle!$C13=HI_Hilfstabelle!$A13,IFERROR(NR_Berechnung!P72,1/0),\"\")","v":0.97154235390198107},{"$f":"IF(HI_Hilfstabelle!$C13=HI_Hilfstabelle!$A13,IFERROR(NR_Berechnung!Q72,1/0),\"\")","v":1.0579434783702846},{"$f":"IF(HI_Hilfstabelle!$C13=HI_Hilfstabelle!$A13,IFERROR(NR_Berechnung!R72,1/0),\"\")","v":0.98538806484994823},{"$f":"IF(HI_Hilfstabelle!$C13=HI_Hilfstabelle!$A13,IFERROR(NR_Berechnung!S72,1/0),\"\")","v":1.0289465930632691},{"$f":"IF(HI_Hilfstabelle!$C13=HI_Hilfstabelle!$A13,IFERROR(NR_Berechnung!T72,1/0),\"\")","v":0.88611412306858217},{"$f":"IF(HI_Hilfstabelle!$C13=HI_Hilfstabelle!$A13,IFERROR(NR_Berechnung!U72,1/0),\"\")","v":0.84096333261011058},{"$f":"IF(HI_Hilfstabelle!$C13=HI_Hilfstabelle!$A13,IFERROR(NR_Berechnung!V72,1/0),\"\")","v":0.93546576533790571},{"$f":"IF(HI_Hilfstabelle!$C13=HI_Hilfstabelle!$A13,IFERROR(NR_Berechnung!W72,1/0),\"\")","v":0.95612794741468266},{"$f":"IF(HI_Hilfstabelle!$C13=HI_Hilfstabelle!$A13,IFERROR(NR_Berechnung!X72,1/0),\"\")","v":0.88497525865946924},0.93114015500056679,0.92919311753981815,0.93114015500056679,0.92919311753981815,{"$f":"IF(BL72=\"\",\"\",HI_Hilfstabelle!H13)","v":5525292},2.5130387983133468E-2,2.5130387983133468E-2,2.3399913361839279E-2,2.335098355503297E-2,{"$f":"IF(BL72=\"\",\"\",HI_Hilfstabelle!J13)","v":111},7.3999999999999996E-2,7.3999999999999996E-2,6.8904371470041942E-2,6.8760290697946536E-2]
["Ungarn",null,{"$f":"NR_Veränderung!C14","v":0.89492304685494106},{"$f":"NR_Veränderung!D14","v":0.97365058899540868},{"$f":"NR_Veränderung!E14","v":1.058518545173164},{"$f":"NR_Veränderung!F14","v":1.0210642010801352},{"$f":"NR_Veränderung!G14","v":0.96500849821807444},{"$f":"NR_Veränderung!H14","v":1.4763759810809338},{"$f":"NR_Veränderung!I14","v":1.2276486070716333},{"$f":"NR_Veränderung!J14","v":0.91932103338288096},{"$f":"NR_Veränderung!K14","v":1.1801091509547337},{"$f":"NR_Veränderung!L14","v":1.0626390326894575},{"$f":"NR_Veränderung!M14","v":1.0030389492745473},{"$f":"NR_Veränderung!N14","v":1.0693260151380073},{"$f":"NR_Veränderung!O14","v":1.1489043483897667},{"$f":"NR_Veränderung!P14","v":0.84601962382043161},{"$f":"NR_Veränderung!Q14","v":0.98462633074720907},{"$f":"NR_Veränderung!R14","v":0.98665048779633679},{"$f":"NR_Veränderung!S14","v":0.97775296282500312},{"$f":"NR_Veränderung!T14","v":1.0629274354006515},{"$f":"NR_Veränderung!U14","v":1.0459686378277591},{"$f":"NR_Veränderung!V14","v":1.0269489187304015},{"$f":"NR_Veränderung!W14","v":0.9454604338354482},{"$f":"NR_Veränderung!X14","v":0.90879598719717969},0.99350069480182579,0.99216044351922916,0.99350069480182579,0.99216044351922916,{"$f":"IF(AA73=\"\",\"\",HI_Hilfstabelle!H14)","v":9769526},3.4044455099447146E-2,3.4044455099447146E-2,3.3823189795450299E-2,3.3777561670837966E-2,{"$f":"IF(AA73=\"\",\"\",HI_Hilfstabelle!J14)","v":73},4.5454545454545456E-2,4.5454545454545456E-2,4.5159122490992083E-2,4.5098201978146783E-2,null,{"$f":"IF(HI_Hilfstabelle!$C14=HI_Hilfstabelle!$A14,IFERROR(NR_Berechnung!C73,1/0),\"\")","v":0.89492304685494106},{"$f":"IF(HI_Hilfstabelle!$C14=HI_Hilfstabelle!$A14,IFERROR(NR_Berechnung!D73,1/0),\"\")","v":0.97365058899540868},{"$f":"IF(HI_Hilfstabelle!$C14=HI_Hilfstabelle!$A14,IFERROR(NR_Berechnung!E73,1/0),\"\")","v":1.058518545173164},{"$f":"IF(HI_Hilfstabelle!$C14=HI_Hilfstabelle!$A14,IFERROR(NR_Berechnung!F73,1/0),\"\")","v":1.0210642010801352},{"$f":"IF(HI_Hilfstabelle!$C14=HI_Hilfstabelle!$A14,IFERROR(NR_Berechnung!G73,1/0),\"\")","v":0.96500849821807444},{"$f":"IF(HI_Hilfstabelle!$C14=HI_Hilfstabelle!$A14,IFERROR(NR_Berechnung!H73,1/0),\"\")","v":1.4763759810809338},{"$f":"IF(HI_Hilfstabelle!$C14=HI_Hilfstabelle!$A14,IFERROR(NR_Berechnung!I73,1/0),\"\")","v":1.2276486070716333},{"$f":"IF(HI_Hilfstabelle!$C14=HI_Hilfstabelle!$A14,IFERROR(NR_Berechnung!J73,1/0),\"\")","v":0.91932103338288096},{"$f":"IF(HI_Hilfstabelle!$C14=HI_Hilfstabelle!$A14,IFERROR(NR_Berechnung!K73,1/0),\"\")","v":1.1801091509547337},{"$f":"IF(HI_Hilfstabelle!$C14=HI_Hilfstabelle!$A14,IFERROR(NR_Berechnung!L73,1/0),\"\")","v":1.0626390326894575},{"$f":"IF(HI_Hilfstabelle!$C14=HI_Hilfstabelle!$A14,IFERROR(NR_Berechnung!M73,1/0),\"\")","v":1.0030389492745473},{"$f":"IF(HI_Hilfstabelle!$C14=HI_Hilfstabelle!$A14,IFERROR(NR_Berechnung!N73,1/0),\"\")","v":1.0693260151380073},{"$f":"IF(HI_Hilfstabelle!$C14=HI_Hilfstabelle!$A14,IFERROR(NR_Berechnung!O73,1/0),\"\")","v":1.1489043483897667},{"$f":"IF(HI_Hilfstabelle!$C14=HI_Hilfstabelle!$A14,IFERROR(NR_Berechnung!P73,1/0),\"\")","v":0.84601962382043161},{"$f":"IF(HI_Hilfstabelle!$C14=HI_Hilfstabelle!$A14,IFERROR(NR_Berechnung!Q73,1/0),\"\")","v":0.98462633074720907},{"$f":"IF(HI_Hilfstabelle!$C14=HI_Hilfstabelle!$A14,IFERROR(NR_Berechnung!R73,1/0),\"\")","v":0.98665048779633679},{"$f":"IF(HI_Hilfstabelle!$C14=HI_Hilfstabelle!$A14,IFERROR(NR_Berechnung!S73,1/0),\"\")","v":0.97775296282500312},{"$f":"IF(HI_Hilfstabelle!$C14=HI_Hilfstabelle!$A14,IFERROR(NR_Berechnung!T73,1/0),\"\")","v":1.0629274354006515},{"$f":"IF(HI_Hilfstabelle!$C14=HI_Hilfstabelle!$A14,IFERROR(NR_Berechnung!U73,1/0),\"\")","v":1.0459686378277591},{"$f":"IF(HI_Hilfstabelle!$C14=HI_Hilfstabelle!$A14,IFERROR(NR_Berechnung!V73,1/0),\"\")","v":1.0269489187304015},{"$f":"IF(HI_Hilfstabelle!$C14=HI_Hilfstabelle!$A14,IFERROR(NR_Berechnung!W73,1/0),\"\")","v":0.9454604338354482},{"$f":"IF(HI_Hilfstabelle!$C14=HI_Hilfstabelle!$A14,IFERROR(NR_Berechnung!X73,1/0),\"\")","v":0.90879598719717969},0.99350069480182579,0.99216044351922916,0.99350069480182579,0.99216044351922916,{"$f":"IF(BL73=\"\",\"\",HI_Hilfstabelle!H14)","v":9769526},4.4434208869198216E-2,4.4434208869198216E-2,4.4145417384517875E-2,4.4085864379089769E-2,{"$f":"IF(BL73=\"\",\"\",HI_Hilfstabelle!J14)","v":73},4.8666666666666664E-2,4.8666666666666664E-2,4.8350367147022184E-2,4.8285141584602481E-2]
["Irland",null,{"$f":"NR_Veränderung!C15","v":1.0019919931532431},{"$f":"NR_Veränderung!D15","v":1.0419119639668262},{"$f":"NR_Veränderung!E15","v":0.84953864783700439},{"$f":"NR_Veränderung!F15","v":1.0325982263538862},{"$f":"NR_Veränderung!G15","v":0.96569018023166076},{"$f":"NR_Veränderung!H15","v":0.93678689929083603},{"$f":"NR_Veränderung!I15","v":0.93738860867703633},{"$f":"NR_Veränderung!J15","v":1.0171198656675917},{"$f":"NR_Veränderung!K15","v":1.1630749593180361},{"$f":"NR_Veränderung!L15","v":0.8044159393974889},{"$f":"NR_Veränderung!M15","v":0.93665400057298942},{"$f":"NR_Veränderung!N15","v":1.0029609606577226},{"$f":"NR_Veränderung!O15","v":0.99070818923651283},{"$f":"NR_Veränderung!P15","v":0.98200010305437602},{"$f":"NR_Veränderung!Q15","v":1.2180009375717691},{"$f":"NR_Veränderung!R15","v":0.99311276289422523},{"$f":"NR_Veränderung!S15","v":1.0236635859208703},{"$f":"NR_Veränderung!T15","v":0.97190916179836928},{"$f":"NR_Veränderung!U15","v":0.9274309429278168},{"$f":"NR_Veränderung!V15","v":0.95262650134352023},{"$f":"NR_Veränderung!W15","v":0.93345602439813846},{"$f":"NR_Veränderung!X15","v":1.0182397898607329},0.97434839559195319,0.97368509755826615,0.97434839559195319,0.97368509755826615,{"$f":"IF(AA74=\"\",\"\",HI_Hilfstabelle!H15)","v":4963839},1.7297788445046834E-2,1.7297788445046834E-2,1.685407241872041E-2,1.6842598829657676E-2,{"$f":"IF(AA74=\"\",\"\",HI_Hilfstabelle!J15)","v":193},0.12017434620174346,0.12017434620174346,0.11709168141298067,0.11701197000544543,null,{"$f":"IF(HI_Hilfstabelle!$C15=HI_Hilfstabelle!$A15,IFERROR(NR_Berechnung!C74,1/0),\"\")","v":1.0019919931532431},{"$f":"IF(HI_Hilfstabelle!$C15=HI_Hilfstabelle!$A15,IFERROR(NR_Berechnung!D74,1/0),\"\")","v":1.0419119639668262},{"$f":"IF(HI_Hilfstabelle!$C15=HI_Hilfstabelle!$A15,IFERROR(NR_Berechnung!E74,1/0),\"\")","v":0.84953864783700439},{"$f":"IF(HI_Hilfstabelle!$C15=HI_Hilfstabelle!$A15,IFERROR(NR_Berechnung!F74,1/0),\"\")","v":1.0325982263538862},{"$f":"IF(HI_Hilfstabelle!$C15=HI_Hilfstabelle!$A15,IFERROR(NR_Berechnung!G74,1/0),\"\")","v":0.96569018023166076},{"$f":"IF(HI_Hilfstabelle!$C15=HI_Hilfstabelle!$A15,IFERROR(NR_Berechnung!H74,1/0),\"\")","v":0.93678689929083603},{"$f":"IF(HI_Hilfstabelle!$C15=HI_Hilfstabelle!$A15,IFERROR(NR_Berechnung!I74,1/0),\"\")","v":0.93738860867703633},{"$f":"IF(HI_Hilfstabelle!$C15=HI_Hilfstabelle!$A15,IFERROR(NR_Berechnung!J74,1/0),\"\")","v":1.0171198656675917},{"$f":"IF(HI_Hilfstabelle!$C15=HI_Hilfstabelle!$A15,IFERROR(NR_Berechnung!K74,1/0),\"\")","v":1.1630749593180361},{"$f":"IF(HI_Hilfstabelle!$C15=HI_Hilfstabelle!$A15,IFERROR(NR_Berechnung!L74,1/0),\"\")","v":0.8044159393974889},{"$f":"IF(HI_Hilfstabelle!$C15=HI_Hilfstabelle!$A15,IFERROR(NR_Berechnung!M74,1/0),\"\")","v":0.93665400057298942},{"$f":"IF(HI_Hilfstabelle!$C15=HI_Hilfstabelle!$A15,IFERROR(NR_Berechnung!N74,1/0),\"\")","v":1.0029609606577226},{"$f":"IF(HI_Hilfstabelle!$C15=HI_Hilfstabelle!$A15,IFERROR(NR_Berechnung!O74,1/0),\"\")","v":0.99070818923651283},{"$f":"IF(HI_Hilfstabelle!$C15=HI_Hilfstabelle!$A15,IFERROR(NR_Berechnung!P74,1/0),\"\")","v":0.98200010305437602},{"$f":"IF(HI_Hilfstabelle!$C15=HI_Hilfstabelle!$A15,IFERROR(NR_Berechnung!Q74,1/0),\"\")","v":1.2180009375717691},{"$f":"IF(HI_Hilfstabelle!$C15=HI_Hilfstabelle!$A15,IFERROR(NR_Berechnung!R74,1/0),\"\")","v":0.99311276289422523},{"$f":"IF(HI_Hilfstabelle!$C15=HI_Hilfstabelle!$A15,IFERROR(NR_Berechnung!S74,1/0),\"\")","v":1.0236635859208703},{"$f":"IF(HI_Hilfstabelle!$C15=HI_Hilfstabelle!$A15,IFERROR(NR_Berechnung!T74,1/0),\"\")","v":0.97190916179836928},{"$f":"IF(HI_Hilfstabelle!$C15=HI_Hilfstabelle!$A15,IFERROR(NR_Berechnung!U74,1/0),\"\")","v":0.9274309429278168},{"$f":"IF(HI_Hilfstabelle!$C15=HI_Hilfstabelle!$A15,IFERROR(NR_Berechnung!V74,1/0),\"\")","v":0.95262650134352023},{"$f":"IF(HI_Hilfstabelle!$C15=HI_Hilfstabelle!$A15,IFERROR(NR_Berechnung!W74,1/0),\"\")","v":0.93345602439813846},{"$f":"IF(HI_Hilfstabelle!$C15=HI_Hilfstabelle!$A15,IFERROR(NR_Berechnung!X74,1/0),\"\")","v":1.0182397898607329},0.97434839559195319,0.97368509755826615,0.97434839559195319,0.97368509755826615,{"$f":"IF(BL74=\"\",\"\",HI_Hilfstabelle!H15)","v":4963839},2.2576761545961596E-2,2.2576761545961596E-2,2.1997631389969786E-2,2.1982656268429327E-2,{"$f":"IF(BL74=\"\",\"\",HI_Hilfstabelle!J15)","v":193},0.12866666666666668,0.12866666666666668,0.12536616023283131,0.12528081588583026]
["Niederlande",null,{"$f":"NR_Veränderung!C16","v":1.0483473112974842},{"$f":"NR_Veränderung!D16","v":0.98703834299744031},{"$f":"NR_Veränderung!E16","v":1.0264493225032991},{"$f":"NR_Veränderung!F16","v":0.99157365358482696},{"$f":"NR_Veränderung!G16","v":1.0200608370875208},{"$f":"NR_Veränderung!H16","v":1.037033040439854},{"$f":"NR_Veränderung!I16","v":1.0135833003561534},{"$f":"NR_Veränderung!J16","v":1.0356312138490358},{"$f":"NR_Veränderung!K16","v":1.1522397726797877},{"$f":"NR_Veränderung!L16","v":1.0029332945356244},{"$f":"NR_Veränderung!M16","v":0.98895582329317266},{"$f":"NR_Veränderung!N16","v":1.0058502043531983},{"$f":"NR_Veränderung!O16","v":0.98443579766536993},{"$f":"NR_Veränderung!P16","v":0.9341255395732434},{"$f":"NR_Veränderung!Q16","v":0.96274948816475547},{"$f":"NR_Veränderung!R16","v":0.90681399631675863},{"$f":"NR_Veränderung!S16","v":0.86668899681795364},{"$f":"NR_Veränderung!T16","v":0.88438818565400834},{"$f":"NR_Veränderung!U16","v":0.98668217581096296},{"$f":"NR_Veränderung!V16","v":0.89661869927381432},{"$f":"NR_Veränderung!W16","v":0.99740259740259751},{"$f":"NR_Veränderung!X16","v":1.0276833414278774},0.93803971324342483,0.93618733047653846,0.93803971324342483,0.93618733047653846,{"$f":"IF(AA75=\"\",\"\",HI_Hilfstabelle!H16)","v":17407585},6.0661258890381133E-2,6.0661258890381133E-2,5.6902669894518275E-2,5.67903020239321E-2,{"$f":"IF(AA75=\"\",\"\",HI_Hilfstabelle!J16)","v":128},7.9701120797011207E-2,7.9701120797011207E-2,7.4762816497607951E-2,7.4615179514942037E-2,null,{"$f":"IF(HI_Hilfstabelle!$C16=HI_Hilfstabelle!$A16,IFERROR(NR_Berechnung!C75,1/0),\"\")","v":1.0483473112974842},{"$f":"IF(HI_Hilfstabelle!$C16=HI_Hilfstabelle!$A16,IFERROR(NR_Berechnung!D75,1/0),\"\")","v":0.98703834299744031},{"$f":"IF(HI_Hilfstabelle!$C16=HI_Hilfstabelle!$A16,IFERROR(NR_Berechnung!E75,1/0),\"\")","v":1.0264493225032991},{"$f":"IF(HI_Hilfstabelle!$C16=HI_Hilfstabelle!$A16,IFERROR(NR_Berechnung!F75,1/0),\"\")","v":0.99157365358482696},{"$f":"IF(HI_Hilfstabelle!$C16=HI_Hilfstabelle!$A16,IFERROR(NR_Berechnung!G75,1/0),\"\")","v":1.0200608370875208},{"$f":"IF(HI_Hilfstabelle!$C16=HI_Hilfstabelle!$A16,IFERROR(NR_Berechnung!H75,1/0),\"\")","v":1.037033040439854},{"$f":"IF(HI_Hilfstabelle!$C16=HI_Hilfstabelle!$A16,IFERROR(NR_Berechnung!I75,1/0),\"\")","v":1.0135833003561534},{"$f":"IF(HI_Hilfstabelle!$C16=HI_Hilfstabelle!$A16,IFERROR(NR_Berechnung!J75,1/0),\"\")","v":1.0356312138490358},{"$f":"IF(HI_Hilfstabelle!$C16=HI_Hilfstabelle!$A16,IFERROR(NR_Berechnung!K75,1/0),\"\")","v":1.1522397726797877},{"$f":"IF(HI_Hilfstabelle!$C16=HI_Hilfstabelle!$A16,IFERROR(NR_Berechnung!L75,1/0),\"\")","v":1.0029332945356244},{"$f":"IF(HI_Hilfstabelle!$C16=HI_Hilfstabelle!$A16,IFERROR(NR_Berechnung!M75,1/0),\"\")","v":0.98895582329317266},{"$f":"IF(HI_Hilfstabelle!$C16=HI_Hilfstabelle!$A16,IFERROR(NR_Berechnung!N75,1/0),\"\")","v":1.0058502043531983},{"$f":"IF(HI_Hilfstabelle!$C16=HI_Hilfstabelle!$A16,IFERROR(NR_Berechnung!O75,1/0),\"\")","v":0.98443579766536993},{"$f":"IF(HI_Hilfstabelle!$C16=HI_Hilfstabelle!$A16,IFERROR(NR_Berechnung!P75,1/0),\"\")","v":0.9341255395732434},{"$f":"IF(HI_Hilfstabelle!$C16=HI_Hilfstabelle!$A16,IFERROR(NR_Berechnung!Q75,1/0),\"\")","v":0.96274948816475547},{"$f":"IF(HI_Hilfstabelle!$C16=HI_Hilfstabelle!$A16,IFERROR(NR_Berechnung!R75,1/0),\"\")","v":0.90681399631675863},{"$f":"IF(HI_Hilfstabelle!$C16=HI_Hilfstabelle!$A16,IFERROR(NR_Berechnung!S75,1/0),\"\")","v":0.86668899681795364},{"$f":"IF(HI_Hilfstabelle!$C16=HI_Hilfstabelle!$A16,IFERROR(NR_Berechnung!T75,1/0),\"\")","v":0.88438818565400834},{"$f":"IF(HI_Hilfstabelle!$C16=HI_Hilfstabelle!$A16,IFERROR(NR_Berechnung!U75,1/0),\"\")","v":0.98668217581096296},{"$f":"IF(HI_Hilfstabelle!$C16=HI_Hilfstabelle!$A16,IFERROR(NR_Berechnung!V75,1/0),\"\")","v":0.89661869927381432},{"$f":"IF(HI_Hilfstabelle!$C16=HI_Hilfstabelle!$A16,IFERROR(NR_Berechnung!W75,1/0),\"\")","v":0.99740259740259751},{"$f":"IF(HI_Hilfstabelle!$C16=HI_Hilfstabelle!$A16,IFERROR(NR_Berechnung!X75,1/0),\"\")","v":1.0276833414278774},0.93803971324342483,0.93618733047653846,0.93803971324342483,0.93618733047653846,{"$f":"IF(BL75=\"\",\"\",HI_Hilfstabelle!H16)","v":17407585},7.9173981194002846E-2,7.9173981194002846E-2,7.4268338615562743E-2,7.4121678097213178E-2,{"$f":"IF(BL75=\"\",\"\",HI_Hilfstabelle!J16)","v":128},8.533333333333333E-2,8.533333333333333E-2,8.0046055530105589E-2,7.9887985533997952E-2]
["Portugal",null,{"$f":"NR_Veränderung!C17","v":1.0354081862934581},{"$f":"NR_Veränderung!D17","v":1.0173983421260855},{"$f":"NR_Veränderung!E17","v":1.0340458677604465},{"$f":"NR_Veränderung!F17","v":1.0465563924112093},{"$f":"NR_Veränderung!G17","v":1.0550460355770093},{"$f":"NR_Veränderung!H17","v":0.97947747719866485},{"$f":"NR_Veränderung!I17","v":1.0045304793257721},{"$f":"NR_Veränderung!J17","v":0.98496692195447177},{"$f":"NR_Veränderung!K17","v":1.0462325399780019},{"$f":"NR_Veränderung!L17","v":1.0158999068993984},{"$f":"NR_Veränderung!M17","v":1.0272611464968151},{"$f":"NR_Veränderung!N17","v":1.0757863667963559},{"$f":"NR_Veränderung!O17","v":1.0048979176587514},{"$f":"NR_Veränderung!P17","v":0.95815181337137045},{"$f":"NR_Veränderung!Q17","v":1.0339910132123136},{"$f":"NR_Veränderung!R17","v":0.98972631365412556},{"$f":"NR_Veränderung!S17","v":0.92009338125427997},{"$f":"NR_Veränderung!T17","v":1.0055232183882765},{"$f":"NR_Veränderung!U17","v":1.0143947630240837},{"$f":"NR_Veränderung!V17","v":0.98572381936972242},{"$f":"NR_Veränderung!W17","v":0.91366022727824225},{"$f":"NR_Veränderung!X17","v":1.0296830085960411},0.97982924736639609,0.97890687247295027,0.97982924736639609,0.97890687247295027,{"$f":"IF(AA76=\"\",\"\",HI_Hilfstabelle!H17)","v":10295909},3.5878773612813331E-2,3.5878773612813331E-2,3.5155071745472201E-2,3.5121978065484109E-2,{"$f":"IF(AA76=\"\",\"\",HI_Hilfstabelle!J17)","v":79},4.9190535491905357E-2,4.9190535491905357E-2,4.8198325368583622E-2,4.8152953253650731E-2,null,{"$f":"IF(HI_Hilfstabelle!$C17=HI_Hilfstabelle!$A17,IFERROR(NR_Berechnung!C76,1/0),\"\")","v":1.0354081862934581},{"$f":"IF(HI_Hilfstabelle!$C17=HI_Hilfstabelle!$A17,IFERROR(NR_Berechnung!D76,1/0),\"\")","v":1.0173983421260855},{"$f":"IF(HI_Hilfstabelle!$C17=HI_Hilfstabelle!$A17,IFERROR(NR_Berechnung!E76,1/0),\"\")","v":1.0340458677604465},{"$f":"IF(HI_Hilfstabelle!$C17=HI_Hilfstabelle!$A17,IFERROR(NR_Berechnung!F76,1/0),\"\")","v":1.0465563924112093},{"$f":"IF(HI_Hilfstabelle!$C17=HI_Hilfstabelle!$A17,IFERROR(NR_Berechnung!G76,1/0),\"\")","v":1.0550460355770093},{"$f":"IF(HI_Hilfstabelle!$C17=HI_Hilfstabelle!$A17,IFERROR(NR_Berechnung!H76,1/0),\"\")","v":0.97947747719866485},{"$f":"IF(HI_Hilfstabelle!$C17=HI_Hilfstabelle!$A17,IFERROR(NR_Berechnung!I76,1/0),\"\")","v":1.0045304793257721},{"$f":"IF(HI_Hilfstabelle!$C17=HI_Hilfstabelle!$A17,IFERROR(NR_Berechnung!J76,1/0),\"\")","v":0.98496692195447177},{"$f":"IF(HI_Hilfstabelle!$C17=HI_Hilfstabelle!$A17,IFERROR(NR_Berechnung!K76,1/0),\"\")","v":1.0462325399780019},{"$f":"IF(HI_Hilfstabelle!$C17=HI_Hilfstabelle!$A17,IFERROR(NR_Berechnung!L76,1/0),\"\")","v":1.0158999068993984},{"$f":"IF(HI_Hilfstabelle!$C17=HI_Hilfstabelle!$A17,IFERROR(NR_Berechnung!M76,1/0),\"\")","v":1.0272611464968151},{"$f":"IF(HI_Hilfstabelle!$C17=HI_Hilfstabelle!$A17,IFERROR(NR_Berechnung!N76,1/0),\"\")","v":1.0757863667963559},{"$f":"IF(HI_Hilfstabelle!$C17=HI_Hilfstabelle!$A17,IFERROR(NR_Berechnung!O76,1/0),\"\")","v":1.0048979176587514},{"$f":"IF(HI_Hilfstabelle!$C17=HI_Hilfstabelle!$A17,IFERROR(NR_Berechnung!P76,1/0),\"\")","v":0.95815181337137045},{"$f":"IF(HI_Hilfstabelle!$C17=HI_Hilfstabelle!$A17,IFERROR(NR_Berechnung!Q76,1/0),\"\")","v":1.0339910132123136},{"$f":"IF(HI_Hilfstabelle!$C17=HI_Hilfstabelle!$A17,IFERROR(NR_Berechnung!R76,1/0),\"\")","v":0.98972631365412556},{"$f":"IF(HI_Hilfstabelle!$C17=HI_Hilfstabelle!$A17,IFERROR(NR_Berechnung!S76,1/0),\"\")","v":0.92009338125427997},{"$f":"IF(HI_Hilfstabelle!$C17=HI_Hilfstabelle!$A17,IFERROR(NR_Berechnung!T76,1/0),\"\")","v":1.0055232183882765},{"$f":"IF(HI_Hilfstabelle!$C17=HI_Hilfstabelle!$A17,IFERROR(NR_Berechnung!U76,1/0),\"\")","v":1.0143947630240837},{"$f":"IF(HI_Hilfstabelle!$C17=HI_Hilfstabelle!$A17,IFERROR(NR_Berechnung!V76,1/0),\"\")","v":0.98572381936972242},{"$f":"IF(HI_Hilfstabelle!$C17=HI_Hilfstabelle!$A17,IFERROR(NR_Berechnung!W76,1/0),\"\")","v":0.91366022727824225},{"$f":"IF(HI_Hilfstabelle!$C17=HI_Hilfstabelle!$A17,IFERROR(NR_Berechnung!X76,1/0),\"\")","v":1.0296830085960411},0.97982924736639609,0.97890687247295027,0.97982924736639609,0.97890687247295027,{"$f":"IF(BL76=\"\",\"\",HI_Hilfstabelle!H17)","v":10295909},4.6828328314419528E-2,4.6828328314419528E-2,4.5883765687744181E-2,4.5840572413404924E-2,{"$f":"IF(BL76=\"\",\"\",HI_Hilfstabelle!J17)","v":79},5.2666666666666667E-2,5.2666666666666667E-2,5.1604340361296859E-2,5.155576195024205E-2]
["Rumänien",null,{"$f":"NR_Veränderung!C18","v":1.2854072228726776},{"$f":"NR_Veränderung!D18","v":1.0432006685358053},{"$f":"NR_Veränderung!E18","v":0.99560802971389994},{"$f":"NR_Veränderung!F18","v":1.0294046424741412},{"$f":"NR_Veränderung!G18","v":0.95571552630376144},{"$f":"NR_Veränderung!H18","v":1.0673571103263724},{"$f":"NR_Veränderung!I18","v":0.9898838079483242},{"$f":"NR_Veränderung!J18","v":0.98752151891845696},{"$f":"NR_Veränderung!K18","v":1.0174786983546438},{"$f":"NR_Veränderung!L18","v":1.0770730961491908},{"$f":"NR_Veränderung!M18","v":0.98296786684507698},{"$f":"NR_Veränderung!N18","v":0.94490890847326503},{"$f":"NR_Veränderung!O18","v":1.2409742122357206},{"$f":"NR_Veränderung!P18","v":0.83795130566316178},{"$f":"NR_Veränderung!Q18","v":0.66558206765690853},{"$f":"NR_Veränderung!R18","v":1.041289843095712},{"$f":"NR_Veränderung!S18","v":0.99559098072865515},{"$f":"NR_Veränderung!T18","v":1.026777285868772},{"$f":"NR_Veränderung!U18","v":1.2144148250511213},{"$f":"NR_Veränderung!V18","v":0.81888527337324757},{"$f":"NR_Veränderung!W18","v":1.469444857989435},{"$f":"NR_Veränderung!X18","v":0.80517600143343859},1.0530827239343403,1.0326809215029247,1.0530827239343403,1.0326809215029247,{"$f":"IF(AA77=\"\",\"\",HI_Hilfstabelle!H18)","v":19317984},6.7318541237296303E-2,6.7318541237296303E-2,7.089199277745821E-2,6.9518573199163783E-2,{"$f":"IF(AA77=\"\",\"\",HI_Hilfstabelle!J18)","v":70},4.3586550435865505E-2,4.3586550435865505E-2,4.5900243259902752E-2,4.5010999069243295E-2,null,{"$f":"IF(HI_Hilfstabelle!$C18=HI_Hilfstabelle!$A18,IFERROR(NR_Berechnung!C77,1/0),\"\")","v":1.2854072228726776},{"$f":"IF(HI_Hilfstabelle!$C18=HI_Hilfstabelle!$A18,IFERROR(NR_Berechnung!D77,1/0),\"\")","v":1.0432006685358053},{"$f":"IF(HI_Hilfstabelle!$C18=HI_Hilfstabelle!$A18,IFERROR(NR_Berechnung!E77,1/0),\"\")","v":0.99560802971389994},{"$f":"IF(HI_Hilfstabelle!$C18=HI_Hilfstabelle!$A18,IFERROR(NR_Berechnung!F77,1/0),\"\")","v":1.0294046424741412},{"$f":"IF(HI_Hilfstabelle!$C18=HI_Hilfstabelle!$A18,IFERROR(NR_Berechnung!G77,1/0),\"\")","v":0.95571552630376144},{"$f":"IF(HI_Hilfstabelle!$C18=HI_Hilfstabelle!$A18,IFERROR(NR_Berechnung!H77,1/0),\"\")","v":1.0673571103263724},{"$f":"IF(HI_Hilfstabelle!$C18=HI_Hilfstabelle!$A18,IFERROR(NR_Berechnung!I77,1/0),\"\")","v":0.9898838079483242},{"$f":"IF(HI_Hilfstabelle!$C18=HI_Hilfstabelle!$A18,IFERROR(NR_Berechnung!J77,1/0),\"\")","v":0.98752151891845696},{"$f":"IF(HI_Hilfstabelle!$C18=HI_Hilfstabelle!$A18,IFERROR(NR_Berechnung!K77,1/0),\"\")","v":1.0174786983546438},{"$f":"IF(HI_Hilfstabelle!$C18=HI_Hilfstabelle!$A18,IFERROR(NR_Berechnung!L77,1/0),\"\")","v":1.0770730961491908},{"$f":"IF(HI_Hilfstabelle!$C18=HI_Hilfstabelle!$A18,IFERROR(NR_Berechnung!M77,1/0),\"\")","v":0.98296786684507698},{"$f":"IF(HI_Hilfstabelle!$C18=HI_Hilfstabelle!$A18,IFERROR(NR_Berechnung!N77,1/0),\"\")","v":0.94490890847326503},{"$f":"IF(HI_Hilfstabelle!$C18=HI_Hilfstabelle!$A18,IFERROR(NR_Berechnung!O77,1/0),\"\")","v":1.2409742122357206},{"$f":"IF(HI_Hilfstabelle!$C18=HI_Hilfstabelle!$A18,IFERROR(NR_Berechnung!P77,1/0),\"\")","v":0.83795130566316178},{"$f":"IF(HI_Hilfstabelle!$C18=HI_Hilfstabelle!$A18,IFERROR(NR_Berechnung!Q77,1/0),\"\")","v":0.66558206765690853},{"$f":"IF(HI_Hilfstabelle!$C18=HI_Hilfstabelle!$A18,IFERROR(NR_Berechnung!R77,1/0),\"\")","v":1.041289843095712},{"$f":"IF(HI_Hilfstabelle!$C18=HI_Hilfstabelle!$A18,IFERROR(NR_Berechnung!S77,1/0),\"\")","v":0.99559098072865515},{"$f":"IF(HI_Hilfstabelle!$C18=HI_Hilfstabelle!$A18,IFERROR(NR_Berechnung!T77,1/0),\"\")","v":1.026777285868772},{"$f":"IF(HI_Hilfstabelle!$C18=HI_Hilfstabelle!$A18,IFERROR(NR_Berechnung!U77,1/0),\"\")","v":1.2144148250511213},{"$f":"IF(HI_Hilfstabelle!$C18=HI_Hilfstabelle!$A18,IFERROR(NR_Berechnung!V77,1/0),\"\")","v":0.81888527337324757},{"$f":"IF(HI_Hilfstabelle!$C18=HI_Hilfstabelle!$A18,IFERROR(NR_Berechnung!W77,1/0),\"\")","v":1.469444857989435},{"$f":"IF(HI_Hilfstabelle!$C18=HI_Hilfstabelle!$A18,IFERROR(NR_Berechnung!X77,1/0),\"\")","v":0.80517600143343859},1.0530827239343403,1.0326809215029247,1.0530827239343403,1.0326809215029247,{"$f":"IF(BL77=\"\",\"\",HI_Hilfstabelle!H18)","v":19317984},8.7862946061848773E-2,8.7862946061848773E-2,9.252695057170772E-2,9.0734388105111752E-2,{"$f":"IF(BL77=\"\",\"\",HI_Hilfstabelle!J18)","v":70},4.6666666666666669E-2,4.6666666666666669E-2,4.9143860450269215E-2,4.8191776336803153E-2]
["Slowenien",null,{"$f":"NR_Veränderung!C19","v":1.0163341607308958},{"$f":"NR_Veränderung!D19","v":1.0419950674933145},{"$f":"NR_Veränderung!E19","v":0.95878094815621784},{"$f":"NR_Veränderung!F19","v":1.0199540038027692},{"$f":"NR_Veränderung!G19","v":1.018244266923918},{"$f":"NR_Veränderung!H19","v":0.86492184624271906},{"$f":"NR_Veränderung!I19","v":1.0328191056595777},{"$f":"NR_Veränderung!J19","v":1.0021165714875333},{"$f":"NR_Veränderung!K19","v":0.95058863598948007},{"$f":"NR_Veränderung!L19","v":0.95872895782107082},{"$f":"NR_Veränderung!M19","v":1.0656643092519731},{"$f":"NR_Veränderung!N19","v":0.99317634439525238},{"$f":"NR_Veränderung!O19","v":1.0463457989707694},{"$f":"NR_Veränderung!P19","v":0.97168092342095402},{"$f":"NR_Veränderung!Q19","v":1.0022568297831755},{"$f":"NR_Veränderung!R19","v":1.0452942119608786},{"$f":"NR_Veränderung!S19","v":0.94981110335695029},{"$f":"NR_Veränderung!T19","v":0.93690568816734565},{"$f":"NR_Veränderung!U19","v":1.0314128216242258},{"$f":"NR_Veränderung!V19","v":0.96752228922269856},{"$f":"NR_Veränderung!W19","v":1.0063170664307581},{"$f":"NR_Veränderung!X19","v":0.9405450240860348},0.98254402926412732,0.9816767691545869,0.98254402926412732,0.9816767691545869,{"$f":"IF(AA78=\"\",\"\",HI_Hilfstabelle!H19)","v":2095861},7.3035729378459497E-3,7.3035729378459497E-3,7.1760819823755992E-3,7.1697478849094866E-3,{"$f":"IF(AA78=\"\",\"\",HI_Hilfstabelle!J19)","v":89},5.5417185554171855E-2,5.5417185554171855E-2,5.4449824784873806E-2,5.4401763670459673E-2,null,{"$f":"IF(HI_Hilfstabelle!$C19=HI_Hilfstabelle!$A19,IFERROR(NR_Berechnung!C78,1/0),\"\")","v":1.0163341607308958},{"$f":"IF(HI_Hilfstabelle!$C19=HI_Hilfstabelle!$A19,IFERROR(NR_Berechnung!D78,1/0),\"\")","v":1.0419950674933145},{"$f":"IF(HI_Hilfstabelle!$C19=HI_Hilfstabelle!$A19,IFERROR(NR_Berechnung!E78,1/0),\"\")","v":0.95878094815621784},{"$f":"IF(HI_Hilfstabelle!$C19=HI_Hilfstabelle!$A19,IFERROR(NR_Berechnung!F78,1/0),\"\")","v":1.0199540038027692},{"$f":"IF(HI_Hilfstabelle!$C19=HI_Hilfstabelle!$A19,IFERROR(NR_Berechnung!G78,1/0),\"\")","v":1.018244266923918},{"$f":"IF(HI_Hilfstabelle!$C19=HI_Hilfstabelle!$A19,IFERROR(NR_Berechnung!H78,1/0),\"\")","v":0.86492184624271906},{"$f":"IF(HI_Hilfstabelle!$C19=HI_Hilfstabelle!$A19,IFERROR(NR_Berechnung!I78,1/0),\"\")","v":1.0328191056595777},{"$f":"IF(HI_Hilfstabelle!$C19=HI_Hilfstabelle!$A19,IFERROR(NR_Berechnung!J78,1/0),\"\")","v":1.0021165714875333},{"$f":"IF(HI_Hilfstabelle!$C19=HI_Hilfstabelle!$A19,IFERROR(NR_Berechnung!K78,1/0),\"\")","v":0.95058863598948007},{"$f":"IF(HI_Hilfstabelle!$C19=HI_Hilfstabelle!$A19,IFERROR(NR_Berechnung!L78,1/0),\"\")","v":0.95872895782107082},{"$f":"IF(HI_Hilfstabelle!$C19=HI_Hilfstabelle!$A19,IFERROR(NR_Berechnung!M78,1/0),\"\")","v":1.0656643092519731},{"$f":"IF(HI_Hilfstabelle!$C19=HI_Hilfstabelle!$A19,IFERROR(NR_Berechnung!N78,1/0),\"\")","v":0.99317634439525238},{"$f":"IF(HI_Hilfstabelle!$C19=HI_Hilfstabelle!$A19,IFERROR(NR_Berechnung!O78,1/0),\"\")","v":1.0463457989707694},{"$f":"IF(HI_Hilfstabelle!$C19=HI_Hilfstabelle!$A19,IFERROR(NR_Berechnung!P78,1/0),\"\")","v":0.97168092342095402},{"$f":"IF(HI_Hilfstabelle!$C19=HI_Hilfstabelle!$A19,IFERROR(NR_Berechnung!Q78,1/0),\"\")","v":1.0022568297831755},{"$f":"IF(HI_Hilfstabelle!$C19=HI_Hilfstabelle!$A19,IFERROR(NR_Berechnung!R78,1/0),\"\")","v":1.0452942119608786},{"$f":"IF(HI_Hilfstabelle!$C19=HI_Hilfstabelle!$A19,IFERROR(NR_Berechnung!S78,1/0),\"\")","v":0.94981110335695029},{"$f":"IF(HI_Hilfstabelle!$C19=HI_Hilfstabelle!$A19,IFERROR(NR_Berechnung!T78,1/0),\"\")","v":0.93690568816734565},{"$f":"IF(HI_Hilfstabelle!$C19=HI_Hilfstabelle!$A19,IFERROR(NR_Berechnung!U78,1/0),\"\")","v":1.0314128216242258},{"$f":"IF(HI_Hilfstabelle!$C19=HI_Hilfstabelle!$A19,IFERROR(NR_Berechnung!V78,1/0),\"\")","v":0.96752228922269856},{"$f":"IF(HI_Hilfstabelle!$C19=HI_Hilfstabelle!$A19,IFERROR(NR_Berechnung!W78,1/0),\"\")","v":1.0063170664307581},{"$f":"IF(HI_Hilfstabelle!$C19=HI_Hilfstabelle!$A19,IFERROR(NR_Berechnung!X78,1/0),\"\")","v":0.9405450240860348},0.98254402926412732,0.9816767691545869,0.98254402926412732,0.9816767691545869,{"$f":"IF(BL78=\"\",\"\",HI_Hilfstabelle!H19)","v":2095861},9.5324916925147284E-3,9.5324916925147284E-3,9.3660927964902413E-3,9.357825646700799E-3,{"$f":"IF(BL78=\"\",\"\",HI_Hilfstabelle!J19)","v":89},5.9333333333333335E-2,5.9333333333333335E-2,5.8297612403004892E-2,5.8246154969838822E-2]
["Slowakei",null,{"$f":"NR_Veränderung!C20","v":1.2078473342368197},{"$f":"NR_Veränderung!D20","v":1.1424955031681501},{"$f":"NR_Veränderung!E20","v":1.0794068180196874},{"$f":"NR_Veränderung!F20","v":1.0824221548386848},{"$f":"NR_Veränderung!G20","v":0.7783124227683168},{"$f":"NR_Veränderung!H20","v":1.002163531635371},{"$f":"NR_Veränderung!I20","v":0.92499205083111025},{"$f":"NR_Veränderung!J20","v":1.0933482261487284},{"$f":"NR_Veränderung!K20","v":0.88923989648316371},{"$f":"NR_Veränderung!L20","v":1.4142063238361686},{"$f":"NR_Veränderung!M20","v":1.0227361355795348},{"$f":"NR_Veränderung!N20","v":1.0309101053938554},{"$f":"NR_Veränderung!O20","v":0.89102742839927085},{"$f":"NR_Veränderung!P20","v":0.86841851828696592},{"$f":"NR_Veränderung!Q20","v":0.94706181908002662},{"$f":"NR_Veränderung!R20","v":0.99008731509788728},{"$f":"NR_Veränderung!S20","v":1.0536656458156481},{"$f":"NR_Veränderung!T20","v":0.97903801849548444},{"$f":"NR_Veränderung!U20","v":1.0429562043795619},{"$f":"NR_Veränderung!V20","v":1.0455106779218921},{"$f":"NR_Veränderung!W20","v":1.0498038413670563},{"$f":"NR_Veränderung!X20","v":1.0546169699851102},1.0308112390089488,1.0303770814736279,1.0308112390089488,1.0303770814736279,{"$f":"IF(AA79=\"\",\"\",HI_Hilfstabelle!H20)","v":5457873},1.9019378451624457E-2,1.9019378451624457E-2,1.9605389066899109E-2,1.9597131660427217E-2,{"$f":"IF(AA79=\"\",\"\",HI_Hilfstabelle!J20)","v":70},4.3586550435865505E-2,4.3586550435865505E-2,4.4929506058920557E-2,4.4910582629610188E-2,null,{"$f":"IF(HI_Hilfstabelle!$C20=HI_Hilfstabelle!$A20,IFERROR(NR_Berechnung!C79,1/0),\"\")","v":1.2078473342368197},{"$f":"IF(HI_Hilfstabelle!$C20=HI_Hilfstabelle!$A20,IFERROR(NR_Berechnung!D79,1/0),\"\")","v":1.1424955031681501},{"$f":"IF(HI_Hilfstabelle!$C20=HI_Hilfstabelle!$A20,IFERROR(NR_Berechnung!E79,1/0),\"\")","v":1.0794068180196874},{"$f":"IF(HI_Hilfstabelle!$C20=HI_Hilfstabelle!$A20,IFERROR(NR_Berechnung!F79,1/0),\"\")","v":1.0824221548386848},{"$f":"IF(HI_Hilfstabelle!$C20=HI_Hilfstabelle!$A20,IFERROR(NR_Berechnung!G79,1/0),\"\")","v":0.7783124227683168},{"$f":"IF(HI_Hilfstabelle!$C20=HI_Hilfstabelle!$A20,IFERROR(NR_Berechnung!H79,1/0),\"\")","v":1.002163531635371},{"$f":"IF(HI_Hilfstabelle!$C20=HI_Hilfstabelle!$A20,IFERROR(NR_Berechnung!I79,1/0),\"\")","v":0.92499205083111025},{"$f":"IF(HI_Hilfstabelle!$C20=HI_Hilfstabelle!$A20,IFERROR(NR_Berechnung!J79,1/0),\"\")","v":1.0933482261487284},{"$f":"IF(HI_Hilfstabelle!$C20=HI_Hilfstabelle!$A20,IFERROR(NR_Berechnung!K79,1/0),\"\")","v":0.88923989648316371},{"$f":"IF(HI_Hilfstabelle!$C20=HI_Hilfstabelle!$A20,IFERROR(NR_Berechnung!L79,1/0),\"\")","v":1.4142063238361686},{"$f":"IF(HI_Hilfstabelle!$C20=HI_Hilfstabelle!$A20,IFERROR(NR_Berechnung!M79,1/0),\"\")","v":1.0227361355795348},{"$f":"IF(HI_Hilfstabelle!$C20=HI_Hilfstabelle!$A20,IFERROR(NR_Berechnung!N79,1/0),\"\")","v":1.0309101053938554},{"$f":"IF(HI_Hilfstabelle!$C20=HI_Hilfstabelle!$A20,IFERROR(NR_Berechnung!O79,1/0),\"\")","v":0.89102742839927085},{"$f":"IF(HI_Hilfstabelle!$C20=HI_Hilfstabelle!$A20,IFERROR(NR_Berechnung!P79,1/0),\"\")","v":0.86841851828696592},{"$f":"IF(HI_Hilfstabelle!$C20=HI_Hilfstabelle!$A20,IFERROR(NR_Berechnung!Q79,1/0),\"\")","v":0.94706181908002662},{"$f":"IF(HI_Hilfstabelle!$C20=HI_Hilfstabelle!$A20,IFERROR(NR_Berechnung!R79,1/0),\"\")","v":0.99008731509788728},{"$f":"IF(HI_Hilfstabelle!$C20=HI_Hilfstabelle!$A20,IFERROR(NR_Berechnung!S79,1/0),\"\")","v":1.0536656458156481},{"$f":"IF(HI_Hilfstabelle!$C20=HI_Hilfstabelle!$A20,IFERROR(NR_Berechnung!T79,1/0),\"\")","v":0.97903801849548444},{"$f":"IF(HI_Hilfstabelle!$C20=HI_Hilfstabelle!$A20,IFERROR(NR_Berechnung!U79,1/0),\"\")","v":1.0429562043795619},{"$f":"IF(HI_Hilfstabelle!$C20=HI_Hilfstabelle!$A20,IFERROR(NR_Berechnung!V79,1/0),\"\")","v":1.0455106779218921},{"$f":"IF(HI_Hilfstabelle!$C20=HI_Hilfstabelle!$A20,IFERROR(NR_Berechnung!W79,1/0),\"\")","v":1.0498038413670563},{"$f":"IF(HI_Hilfstabelle!$C20=HI_Hilfstabelle!$A20,IFERROR(NR_Berechnung!X79,1/0),\"\")","v":1.0546169699851102},1.0308112390089488,1.0303770814736279,1.0308112390089488,1.0303770814736279,{"$f":"IF(BL79=\"\",\"\",HI_Hilfstabelle!H20)","v":5457873},2.482374977696538E-2,2.482374977696538E-2,2.5588600264441798E-2,2.5577822846421211E-2,{"$f":"IF(BL79=\"\",\"\",HI_Hilfstabelle!J20)","v":70},4.6666666666666669E-2,4.6666666666666669E-2,4.8104524487084278E-2,4.8084263802102636E-2]
["Großbritannien",null,{"$f":"NR_Veränderung!C21","v":1.0239714375269069},{"$f":"NR_Veränderung!D21","v":1.0878919763108401},{"$f":"NR_Veränderung!E21","v":1.0381083100550632},{"$f":"NR_Veränderung!F21","v":1.0010078866450465},{"$f":"NR_Veränderung!G21","v":1.1235157001459595},{"$f":"NR_Veränderung!H21","v":1.0256565958922681},{"$f":"NR_Veränderung!I21","v":1.0225147964077095},{"$f":"NR_Veränderung!J21","v":1.2191535506126387},{"$f":"NR_Veränderung!K21","v":1.1525957922693637},{"$f":"NR_Veränderung!L21","v":1.0053644410887324},{"$f":"NR_Veränderung!M21","v":0.93020064919040002},{"$f":"NR_Veränderung!N21","v":0.94844918055761174},{"$f":"NR_Veränderung!O21","v":0.86802570640439447},{"$f":"NR_Veränderung!P21","v":0.81533500131822967},{"$f":"NR_Veränderung!Q21","v":1.1432702502177836},{"$f":"NR_Veränderung!R21","v":1.0476622575098082},{"$f":"NR_Veränderung!S21","v":1.0709345820822926},{"$f":"NR_Veränderung!T21","v":0.98783541202989555},{"$f":"NR_Veränderung!U21","v":1.0605567832857921},{"$f":"NR_Veränderung!V21","v":0.93323971805481609},{"$f":"NR_Veränderung!W21","v":0.99680414286564423},{"$f":"1/0","v":{"$error":"#DIV/0!"}},{"$error":"#DIV/0!"},{"$error":"#DIV/0!"},"","",{"$f":"IF(AA80=\"\",\"\",HI_Hilfstabelle!H21)","v":""},"","","","",{"$f":"IF(AA80=\"\",\"\",HI_Hilfstabelle!J21)","v":""},"","","","",null,{"$f":"IF(HI_Hilfstabelle!$C21=HI_Hilfstabelle!$A21,IFERROR(NR_Berechnung!C80,1/0),\"\")","v":""},{"$f":"IF(HI_Hilfstabelle!$C21=HI_Hilfstabelle!$A21,IFERROR(NR_Berechnung!D80,1/0),\"\")","v":""},{"$f":"IF(HI_Hilfstabelle!$C21=HI_Hilfstabelle!$A21,IFERROR(NR_Berechnung!E80,1/0),\"\")","v":""},{"$f":"IF(HI_Hilfstabelle!$C21=HI_Hilfstabelle!$A21,IFERROR(NR_Berechnung!F80,1/0),\"\")","v":""},{"$f":"IF(HI_Hilfstabelle!$C21=HI_Hilfstabelle!$A21,IFERROR(NR_Berechnung!G80,1/0),\"\")","v":""},{"$f":"IF(HI_Hilfstabelle!$C21=HI_Hilfstabelle!$A21,IFERROR(NR_Berechnung!H80,1/0),\"\")","v":""},{"$f":"IF(HI_Hilfstabelle!$C21=HI_Hilfstabelle!$A21,IFERROR(NR_Berechnung!I80,1/0),\"\")","v":""},{"$f":"IF(HI_Hilfstabelle!$C21=HI_Hilfstabelle!$A21,IFERROR(NR_Berechnung!J80,1/0),\"\")","v":""},{"$f":"IF(HI_Hilfstabelle!$C21=HI_Hilfstabelle!$A21,IFERROR(NR_Berechnung!K80,1/0),\"\")","v":""},{"$f":"IF(HI_Hilfstabelle!$C21=HI_Hilfstabelle!$A21,IFERROR(NR_Berechnung!L80,1/0),\"\")","v":""},{"$f":"IF(HI_Hilfstabelle!$C21=HI_Hilfstabelle!$A21,IFERROR(NR_Berechnung!M80,1/0),\"\")","v":""},{"$f":"IF(HI_Hilfstabelle!$C21=HI_Hilfstabelle!$A21,IFERROR(NR_Berechnung!N80,1/0),\"\")","v":""},{"$f":"IF(HI_Hilfstabelle!$C21=HI_Hilfstabelle!$A21,IFERROR(NR_Berechnung!O80,1/0),\"\")","v":""},{"$f":"IF(HI_Hilfstabelle!$C21=HI_Hilfstabelle!$A21,IFERROR(NR_Berechnung!P80,1/0),\"\")","v":""},{"$f":"IF(HI_Hilfstabelle!$C21=HI_Hilfstabelle!$A21,IFERROR(NR_Berechnung!Q80,1/0),\"\")","v":""},{"$f":"IF(HI_Hilfstabelle!$C21=HI_Hilfstabelle!$A21,IFERROR(NR_Berechnung!R80,1/0),\"\")","v":""},{"$f":"IF(HI_Hilfstabelle!$C21=HI_Hilfstabelle!$A21,IFERROR(NR_Berechnung!S80,1/0),\"\")","v":""},{"$f":"IF(HI_Hilfstabelle!$C21=HI_Hilfstabelle!$A21,IFERROR(NR_Berechnung!T80,1/0),\"\")","v":""},{"$f":"IF(HI_Hilfstabelle!$C21=HI_Hilfstabelle!$A21,IFERROR(NR_Berechnung!U80,1/0),\"\")","v":""},{"$f":"IF(HI_Hilfstabelle!$C21=HI_Hilfstabelle!$A21,IFERROR(NR_Berechnung!V80,1/0),\"\")","v":""},{"$f":"IF(HI_Hilfstabelle!$C21=HI_Hilfstabelle!$A21,IFERROR(NR_Berechnung!W80,1/0),\"\")","v":""},{"$f":"IF(HI_Hilfstabelle!$C21=HI_Hilfstabelle!$A21,IFERROR(NR_Berechnung!X80,1/0),\"\")","v":""},{"$error":"#DIV/0!"},{"$error":"#NUM!"},"","",{"$f":"IF(BL80=\"\",\"\",HI_Hilfstabelle!H21)","v":""},"","","","",{"$f":"IF(BL80=\"\",\"\",HI_Hilfstabelle!J21)","v":""},"","","",""]
[]
[null,null,null,null,null,null,null,null,null,null,null,null,null,null,null,null,null,null,null,null,null,null,null,null,null,null,null,"Summe",{"$f":"SUM(AC63:AC80)","v":286963794},{"$f":"SUM(AD63:AD80)","v":1},null,null,null,{"$f":"SUM(AH63:AH80)","v":1606},{"$f":"SUM(AI63:AI80)","v":0.99999999999999989},null,null,null,null,null,null,null,null,null,null,null,null,null,null,null,null,null,null,null,null,null,null,null,null,null,null,null,null,null,"Summe",{"$f":"SUM(BN63:BN80)","v":219864970},null,null,null,null,{"$f":"SUM(BS63:BS80)","v":1500}]
[null,null,null,null,null,null,null,null,null,null,null,null,null,null,null,null,null,null,null,null,null,null,null,null,null,null,"Arithmet. Mittel","Geomittel",null,null,null,"Arithmet. Mittel","Geomittel",null,null,null,"Arithmet. Mittel","Geomittel",null,null,null,null,null,null,null,null,null,null,null,null,null,null,null,null,null,null,null,null,null,null,null,null,null,"Arithmet. Mittel","Geomittel",null,null,null,"Arithmet. Mittel","Geomittel",null,null,null,"Arithmet. Mittel","Geomittel"]
[null,null,null,null,null,null,null,null,null,null,null,null,null,null,null,null,null,null,null,null,null,null,null,null,null,null,{"$f":"AVERAGE(AA63:AA80)","v":0.98107683115912392},{"$f":"AVERAGE(AB63:AB80)","v":0.97840077820693749},null,null,null,{"$f":"IF(AND(AF63=\"\",AF64=\"\",AF65=\"\",AF66=\"\",AF67=\"\",AF68=\"\",AF69=\"\",AF70=\"\",AF71=\"\",AF72=\"\",AF73=\"\",AF74=\"\",AF75=\"\",AF76=\"\",AF77=\"\",AF78=\"\",AF79=\"\",AF80=\"\"),1/0,SUM(AF63:AF80))","v":0.98524042219433583},{"$f":"IF(AND(AG63=\"\",AG64=\"\",AG65=\"\",AG66=\"\",AG67=\"\",AG68=\"\",AG69=\"\",AG70=\"\",AG71=\"\",AG72=\"\",AG73=\"\",AG74=\"\",AG75=\"\",AG76=\"\",AG77=\"\",AG78=\"\",AG79=\"\",AG80=\"\"),1/0,SUM(AG63:AG80))","v":0.98262138592059323},null,null,null,{"$f":"IF(AND(AK63=\"\",AK64=\"\",AK65=\"\",AK66=\"\",AK67=\"\",AK68=\"\",AK69=\"\",AK70=\"\",AK71=\"\",AK72=\"\",AK73=\"\",AK74=\"\",AK75=\"\",AK76=\"\",AK77=\"\",AK78=\"\",AK79=\"\",AK80=\"\"),1/0,SUM(AK63:AK80))","v":0.97778350351441656},{"$f":"IF(AND(AL63=\"\",AL64=\"\",AL65=\"\",AL66=\"\",AL67=\"\",AL68=\"\",AL69=\"\",AL70=\"\",AL71=\"\",AL72=\"\",AL73=\"\",AL74=\"\",AL75=\"\",AL76=\"\",AL77=\"\",AL78=\"\",AL79=\"\",AL80=\"\"),1/0,SUM(AL63:AL80))","v":0.97540597504412396},null,null,null,null,null,null,null,null,null,null,null,null,null,null,null,null,null,null,null,null,null,null,null,null,null,{"$f":"AVERAGE(BL63:BL80)","v":0.98196507893042861},{"$f":"AVERAGE(BM63:BM80)","v":0.97913350001282706},null,null,null,{"$f":"IF(AND(BQ63=\"\",BQ64=\"\",BQ65=\"\",BQ66=\"\",BQ67=\"\",BQ68=\"\",BQ69=\"\",BQ70=\"\",BQ71=\"\",BQ72=\"\",BQ73=\"\",BQ74=\"\",BQ75=\"\",BQ76=\"\",BQ77=\"\",BQ78=\"\",BQ79=\"\",BQ80=\"\"),1/0,SUM(BQ63:BQ80))","v":0.99057723312518609},{"$f":"IF(AND(BR63=\"\",BR64=\"\",BR65=\"\",BR66=\"\",BR67=\"\",BR68=\"\",BR69=\"\",BR70=\"\",BR71=\"\",BR72=\"\",BR73=\"\",BR74=\"\",BR75=\"\",BR76=\"\",BR77=\"\",BR78=\"\",BR79=\"\",BR80=\"\"),1/0,SUM(BR63:BR80))","v":0.98726364151304491},null,null,null,{"$f":"IF(AND(BV63=\"\",BV64=\"\",BV65=\"\",BV66=\"\",BV67=\"\",BV68=\"\",BV69=\"\",BV70=\"\",BV71=\"\",BV72=\"\",BV73=\"\",BV74=\"\",BV75=\"\",BV76=\"\",BV77=\"\",BV78=\"\",BV79=\"\",BV80=\"\"),1/0,SUM(BV63:BV80))","v":0.97849231766510714},{"$f":"IF(AND(BW63=\"\",BW64=\"\",BW65=\"\",BW66=\"\",BW67=\"\",BW68=\"\",BW69=\"\",BW70=\"\",BW71=\"\",BW72=\"\",BW73=\"\",BW74=\"\",BW75=\"\",BW76=\"\",BW77=\"\",BW78=\"\",BW79=\"\",BW80=\"\"),1/0,SUM(BW63:BW80))","v":0.97597102740152819}]
[null,null,null,null,null,null,null,null,null,null,null,null,null,null,null,null,null,null,null,null,null,null,null,null,null,null,{"$f":"AA84-1","v":-1.8923168840876081E-2},{"$f":"AB84-1","v":-2.1599221793062506E-2},null,null,null,{"$f":"AF84-1","v":-1.475957780566417E-2},{"$f":"AG84-1","v":-1.7378614079406773E-2},null,null,null,{"$f":"AK84-1","v":-2.2216496485583437E-2},{"$f":"AL84-1","v":-2.4594024955876037E-2},null,null,null,null,null,null,null,null,null,null,null,null,null,null,null,null,null,null,null,null,null,null,null,null,null,{"$f":"BL84-1","v":-1.8034921069571386E-2},{"$f":"BM84-1","v":-2.0866499987172937E-2},null,null,null,{"$f":"BQ84-1","v":-9.4227668748139148E-3},{"$f":"BR84-1","v":-1.2736358486955091E-2},null,null,null,{"$f":"BV84-1","v":-2.1507682334892864E-2},{"$f":"BW84-1","v":-2.4028972598471809E-2}]
[null,null,null,null,null,null,null,null,null,null,null,null,null,null,null,null,null,null,null,null,null,null,null,null,null,null,{"$f":"COUNT(AA63:AA80)","v":16},null,null,null,null,null,null,null,null,null,null,null,null,null,null,null,null,null,null,null,null,null,null,null,null,null,null,null,null,null,null,null,null,null,null,null,null,{"$f":"COUNT(BL63:BL80)","v":15}]

{"sheet":"NR_Mittelwertbildung","index":3,"n_rows":40,"n_cols":221,"rows_kept":40,"cut":false,"hidden":false,"merged":[[3,58,3,75],[3,77,3,94],[3,96,3,113],[3,1,3,18],[3,20,3,37],[3,39,3,56]]}
[1,2,3,4,5,6,7,8,9,10,11,12,13,14,15,16,17,18,19,20,21,22,23,24,25,26,27,28,29,30,31,32,33,34,35,36,37,38,39,40,41,42,43,44,45,46,47,48,49,50,51,52,53,54,55,56,57,58,59,60,61,62,63,64,65,66,67,68,69,70,71,72,73,74,75,76,77,78,79,80,81,82,83,84,85,86,87,88,89,90,91,92,93,94,95,96,97,98,99,100,101,102,103,104,105,106,107,108,109,110,111,112,113,114,115,116,117,118,119,120,121,122,123,124,125,126,127,128,129,130,131,132,133,134,135,136,137,138,139,140,141,142,143,144,145,146,147,148,149,150,151,152,153,154,155,156,157,158,159,160,161,162,163,164,165,166,167,168,169,170,171,172,173,174,175,176,177,178,179,180,181,182,183,184,185,186,187,188,189,190,191,192,193,194,195,196,197,198,199,200,201,202,203,204,205,206,207,208,209,210,211,212,213,214,215,216,217,218,219,220,221]
[{"$f":"SUBSTITUTE(ADDRESS(1,A1,4),\"1\",\"\")","v":"A"},{"$f":"SUBSTITUTE(ADDRESS(1,B1,4),\"1\",\"\")","v":"B"},"C","D","E","F","G","H","I","J","K","L","M","N","O","P","Q","R","S",{"$f":"SUBSTITUTE(ADDRESS(1,T1,4),\"1\",\"\")","v":"T"},{"$f":"SUBSTITUTE(ADDRESS(1,U1,4),\"1\",\"\")","v":"U"},{"$f":"SUBSTITUTE(ADDRESS(1,V1,4),\"1\",\"\")","v":"V"},{"$f":"SUBSTITUTE(ADDRESS(1,W1,4),\"1\",\"\")","v":"W"},{"$f":"SUBSTITUTE(ADDRESS(1,X1,4),\"1\",\"\")","v":"X"},{"$f":"SUBSTITUTE(ADDRESS(1,Y1,4),\"1\",\"\")","v":"Y"},{"$f":"SUBSTITUTE(ADDRESS(1,Z1,4),\"1\",\"\")","v":"Z"},{"$f":"SUBSTITUTE(ADDRESS(1,AA1,4),\"1\",\"\")","v":"AA"},{"$f":"SUBSTITUTE(ADDRESS(1,AB1,4),\"1\",\"\")","v":"AB"},{"$f":"SUBSTITUTE(ADDRESS(1,AC1,4),\"1\",\"\")","v":"AC"},{"$f":"SUBSTITUTE(ADDRESS(1,AD1,4),\"1\",\"\")","v":"AD"},{"$f":"SUBSTITUTE(ADDRESS(1,AE1,4),\"1\",\"\")","v":"AE"},{"$f":"SUBSTITUTE(ADDRESS(1,AF1,4),\"1\",\"\")","v":"AF"},{"$f":"SUBSTITUTE(ADDRESS(1,AG1,4),\"1\",\"\")","v":"AG"},{"$f":"SUBSTITUTE(ADDRESS(1,AH1,4),\"1\",\"\")","v":"AH"},{"$f":"SUBSTITUTE(ADDRESS(1,AI1,4),\"1\",\"\")","v":"AI"},{"$f":"SUBSTITUTE(ADDRESS(1,AJ1,4),\"1\",\"\")","v":"AJ"},{"$f":"SUBSTITUTE(ADDRESS(1,AK1,4),\"1\",\"\")","v":"AK"},{"$f":"SUBSTITUTE(ADDRESS(1,AL1,4),\"1\",\"\")","v":"AL"},{"$f":"SUBSTITUTE(ADDRESS(1,AM1,4),\"1\",\"\")","v":"AM"},{"$f":"SUBSTITUTE(ADDRESS(1,AN1,4),\"1\",\"\")","v":"AN"},{"$f":"SUBSTITUTE(ADDRESS(1,AO1,4),\"1\",\"\")","v":"AO"},{"$f":"SUBSTITUTE(ADDRESS(1,AP1,4),\"1\",\"\")","v":"AP"},{"$f":"SUBSTITUTE(ADDRESS(1,AQ1,4),\"1\",\"\")","v":"AQ"},{"$f":"SUBSTITUTE(ADDRESS(1,AR1,4),\"1\",\"\")","v":"AR"},{"$f":"SUBSTITUTE(ADDRESS(1,AS1,4),\"1\",\"\")","v":"AS"},{"$f":"SUBSTITUTE(ADDRESS(1,AT1,4),\"1\",\"\")","v":"AT"},{"$f":"SUBSTITUTE(ADDRESS(1,AU1,4),\"1\",\"\")","v":"AU"},{"$f":"SUBSTITUTE(ADDRESS(1,AV1,4),\"1\",\"\")","v":"AV"},{"$f":"SUBSTITUTE(ADDRESS(1,AW1,4),\"1\",\"\")","v":"AW"},{"$f":"SUBSTITUTE(ADDRESS(1,AX1,4),\"1\",\"\")","v":"AX"},{"$f":"SUBSTITUTE(ADDRESS(1,AY1,4),\"1\",\"\")","v":"AY"},{"$f":"SUBSTITUTE(ADDRESS(1,AZ1,4),\"1\",\"\")","v":"AZ"},{"$f":"SUBSTITUTE(ADDRESS(1,BA1,4),\"1\",\"\")","v":"BA"},{"$f":"SUBSTITUTE(ADDRESS(1,BB1,4),\"1\",\"\")","v":"BB"},{"$f":"SUBSTITUTE(ADDRESS(1,BC1,4),\"1\",\"\")","v":"BC"},{"$f":"SUBSTITUTE(ADDRESS(1,BD1,4),\"1\",\"\")","v":"BD"},{"$f":"SUBSTITUTE(ADDRESS(1,BE1,4),\"1\",\"\")","v":"BE"},{"$f":"SUBSTITUTE(ADDRESS(1,BF1,4),\"1\",\"\")","v":"BF"},{"$f":"SUBSTITUTE(ADDRESS(1,BG1,4),\"1\",\"\")","v":"BG"},{"$f":"SUBSTITUTE(ADDRESS(1,BH1,4),\"1\",\"\")","v":"BH"},{"$f":"SUBSTITUTE(ADDRESS(1,BI1,4),\"1\",\"\")","v":"BI"},{"$f":"SUBSTITUTE(ADDRESS(1,BJ1,4),\"1\",\"\")","v":"BJ"},{"$f":"SUBSTITUTE(ADDRESS(1,BK1,4),\"1\",\"\")","v":"BK"},{"$f":"SUBSTITUTE(ADDRESS(1,BL1,4),\"1\",\"\")","v":"BL"},{"$f":"SUBSTITUTE(ADDRESS(1,BM1,4),\"1\",\"\")","v":"BM"},{"$f":"SUBSTITUTE(ADDRESS(1,BN1,4),\"1\",\"\")","v":"BN"},{"$f":"SUBSTITUTE(ADDRESS(1,BO1,4),\"1\",\"\")","v":"BO"},{"$f":"SUBSTITUTE(ADDRESS(1,BP1,4),\"1\",\"\")","v":"BP"},{"$f":"SUBSTITUTE(ADDRESS(1,BQ1,4),\"1\",\"\")","v":"BQ"},{"$f":"SUBSTITUTE(ADDRESS(1,BR1,4),\"1\",\"\")","v":"BR"},{"$f":"SUBSTITUTE(ADDRESS(1,BS1,4),\"1\",\"\")","v":"BS"},{"$f":"SUBSTITUTE(ADDRESS(1,BT1,4),\"1\",\"\")","v":"BT"},{"$f":"SUBSTITUTE(ADDRESS(1,BU1,4),\"1\",\"\")","v":"BU"},{"$f":"SUBSTITUTE(ADDRESS(1,BV1,4),\"1\",\"\")","v":"BV"},{"$f":"SUBSTITUTE(ADDRESS(1,BW1,4),\"1\",\"\")","v":"BW"},{"$f":"SUBSTITUTE(ADDRESS(1,BX1,4),\"1\",\"\")","v":"BX"},{"$f":"SUBSTITUTE(ADDRESS(1,BY1,4),\"1\",\"\")","v":"BY"},{"$f":"SUBSTITUTE(ADDRESS(1,BZ1,4),\"1\",\"\")","v":"BZ"},{"$f":"SUBSTITUTE(ADDRESS(1,CA1,4),\"1\",\"\")","v":"CA"},{"$f":"SUBSTITUTE(ADDRESS(1,CB1,4),\"1\",\"\")","v":"CB"},{"$f":"SUBSTITUTE(ADDRESS(1,CC1,4),\"1\",\"\")","v":"CC"},{"$f":"SUBSTITUTE(ADDRESS(1,CD1,4),\"1\",\"\")","v":"CD"},{"$f":"SUBSTITUTE(ADDRESS(1,CE1,4),\"1\",\"\")","v":"CE"},{"$f":"SUBSTITUTE(ADDRESS(1,CF1,4),\"1\",\"\")","v":"CF"},{"$f":"SUBSTITUTE(ADDRESS(1,CG1,4),\"1\",\"\")","v":"CG"},{"$f":"SUBSTITUTE(ADDRESS(1,CH1,4),\"1\",\"\")","v":"CH"},{"$f":"SUBSTITUTE(ADDRESS(1,CI1,4),\"1\",\"\")","v":"CI"},{"$f":"SUBSTITUTE(ADDRESS(1,CJ1,4),\"1\",\"\")","v":"CJ"},{"$f":"SUBSTITUTE(ADDRESS(1,CK1,4),\"1\",\"\")","v":"CK"},{"$f":"SUBSTITUTE(ADDRESS(1,CL1,4),\"1\",\"\")","v":"CL"},{"$f":"SUBSTITUTE(ADDRESS(1,CM1,4),\"1\",\"\")","v":"CM"},{"$f":"SUBSTITUTE(ADDRESS(1,CN1,4),\"1\",\"\")","v":"CN"},{"$f":"SUBSTITUTE(ADDRESS(1,CO1,4),\"1\",\"\")","v":"CO"},{"$f":"SUBSTITUTE(ADDRESS(1,CP1,4),\"1\",\"\")","v":"CP"},{"$f":"SUBSTITUTE(ADDRESS(1,CQ1,4),\"1\",\"\")","v":"CQ"},{"$f":"SUBSTITUTE(ADDRESS(1,CR1,4),\"1\",\"\")","v":"CR"},{"$f":"SUBSTITUTE(ADDRESS(1,CS1,4),\"1\",\"\")","v":"CS"},{"$f":"SUBSTITUTE(ADDRESS(1,CT1,4),\"1\",\"\")","v":"CT"},{"$f":"SUBSTITUTE(ADDRESS(1,CU1,4),\"1\",\"\")","v":"CU"},{"$f":"SUBSTITUTE(ADDRESS(1,CV1,4),\"1\",\"\")","v":"CV"},{"$f":"SUBSTITUTE(ADDRESS(1,CW1,4),\"1\",\"\")","v":"CW"},{"$f":"SUBSTITUTE(ADDRESS(1,CX1,4),\"1\",\"\")","v":"CX"},{"$f":"SUBSTITUTE(ADDRESS(1,CY1,4),\"1\",\"\")","v":"CY"},{"$f":"SUBSTITUTE(ADDRESS(1,CZ1,4),\"1\",\"\")","v":"CZ"},{"$f":"SUBSTITUTE(ADDRESS(1,DA1,4),\"1\",\"\")","v":"DA"},{"$f":"SUBSTITUTE(ADDRESS(1,DB1,4),\"1\",\"\")","v":"DB"},{"$f":"SUBSTITUTE(ADDRESS(1,DC1,4),\"1\",\"\")","v":"DC"},{"$f":"SUBSTITUTE(ADDRESS(1,DD1,4),\"1\",\"\")","v":"DD"},{"$f":"SUBSTITUTE(ADDRESS(1,DE1,4),\"1\",\"\")","v":"DE"},{"$f":"SUBSTITUTE(ADDRESS(1,DF1,4),\"1\",\"\")","v":"DF"},{"$f":"SUBSTITUTE(ADDRESS(1,DG1,4),\"1\",\"\")","v":"DG"},{"$f":"SUBSTITUTE(ADDRESS(1,DH1,4),\"1\",\"\")","v":"DH"},{"$f":"SUBSTITUTE(ADDRESS(1,DI1,4),\"1\",\"\")","v":"DI"},{"$f":"SUBSTITUTE(ADDRESS(1,DJ1,4),\"1\",\"\")","v":"DJ"},{"$f":"SUBSTITUTE(ADDRESS(1,DK1,4),\"1\",\"\")","v":"DK"},{"$f":"SUBSTITUTE(ADDRESS(1,DL1,4),\"1\",\"\")","v":"DL"},{"$f":"SUBSTITUTE(ADDRESS(1,DM1,4),\"1\",\"\")","v":"DM"},{"$f":"SUBSTITUTE(ADDRESS(1,DN1,4),\"1\",\"\")","v":"DN"},{"$f":"SUBSTITUTE(ADDRESS(1,DO1,4),\"1\",\"\")","v":"DO"},{"$f":"SUBSTITUTE(ADDRESS(1,DP1,4),\"1\",\"\")","v":"DP"},{"$f":"SUBSTITUTE(ADDRESS(1,DQ1,4),\"1\",\"\")","v":"DQ"},{"$f":"SUBSTITUTE(ADDRESS(1,DR1,4),\"1\",\"\")","v":"DR"},{"$f":"SUBSTITUTE(ADDRESS(1,DS1,4),\"1\",\"\")","v":"DS"},{"$f":"SUBSTITUTE(ADDRESS(1,DT1,4),\"1\",\"\")","v":"DT"},{"$f":"SUBSTITUTE(ADDRESS(1,DU1,4),\"1\",\"\")","v":"DU"},{"$f":"SUBSTITUTE(ADDRESS(1,DV1,4),\"1\",\"\")","v":"DV"},{"$f":"SUBSTITUTE(ADDRESS(1,DW1,4),\"1\",\"\")","v":"DW"},{"$f":"SUBSTITUTE(ADDRESS(1,DX1,4),\"1\",\"\")","v":"DX"},{"$f":"SUBSTITUTE(ADDRESS(1,DY1,4),\"1\",\"\")","v":"DY"},{"$f":"SUBSTITUTE(ADDRESS(1,DZ1,4),\"1\",\"\")","v":"DZ"},{"$f":"SUBSTITUTE(ADDRESS(1,EA1,4),\"1\",\"\")","v":"EA"},{"$f":"SUBSTITUTE(ADDRESS(1,EB1,4),\"1\",\"\")","v":"EB"},{"$f":"SUBSTITUTE(ADDRESS(1,EC1,4),\"1\",\"\")","v":"EC"},{"$f":"SUBSTITUTE(ADDRESS(1,ED1,4),\"1\",\"\")","v":"ED"},{"$f":"SUBSTITUTE(ADDRESS(1,EE1,4),\"1\",\"\")","v":"EE"},{"$f":"SUBSTITUTE(ADDRESS(1,EF1,4),\"1\",\"\")","v":"EF"},{"$f":"SUBSTITUTE(ADDRESS(1,EG1,4),\"1\",\"\")","v":"EG"},{"$f":"SUBSTITUTE(ADDRESS(1,EH1,4),\"1\",\"\")","v":"EH"},{"$f":"SUBSTITUTE(ADDRESS(1,EI1,4),\"1\",\"\")","v":"EI"},{"$f":"SUBSTITUTE(ADDRESS(1,EJ1,4),\"1\",\"\")","v":"EJ"},{"$f":"SUBSTITUTE(ADDRESS(1,EK1,4),\"1\",\"\")","v":"EK"},{"$f":"SUBSTITUTE(ADDRESS(1,EL1,4),\"1\",\"\")","v":"EL"},{"$f":"SUBSTITUTE(ADDRESS(1,EM1,4),\"1\",\"\")","v":"EM"},{"$f":"SUBSTITUTE(ADDRESS(1,EN1,4),\"1\",\"\")","v":"EN"},{"$f":"SUBSTITUTE(ADDRESS(1,EO1,4),\"1\",\"\")","v":"EO"},{"$f":"SUBSTITUTE(ADDRESS(1,EP1,4),\"1\",\"\")","v":"EP"},{"$f":"SUBSTITUTE(ADDRESS(1,EQ1,4),\"1\",\"\")","v":"EQ"},{"$f":"SUBSTITUTE(ADDRESS(1,ER1,4),\"1\",\"\")","v":"ER"},{"$f":"SUBSTITUTE(ADDRESS(1,ES1,4),\"1\",\"\")","v":"ES"},{"$f":"SUBSTITUTE(ADDRESS(1,ET1,4),\"1\",\"\")","v":"ET"},{"$f":"SUBSTITUTE(ADDRESS(1,EU1,4),\"1\",\"\")","v":"EU"},{"$f":"SUBSTITUTE(ADDRESS(1,EV1,4),\"1\",\"\")","v":"EV"},{"$f":"SUBSTITUTE(ADDRESS(1,EW1,4),\"1\",\"\")","v":"EW"},{"$f":"SUBSTITUTE(ADDRESS(1,EX1,4),\"1\",\"\")","v":"EX"},{"$f":"SUBSTITUTE(ADDRESS(1,EY1,4),\"1\",\"\")","v":"EY"},{"$f":"SUBSTITUTE(ADDRESS(1,EZ1,4),\"1\",\"\")","v":"EZ"},{"$f":"SUBSTITUTE(ADDRESS(1,FA1,4),\"1\",\"\")","v":"FA"},{"$f":"SUBSTITUTE(ADDRESS(1,FB1,4),\"1\",\"\")","v":"FB"},{"$f":"SUBSTITUTE(ADDRESS(1,FC1,4),\"1\",\"\")","v":"FC"},{"$f":"SUBSTITUTE(ADDRESS(1,FD1,4),\"1\",\"\")","v":"FD"},{"$f":"SUBSTITUTE(ADDRESS(1,FE1,4),\"1\",\"\")","v":"FE"},{"$f":"SUBSTITUTE(ADDRESS(1,FF1,4),\"1\",\"\")","v":"FF"},{"$f":"SUBSTITUTE(ADDRESS(1,FG1,4),\"1\",\"\")","v":"FG"},{"$f":"SUBSTITUTE(ADDRESS(1,FH1,4),\"1\",\"\")","v":"FH"},{"$f":"SUBSTITUTE(ADDRESS(1,FI1,4),\"1\",\"\")","v":"FI"},{"$f":"SUBSTITUTE(ADDRESS(1,FJ1,4),\"1\",\"\")","v":"FJ"},{"$f":"SUBSTITUTE(ADDRESS(1,FK1,4),\"1\",\"\")","v":"FK"},{"$f":"SUBSTITUTE(ADDRESS(1,FL1,4),\"1\",\"\")","v":"FL"},{"$f":"SUBSTITUTE(ADDRESS(1,FM1,4),\"1\",\"\")","v":"FM"},{"$f":"SUBSTITUTE(ADDRESS(1,FN1,4),\"1\",\"\")","v":"FN"},{"$f":"SUBSTITUTE(ADDRESS(1,FO1,4),\"1\",\"\")","v":"FO"},{"$f":"SUBSTITUTE(ADDRESS(1,FP1,4),\"1\",\"\")","v":"FP"},{"$f":"SUBSTITUTE(ADDRESS(1,FQ1,4),\"1\",\"\")","v":"FQ"},{"$f":"SUBSTITUTE(ADDRESS(1,FR1,4),\"1\",\"\")","v":"FR"},{"$f":"SUBSTITUTE(ADDRESS(1,FS1,4),\"1\",\"\")","v":"FS"},{"$f":"SUBSTITUTE(ADDRESS(1,FT1,4),\"1\",\"\")","v":"FT"},{"$f":"SUBSTITUTE(ADDRESS(1,FU1,4),\"1\",\"\")","v":"FU"},{"$f":"SUBSTITUTE(ADDRESS(1,FV1,4),\"1\",\"\")","v":"FV"},{"$f":"SUBSTITUTE(ADDRESS(1,FW1,4),\"1\",\"\")","v":"FW"},{"$f":"SUBSTITUTE(ADDRESS(1,FX1,4),\"1\",\"\")","v":"FX"},{"$f":"SUBSTITUTE(ADDRESS(1,FY1,4),\"1\",\"\")","v":"FY"},{"$f":"SUBSTITUTE(ADDRESS(1,FZ1,4),\"1\",\"\")","v":"FZ"},{"$f":"SUBSTITUTE(ADDRESS(1,GA1,4),\"1\",\"\")","v":"GA"},{"$f":"SUBSTITUTE(ADDRESS(1,GB1,4),\"1\",\"\")","v":"GB"},{"$f":"SUBSTITUTE(ADDRESS(1,GC1,4),\"1\",\"\")","v":"GC"},{"$f":"SUBSTITUTE(ADDRESS(1,GD1,4),\"1\",\"\")","v":"GD"},{"$f":"SUBSTITUTE(ADDRESS(1,GE1,4),\"1\",\"\")","v":"GE"},{"$f":"SUBSTITUTE(ADDRESS(1,GF1,4),\"1\",\"\")","v":"GF"},{"$f":"SUBSTITUTE(ADDRESS(1,GG1,4),\"1\",\"\")","v":"GG"},{"$f":"SUBSTITUTE(ADDRESS(1,GH1,4),\"1\",\"\")","v":"GH"},{"$f":"SUBSTITUTE(ADDRESS(1,GI1,4),\"1\",\"\")","v":"GI"},{"$f":"SUBSTITUTE(ADDRESS(1,GJ1,4),\"1\",\"\")","v":"GJ"},{"$f":"SUBSTITUTE(ADDRESS(1,GK1,4),\"1\",\"\")","v":"GK"},{"$f":"SUBSTITUTE(ADDRESS(1,GL1,4),\"1\",\"\")","v":"GL"},{"$f":"SUBSTITUTE(ADDRESS(1,GM1,4),\"1\",\"\")","v":"GM"},{"$f":"SUBSTITUTE(ADDRESS(1,GN1,4),\"1\",\"\")","v":"GN"},{"$f":"SUBSTITUTE(ADDRESS(1,GO1,4),\"1\",\"\")","v":"GO"},{"$f":"SUBSTITUTE(ADDRESS(1,GP1,4),\"1\",\"\")","v":"GP"},{"$f":"SUBSTITUTE(ADDRESS(1,GQ1,4),\"1\",\"\")","v":"GQ"},{"$f":"SUBSTITUTE(ADDRESS(1,GR1,4),\"1\",\"\")","v":"GR"},{"$f":"SUBSTITUTE(ADDRESS(1,GS1,4),\"1\",\"\")","v":"GS"},{"$f":"SUBSTITUTE(ADDRESS(1,GT1,4),\"1\",\"\")","v":"GT"},{"$f":"SUBSTITUTE(ADDRESS(1,GU1,4),\"1\",\"\")","v":"GU"},{"$f":"SUBSTITUTE(ADDRESS(1,GV1,4),\"1\",\"\")","v":"GV"},{"$f":"SUBSTITUTE(ADDRESS(1,GW1,4),\"1\",\"\")","v":"GW"},{"$f":"SUBSTITUTE(ADDRESS(1,GX1,4),\"1\",\"\")","v":"GX"},{"$f":"SUBSTITUTE(ADDRESS(1,GY1,4),\"1\",\"\")","v":"GY"},{"$f":"SUBSTITUTE(ADDRESS(1,GZ1,4),\"1\",\"\")","v":"GZ"},{"$f":"SUBSTITUTE(ADDRESS(1,HA1,4),\"1\",\"\")","v":"HA"},{"$f":"SUBSTITUTE(ADDRESS(1,HB1,4),\"1\",\"\")","v":"HB"},{"$f":"SUBSTITUTE(ADDRESS(1,HC1,4),\"1\",\"\")","v":"HC"},{"$f":"SUBSTITUTE(ADDRESS(1,HD1,4),\"1\",\"\")","v":"HD"},{"$f":"SUBSTITUTE(ADDRESS(1,HE1,4),\"1\",\"\")","v":"HE"},{"$f":"SUBSTITUTE(ADDRESS(1,HF1,4),\"1\",\"\")","v":"HF"},{"$f":"SUBSTITUTE(ADDRESS(1,HG1,4),\"1\",\"\")","v":"HG"},{"$f":"SUBSTITUTE(ADDRESS(1,HH1,4),\"1\",\"\")","v":"HH"},{"$f":"SUBSTITUTE(ADDRESS(1,HI1,4),\"1\",\"\")","v":"HI"},{"$f":"SUBSTITUTE(ADDRESS(1,HJ1,4),\"1\",\"\")","v":"HJ"},{"$f":"SUBSTITUTE(ADDRESS(1,HK1,4),\"1\",\"\")","v":"HK"},{"$f":"SUBSTITUTE(ADDRESS(1,HL1,4),\"1\",\"\")","v":"HL"},{"$f":"SUBSTITUTE(ADDRESS(1,HM1,4),\"1\",\"\")","v":"HM"}]
[]
[null,"Bruttowertschöpfung pro Arbeitsstunde Alle Länder",null,null,null,null,null,null,null,null,null,null,null,null,null,null,null,null,null,null,"Bruttowertschöpfung pro Arbeitsstunde Länderauswahl",null,null,null,null,null,null,null,null,null,null,null,null,null,null,null,null,null,null,"Produkktionswert pro Erwerbstätiger Alle Länder",null,null,null,null,null,null,null,null,null,null,null,null,null,null,null,null,null,null,"Produkktionswert pro Erwerbstätiger - Länderauswahl",null,null,null,null,null,null,null,null,null,null,null,null,null,null,null,null,null,null,"Bruttowertschöpfung pro Erwerbstätiger - Alle Länder",null,null,null,null,null,null,null,null,null,null,null,null,null,null,null,null,null,null,"Bruttowertschöpfung pro Erwerbstätiger - Länderauswahl"]
[null,"Österreich","Belgien","Tschechien","Dänemark","Estland","Frankreich","Griechenland","Italien","Spanien","Finnland","Ungarn","Irland","Niederlande","Portugal","Rumänien","Slowenien","Slowakei","Großbritannien",null,"Österreich","Belgien","Tschechien","Dänemark","Estland","Frankreich","Griechenland","Italien","Spanien","Finnland","Ungarn","Irland","Niederlande","Portugal","Rumänien","Slowenien","Slowakei","Großbritannien",null,"Österreich","Belgien","Tschechien","Dänemark","Estland","Frankreich","Griechenland","Italien","Spanien","Finnland","Ungarn","Irland","Niederlande","Portugal","Rumänien","Slowenien","Slowakei","Großbritannien",null,"Österreich","Belgien","Tschechien","Dänemark","Estland","Frankreich","Griechenland","Italien","Spanien","Finnland","Ungarn","Irland","Niederlande","Portugal","Rumänien","Slowenien","Slowakei","Großbritannien",null,"Österreich","Belgien","Tschechien","Dänemark","Estland","Frankreich","Griechenland","Italien","Spanien","Finnland","Ungarn","Irland","Niederlande","Portugal","Rumänien","Slowenien","Slowakei","Großbritannien",null,"Österreich","Belgien","Tschechien","Dänemark","Estland","Frankreich","Griechenland","Italien","Spanien","Finnland","Ungarn","Irland","Niederlande","Portugal","Rumänien","Slowenien","Slowakei","Großbritannien"]
[]
[1996,{"$f":"TRANSPOSE(NR_Berechnung!C4:X21)","v":1.1714726354525455},{"$error":"#DIV/0!"},1.0561175664708704,0.98663261323137008,{"$error":"#DIV/0!"},{"$error":"#DIV/0!"},0.99720825172865957,{"$error":"#DIV/0!"},1.137103128563576,1.0166192054525931,{"$error":"#DIV/0!"},1.016104856320502,1.0027547318517089,{"$error":"#DIV/0!"},1.2875543084027761,1.0129151357985569,1.215475663752565,{"$error":"#DIV/0!"},null,{"$f":"TRANSPOSE(NR_Berechnung!AN4:BI21)","v":1.1714726354525455},"",1.0561175664708704,0.98663261323137008,{"$error":"#DIV/0!"},"",0.99720825172865957,{"$error":"#DIV/0!"},1.137103128563576,1.0166192054525931,{"$error":"#DIV/0!"},1.016104856320502,1.0027547318517089,{"$error":"#DIV/0!"},1.2875543084027761,1.0129151357985569,1.215475663752565,"",null,{"$f":"TRANSPOSE(NR_Berechnung!C33:X50)","v":1.2273669909685243},1.0012419824268455,1.04636755052423,1.0489429481610193,1.1651271613237935,1.0377547482374698,1.0037384432853529,1.009192107807751,{"$error":"#DIV/0!"},1.0396744659206509,0.91456434099397388,{"$error":"#DIV/0!"},1.0491007707679136,1.0636984138746421,1.277172874762021,{"$error":"#DIV/0!"},1.1828669911158887,{"$error":"#DIV/0!"},null,{"$f":"TRANSPOSE(NR_Berechnung!AN33:BI50)","v":1.2273669909685243},"",1.04636755052423,1.0489429481610193,1.1651271613237935,"",1.0037384432853529,1.009192107807751,{"$error":"#DIV/0!"},1.0396744659206509,0.91456434099397388,{"$error":"#DIV/0!"},1.0491007707679136,1.0636984138746421,1.277172874762021,{"$error":"#DIV/0!"},1.1828669911158887,"",null,{"$f":"TRANSPOSE(NR_Berechnung!C63:X80)","v":1.2011791475322364},1.0206469910574156,1.0545872550715572,1.0262928348909661,1.1478355805597609,1.0335884370956465,0.99715758565436219,1.002226474110949,1.1577738414947716,1.0332850940665701,0.89492304685494106,1.0019919931532431,1.0483473112974842,1.0354081862934581,1.2854072228726776,1.0163341607308958,1.2078473342368197,1.0239714375269069,null,{"$f":"TRANSPOSE(NR_Berechnung!AN63:BI80)","v":1.2011791475322364},"",1.0545872550715572,1.0262928348909661,1.1478355805597609,"",0.99715758565436219,1.002226474110949,1.1577738414947716,1.0332850940665701,0.89492304685494106,1.0019919931532431,1.0483473112974842,1.0354081862934581,1.2854072228726776,1.0163341607308958,1.2078473342368197,""]
[{"$f":"A7+1","v":1997},0.93608864980551054,{"$error":"#DIV/0!"},0.87100036889553356,1.0112031476522412,{"$error":"#DIV/0!"},{"$error":"#DIV/0!"},1.2017797932598679,{"$error":"#DIV/0!"},1.1218393870396057,1.0600667962713721,{"$error":"#DIV/0!"},1.0533064861467365,0.98521501594885419,{"$error":"#DIV/0!"},1.0412621846277219,1.0274570617067302,1.1769627700109748,{"$error":"#DIV/0!"},null,0.93608864980551054,"",0.87100036889553356,1.0112031476522412,{"$error":"#DIV/0!"},"",1.2017797932598679,{"$error":"#DIV/0!"},1.1218393870396057,1.0600667962713721,{"$error":"#DIV/0!"},1.0533064861467365,0.98521501594885419,{"$error":"#DIV/0!"},1.0412621846277219,1.0274570617067302,1.1769627700109748,"",null,1.0894817194200579,1.1054409150626159,0.96800251335258325,1.0365445014895782,1.0834188083515672,1.1339821424125702,1.2117097077572507,1.11174393694135,{"$error":"#DIV/0!"},1.0708722613194406,0.97122929523379653,{"$error":"#DIV/0!"},1.0093482905982905,1.0411927381156336,1.0528301886792453,{"$error":"#DIV/0!"},1.13977742424307,{"$error":"#DIV/0!"},null,1.0894817194200579,"",0.96800251335258325,1.0365445014895782,1.0834188083515672,"",1.2117097077572507,1.11174393694135,{"$error":"#DIV/0!"},1.0708722613194406,0.97122929523379653,{"$error":"#DIV/0!"},1.0093482905982905,1.0411927381156336,1.0528301886792453,{"$error":"#DIV/0!"},1.13977742424307,"",null,0.96330853236944103,0.99231938802494979,0.87562121823578964,0.98474118497724472,1.1127938141316598,0.9966563036367756,1.2018644222983832,1.0830413600508531,1.114294101570013,1.0589102530567984,0.97365058899540868,1.0419119639668262,0.98703834299744031,1.0173983421260855,1.0432006685358053,1.0419950674933145,1.1424955031681501,1.0878919763108401,null,0.96330853236944103,"",0.87562121823578964,0.98474118497724472,1.1127938141316598,"",1.2018644222983832,1.0830413600508531,1.114294101570013,1.0589102530567984,0.97365058899540868,1.0419119639668262,0.98703834299744031,1.0173983421260855,1.0432006685358053,1.0419950674933145,1.1424955031681501,""]
[{"$f":"A8+1","v":1998},1.1670414407532503,{"$error":"#DIV/0!"},1.1034839426533596,0.97090988705981884,{"$error":"#DIV/0!"},{"$error":"#DIV/0!"},1.0360365247720402,{"$error":"#DIV/0!"},1.0834085955529815,1.0154144007862616,{"$error":"#DIV/0!"},0.93134716999917366,1.0688779984227486,{"$error":"#DIV/0!"},0.9872002515163989,0.94553372623959153,1.0891579300543148,{"$error":"#DIV/0!"},null,1.1670414407532503,"",1.1034839426533596,0.97090988705981884,{"$error":"#DIV/0!"},"",1.0360365247720402,{"$error":"#DIV/0!"},1.0834085955529815,1.0154144007862616,{"$error":"#DIV/0!"},0.93134716999917366,1.0688779984227486,{"$error":"#DIV/0!"},0.9872002515163989,0.94553372623959153,1.0891579300543148,"",null,1.1412388270600229,1.1383369551671734,1.0319008377539416,1.0025832236681775,1.2251965376216905,1.1452502785068255,1.0410306475494902,1.0519097075429169,{"$error":"#DIV/0!"},1.021682604491243,1.0687774401713066,{"$error":"#DIV/0!"},1.039347429127391,1.0428287824864861,1.0264431883963872,{"$error":"#DIV/0!"},1.040792833674012,{"$error":"#DIV/0!"},null,1.1412388270600229,"",1.0319008377539416,1.0025832236681775,1.2251965376216905,"",1.0410306475494902,1.0519097075429169,{"$error":"#DIV/0!"},1.021682604491243,1.0687774401713066,{"$error":"#DIV/0!"},1.039347429127391,1.0428287824864861,1.0264431883963872,{"$error":"#DIV/0!"},1.040792833674012,"",null,1.1298301613835042,1.0295002404189364,1.112642291164549,0.95145571033511378,1.2190913988753709,1.0390583482144333,1.0360413990298318,1.024622851423034,1.0785890942654959,1.0128509675412776,1.058518545173164,0.84953864783700439,1.0264493225032991,1.0340458677604465,0.99560802971389994,0.95878094815621784,1.0794068180196874,1.0381083100550632,null,1.1298301613835042,"",1.112642291164549,0.95145571033511378,1.2190913988753709,"",1.0360413990298318,1.024622851423034,1.0785890942654959,1.0128509675412776,1.058518545173164,0.84953864783700439,1.0264493225032991,1.0340458677604465,0.99560802971389994,0.95878094815621784,1.0794068180196874,""]
[1999,1.1161691456287488,{"$error":"#DIV/0!"},0.93855014930931147,0.94771565548824699,{"$error":"#DIV/0!"},{"$error":"#DIV/0!"},1.2834908339573043,{"$error":"#DIV/0!"},1.0240861128510612,1.0964605606649016,{"$error":"#DIV/0!"},1.0449748822342091,0.96272123756519046,{"$error":"#DIV/0!"},1.0297423088474558,1.0155160387548066,1.0869628407856484,{"$error":"#DIV/0!"},null,1.1161691456287488,"",0.93855014930931147,0.94771565548824699,{"$error":"#DIV/0!"},"",1.2834908339573043,{"$error":"#DIV/0!"},1.0240861128510612,1.0964605606649016,{"$error":"#DIV/0!"},1.0449748822342091,0.96272123756519046,{"$error":"#DIV/0!"},1.0297423088474558,1.0155160387548066,1.0869628407856484,"",null,1.1010456130322952,0.99573403707496444,1.0132682410246914,1.0237879536594743,0.97792479931136611,1.1911233411397348,1.3091787781465092,1.1431832099200994,{"$error":"#DIV/0!"},1.1002240171641322,1.0418907467244034,{"$error":"#DIV/0!"},0.99938485701197577,1.0238861149626031,1.0395184931463479,{"$error":"#DIV/0!"},1.0981544619895969,{"$error":"#DIV/0!"},null,1.1010456130322952,"",1.0132682410246914,1.0237879536594743,0.97792479931136611,"",1.3091787781465092,1.1431832099200994,{"$error":"#DIV/0!"},1.1002240171641322,1.0418907467244034,{"$error":"#DIV/0!"},0.99938485701197577,1.0238861149626031,1.0395184931463479,{"$error":"#DIV/0!"},1.0981544619895969,"",null,1.1117954979024047,1.0008292222735311,0.94921324614473912,0.92815381914908002,0.97279263526207727,1.0619332281808622,1.2829637275185266,1.1240784228950453,1.0182293897269181,1.0950971452619769,1.0210642010801352,1.0325982263538862,0.99157365358482696,1.0465563924112093,1.0294046424741412,1.0199540038027692,1.0824221548386848,1.0010078866450465,null,1.1117954979024047,"",0.94921324614473912,0.92815381914908002,0.97279263526207727,"",1.2829637275185266,1.1240784228950453,1.0182293897269181,1.0950971452619769,1.0210642010801352,1.0325982263538862,0.99157365358482696,1.0465563924112093,1.0294046424741412,1.0199540038027692,1.0824221548386848,""]
[2000,1.0063065143140777,1.0340627538646492,1.1012197401742807,0.86660443633015793,{"$error":"#DIV/0!"},{"$error":"#DIV/0!"},1.0170074842609216,{"$error":"#DIV/0!"},1.1121934533663194,1.036030837340661,{"$error":"#DIV/0!"},0.96347446906156264,1.0478700521642959,{"$error":"#DIV/0!"},0.97035349024490192,1.0362387442852141,0.77590123658980936,{"$error":"#DIV/0!"},null,1.0063065143140777,"",1.1012197401742807,0.86660443633015793,{"$error":"#DIV/0!"},"",1.0170074842609216,{"$error":"#DIV/0!"},1.1121934533663194,1.036030837340661,{"$error":"#DIV/0!"},0.96347446906156264,1.0478700521642959,{"$error":"#DIV/0!"},0.97035349024490192,1.0362387442852141,0.77590123658980936,"",null,1.1378679676857926,1.0261489118350553,1.0527938687732552,1.0321380112424889,1.0950343846226618,0.91772402540829112,1.0292015633451104,1.0391565054363217,{"$error":"#DIV/0!"},1.0470124147229001,0.95086906241988456,{"$error":"#DIV/0!"},1.0130857266249187,1.0658872386618883,0.92187854688302318,{"$error":"#DIV/0!"},0.79046920679135091,{"$error":"#DIV/0!"},null,1.1378679676857926,"",1.0527938687732552,1.0321380112424889,1.0950343846226618,"",1.0292015633451104,1.0391565054363217,{"$error":"#DIV/0!"},1.0470124147229001,0.95086906241988456,{"$error":"#DIV/0!"},1.0130857266249187,1.0658872386618883,0.92187854688302318,{"$error":"#DIV/0!"},0.79046920679135091,"",null,1.0038511858397863,1.0304423716229947,1.1019991724828242,0.87343465045592694,1.1059918333707552,0.92007292055612899,1.0172839020473579,1.0460423283181635,1.0896146552891779,1.0322923895442977,0.96500849821807444,0.96569018023166076,1.0200608370875208,1.0550460355770093,0.95571552630376144,1.018244266923918,0.7783124227683168,1.1235157001459595,null,1.0038511858397863,"",1.1019991724828242,0.87343465045592694,1.1059918333707552,"",1.0172839020473579,1.0460423283181635,1.0896146552891779,1.0322923895442977,0.96500849821807444,0.96569018023166076,1.0200608370875208,1.0550460355770093,0.95571552630376144,1.018244266923918,0.7783124227683168,""]
[2001,1.0067051525503028,0.88862035689453434,1.1581991918785135,1.1937922092896036,1.7289174049572815,{"$error":"#DIV/0!"},1.1057702768460151,{"$error":"#DIV/0!"},1.0543156543492402,1.0657073164676383,{"$error":"#DIV/0!"},0.93858163390891691,1.0407659839609156,{"$error":"#DIV/0!"},1.0737264634189962,0.876457144165945,1.0035167830687011,{"$error":"#DIV/0!"},null,1.0067051525503028,"",1.1581991918785135,1.1937922092896036,1.7289174049572815,"",1.1057702768460151,{"$error":"#DIV/0!"},1.0543156543492402,1.0657073164676383,{"$error":"#DIV/0!"},0.93858163390891691,1.0407659839609156,{"$error":"#DIV/0!"},1.0737264634189962,0.876457144165945,1.0035167830687011,"",null,0.99625761315315242,0.92896259133076187,1.1262053073915708,1.0185052015916394,1.1464325733270855,0.96127619867929914,1.1302763519094767,1.1597228821375665,{"$error":"#DIV/0!"},0.99381621545328636,1.4789682673970934,{"$error":"#DIV/0!"},1.0108205357757734,0.98874009982384681,1.0852935547096585,0.86918414500993602,1.0436128623162295,{"$error":"#DIV/0!"},null,0.99625761315315242,"",1.1262053073915708,1.0185052015916394,1.1464325733270855,"",1.1302763519094767,1.1597228821375665,{"$error":"#DIV/0!"},0.99381621545328636,1.4789682673970934,{"$error":"#DIV/0!"},1.0108205357757734,0.98874009982384681,1.0852935547096585,0.86918414500993602,1.0436128623162295,"",null,1.0095099766341673,0.89079866193235779,1.1022732837752034,1.2757075376478662,1.2177281877936443,0.96257646258776874,1.1102716111451842,1.1531777191514641,1.061731806734036,1.0132020726315178,1.4763759810809338,0.93678689929083603,1.037033040439854,0.97947747719866485,1.0673571103263724,0.86492184624271906,1.002163531635371,1.0256565958922681,null,1.0095099766341673,"",1.1022732837752034,1.2757075376478662,1.2177281877936443,"",1.1102716111451842,1.1531777191514641,1.061731806734036,1.0132020726315178,1.4763759810809338,0.93678689929083603,1.037033040439854,0.97947747719866485,1.0673571103263724,0.86492184624271906,1.002163531635371,""]
[2002,1.0147000497664114,0.98333934035284776,1.0294027413598283,0.9753187879164491,0.90515688912989611,{"$error":"#DIV/0!"},1.0601341163180436,{"$error":"#DIV/0!"},1.0909923043307597,1.023468485537451,{"$error":"#DIV/0!"},0.94726842528392285,1.0063308277182881,{"$error":"#DIV/0!"},0.97126961163252601,1.0126119179862563,0.9052482145157762,{"$error":"#DIV/0!"},null,1.0147000497664114,"",1.0294027413598283,0.9753187879164491,0.90515688912989611,"",1.0601341163180436,{"$error":"#DIV/0!"},1.0909923043307597,1.023468485537451,{"$error":"#DIV/0!"},0.94726842528392285,1.0063308277182881,{"$error":"#DIV/0!"},0.97126961163252601,1.0126119179862563,0.9052482145157762,"",null,1.0248556163321234,0.99592293339118332,1.0359539276589964,0.98307089524654379,1.1586828969261758,0.97659977070214621,1.0662775788291705,0.94175171847919814,{"$error":"#DIV/0!"},1.0066662061342913,1.2753300770563873,{"$error":"#DIV/0!"},1.0382574082264484,1.0041407746049256,0.9857237764818777,1.0354909409238493,0.87399015552868653,{"$error":"#DIV/0!"},null,1.0248556163321234,"",1.0359539276589964,0.98307089524654379,1.1586828969261758,"",1.0662775788291705,0.94175171847919814,{"$error":"#DIV/0!"},1.0066662061342913,1.2753300770563873,{"$error":"#DIV/0!"},1.0382574082264484,1.0041407746049256,0.9857237764818777,1.0354909409238493,0.87399015552868653,"",null,1.0160799412783521,0.95337170173900021,1.0251298972273546,0.96833170094678445,1.1590470908274573,0.97764336120500506,1.0568401288407627,0.97869128990712451,1.0826050989747615,0.97954545454545461,1.2276486070716333,0.93738860867703633,1.0135833003561534,1.0045304793257721,0.9898838079483242,1.0328191056595777,0.92499205083111025,1.0225147964077095,null,1.0160799412783521,"",1.0251298972273546,0.96833170094678445,1.1590470908274573,"",1.0568401288407627,0.97869128990712451,1.0826050989747615,0.97954545454545461,1.2276486070716333,0.93738860867703633,1.0135833003561534,1.0045304793257721,0.9898838079483242,1.0328191056595777,0.92499205083111025,""]
[2003,1.0727847431814286,1.0193805738603943,1.2252504019346513,0.98206228605533341,1.0010137629058844,{"$error":"#DIV/0!"},0.97960672291862561,{"$error":"#DIV/0!"},1.0607299316641843,1.0346569357084552,{"$error":"#DIV/0!"},1.0393869741341524,1.0390950797902483,{"$error":"#DIV/0!"},0.99940982300798198,1.0024498538570124,1.116832027290183,{"$error":"#DIV/0!"},null,1.0727847431814286,"",1.2252504019346513,0.98206228605533341,1.0010137629058844,"",0.97960672291862561,{"$error":"#DIV/0!"},1.0607299316641843,1.0346569357084552,{"$error":"#DIV/0!"},1.0393869741341524,1.0390950797902483,{"$error":"#DIV/0!"},0.99940982300798198,1.0024498538570124,1.116832027290183,"",null,1.1043575190612243,1.0121071638012287,1.1884325064003014,0.99675862565727846,1.0689853168204397,0.97224545305331289,0.96536523307366151,1.0340287256953924,{"$error":"#DIV/0!"},1.0252726877912706,0.90190509824738141,{"$error":"#DIV/0!"},1.0383345445805747,0.99629646120172022,1.00065979640824,1.0097341758361478,1.0756150655271253,{"$error":"#DIV/0!"},null,1.1043575190612243,"",1.1884325064003014,0.99675862565727846,1.0689853168204397,"",0.96536523307366151,1.0340287256953924,{"$error":"#DIV/0!"},1.0252726877912706,0.90190509824738141,{"$error":"#DIV/0!"},1.0383345445805747,0.99629646120172022,1.00065979640824,1.0097341758361478,1.0756150655271253,"",null,1.0868884372253498,1.0233582921996269,1.2176727584637901,0.96469804618117228,1.0339651797671781,0.97334058534315826,0.97896777116813516,1.0229949742176336,1.0574376347397598,1.0110492948635008,0.91932103338288096,1.0171198656675917,1.0356312138490358,0.98496692195447177,0.98752151891845696,1.0021165714875333,1.0933482261487284,1.2191535506126387,null,1.0868884372253498,"",1.2176727584637901,0.96469804618117228,1.0339651797671781,"",0.97896777116813516,1.0229949742176336,1.0574376347397598,1.0110492948635008,0.91932103338288096,1.0171198656675917,1.0356312138490358,0.98496692195447177,0.98752151891845696,1.0021165714875333,1.0933482261487284,""]
[2004,1.058185817176418,1.017816219822105,0.98233597920564919,0.9482849901410072,1.4480112362640971,{"$error":"#DIV/0!"},1.0331195615815507,{"$error":"#DIV/0!"},1.0745275160181995,0.97753155501859923,{"$error":"#DIV/0!"},1.2147739955357144,1.0951470370176066,{"$error":"#DIV/0!"},1.0309764922651581,0.92984431614653473,0.84987441412298226,{"$error":"#DIV/0!"},null,1.058185817176418,"",0.98233597920564919,0.9482849901410072,1.4480112362640971,"",1.0331195615815507,{"$error":"#DIV/0!"},1.0745275160181995,0.97753155501859923,{"$error":"#DIV/0!"},1.2147739955357144,1.0951470370176066,{"$error":"#DIV/0!"},1.0309764922651581,0.92984431614653473,0.84987441412298226,"",null,1.0432525681482185,1.0501926632765437,1.0345471162063313,0.98567505381132647,1.2235108094128779,1.027119291875505,1.0342115483226522,0.97711199311482178,{"$error":"#DIV/0!"},1.0434090003982475,1.2210220779612502,{"$error":"#DIV/0!"},1.0989381794730051,1.0384727575976851,1.0198194788728148,0.9913700686106347,1.0335552552716749,{"$error":"#DIV/0!"},null,1.0432525681482185,"",1.0345471162063313,0.98567505381132647,1.2235108094128779,"",1.0342115483226522,0.97711199311482178,{"$error":"#DIV/0!"},1.0434090003982475,1.2210220779612502,{"$error":"#DIV/0!"},1.0989381794730051,1.0384727575976851,1.0198194788728148,0.9913700686106347,1.0335552552716749,"",null,1.0596899460833,1.0124665352769486,0.99389250918145133,0.96490229178944686,1.2747876215891893,1.0277614133891575,1.032120067225222,0.98359941075158852,1.0604825146750865,1.0220806908165827,1.1801091509547337,1.1630749593180361,1.1522397726797877,1.0462325399780019,1.0174786983546438,0.95058863598948007,0.88923989648316371,1.1525957922693637,null,1.0596899460833,"",0.99389250918145133,0.96490229178944686,1.2747876215891893,"",1.032120067225222,0.98359941075158852,1.0604825146750865,1.0220806908165827,1.1801091509547337,1.1630749593180361,1.1522397726797877,1.0462325399780019,1.0174786983546438,0.95058863598948007,0.88923989648316371,""]
[2005,1.2607581232532588,1.0132508867902399,0.99888531324105301,1.0226922010631483,1.1936901791577823,{"$error":"#DIV/0!"},0.98557535700626042,{"$error":"#DIV/0!"},1.0822085553183867,1.0251585597047355,{"$error":"#DIV/0!"},0.79413525743931856,1.026918845591636,{"$error":"#DIV/0!"},1.0859997491410469,0.99465838013859664,1.469064651083501,{"$error":"#DIV/0!"},null,1.2607581232532588,"",0.99888531324105301,1.0226922010631483,1.1936901791577823,"",0.98557535700626042,{"$error":"#DIV/0!"},1.0822085553183867,1.0251585597047355,{"$error":"#DIV/0!"},0.79413525743931856,1.026918845591636,{"$error":"#DIV/0!"},1.0859997491410469,0.99465838013859664,1.469064651083501,"",null,1.2675056363513431,1.0331645896511614,1.0320502940333065,1.1264001445840539,1.2851493504221041,1.0191513032422124,1.0287085815145525,1.0452946383022126,{"$error":"#DIV/0!"},1.0015287922541194,1.0718772363857316,{"$error":"#DIV/0!"},1.0094211561763762,1.0342738013591584,1.0552425062386865,0.96688787581510738,1.1360651770374461,{"$error":"#DIV/0!"},null,1.2675056363513431,"",1.0320502940333065,1.1264001445840539,1.2851493504221041,"",1.0287085815145525,1.0452946383022126,{"$error":"#DIV/0!"},1.0015287922541194,1.0718772363857316,{"$error":"#DIV/0!"},1.0094211561763762,1.0342738013591584,1.0552425062386865,0.96688787581510738,1.1360651770374461,"",null,1.2435410709940524,1.0065132888249753,1.0033130725133204,0.96646748168046348,1.2814961143151677,1.0134779374351908,1.0211553226449588,1.0417291125908459,1.0509137122646768,0.99817284142596108,1.0626390326894575,0.8044159393974889,1.0029332945356244,1.0158999068993984,1.0770730961491908,0.95872895782107082,1.4142063238361686,1.0053644410887324,null,1.2435410709940524,"",1.0033130725133204,0.96646748168046348,1.2814961143151677,"",1.0211553226449588,1.0417291125908459,1.0509137122646768,0.99817284142596108,1.0626390326894575,0.8044159393974889,1.0029332945356244,1.0158999068993984,1.0770730961491908,0.95872895782107082,1.4142063238361686,""]
[2006,1.1611491976911439,1.0242263081422629,1.1232681387080909,0.83514652487563301,0.95540629979164127,{"$error":"#DIV/0!"},1.0930181733622486,{"$error":"#DIV/0!"},1.0153899361708447,0.99597977779795965,{"$error":"#DIV/0!"},0.91528900827725679,0.99629969405531815,{"$error":"#DIV/0!"},0.98990724488569448,1.0791640441003612,0.99934375297166211,{"$error":"#DIV/0!"},null,1.1611491976911439,"",1.1232681387080909,0.83514652487563301,0.95540629979164127,"",1.0930181733622486,{"$error":"#DIV/0!"},1.0153899361708447,0.99597977779795965,{"$error":"#DIV/0!"},0.91528900827725679,0.99629969405531815,{"$error":"#DIV/0!"},0.98990724488569448,1.0791640441003612,0.99934375297166211,"",null,1.1131361508863473,1.0535826130526491,1.1766307826184821,0.97642510954934703,0.99843599957989815,0.97413665593722909,1.0800052531735325,1.0127965317217824,{"$error":"#DIV/0!"},0.98957030152934877,0.98894518994409863,{"$error":"#DIV/0!"},1.0202805155420775,1.0166322855494547,1.0037981613774596,1.0686487411709638,1.1104450905053105,{"$error":"#DIV/0!"},null,1.1131361508863473,"",1.1766307826184821,0.97642510954934703,0.99843599957989815,"",1.0800052531735325,1.0127965317217824,{"$error":"#DIV/0!"},0.98957030152934877,0.98894518994409863,{"$error":"#DIV/0!"},1.0202805155420775,1.0166322855494547,1.0037981613774596,1.0686487411709638,1.1104450905053105,"",null,1.1080144431920216,1.0277444415500665,1.1127094048493391,0.85848502642395774,0.92948260026533325,0.97026505573320343,1.0866396087175079,1.0166931396589705,1.0047512652094324,0.99464648558988189,1.0030389492745473,0.93665400057298942,0.98895582329317266,1.0272611464968151,0.98296786684507698,1.0656643092519731,1.0227361355795348,0.93020064919040002,null,1.1080144431920216,"",1.1127094048493391,0.85848502642395774,0.92948260026533325,"",1.0866396087175079,1.0166931396589705,1.0047512652094324,0.99464648558988189,1.0030389492745473,0.93665400057298942,0.98895582329317266,1.0272611464968151,0.98296786684507698,1.0656643092519731,1.0227361355795348,""]
[2007,1.0291574853344194,1.0705091946394025,1.0787972383322,0.97958617831093187,0.94931080526057099,{"$error":"#DIV/0!"},1.0310778867651369,{"$error":"#DIV/0!"},1.08541900081273,0.96942422895118663,{"$error":"#DIV/0!"},1.0105229876637472,1.0074255797144676,{"$error":"#DIV/0!"},0.92960785770369703,0.99766712378265199,1.0225752305482474,{"$error":"#DIV/0!"},null,1.0291574853344194,"",1.0787972383322,0.97958617831093187,0.94931080526057099,"",1.0310778867651369,{"$error":"#DIV/0!"},1.08541900081273,0.96942422895118663,{"$error":"#DIV/0!"},1.0105229876637472,1.0074255797144676,{"$error":"#DIV/0!"},0.92960785770369703,0.99766712378265199,1.0225752305482474,"",null,1.0616928223633717,1.081406236954261,0.97765009801569536,1.0055245626387914,1.1793145357316484,1.0357620086570984,1.1753552031827705,1.0727984612749502,{"$error":"#DIV/0!"},0.9980802510557355,1.0719123903194887,{"$error":"#DIV/0!"},1.0153958409339656,1.0794908548083049,0.97816524482111389,0.99571261897194863,1.1087088906995619,{"$error":"#DIV/0!"},null,1.0616928223633717,"",0.97765009801569536,1.0055245626387914,1.1793145357316484,"",1.1753552031827705,1.0727984612749502,{"$error":"#DIV/0!"},0.9980802510557355,1.0719123903194887,{"$error":"#DIV/0!"},1.0153958409339656,1.0794908548083049,0.97816524482111389,0.99571261897194863,1.1087088906995619,"",null,1.066226391813285,1.054837756886674,1.0746410577477927,0.95749621403331653,1.1549937179324881,1.0434742413572449,1.0241469239135574,1.0446709678718589,1.0830951108218871,0.99403035357726843,1.0693260151380073,1.0029609606577226,1.0058502043531983,1.0757863667963559,0.94490890847326503,0.99317634439525238,1.0309101053938554,0.94844918055761174,null,1.066226391813285,"",1.0746410577477927,0.95749621403331653,1.1549937179324881,"",1.0241469239135574,1.0446709678718589,1.0830951108218871,0.99403035357726843,1.0693260151380073,1.0029609606577226,1.0058502043531983,1.0757863667963559,0.94490890847326503,0.99317634439525238,1.0309101053938554,""]
[2008,1.0622144698018767,1.0547461877591244,0.91058856207588923,0.87180695364975991,1.2132017514488289,{"$error":"#DIV/0!"},1.0527972724501835,{"$error":"#DIV/0!"},1.0063749113428537,0.98460100479027901,{"$error":"#DIV/0!"},1.0202929070085103,1.0129385758589025,{"$error":"#DIV/0!"},1.297411050708585,1.0648514467513113,0.8569518842609114,{"$error":"#DIV/0!"},null,1.0622144698018767,"",0.91058856207588923,0.87180695364975991,1.2132017514488289,"",1.0527972724501835,{"$error":"#DIV/0!"},1.0063749113428537,0.98460100479027901,{"$error":"#DIV/0!"},1.0202929070085103,1.0129385758589025,{"$error":"#DIV/0!"},1.297411050708585,1.0648514467513113,0.8569518842609114,"",null,1.0288281269903892,1.0390253405623644,0.88109336251728365,0.98378096479791388,0.98547367792132834,0.99963237415408956,1.0188514935099584,0.93583389370934267,{"$error":"#DIV/0!"},1.0049387379900017,1.1310747259962037,{"$error":"#DIV/0!"},0.98372833392288639,1.0116747948176938,1.271077394991873,1.0776665685408691,0.9894479545999274,{"$error":"#DIV/0!"},null,1.0288281269903892,"",0.88109336251728365,0.98378096479791388,0.98547367792132834,"",1.0188514935099584,0.93583389370934267,{"$error":"#DIV/0!"},1.0049387379900017,1.1310747259962037,{"$error":"#DIV/0!"},0.98372833392288639,1.0116747948176938,1.271077394991873,1.0776665685408691,0.9894479545999274,"",null,1.0361251483039029,1.0584557971211317,0.91207396502217086,0.89366261316762197,0.95236995902740895,1.0065270048476342,1.0789906519384787,0.97769860488459659,1.0130531479287479,0.98193586926724685,1.1489043483897667,0.99070818923651283,0.98443579766536993,1.0048979176587514,1.2409742122357206,1.0463457989707694,0.89102742839927085,0.86802570640439447,null,1.0361251483039029,"",0.91207396502217086,0.89366261316762197,0.95236995902740895,"",1.0789906519384787,0.97769860488459659,1.0130531479287479,0.98193586926724685,1.1489043483897667,0.99070818923651283,0.98443579766536993,1.0048979176587514,1.2409742122357206,1.0463457989707694,0.89102742839927085,""]
[2009,1.0138121724186357,0.96815529134725664,0.99759351538988605,0.9832281682837275,0.82218995108513571,{"$error":"#DIV/0!"},0.88214562784725703,{"$error":"#DIV/0!"},0.97258653350285174,0.96819407008086245,{"$error":"#DIV/0!"},0.98495281407039392,0.96827736958669863,{"$error":"#DIV/0!"},0.76649519056642179,0.95356347120763096,0.88772193178074166,{"$error":"#DIV/0!"},null,1.0138121724186357,"",0.99759351538988605,0.9832281682837275,0.82218995108513571,"",0.88214562784725703,{"$error":"#DIV/0!"},0.97258653350285174,0.96819407008086245,{"$error":"#DIV/0!"},0.98495281407039392,0.96827736958669863,{"$error":"#DIV/0!"},0.76649519056642179,0.95356347120763096,0.88772193178074166,"",null,1.0250625382063578,0.98842039989699138,1.1317356656638837,1.0317001309471845,0.92051257567871558,1.0083875257780277,0.97259405841050395,0.97412942927352997,{"$error":"#DIV/0!"},0.92402527817003677,0.85448649215783357,{"$error":"#DIV/0!"},0.94034505804599144,0.96646264229269996,0.8515253971145702,0.95078838480896755,0.90430725460259131,{"$error":"#DIV/0!"},null,1.0250625382063578,"",1.1317356656638837,1.0317001309471845,0.92051257567871558,"",0.97259405841050395,0.97412942927352997,{"$error":"#DIV/0!"},0.92402527817003677,0.85448649215783357,{"$error":"#DIV/0!"},0.94034505804599144,0.96646264229269996,0.8515253971145702,0.95078838480896755,0.90430725460259131,"",null,1.0237828822452593,0.96397640098135673,1.0274921586204737,0.97775319320124732,0.86207694878217633,1.0150742355428843,0.89001274180209977,0.99856773739775484,0.97973226411433767,0.97154235390198107,0.84601962382043161,0.98200010305437602,0.9341255395732434,0.95815181337137045,0.83795130566316178,0.97168092342095402,0.86841851828696592,0.81533500131822967,null,1.0237828822452593,"",1.0274921586204737,0.97775319320124732,0.86207694878217633,"",0.89001274180209977,0.99856773739775484,0.97973226411433767,0.97154235390198107,0.84601962382043161,0.98200010305437602,0.9341255395732434,0.95815181337137045,0.83795130566316178,0.97168092342095402,0.86841851828696592,""]
[2010,1.0043162042030322,1.009970632946227,0.9398025207376457,1.018238081598474,1.1321647905526289,{"$error":"#DIV/0!"},0.93250551625502964,{"$error":"#DIV/0!"},1.0901101145926004,1.0744981331523056,{"$error":"#DIV/0!"},1.2391081950087772,0.9807336023688874,{"$error":"#DIV/0!"},0.70646642117957126,0.98642764747813838,0.94364074148968635,{"$error":"#DIV/0!"},null,1.0043162042030322,"",0.9398025207376457,1.018238081598474,1.1321647905526289,"",0.93250551625502964,{"$error":"#DIV/0!"},1.0901101145926004,1.0744981331523056,{"$error":"#DIV/0!"},1.2391081950087772,0.9807336023688874,{"$error":"#DIV/0!"},0.70646642117957126,0.98642764747813838,0.94364074148968635,"",null,1.062399350335651,1.0398362074861878,1.0246414316148105,0.93138405603262386,0.95950291403534393,0.98477539100051115,0.89728073647066731,1.0332444560531231,{"$error":"#DIV/0!"},1.0609197871566909,0.9950563872827396,{"$error":"#DIV/0!"},0.97092543113917895,1.0360101053614954,0.73274838513989471,1.044725272679272,1.0206722270120903,{"$error":"#DIV/0!"},null,1.062399350335651,"",1.0246414316148105,0.93138405603262386,0.95950291403534393,"",0.89728073647066731,1.0332444560531231,{"$error":"#DIV/0!"},1.0609197871566909,0.9950563872827396,{"$error":"#DIV/0!"},0.97092543113917895,1.0360101053614954,0.73274838513989471,1.044725272679272,1.0206722270120903,"",null,1.0273579582986558,1.0134323837773866,0.95462169387958029,0.92233076358044619,0.91770755947435068,0.95698256945307003,0.92571869451658173,1.0340607914555233,1.1003344481605351,1.0579434783702846,0.98462633074720907,1.2180009375717691,0.96274948816475547,1.0339910132123136,0.66558206765690853,1.0022568297831755,0.94706181908002662,1.1432702502177836,null,1.0273579582986558,"",0.95462169387958029,0.92233076358044619,0.91770755947435068,"",0.92571869451658173,1.0340607914555233,1.1003344481605351,1.0579434783702846,0.98462633074720907,1.2180009375717691,0.96274948816475547,1.0339910132123136,0.66558206765690853,1.0022568297831755,0.94706181908002662,""]
[2011,0.994338994858457,1.0435333033836203,1.0274736159842608,0.90211962493340503,0.68772222226611168,{"$error":"#DIV/0!"},1.0020218812356667,{"$error":"#DIV/0!"},1.0167374039482848,0.98419052360799919,0.98023155629334568,0.97675153061657061,0.90431137467333556,0.98509696267611613,0.9907372620840037,1.0666222686383426,0.99939186729951857,{"$error":"#DIV/0!"},null,0.994338994858457,"",1.0274736159842608,0.90211962493340503,0.68772222226611168,"",1.0020218812356667,{"$error":"#DIV/0!"},1.0167374039482848,0.98419052360799919,0.98023155629334568,0.97675153061657061,0.90431137467333556,0.98509696267611613,0.9907372620840037,1.0666222686383426,0.99939186729951857,"",null,0.99324406946374277,1.0481638170079004,1.055612145226579,0.95705342626402645,1.0742203393250045,0.98380798463877117,1.0334754415776879,0.95306933661743098,{"$error":"#DIV/0!"},1.093444093214732,0.99659793201806524,{"$error":"#DIV/0!"},0.9803807303807307,0.98733766136193524,1.020074969130953,1.0726466165413533,1.0844489075019603,{"$error":"#DIV/0!"},null,0.99324406946374277,"",1.055612145226579,0.95705342626402645,1.0742203393250045,"",1.0334754415776879,0.95306933661743098,{"$error":"#DIV/0!"},1.093444093214732,0.99659793201806524,{"$error":"#DIV/0!"},0.9803807303807307,0.98733766136193524,1.020074969130953,1.0726466165413533,1.0844489075019603,"",null,0.9816684681968646,1.0430447579518649,1.0300135085248934,0.78955670999914229,0.9273683480124294,0.95376022369800761,0.96658221553772383,0.95571411846117071,1.0422425005244389,0.98538806484994823,0.98665048779633679,0.99311276289422523,0.90681399631675863,0.98972631365412556,1.041289843095712,1.0452942119608786,0.99008731509788728,1.0476622575098082,null,0.9816684681968646,"",1.0300135085248934,0.78955670999914229,0.9273683480124294,"",0.96658221553772383,0.95571411846117071,1.0422425005244389,0.98538806484994823,0.98665048779633679,0.99311276289422523,0.90681399631675863,0.98972631365412556,1.041289843095712,1.0452942119608786,0.99008731509788728,""]
[2012,1.0279692786715287,0.95841055782964968,1.0166091395357606,0.96535319816010667,1.2263445661027741,{"$error":"#DIV/0!"},0.90678916259733999,{"$error":"#DIV/0!"},0.96448118341036193,1.0391983662620139,0.98796649756238653,1.0448014153293868,0.87262420424050491,0.91436745527023378,1.0399749199964707,0.97711446338055241,1.0541882721077538,{"$error":"#DIV/0!"},null,1.0279692786715287,"",1.0166091395357606,0.96535319816010667,1.2263445661027741,"",0.90678916259733999,{"$error":"#DIV/0!"},0.96448118341036193,1.0391983662620139,0.98796649756238653,1.0448014153293868,0.87262420424050491,0.91436745527023378,1.0399749199964707,0.97711446338055241,1.0541882721077538,"",null,1.0088600333891287,1.0375492145607952,1.0461312451989044,1.0359845524643116,1.0021475823719281,1.0008329533755558,0.88899580551203083,0.93097409210663817,{"$error":"#DIV/0!"},1.0497071140059506,0.97735701713085454,{"$error":"#DIV/0!"},0.94798450251421951,0.97551421301552255,1.0428983955344882,0.96373677357558707,1.0493243555656155,{"$error":"#DIV/0!"},null,1.0088600333891287,"",1.0461312451989044,1.0359845524643116,1.0021475823719281,"",0.88899580551203083,0.93097409210663817,{"$error":"#DIV/0!"},1.0497071140059506,0.97735701713085454,{"$error":"#DIV/0!"},0.94798450251421951,0.97551421301552255,1.0428983955344882,0.96373677357558707,1.0493243555656155,"",null,0.99904987644304544,0.97621785681551931,1.0141995647497604,0.95120493515058246,0.93115068608300533,0.98521751915600297,0.90534190308656581,0.95545129513021487,0.95685413093963345,1.0289465930632691,0.97775296282500312,1.0236635859208703,0.86668899681795364,0.92009338125427997,0.99559098072865515,0.94981110335695029,1.0536656458156481,1.0709345820822926,null,0.99904987644304544,"",1.0141995647497604,0.95120493515058246,0.93115068608300533,"",0.90534190308656581,0.95545129513021487,0.95685413093963345,1.0289465930632691,0.97775296282500312,1.0236635859208703,0.86668899681795364,0.92009338125427997,0.99559098072865515,0.94981110335695029,1.0536656458156481,""]
[2013,1.0437962455953307,1.011974192930426,0.96548247540618548,1.0004972046979992,1.0991726447475301,{"$error":"#DIV/0!"},0.90399875268479246,{"$error":"#DIV/0!"},1.0619407634561469,0.88574720210664915,1.0717244817156253,0.99969751599876133,0.93931787696733571,0.99836477901800069,1.0129044169923866,0.93898741161956212,0.96557797244521604,{"$error":"#DIV/0!"},null,1.0437962455953307,"",0.96548247540618548,1.0004972046979992,1.0991726447475301,"",0.90399875268479246,{"$error":"#DIV/0!"},1.0619407634561469,0.88574720210664915,1.0717244817156253,0.99969751599876133,0.93931787696733571,0.99836477901800069,1.0129044169923866,0.93898741161956212,0.96557797244521604,"",null,1.0287670823691473,0.98422156200327415,0.93740713804883413,0.90571925071303461,1.0862633823753527,0.97486215074383542,0.95768269620167523,0.99521108608168707,{"$error":"#DIV/0!"},0.95305286671630662,1.0533991471145214,{"$error":"#DIV/0!"},0.95266615146831535,1.0387471029382245,1.06361454236037,0.96764154710226735,0.99996299099662656,{"$error":"#DIV/0!"},null,1.0287670823691473,"",0.93740713804883413,0.90571925071303461,1.0862633823753527,"",0.95768269620167523,0.99521108608168707,{"$error":"#DIV/0!"},0.95305286671630662,1.0533991471145214,{"$error":"#DIV/0!"},0.95266615146831535,1.0387471029382245,1.06361454236037,0.96764154710226735,0.99996299099662656,"",null,1.0303114847408035,1.0143246862172359,0.94238660355453874,1.0055874058819485,1.1146456210969757,0.94936963994952439,0.88825744265838358,1.0943345822268369,1.0752908233869574,0.88611412306858217,1.0629274354006515,0.97190916179836928,0.88438818565400834,1.0055232183882765,1.026777285868772,0.93690568816734565,0.97903801849548444,0.98783541202989555,null,1.0303114847408035,"",0.94238660355453874,1.0055874058819485,1.1146456210969757,"",0.88825744265838358,1.0943345822268369,1.0752908233869574,0.88611412306858217,1.0629274354006515,0.97190916179836928,0.88438818565400834,1.0055232183882765,1.026777285868772,0.93690568816734565,0.97903801849548444,""]
[2014,1.0619932080874503,0.97591628982093859,0.94314902128329303,1.0070551532038228,0.65768312808216933,{"$error":"#DIV/0!"},0.90237570098852415,{"$error":"#DIV/0!"},1.1519339741032917,0.84333635699125487,1.0361707489721823,0.91424474883551266,0.97533215659318118,1.0224369222558167,1.2136876847259594,1.0216050024958947,1.0460497306631513,{"$error":"#DIV/0!"},null,1.0619932080874503,"",0.94314902128329303,1.0070551532038228,0.65768312808216933,"",0.90237570098852415,{"$error":"#DIV/0!"},1.1519339741032917,0.84333635699125487,1.0361707489721823,0.91424474883551266,0.97533215659318118,1.0224369222558167,1.2136876847259594,1.0216050024958947,1.0460497306631513,"",null,1.0262624734583676,1.0210924334599947,1.0046197717205099,0.98143548987954787,0.91815569014360843,0.98854222864505248,0.9998228218697367,0.96616419417489285,{"$error":"#DIV/0!"},0.9323354798785557,1.0623428924460889,{"$error":"#DIV/0!"},1.0533578525709559,1.0336249804842697,1.2051818373855232,1.0540149182600371,1.0796047302617735,{"$error":"#DIV/0!"},null,1.0262624734583676,"",1.0046197717205099,0.98143548987954787,0.91815569014360843,"",0.9998228218697367,0.96616419417489285,{"$error":"#DIV/0!"},0.9323354798785557,1.0623428924460889,{"$error":"#DIV/0!"},1.0533578525709559,1.0336249804842697,1.2051818373855232,1.0540149182600371,1.0796047302617735,"",null,1.0226708542999705,0.97451854608336597,0.95273538881726638,0.97489594172736727,0.90043667782755865,0.97066558618581,0.90804798779866447,0.89265676040625275,1.1212024969882817,0.84096333261011058,1.0459686378277591,0.9274309429278168,0.98668217581096296,1.0143947630240837,1.2144148250511213,1.0314128216242258,1.0429562043795619,1.0605567832857921,null,1.0226708542999705,"",0.95273538881726638,0.97489594172736727,0.90043667782755865,"",0.90804798779866447,0.89265676040625275,1.1212024969882817,0.84096333261011058,1.0459686378277591,0.9274309429278168,0.98668217581096296,1.0143947630240837,1.2144148250511213,1.0314128216242258,1.0429562043795619,""]
[2015,0.93799221129171007,0.98735670256191188,0.98567291927334533,0.9129985288510315,1.0582546252225056,{"$error":"#DIV/0!"},0.85652497566419139,{"$error":"#DIV/0!"},0.94252462422712391,0.94823632593025686,1.0233495395093684,0.90455602710811422,0.90322937991899832,0.96848504996519591,0.82413326566828649,0.96267538788234952,1.0298091262873739,{"$error":"#DIV/0!"},null,0.93799221129171007,"",0.98567291927334533,0.9129985288510315,1.0582546252225056,"",0.85652497566419139,{"$error":"#DIV/0!"},0.94252462422712391,0.94823632593025686,1.0233495395093684,0.90455602710811422,0.90322937991899832,0.96848504996519591,0.82413326566828649,0.96267538788234952,1.0298091262873739,"",null,0.98551247638082984,1.0351296383280062,1.0410022340817859,1.0476119667352577,1.1559990949208665,0.9596687370600413,0.94617199751218506,1.0664663881988268,{"$error":"#DIV/0!"},0.86084996926999169,1.0425785718037452,{"$error":"#DIV/0!"},0.99497476113214356,0.97004255492435798,0.94139396318493307,1.0123847506615933,1.0558512257310859,{"$error":"#DIV/0!"},null,0.98551247638082984,"",1.0410022340817859,1.0476119667352577,1.1559990949208665,"",0.94617199751218506,1.0664663881988268,{"$error":"#DIV/0!"},0.86084996926999169,1.0425785718037452,{"$error":"#DIV/0!"},0.99497476113214356,0.97004255492435798,0.94139396318493307,1.0123847506615933,1.0558512257310859,"",null,0.93609395281916397,0.98652565246371204,0.97763369668331579,0.94072408240324301,0.94632522904779504,0.92331290658129472,0.89507538120533503,1.02771418013454,0.97197914836291233,0.93546576533790571,1.0269489187304015,0.95262650134352023,0.89661869927381432,0.98572381936972242,0.81888527337324757,0.96752228922269856,1.0455106779218921,0.93323971805481609,null,0.93609395281916397,"",0.97763369668331579,0.94072408240324301,0.94632522904779504,"",0.89507538120533503,1.02771418013454,0.97197914836291233,0.93546576533790571,1.0269489187304015,0.95262650134352023,0.89661869927381432,0.98572381936972242,0.81888527337324757,0.96752228922269856,1.0455106779218921,""]
[2016,0.95405238672909598,0.97099881911557129,0.94239102141030728,0.87575862907567292,1.088641433081073,{"$error":"#DIV/0!"},0.94683701778695228,{"$error":"#DIV/0!"},0.95257802692439542,0.95206155060169662,0.93404315330729604,0.9378312162620519,0.95936852684864005,0.96908076999225712,1.480595157003525,1.0066490286561476,1.0557574649727028,{"$error":"#DIV/0!"},null,0.95405238672909598,"",0.94239102141030728,0.87575862907567292,1.088641433081073,"",0.94683701778695228,{"$error":"#DIV/0!"},0.95257802692439542,0.95206155060169662,0.93404315330729604,0.9378312162620519,0.95936852684864005,0.96908076999225712,1.480595157003525,1.0066490286561476,1.0557574649727028,"",null,1.0572966660989782,1.0057155775330604,1.0234904502436497,0.98052571867737726,1.1361465106180095,1.030128667254514,0.98316836233775207,{"$error":"#DIV/0!"},{"$error":"#DIV/0!"},0.99732954203526514,0.96711649574127001,{"$error":"#DIV/0!"},1.0693808312128923,0.94698014405023423,1.3790990521932589,1.0612271174999972,{"$error":"#DIV/0!"},{"$error":"#DIV/0!"},null,1.0572966660989782,"",1.0234904502436497,0.98052571867737726,1.1361465106180095,"",0.98316836233775207,{"$error":"#DIV/0!"},{"$error":"#DIV/0!"},0.99732954203526514,0.96711649574127001,{"$error":"#DIV/0!"},1.0693808312128923,0.94698014405023423,1.3790990521932589,1.0612271174999972,{"$error":"#DIV/0!"},"",null,1.0025418756189148,0.96016041861135237,0.95141767471824368,0.88180699415444574,0.99635698505792158,0.98567230098324754,0.98671415892877068,0.99401527002912116,0.93780334994063386,0.95612794741468266,0.9454604338354482,0.93345602439813846,0.99740259740259751,0.91366022727824225,1.469444857989435,1.0063170664307581,1.0498038413670563,0.99680414286564423,null,1.0025418756189148,"",0.95141767471824368,0.88180699415444574,0.99635698505792158,"",0.98671415892877068,0.99401527002912116,0.93780334994063386,0.95612794741468266,0.9454604338354482,0.93345602439813846,0.99740259740259751,0.91366022727824225,1.469444857989435,1.0063170664307581,1.0498038413670563,""]
[2017,1.0567140328641862,{"$error":"#DIV/0!"},0.93562673752681147,1.1920566465950253,0.98167426022099613,{"$error":"#DIV/0!"},1.0233736407632301,{"$error":"#DIV/0!"},0.98693595372187648,0.89767144491553952,0.93616596525192253,0.98074773931492742,0.98733340113636492,0.996512916499803,0.80292377737335596,0.94534697529710576,1.0621190711625452,{"$error":"#DIV/0!"},null,1.0567140328641862,"",0.93562673752681147,1.1920566465950253,0.98167426022099613,"",1.0233736407632301,{"$error":"#DIV/0!"},0.98693595372187648,0.89767144491553952,0.93616596525192253,0.98074773931492742,0.98733340113636492,0.996512916499803,0.80292377737335596,0.94534697529710576,1.0621190711625452,"",null,1.0216624519424991,{"$error":"#DIV/0!"},0.97373712123407064,1.1719736457311936,1.005440149598287,{"$error":"#DIV/0!"},0.98243328176041855,{"$error":"#DIV/0!"},{"$error":"#DIV/0!"},1.0023848095543082,0.94898596647354772,{"$error":"#DIV/0!"},1.0448567060593559,{"$error":"#DIV/0!"},0.86952178932066526,{"$error":"#DIV/0!"},{"$error":"#DIV/0!"},{"$error":"#DIV/0!"},null,1.0216624519424991,"",0.97373712123407064,1.1719736457311936,1.005440149598287,"",0.98243328176041855,{"$error":"#DIV/0!"},{"$error":"#DIV/0!"},1.0023848095543082,0.94898596647354772,{"$error":"#DIV/0!"},1.0448567060593559,{"$error":"#DIV/0!"},0.86952178932066526,{"$error":"#DIV/0!"},{"$error":"#DIV/0!"},"",null,1.0278997195787114,{"$error":"#DIV/0!"},0.94956538613016139,1.1644203627028344,1.0444639288772888,1.0062736255729958,0.98509450544063693,1.0151625348123889,0.96059315131626,0.88497525865946924,0.90879598719717969,1.0182397898607329,1.0276833414278774,1.0296830085960411,0.80517600143343859,0.9405450240860348,1.0546169699851102,{"$error":"#DIV/0!"},null,1.0278997195787114,"",0.94956538613016139,1.1644203627028344,1.0444639288772888,"",0.98509450544063693,1.0151625348123889,0.96059315131626,0.88497525865946924,0.90879598719717969,1.0182397898607329,1.0276833414278774,1.0296830085960411,0.80517600143343859,0.9405450240860348,1.0546169699851102,""]
[]
["Arithmet. Mittel",{"$f":"AVERAGE(INDIRECT(B36):INDIRECT(B38))","v":1.0109794797282512},{"$f":"AVERAGE(INDIRECT(C36):INDIRECT(C38))","v":{"$error":"#DIV/0!"}},{"$f":"AVERAGE(INDIRECT(D36):INDIRECT(D38))","v":0.97377213291713749},{"$f":"AVERAGE(INDIRECT(E36):INDIRECT(E38))","v":0.97940556935958056},{"$f":"AVERAGE(INDIRECT(F36):INDIRECT(F38))","v":0.97135612567473717},{"$f":"AVERAGE(INDIRECT(G36):INDIRECT(G38))","v":{"$error":"#DIV/0!"}},{"$f":"AVERAGE(INDIRECT(H36):INDIRECT(H38))","v":0.93456016167438527},{"$f":"AVERAGE(INDIRECT(I36):INDIRECT(I38))","v":{"$error":"#DIV/0!"}},{"$f":"AVERAGE(INDIRECT(J36):INDIRECT(J38))","v":1.0110188471130688},{"$f":"AVERAGE(INDIRECT(K36):INDIRECT(K38))","v":0.93577739577362995},{"$f":"AVERAGE(INDIRECT(L36):INDIRECT(L38))","v":0.99566456323030383},{"$f":"AVERAGE(INDIRECT(M36):INDIRECT(M38))","v":0.96551859906647497},{"$f":"AVERAGE(INDIRECT(N36):INDIRECT(N38))","v":0.93450241719690852},{"$f":"AVERAGE(INDIRECT(O36):INDIRECT(O38))","v":0.97919212223963203},{"$f":"AVERAGE(INDIRECT(P36):INDIRECT(P38))","v":1.052136640549141},{"$f":"AVERAGE(INDIRECT(Q36):INDIRECT(Q38))","v":0.98842864828142218},{"$f":"AVERAGE(INDIRECT(R36):INDIRECT(R38))","v":1.0304133578483232},{"$f":"AVERAGE(INDIRECT(S36):INDIRECT(S38))","v":{"$error":"#DIV/0!"}},null,{"$f":"AVERAGE(INDIRECT(U36):INDIRECT(U38))","v":1.0109794797282512},{"$f":"AVERAGE(INDIRECT(V36):INDIRECT(V38))","v":{"$error":"#DIV/0!"}},{"$f":"AVERAGE(INDIRECT(W36):INDIRECT(W38))","v":0.97377213291713749},{"$f":"AVERAGE(INDIRECT(X36):INDIRECT(X38))","v":0.97940556935958056},{"$f":"AVERAGE(INDIRECT(Y36):INDIRECT(Y38))","v":0.97135612567473717},{"$f":"AVERAGE(INDIRECT(Z36):INDIRECT(Z38))","v":{"$error":"#DIV/0!"}},{"$f":"AVERAGE(INDIRECT(AA36):INDIRECT(AA38))","v":0.93456016167438527},{"$f":"AVERAGE(INDIRECT(AB36):INDIRECT(AB38))","v":{"$error":"#DIV/0!"}},{"$f":"AVERAGE(INDIRECT(AC36):INDIRECT(AC38))","v":1.0110188471130688},{"$f":"AVERAGE(INDIRECT(AD36):INDIRECT(AD38))","v":0.93577739577362995},{"$f":"AVERAGE(INDIRECT(AE36):INDIRECT(AE38))","v":0.99566456323030383},{"$f":"AVERAGE(INDIRECT(AF36):INDIRECT(AF38))","v":0.96551859906647497},{"$f":"AVERAGE(INDIRECT(AG36):INDIRECT(AG38))","v":0.93450241719690852},{"$f":"AVERAGE(INDIRECT(AH36):INDIRECT(AH38))","v":0.97919212223963203},{"$f":"AVERAGE(INDIRECT(AI36):INDIRECT(AI38))","v":1.052136640549141},{"$f":"AVERAGE(INDIRECT(AJ36):INDIRECT(AJ38))","v":0.98842864828142218},{"$f":"AVERAGE(INDIRECT(AK36):INDIRECT(AK38))","v":1.0304133578483232},{"$f":"AVERAGE(INDIRECT(AL36):INDIRECT(AL38))","v":{"$error":"#DIV/0!"}},null,{"$f":"AVERAGE(INDIRECT(AN36):INDIRECT(AN38))","v":1.0173721790146704},{"$f":"AVERAGE(INDIRECT(AO36):INDIRECT(AO38))","v":{"$error":"#DIV/0!"}},{"$f":"AVERAGE(INDIRECT(AP36):INDIRECT(AP38))","v":1.0117143008220475},{"$f":"AVERAGE(INDIRECT(AQ36):INDIRECT(AQ38))","v":1.0114720072092498},{"$f":"AVERAGE(INDIRECT(AR36):INDIRECT(AR38))","v":1.0540532499075794},{"$f":"AVERAGE(INDIRECT(AS36):INDIRECT(AS38))","v":{"$error":"#DIV/0!"}},{"$f":"AVERAGE(INDIRECT(AT36):INDIRECT(AT38))","v":0.97025005811021237},{"$f":"AVERAGE(INDIRECT(AU36):INDIRECT(AU38))","v":{"$error":"#DIV/0!"}},{"$f":"AVERAGE(INDIRECT(AV36):INDIRECT(AV38))","v":{"$error":"#DIV/0!"}},{"$f":"AVERAGE(INDIRECT(AW36):INDIRECT(AW38))","v":0.98415769638215855},{"$f":"AVERAGE(INDIRECT(AX36):INDIRECT(AX38))","v":1.0069111461040134},{"$f":"AVERAGE(INDIRECT(AY36):INDIRECT(AY38))","v":{"$error":"#DIV/0!"}},{"$f":"AVERAGE(INDIRECT(AZ36):INDIRECT(AZ38))","v":1.0062287907626593},{"$f":"AVERAGE(INDIRECT(BA36):INDIRECT(BA38))","v":{"$error":"#DIV/0!"}},{"$f":"AVERAGE(INDIRECT(BB36):INDIRECT(BB38))","v":1.0745406498728847},{"$f":"AVERAGE(INDIRECT(BC36):INDIRECT(BC38))","v":{"$error":"#DIV/0!"}},{"$f":"AVERAGE(INDIRECT(BD36):INDIRECT(BD38))","v":{"$error":"#DIV/0!"}},{"$f":"AVERAGE(INDIRECT(BE36):INDIRECT(BE38))","v":{"$error":"#DIV/0!"}},null,{"$f":"AVERAGE(INDIRECT(BG36):INDIRECT(BG38))","v":1.0173721790146704},{"$f":"AVERAGE(INDIRECT(BH36):INDIRECT(BH38))","v":{"$error":"#DIV/0!"}},{"$f":"AVERAGE(INDIRECT(BI36):INDIRECT(BI38))","v":1.0117143008220475},{"$f":"AVERAGE(INDIRECT(BJ36):INDIRECT(BJ38))","v":1.0114720072092498},{"$f":"AVERAGE(INDIRECT(BK36):INDIRECT(BK38))","v":1.0540532499075794},{"$f":"AVERAGE(INDIRECT(BL36):INDIRECT(BL38))","v":{"$error":"#DIV/0!"}},{"$f":"AVERAGE(INDIRECT(BM36):INDIRECT(BM38))","v":0.97025005811021237},{"$f":"AVERAGE(INDIRECT(BN36):INDIRECT(BN38))","v":{"$error":"#DIV/0!"}},{"$f":"AVERAGE(INDIRECT(BO36):INDIRECT(BO38))","v":{"$error":"#DIV/0!"}},{"$f":"AVERAGE(INDIRECT(BP36):INDIRECT(BP38))","v":0.98415769638215855},{"$f":"AVERAGE(INDIRECT(BQ36):INDIRECT(BQ38))","v":1.0069111461040134},{"$f":"AVERAGE(INDIRECT(BR36):INDIRECT(BR38))","v":{"$error":"#DIV/0!"}},{"$f":"AVERAGE(INDIRECT(BS36):INDIRECT(BS38))","v":1.0062287907626593},{"$f":"AVERAGE(INDIRECT(BT36):INDIRECT(BT38))","v":{"$error":"#DIV/0!"}},{"$f":"AVERAGE(INDIRECT(BU36):INDIRECT(BU38))","v":1.0745406498728847},{"$f":"AVERAGE(INDIRECT(BV36):INDIRECT(BV38))","v":{"$error":"#DIV/0!"}},{"$f":"AVERAGE(INDIRECT(BW36):INDIRECT(BW38))","v":{"$error":"#DIV/0!"}},{"$f":"AVERAGE(INDIRECT(BX36):INDIRECT(BX38))","v":{"$error":"#DIV/0!"}},null,{"$f":"AVERAGE(INDIRECT(BZ36):INDIRECT(BZ38))","v":1.0000337473853533},{"$f":"AVERAGE(INDIRECT(CA36):INDIRECT(CA38))","v":{"$error":"#DIV/0!"}},{"$f":"AVERAGE(INDIRECT(CB36):INDIRECT(CB38))","v":0.97399311759688278},{"$f":"AVERAGE(INDIRECT(CC36):INDIRECT(CC38))","v":0.95831377600279488},{"$f":"AVERAGE(INDIRECT(CD36):INDIRECT(CD38))","v":0.98010678228613912},{"$f":"AVERAGE(INDIRECT(CE36):INDIRECT(CE38))","v":0.96775311458955471},{"$f":"AVERAGE(INDIRECT(CF36):INDIRECT(CF38))","v":0.93358765637943997},{"$f":"AVERAGE(INDIRECT(CG36):INDIRECT(CG38))","v":0.9907212487429321},{"$f":"AVERAGE(INDIRECT(CH36):INDIRECT(CH38))","v":1.0094236573513025},{"$f":"AVERAGE(INDIRECT(CI36):INDIRECT(CI38))","v":0.93114015500056679},{"$f":"AVERAGE(INDIRECT(CJ36):INDIRECT(CJ38))","v":0.99350069480182579},{"$f":"AVERAGE(INDIRECT(CK36):INDIRECT(CK38))","v":0.97434839559195319},{"$f":"AVERAGE(INDIRECT(CL36):INDIRECT(CL38))","v":0.93803971324342483},{"$f":"AVERAGE(INDIRECT(CM36):INDIRECT(CM38))","v":0.97982924736639609},{"$f":"AVERAGE(INDIRECT(CN36):INDIRECT(CN38))","v":1.0530827239343403},{"$f":"AVERAGE(INDIRECT(CO36):INDIRECT(CO38))","v":0.98254402926412732},{"$f":"AVERAGE(INDIRECT(CP36):INDIRECT(CP38))","v":1.0308112390089488},{"$f":"AVERAGE(INDIRECT(CQ36):INDIRECT(CQ38))","v":{"$error":"#DIV/0!"}},null,{"$f":"AVERAGE(INDIRECT(CS36):INDIRECT(CS38))","v":1.0000337473853533},{"$f":"AVERAGE(INDIRECT(CT36):INDIRECT(CT38))","v":{"$error":"#DIV/0!"}},{"$f":"AVERAGE(INDIRECT(CU36):INDIRECT(CU38))","v":0.97399311759688278},{"$f":"AVERAGE(INDIRECT(CV36):INDIRECT(CV38))","v":0.95831377600279488},{"$f":"AVERAGE(INDIRECT(CW36):INDIRECT(CW38))","v":0.98010678228613912},{"$f":"AVERAGE(INDIRECT(CX36):INDIRECT(CX38))","v":{"$error":"#DIV/0!"}},{"$f":"AVERAGE(INDIRECT(CY36):INDIRECT(CY38))","v":0.93358765637943997},{"$f":"AVERAGE(INDIRECT(CZ36):INDIRECT(CZ38))","v":0.9907212487429321},{"$f":"AVERAGE(INDIRECT(DA36):INDIRECT(DA38))","v":1.0094236573513025},{"$f":"AVERAGE(INDIRECT(DB36):INDIRECT(DB38))","v":0.93114015500056679},{"$f":"AVERAGE(INDIRECT(DC36):INDIRECT(DC38))","v":0.99350069480182579},{"$f":"AVERAGE(INDIRECT(DD36):INDIRECT(DD38))","v":0.97434839559195319},{"$f":"AVERAGE(INDIRECT(DE36):INDIRECT(DE38))","v":0.93803971324342483},{"$f":"AVERAGE(INDIRECT(DF36):INDIRECT(DF38))","v":0.97982924736639609},{"$f":"AVERAGE(INDIRECT(DG36):INDIRECT(DG38))","v":1.0530827239343403},{"$f":"AVERAGE(INDIRECT(DH36):INDIRECT(DH38))","v":0.98254402926412732},{"$f":"AVERAGE(INDIRECT(DI36):INDIRECT(DI38))","v":1.0308112390089488},{"$f":"AVERAGE(INDIRECT(DJ36):INDIRECT(DJ38))","v":{"$error":"#DIV/0!"}}]
["Geomittel",{"$f":"GEOMEAN(INDIRECT(B36):INDIRECT(B38))","v":1.0099107634961357},{"$f":"GEOMEAN(INDIRECT(C36):INDIRECT(C38))","v":{"$error":"#DIV/0!"}},{"$f":"GEOMEAN(INDIRECT(D36):INDIRECT(D38))","v":0.97316840063775889},{"$f":"GEOMEAN(INDIRECT(E36):INDIRECT(E38))","v":0.97478789839520075},{"$f":"GEOMEAN(INDIRECT(F36):INDIRECT(F38))","v":0.94827827891789274},{"$f":"GEOMEAN(INDIRECT(G36):INDIRECT(G38))","v":{"$error":"#DIV/0!"}},{"$f":"GEOMEAN(INDIRECT(H36):INDIRECT(H38))","v":0.93294375590959444},{"$f":"GEOMEAN(INDIRECT(I36):INDIRECT(I38))","v":{"$error":"#DIV/0!"}},{"$f":"GEOMEAN(INDIRECT(J36):INDIRECT(J38))","v":1.0087592379055934},{"$f":"GEOMEAN(INDIRECT(K36):INDIRECT(K38))","v":0.93380312858883729},{"$f":"GEOMEAN(INDIRECT(L36):INDIRECT(L38))","v":0.99453129142936458},{"$f":"GEOMEAN(INDIRECT(M36):INDIRECT(M38))","v":0.96442093747810942},{"$f":"GEOMEAN(INDIRECT(N36):INDIRECT(N38))","v":0.93367119751004624},{"$f":"GEOMEAN(INDIRECT(O36):INDIRECT(O38))","v":0.97867238695505543},{"$f":"GEOMEAN(INDIRECT(P36):INDIRECT(P38))","v":1.0313236577203602},{"$f":"GEOMEAN(INDIRECT(Q36):INDIRECT(Q38))","v":0.98752869111179997},{"$f":"GEOMEAN(INDIRECT(R36):INDIRECT(R38))","v":1.0298737012173367},{"$f":"GEOMEAN(INDIRECT(S36):INDIRECT(S38))","v":{"$error":"#DIV/0!"}},null,{"$f":"GEOMEAN(INDIRECT(U36):INDIRECT(U38))","v":1.0099107634961357},{"$f":"GEOMEAN(INDIRECT(V36):INDIRECT(V38))","v":{"$error":"#NUM!"}},{"$f":"GEOMEAN(INDIRECT(W36):INDIRECT(W38))","v":0.97316840063775889},{"$f":"GEOMEAN(INDIRECT(X36):INDIRECT(X38))","v":0.97478789839520075},{"$f":"GEOMEAN(INDIRECT(Y36):INDIRECT(Y38))","v":0.94827827891789274},{"$f":"GEOMEAN(INDIRECT(Z36):INDIRECT(Z38))","v":{"$error":"#NUM!"}},{"$f":"GEOMEAN(INDIRECT(AA36):INDIRECT(AA38))","v":0.93294375590959444},{"$f":"GEOMEAN(INDIRECT(AB36):INDIRECT(AB38))","v":{"$error":"#DIV/0!"}},{"$f":"GEOMEAN(INDIRECT(AC36):INDIRECT(AC38))","v":1.0087592379055934},{"$f":"GEOMEAN(INDIRECT(AD36):INDIRECT(AD38))","v":0.93380312858883729},{"$f":"GEOMEAN(INDIRECT(AE36):INDIRECT(AE38))","v":0.99453129142936458},{"$f":"GEOMEAN(INDIRECT(AF36):INDIRECT(AF38))","v":0.96442093747810942},{"$f":"GEOMEAN(INDIRECT(AG36):INDIRECT(AG38))","v":0.93367119751004624},{"$f":"GEOMEAN(INDIRECT(AH36):INDIRECT(AH38))","v":0.97867238695505543},{"$f":"GEOMEAN(INDIRECT(AI36):INDIRECT(AI38))","v":1.0313236577203602},{"$f":"GEOMEAN(INDIRECT(AJ36):INDIRECT(AJ38))","v":0.98752869111179997},{"$f":"GEOMEAN(INDIRECT(AK36):INDIRECT(AK38))","v":1.0298737012173367},{"$f":"GEOMEAN(INDIRECT(AL36):INDIRECT(AL38))","v":{"$error":"#NUM!"}},null,{"$f":"GEOMEAN(INDIRECT(AN36):INDIRECT(AN38))","v":1.0171278523941543},{"$f":"GEOMEAN(INDIRECT(AO36):INDIRECT(AO38))","v":{"$error":"#DIV/0!"}},{"$f":"GEOMEAN(INDIRECT(AP36):INDIRECT(AP38))","v":1.0109134130078035},{"$f":"GEOMEAN(INDIRECT(AQ36):INDIRECT(AQ38))","v":1.0084969438130542},{"$f":"GEOMEAN(INDIRECT(AR36):INDIRECT(AR38))","v":1.051140221172038},{"$f":"GEOMEAN(INDIRECT(AS36):INDIRECT(AS38))","v":{"$error":"#DIV/0!"}},{"$f":"GEOMEAN(INDIRECT(AT36):INDIRECT(AT38))","v":0.9693121549719218},{"$f":"GEOMEAN(INDIRECT(AU36):INDIRECT(AU38))","v":{"$error":"#DIV/0!"}},{"$f":"GEOMEAN(INDIRECT(AV36):INDIRECT(AV38))","v":{"$error":"#DIV/0!"}},{"$f":"GEOMEAN(INDIRECT(AW36):INDIRECT(AW38))","v":0.98153952726047211},{"$f":"GEOMEAN(INDIRECT(AX36):INDIRECT(AX38))","v":1.0060305791869628},{"$f":"GEOMEAN(INDIRECT(AY36):INDIRECT(AY38))","v":{"$error":"#DIV/0!"}},{"$f":"GEOMEAN(INDIRECT(AZ36):INDIRECT(AZ38))","v":1.0051823138346245},{"$f":"GEOMEAN(INDIRECT(BA36):INDIRECT(BA38))","v":{"$error":"#DIV/0!"}},{"$f":"GEOMEAN(INDIRECT(BB36):INDIRECT(BB38))","v":1.0635685033857341},{"$f":"GEOMEAN(INDIRECT(BC36):INDIRECT(BC38))","v":{"$error":"#DIV/0!"}},{"$f":"GEOMEAN(INDIRECT(BD36):INDIRECT(BD38))","v":{"$error":"#DIV/0!"}},{"$f":"GEOMEAN(INDIRECT(BE36):INDIRECT(BE38))","v":{"$error":"#DIV/0!"}},null,{"$f":"GEOMEAN(INDIRECT(BG36):INDIRECT(BG38))","v":1.0171278523941543},{"$f":"GEOMEAN(INDIRECT(BH36):INDIRECT(BH38))","v":{"$error":"#NUM!"}},{"$f":"GEOMEAN(INDIRECT(BI36):INDIRECT(BI38))","v":1.0109134130078035},{"$f":"GEOMEAN(INDIRECT(BJ36):INDIRECT(BJ38))","v":1.0084969438130542},{"$f":"GEOMEAN(INDIRECT(BK36):INDIRECT(BK38))","v":1.051140221172038},{"$f":"GEOMEAN(INDIRECT(BL36):INDIRECT(BL38))","v":{"$error":"#NUM!"}},{"$f":"GEOMEAN(INDIRECT(BM36):INDIRECT(BM38))","v":0.9693121549719218},{"$f":"GEOMEAN(INDIRECT(BN36):INDIRECT(BN38))","v":{"$error":"#DIV/0!"}},{"$f":"GEOMEAN(INDIRECT(BO36):INDIRECT(BO38))","v":{"$error":"#DIV/0!"}},{"$f":"GEOMEAN(INDIRECT(BP36):INDIRECT(BP38))","v":0.98153952726047211},{"$f":"GEOMEAN(INDIRECT(BQ36):INDIRECT(BQ38))","v":1.0060305791869628},{"$f":"GEOMEAN(INDIRECT(BR36):INDIRECT(BR38))","v":{"$error":"#DIV/0!"}},{"$f":"GEOMEAN(INDIRECT(BS36):INDIRECT(BS38))","v":1.0051823138346245},{"$f":"GEOMEAN(INDIRECT(BT36):INDIRECT(BT38))","v":{"$error":"#DIV/0!"}},{"$f":"GEOMEAN(INDIRECT(BU36):INDIRECT(BU38))","v":1.0635685033857341},{"$f":"GEOMEAN(INDIRECT(BV36):INDIRECT(BV38))","v":{"$error":"#DIV/0!"}},{"$f":"GEOMEAN(INDIRECT(BW36):INDIRECT(BW38))","v":{"$error":"#DIV/0!"}},{"$f":"GEOMEAN(INDIRECT(BX36):INDIRECT(BX38))","v":{"$error":"#NUM!"}},null,{"$f":"GEOMEAN(INDIRECT(BZ36):INDIRECT(BZ38))","v":0.99954917023767853},{"$f":"GEOMEAN(INDIRECT(CA36):INDIRECT(CA38))","v":{"$error":"#DIV/0!"}},{"$f":"GEOMEAN(INDIRECT(CB36):INDIRECT(CB38))","v":0.97346423256652626},{"$f":"GEOMEAN(INDIRECT(CC36):INDIRECT(CC38))","v":0.9524768819276922},{"$f":"GEOMEAN(INDIRECT(CD36):INDIRECT(CD38))","v":0.97762659818752362},{"$f":"GEOMEAN(INDIRECT(CE36):INDIRECT(CE38))","v":0.96740995111859485},{"$f":"GEOMEAN(INDIRECT(CF36):INDIRECT(CF38))","v":0.93271046485740983},{"$f":"GEOMEAN(INDIRECT(CG36):INDIRECT(CG38))","v":0.98893432690177507},{"$f":"GEOMEAN(INDIRECT(CH36):INDIRECT(CH38))","v":1.0073731918158562},{"$f":"GEOMEAN(INDIRECT(CI36):INDIRECT(CI38))","v":0.92919311753981815},{"$f":"GEOMEAN(INDIRECT(CJ36):INDIRECT(CJ38))","v":0.99216044351922916},{"$f":"GEOMEAN(INDIRECT(CK36):INDIRECT(CK38))","v":0.97368509755826615},{"$f":"GEOMEAN(INDIRECT(CL36):INDIRECT(CL38))","v":0.93618733047653846},{"$f":"GEOMEAN(INDIRECT(CM36):INDIRECT(CM38))","v":0.97890687247295027},{"$f":"GEOMEAN(INDIRECT(CN36):INDIRECT(CN38))","v":1.0326809215029247},{"$f":"GEOMEAN(INDIRECT(CO36):INDIRECT(CO38))","v":0.9816767691545869},{"$f":"GEOMEAN(INDIRECT(CP36):INDIRECT(CP38))","v":1.0303770814736279},{"$f":"GEOMEAN(INDIRECT(CQ36):INDIRECT(CQ38))","v":{"$error":"#DIV/0!"}},null,{"$f":"GEOMEAN(INDIRECT(CS36):INDIRECT(CS38))","v":0.99954917023767853},{"$f":"GEOMEAN(INDIRECT(CT36):INDIRECT(CT38))","v":{"$error":"#NUM!"}},{"$f":"GEOMEAN(INDIRECT(CU36):INDIRECT(CU38))","v":0.97346423256652626},{"$f":"GEOMEAN(INDIRECT(CV36):INDIRECT(CV38))","v":0.9524768819276922},{"$f":"GEOMEAN(INDIRECT(CW36):INDIRECT(CW38))","v":0.97762659818752362},{"$f":"GEOMEAN(INDIRECT(CX36):INDIRECT(CX38))","v":{"$error":"#NUM!"}},{"$f":"GEOMEAN(INDIRECT(CY36):INDIRECT(CY38))","v":0.93271046485740983},{"$f":"GEOMEAN(INDIRECT(CZ36):INDIRECT(CZ38))","v":0.98893432690177507},{"$f":"GEOMEAN(INDIRECT(DA36):INDIRECT(DA38))","v":1.0073731918158562},{"$f":"GEOMEAN(INDIRECT(DB36):INDIRECT(DB38))","v":0.92919311753981815},{"$f":"GEOMEAN(INDIRECT(DC36):INDIRECT(DC38))","v":0.99216044351922916},{"$f":"GEOMEAN(INDIRECT(DD36):INDIRECT(DD38))","v":0.97368509755826615},{"$f":"GEOMEAN(INDIRECT(DE36):INDIRECT(DE38))","v":0.93618733047653846},{"$f":"GEOMEAN(INDIRECT(DF36):INDIRECT(DF38))","v":0.97890687247295027},{"$f":"GEOMEAN(INDIRECT(DG36):INDIRECT(DG38))","v":1.0326809215029247},{"$f":"GEOMEAN(INDIRECT(DH36):INDIRECT(DH38))","v":0.9816767691545869},{"$f":"GEOMEAN(INDIRECT(DI36):INDIRECT(DI38))","v":1.0303770814736279},{"$f":"GEOMEAN(INDIRECT(DJ36):INDIRECT(DJ38))","v":{"$error":"#NUM!"}}]
[]
["Arithmet. Mittel",{"$f":"B30-1","v":1.0979479728251196E-2},{"$f":"C30-1","v":{"$error":"#DIV/0!"}},-2.622786708286251E-2,-2.0594430640419437E-2,-2.864387432526283E-2,{"$f":"G30-1","v":{"$error":"#DIV/0!"}},-6.543983832561473E-2,{"$f":"I30-1","v":{"$error":"#DIV/0!"}},1.1018847113068775E-2,-6.422260422637005E-2,-4.335436769696166E-3,-3.448140093352503E-2,-6.5497582803091481E-2,-2.0807877760367965E-2,5.2136640549141022E-2,-1.1571351718577816E-2,3.0413357848323219E-2,{"$f":"S30-1","v":{"$error":"#DIV/0!"}},null,{"$f":"U30-1","v":1.0979479728251196E-2},{"$f":"V30-1","v":{"$error":"#DIV/0!"}},-2.622786708286251E-2,-2.0594430640419437E-2,-2.864387432526283E-2,{"$error":"#DIV/0!"},-6.543983832561473E-2,{"$error":"#DIV/0!"},1.1018847113068775E-2,-6.422260422637005E-2,-4.335436769696166E-3,-3.448140093352503E-2,-6.5497582803091481E-2,-2.0807877760367965E-2,5.2136640549141022E-2,-1.1571351718577816E-2,3.0413357848323219E-2,{"$error":"#DIV/0!"},null,{"$f":"AN30-1","v":1.7372179014670364E-2},{"$f":"AO30-1","v":{"$error":"#DIV/0!"}},1.1714300822047496E-2,1.147200720924979E-2,5.4053249907579426E-2,{"$error":"#DIV/0!"},-2.9749941889787634E-2,{"$error":"#DIV/0!"},{"$error":"#DIV/0!"},-1.5842303617841447E-2,6.9111461040134436E-3,{"$error":"#DIV/0!"},6.2287907626592531E-3,{"$error":"#DIV/0!"},7.4540649872884668E-2,{"$error":"#DIV/0!"},{"$error":"#DIV/0!"},{"$error":"#DIV/0!"},null,{"$f":"BG30-1","v":1.7372179014670364E-2},{"$error":"#DIV/0!"},1.1714300822047496E-2,1.147200720924979E-2,5.4053249907579426E-2,{"$error":"#DIV/0!"},-2.9749941889787634E-2,{"$error":"#DIV/0!"},{"$error":"#DIV/0!"},-1.5842303617841447E-2,6.9111461040134436E-3,{"$error":"#DIV/0!"},6.2287907626592531E-3,{"$error":"#DIV/0!"},7.4540649872884668E-2,{"$error":"#DIV/0!"},{"$error":"#DIV/0!"},{"$error":"#DIV/0!"},null,{"$f":"BZ30-1","v":3.3747385353333215E-5},{"$error":"#DIV/0!"},-2.6006882403117215E-2,-4.1686223997205119E-2,-1.9893217713860878E-2,-3.2246885410445292E-2,-6.6412343620560033E-2,-9.2787512570678965E-3,9.4236573513024613E-3,-6.8859844999433206E-2,-6.49930519817421E-3,-2.5651604408046813E-2,-6.1960286756575167E-2,-2.0170752633603906E-2,5.3082723934340326E-2,-1.7455970735872683E-2,3.0811239008948776E-2,{"$error":"#DIV/0!"},null,{"$f":"CS30-1","v":3.3747385353333215E-5},{"$error":"#DIV/0!"},-2.6006882403117215E-2,-4.1686223997205119E-2,-1.9893217713860878E-2,{"$error":"#DIV/0!"},-6.6412343620560033E-2,-9.2787512570678965E-3,9.4236573513024613E-3,-6.8859844999433206E-2,-6.49930519817421E-3,-2.5651604408046813E-2,-6.1960286756575167E-2,-2.0170752633603906E-2,5.3082723934340326E-2,-1.7455970735872683E-2,3.0811239008948776E-2,{"$error":"#DIV/0!"}]
["Geomittel",{"$f":"B31-1","v":9.9107634961357327E-3},{"$f":"C31-1","v":{"$error":"#DIV/0!"}},-2.683159936224111E-2,-2.5212101604799253E-2,-5.1721721082107264E-2,{"$f":"G31-1","v":{"$error":"#DIV/0!"}},-6.7056244090405559E-2,{"$f":"I31-1","v":{"$error":"#DIV/0!"}},8.7592379055934089E-3,-6.6196871411162705E-2,-5.4687085706354166E-3,-3.5579062521890581E-2,-6.6328802489953764E-2,-2.1327613044944571E-2,3.1323657720360165E-2,-1.2471308888200028E-2,2.9873701217336679E-2,{"$f":"S31-1","v":{"$error":"#DIV/0!"}},null,{"$f":"U31-1","v":9.9107634961357327E-3},{"$f":"V31-1","v":{"$error":"#NUM!"}},-2.683159936224111E-2,-2.5212101604799253E-2,-5.1721721082107264E-2,{"$error":"#NUM!"},-6.7056244090405559E-2,{"$error":"#DIV/0!"},8.7592379055934089E-3,-6.6196871411162705E-2,-5.4687085706354166E-3,-3.5579062521890581E-2,-6.6328802489953764E-2,-2.1327613044944571E-2,3.1323657720360165E-2,-1.2471308888200028E-2,2.9873701217336679E-2,{"$error":"#NUM!"},null,{"$f":"AN31-1","v":1.7127852394154264E-2},{"$f":"AO31-1","v":{"$error":"#DIV/0!"}},1.0913413007803463E-2,8.4969438130542141E-3,5.1140221172037981E-2,{"$error":"#DIV/0!"},-3.0687845028078198E-2,{"$error":"#DIV/0!"},{"$error":"#DIV/0!"},-1.8460472739527889E-2,6.0305791869628145E-3,{"$error":"#DIV/0!"},5.1823138346245301E-3,{"$error":"#DIV/0!"},6.3568503385734054E-2,{"$error":"#DIV/0!"},{"$error":"#DIV/0!"},{"$error":"#DIV/0!"},null,{"$f":"BG31-1","v":1.7127852394154264E-2},{"$error":"#NUM!"},1.0913413007803463E-2,8.4969438130542141E-3,5.1140221172037981E-2,{"$error":"#NUM!"},-3.0687845028078198E-2,{"$error":"#DIV/0!"},{"$error":"#DIV/0!"},-1.8460472739527889E-2,6.0305791869628145E-3,{"$error":"#DIV/0!"},5.1823138346245301E-3,{"$error":"#DIV/0!"},6.3568503385734054E-2,{"$error":"#DIV/0!"},{"$error":"#DIV/0!"},{"$error":"#NUM!"},null,{"$f":"BZ31-1","v":-4.5082976232146965E-4},{"$error":"#DIV/0!"},-2.6535767433473745E-2,-4.7523118072307802E-2,-2.2373401812476379E-2,-3.2590048881405154E-2,-6.7289535142590173E-2,-1.1065673098224926E-2,7.3731918158561616E-3,-7.0806882460181853E-2,-7.8395564807708373E-3,-2.6314902441733845E-2,-6.381266952346154E-2,-2.1093127527049726E-2,3.2680921502924676E-2,-1.8323230845413097E-2,3.0377081473627943E-2,{"$error":"#DIV/0!"},null,{"$f":"CS31-1","v":-4.5082976232146965E-4},{"$error":"#NUM!"},-2.6535767433473745E-2,-4.7523118072307802E-2,-2.2373401812476379E-2,{"$error":"#NUM!"},-6.7289535142590173E-2,-1.1065673098224926E-2,7.3731918158561616E-3,-7.0806882460181853E-2,-7.8395564807708373E-3,-2.6314902441733845E-2,-6.381266952346154E-2,-2.1093127527049726E-2,3.2680921502924676E-2,-1.8323230845413097E-2,3.0377081473627943E-2,{"$error":"#NUM!"}]
[]
["Zelle Beginn",{"$f":"CONCATENATE(B2,$B$37)","v":"B22"},{"$f":"CONCATENATE(C2,$B$37)","v":"C22"},"D22","E22","F22","G22","H22","I22","J22","K22","L22","M22","N22","O22","P22","Q22","R22","S22",{"$f":"CONCATENATE(T2,$B$37)","v":"T22"},"U22","V22","W22","X22","Y22","Z22","AA22","AB22","AC22","AD22","AE22","AF22","AG22","AH22","AI22","AJ22","AK22","AL22","AM22","AN22","AO22","AP22","AQ22","AR22","AS22","AT22","AU22","AV22","AW22","AX22","AY22","AZ22","BA22","BB22","BC22","BD22","BE22","BF22","BG22","BH22","BI22","BJ22","BK22","BL22","BM22","BN22","BO22","BP22","BQ22","BR22","BS22","BT22","BU22","BV22","BW22","BX22","BY22","BZ22","CA22","CB22","CC22","CD22","CE22",{"$f":"CONCATENATE(CF2,$B$37)","v":"CF22"},"CG22","CH22","CI22","CJ22","CK22","CL22","CM22","CN22","CO22","CP22","CQ22","CR22","CS22","CT22","CU22","CV22","CW22","CX22","CY22","CZ22","DA22","DB22","DC22","DD22","DE22","DF22","DG22","DH22","DI22","DJ22","DK22","DL22","DM22","DN22","DO22","DP22","DQ22","DR22","DS22","DT22","DU22","DV22","DW22","DX22","DY22","DZ22","EA22","EB22","EC22","ED22","EE22","EF22","EG22","EH22","EI22","EJ22","EK22","EL22","EM22","EN22","EO22","EP22","EQ22",{"$f":"CONCATENATE(ER2,$B$37)","v":"ER22"},"ES22","ET22","EU22","EV22","EW22","EX22","EY22","EZ22","FA22","FB22","FC22","FD22","FE22","FF22","FG22","FH22","FI22","FJ22","FK22","FL22","FM22","FN22","FO22","FP22","FQ22","FR22","FS22","FT22","FU22","FV22","FW22","FX22","FY22","FZ22","GA22","GB22","GC22"]
[null,{"$f":"ROW(INDEX(A7:A28,MATCH(IN_OUT!C27,A7:A28)))","v":22}]
["Zelle Ende",{"$f":"CONCATENATE(B2,$B$39)","v":"B28"},{"$f":"CONCATENATE(C2,$B$39)","v":"C28"},"D28","E28","F28","G28","H28","I28","J28","K28","L28","M28","N28","O28","P28","Q28","R28","S28","T28","U28","V28","W28","X28","Y28","Z28","AA28","AB28","AC28","AD28","AE28","AF28","AG28","AH28","AI28","AJ28","AK28","AL28","AM28","AN28","AO28","AP28","AQ28","AR28","AS28","AT28","AU28","AV28","AW28","AX28","AY28","AZ28","BA28","BB28","BC28","BD28","BE28","BF28","BG28","BH28","BI28","BJ28","BK28","BL28","BM28","BN28",{"$f":"CONCATENATE(BO2,$B$39)","v":"BO28"},"BP28","BQ28","BR28","BS28","BT28","BU28","BV28","BW28","BX28","BY28","BZ28","CA28","CB28","CC28","CD28","CE28","CF28","CG28","CH28","CI28","CJ28","CK28","CL28","CM28","CN28","CO28","CP28","CQ28","CR28","CS28","CT28","CU28","CV28","CW28","CX28","CY28","CZ28","DA28","DB28","DC28","DD28","DE28","DF28","DG28","DH28","DI28","DJ28","DK28","DL28","DM28","DN28","DO28","DP28","DQ28","DR28","DS28","DT28","DU28","DV28","DW28","DX28","DY28","DZ28",{"$f":"CONCATENATE(EA2,$B$39)","v":"EA28"},"EB28","EC28","ED28","EE28","EF28","EG28","EH28","EI28","EJ28","EK28","EL28","EM28","EN28","EO28","EP28","EQ28","ER28","ES28","ET28","EU28","EV28","EW28","EX28","EY28","EZ28","FA28","FB28","FC28","FD28","FE28","FF28","FG28","FH28","FI28","FJ28","FK28","FL28","FM28","FN28","FO28","FP28","FQ28","FR28","FS28","FT28","FU28","FV28","FW28","FX28","FY28","FZ28","GA28","GB28","GC28"]
[null,{"$f":"ROW(INDEX(A7:A28,MATCH(IN_OUT!C28,A7:A28)))","v":28}]
[null,null,null,null,null,null,{"$f":"AVERAGE(G7:G28)","v":{"$error":"#DIV/0!"}},null,{"$f":"AVERAGE(I7:I28)","v":{"$error":"#DIV/0!"}},null,null,null,null,null,null,null,null,null,{"$error":"#DIV/0!"}]

{"sheet":"NR_Veränderung","index":4,"n_rows":105,"n_cols":24,"rows_kept":105,"cut":false,"hidden":false,"merged":[]}
[null,null,null,null,null,null,"Index: 2010 = 100"]
["BWS (preisbereinigt)/Erwerbstätige"]
[null,1995,{"$f":"B3+1","v":1996},{"$f":"C3+1","v":1997},1998,1999,2000,2001,2002,2003,2004,2005,2006,2007,2008,2009,2010,2011,2012,2013,2014,2015,2016,2017]
["Österreich",null,{"$f":"IF(NR_Indices!C4/NR_Indices!B4=0,\"\",NR_Indices!C4/NR_Indices!B4)","v":1.2011791475322364},{"$f":"IF(NR_Indices!D4/NR_Indices!C4=0,\"\",NR_Indices!D4/NR_Indices!C4)","v":0.96330853236944103},{"$f":"IF(NR_Indices!E4/NR_Indices!D4=0,\"\",NR_Indices!E4/NR_Indices!D4)","v":1.1298301613835042},{"$f":"IF(NR_Indices!F4/NR_Indices!E4=0,\"\",NR_Indices!F4/NR_Indices!E4)","v":1.1117954979024047},{"$f":"IF(NR_Indices!G4/NR_Indices!F4=0,\"\",NR_Indices!G4/NR_Indices!F4)","v":1.0038511858397863},{"$f":"IF(NR_Indices!H4/NR_Indices!G4=0,\"\",NR_Indices!H4/NR_Indices!G4)","v":1.0095099766341673},{"$f":"IF(NR_Indices!I4/NR_Indices!H4=0,\"\",NR_Indices!I4/NR_Indices!H4)","v":1.0160799412783521},{"$f":"IF(NR_Indices!J4/NR_Indices!I4=0,\"\",NR_Indices!J4/NR_Indices!I4)","v":1.0868884372253498},{"$f":"IF(NR_Indices!K4/NR_Indices!J4=0,\"\",NR_Indices!K4/NR_Indices!J4)","v":1.0596899460833},{"$f":"IF(NR_Indices!L4/NR_Indices!K4=0,\"\",NR_Indices!L4/NR_Indices!K4)","v":1.2435410709940524},{"$f":"IF(NR_Indices!M4/NR_Indices!L4=0,\"\",NR_Indices!M4/NR_Indices!L4)","v":1.1080144431920216},{"$f":"IF(NR_Indices!N4/NR_Indices!M4=0,\"\",NR_Indices!N4/NR_Indices!M4)","v":1.066226391813285},{"$f":"IF(NR_Indices!O4/NR_Indices!N4=0,\"\",NR_Indices!O4/NR_Indices!N4)","v":1.0361251483039029},{"$f":"IF(NR_Indices!P4/NR_Indices!O4=0,\"\",NR_Indices!P4/NR_Indices!O4)","v":1.0237828822452593},{"$f":"IF(NR_Indices!Q4/NR_Indices!P4=0,\"\",NR_Indices!Q4/NR_Indices!P4)","v":1.0273579582986558},{"$f":"IF(NR_Indices!R4/NR_Indices!Q4=0,\"\",NR_Indices!R4/NR_Indices!Q4)","v":0.9816684681968646},{"$f":"IF(NR_Indices!S4/NR_Indices!R4=0,\"\",NR_Indices!S4/NR_Indices!R4)","v":0.99904987644304544},{"$f":"IF(NR_Indices!T4/NR_Indices!S4=0,\"\",NR_Indices!T4/NR_Indices!S4)","v":1.0303114847408035},{"$f":"IF(NR_Indices!U4/NR_Indices!T4=0,\"\",NR_Indices!U4/NR_Indices!T4)","v":1.0226708542999705},{"$f":"IF(NR_Indices!V4/NR_Indices!U4=0,\"\",NR_Indices!V4/NR_Indices!U4)","v":0.93609395281916397},{"$f":"IF(NR_Indices!W4/NR_Indices!V4=0,\"\",NR_Indices!W4/NR_Indices!V4)","v":1.0025418756189148},{"$f":"IF(NR_Indices!X4/NR_Indices!W4=0,\"\",NR_Indices!X4/NR_Indices!W4)","v":1.0278997195787114}]
["Belgien",null,{"$f":"IF(NR_Indices!C5/NR_Indices!B5=0,\"\",NR_Indices!C5/NR_Indices!B5)","v":1.0206469910574156},{"$f":"IF(NR_Indices!D5/NR_Indices!C5=0,\"\",NR_Indices!D5/NR_Indices!C5)","v":0.99231938802494979},{"$f":"IF(NR_Indices!E5/NR_Indices!D5=0,\"\",NR_Indices!E5/NR_Indices!D5)","v":1.0295002404189364},{"$f":"IF(NR_Indices!F5/NR_Indices!E5=0,\"\",NR_Indices!F5/NR_Indices!E5)","v":1.0008292222735311},{"$f":"IF(NR_Indices!G5/NR_Indices!F5=0,\"\",NR_Indices!G5/NR_Indices!F5)","v":1.0304423716229947},{"$f":"IF(NR_Indices!H5/NR_Indices!G5=0,\"\",NR_Indices!H5/NR_Indices!G5)","v":0.89079866193235779},{"$f":"IF(NR_Indices!I5/NR_Indices!H5=0,\"\",NR_Indices!I5/NR_Indices!H5)","v":0.95337170173900021},{"$f":"IF(NR_Indices!J5/NR_Indices!I5=0,\"\",NR_Indices!J5/NR_Indices!I5)","v":1.0233582921996269},{"$f":"IF(NR_Indices!K5/NR_Indices!J5=0,\"\",NR_Indices!K5/NR_Indices!J5)","v":1.0124665352769486},{"$f":"IF(NR_Indices!L5/NR_Indices!K5=0,\"\",NR_Indices!L5/NR_Indices!K5)","v":1.0065132888249753},{"$f":"IF(NR_Indices!M5/NR_Indices!L5=0,\"\",NR_Indices!M5/NR_Indices!L5)","v":1.0277444415500665},{"$f":"IF(NR_Indices!N5/NR_Indices!M5=0,\"\",NR_Indices!N5/NR_Indices!M5)","v":1.054837756886674},{"$f":"IF(NR_Indices!O5/NR_Indices!N5=0,\"\",NR_Indices!O5/NR_Indices!N5)","v":1.0584557971211317},{"$f":"IF(NR_Indices!P5/NR_Indices!O5=0,\"\",NR_Indices!P5/NR_Indices!O5)","v":0.96397640098135673},{"$f":"IF(NR_Indices!Q5/NR_Indices!P5=0,\"\",NR_Indices!Q5/NR_Indices!P5)","v":1.0134323837773866},{"$f":"IF(NR_Indices!R5/NR_Indices!Q5=0,\"\",NR_Indices!R5/NR_Indices!Q5)","v":1.0430447579518649},{"$f":"IF(NR_Indices!S5/NR_Indices!R5=0,\"\",NR_Indices!S5/NR_Indices!R5)","v":0.97621785681551931},{"$f":"IF(NR_Indices!T5/NR_Indices!S5=0,\"\",NR_Indices!T5/NR_Indices!S5)","v":1.0143246862172359},{"$f":"IF(NR_Indices!U5/NR_Indices!T5=0,\"\",NR_Indices!U5/NR_Indices!T5)","v":0.97451854608336597},{"$f":"IF(NR_Indices!V5/NR_Indices!U5=0,\"\",NR_Indices!V5/NR_Indices!U5)","v":0.98652565246371204},{"$f":"IF(NR_Indices!W5/NR_Indices!V5=0,\"\",NR_Indices!W5/NR_Indices!V5)","v":0.96016041861135237},{"$f":"IF(NR_Indices!X5/NR_Indices!W5=0,\"\",NR_Indices!X5/NR_Indices!W5)","v":""}]
["Tschechien",null,{"$f":"IF(NR_Indices!C6/NR_Indices!B6=0,\"\",NR_Indices!C6/NR_Indices!B6)","v":1.0545872550715572},{"$f":"IF(NR_Indices!D6/NR_Indices!C6=0,\"\",NR_Indices!D6/NR_Indices!C6)","v":0.87562121823578964},{"$f":"IF(NR_Indices!E6/NR_Indices!D6=0,\"\",NR_Indices!E6/NR_Indices!D6)","v":1.112642291164549},{"$f":"IF(NR_Indices!F6/NR_Indices!E6=0,\"\",NR_Indices!F6/NR_Indices!E6)","v":0.94921324614473912},{"$f":"IF(NR_Indices!G6/NR_Indices!F6=0,\"\",NR_Indices!G6/NR_Indices!F6)","v":1.1019991724828242},{"$f":"IF(NR_Indices!H6/NR_Indices!G6=0,\"\",NR_Indices!H6/NR_Indices!G6)","v":1.1022732837752034},{"$f":"IF(NR_Indices!I6/NR_Indices!H6=0,\"\",NR_Indices!I6/NR_Indices!H6)","v":1.0251298972273546},{"$f":"IF(NR_Indices!J6/NR_Indices!I6=0,\"\",NR_Indices!J6/NR_Indices!I6)","v":1.2176727584637901},{"$f":"IF(NR_Indices!K6/NR_Indices!J6=0,\"\",NR_Indices!K6/NR_Indices!J6)","v":0.99389250918145133},{"$f":"IF(NR_Indices!L6/NR_Indices!K6=0,\"\",NR_Indices!L6/NR_Indices!K6)","v":1.0033130725133204},{"$f":"IF(NR_Indices!M6/NR_Indices!L6=0,\"\",NR_Indices!M6/NR_Indices!L6)","v":1.1127094048493391},{"$f":"IF(NR_Indices!N6/NR_Indices!M6=0,\"\",NR_Indices!N6/NR_Indices!M6)","v":1.0746410577477927},{"$f":"IF(NR_Indices!O6/NR_Indices!N6=0,\"\",NR_Indices!O6/NR_Indices!N6)","v":0.91207396502217086},{"$f":"IF(NR_Indices!P6/NR_Indices!O6=0,\"\",NR_Indices!P6/NR_Indices!O6)","v":1.0274921586204737},{"$f":"IF(NR_Indices!Q6/NR_Indices!P6=0,\"\",NR_Indices!Q6/NR_Indices!P6)","v":0.95462169387958029},{"$f":"IF(NR_Indices!R6/NR_Indices!Q6=0,\"\",NR_Indices!R6/NR_Indices!Q6)","v":1.0300135085248934},{"$f":"IF(NR_Indices!S6/NR_Indices!R6=0,\"\",NR_Indices!S6/NR_Indices!R6)","v":1.0141995647497604},{"$f":"IF(NR_Indices!T6/NR_Indices!S6=0,\"\",NR_Indices!T6/NR_Indices!S6)","v":0.94238660355453874},{"$f":"IF(NR_Indices!U6/NR_Indices!T6=0,\"\",NR_Indices!U6/NR_Indices!T6)","v":0.95273538881726638},{"$f":"IF(NR_Indices!V6/NR_Indices!U6=0,\"\",NR_Indices!V6/NR_Indices!U6)","v":0.97763369668331579},{"$f":"IF(NR_Indices!W6/NR_Indices!V6=0,\"\",NR_Indices!W6/NR_Indices!V6)","v":0.95141767471824368},{"$f":"IF(NR_Indices!X6/NR_Indices!W6=0,\"\",NR_Indices!X6/NR_Indices!W6)","v":0.94956538613016139}]
["Dänemark",null,{"$f":"IF(NR_Indices!C7/NR_Indices!B7=0,\"\",NR_Indices!C7/NR_Indices!B7)","v":1.0262928348909661},{"$f":"IF(NR_Indices!D7/NR_Indices!C7=0,\"\",NR_Indices!D7/NR_Indices!C7)","v":0.98474118497724472},{"$f":"IF(NR_Indices!E7/NR_Indices!D7=0,\"\",NR_Indices!E7/NR_Indices!D7)","v":0.95145571033511378},{"$f":"IF(NR_Indices!F7/NR_Indices!E7=0,\"\",NR_Indices!F7/NR_Indices!E7)","v":0.92815381914908002},{"$f":"IF(NR_Indices!G7/NR_Indices!F7=0,\"\",NR_Indices!G7/NR_Indices!F7)","v":0.87343465045592694},{"$f":"IF(NR_Indices!H7/NR_Indices!G7=0,\"\",NR_Indices!H7/NR_Indices!G7)","v":1.2757075376478662},{"$f":"IF(NR_Indices!I7/NR_Indices!H7=0,\"\",NR_Indices!I7/NR_Indices!H7)","v":0.96833170094678445},{"$f":"IF(NR_Indices!J7/NR_Indices!I7=0,\"\",NR_Indices!J7/NR_Indices!I7)","v":0.96469804618117228},{"$f":"IF(NR_Indices!K7/NR_Indices!J7=0,\"\",NR_Indices!K7/NR_Indices!J7)","v":0.96490229178944686},{"$f":"IF(NR_Indices!L7/NR_Indices!K7=0,\"\",NR_Indices!L7/NR_Indices!K7)","v":0.96646748168046348},{"$f":"IF(NR_Indices!M7/NR_Indices!L7=0,\"\",NR_Indices!M7/NR_Indices!L7)","v":0.85848502642395774},{"$f":"IF(NR_Indices!N7/NR_Indices!M7=0,\"\",NR_Indices!N7/NR_Indices!M7)","v":0.95749621403331653},{"$f":"IF(NR_Indices!O7/NR_Indices!N7=0,\"\",NR_Indices!O7/NR_Indices!N7)","v":0.89366261316762197},{"$f":"IF(NR_Indices!P7/NR_Indices!O7=0,\"\",NR_Indices!P7/NR_Indices!O7)","v":0.97775319320124732},{"$f":"IF(NR_Indices!Q7/NR_Indices!P7=0,\"\",NR_Indices!Q7/NR_Indices!P7)","v":0.92233076358044619},{"$f":"IF(NR_Indices!R7/NR_Indices!Q7=0,\"\",NR_Indices!R7/NR_Indices!Q7)","v":0.78955670999914229},{"$f":"IF(NR_Indices!S7/NR_Indices!R7=0,\"\",NR_Indices!S7/NR_Indices!R7)","v":0.95120493515058246},{"$f":"IF(NR_Indices!T7/NR_Indices!S7=0,\"\",NR_Indices!T7/NR_Indices!S7)","v":1.0055874058819485},{"$f":"IF(NR_Indices!U7/NR_Indices!T7=0,\"\",NR_Indices!U7/NR_Indices!T7)","v":0.97489594172736727},{"$f":"IF(NR_Indices!V7/NR_Indices!U7=0,\"\",NR_Indices!V7/NR_Indices!U7)","v":0.94072408240324301},{"$f":"IF(NR_Indices!W7/NR_Indices!V7=0,\"\",NR_Indices!W7/NR_Indices!V7)","v":0.88180699415444574},{"$f":"IF(NR_Indices!X7/NR_Indices!W7=0,\"\",NR_Indices!X7/NR_Indices!W7)","v":1.1644203627028344}]
["Estland",null,{"$f":"IF(NR_Indices!C8/NR_Indices!B8=0,\"\",NR_Indices!C8/NR_Indices!B8)","v":1.1478355805597609},{"$f":"IF(NR_Indices!D8/NR_Indices!C8=0,\"\",NR_Indices!D8/NR_Indices!C8)","v":1.1127938141316598},{"$f":"IF(NR_Indices!E8/NR_Indices!D8=0,\"\",NR_Indices!E8/NR_Indices!D8)","v":1.2190913988753709},{"$f":"IF(NR_Indices!F8/NR_Indices!E8=0,\"\",NR_Indices!F8/NR_Indices!E8)","v":0.97279263526207727},{"$f":"IF(NR_Indices!G8/NR_Indices!F8=0,\"\",NR_Indices!G8/NR_Indices!F8)","v":1.1059918333707552},{"$f":"IF(NR_Indices!H8/NR_Indices!G8=0,\"\",NR_Indices!H8/NR_Indices!G8)","v":1.2177281877936443},{"$f":"IF(NR_Indices!I8/NR_Indices!H8=0,\"\",NR_Indices!I8/NR_Indices!H8)","v":1.1590470908274573},{"$f":"IF(NR_Indices!J8/NR_Indices!I8=0,\"\",NR_Indices!J8/NR_Indices!I8)","v":1.0339651797671781},{"$f":"IF(NR_Indices!K8/NR_Indices!J8=0,\"\",NR_Indices!K8/NR_Indices!J8)","v":1.2747876215891893},{"$f":"IF(NR_Indices!L8/NR_Indices!K8=0,\"\",NR_Indices!L8/NR_Indices!K8)","v":1.2814961143151677},{"$f":"IF(NR_Indices!M8/NR_Indices!L8=0,\"\",NR_Indices!M8/NR_Indices!L8)","v":0.92948260026533325},{"$f":"IF(NR_Indices!N8/NR_Indices!M8=0,\"\",NR_Indices!N8/NR_Indices!M8)","v":1.1549937179324881},{"$f":"IF(NR_Indices!O8/NR_Indices!N8=0,\"\",NR_Indices!O8/NR_Indices!N8)","v":0.95236995902740895},{"$f":"IF(NR_Indices!P8/NR_Indices!O8=0,\"\",NR_Indices!P8/NR_Indices!O8)","v":0.86207694878217633},{"$f":"IF(NR_Indices!Q8/NR_Indices!P8=0,\"\",NR_Indices!Q8/NR_Indices!P8)","v":0.91770755947435068},{"$f":"IF(NR_Indices!R8/NR_Indices!Q8=0,\"\",NR_Indices!R8/NR_Indices!Q8)","v":0.9273683480124294},{"$f":"IF(NR_Indices!S8/NR_Indices!R8=0,\"\",NR_Indices!S8/NR_Indices!R8)","v":0.93115068608300533},{"$f":"IF(NR_Indices!T8/NR_Indices!S8=0,\"\",NR_Indices!T8/NR_Indices!S8)","v":1.1146456210969757},{"$f":"IF(NR_Indices!U8/NR_Indices!T8=0,\"\",NR_Indices!U8/NR_Indices!T8)","v":0.90043667782755865},{"$f":"IF(NR_Indices!V8/NR_Indices!U8=0,\"\",NR_Indices!V8/NR_Indices!U8)","v":0.94632522904779504},{"$f":"IF(NR_Indices!W8/NR_Indices!V8=0,\"\",NR_Indices!W8/NR_Indices!V8)","v":0.99635698505792158},{"$f":"IF(NR_Indices!X8/NR_Indices!W8=0,\"\",NR_Indices!X8/NR_Indices!W8)","v":1.0444639288772888}]
["Frankreich",null,{"$f":"IF(NR_Indices!C9/NR_Indices!B9=0,\"\",NR_Indices!C9/NR_Indices!B9)","v":1.0335884370956465},{"$f":"IF(NR_Indices!D9/NR_Indices!C9=0,\"\",NR_Indices!D9/NR_Indices!C9)","v":0.9966563036367756},{"$f":"IF(NR_Indices!E9/NR_Indices!D9=0,\"\",NR_Indices!E9/NR_Indices!D9)","v":1.0390583482144333},{"$f":"IF(NR_Indices!F9/NR_Indices!E9=0,\"\",NR_Indices!F9/NR_Indices!E9)","v":1.0619332281808622},{"$f":"IF(NR_Indices!G9/NR_Indices!F9=0,\"\",NR_Indices!G9/NR_Indices!F9)","v":0.92007292055612899},{"$f":"IF(NR_Indices!H9/NR_Indices!G9=0,\"\",NR_Indices!H9/NR_Indices!G9)","v":0.96257646258776874},{"$f":"IF(NR_Indices!I9/NR_Indices!H9=0,\"\",NR_Indices!I9/NR_Indices!H9)","v":0.97764336120500506},{"$f":"IF(NR_Indices!J9/NR_Indices!I9=0,\"\",NR_Indices!J9/NR_Indices!I9)","v":0.97334058534315826},{"$f":"IF(NR_Indices!K9/NR_Indices!J9=0,\"\",NR_Indices!K9/NR_Indices!J9)","v":1.0277614133891575},{"$f":"IF(NR_Indices!L9/NR_Indices!K9=0,\"\",NR_Indices!L9/NR_Indices!K9)","v":1.0134779374351908},{"$f":"IF(NR_Indices!M9/NR_Indices!L9=0,\"\",NR_Indices!M9/NR_Indices!L9)","v":0.97026505573320343},{"$f":"IF(NR_Indices!N9/NR_Indices!M9=0,\"\",NR_Indices!N9/NR_Indices!M9)","v":1.0434742413572449},{"$f":"IF(NR_Indices!O9/NR_Indices!N9=0,\"\",NR_Indices!O9/NR_Indices!N9)","v":1.0065270048476342},{"$f":"IF(NR_Indices!P9/NR_Indices!O9=0,\"\",NR_Indices!P9/NR_Indices!O9)","v":1.0150742355428843},{"$f":"IF(NR_Indices!Q9/NR_Indices!P9=0,\"\",NR_Indices!Q9/NR_Indices!P9)","v":0.95698256945307003},{"$f":"IF(NR_Indices!R9/NR_Indices!Q9=0,\"\",NR_Indices!R9/NR_Indices!Q9)","v":0.95376022369800761},{"$f":"IF(NR_Indices!S9/NR_Indices!R9=0,\"\",NR_Indices!S9/NR_Indices!R9)","v":0.98521751915600297},{"$f":"IF(NR_Indices!T9/NR_Indices!S9=0,\"\",NR_Indices!T9/NR_Indices!S9)","v":0.94936963994952439},{"$f":"IF(NR_Indices!U9/NR_Indices!T9=0,\"\",NR_Indices!U9/NR_Indices!T9)","v":0.97066558618581},{"$f":"IF(NR_Indices!V9/NR_Indices!U9=0,\"\",NR_Indices!V9/NR_Indices!U9)","v":0.92331290658129472},{"$f":"IF(NR_Indices!W9/NR_Indices!V9=0,\"\",NR_Indices!W9/NR_Indices!V9)","v":0.98567230098324754},{"$f":"IF(NR_Indices!X9/NR_Indices!W9=0,\"\",NR_Indices!X9/NR_Indices!W9)","v":1.0062736255729958}]
["Griechenland",null,{"$f":"IF(NR_Indices!C10/NR_Indices!B10=0,\"\",NR_Indices!C10/NR_Indices!B10)","v":0.99715758565436219},{"$f":"IF(NR_Indices!D10/NR_Indices!C10=0,\"\",NR_Indices!D10/NR_Indices!C10)","v":1.2018644222983832},{"$f":"IF(NR_Indices!E10/NR_Indices!D10=0,\"\",NR_Indices!E10/NR_Indices!D10)","v":1.0360413990298318},{"$f":"IF(NR_Indices!F10/NR_Indices!E10=0,\"\",NR_Indices!F10/NR_Indices!E10)","v":1.2829637275185266},{"$f":"IF(NR_Indices!G10/NR_Indices!F10=0,\"\",NR_Indices!G10/NR_Indices!F10)","v":1.0172839020473579},{"$f":"IF(NR_Indices!H10/NR_Indices!G10=0,\"\",NR_Indices!H10/NR_Indices!G10)","v":1.1102716111451842},{"$f":"IF(NR_Indices!I10/NR_Indices!H10=0,\"\",NR_Indices!I10/NR_Indices!H10)","v":1.0568401288407627},{"$f":"IF(NR_Indices!J10/NR_Indices!I10=0,\"\",NR_Indices!J10/NR_Indices!I10)","v":0.97896777116813516},{"$f":"IF(NR_Indices!K10/NR_Indices!J10=0,\"\",NR_Indices!K10/NR_Indices!J10)","v":1.032120067225222},{"$f":"IF(NR_Indices!L10/NR_Indices!K10=0,\"\",NR_Indices!L10/NR_Indices!K10)","v":1.0211553226449588},{"$f":"IF(NR_Indices!M10/NR_Indices!L10=0,\"\",NR_Indices!M10/NR_Indices!L10)","v":1.0866396087175079},{"$f":"IF(NR_Indices!N10/NR_Indices!M10=0,\"\",NR_Indices!N10/NR_Indices!M10)","v":1.0241469239135574},{"$f":"IF(NR_Indices!O10/NR_Indices!N10=0,\"\",NR_Indices!O10/NR_Indices!N10)","v":1.0789906519384787},{"$f":"IF(NR_Indices!P10/NR_Indices!O10=0,\"\",NR_Indices!P10/NR_Indices!O10)","v":0.89001274180209977},{"$f":"IF(NR_Indices!Q10/NR_Indices!P10=0,\"\",NR_Indices!Q10/NR_Indices!P10)","v":0.92571869451658173},{"$f":"IF(NR_Indices!R10/NR_Indices!Q10=0,\"\",NR_Indices!R10/NR_Indices!Q10)","v":0.96658221553772383},{"$f":"IF(NR_Indices!S10/NR_Indices!R10=0,\"\",NR_Indices!S10/NR_Indices!R10)","v":0.90534190308656581},{"$f":"IF(NR_Indices!T10/NR_Indices!S10=0,\"\",NR_Indices!T10/NR_Indices!S10)","v":0.88825744265838358},{"$f":"IF(NR_Indices!U10/NR_Indices!T10=0,\"\",NR_Indices!U10/NR_Indices!T10)","v":0.90804798779866447},{"$f":"IF(NR_Indices!V10/NR_Indices!U10=0,\"\",NR_Indices!V10/NR_Indices!U10)","v":0.89507538120533503},{"$f":"IF(NR_Indices!W10/NR_Indices!V10=0,\"\",NR_Indices!W10/NR_Indices!V10)","v":0.98671415892877068},{"$f":"IF(NR_Indices!X10/NR_Indices!W10=0,\"\",NR_Indices!X10/NR_Indices!W10)","v":0.98509450544063693}]
["Italien",null,{"$f":"IF(NR_Indices!C11/NR_Indices!B11=0,\"\",NR_Indices!C11/NR_Indices!B11)","v":1.002226474110949},{"$f":"IF(NR_Indices!D11/NR_Indices!C11=0,\"\",NR_Indices!D11/NR_Indices!C11)","v":1.0830413600508531},{"$f":"IF(NR_Indices!E11/NR_Indices!D11=0,\"\",NR_Indices!E11/NR_Indices!D11)","v":1.024622851423034},{"$f":"IF(NR_Indices!F11/NR_Indices!E11=0,\"\",NR_Indices!F11/NR_Indices!E11)","v":1.1240784228950453},{"$f":"IF(NR_Indices!G11/NR_Indices!F11=0,\"\",NR_Indices!G11/NR_Indices!F11)","v":1.0460423283181635},{"$f":"IF(NR_Indices!H11/NR_Indices!G11=0,\"\",NR_Indices!H11/NR_Indices!G11)","v":1.1531777191514641},{"$f":"IF(NR_Indices!I11/NR_Indices!H11=0,\"\",NR_Indices!I11/NR_Indices!H11)","v":0.97869128990712451},{"$f":"IF(NR_Indices!J11/NR_Indices!I11=0,\"\",NR_Indices!J11/NR_Indices!I11)","v":1.0229949742176336},{"$f":"IF(NR_Indices!K11/NR_Indices!J11=0,\"\",NR_Indices!K11/NR_Indices!J11)","v":0.98359941075158852},{"$f":"IF(NR_Indices!L11/NR_Indices!K11=0,\"\",NR_Indices!L11/NR_Indices!K11)","v":1.0417291125908459},{"$f":"IF(NR_Indices!M11/NR_Indices!L11=0,\"\",NR_Indices!M11/NR_Indices!L11)","v":1.0166931396589705},{"$f":"IF(NR_Indices!N11/NR_Indices!M11=0,\"\",NR_Indices!N11/NR_Indices!M11)","v":1.0446709678718589},{"$f":"IF(NR_Indices!O11/NR_Indices!N11=0,\"\",NR_Indices!O11/NR_Indices!N11)","v":0.97769860488459659},{"$f":"IF(NR_Indices!P11/NR_Indices!O11=0,\"\",NR_Indices!P11/NR_Indices!O11)","v":0.99856773739775484},{"$f":"IF(NR_Indices!Q11/NR_Indices!P11=0,\"\",NR_Indices!Q11/NR_Indices!P11)","v":1.0340607914555233},{"$f":"IF(NR_Indices!R11/NR_Indices!Q11=0,\"\",NR_Indices!R11/NR_Indices!Q11)","v":0.95571411846117071},{"$f":"IF(NR_Indices!S11/NR_Indices!R11=0,\"\",NR_Indices!S11/NR_Indices!R11)","v":0.95545129513021487},{"$f":"IF(NR_Indices!T11/NR_Indices!S11=0,\"\",NR_Indices!T11/NR_Indices!S11)","v":1.0943345822268369},{"$f":"IF(NR_Indices!U11/NR_Indices!T11=0,\"\",NR_Indices!U11/NR_Indices!T11)","v":0.89265676040625275},{"$f":"IF(NR_Indices!V11/NR_Indices!U11=0,\"\",NR_Indices!V11/NR_Indices!U11)","v":1.02771418013454},{"$f":"IF(NR_Indices!W11/NR_Indices!V11=0,\"\",NR_Indices!W11/NR_Indices!V11)","v":0.99401527002912116},{"$f":"IF(NR_Indices!X11/NR_Indices!W11=0,\"\",NR_Indices!X11/NR_Indices!W11)","v":1.0151625348123889}]
["Spanien",null,{"$f":"IF(NR_Indices!C12/NR_Indices!B12=0,\"\",NR_Indices!C12/NR_Indices!B12)","v":1.1577738414947716},{"$f":"IF(NR_Indices!D12/NR_Indices!C12=0,\"\",NR_Indices!D12/NR_Indices!C12)","v":1.114294101570013},{"$f":"IF(NR_Indices!E12/NR_Indices!D12=0,\"\",NR_Indices!E12/NR_Indices!D12)","v":1.0785890942654959},{"$f":"IF(NR_Indices!F12/NR_Indices!E12=0,\"\",NR_Indices!F12/NR_Indices!E12)","v":1.0182293897269181},{"$f":"IF(NR_Indices!G12/NR_Indices!F12=0,\"\",NR_Indices!G12/NR_Indices!F12)","v":1.0896146552891779},{"$f":"IF(NR_Indices!H12/NR_Indices!G12=0,\"\",NR_Indices!H12/NR_Indices!G12)","v":1.061731806734036},{"$f":"IF(NR_Indices!I12/NR_Indices!H12=0,\"\",NR_Indices!I12/NR_Indices!H12)","v":1.0826050989747615},{"$f":"IF(NR_Indices!J12/NR_Indices!I12=0,\"\",NR_Indices!J12/NR_Indices!I12)","v":1.0574376347397598},{"$f":"IF(NR_Indices!K12/NR_Indices!J12=0,\"\",NR_Indices!K12/NR_Indices!J12)","v":1.0604825146750865},{"$f":"IF(NR_Indices!L12/NR_Indices!K12=0,\"\",NR_Indices!L12/NR_Indices!K12)","v":1.0509137122646768},{"$f":"IF(NR_Indices!M12/NR_Indices!L12=0,\"\",NR_Indices!M12/NR_Indices!L12)","v":1.0047512652094324},{"$f":"IF(NR_Indices!N12/NR_Indices!M12=0,\"\",NR_Indices!N12/NR_Indices!M12)","v":1.0830951108218871},{"$f":"IF(NR_Indices!O12/NR_Indices!N12=0,\"\",NR_Indices!O12/NR_Indices!N12)","v":1.0130531479287479},{"$f":"IF(NR_Indices!P12/NR_Indices!O12=0,\"\",NR_Indices!P12/NR_Indices!O12)","v":0.97973226411433767},{"$f":"IF(NR_Indices!Q12/NR_Indices!P12=0,\"\",NR_Indices!Q12/NR_Indices!P12)","v":1.1003344481605351},{"$f":"IF(NR_Indices!R12/NR_Indices!Q12=0,\"\",NR_Indices!R12/NR_Indices!Q12)","v":1.0422425005244389},{"$f":"IF(NR_Indices!S12/NR_Indices!R12=0,\"\",NR_Indices!S12/NR_Indices!R12)","v":0.95685413093963345},{"$f":"IF(NR_Indices!T12/NR_Indices!S12=0,\"\",NR_Indices!T12/NR_Indices!S12)","v":1.0752908233869574},{"$f":"IF(NR_Indices!U12/NR_Indices!T12=0,\"\",NR_Indices!U12/NR_Indices!T12)","v":1.1212024969882817},{"$f":"IF(NR_Indices!V12/NR_Indices!U12=0,\"\",NR_Indices!V12/NR_Indices!U12)","v":0.97197914836291233},{"$f":"IF(NR_Indices!W12/NR_Indices!V12=0,\"\",NR_Indices!W12/NR_Indices!V12)","v":0.93780334994063386},{"$f":"IF(NR_Indices!X12/NR_Indices!W12=0,\"\",NR_Indices!X12/NR_Indices!W12)","v":0.96059315131626}]
["Finnland",null,{"$f":"IF(NR_Indices!C13/NR_Indices!B13=0,\"\",NR_Indices!C13/NR_Indices!B13)","v":1.0332850940665701},{"$f":"IF(NR_Indices!D13/NR_Indices!C13=0,\"\",NR_Indices!D13/NR_Indices!C13)","v":1.0589102530567984},{"$f":"IF(NR_Indices!E13/NR_Indices!D13=0,\"\",NR_Indices!E13/NR_Indices!D13)","v":1.0128509675412776},{"$f":"IF(NR_Indices!F13/NR_Indices!E13=0,\"\",NR_Indices!F13/NR_Indices!E13)","v":1.0950971452619769},{"$f":"IF(NR_Indices!G13/NR_Indices!F13=0,\"\",NR_Indices!G13/NR_Indices!F13)","v":1.0322923895442977},{"$f":"IF(NR_Indices!H13/NR_Indices!G13=0,\"\",NR_Indices!H13/NR_Indices!G13)","v":1.0132020726315178},{"$f":"IF(NR_Indices!I13/NR_Indices!H13=0,\"\",NR_Indices!I13/NR_Indices!H13)","v":0.97954545454545461},{"$f":"IF(NR_Indices!J13/NR_Indices!I13=0,\"\",NR_Indices!J13/NR_Indices!I13)","v":1.0110492948635008},{"$f":"IF(NR_Indices!K13/NR_Indices!J13=0,\"\",NR_Indices!K13/NR_Indices!J13)","v":1.0220806908165827},{"$f":"IF(NR_Indices!L13/NR_Indices!K13=0,\"\",NR_Indices!L13/NR_Indices!K13)","v":0.99817284142596108},{"$f":"IF(NR_Indices!M13/NR_Indices!L13=0,\"\",NR_Indices!M13/NR_Indices!L13)","v":0.99464648558988189},{"$f":"IF(NR_Indices!N13/NR_Indices!M13=0,\"\",NR_Indices!N13/NR_Indices!M13)","v":0.99403035357726843},{"$f":"IF(NR_Indices!O13/NR_Indices!N13=0,\"\",NR_Indices!O13/NR_Indices!N13)","v":0.98193586926724685},{"$f":"IF(NR_Indices!P13/NR_Indices!O13=0,\"\",NR_Indices!P13/NR_Indices!O13)","v":0.97154235390198107},{"$f":"IF(NR_Indices!Q13/NR_Indices!P13=0,\"\",NR_Indices!Q13/NR_Indices!P13)","v":1.0579434783702846},{"$f":"IF(NR_Indices!R13/NR_Indices!Q13=0,\"\",NR_Indices!R13/NR_Indices!Q13)","v":0.98538806484994823},{"$f":"IF(NR_Indices!S13/NR_Indices!R13=0,\"\",NR_Indices!S13/NR_Indices!R13)","v":1.0289465930632691},{"$f":"IF(NR_Indices!T13/NR_Indices!S13=0,\"\",NR_Indices!T13/NR_Indices!S13)","v":0.88611412306858217},{"$f":"IF(NR_Indices!U13/NR_Indices!T13=0,\"\",NR_Indices!U13/NR_Indices!T13)","v":0.84096333261011058},{"$f":"IF(NR_Indices!V13/NR_Indices!U13=0,\"\",NR_Indices!V13/NR_Indices!U13)","v":0.93546576533790571},{"$f":"IF(NR_Indices!W13/NR_Indices!V13=0,\"\",NR_Indices!W13/NR_Indices!V13)","v":0.95612794741468266},{"$f":"IF(NR_Indices!X13/NR_Indices!W13=0,\"\",NR_Indices!X13/NR_Indices!W13)","v":0.88497525865946924}]
["Ungarn",null,{"$f":"IF(NR_Indices!C14/NR_Indices!B14=0,\"\",NR_Indices!C14/NR_Indices!B14)","v":0.89492304685494106},{"$f":"IF(NR_Indices!D14/NR_Indices!C14=0,\"\",NR_Indices!D14/NR_Indices!C14)","v":0.97365058899540868},{"$f":"IF(NR_Indices!E14/NR_Indices!D14=0,\"\",NR_Indices!E14/NR_Indices!D14)","v":1.058518545173164},{"$f":"IF(NR_Indices!F14/NR_Indices!E14=0,\"\",NR_Indices!F14/NR_Indices!E14)","v":1.0210642010801352},{"$f":"IF(NR_Indices!G14/NR_Indices!F14=0,\"\",NR_Indices!G14/NR_Indices!F14)","v":0.96500849821807444},{"$f":"IF(NR_Indices!H14/NR_Indices!G14=0,\"\",NR_Indices!H14/NR_Indices!G14)","v":1.4763759810809338},{"$f":"IF(NR_Indices!I14/NR_Indices!H14=0,\"\",NR_Indices!I14/NR_Indices!H14)","v":1.2276486070716333},{"$f":"IF(NR_Indices!J14/NR_Indices!I14=0,\"\",NR_Indices!J14/NR_Indices!I14)","v":0.91932103338288096},{"$f":"IF(NR_Indices!K14/NR_Indices!J14=0,\"\",NR_Indices!K14/NR_Indices!J14)","v":1.1801091509547337},{"$f":"IF(NR_Indices!L14/NR_Indices!K14=0,\"\",NR_Indices!L14/NR_Indices!K14)","v":1.0626390326894575},{"$f":"IF(NR_Indices!M14/NR_Indices!L14=0,\"\",NR_Indices!M14/NR_Indices!L14)","v":1.0030389492745473},{"$f":"IF(NR_Indices!N14/NR_Indices!M14=0,\"\",NR_Indices!N14/NR_Indices!M14)","v":1.0693260151380073},{"$f":"IF(NR_Indices!O14/NR_Indices!N14=0,\"\",NR_Indices!O14/NR_Indices!N14)","v":1.1489043483897667},{"$f":"IF(NR_Indices!P14/NR_Indices!O14=0,\"\",NR_Indices!P14/NR_Indices!O14)","v":0.84601962382043161},{"$f":"IF(NR_Indices!Q14/NR_Indices!P14=0,\"\",NR_Indices!Q14/NR_Indices!P14)","v":0.98462633074720907},{"$f":"IF(NR_Indices!R14/NR_Indices!Q14=0,\"\",NR_Indices!R14/NR_Indices!Q14)","v":0.98665048779633679},{"$f":"IF(NR_Indices!S14/NR_Indices!R14=0,\"\",NR_Indices!S14/NR_Indices!R14)","v":0.97775296282500312},{"$f":"IF(NR_Indices!T14/NR_Indices!S14=0,\"\",NR_Indices!T14/NR_Indices!S14)","v":1.0629274354006515},{"$f":"IF(NR_Indices!U14/NR_Indices!T14=0,\"\",NR_Indices!U14/NR_Indices!T14)","v":1.0459686378277591},{"$f":"IF(NR_Indices!V14/NR_Indices!U14=0,\"\",NR_Indices!V14/NR_Indices!U14)","v":1.0269489187304015},{"$f":"IF(NR_Indices!W14/NR_Indices!V14=0,\"\",NR_Indices!W14/NR_Indices!V14)","v":0.9454604338354482},{"$f":"IF(NR_Indices!X14/NR_Indices!W14=0,\"\",NR_Indices!X14/NR_Indices!W14)","v":0.90879598719717969}]
["Irland",null,{"$f":"IF(NR_Indices!C15/NR_Indices!B15=0,\"\",NR_Indices!C15/NR_Indices!B15)","v":1.0019919931532431},{"$f":"IF(NR_Indices!D15/NR_Indices!C15=0,\"\",NR_Indices!D15/NR_Indices!C15)","v":1.0419119639668262},{"$f":"IF(NR_Indices!E15/NR_Indices!D15=0,\"\",NR_Indices!E15/NR_Indices!D15)","v":0.84953864783700439},{"$f":"IF(NR_Indices!F15/NR_Indices!E15=0,\"\",NR_Indices!F15/NR_Indices!E15)","v":1.0325982263538862},{"$f":"IF(NR_Indices!G15/NR_Indices!F15=0,\"\",NR_Indices!G15/NR_Indices!F15)","v":0.96569018023166076},{"$f":"IF(NR_Indices!H15/NR_Indices!G15=0,\"\",NR_Indices!H15/NR_Indices!G15)","v":0.93678689929083603},{"$f":"IF(NR_Indices!I15/NR_Indices!H15=0,\"\",NR_Indices!I15/NR_Indices!H15)","v":0.93738860867703633},{"$f":"IF(NR_Indices!J15/NR_Indices!I15=0,\"\",NR_Indices!J15/NR_Indices!I15)","v":1.0171198656675917},{"$f":"IF(NR_Indices!K15/NR_Indices!J15=0,\"\",NR_Indices!K15/NR_Indices!J15)","v":1.1630749593180361},{"$f":"IF(NR_Indices!L15/NR_Indices!K15=0,\"\",NR_Indices!L15/NR_Indices!K15)","v":0.8044159393974889},{"$f":"IF(NR_Indices!M15/NR_Indices!L15=0,\"\",NR_Indices!M15/NR_Indices!L15)","v":0.93665400057298942},{"$f":"IF(NR_Indices!N15/NR_Indices!M15=0,\"\",NR_Indices!N15/NR_Indices!M15)","v":1.0029609606577226},{"$f":"IF(NR_Indices!O15/NR_Indices!N15=0,\"\",NR_Indices!O15/NR_Indices!N15)","v":0.99070818923651283},{"$f":"IF(NR_Indices!P15/NR_Indices!O15=0,\"\",NR_Indices!P15/NR_Indices!O15)","v":0.98200010305437602},{"$f":"IF(NR_Indices!Q15/NR_Indices!P15=0,\"\",NR_Indices!Q15/NR_Indices!P15)","v":1.2180009375717691},{"$f":"IF(NR_Indices!R15/NR_Indices!Q15=0,\"\",NR_Indices!R15/NR_Indices!Q15)","v":0.99311276289422523},{"$f":"IF(NR_Indices!S15/NR_Indices!R15=0,\"\",NR_Indices!S15/NR_Indices!R15)","v":1.0236635859208703},{"$f":"IF(NR_Indices!T15/NR_Indices!S15=0,\"\",NR_Indices!T15/NR_Indices!S15)","v":0.97190916179836928},{"$f":"IF(NR_Indices!U15/NR_Indices!T15=0,\"\",NR_Indices!U15/NR_Indices!T15)","v":0.9274309429278168},{"$f":"IF(NR_Indices!V15/NR_Indices!U15=0,\"\",NR_Indices!V15/NR_Indices!U15)","v":0.95262650134352023},{"$f":"IF(NR_Indices!W15/NR_Indices!V15=0,\"\",NR_Indices!W15/NR_Indices!V15)","v":0.93345602439813846},{"$f":"IF(NR_Indices!X15/NR_Indices!W15=0,\"\",NR_Indices!X15/NR_Indices!W15)","v":1.0182397898607329}]
["Niederlande",null,{"$f":"IF(NR_Indices!C16/NR_Indices!B16=0,\"\",NR_Indices!C16/NR_Indices!B16)","v":1.0483473112974842},{"$f":"IF(NR_Indices!D16/NR_Indices!C16=0,\"\",NR_Indices!D16/NR_Indices!C16)","v":0.98703834299744031},{"$f":"IF(NR_Indices!E16/NR_Indices!D16=0,\"\",NR_Indices!E16/NR_Indices!D16)","v":1.0264493225032991},{"$f":"IF(NR_Indices!F16/NR_Indices!E16=0,\"\",NR_Indices!F16/NR_Indices!E16)","v":0.99157365358482696},{"$f":"IF(NR_Indices!G16/NR_Indices!F16=0,\"\",NR_Indices!G16/NR_Indices!F16)","v":1.0200608370875208},{"$f":"IF(NR_Indices!H16/NR_Indices!G16=0,\"\",NR_Indices!H16/NR_Indices!G16)","v":1.037033040439854},{"$f":"IF(NR_Indices!I16/NR_Indices!H16=0,\"\",NR_Indices!I16/NR_Indices!H16)","v":1.0135833003561534},{"$f":"IF(NR_Indices!J16/NR_Indices!I16=0,\"\",NR_Indices!J16/NR_Indices!I16)","v":1.0356312138490358},{"$f":"IF(NR_Indices!K16/NR_Indices!J16=0,\"\",NR_Indices!K16/NR_Indices!J16)","v":1.1522397726797877},{"$f":"IF(NR_Indices!L16/NR_Indices!K16=0,\"\",NR_Indices!L16/NR_Indices!K16)","v":1.0029332945356244},{"$f":"IF(NR_Indices!M16/NR_Indices!L16=0,\"\",NR_Indices!M16/NR_Indices!L16)","v":0.98895582329317266},{"$f":"IF(NR_Indices!N16/NR_Indices!M16=0,\"\",NR_Indices!N16/NR_Indices!M16)","v":1.0058502043531983},{"$f":"IF(NR_Indices!O16/NR_Indices!N16=0,\"\",NR_Indices!O16/NR_Indices!N16)","v":0.98443579766536993},{"$f":"IF(NR_Indices!P16/NR_Indices!O16=0,\"\",NR_Indices!P16/NR_Indices!O16)","v":0.9341255395732434},{"$f":"IF(NR_Indices!Q16/NR_Indices!P16=0,\"\",NR_Indices!Q16/NR_Indices!P16)","v":0.96274948816475547},{"$f":"IF(NR_Indices!R16/NR_Indices!Q16=0,\"\",NR_Indices!R16/NR_Indices!Q16)","v":0.90681399631675863},{"$f":"IF(NR_Indices!S16/NR_Indices!R16=0,\"\",NR_Indices!S16/NR_Indices!R16)","v":0.86668899681795364},{"$f":"IF(NR_Indices!T16/NR_Indices!S16=0,\"\",NR_Indices!T16/NR_Indices!S16)","v":0.88438818565400834},{"$f":"IF(NR_Indices!U16/NR_Indices!T16=0,\"\",NR_Indices!U16/NR_Indices!T16)","v":0.98668217581096296},{"$f":"IF(NR_Indices!V16/NR_Indices!U16=0,\"\",NR_Indices!V16/NR_Indices!U16)","v":0.89661869927381432},{"$f":"IF(NR_Indices!W16/NR_Indices!V16=0,\"\",NR_Indices!W16/NR_Indices!V16)","v":0.99740259740259751},{"$f":"IF(NR_Indices!X16/NR_Indices!W16=0,\"\",NR_Indices!X16/NR_Indices!W16)","v":1.0276833414278774}]
["Portugal",null,{"$f":"IF(NR_Indices!C17/NR_Indices!B17=0,\"\",NR_Indices!C17/NR_Indices!B17)","v":1.0354081862934581},{"$f":"IF(NR_Indices!D17/NR_Indices!C17=0,\"\",NR_Indices!D17/NR_Indices!C17)","v":1.0173983421260855},{"$f":"IF(NR_Indices!E17/NR_Indices!D17=0,\"\",NR_Indices!E17/NR_Indices!D17)","v":1.0340458677604465},{"$f":"IF(NR_Indices!F17/NR_Indices!E17=0,\"\",NR_Indices!F17/NR_Indices!E17)","v":1.0465563924112093},{"$f":"IF(NR_Indices!G17/NR_Indices!F17=0,\"\",NR_Indices!G17/NR_Indices!F17)","v":1.0550460355770093},{"$f":"IF(NR_Indices!H17/NR_Indices!G17=0,\"\",NR_Indices!H17/NR_Indices!G17)","v":0.97947747719866485},{"$f":"IF(NR_Indices!I17/NR_Indices!H17=0,\"\",NR_Indices!I17/NR_Indices!H17)","v":1.0045304793257721},{"$f":"IF(NR_Indices!J17/NR_Indices!I17=0,\"\",NR_Indices!J17/NR_Indices!I17)","v":0.98496692195447177},{"$f":"IF(NR_Indices!K17/NR_Indices!J17=0,\"\",NR_Indices!K17/NR_Indices!J17)","v":1.0462325399780019},{"$f":"IF(NR_Indices!L17/NR_Indices!K17=0,\"\",NR_Indices!L17/NR_Indices!K17)","v":1.0158999068993984},{"$f":"IF(NR_Indices!M17/NR_Indices!L17=0,\"\",NR_Indices!M17/NR_Indices!L17)","v":1.0272611464968151},{"$f":"IF(NR_Indices!N17/NR_Indices!M17=0,\"\",NR_Indices!N17/NR_Indices!M17)","v":1.0757863667963559},{"$f":"IF(NR_Indices!O17/NR_Indices!N17=0,\"\",NR_Indices!O17/NR_Indices!N17)","v":1.0048979176587514},{"$f":"IF(NR_Indices!P17/NR_Indices!O17=0,\"\",NR_Indices!P17/NR_Indices!O17)","v":0.95815181337137045},{"$f":"IF(NR_Indices!Q17/NR_Indices!P17=0,\"\",NR_Indices!Q17/NR_Indices!P17)","v":1.0339910132123136},{"$f":"IF(NR_Indices!R17/NR_Indices!Q17=0,\"\",NR_Indices!R17/NR_Indices!Q17)","v":0.98972631365412556},{"$f":"IF(NR_Indices!S17/NR_Indices!R17=0,\"\",NR_Indices!S17/NR_Indices!R17)","v":0.92009338125427997},{"$f":"IF(NR_Indices!T17/NR_Indices!S17=0,\"\",NR_Indices!T17/NR_Indices!S17)","v":1.0055232183882765},{"$f":"IF(NR_Indices!U17/NR_Indices!T17=0,\"\",NR_Indices!U17/NR_Indices!T17)","v":1.0143947630240837},{"$f":"IF(NR_Indices!V17/NR_Indices!U17=0,\"\",NR_Indices!V17/NR_Indices!U17)","v":0.98572381936972242},{"$f":"IF(NR_Indices!W17/NR_Indices!V17=0,\"\",NR_Indices!W17/NR_Indices!V17)","v":0.91366022727824225},{"$f":"IF(NR_Indices!X17/NR_Indices!W17=0,\"\",NR_Indices!X17/NR_Indices!W17)","v":1.0296830085960411}]
["Rumänien",null,{"$f":"IF(NR_Indices!C18/NR_Indices!B18=0,\"\",NR_Indices!C18/NR_Indices!B18)","v":1.2854072228726776},{"$f":"IF(NR_Indices!D18/NR_Indices!C18=0,\"\",NR_Indices!D18/NR_Indices!C18)","v":1.0432006685358053},{"$f":"IF(NR_Indices!E18/NR_Indices!D18=0,\"\",NR_Indices!E18/NR_Indices!D18)","v":0.99560802971389994},{"$f":"IF(NR_Indices!F18/NR_Indices!E18=0,\"\",NR_Indices!F18/NR_Indices!E18)","v":1.0294046424741412},{"$f":"IF(NR_Indices!G18/NR_Indices!F18=0,\"\",NR_Indices!G18/NR_Indices!F18)","v":0.95571552630376144},{"$f":"IF(NR_Indices!H18/NR_Indices!G18=0,\"\",NR_Indices!H18/NR_Indices!G18)","v":1.0673571103263724},{"$f":"IF(NR_Indices!I18/NR_Indices!H18=0,\"\",NR_Indices!I18/NR_Indices!H18)","v":0.9898838079483242},{"$f":"IF(NR_Indices!J18/NR_Indices!I18=0,\"\",NR_Indices!J18/NR_Indices!I18)","v":0.98752151891845696},{"$f":"IF(NR_Indices!K18/NR_Indices!J18=0,\"\",NR_Indices!K18/NR_Indices!J18)","v":1.0174786983546438},{"$f":"IF(NR_Indices!L18/NR_Indices!K18=0,\"\",NR_Indices!L18/NR_Indices!K18)","v":1.0770730961491908},{"$f":"IF(NR_Indices!M18/NR_Indices!L18=0,\"\",NR_Indices!M18/NR_Indices!L18)","v":0.98296786684507698},{"$f":"IF(NR_Indices!N18/NR_Indices!M18=0,\"\",NR_Indices!N18/NR_Indices!M18)","v":0.94490890847326503},{"$f":"IF(NR_Indices!O18/NR_Indices!N18=0,\"\",NR_Indices!O18/NR_Indices!N18)","v":1.2409742122357206},{"$f":"IF(NR_Indices!P18/NR_Indices!O18=0,\"\",NR_Indices!P18/NR_Indices!O18)","v":0.83795130566316178},{"$f":"IF(NR_Indices!Q18/NR_Indices!P18=0,\"\",NR_Indices!Q18/NR_Indices!P18)","v":0.66558206765690853},{"$f":"IF(NR_Indices!R18/NR_Indices!Q18=0,\"\",NR_Indices!R18/NR_Indices!Q18)","v":1.041289843095712},{"$f":"IF(NR_Indices!S18/NR_Indices!R18=0,\"\",NR_Indices!S18/NR_Indices!R18)","v":0.99559098072865515},{"$f":"IF(NR_Indices!T18/NR_Indices!S18=0,\"\",NR_Indices!T18/NR_Indices!S18)","v":1.026777285868772},{"$f":"IF(NR_Indices!U18/NR_Indices!T18=0,\"\",NR_Indices!U18/NR_Indices!T18)","v":1.2144148250511213},{"$f":"IF(NR_Indices!V18/NR_Indices!U18=0,\"\",NR_Indices!V18/NR_Indices!U18)","v":0.81888527337324757},{"$f":"IF(NR_Indices!W18/NR_Indices!V18=0,\"\",NR_Indices!W18/NR_Indices!V18)","v":1.469444857989435},{"$f":"IF(NR_Indices!X18/NR_Indices!W18=0,\"\",NR_Indices!X18/NR_Indices!W18)","v":0.80517600143343859}]
["Slowenien",null,{"$f":"IF(NR_Indices!C19/NR_Indices!B19=0,\"\",NR_Indices!C19/NR_Indices!B19)","v":1.0163341607308958},{"$f":"IF(NR_Indices!D19/NR_Indices!C19=0,\"\",NR_Indices!D19/NR_Indices!C19)","v":1.0419950674933145},{"$f":"IF(NR_Indices!E19/NR_Indices!D19=0,\"\",NR_Indices!E19/NR_Indices!D19)","v":0.95878094815621784},{"$f":"IF(NR_Indices!F19/NR_Indices!E19=0,\"\",NR_Indices!F19/NR_Indices!E19)","v":1.0199540038027692},{"$f":"IF(NR_Indices!G19/NR_Indices!F19=0,\"\",NR_Indices!G19/NR_Indices!F19)","v":1.018244266923918},{"$f":"IF(NR_Indices!H19/NR_Indices!G19=0,\"\",NR_Indices!H19/NR_Indices!G19)","v":0.86492184624271906},{"$f":"IF(NR_Indices!I19/NR_Indices!H19=0,\"\",NR_Indices!I19/NR_Indices!H19)","v":1.0328191056595777},{"$f":"IF(NR_Indices!J19/NR_Indices!I19=0,\"\",NR_Indices!J19/NR_Indices!I19)","v":1.0021165714875333},{"$f":"IF(NR_Indices!K19/NR_Indices!J19=0,\"\",NR_Indices!K19/NR_Indices!J19)","v":0.95058863598948007},{"$f":"IF(NR_Indices!L19/NR_Indices!K19=0,\"\",NR_Indices!L19/NR_Indices!K19)","v":0.95872895782107082},{"$f":"IF(NR_Indices!M19/NR_Indices!L19=0,\"\",NR_Indices!M19/NR_Indices!L19)","v":1.0656643092519731},{"$f":"IF(NR_Indices!N19/NR_Indices!M19=0,\"\",NR_Indices!N19/NR_Indices!M19)","v":0.99317634439525238},{"$f":"IF(NR_Indices!O19/NR_Indices!N19=0,\"\",NR_Indices!O19/NR_Indices!N19)","v":1.0463457989707694},{"$f":"IF(NR_Indices!P19/NR_Indices!O19=0,\"\",NR_Indices!P19/NR_Indices!O19)","v":0.97168092342095402},{"$f":"IF(NR_Indices!Q19/NR_Indices!P19=0,\"\",NR_Indices!Q19/NR_Indices!P19)","v":1.0022568297831755},{"$f":"IF(NR_Indices!R19/NR_Indices!Q19=0,\"\",NR_Indices!R19/NR_Indices!Q19)","v":1.0452942119608786},{"$f":"IF(NR_Indices!S19/NR_Indices!R19=0,\"\",NR_Indices!S19/NR_Indices!R19)","v":0.94981110335695029},{"$f":"IF(NR_Indices!T19/NR_Indices!S19=0,\"\",NR_Indices!T19/NR_Indices!S19)","v":0.93690568816734565},{"$f":"IF(NR_Indices!U19/NR_Indices!T19=0,\"\",NR_Indices!U19/NR_Indices!T19)","v":1.0314128216242258},{"$f":"IF(NR_Indices!V19/NR_Indices!U19=0,\"\",NR_Indices!V19/NR_Indices!U19)","v":0.96752228922269856},{"$f":"IF(NR_Indices!W19/NR_Indices!V19=0,\"\",NR_Indices!W19/NR_Indices!V19)","v":1.0063170664307581},{"$f":"IF(NR_Indices!X19/NR_Indices!W19=0,\"\",NR_Indices!X19/NR_Indices!W19)","v":0.9405450240860348}]
["Slowakei",null,{"$f":"IF(NR_Indices!C20/NR_Indices!B20=0,\"\",NR_Indices!C20/NR_Indices!B20)","v":1.2078473342368197},{"$f":"IF(NR_Indices!D20/NR_Indices!C20=0,\"\",NR_Indices!D20/NR_Indices!C20)","v":1.1424955031681501},{"$f":"IF(NR_Indices!E20/NR_Indices!D20=0,\"\",NR_Indices!E20/NR_Indices!D20)","v":1.0794068180196874},{"$f":"IF(NR_Indices!F20/NR_Indices!E20=0,\"\",NR_Indices!F20/NR_Indices!E20)","v":1.0824221548386848},{"$f":"IF(NR_Indices!G20/NR_Indices!F20=0,\"\",NR_Indices!G20/NR_Indices!F20)","v":0.7783124227683168},{"$f":"IF(NR_Indices!H20/NR_Indices!G20=0,\"\",NR_Indices!H20/NR_Indices!G20)","v":1.002163531635371},{"$f":"IF(NR_Indices!I20/NR_Indices!H20=0,\"\",NR_Indices!I20/NR_Indices!H20)","v":0.92499205083111025},{"$f":"IF(NR_Indices!J20/NR_Indices!I20=0,\"\",NR_Indices!J20/NR_Indices!I20)","v":1.0933482261487284},{"$f":"IF(NR_Indices!K20/NR_Indices!J20=0,\"\",NR_Indices!K20/NR_Indices!J20)","v":0.88923989648316371},{"$f":"IF(NR_Indices!L20/NR_Indices!K20=0,\"\",NR_Indices!L20/NR_Indices!K20)","v":1.4142063238361686},{"$f":"IF(NR_Indices!M20/NR_Indices!L20=0,\"\",NR_Indices!M20/NR_Indices!L20)","v":1.0227361355795348},{"$f":"IF(NR_Indices!N20/NR_Indices!M20=0,\"\",NR_Indices!N20/NR_Indices!M20)","v":1.0309101053938554},{"$f":"IF(NR_Indices!O20/NR_Indices!N20=0,\"\",NR_Indices!O20/NR_Indices!N20)","v":0.89102742839927085},{"$f":"IF(NR_Indices!P20/NR_Indices!O20=0,\"\",NR_Indices!P20/NR_Indices!O20)","v":0.86841851828696592},{"$f":"IF(NR_Indices!Q20/NR_Indices!P20=0,\"\",NR_Indices!Q20/NR_Indices!P20)","v":0.94706181908002662},{"$f":"IF(NR_Indices!R20/NR_Indices!Q20=0,\"\",NR_Indices!R20/NR_Indices!Q20)","v":0.99008731509788728},{"$f":"IF(NR_Indices!S20/NR_Indices!R20=0,\"\",NR_Indices!S20/NR_Indices!R20)","v":1.0536656458156481},{"$f":"IF(NR_Indices!T20/NR_Indices!S20=0,\"\",NR_Indices!T20/NR_Indices!S20)","v":0.97903801849548444},{"$f":"IF(NR_Indices!U20/NR_Indices!T20=0,\"\",NR_Indices!U20/NR_Indices!T20)","v":1.0429562043795619},{"$f":"IF(NR_Indices!V20/NR_Indices!U20=0,\"\",NR_Indices!V20/NR_Indices!U20)","v":1.0455106779218921},{"$f":"IF(NR_Indices!W20/NR_Indices!V20=0,\"\",NR_Indices!W20/NR_Indices!V20)","v":1.0498038413670563},{"$f":"IF(NR_Indices!X20/NR_Indices!W20=0,\"\",NR_Indices!X20/NR_Indices!W20)","v":1.0546169699851102}]
["Großbritannien",null,{"$f":"IF(NR_Indices!C21/NR_Indices!B21=0,\"\",NR_Indices!C21/NR_Indices!B21)","v":1.0239714375269069},{"$f":"IF(NR_Indices!D21/NR_Indices!C21=0,\"\",NR_Indices!D21/NR_Indices!C21)","v":1.0878919763108401},{"$f":"IF(NR_Indices!E21/NR_Indices!D21=0,\"\",NR_Indices!E21/NR_Indices!D21)","v":1.0381083100550632},{"$f":"IF(NR_Indices!F21/NR_Indices!E21=0,\"\",NR_Indices!F21/NR_Indices!E21)","v":1.0010078866450465},{"$f":"IF(NR_Indices!G21/NR_Indices!F21=0,\"\",NR_Indices!G21/NR_Indices!F21)","v":1.1235157001459595},{"$f":"IF(NR_Indices!H21/NR_Indices!G21=0,\"\",NR_Indices!H21/NR_Indices!G21)","v":1.0256565958922681},{"$f":"IF(NR_Indices!I21/NR_Indices!H21=0,\"\",NR_Indices!I21/NR_Indices!H21)","v":1.0225147964077095},{"$f":"IF(NR_Indices!J21/NR_Indices!I21=0,\"\",NR_Indices!J21/NR_Indices!I21)","v":1.2191535506126387},{"$f":"IF(NR_Indices!K21/NR_Indices!J21=0,\"\",NR_Indices!K21/NR_Indices!J21)","v":1.1525957922693637},{"$f":"IF(NR_Indices!L21/NR_Indices!K21=0,\"\",NR_Indices!L21/NR_Indices!K21)","v":1.0053644410887324},{"$f":"IF(NR_Indices!M21/NR_Indices!L21=0,\"\",NR_Indices!M21/NR_Indices!L21)","v":0.93020064919040002},{"$f":"IF(NR_Indices!N21/NR_Indices!M21=0,\"\",NR_Indices!N21/NR_Indices!M21)","v":0.94844918055761174},{"$f":"IF(NR_Indices!O21/NR_Indices!N21=0,\"\",NR_Indices!O21/NR_Indices!N21)","v":0.86802570640439447},{"$f":"IF(NR_Indices!P21/NR_Indices!O21=0,\"\",NR_Indices!P21/NR_Indices!O21)","v":0.81533500131822967},{"$f":"IF(NR_Indices!Q21/NR_Indices!P21=0,\"\",NR_Indices!Q21/NR_Indices!P21)","v":1.1432702502177836},{"$f":"IF(NR_Indices!R21/NR_Indices!Q21=0,\"\",NR_Indices!R21/NR_Indices!Q21)","v":1.0476622575098082},{"$f":"IF(NR_Indices!S21/NR_Indices!R21=0,\"\",NR_Indices!S21/NR_Indices!R21)","v":1.0709345820822926},{"$f":"IF(NR_Indices!T21/NR_Indices!S21=0,\"\",NR_Indices!T21/NR_Indices!S21)","v":0.98783541202989555},{"$f":"IF(NR_Indices!U21/NR_Indices!T21=0,\"\",NR_Indices!U21/NR_Indices!T21)","v":1.0605567832857921},{"$f":"IF(NR_Indices!V21/NR_Indices!U21=0,\"\",NR_Indices!V21/NR_Indices!U21)","v":0.93323971805481609},{"$f":"IF(NR_Indices!W21/NR_Indices!V21=0,\"\",NR_Indices!W21/NR_Indices!V21)","v":0.99680414286564423},{"$f":"IF(NR_Indices!X21/NR_Indices!W21=0,\"\",NR_Indices!X21/NR_Indices!W21)","v":""}]
[]
["BWS (preisbereinigt)/Angestellte"]
[null,1995,{"$f":"B24+1","v":1996},{"$f":"C24+1","v":1997},1998,1999,2000,2001,2002,2003,2004,2005,2006,2007,2008,2009,2010,2011,2012,2013,2014,2015,2016,2017]
["Österreich",null,{"$f":"IF(NR_Indices!C25/NR_Indices!B25=0,\"\",NR_Indices!C25/NR_Indices!B25)","v":1.2034215515863902},{"$f":"IF(NR_Indices!D25/NR_Indices!C25=0,\"\",NR_Indices!D25/NR_Indices!C25)","v":0.96347390035280367},{"$f":"IF(NR_Indices!E25/NR_Indices!D25=0,\"\",NR_Indices!E25/NR_Indices!D25)","v":1.1305007084720791},{"$f":"IF(NR_Indices!F25/NR_Indices!E25=0,\"\",NR_Indices!F25/NR_Indices!E25)","v":1.1119358574908371},{"$f":"IF(NR_Indices!G25/NR_Indices!F25=0,\"\",NR_Indices!G25/NR_Indices!F25)","v":1.0042092065132602},{"$f":"IF(NR_Indices!H25/NR_Indices!G25=0,\"\",NR_Indices!H25/NR_Indices!G25)","v":1.0105185870884255},{"$f":"IF(NR_Indices!I25/NR_Indices!H25=0,\"\",NR_Indices!I25/NR_Indices!H25)","v":1.0175958012165232},{"$f":"IF(NR_Indices!J25/NR_Indices!I25=0,\"\",NR_Indices!J25/NR_Indices!I25)","v":1.0863167265413887},{"$f":"IF(NR_Indices!K25/NR_Indices!J25=0,\"\",NR_Indices!K25/NR_Indices!J25)","v":1.0612598178369241},{"$f":"IF(NR_Indices!L25/NR_Indices!K25=0,\"\",NR_Indices!L25/NR_Indices!K25)","v":1.2445988879633771},{"$f":"IF(NR_Indices!M25/NR_Indices!L25=0,\"\",NR_Indices!M25/NR_Indices!L25)","v":1.1105447916060587},{"$f":"IF(NR_Indices!N25/NR_Indices!M25=0,\"\",NR_Indices!N25/NR_Indices!M25)","v":1.0687233237576692},{"$f":"IF(NR_Indices!O25/NR_Indices!N25=0,\"\",NR_Indices!O25/NR_Indices!N25)","v":1.0362709787259026},{"$f":"IF(NR_Indices!P25/NR_Indices!O25=0,\"\",NR_Indices!P25/NR_Indices!O25)","v":1.0240118969190524},{"$f":"IF(NR_Indices!Q25/NR_Indices!P25=0,\"\",NR_Indices!Q25/NR_Indices!P25)","v":1.0283056385721259},{"$f":"IF(NR_Indices!R25/NR_Indices!Q25=0,\"\",NR_Indices!R25/NR_Indices!Q25)","v":0.9834581940581143},{"$f":"IF(NR_Indices!S25/NR_Indices!R25=0,\"\",NR_Indices!S25/NR_Indices!R25)","v":0.99949713307864851},{"$f":"IF(NR_Indices!T25/NR_Indices!S25=0,\"\",NR_Indices!T25/NR_Indices!S25)","v":1.0305422139904683},{"$f":"IF(NR_Indices!U25/NR_Indices!T25=0,\"\",NR_Indices!U25/NR_Indices!T25)","v":1.0215793156667408},{"$f":"IF(NR_Indices!V25/NR_Indices!U25=0,\"\",NR_Indices!V25/NR_Indices!U25)","v":0.93521819034325582},{"$f":"IF(NR_Indices!W25/NR_Indices!V25=0,\"\",NR_Indices!W25/NR_Indices!V25)","v":1.0034786127604918},{"$f":"IF(NR_Indices!X25/NR_Indices!W25=0,\"\",NR_Indices!X25/NR_Indices!W25)","v":1.0282994140680772}]
["Belgien",null,{"$f":"IF(NR_Indices!C26/NR_Indices!B26=0,\"\",NR_Indices!C26/NR_Indices!B26)","v":1.0219864762771023},{"$f":"IF(NR_Indices!D26/NR_Indices!C26=0,\"\",NR_Indices!D26/NR_Indices!C26)","v":0.99496329137797734},{"$f":"IF(NR_Indices!E26/NR_Indices!D26=0,\"\",NR_Indices!E26/NR_Indices!D26)","v":1.033174965801207},{"$f":"IF(NR_Indices!F26/NR_Indices!E26=0,\"\",NR_Indices!F26/NR_Indices!E26)","v":1.0027307250906736},{"$f":"IF(NR_Indices!G26/NR_Indices!F26=0,\"\",NR_Indices!G26/NR_Indices!F26)","v":1.0310773279706889},{"$f":"IF(NR_Indices!H26/NR_Indices!G26=0,\"\",NR_Indices!H26/NR_Indices!G26)","v":0.89163184339488255},{"$f":"IF(NR_Indices!I26/NR_Indices!H26=0,\"\",NR_Indices!I26/NR_Indices!H26)","v":0.95423938636212158},{"$f":"IF(NR_Indices!J26/NR_Indices!I26=0,\"\",NR_Indices!J26/NR_Indices!I26)","v":1.0247014199075819},{"$f":"IF(NR_Indices!K26/NR_Indices!J26=0,\"\",NR_Indices!K26/NR_Indices!J26)","v":1.0144982558397384},{"$f":"IF(NR_Indices!L26/NR_Indices!K26=0,\"\",NR_Indices!L26/NR_Indices!K26)","v":1.0095007866738939},{"$f":"IF(NR_Indices!M26/NR_Indices!L26=0,\"\",NR_Indices!M26/NR_Indices!L26)","v":1.0255862027779639},{"$f":"IF(NR_Indices!N26/NR_Indices!M26=0,\"\",NR_Indices!N26/NR_Indices!M26)","v":1.0565839121345406},{"$f":"IF(NR_Indices!O26/NR_Indices!N26=0,\"\",NR_Indices!O26/NR_Indices!N26)","v":1.0608552546636447},{"$f":"IF(NR_Indices!P26/NR_Indices!O26=0,\"\",NR_Indices!P26/NR_Indices!O26)","v":0.96704360200432216},{"$f":"IF(NR_Indices!Q26/NR_Indices!P26=0,\"\",NR_Indices!Q26/NR_Indices!P26)","v":1.013155164421899},{"$f":"IF(NR_Indices!R26/NR_Indices!Q26=0,\"\",NR_Indices!R26/NR_Indices!Q26)","v":1.0426762697610714},{"$f":"IF(NR_Indices!S26/NR_Indices!R26=0,\"\",NR_Indices!S26/NR_Indices!R26)","v":0.97791991383410237},{"$f":"IF(NR_Indices!T26/NR_Indices!S26=0,\"\",NR_Indices!T26/NR_Indices!S26)","v":1.0158562843569545},{"$f":"IF(NR_Indices!U26/NR_Indices!T26=0,\"\",NR_Indices!U26/NR_Indices!T26)","v":0.97576204718178727},{"$f":"IF(NR_Indices!V26/NR_Indices!U26=0,\"\",NR_Indices!V26/NR_Indices!U26)","v":0.98756369176348036},{"$f":"IF(NR_Indices!W26/NR_Indices!V26=0,\"\",NR_Indices!W26/NR_Indices!V26)","v":0.95978878789434352},{"$f":"IF(NR_Indices!X26/NR_Indices!W26=0,\"\",NR_Indices!X26/NR_Indices!W26)","v":""}]
["Tschechien",null,{"$f":"IF(NR_Indices!C27/NR_Indices!B27=0,\"\",NR_Indices!C27/NR_Indices!B27)","v":1.054879420682207},{"$f":"IF(NR_Indices!D27/NR_Indices!C27=0,\"\",NR_Indices!D27/NR_Indices!C27)","v":0.87609880478823565},{"$f":"IF(NR_Indices!E27/NR_Indices!D27=0,\"\",NR_Indices!E27/NR_Indices!D27)","v":1.1126865718350181},{"$f":"IF(NR_Indices!F27/NR_Indices!E27=0,\"\",NR_Indices!F27/NR_Indices!E27)","v":0.94952584962978359},{"$f":"IF(NR_Indices!G27/NR_Indices!F27=0,\"\",NR_Indices!G27/NR_Indices!F27)","v":1.1015268863693397},{"$f":"IF(NR_Indices!H27/NR_Indices!G27=0,\"\",NR_Indices!H27/NR_Indices!G27)","v":1.102405769959806},{"$f":"IF(NR_Indices!I27/NR_Indices!H27=0,\"\",NR_Indices!I27/NR_Indices!H27)","v":1.0250376550536984},{"$f":"IF(NR_Indices!J27/NR_Indices!I27=0,\"\",NR_Indices!J27/NR_Indices!I27)","v":1.2211950243642531},{"$f":"IF(NR_Indices!K27/NR_Indices!J27=0,\"\",NR_Indices!K27/NR_Indices!J27)","v":0.99417760405618749},{"$f":"IF(NR_Indices!L27/NR_Indices!K27=0,\"\",NR_Indices!L27/NR_Indices!K27)","v":1.0022582049395998},{"$f":"IF(NR_Indices!M27/NR_Indices!L27=0,\"\",NR_Indices!M27/NR_Indices!L27)","v":1.1140785660906287},{"$f":"IF(NR_Indices!N27/NR_Indices!M27=0,\"\",NR_Indices!N27/NR_Indices!M27)","v":1.0750185575662505},{"$f":"IF(NR_Indices!O27/NR_Indices!N27=0,\"\",NR_Indices!O27/NR_Indices!N27)","v":0.91254643116231793},{"$f":"IF(NR_Indices!P27/NR_Indices!O27=0,\"\",NR_Indices!P27/NR_Indices!O27)","v":1.0271329900189483},{"$f":"IF(NR_Indices!Q27/NR_Indices!P27=0,\"\",NR_Indices!Q27/NR_Indices!P27)","v":0.95286546276802686},{"$f":"IF(NR_Indices!R27/NR_Indices!Q27=0,\"\",NR_Indices!R27/NR_Indices!Q27)","v":1.0287659474574671},{"$f":"IF(NR_Indices!S27/NR_Indices!R27=0,\"\",NR_Indices!S27/NR_Indices!R27)","v":1.013682822553295},{"$f":"IF(NR_Indices!T27/NR_Indices!S27=0,\"\",NR_Indices!T27/NR_Indices!S27)","v":0.94190729631969417},{"$f":"IF(NR_Indices!U27/NR_Indices!T27=0,\"\",NR_Indices!U27/NR_Indices!T27)","v":0.95159234568204387},{"$f":"IF(NR_Indices!V27/NR_Indices!U27=0,\"\",NR_Indices!V27/NR_Indices!U27)","v":0.97887409546422322},{"$f":"IF(NR_Indices!W27/NR_Indices!V27=0,\"\",NR_Indices!W27/NR_Indices!V27)","v":0.95115521106487888},{"$f":"IF(NR_Indices!X27/NR_Indices!W27=0,\"\",NR_Indices!X27/NR_Indices!W27)","v":0.94979104143499615}]
["Dänemark",null,{"$f":"IF(NR_Indices!C28/NR_Indices!B28=0,\"\",NR_Indices!C28/NR_Indices!B28)","v":1.0262928348909659},{"$f":"IF(NR_Indices!D28/NR_Indices!C28=0,\"\",NR_Indices!D28/NR_Indices!C28)","v":0.98474118497724472},{"$f":"IF(NR_Indices!E28/NR_Indices!D28=0,\"\",NR_Indices!E28/NR_Indices!D28)","v":0.95145571033511389},{"$f":"IF(NR_Indices!F28/NR_Indices!E28=0,\"\",NR_Indices!F28/NR_Indices!E28)","v":0.92815381914908002},{"$f":"IF(NR_Indices!G28/NR_Indices!F28=0,\"\",NR_Indices!G28/NR_Indices!F28)","v":0.87343465045592694},{"$f":"IF(NR_Indices!H28/NR_Indices!G28=0,\"\",NR_Indices!H28/NR_Indices!G28)","v":1.2757075376478662},{"$f":"IF(NR_Indices!I28/NR_Indices!H28=0,\"\",NR_Indices!I28/NR_Indices!H28)","v":0.96833170094678445},{"$f":"IF(NR_Indices!J28/NR_Indices!I28=0,\"\",NR_Indices!J28/NR_Indices!I28)","v":0.96469804618117216},{"$f":"IF(NR_Indices!K28/NR_Indices!J28=0,\"\",NR_Indices!K28/NR_Indices!J28)","v":0.99505548840786739},{"$f":"IF(NR_Indices!L28/NR_Indices!K28=0,\"\",NR_Indices!L28/NR_Indices!K28)","v":0.96558000006275868},{"$f":"IF(NR_Indices!M28/NR_Indices!L28=0,\"\",NR_Indices!M28/NR_Indices!L28)","v":0.85704219444677454},{"$f":"IF(NR_Indices!N28/NR_Indices!M28=0,\"\",NR_Indices!N28/NR_Indices!M28)","v":0.98565786738723782},{"$f":"IF(NR_Indices!O28/NR_Indices!N28=0,\"\",NR_Indices!O28/NR_Indices!N28)","v":0.87039014928304848},{"$f":"IF(NR_Indices!P28/NR_Indices!O28=0,\"\",NR_Indices!P28/NR_Indices!O28)","v":0.98081825023322577},{"$f":"IF(NR_Indices!Q28/NR_Indices!P28=0,\"\",NR_Indices!Q28/NR_Indices!P28)","v":0.92130595162091244},{"$f":"IF(NR_Indices!R28/NR_Indices!Q28=0,\"\",NR_Indices!R28/NR_Indices!Q28)","v":0.78724129442729729},{"$f":"IF(NR_Indices!S28/NR_Indices!R28=0,\"\",NR_Indices!S28/NR_Indices!R28)","v":0.95300987810153248},{"$f":"IF(NR_Indices!T28/NR_Indices!S28=0,\"\",NR_Indices!T28/NR_Indices!S28)","v":1.0066348927630753},{"$f":"IF(NR_Indices!U28/NR_Indices!T28=0,\"\",NR_Indices!U28/NR_Indices!T28)","v":1.0085130431662424},{"$f":"IF(NR_Indices!V28/NR_Indices!U28=0,\"\",NR_Indices!V28/NR_Indices!U28)","v":0.91146192776627544},{"$f":"IF(NR_Indices!W28/NR_Indices!V28=0,\"\",NR_Indices!W28/NR_Indices!V28)","v":0.91689215307305771},{"$f":"IF(NR_Indices!X28/NR_Indices!W28=0,\"\",NR_Indices!X28/NR_Indices!W28)","v":1.1677472780248426}]
["Estland",null,{"$f":"IF(NR_Indices!C29/NR_Indices!B29=0,\"\",NR_Indices!C29/NR_Indices!B29)","v":1.1478355805597609},{"$f":"IF(NR_Indices!D29/NR_Indices!C29=0,\"\",NR_Indices!D29/NR_Indices!C29)","v":1.1127938141316598},{"$f":"IF(NR_Indices!E29/NR_Indices!D29=0,\"\",NR_Indices!E29/NR_Indices!D29)","v":1.2190913988753709},{"$f":"IF(NR_Indices!F29/NR_Indices!E29=0,\"\",NR_Indices!F29/NR_Indices!E29)","v":0.97279263526207738},{"$f":"IF(NR_Indices!G29/NR_Indices!F29=0,\"\",NR_Indices!G29/NR_Indices!F29)","v":1.105991833370755},{"$f":"IF(NR_Indices!H29/NR_Indices!G29=0,\"\",NR_Indices!H29/NR_Indices!G29)","v":1.2214578300227215},{"$f":"IF(NR_Indices!I29/NR_Indices!H29=0,\"\",NR_Indices!I29/NR_Indices!H29)","v":1.1710966567627616},{"$f":"IF(NR_Indices!J29/NR_Indices!I29=0,\"\",NR_Indices!J29/NR_Indices!I29)","v":1.0439700611427365},{"$f":"IF(NR_Indices!K29/NR_Indices!J29=0,\"\",NR_Indices!K29/NR_Indices!J29)","v":1.2927744145184625},{"$f":"IF(NR_Indices!L29/NR_Indices!K29=0,\"\",NR_Indices!L29/NR_Indices!K29)","v":1.2754797006329366},{"$f":"IF(NR_Indices!M29/NR_Indices!L29=0,\"\",NR_Indices!M29/NR_Indices!L29)","v":0.93512195121951225},{"$f":"IF(NR_Indices!N29/NR_Indices!M29=0,\"\",NR_Indices!N29/NR_Indices!M29)","v":1.1373490732194977},{"$f":"IF(NR_Indices!O29/NR_Indices!N29=0,\"\",NR_Indices!O29/NR_Indices!N29)","v":0.95109116507009162},{"$f":"IF(NR_Indices!P29/NR_Indices!O29=0,\"\",NR_Indices!P29/NR_Indices!O29)","v":0.8668746700440414},{"$f":"IF(NR_Indices!Q29/NR_Indices!P29=0,\"\",NR_Indices!Q29/NR_Indices!P29)","v":0.94068717491370801},{"$f":"IF(NR_Indices!R29/NR_Indices!Q29=0,\"\",NR_Indices!R29/NR_Indices!Q29)","v":0.9405807063316004},{"$f":"IF(NR_Indices!S29/NR_Indices!R29=0,\"\",NR_Indices!S29/NR_Indices!R29)","v":0.95245957201605114},{"$f":"IF(NR_Indices!T29/NR_Indices!S29=0,\"\",NR_Indices!T29/NR_Indices!S29)","v":1.1434007098879797},{"$f":"IF(NR_Indices!U29/NR_Indices!T29=0,\"\",NR_Indices!U29/NR_Indices!T29)","v":0.88468377510598639},{"$f":"IF(NR_Indices!V29/NR_Indices!U29=0,\"\",NR_Indices!V29/NR_Indices!U29)","v":0.91696524172758498},{"$f":"IF(NR_Indices!W29/NR_Indices!V29=0,\"\",NR_Indices!W29/NR_Indices!V29)","v":0.9745389488887698},{"$f":"IF(NR_Indices!X29/NR_Indices!W29=0,\"\",NR_Indices!X29/NR_Indices!W29)","v":1.0884157295894605}]
["Frankreich",null,{"$f":"IF(NR_Indices!C30/NR_Indices!B30=0,\"\",NR_Indices!C30/NR_Indices!B30)","v":1.0336040861453846},{"$f":"IF(NR_Indices!D30/NR_Indices!C30=0,\"\",NR_Indices!D30/NR_Indices!C30)","v":0.9967335554314366},{"$f":"IF(NR_Indices!E30/NR_Indices!D30=0,\"\",NR_Indices!E30/NR_Indices!D30)","v":1.0390748412040871},{"$f":"IF(NR_Indices!F30/NR_Indices!E30=0,\"\",NR_Indices!F30/NR_Indices!E30)","v":1.0619502193843724},{"$f":"IF(NR_Indices!G30/NR_Indices!F30=0,\"\",NR_Indices!G30/NR_Indices!F30)","v":0.9197371275194296},{"$f":"IF(NR_Indices!H30/NR_Indices!G30=0,\"\",NR_Indices!H30/NR_Indices!G30)","v":0.95907618454199506},{"$f":"IF(NR_Indices!I30/NR_Indices!H30=0,\"\",NR_Indices!I30/NR_Indices!H30)","v":0.97764336120500506},{"$f":"IF(NR_Indices!J30/NR_Indices!I30=0,\"\",NR_Indices!J30/NR_Indices!I30)","v":0.97334058534315826},{"$f":"IF(NR_Indices!K30/NR_Indices!J30=0,\"\",NR_Indices!K30/NR_Indices!J30)","v":1.0313802916053165},{"$f":"IF(NR_Indices!L30/NR_Indices!K30=0,\"\",NR_Indices!L30/NR_Indices!K30)","v":1.0135678018415755},{"$f":"IF(NR_Indices!M30/NR_Indices!L30=0,\"\",NR_Indices!M30/NR_Indices!L30)","v":0.97016708627156201},{"$f":"IF(NR_Indices!N30/NR_Indices!M30=0,\"\",NR_Indices!N30/NR_Indices!M30)","v":1.0398257300238276},{"$f":"IF(NR_Indices!O30/NR_Indices!N30=0,\"\",NR_Indices!O30/NR_Indices!N30)","v":1.0102827026269168},{"$f":"IF(NR_Indices!P30/NR_Indices!O30=0,\"\",NR_Indices!P30/NR_Indices!O30)","v":1.0152979614422499},{"$f":"IF(NR_Indices!Q30/NR_Indices!P30=0,\"\",NR_Indices!Q30/NR_Indices!P30)","v":0.95705853009644171},{"$f":"IF(NR_Indices!R30/NR_Indices!Q30=0,\"\",NR_Indices!R30/NR_Indices!Q30)","v":0.95374484071670584},{"$f":"IF(NR_Indices!S30/NR_Indices!R30=0,\"\",NR_Indices!S30/NR_Indices!R30)","v":0.98529827469036002},{"$f":"IF(NR_Indices!T30/NR_Indices!S30=0,\"\",NR_Indices!T30/NR_Indices!S30)","v":0.94950099514010899},{"$f":"IF(NR_Indices!U30/NR_Indices!T30=0,\"\",NR_Indices!U30/NR_Indices!T30)","v":0.97068301442148974},{"$f":"IF(NR_Indices!V30/NR_Indices!U30=0,\"\",NR_Indices!V30/NR_Indices!U30)","v":0.92341541338018973},{"$f":"IF(NR_Indices!W30/NR_Indices!V30=0,\"\",NR_Indices!W30/NR_Indices!V30)","v":0.99014915110805524},{"$f":"IF(NR_Indices!X30/NR_Indices!W30=0,\"\",NR_Indices!X30/NR_Indices!W30)","v":1.0036304245034779}]
["Griechenland",null,{"$f":"IF(NR_Indices!C31/NR_Indices!B31=0,\"\",NR_Indices!C31/NR_Indices!B31)","v":0.99686744409161387},{"$f":"IF(NR_Indices!D31/NR_Indices!C31=0,\"\",NR_Indices!D31/NR_Indices!C31)","v":1.2017367849491327},{"$f":"IF(NR_Indices!E31/NR_Indices!D31=0,\"\",NR_Indices!E31/NR_Indices!D31)","v":1.0365620371255031},{"$f":"IF(NR_Indices!F31/NR_Indices!E31=0,\"\",NR_Indices!F31/NR_Indices!E31)","v":1.2834695914946845},{"$f":"IF(NR_Indices!G31/NR_Indices!F31=0,\"\",NR_Indices!G31/NR_Indices!F31)","v":1.0165103210566082},{"$f":"IF(NR_Indices!H31/NR_Indices!G31=0,\"\",NR_Indices!H31/NR_Indices!G31)","v":1.1251542820244385},{"$f":"IF(NR_Indices!I31/NR_Indices!H31=0,\"\",NR_Indices!I31/NR_Indices!H31)","v":1.0464727999541048},{"$f":"IF(NR_Indices!J31/NR_Indices!I31=0,\"\",NR_Indices!J31/NR_Indices!I31)","v":0.9773127950584205},{"$f":"IF(NR_Indices!K31/NR_Indices!J31=0,\"\",NR_Indices!K31/NR_Indices!J31)","v":1.0289194846704737},{"$f":"IF(NR_Indices!L31/NR_Indices!K31=0,\"\",NR_Indices!L31/NR_Indices!K31)","v":1.0081277902771715},{"$f":"IF(NR_Indices!M31/NR_Indices!L31=0,\"\",NR_Indices!M31/NR_Indices!L31)","v":1.0868842376785195},{"$f":"IF(NR_Indices!N31/NR_Indices!M31=0,\"\",NR_Indices!N31/NR_Indices!M31)","v":1.0283244786494539},{"$f":"IF(NR_Indices!O31/NR_Indices!N31=0,\"\",NR_Indices!O31/NR_Indices!N31)","v":1.0957833055226549},{"$f":"IF(NR_Indices!P31/NR_Indices!O31=0,\"\",NR_Indices!P31/NR_Indices!O31)","v":0.89028416990267978},{"$f":"IF(NR_Indices!Q31/NR_Indices!P31=0,\"\",NR_Indices!Q31/NR_Indices!P31)","v":0.93954585288043735},{"$f":"IF(NR_Indices!R31/NR_Indices!Q31=0,\"\",NR_Indices!R31/NR_Indices!Q31)","v":0.958910083281033},{"$f":"IF(NR_Indices!S31/NR_Indices!R31=0,\"\",NR_Indices!S31/NR_Indices!R31)","v":0.90539918870432645},{"$f":"IF(NR_Indices!T31/NR_Indices!S31=0,\"\",NR_Indices!T31/NR_Indices!S31)","v":0.88115459237837235},{"$f":"IF(NR_Indices!U31/NR_Indices!T31=0,\"\",NR_Indices!U31/NR_Indices!T31)","v":0.90820311089995165},{"$f":"IF(NR_Indices!V31/NR_Indices!U31=0,\"\",NR_Indices!V31/NR_Indices!U31)","v":0.89560210064129675},{"$f":"IF(NR_Indices!W31/NR_Indices!V31=0,\"\",NR_Indices!W31/NR_Indices!V31)","v":0.98667137876331512},{"$f":"IF(NR_Indices!X31/NR_Indices!W31=0,\"\",NR_Indices!X31/NR_Indices!W31)","v":0.98511003010839293}]
["Italien",null,{"$f":"IF(NR_Indices!C32/NR_Indices!B32=0,\"\",NR_Indices!C32/NR_Indices!B32)","v":1.0032520239610807},{"$f":"IF(NR_Indices!D32/NR_Indices!C32=0,\"\",NR_Indices!D32/NR_Indices!C32)","v":1.0862959512714279},{"$f":"IF(NR_Indices!E32/NR_Indices!D32=0,\"\",NR_Indices!E32/NR_Indices!D32)","v":1.0228590005876641},{"$f":"IF(NR_Indices!F32/NR_Indices!E32=0,\"\",NR_Indices!F32/NR_Indices!E32)","v":1.126602180337132},{"$f":"IF(NR_Indices!G32/NR_Indices!F32=0,\"\",NR_Indices!G32/NR_Indices!F32)","v":1.048551871451701},{"$f":"IF(NR_Indices!H32/NR_Indices!G32=0,\"\",NR_Indices!H32/NR_Indices!G32)","v":1.1482063004738485},{"$f":"IF(NR_Indices!I32/NR_Indices!H32=0,\"\",NR_Indices!I32/NR_Indices!H32)","v":0.97788876344040021},{"$f":"IF(NR_Indices!J32/NR_Indices!I32=0,\"\",NR_Indices!J32/NR_Indices!I32)","v":1.0264081791173505},{"$f":"IF(NR_Indices!K32/NR_Indices!J32=0,\"\",NR_Indices!K32/NR_Indices!J32)","v":0.98351494685969276},{"$f":"IF(NR_Indices!L32/NR_Indices!K32=0,\"\",NR_Indices!L32/NR_Indices!K32)","v":1.0405765035005645},{"$f":"IF(NR_Indices!M32/NR_Indices!L32=0,\"\",NR_Indices!M32/NR_Indices!L32)","v":1.0199756534720639},{"$f":"IF(NR_Indices!N32/NR_Indices!M32=0,\"\",NR_Indices!N32/NR_Indices!M32)","v":1.0505428258167471},{"$f":"IF(NR_Indices!O32/NR_Indices!N32=0,\"\",NR_Indices!O32/NR_Indices!N32)","v":0.97498800501295668},{"$f":"IF(NR_Indices!P32/NR_Indices!O32=0,\"\",NR_Indices!P32/NR_Indices!O32)","v":0.99077462650175629},{"$f":"IF(NR_Indices!Q32/NR_Indices!P32=0,\"\",NR_Indices!Q32/NR_Indices!P32)","v":1.031640961368661},{"$f":"IF(NR_Indices!R32/NR_Indices!Q32=0,\"\",NR_Indices!R32/NR_Indices!Q32)","v":0.95350008640715556},{"$f":"IF(NR_Indices!S32/NR_Indices!R32=0,\"\",NR_Indices!S32/NR_Indices!R32)","v":0.94925513384425086},{"$f":"IF(NR_Indices!T32/NR_Indices!S32=0,\"\",NR_Indices!T32/NR_Indices!S32)","v":1.0874118510905042},{"$f":"IF(NR_Indices!U32/NR_Indices!T32=0,\"\",NR_Indices!U32/NR_Indices!T32)","v":0.89489176828298622},{"$f":"IF(NR_Indices!V32/NR_Indices!U32=0,\"\",NR_Indices!V32/NR_Indices!U32)","v":1.027077009766078},{"$f":"IF(NR_Indices!W32/NR_Indices!V32=0,\"\",NR_Indices!W32/NR_Indices!V32)","v":0.99233250784677818},{"$f":"IF(NR_Indices!X32/NR_Indices!W32=0,\"\",NR_Indices!X32/NR_Indices!W32)","v":1.0077444809587761}]
["Spanien",null,{"$f":"IF(NR_Indices!C33/NR_Indices!B33=0,\"\",NR_Indices!C33/NR_Indices!B33)","v":1.1618456864358502},{"$f":"IF(NR_Indices!D33/NR_Indices!C33=0,\"\",NR_Indices!D33/NR_Indices!C33)","v":1.1217124503596683},{"$f":"IF(NR_Indices!E33/NR_Indices!D33=0,\"\",NR_Indices!E33/NR_Indices!D33)","v":1.0808119966342109},{"$f":"IF(NR_Indices!F33/NR_Indices!E33=0,\"\",NR_Indices!F33/NR_Indices!E33)","v":1.0245000787913807},{"$f":"IF(NR_Indices!G33/NR_Indices!F33=0,\"\",NR_Indices!G33/NR_Indices!F33)","v":1.0979041707351094},{"$f":"IF(NR_Indices!H33/NR_Indices!G33=0,\"\",NR_Indices!H33/NR_Indices!G33)","v":1.0635478138560137},{"$f":"IF(NR_Indices!I33/NR_Indices!H33=0,\"\",NR_Indices!I33/NR_Indices!H33)","v":1.0882569761907399},{"$f":"IF(NR_Indices!J33/NR_Indices!I33=0,\"\",NR_Indices!J33/NR_Indices!I33)","v":1.0594673919639852},{"$f":"IF(NR_Indices!K33/NR_Indices!J33=0,\"\",NR_Indices!K33/NR_Indices!J33)","v":1.0625014118550646},{"$f":"IF(NR_Indices!L33/NR_Indices!K33=0,\"\",NR_Indices!L33/NR_Indices!K33)","v":1.0526274386062746},{"$f":"IF(NR_Indices!M33/NR_Indices!L33=0,\"\",NR_Indices!M33/NR_Indices!L33)","v":1.0099094397111097},{"$f":"IF(NR_Indices!N33/NR_Indices!M33=0,\"\",NR_Indices!N33/NR_Indices!M33)","v":1.0845068476000477},{"$f":"IF(NR_Indices!O33/NR_Indices!N33=0,\"\",NR_Indices!O33/NR_Indices!N33)","v":1.0294757724141879},{"$f":"IF(NR_Indices!P33/NR_Indices!O33=0,\"\",NR_Indices!P33/NR_Indices!O33)","v":0.94654495920875359},{"$f":"IF(NR_Indices!Q33/NR_Indices!P33=0,\"\",NR_Indices!Q33/NR_Indices!P33)","v":1.1047925569383892},{"$f":"IF(NR_Indices!R33/NR_Indices!Q33=0,\"\",NR_Indices!R33/NR_Indices!Q33)","v":1.0431514361731009},{"$f":"IF(NR_Indices!S33/NR_Indices!R33=0,\"\",NR_Indices!S33/NR_Indices!R33)","v":0.96543456246618309},{"$f":"IF(NR_Indices!T33/NR_Indices!S33=0,\"\",NR_Indices!T33/NR_Indices!S33)","v":1.0807503791284134},{"$f":"IF(NR_Indices!U33/NR_Indices!T33=0,\"\",NR_Indices!U33/NR_Indices!T33)","v":1.1215533701403271},{"$f":"IF(NR_Indices!V33/NR_Indices!U33=0,\"\",NR_Indices!V33/NR_Indices!U33)","v":0.97083870967741914},{"$f":"IF(NR_Indices!W33/NR_Indices!V33=0,\"\",NR_Indices!W33/NR_Indices!V33)","v":0.93670498221954746},{"$f":"IF(NR_Indices!X33/NR_Indices!W33=0,\"\",NR_Indices!X33/NR_Indices!W33)","v":0.97184784760332388}]
["Finnland",null,{"$f":"IF(NR_Indices!C34/NR_Indices!B34=0,\"\",NR_Indices!C34/NR_Indices!B34)","v":1.0406394363730938},{"$f":"IF(NR_Indices!D34/NR_Indices!C34=0,\"\",NR_Indices!D34/NR_Indices!C34)","v":1.0589502018842532},{"$f":"IF(NR_Indices!E34/NR_Indices!D34=0,\"\",NR_Indices!E34/NR_Indices!D34)","v":1.0126997430898457},{"$f":"IF(NR_Indices!F34/NR_Indices!E34=0,\"\",NR_Indices!F34/NR_Indices!E34)","v":1.0960583444479126},{"$f":"IF(NR_Indices!G34/NR_Indices!F34=0,\"\",NR_Indices!G34/NR_Indices!F34)","v":1.0324277524277525},{"$f":"IF(NR_Indices!H34/NR_Indices!G34=0,\"\",NR_Indices!H34/NR_Indices!G34)","v":1.0132470398813238},{"$f":"IF(NR_Indices!I34/NR_Indices!H34=0,\"\",NR_Indices!I34/NR_Indices!H34)","v":0.97941603910688335},{"$f":"IF(NR_Indices!J34/NR_Indices!I34=0,\"\",NR_Indices!J34/NR_Indices!I34)","v":1.0111380145278448},{"$f":"IF(NR_Indices!K34/NR_Indices!J34=0,\"\",NR_Indices!K34/NR_Indices!J34)","v":1.022550699411642},{"$f":"IF(NR_Indices!L34/NR_Indices!K34=0,\"\",NR_Indices!L34/NR_Indices!K34)","v":0.99775831782071778},{"$f":"IF(NR_Indices!M34/NR_Indices!L34=0,\"\",NR_Indices!M34/NR_Indices!L34)","v":0.99447194027346708},{"$f":"IF(NR_Indices!N34/NR_Indices!M34=0,\"\",NR_Indices!N34/NR_Indices!M34)","v":0.99033700422290294},{"$f":"IF(NR_Indices!O34/NR_Indices!N34=0,\"\",NR_Indices!O34/NR_Indices!N34)","v":0.98208284365270826},{"$f":"IF(NR_Indices!P34/NR_Indices!O34=0,\"\",NR_Indices!P34/NR_Indices!O34)","v":0.97178723295903013},{"$f":"IF(NR_Indices!Q34/NR_Indices!P34=0,\"\",NR_Indices!Q34/NR_Indices!P34)","v":1.0583773952032487},{"$f":"IF(NR_Indices!R34/NR_Indices!Q34=0,\"\",NR_Indices!R34/NR_Indices!Q34)","v":0.98591483930850443},{"$f":"IF(NR_Indices!S34/NR_Indices!R34=0,\"\",NR_Indices!S34/NR_Indices!R34)","v":1.0296668444244856},{"$f":"IF(NR_Indices!T34/NR_Indices!S34=0,\"\",NR_Indices!T34/NR_Indices!S34)","v":0.88624127389697493},{"$f":"IF(NR_Indices!U34/NR_Indices!T34=0,\"\",NR_Indices!U34/NR_Indices!T34)","v":0.84121572256587596},{"$f":"IF(NR_Indices!V34/NR_Indices!U34=0,\"\",NR_Indices!V34/NR_Indices!U34)","v":0.93551422251300764},{"$f":"IF(NR_Indices!W34/NR_Indices!V34=0,\"\",NR_Indices!W34/NR_Indices!V34)","v":0.95643610242150379},{"$f":"IF(NR_Indices!X34/NR_Indices!W34=0,\"\",NR_Indices!X34/NR_Indices!W34)","v":0.88502454991816681}]
["Ungarn",null,{"$f":"IF(NR_Indices!C35/NR_Indices!B35=0,\"\",NR_Indices!C35/NR_Indices!B35)","v":0.89582147488238406},{"$f":"IF(NR_Indices!D35/NR_Indices!C35=0,\"\",NR_Indices!D35/NR_Indices!C35)","v":0.97468537505039932},{"$f":"IF(NR_Indices!E35/NR_Indices!D35=0,\"\",NR_Indices!E35/NR_Indices!D35)","v":1.0599378395177703},{"$f":"IF(NR_Indices!F35/NR_Indices!E35=0,\"\",NR_Indices!F35/NR_Indices!E35)","v":1.0205079424185213},{"$f":"IF(NR_Indices!G35/NR_Indices!F35=0,\"\",NR_Indices!G35/NR_Indices!F35)","v":0.96501569252603436},{"$f":"IF(NR_Indices!H35/NR_Indices!G35=0,\"\",NR_Indices!H35/NR_Indices!G35)","v":1.4789148276717274},{"$f":"IF(NR_Indices!I35/NR_Indices!H35=0,\"\",NR_Indices!I35/NR_Indices!H35)","v":1.2410850642407241},{"$f":"IF(NR_Indices!J35/NR_Indices!I35=0,\"\",NR_Indices!J35/NR_Indices!I35)","v":0.91519165518864354},{"$f":"IF(NR_Indices!K35/NR_Indices!J35=0,\"\",NR_Indices!K35/NR_Indices!J35)","v":1.1742613695216926},{"$f":"IF(NR_Indices!L35/NR_Indices!K35=0,\"\",NR_Indices!L35/NR_Indices!K35)","v":1.0582031432481207},{"$f":"IF(NR_Indices!M35/NR_Indices!L35=0,\"\",NR_Indices!M35/NR_Indices!L35)","v":1.0065959311371322},{"$f":"IF(NR_Indices!N35/NR_Indices!M35=0,\"\",NR_Indices!N35/NR_Indices!M35)","v":1.0678193830101173},{"$f":"IF(NR_Indices!O35/NR_Indices!N35=0,\"\",NR_Indices!O35/NR_Indices!N35)","v":1.1561038659005667},{"$f":"IF(NR_Indices!P35/NR_Indices!O35=0,\"\",NR_Indices!P35/NR_Indices!O35)","v":0.84757578288077517},{"$f":"IF(NR_Indices!Q35/NR_Indices!P35=0,\"\",NR_Indices!Q35/NR_Indices!P35)","v":0.97256908363259642},{"$f":"IF(NR_Indices!R35/NR_Indices!Q35=0,\"\",NR_Indices!R35/NR_Indices!Q35)","v":0.9924772483207418},{"$f":"IF(NR_Indices!S35/NR_Indices!R35=0,\"\",NR_Indices!S35/NR_Indices!R35)","v":0.97870653865819646},{"$f":"IF(NR_Indices!T35/NR_Indices!S35=0,\"\",NR_Indices!T35/NR_Indices!S35)","v":1.0624743858285308},{"$f":"IF(NR_Indices!U35/NR_Indices!T35=0,\"\",NR_Indices!U35/NR_Indices!T35)","v":1.0462760068977273},{"$f":"IF(NR_Indices!V35/NR_Indices!U35=0,\"\",NR_Indices!V35/NR_Indices!U35)","v":1.0270856820990695},{"$f":"IF(NR_Indices!W35/NR_Indices!V35=0,\"\",NR_Indices!W35/NR_Indices!V35)","v":0.9449966208047722},{"$f":"IF(NR_Indices!X35/NR_Indices!W35=0,\"\",NR_Indices!X35/NR_Indices!W35)","v":0.90892797888047094}]
["Irland",null,{"$f":"IF(NR_Indices!C36/NR_Indices!B36=0,\"\",NR_Indices!C36/NR_Indices!B36)","v":1.0019733567416653},{"$f":"IF(NR_Indices!D36/NR_Indices!C36=0,\"\",NR_Indices!D36/NR_Indices!C36)","v":1.042778941549976},{"$f":"IF(NR_Indices!E36/NR_Indices!D36=0,\"\",NR_Indices!E36/NR_Indices!D36)","v":0.84653106482841689},{"$f":"IF(NR_Indices!F36/NR_Indices!E36=0,\"\",NR_Indices!F36/NR_Indices!E36)","v":1.0425671659661586},{"$f":"IF(NR_Indices!G36/NR_Indices!F36=0,\"\",NR_Indices!G36/NR_Indices!F36)","v":0.92872969133782401},{"$f":"IF(NR_Indices!H36/NR_Indices!G36=0,\"\",NR_Indices!H36/NR_Indices!G36)","v":0.94507687592982204},{"$f":"IF(NR_Indices!I36/NR_Indices!H36=0,\"\",NR_Indices!I36/NR_Indices!H36)","v":0.95854649956523652},{"$f":"IF(NR_Indices!J36/NR_Indices!I36=0,\"\",NR_Indices!J36/NR_Indices!I36)","v":0.97677121143328272},{"$f":"IF(NR_Indices!K36/NR_Indices!J36=0,\"\",NR_Indices!K36/NR_Indices!J36)","v":1.1415408815283301},{"$f":"IF(NR_Indices!L36/NR_Indices!K36=0,\"\",NR_Indices!L36/NR_Indices!K36)","v":0.83317621927154184},{"$f":"IF(NR_Indices!M36/NR_Indices!L36=0,\"\",NR_Indices!M36/NR_Indices!L36)","v":0.93057639793091895},{"$f":"IF(NR_Indices!N36/NR_Indices!M36=0,\"\",NR_Indices!N36/NR_Indices!M36)","v":0.99507811737217877},{"$f":"IF(NR_Indices!O36/NR_Indices!N36=0,\"\",NR_Indices!O36/NR_Indices!N36)","v":1.0016971525336671},{"$f":"IF(NR_Indices!P36/NR_Indices!O36=0,\"\",NR_Indices!P36/NR_Indices!O36)","v":0.99701277419990531},{"$f":"IF(NR_Indices!Q36/NR_Indices!P36=0,\"\",NR_Indices!Q36/NR_Indices!P36)","v":1.2245211306438679},{"$f":"IF(NR_Indices!R36/NR_Indices!Q36=0,\"\",NR_Indices!R36/NR_Indices!Q36)","v":0.96379788742485384},{"$f":"IF(NR_Indices!S36/NR_Indices!R36=0,\"\",NR_Indices!S36/NR_Indices!R36)","v":1.0024937095991162},{"$f":"IF(NR_Indices!T36/NR_Indices!S36=0,\"\",NR_Indices!T36/NR_Indices!S36)","v":0.98374319294145529},{"$f":"IF(NR_Indices!U36/NR_Indices!T36=0,\"\",NR_Indices!U36/NR_Indices!T36)","v":0.94691350942832109},{"$f":"IF(NR_Indices!V36/NR_Indices!U36=0,\"\",NR_Indices!V36/NR_Indices!U36)","v":0.9583042926272789},{"$f":"IF(NR_Indices!W36/NR_Indices!V36=0,\"\",NR_Indices!W36/NR_Indices!V36)","v":0.96619173904908884},{"$f":"IF(NR_Indices!X36/NR_Indices!W36=0,\"\",NR_Indices!X36/NR_Indices!W36)","v":1.0036174462177307}]
["Niederlande",null,{"$f":"IF(NR_Indices!C37/NR_Indices!B37=0,\"\",NR_Indices!C37/NR_Indices!B37)","v":1.0483473112974839},{"$f":"IF(NR_Indices!D37/NR_Indices!C37=0,\"\",NR_Indices!D37/NR_Indices!C37)","v":0.98664114446907114},{"$f":"IF(NR_Indices!E37/NR_Indices!D37=0,\"\",NR_Indices!E37/NR_Indices!D37)","v":1.0260477382613185},{"$f":"IF(NR_Indices!F37/NR_Indices!E37=0,\"\",NR_Indices!F37/NR_Indices!E37)","v":0.99119634245332588},{"$f":"IF(NR_Indices!G37/NR_Indices!F37=0,\"\",NR_Indices!G37/NR_Indices!F37)","v":1.032727772244926},{"$f":"IF(NR_Indices!H37/NR_Indices!G37=0,\"\",NR_Indices!H37/NR_Indices!G37)","v":1.0364943219772877},{"$f":"IF(NR_Indices!I37/NR_Indices!H37=0,\"\",NR_Indices!I37/NR_Indices!H37)","v":1.014651354413431},{"$f":"IF(NR_Indices!J37/NR_Indices!I37=0,\"\",NR_Indices!J37/NR_Indices!I37)","v":1.0367827682009805},{"$f":"IF(NR_Indices!K37/NR_Indices!J37=0,\"\",NR_Indices!K37/NR_Indices!J37)","v":1.1535937559614327},{"$f":"IF(NR_Indices!L37/NR_Indices!K37=0,\"\",NR_Indices!L37/NR_Indices!K37)","v":1.0035478369955113},{"$f":"IF(NR_Indices!M37/NR_Indices!L37=0,\"\",NR_Indices!M37/NR_Indices!L37)","v":1.0189241815747838},{"$f":"IF(NR_Indices!N37/NR_Indices!M37=0,\"\",NR_Indices!N37/NR_Indices!M37)","v":0.99168330006653382},{"$f":"IF(NR_Indices!O37/NR_Indices!N37=0,\"\",NR_Indices!O37/NR_Indices!N37)","v":0.99958096378329853},{"$f":"IF(NR_Indices!P37/NR_Indices!O37=0,\"\",NR_Indices!P37/NR_Indices!O37)","v":0.91918749789563292},{"$f":"IF(NR_Indices!Q37/NR_Indices!P37=0,\"\",NR_Indices!Q37/NR_Indices!P37)","v":0.97948743041057762},{"$f":"IF(NR_Indices!R37/NR_Indices!Q37=0,\"\",NR_Indices!R37/NR_Indices!Q37)","v":0.90681399631675874},{"$f":"IF(NR_Indices!S37/NR_Indices!R37=0,\"\",NR_Indices!S37/NR_Indices!R37)","v":0.86572278834881411},{"$f":"IF(NR_Indices!T37/NR_Indices!S37=0,\"\",NR_Indices!T37/NR_Indices!S37)","v":0.89820675105485226},{"$f":"IF(NR_Indices!U37/NR_Indices!T37=0,\"\",NR_Indices!U37/NR_Indices!T37)","v":0.99084149177456859},{"$f":"IF(NR_Indices!V37/NR_Indices!U37=0,\"\",NR_Indices!V37/NR_Indices!U37)","v":0.9165748630439835},{"$f":"IF(NR_Indices!W37/NR_Indices!V37=0,\"\",NR_Indices!W37/NR_Indices!V37)","v":0.9870129870129869},{"$f":"IF(NR_Indices!X37/NR_Indices!W37=0,\"\",NR_Indices!X37/NR_Indices!W37)","v":1.0518641259320629}]
["Portugal",null,{"$f":"IF(NR_Indices!C38/NR_Indices!B38=0,\"\",NR_Indices!C38/NR_Indices!B38)","v":1.035471494863607},{"$f":"IF(NR_Indices!D38/NR_Indices!C38=0,\"\",NR_Indices!D38/NR_Indices!C38)","v":1.0180620175967305},{"$f":"IF(NR_Indices!E38/NR_Indices!D38=0,\"\",NR_Indices!E38/NR_Indices!D38)","v":1.0338293946068218},{"$f":"IF(NR_Indices!F38/NR_Indices!E38=0,\"\",NR_Indices!F38/NR_Indices!E38)","v":1.0463701226964437},{"$f":"IF(NR_Indices!G38/NR_Indices!F38=0,\"\",NR_Indices!G38/NR_Indices!F38)","v":1.05478813722594},{"$f":"IF(NR_Indices!H38/NR_Indices!G38=0,\"\",NR_Indices!H38/NR_Indices!G38)","v":0.97926048820295208},{"$f":"IF(NR_Indices!I38/NR_Indices!H38=0,\"\",NR_Indices!I38/NR_Indices!H38)","v":1.0030786938502501},{"$f":"IF(NR_Indices!J38/NR_Indices!I38=0,\"\",NR_Indices!J38/NR_Indices!I38)","v":0.9848743060541475},{"$f":"IF(NR_Indices!K38/NR_Indices!J38=0,\"\",NR_Indices!K38/NR_Indices!J38)","v":1.0468714121639131},{"$f":"IF(NR_Indices!L38/NR_Indices!K38=0,\"\",NR_Indices!L38/NR_Indices!K38)","v":1.0152284595055452},{"$f":"IF(NR_Indices!M38/NR_Indices!L38=0,\"\",NR_Indices!M38/NR_Indices!L38)","v":1.0278690122597927},{"$f":"IF(NR_Indices!N38/NR_Indices!M38=0,\"\",NR_Indices!N38/NR_Indices!M38)","v":1.0757513477088949},{"$f":"IF(NR_Indices!O38/NR_Indices!N38=0,\"\",NR_Indices!O38/NR_Indices!N38)","v":1.0048511613667086},{"$f":"IF(NR_Indices!P38/NR_Indices!O38=0,\"\",NR_Indices!P38/NR_Indices!O38)","v":0.95756978112511315},{"$f":"IF(NR_Indices!Q38/NR_Indices!P38=0,\"\",NR_Indices!Q38/NR_Indices!P38)","v":1.0345520019457883},{"$f":"IF(NR_Indices!R38/NR_Indices!Q38=0,\"\",NR_Indices!R38/NR_Indices!Q38)","v":0.99055438952123642},{"$f":"IF(NR_Indices!S38/NR_Indices!R38=0,\"\",NR_Indices!S38/NR_Indices!R38)","v":0.9212841941709442},{"$f":"IF(NR_Indices!T38/NR_Indices!S38=0,\"\",NR_Indices!T38/NR_Indices!S38)","v":1.0058638695567925},{"$f":"IF(NR_Indices!U38/NR_Indices!T38=0,\"\",NR_Indices!U38/NR_Indices!T38)","v":1.0146031774642186},{"$f":"IF(NR_Indices!V38/NR_Indices!U38=0,\"\",NR_Indices!V38/NR_Indices!U38)","v":0.98496038016103382},{"$f":"IF(NR_Indices!W38/NR_Indices!V38=0,\"\",NR_Indices!W38/NR_Indices!V38)","v":0.91420673856031509},{"$f":"IF(NR_Indices!X38/NR_Indices!W38=0,\"\",NR_Indices!X38/NR_Indices!W38)","v":1.0316025365061388}]
["Rumänien",null,{"$f":"IF(NR_Indices!C39/NR_Indices!B39=0,\"\",NR_Indices!C39/NR_Indices!B39)","v":1.2854072228726776},{"$f":"IF(NR_Indices!D39/NR_Indices!C39=0,\"\",NR_Indices!D39/NR_Indices!C39)","v":1.0432006685358053},{"$f":"IF(NR_Indices!E39/NR_Indices!D39=0,\"\",NR_Indices!E39/NR_Indices!D39)","v":0.99560802971389994},{"$f":"IF(NR_Indices!F39/NR_Indices!E39=0,\"\",NR_Indices!F39/NR_Indices!E39)","v":1.0294046424741412},{"$f":"IF(NR_Indices!G39/NR_Indices!F39=0,\"\",NR_Indices!G39/NR_Indices!F39)","v":0.95571552630376144},{"$f":"IF(NR_Indices!H39/NR_Indices!G39=0,\"\",NR_Indices!H39/NR_Indices!G39)","v":1.0673571103263724},{"$f":"IF(NR_Indices!I39/NR_Indices!H39=0,\"\",NR_Indices!I39/NR_Indices!H39)","v":0.9898838079483242},{"$f":"IF(NR_Indices!J39/NR_Indices!I39=0,\"\",NR_Indices!J39/NR_Indices!I39)","v":0.98752151891845696},{"$f":"IF(NR_Indices!K39/NR_Indices!J39=0,\"\",NR_Indices!K39/NR_Indices!J39)","v":1.0174786983546438},{"$f":"IF(NR_Indices!L39/NR_Indices!K39=0,\"\",NR_Indices!L39/NR_Indices!K39)","v":1.0770730961491908},{"$f":"IF(NR_Indices!M39/NR_Indices!L39=0,\"\",NR_Indices!M39/NR_Indices!L39)","v":0.98296786684507698},{"$f":"IF(NR_Indices!N39/NR_Indices!M39=0,\"\",NR_Indices!N39/NR_Indices!M39)","v":0.94490890847326503},{"$f":"IF(NR_Indices!O39/NR_Indices!N39=0,\"\",NR_Indices!O39/NR_Indices!N39)","v":1.2409742122357206},{"$f":"IF(NR_Indices!P39/NR_Indices!O39=0,\"\",NR_Indices!P39/NR_Indices!O39)","v":0.83795130566316178},{"$f":"IF(NR_Indices!Q39/NR_Indices!P39=0,\"\",NR_Indices!Q39/NR_Indices!P39)","v":0.66558206765690853},{"$f":"IF(NR_Indices!R39/NR_Indices!Q39=0,\"\",NR_Indices!R39/NR_Indices!Q39)","v":1.0460122460122458},{"$f":"IF(NR_Indices!S39/NR_Indices!R39=0,\"\",NR_Indices!S39/NR_Indices!R39)","v":0.99567402493017676},{"$f":"IF(NR_Indices!T39/NR_Indices!S39=0,\"\",NR_Indices!T39/NR_Indices!S39)","v":1.0288701805664049},{"$f":"IF(NR_Indices!U39/NR_Indices!T39=0,\"\",NR_Indices!U39/NR_Indices!T39)","v":1.2063723427660145},{"$f":"IF(NR_Indices!V39/NR_Indices!U39=0,\"\",NR_Indices!V39/NR_Indices!U39)","v":0.8209072123198482},{"$f":"IF(NR_Indices!W39/NR_Indices!V39=0,\"\",NR_Indices!W39/NR_Indices!V39)","v":1.4658255356791163},{"$f":"IF(NR_Indices!X39/NR_Indices!W39=0,\"\",NR_Indices!X39/NR_Indices!W39)","v":0.8043866046015955}]
["Slowenien",null,{"$f":"IF(NR_Indices!C40/NR_Indices!B40=0,\"\",NR_Indices!C40/NR_Indices!B40)","v":1.0199092090538164},{"$f":"IF(NR_Indices!D40/NR_Indices!C40=0,\"\",NR_Indices!D40/NR_Indices!C40)","v":1.0811093520344461},{"$f":"IF(NR_Indices!E40/NR_Indices!D40=0,\"\",NR_Indices!E40/NR_Indices!D40)","v":0.95705843800895074},{"$f":"IF(NR_Indices!F40/NR_Indices!E40=0,\"\",NR_Indices!F40/NR_Indices!E40)","v":1.0239106773112809},{"$f":"IF(NR_Indices!G40/NR_Indices!F40=0,\"\",NR_Indices!G40/NR_Indices!F40)","v":1.0224293930938695},{"$f":"IF(NR_Indices!H40/NR_Indices!G40=0,\"\",NR_Indices!H40/NR_Indices!G40)","v":0.86924733566073276},{"$f":"IF(NR_Indices!I40/NR_Indices!H40=0,\"\",NR_Indices!I40/NR_Indices!H40)","v":1.0319547555861472},{"$f":"IF(NR_Indices!J40/NR_Indices!I40=0,\"\",NR_Indices!J40/NR_Indices!I40)","v":1.0062768834484819},{"$f":"IF(NR_Indices!K40/NR_Indices!J40=0,\"\",NR_Indices!K40/NR_Indices!J40)","v":0.95334311471506339},{"$f":"IF(NR_Indices!L40/NR_Indices!K40=0,\"\",NR_Indices!L40/NR_Indices!K40)","v":0.9606704601914261},{"$f":"IF(NR_Indices!M40/NR_Indices!L40=0,\"\",NR_Indices!M40/NR_Indices!L40)","v":1.0691782859026029},{"$f":"IF(NR_Indices!N40/NR_Indices!M40=0,\"\",NR_Indices!N40/NR_Indices!M40)","v":0.99542197768291563},{"$f":"IF(NR_Indices!O40/NR_Indices!N40=0,\"\",NR_Indices!O40/NR_Indices!N40)","v":1.0482795225356123},{"$f":"IF(NR_Indices!P40/NR_Indices!O40=0,\"\",NR_Indices!P40/NR_Indices!O40)","v":0.96970913335542042},{"$f":"IF(NR_Indices!Q40/NR_Indices!P40=0,\"\",NR_Indices!Q40/NR_Indices!P40)","v":1.0035634618974314},{"$f":"IF(NR_Indices!R40/NR_Indices!Q40=0,\"\",NR_Indices!R40/NR_Indices!Q40)","v":1.0464555676085199},{"$f":"IF(NR_Indices!S40/NR_Indices!R40=0,\"\",NR_Indices!S40/NR_Indices!R40)","v":0.94778584219427631},{"$f":"IF(NR_Indices!T40/NR_Indices!S40=0,\"\",NR_Indices!T40/NR_Indices!S40)","v":0.94045719347255219},{"$f":"IF(NR_Indices!U40/NR_Indices!T40=0,\"\",NR_Indices!U40/NR_Indices!T40)","v":1.0270146122693848},{"$f":"IF(NR_Indices!V40/NR_Indices!U40=0,\"\",NR_Indices!V40/NR_Indices!U40)","v":0.96232397321217966},{"$f":"IF(NR_Indices!W40/NR_Indices!V40=0,\"\",NR_Indices!W40/NR_Indices!V40)","v":1.001791978834391},{"$f":"IF(NR_Indices!X40/NR_Indices!W40=0,\"\",NR_Indices!X40/NR_Indices!W40)","v":0.94096525949159582}]
["Slowakei",null,{"$f":"IF(NR_Indices!C41/NR_Indices!B41=0,\"\",NR_Indices!C41/NR_Indices!B41)","v":1.2076971873513638},{"$f":"IF(NR_Indices!D41/NR_Indices!C41=0,\"\",NR_Indices!D41/NR_Indices!C41)","v":1.1424209534728258},{"$f":"IF(NR_Indices!E41/NR_Indices!D41=0,\"\",NR_Indices!E41/NR_Indices!D41)","v":1.0800251886243717},{"$f":"IF(NR_Indices!F41/NR_Indices!E41=0,\"\",NR_Indices!F41/NR_Indices!E41)","v":1.0824581398570303},{"$f":"IF(NR_Indices!G41/NR_Indices!F41=0,\"\",NR_Indices!G41/NR_Indices!F41)","v":0.77837139334831829},{"$f":"IF(NR_Indices!H41/NR_Indices!G41=0,\"\",NR_Indices!H41/NR_Indices!G41)","v":1.0021983101418617},{"$f":"IF(NR_Indices!I41/NR_Indices!H41=0,\"\",NR_Indices!I41/NR_Indices!H41)","v":0.92509878689962577},{"$f":"IF(NR_Indices!J41/NR_Indices!I41=0,\"\",NR_Indices!J41/NR_Indices!I41)","v":1.0938758421151002},{"$f":"IF(NR_Indices!K41/NR_Indices!J41=0,\"\",NR_Indices!K41/NR_Indices!J41)","v":0.89139190053828143},{"$f":"IF(NR_Indices!L41/NR_Indices!K41=0,\"\",NR_Indices!L41/NR_Indices!K41)","v":1.4150646867591024},{"$f":"IF(NR_Indices!M41/NR_Indices!L41=0,\"\",NR_Indices!M41/NR_Indices!L41)","v":1.0233070833323685},{"$f":"IF(NR_Indices!N41/NR_Indices!M41=0,\"\",NR_Indices!N41/NR_Indices!M41)","v":1.0311666896910447},{"$f":"IF(NR_Indices!O41/NR_Indices!N41=0,\"\",NR_Indices!O41/NR_Indices!N41)","v":0.89241901613276087},{"$f":"IF(NR_Indices!P41/NR_Indices!O41=0,\"\",NR_Indices!P41/NR_Indices!O41)","v":0.8707105975485705},{"$f":"IF(NR_Indices!Q41/NR_Indices!P41=0,\"\",NR_Indices!Q41/NR_Indices!P41)","v":0.94963217399242073},{"$f":"IF(NR_Indices!R41/NR_Indices!Q41=0,\"\",NR_Indices!R41/NR_Indices!Q41)","v":0.99162634468271638},{"$f":"IF(NR_Indices!S41/NR_Indices!R41=0,\"\",NR_Indices!S41/NR_Indices!R41)","v":1.0571368913898085},{"$f":"IF(NR_Indices!T41/NR_Indices!S41=0,\"\",NR_Indices!T41/NR_Indices!S41)","v":0.98230443458980088},{"$f":"IF(NR_Indices!U41/NR_Indices!T41=0,\"\",NR_Indices!U41/NR_Indices!T41)","v":1.0454787257236045},{"$f":"IF(NR_Indices!V41/NR_Indices!U41=0,\"\",NR_Indices!V41/NR_Indices!U41)","v":1.0535633898717907},{"$f":"IF(NR_Indices!W41/NR_Indices!V41=0,\"\",NR_Indices!W41/NR_Indices!V41)","v":1.0554273079408487},{"$f":"IF(NR_Indices!X41/NR_Indices!W41=0,\"\",NR_Indices!X41/NR_Indices!W41)","v":1.0554800146986845}]
["Großbritannien",null,{"$f":"IF(NR_Indices!C42/NR_Indices!B42=0,\"\",NR_Indices!C42/NR_Indices!B42)","v":1.0281479394769935},{"$f":"IF(NR_Indices!D42/NR_Indices!C42=0,\"\",NR_Indices!D42/NR_Indices!C42)","v":1.0967529546061321},{"$f":"IF(NR_Indices!E42/NR_Indices!D42=0,\"\",NR_Indices!E42/NR_Indices!D42)","v":1.0231684384329645},{"$f":"IF(NR_Indices!F42/NR_Indices!E42=0,\"\",NR_Indices!F42/NR_Indices!E42)","v":0.99161898118160574},{"$f":"IF(NR_Indices!G42/NR_Indices!F42=0,\"\",NR_Indices!G42/NR_Indices!F42)","v":1.1166637459719462},{"$f":"IF(NR_Indices!H42/NR_Indices!G42=0,\"\",NR_Indices!H42/NR_Indices!G42)","v":1.024737941897754},{"$f":"IF(NR_Indices!I42/NR_Indices!H42=0,\"\",NR_Indices!I42/NR_Indices!H42)","v":1.0399293305921775},{"$f":"IF(NR_Indices!J42/NR_Indices!I42=0,\"\",NR_Indices!J42/NR_Indices!I42)","v":1.2081778652381026},{"$f":"IF(NR_Indices!K42/NR_Indices!J42=0,\"\",NR_Indices!K42/NR_Indices!J42)","v":1.1721411754524897},{"$f":"IF(NR_Indices!L42/NR_Indices!K42=0,\"\",NR_Indices!L42/NR_Indices!K42)","v":1.0055043627175053},{"$f":"IF(NR_Indices!M42/NR_Indices!L42=0,\"\",NR_Indices!M42/NR_Indices!L42)","v":0.9365389827538072},{"$f":"IF(NR_Indices!N42/NR_Indices!M42=0,\"\",NR_Indices!N42/NR_Indices!M42)","v":0.94185706529644009},{"$f":"IF(NR_Indices!O42/NR_Indices!N42=0,\"\",NR_Indices!O42/NR_Indices!N42)","v":0.86691841282830839},{"$f":"IF(NR_Indices!P42/NR_Indices!O42=0,\"\",NR_Indices!P42/NR_Indices!O42)","v":0.80906476073364886},{"$f":"IF(NR_Indices!Q42/NR_Indices!P42=0,\"\",NR_Indices!Q42/NR_Indices!P42)","v":1.1516611309605649},{"$f":"IF(NR_Indices!R42/NR_Indices!Q42=0,\"\",NR_Indices!R42/NR_Indices!Q42)","v":1.0361448541777047},{"$f":"IF(NR_Indices!S42/NR_Indices!R42=0,\"\",NR_Indices!S42/NR_Indices!R42)","v":1.0957206710493654},{"$f":"IF(NR_Indices!T42/NR_Indices!S42=0,\"\",NR_Indices!T42/NR_Indices!S42)","v":1.0201656361170945},{"$f":"IF(NR_Indices!U42/NR_Indices!T42=0,\"\",NR_Indices!U42/NR_Indices!T42)","v":1.0195306585368944},{"$f":"IF(NR_Indices!V42/NR_Indices!U42=0,\"\",NR_Indices!V42/NR_Indices!U42)","v":0.98193998331045373},{"$f":"IF(NR_Indices!W42/NR_Indices!V42=0,\"\",NR_Indices!W42/NR_Indices!V42)","v":1.019419278895684},{"$f":"IF(NR_Indices!X42/NR_Indices!W42=0,\"\",NR_Indices!X42/NR_Indices!W42)","v":""}]
[]
["PW (preisbereinigt)/Erwerbstätige"]
[null,1995,{"$f":"B45+1","v":1996},{"$f":"C45+1","v":1997},1998,1999,2000,2001,2002,2003,2004,2005,2006,2007,2008,2009,2010,2011,2012,2013,2014,2015,2016,2017]
["Österreich",null,{"$f":"IF(NR_Indices!C46/NR_Indices!B46=0,\"\",NR_Indices!C46/NR_Indices!B46)","v":1.2273669909685243},{"$f":"IF(NR_Indices!D46/NR_Indices!C46=0,\"\",NR_Indices!D46/NR_Indices!C46)","v":1.0894817194200579},{"$f":"IF(NR_Indices!E46/NR_Indices!D46=0,\"\",NR_Indices!E46/NR_Indices!D46)","v":1.1412388270600229},{"$f":"IF(NR_Indices!F46/NR_Indices!E46=0,\"\",NR_Indices!F46/NR_Indices!E46)","v":1.1010456130322952},{"$f":"IF(NR_Indices!G46/NR_Indices!F46=0,\"\",NR_Indices!G46/NR_Indices!F46)","v":1.1378679676857926},{"$f":"IF(NR_Indices!H46/NR_Indices!G46=0,\"\",NR_Indices!H46/NR_Indices!G46)","v":0.99625761315315242},{"$f":"IF(NR_Indices!I46/NR_Indices!H46=0,\"\",NR_Indices!I46/NR_Indices!H46)","v":1.0248556163321234},{"$f":"IF(NR_Indices!J46/NR_Indices!I46=0,\"\",NR_Indices!J46/NR_Indices!I46)","v":1.1043575190612243},{"$f":"IF(NR_Indices!K46/NR_Indices!J46=0,\"\",NR_Indices!K46/NR_Indices!J46)","v":1.0432525681482185},{"$f":"IF(NR_Indices!L46/NR_Indices!K46=0,\"\",NR_Indices!L46/NR_Indices!K46)","v":1.2675056363513431},{"$f":"IF(NR_Indices!M46/NR_Indices!L46=0,\"\",NR_Indices!M46/NR_Indices!L46)","v":1.1131361508863473},{"$f":"IF(NR_Indices!N46/NR_Indices!M46=0,\"\",NR_Indices!N46/NR_Indices!M46)","v":1.0616928223633717},{"$f":"IF(NR_Indices!O46/NR_Indices!N46=0,\"\",NR_Indices!O46/NR_Indices!N46)","v":1.0288281269903892},{"$f":"IF(NR_Indices!P46/NR_Indices!O46=0,\"\",NR_Indices!P46/NR_Indices!O46)","v":1.0250625382063578},{"$f":"IF(NR_Indices!Q46/NR_Indices!P46=0,\"\",NR_Indices!Q46/NR_Indices!P46)","v":1.062399350335651},{"$f":"IF(NR_Indices!R46/NR_Indices!Q46=0,\"\",NR_Indices!R46/NR_Indices!Q46)","v":0.99324406946374277},{"$f":"IF(NR_Indices!S46/NR_Indices!R46=0,\"\",NR_Indices!S46/NR_Indices!R46)","v":1.0088600333891287},{"$f":"IF(NR_Indices!T46/NR_Indices!S46=0,\"\",NR_Indices!T46/NR_Indices!S46)","v":1.0287670823691473},{"$f":"IF(NR_Indices!U46/NR_Indices!T46=0,\"\",NR_Indices!U46/NR_Indices!T46)","v":1.0262624734583676},{"$f":"IF(NR_Indices!V46/NR_Indices!U46=0,\"\",NR_Indices!V46/NR_Indices!U46)","v":0.98551247638082984},{"$f":"IF(NR_Indices!W46/NR_Indices!V46=0,\"\",NR_Indices!W46/NR_Indices!V46)","v":1.0572966660989782},{"$f":"IF(NR_Indices!X46/NR_Indices!W46=0,\"\",NR_Indices!X46/NR_Indices!W46)","v":1.0216624519424991}]
["Belgien",null,{"$f":"IF(NR_Indices!C47/NR_Indices!B47=0,\"\",NR_Indices!C47/NR_Indices!B47)","v":1.0012419824268455},{"$f":"IF(NR_Indices!D47/NR_Indices!C47=0,\"\",NR_Indices!D47/NR_Indices!C47)","v":1.1054409150626159},{"$f":"IF(NR_Indices!E47/NR_Indices!D47=0,\"\",NR_Indices!E47/NR_Indices!D47)","v":1.1383369551671734},{"$f":"IF(NR_Indices!F47/NR_Indices!E47=0,\"\",NR_Indices!F47/NR_Indices!E47)","v":0.99573403707496444},{"$f":"IF(NR_Indices!G47/NR_Indices!F47=0,\"\",NR_Indices!G47/NR_Indices!F47)","v":1.0261489118350553},{"$f":"IF(NR_Indices!H47/NR_Indices!G47=0,\"\",NR_Indices!H47/NR_Indices!G47)","v":0.92896259133076187},{"$f":"IF(NR_Indices!I47/NR_Indices!H47=0,\"\",NR_Indices!I47/NR_Indices!H47)","v":0.99592293339118332},{"$f":"IF(NR_Indices!J47/NR_Indices!I47=0,\"\",NR_Indices!J47/NR_Indices!I47)","v":1.0121071638012287},{"$f":"IF(NR_Indices!K47/NR_Indices!J47=0,\"\",NR_Indices!K47/NR_Indices!J47)","v":1.0501926632765437},{"$f":"IF(NR_Indices!L47/NR_Indices!K47=0,\"\",NR_Indices!L47/NR_Indices!K47)","v":1.0331645896511614},{"$f":"IF(NR_Indices!M47/NR_Indices!L47=0,\"\",NR_Indices!M47/NR_Indices!L47)","v":1.0535826130526491},{"$f":"IF(NR_Indices!N47/NR_Indices!M47=0,\"\",NR_Indices!N47/NR_Indices!M47)","v":1.081406236954261},{"$f":"IF(NR_Indices!O47/NR_Indices!N47=0,\"\",NR_Indices!O47/NR_Indices!N47)","v":1.0390253405623644},{"$f":"IF(NR_Indices!P47/NR_Indices!O47=0,\"\",NR_Indices!P47/NR_Indices!O47)","v":0.98842039989699138},{"$f":"IF(NR_Indices!Q47/NR_Indices!P47=0,\"\",NR_Indices!Q47/NR_Indices!P47)","v":1.0398362074861878},{"$f":"IF(NR_Indices!R47/NR_Indices!Q47=0,\"\",NR_Indices!R47/NR_Indices!Q47)","v":1.0481638170079004},{"$f":"IF(NR_Indices!S47/NR_Indices!R47=0,\"\",NR_Indices!S47/NR_Indices!R47)","v":1.0375492145607952},{"$f":"IF(NR_Indices!T47/NR_Indices!S47=0,\"\",NR_Indices!T47/NR_Indices!S47)","v":0.98422156200327415},{"$f":"IF(NR_Indices!U47/NR_Indices!T47=0,\"\",NR_Indices!U47/NR_Indices!T47)","v":1.0210924334599947},{"$f":"IF(NR_Indices!V47/NR_Indices!U47=0,\"\",NR_Indices!V47/NR_Indices!U47)","v":1.0351296383280062},{"$f":"IF(NR_Indices!W47/NR_Indices!V47=0,\"\",NR_Indices!W47/NR_Indices!V47)","v":1.0057155775330604},{"$f":"IF(NR_Indices!X47/NR_Indices!W47=0,\"\",NR_Indices!X47/NR_Indices!W47)","v":""}]
["Tschechien",null,{"$f":"IF(NR_Indices!C48/NR_Indices!B48=0,\"\",NR_Indices!C48/NR_Indices!B48)","v":1.04636755052423},{"$f":"IF(NR_Indices!D48/NR_Indices!C48=0,\"\",NR_Indices!D48/NR_Indices!C48)","v":0.96800251335258325},{"$f":"IF(NR_Indices!E48/NR_Indices!D48=0,\"\",NR_Indices!E48/NR_Indices!D48)","v":1.0319008377539416},{"$f":"IF(NR_Indices!F48/NR_Indices!E48=0,\"\",NR_Indices!F48/NR_Indices!E48)","v":1.0132682410246914},{"$f":"IF(NR_Indices!G48/NR_Indices!F48=0,\"\",NR_Indices!G48/NR_Indices!F48)","v":1.0527938687732552},{"$f":"IF(NR_Indices!H48/NR_Indices!G48=0,\"\",NR_Indices!H48/NR_Indices!G48)","v":1.1262053073915708},{"$f":"IF(NR_Indices!I48/NR_Indices!H48=0,\"\",NR_Indices!I48/NR_Indices!H48)","v":1.0359539276589964},{"$f":"IF(NR_Indices!J48/NR_Indices!I48=0,\"\",NR_Indices!J48/NR_Indices!I48)","v":1.1884325064003014},{"$f":"IF(NR_Indices!K48/NR_Indices!J48=0,\"\",NR_Indices!K48/NR_Indices!J48)","v":1.0345471162063313},{"$f":"IF(NR_Indices!L48/NR_Indices!K48=0,\"\",NR_Indices!L48/NR_Indices!K48)","v":1.0320502940333065},{"$f":"IF(NR_Indices!M48/NR_Indices!L48=0,\"\",NR_Indices!M48/NR_Indices!L48)","v":1.1766307826184821},{"$f":"IF(NR_Indices!N48/NR_Indices!M48=0,\"\",NR_Indices!N48/NR_Indices!M48)","v":0.97765009801569536},{"$f":"IF(NR_Indices!O48/NR_Indices!N48=0,\"\",NR_Indices!O48/NR_Indices!N48)","v":0.88109336251728365},{"$f":"IF(NR_Indices!P48/NR_Indices!O48=0,\"\",NR_Indices!P48/NR_Indices!O48)","v":1.1317356656638837},{"$f":"IF(NR_Indices!Q48/NR_Indices!P48=0,\"\",NR_Indices!Q48/NR_Indices!P48)","v":1.0246414316148105},{"$f":"IF(NR_Indices!R48/NR_Indices!Q48=0,\"\",NR_Indices!R48/NR_Indices!Q48)","v":1.055612145226579},{"$f":"IF(NR_Indices!S48/NR_Indices!R48=0,\"\",NR_Indices!S48/NR_Indices!R48)","v":1.0461312451989044},{"$f":"IF(NR_Indices!T48/NR_Indices!S48=0,\"\",NR_Indices!T48/NR_Indices!S48)","v":0.93740713804883413},{"$f":"IF(NR_Indices!U48/NR_Indices!T48=0,\"\",NR_Indices!U48/NR_Indices!T48)","v":1.0046197717205099},{"$f":"IF(NR_Indices!V48/NR_Indices!U48=0,\"\",NR_Indices!V48/NR_Indices!U48)","v":1.0410022340817859},{"$f":"IF(NR_Indices!W48/NR_Indices!V48=0,\"\",NR_Indices!W48/NR_Indices!V48)","v":1.0234904502436497},{"$f":"IF(NR_Indices!X48/NR_Indices!W48=0,\"\",NR_Indices!X48/NR_Indices!W48)","v":0.97373712123407064}]
["Dänemark",null,{"$f":"IF(NR_Indices!C49/NR_Indices!B49=0,\"\",NR_Indices!C49/NR_Indices!B49)","v":1.0489429481610193},{"$f":"IF(NR_Indices!D49/NR_Indices!C49=0,\"\",NR_Indices!D49/NR_Indices!C49)","v":1.0365445014895782},{"$f":"IF(NR_Indices!E49/NR_Indices!D49=0,\"\",NR_Indices!E49/NR_Indices!D49)","v":1.0025832236681775},{"$f":"IF(NR_Indices!F49/NR_Indices!E49=0,\"\",NR_Indices!F49/NR_Indices!E49)","v":1.0237879536594743},{"$f":"IF(NR_Indices!G49/NR_Indices!F49=0,\"\",NR_Indices!G49/NR_Indices!F49)","v":1.0321380112424889},{"$f":"IF(NR_Indices!H49/NR_Indices!G49=0,\"\",NR_Indices!H49/NR_Indices!G49)","v":1.0185052015916394},{"$f":"IF(NR_Indices!I49/NR_Indices!H49=0,\"\",NR_Indices!I49/NR_Indices!H49)","v":0.98307089524654379},{"$f":"IF(NR_Indices!J49/NR_Indices!I49=0,\"\",NR_Indices!J49/NR_Indices!I49)","v":0.99675862565727846},{"$f":"IF(NR_Indices!K49/NR_Indices!J49=0,\"\",NR_Indices!K49/NR_Indices!J49)","v":0.98567505381132647},{"$f":"IF(NR_Indices!L49/NR_Indices!K49=0,\"\",NR_Indices!L49/NR_Indices!K49)","v":1.1264001445840539},{"$f":"IF(NR_Indices!M49/NR_Indices!L49=0,\"\",NR_Indices!M49/NR_Indices!L49)","v":0.97642510954934703},{"$f":"IF(NR_Indices!N49/NR_Indices!M49=0,\"\",NR_Indices!N49/NR_Indices!M49)","v":1.0055245626387914},{"$f":"IF(NR_Indices!O49/NR_Indices!N49=0,\"\",NR_Indices!O49/NR_Indices!N49)","v":0.98378096479791388},{"$f":"IF(NR_Indices!P49/NR_Indices!O49=0,\"\",NR_Indices!P49/NR_Indices!O49)","v":1.0317001309471845},{"$f":"IF(NR_Indices!Q49/NR_Indices!P49=0,\"\",NR_Indices!Q49/NR_Indices!P49)","v":0.93138405603262386},{"$f":"IF(NR_Indices!R49/NR_Indices!Q49=0,\"\",NR_Indices!R49/NR_Indices!Q49)","v":0.95705342626402645},{"$f":"IF(NR_Indices!S49/NR_Indices!R49=0,\"\",NR_Indices!S49/NR_Indices!R49)","v":1.0359845524643116},{"$f":"IF(NR_Indices!T49/NR_Indices!S49=0,\"\",NR_Indices!T49/NR_Indices!S49)","v":0.90571925071303461},{"$f":"IF(NR_Indices!U49/NR_Indices!T49=0,\"\",NR_Indices!U49/NR_Indices!T49)","v":0.98143548987954787},{"$f":"IF(NR_Indices!V49/NR_Indices!U49=0,\"\",NR_Indices!V49/NR_Indices!U49)","v":1.0476119667352577},{"$f":"IF(NR_Indices!W49/NR_Indices!V49=0,\"\",NR_Indices!W49/NR_Indices!V49)","v":0.98052571867737726},{"$f":"IF(NR_Indices!X49/NR_Indices!W49=0,\"\",NR_Indices!X49/NR_Indices!W49)","v":1.1719736457311936}]
["Estland",null,{"$f":"IF(NR_Indices!C50/NR_Indices!B50=0,\"\",NR_Indices!C50/NR_Indices!B50)","v":1.1651271613237935},{"$f":"IF(NR_Indices!D50/NR_Indices!C50=0,\"\",NR_Indices!D50/NR_Indices!C50)","v":1.0834188083515672},{"$f":"IF(NR_Indices!E50/NR_Indices!D50=0,\"\",NR_Indices!E50/NR_Indices!D50)","v":1.2251965376216905},{"$f":"IF(NR_Indices!F50/NR_Indices!E50=0,\"\",NR_Indices!F50/NR_Indices!E50)","v":0.97792479931136611},{"$f":"IF(NR_Indices!G50/NR_Indices!F50=0,\"\",NR_Indices!G50/NR_Indices!F50)","v":1.0950343846226618},{"$f":"IF(NR_Indices!H50/NR_Indices!G50=0,\"\",NR_Indices!H50/NR_Indices!G50)","v":1.1464325733270855},{"$f":"IF(NR_Indices!I50/NR_Indices!H50=0,\"\",NR_Indices!I50/NR_Indices!H50)","v":1.1586828969261758},{"$f":"IF(NR_Indices!J50/NR_Indices!I50=0,\"\",NR_Indices!J50/NR_Indices!I50)","v":1.0689853168204397},{"$f":"IF(NR_Indices!K50/NR_Indices!J50=0,\"\",NR_Indices!K50/NR_Indices!J50)","v":1.2235108094128779},{"$f":"IF(NR_Indices!L50/NR_Indices!K50=0,\"\",NR_Indices!L50/NR_Indices!K50)","v":1.2851493504221041},{"$f":"IF(NR_Indices!M50/NR_Indices!L50=0,\"\",NR_Indices!M50/NR_Indices!L50)","v":0.99843599957989815},{"$f":"IF(NR_Indices!N50/NR_Indices!M50=0,\"\",NR_Indices!N50/NR_Indices!M50)","v":1.1793145357316484},{"$f":"IF(NR_Indices!O50/NR_Indices!N50=0,\"\",NR_Indices!O50/NR_Indices!N50)","v":0.98547367792132834},{"$f":"IF(NR_Indices!P50/NR_Indices!O50=0,\"\",NR_Indices!P50/NR_Indices!O50)","v":0.92051257567871558},{"$f":"IF(NR_Indices!Q50/NR_Indices!P50=0,\"\",NR_Indices!Q50/NR_Indices!P50)","v":0.95950291403534393},{"$f":"IF(NR_Indices!R50/NR_Indices!Q50=0,\"\",NR_Indices!R50/NR_Indices!Q50)","v":1.0742203393250045},{"$f":"IF(NR_Indices!S50/NR_Indices!R50=0,\"\",NR_Indices!S50/NR_Indices!R50)","v":1.0021475823719281},{"$f":"IF(NR_Indices!T50/NR_Indices!S50=0,\"\",NR_Indices!T50/NR_Indices!S50)","v":1.0862633823753527},{"$f":"IF(NR_Indices!U50/NR_Indices!T50=0,\"\",NR_Indices!U50/NR_Indices!T50)","v":0.91815569014360843},{"$f":"IF(NR_Indices!V50/NR_Indices!U50=0,\"\",NR_Indices!V50/NR_Indices!U50)","v":1.1559990949208665},{"$f":"IF(NR_Indices!W50/NR_Indices!V50=0,\"\",NR_Indices!W50/NR_Indices!V50)","v":1.1361465106180095},{"$f":"IF(NR_Indices!X50/NR_Indices!W50=0,\"\",NR_Indices!X50/NR_Indices!W50)","v":1.005440149598287}]
["Frankreich",null,{"$f":"IF(NR_Indices!C51/NR_Indices!B51=0,\"\",NR_Indices!C51/NR_Indices!B51)","v":1.0377547482374698},{"$f":"IF(NR_Indices!D51/NR_Indices!C51=0,\"\",NR_Indices!D51/NR_Indices!C51)","v":1.1339821424125702},{"$f":"IF(NR_Indices!E51/NR_Indices!D51=0,\"\",NR_Indices!E51/NR_Indices!D51)","v":1.1452502785068255},{"$f":"IF(NR_Indices!F51/NR_Indices!E51=0,\"\",NR_Indices!F51/NR_Indices!E51)","v":1.1911233411397348},{"$f":"IF(NR_Indices!G51/NR_Indices!F51=0,\"\",NR_Indices!G51/NR_Indices!F51)","v":0.91772402540829112},{"$f":"IF(NR_Indices!H51/NR_Indices!G51=0,\"\",NR_Indices!H51/NR_Indices!G51)","v":0.96127619867929914},{"$f":"IF(NR_Indices!I51/NR_Indices!H51=0,\"\",NR_Indices!I51/NR_Indices!H51)","v":0.97659977070214621},{"$f":"IF(NR_Indices!J51/NR_Indices!I51=0,\"\",NR_Indices!J51/NR_Indices!I51)","v":0.97224545305331289},{"$f":"IF(NR_Indices!K51/NR_Indices!J51=0,\"\",NR_Indices!K51/NR_Indices!J51)","v":1.027119291875505},{"$f":"IF(NR_Indices!L51/NR_Indices!K51=0,\"\",NR_Indices!L51/NR_Indices!K51)","v":1.0191513032422124},{"$f":"IF(NR_Indices!M51/NR_Indices!L51=0,\"\",NR_Indices!M51/NR_Indices!L51)","v":0.97413665593722909},{"$f":"IF(NR_Indices!N51/NR_Indices!M51=0,\"\",NR_Indices!N51/NR_Indices!M51)","v":1.0357620086570984},{"$f":"IF(NR_Indices!O51/NR_Indices!N51=0,\"\",NR_Indices!O51/NR_Indices!N51)","v":0.99963237415408956},{"$f":"IF(NR_Indices!P51/NR_Indices!O51=0,\"\",NR_Indices!P51/NR_Indices!O51)","v":1.0083875257780277},{"$f":"IF(NR_Indices!Q51/NR_Indices!P51=0,\"\",NR_Indices!Q51/NR_Indices!P51)","v":0.98477539100051115},{"$f":"IF(NR_Indices!R51/NR_Indices!Q51=0,\"\",NR_Indices!R51/NR_Indices!Q51)","v":0.98380798463877117},{"$f":"IF(NR_Indices!S51/NR_Indices!R51=0,\"\",NR_Indices!S51/NR_Indices!R51)","v":1.0008329533755558},{"$f":"IF(NR_Indices!T51/NR_Indices!S51=0,\"\",NR_Indices!T51/NR_Indices!S51)","v":0.97486215074383542},{"$f":"IF(NR_Indices!U51/NR_Indices!T51=0,\"\",NR_Indices!U51/NR_Indices!T51)","v":0.98854222864505248},{"$f":"IF(NR_Indices!V51/NR_Indices!U51=0,\"\",NR_Indices!V51/NR_Indices!U51)","v":0.9596687370600413},{"$f":"IF(NR_Indices!W51/NR_Indices!V51=0,\"\",NR_Indices!W51/NR_Indices!V51)","v":1.030128667254514},{"$f":"IF(NR_Indices!X51/NR_Indices!W51=0,\"\",NR_Indices!X51/NR_Indices!W51)","v":""}]
["Griechenland",null,{"$f":"IF(NR_Indices!C52/NR_Indices!B52=0,\"\",NR_Indices!C52/NR_Indices!B52)","v":1.0037384432853529},{"$f":"IF(NR_Indices!D52/NR_Indices!C52=0,\"\",NR_Indices!D52/NR_Indices!C52)","v":1.2117097077572507},{"$f":"IF(NR_Indices!E52/NR_Indices!D52=0,\"\",NR_Indices!E52/NR_Indices!D52)","v":1.0410306475494902},{"$f":"IF(NR_Indices!F52/NR_Indices!E52=0,\"\",NR_Indices!F52/NR_Indices!E52)","v":1.3091787781465092},{"$f":"IF(NR_Indices!G52/NR_Indices!F52=0,\"\",NR_Indices!G52/NR_Indices!F52)","v":1.0292015633451104},{"$f":"IF(NR_Indices!H52/NR_Indices!G52=0,\"\",NR_Indices!H52/NR_Indices!G52)","v":1.1302763519094767},{"$f":"IF(NR_Indices!I52/NR_Indices!H52=0,\"\",NR_Indices!I52/NR_Indices!H52)","v":1.0662775788291705},{"$f":"IF(NR_Indices!J52/NR_Indices!I52=0,\"\",NR_Indices!J52/NR_Indices!I52)","v":0.96536523307366151},{"$f":"IF(NR_Indices!K52/NR_Indices!J52=0,\"\",NR_Indices!K52/NR_Indices!J52)","v":1.0342115483226522},{"$f":"IF(NR_Indices!L52/NR_Indices!K52=0,\"\",NR_Indices!L52/NR_Indices!K52)","v":1.0287085815145525},{"$f":"IF(NR_Indices!M52/NR_Indices!L52=0,\"\",NR_Indices!M52/NR_Indices!L52)","v":1.0800052531735325},{"$f":"IF(NR_Indices!N52/NR_Indices!M52=0,\"\",NR_Indices!N52/NR_Indices!M52)","v":1.1753552031827705},{"$f":"IF(NR_Indices!O52/NR_Indices!N52=0,\"\",NR_Indices!O52/NR_Indices!N52)","v":1.0188514935099584},{"$f":"IF(NR_Indices!P52/NR_Indices!O52=0,\"\",NR_Indices!P52/NR_Indices!O52)","v":0.97259405841050395},{"$f":"IF(NR_Indices!Q52/NR_Indices!P52=0,\"\",NR_Indices!Q52/NR_Indices!P52)","v":0.89728073647066731},{"$f":"IF(NR_Indices!R52/NR_Indices!Q52=0,\"\",NR_Indices!R52/NR_Indices!Q52)","v":1.0334754415776879},{"$f":"IF(NR_Indices!S52/NR_Indices!R52=0,\"\",NR_Indices!S52/NR_Indices!R52)","v":0.88899580551203083},{"$f":"IF(NR_Indices!T52/NR_Indices!S52=0,\"\",NR_Indices!T52/NR_Indices!S52)","v":0.95768269620167523},{"$f":"IF(NR_Indices!U52/NR_Indices!T52=0,\"\",NR_Indices!U52/NR_Indices!T52)","v":0.9998228218697367},{"$f":"IF(NR_Indices!V52/NR_Indices!U52=0,\"\",NR_Indices!V52/NR_Indices!U52)","v":0.94617199751218506},{"$f":"IF(NR_Indices!W52/NR_Indices!V52=0,\"\",NR_Indices!W52/NR_Indices!V52)","v":0.98316836233775207},{"$f":"IF(NR_Indices!X52/NR_Indices!W52=0,\"\",NR_Indices!X52/NR_Indices!W52)","v":0.98243328176041855}]
["Italien",null,{"$f":"IF(NR_Indices!C53/NR_Indices!B53=0,\"\",NR_Indices!C53/NR_Indices!B53)","v":1.009192107807751},{"$f":"IF(NR_Indices!D53/NR_Indices!C53=0,\"\",NR_Indices!D53/NR_Indices!C53)","v":1.11174393694135},{"$f":"IF(NR_Indices!E53/NR_Indices!D53=0,\"\",NR_Indices!E53/NR_Indices!D53)","v":1.0519097075429169},{"$f":"IF(NR_Indices!F53/NR_Indices!E53=0,\"\",NR_Indices!F53/NR_Indices!E53)","v":1.1431832099200994},{"$f":"IF(NR_Indices!G53/NR_Indices!F53=0,\"\",NR_Indices!G53/NR_Indices!F53)","v":1.0391565054363217},{"$f":"IF(NR_Indices!H53/NR_Indices!G53=0,\"\",NR_Indices!H53/NR_Indices!G53)","v":1.1597228821375665},{"$f":"IF(NR_Indices!I53/NR_Indices!H53=0,\"\",NR_Indices!I53/NR_Indices!H53)","v":0.94175171847919814},{"$f":"IF(NR_Indices!J53/NR_Indices!I53=0,\"\",NR_Indices!J53/NR_Indices!I53)","v":1.0340287256953924},{"$f":"IF(NR_Indices!K53/NR_Indices!J53=0,\"\",NR_Indices!K53/NR_Indices!J53)","v":0.97711199311482178},{"$f":"IF(NR_Indices!L53/NR_Indices!K53=0,\"\",NR_Indices!L53/NR_Indices!K53)","v":1.0452946383022126},{"$f":"IF(NR_Indices!M53/NR_Indices!L53=0,\"\",NR_Indices!M53/NR_Indices!L53)","v":1.0127965317217824},{"$f":"IF(NR_Indices!N53/NR_Indices!M53=0,\"\",NR_Indices!N53/NR_Indices!M53)","v":1.0727984612749502},{"$f":"IF(NR_Indices!O53/NR_Indices!N53=0,\"\",NR_Indices!O53/NR_Indices!N53)","v":0.93583389370934267},{"$f":"IF(NR_Indices!P53/NR_Indices!O53=0,\"\",NR_Indices!P53/NR_Indices!O53)","v":0.97412942927352997},{"$f":"IF(NR_Indices!Q53/NR_Indices!P53=0,\"\",NR_Indices!Q53/NR_Indices!P53)","v":1.0332444560531231},{"$f":"IF(NR_Indices!R53/NR_Indices!Q53=0,\"\",NR_Indices!R53/NR_Indices!Q53)","v":0.95306933661743098},{"$f":"IF(NR_Indices!S53/NR_Indices!R53=0,\"\",NR_Indices!S53/NR_Indices!R53)","v":0.93097409210663817},{"$f":"IF(NR_Indices!T53/NR_Indices!S53=0,\"\",NR_Indices!T53/NR_Indices!S53)","v":0.99521108608168707},{"$f":"IF(NR_Indices!U53/NR_Indices!T53=0,\"\",NR_Indices!U53/NR_Indices!T53)","v":0.96616419417489285},{"$f":"IF(NR_Indices!V53/NR_Indices!U53=0,\"\",NR_Indices!V53/NR_Indices!U53)","v":1.0664663881988268},{"$f":"IF(NR_Indices!W53/NR_Indices!V53=0,\"\",NR_Indices!W53/NR_Indices!V53)","v":""},{"$f":"IF(NR_Indices!X53/NR_Indices!W53=0,\"\",NR_Indices!X53/NR_Indices!W53)","v":{"$error":"#DIV/0!"}}]
["Spanien",null,{"$f":"IF(NR_Indices!C54/NR_Indices!B54=0,\"\",NR_Indices!C54/NR_Indices!B54)","v":{"$error":"#DIV/0!"}},{"$f":"IF(NR_Indices!D54/NR_Indices!C54=0,\"\",NR_Indices!D54/NR_Indices!C54)","v":{"$error":"#DIV/0!"}},{"$f":"IF(NR_Indices!E54/NR_Indices!D54=0,\"\",NR_Indices!E54/NR_Indices!D54)","v":{"$error":"#DIV/0!"}},{"$f":"IF(NR_Indices!F54/NR_Indices!E54=0,\"\",NR_Indices!F54/NR_Indices!E54)","v":{"$error":"#DIV/0!"}},{"$f":"IF(NR_Indices!G54/NR_Indices!F54=0,\"\",NR_Indices!G54/NR_Indices!F54)","v":{"$error":"#DIV/0!"}},{"$f":"IF(NR_Indices!H54/NR_Indices!G54=0,\"\",NR_Indices!H54/NR_Indices!G54)","v":{"$error":"#DIV/0!"}},{"$f":"IF(NR_Indices!I54/NR_Indices!H54=0,\"\",NR_Indices!I54/NR_Indices!H54)","v":{"$error":"#DIV/0!"}},{"$f":"IF(NR_Indices!J54/NR_Indices!I54=0,\"\",NR_Indices!J54/NR_Indices!I54)","v":{"$error":"#DIV/0!"}},{"$f":"IF(NR_Indices!K54/NR_Indices!J54=0,\"\",NR_Indices!K54/NR_Indices!J54)","v":{"$error":"#DIV/0!"}},{"$f":"IF(NR_Indices!L54/NR_Indices!K54=0,\"\",NR_Indices!L54/NR_Indices!K54)","v":{"$error":"#DIV/0!"}},{"$f":"IF(NR_Indices!M54/NR_Indices!L54=0,\"\",NR_Indices!M54/NR_Indices!L54)","v":{"$error":"#DIV/0!"}},{"$f":"IF(NR_Indices!N54/NR_Indices!M54=0,\"\",NR_Indices!N54/NR_Indices!M54)","v":{"$error":"#DIV/0!"}},{"$f":"IF(NR_Indices!O54/NR_Indices!N54=0,\"\",NR_Indices!O54/NR_Indices!N54)","v":{"$error":"#DIV/0!"}},{"$f":"IF(NR_Indices!P54/NR_Indices!O54=0,\"\",NR_Indices!P54/NR_Indices!O54)","v":{"$error":"#DIV/0!"}},{"$f":"IF(NR_Indices!Q54/NR_Indices!P54=0,\"\",NR_Indices!Q54/NR_Indices!P54)","v":{"$error":"#DIV/0!"}},{"$f":"IF(NR_Indices!R54/NR_Indices!Q54=0,\"\",NR_Indices!R54/NR_Indices!Q54)","v":{"$error":"#DIV/0!"}},{"$f":"IF(NR_Indices!S54/NR_Indices!R54=0,\"\",NR_Indices!S54/NR_Indices!R54)","v":{"$error":"#DIV/0!"}},{"$f":"IF(NR_Indices!T54/NR_Indices!S54=0,\"\",NR_Indices!T54/NR_Indices!S54)","v":{"$error":"#DIV/0!"}},{"$f":"IF(NR_Indices!U54/NR_Indices!T54=0,\"\",NR_Indices!U54/NR_Indices!T54)","v":{"$error":"#DIV/0!"}},{"$f":"IF(NR_Indices!V54/NR_Indices!U54=0,\"\",NR_Indices!V54/NR_Indices!U54)","v":{"$error":"#DIV/0!"}},{"$f":"IF(NR_Indices!W54/NR_Indices!V54=0,\"\",NR_Indices!W54/NR_Indices!V54)","v":{"$error":"#DIV/0!"}},{"$f":"IF(NR_Indices!X54/NR_Indices!W54=0,\"\",NR_Indices!X54/NR_Indices!W54)","v":{"$error":"#DIV/0!"}}]
["Finnland",null,{"$f":"IF(NR_Indices!C55/NR_Indices!B55=0,\"\",NR_Indices!C55/NR_Indices!B55)","v":1.0396744659206509},{"$f":"IF(NR_Indices!D55/NR_Indices!C55=0,\"\",NR_Indices!D55/NR_Indices!C55)","v":1.0708722613194406},{"$f":"IF(NR_Indices!E55/NR_Indices!D55=0,\"\",NR_Indices!E55/NR_Indices!D55)","v":1.021682604491243},{"$f":"IF(NR_Indices!F55/NR_Indices!E55=0,\"\",NR_Indices!F55/NR_Indices!E55)","v":1.1002240171641322},{"$f":"IF(NR_Indices!G55/NR_Indices!F55=0,\"\",NR_Indices!G55/NR_Indices!F55)","v":1.0470124147229001},{"$f":"IF(NR_Indices!H55/NR_Indices!G55=0,\"\",NR_Indices!H55/NR_Indices!G55)","v":0.99381621545328636},{"$f":"IF(NR_Indices!I55/NR_Indices!H55=0,\"\",NR_Indices!I55/NR_Indices!H55)","v":1.0066662061342913},{"$f":"IF(NR_Indices!J55/NR_Indices!I55=0,\"\",NR_Indices!J55/NR_Indices!I55)","v":1.0252726877912706},{"$f":"IF(NR_Indices!K55/NR_Indices!J55=0,\"\",NR_Indices!K55/NR_Indices!J55)","v":1.0434090003982475},{"$f":"IF(NR_Indices!L55/NR_Indices!K55=0,\"\",NR_Indices!L55/NR_Indices!K55)","v":1.0015287922541194},{"$f":"IF(NR_Indices!M55/NR_Indices!L55=0,\"\",NR_Indices!M55/NR_Indices!L55)","v":0.98957030152934877},{"$f":"IF(NR_Indices!N55/NR_Indices!M55=0,\"\",NR_Indices!N55/NR_Indices!M55)","v":0.9980802510557355},{"$f":"IF(NR_Indices!O55/NR_Indices!N55=0,\"\",NR_Indices!O55/NR_Indices!N55)","v":1.0049387379900017},{"$f":"IF(NR_Indices!P55/NR_Indices!O55=0,\"\",NR_Indices!P55/NR_Indices!O55)","v":0.92402527817003677},{"$f":"IF(NR_Indices!Q55/NR_Indices!P55=0,\"\",NR_Indices!Q55/NR_Indices!P55)","v":1.0609197871566909},{"$f":"IF(NR_Indices!R55/NR_Indices!Q55=0,\"\",NR_Indices!R55/NR_Indices!Q55)","v":1.093444093214732},{"$f":"IF(NR_Indices!S55/NR_Indices!R55=0,\"\",NR_Indices!S55/NR_Indices!R55)","v":1.0497071140059506},{"$f":"IF(NR_Indices!T55/NR_Indices!S55=0,\"\",NR_Indices!T55/NR_Indices!S55)","v":0.95305286671630662},{"$f":"IF(NR_Indices!U55/NR_Indices!T55=0,\"\",NR_Indices!U55/NR_Indices!T55)","v":0.9323354798785557},{"$f":"IF(NR_Indices!V55/NR_Indices!U55=0,\"\",NR_Indices!V55/NR_Indices!U55)","v":0.86084996926999169},{"$f":"IF(NR_Indices!W55/NR_Indices!V55=0,\"\",NR_Indices!W55/NR_Indices!V55)","v":0.99732954203526514},{"$f":"IF(NR_Indices!X55/NR_Indices!W55=0,\"\",NR_Indices!X55/NR_Indices!W55)","v":1.0023848095543082}]
["Ungarn",null,{"$f":"IF(NR_Indices!C56/NR_Indices!B56=0,\"\",NR_Indices!C56/NR_Indices!B56)","v":0.91456434099397388},{"$f":"IF(NR_Indices!D56/NR_Indices!C56=0,\"\",NR_Indices!D56/NR_Indices!C56)","v":0.97122929523379653},{"$f":"IF(NR_Indices!E56/NR_Indices!D56=0,\"\",NR_Indices!E56/NR_Indices!D56)","v":1.0687774401713066},{"$f":"IF(NR_Indices!F56/NR_Indices!E56=0,\"\",NR_Indices!F56/NR_Indices!E56)","v":1.0418907467244034},{"$f":"IF(NR_Indices!G56/NR_Indices!F56=0,\"\",NR_Indices!G56/NR_Indices!F56)","v":0.95086906241988456},{"$f":"IF(NR_Indices!H56/NR_Indices!G56=0,\"\",NR_Indices!H56/NR_Indices!G56)","v":1.4789682673970934},{"$f":"IF(NR_Indices!I56/NR_Indices!H56=0,\"\",NR_Indices!I56/NR_Indices!H56)","v":1.2753300770563873},{"$f":"IF(NR_Indices!J56/NR_Indices!I56=0,\"\",NR_Indices!J56/NR_Indices!I56)","v":0.90190509824738141},{"$f":"IF(NR_Indices!K56/NR_Indices!J56=0,\"\",NR_Indices!K56/NR_Indices!J56)","v":1.2210220779612502},{"$f":"IF(NR_Indices!L56/NR_Indices!K56=0,\"\",NR_Indices!L56/NR_Indices!K56)","v":1.0718772363857316},{"$f":"IF(NR_Indices!M56/NR_Indices!L56=0,\"\",NR_Indices!M56/NR_Indices!L56)","v":0.98894518994409863},{"$f":"IF(NR_Indices!N56/NR_Indices!M56=0,\"\",NR_Indices!N56/NR_Indices!M56)","v":1.0719123903194887},{"$f":"IF(NR_Indices!O56/NR_Indices!N56=0,\"\",NR_Indices!O56/NR_Indices!N56)","v":1.1310747259962037},{"$f":"IF(NR_Indices!P56/NR_Indices!O56=0,\"\",NR_Indices!P56/NR_Indices!O56)","v":0.85448649215783357},{"$f":"IF(NR_Indices!Q56/NR_Indices!P56=0,\"\",NR_Indices!Q56/NR_Indices!P56)","v":0.9950563872827396},{"$f":"IF(NR_Indices!R56/NR_Indices!Q56=0,\"\",NR_Indices!R56/NR_Indices!Q56)","v":0.99659793201806524},{"$f":"IF(NR_Indices!S56/NR_Indices!R56=0,\"\",NR_Indices!S56/NR_Indices!R56)","v":0.97735701713085454},{"$f":"IF(NR_Indices!T56/NR_Indices!S56=0,\"\",NR_Indices!T56/NR_Indices!S56)","v":1.0533991471145214},{"$f":"IF(NR_Indices!U56/NR_Indices!T56=0,\"\",NR_Indices!U56/NR_Indices!T56)","v":1.0623428924460889},{"$f":"IF(NR_Indices!V56/NR_Indices!U56=0,\"\",NR_Indices!V56/NR_Indices!U56)","v":1.0425785718037452},{"$f":"IF(NR_Indices!W56/NR_Indices!V56=0,\"\",NR_Indices!W56/NR_Indices!V56)","v":0.96711649574127001},{"$f":"IF(NR_Indices!X56/NR_Indices!W56=0,\"\",NR_Indices!X56/NR_Indices!W56)","v":0.94898596647354772}]
["Irland",null,{"$f":"IF(NR_Indices!C57/NR_Indices!B57=0,\"\",NR_Indices!C57/NR_Indices!B57)","v":{"$error":"#DIV/0!"}},{"$f":"IF(NR_Indices!D57/NR_Indices!C57=0,\"\",NR_Indices!D57/NR_Indices!C57)","v":{"$error":"#DIV/0!"}},{"$f":"IF(NR_Indices!E57/NR_Indices!D57=0,\"\",NR_Indices!E57/NR_Indices!D57)","v":{"$error":"#DIV/0!"}},{"$f":"IF(NR_Indices!F57/NR_Indices!E57=0,\"\",NR_Indices!F57/NR_Indices!E57)","v":{"$error":"#DIV/0!"}},{"$f":"IF(NR_Indices!G57/NR_Indices!F57=0,\"\",NR_Indices!G57/NR_Indices!F57)","v":{"$error":"#DIV/0!"}},{"$f":"IF(NR_Indices!H57/NR_Indices!G57=0,\"\",NR_Indices!H57/NR_Indices!G57)","v":{"$error":"#DIV/0!"}},{"$f":"IF(NR_Indices!I57/NR_Indices!H57=0,\"\",NR_Indices!I57/NR_Indices!H57)","v":{"$error":"#DIV/0!"}},{"$f":"IF(NR_Indices!J57/NR_Indices!I57=0,\"\",NR_Indices!J57/NR_Indices!I57)","v":{"$error":"#DIV/0!"}},{"$f":"IF(NR_Indices!K57/NR_Indices!J57=0,\"\",NR_Indices!K57/NR_Indices!J57)","v":{"$error":"#DIV/0!"}},{"$f":"IF(NR_Indices!L57/NR_Indices!K57=0,\"\",NR_Indices!L57/NR_Indices!K57)","v":{"$error":"#DIV/0!"}},{"$f":"IF(NR_Indices!M57/NR_Indices!L57=0,\"\",NR_Indices!M57/NR_Indices!L57)","v":{"$error":"#DIV/0!"}},{"$f":"IF(NR_Indices!N57/NR_Indices!M57=0,\"\",NR_Indices!N57/NR_Indices!M57)","v":{"$error":"#DIV/0!"}},{"$f":"IF(NR_Indices!O57/NR_Indices!N57=0,\"\",NR_Indices!O57/NR_Indices!N57)","v":{"$error":"#DIV/0!"}},{"$f":"IF(NR_Indices!P57/NR_Indices!O57=0,\"\",NR_Indices!P57/NR_Indices!O57)","v":{"$error":"#DIV/0!"}},{"$f":"IF(NR_Indices!Q57/NR_Indices!P57=0,\"\",NR_Indices!Q57/NR_Indices!P57)","v":{"$error":"#DIV/0!"}},{"$f":"IF(NR_Indices!R57/NR_Indices!Q57=0,\"\",NR_Indices!R57/NR_Indices!Q57)","v":{"$error":"#DIV/0!"}},{"$f":"IF(NR_Indices!S57/NR_Indices!R57=0,\"\",NR_Indices!S57/NR_Indices!R57)","v":{"$error":"#DIV/0!"}},{"$f":"IF(NR_Indices!T57/NR_Indices!S57=0,\"\",NR_Indices!T57/NR_Indices!S57)","v":{"$error":"#DIV/0!"}},{"$f":"IF(NR_Indices!U57/NR_Indices!T57=0,\"\",NR_Indices!U57/NR_Indices!T57)","v":{"$error":"#DIV/0!"}},{"$f":"IF(NR_Indices!V57/NR_Indices!U57=0,\"\",NR_Indices!V57/NR_Indices!U57)","v":{"$error":"#DIV/0!"}},{"$f":"IF(NR_Indices!W57/NR_Indices!V57=0,\"\",NR_Indices!W57/NR_Indices!V57)","v":{"$error":"#DIV/0!"}},{"$f":"IF(NR_Indices!X57/NR_Indices!W57=0,\"\",NR_Indices!X57/NR_Indices!W57)","v":{"$error":"#DIV/0!"}}]
["Niederlande",null,{"$f":"IF(NR_Indices!C58/NR_Indices!B58=0,\"\",NR_Indices!C58/NR_Indices!B58)","v":1.0491007707679136},{"$f":"IF(NR_Indices!D58/NR_Indices!C58=0,\"\",NR_Indices!D58/NR_Indices!C58)","v":1.0093482905982905},{"$f":"IF(NR_Indices!E58/NR_Indices!D58=0,\"\",NR_Indices!E58/NR_Indices!D58)","v":1.039347429127391},{"$f":"IF(NR_Indices!F58/NR_Indices!E58=0,\"\",NR_Indices!F58/NR_Indices!E58)","v":0.99938485701197577},{"$f":"IF(NR_Indices!G58/NR_Indices!F58=0,\"\",NR_Indices!G58/NR_Indices!F58)","v":1.0130857266249187},{"$f":"IF(NR_Indices!H58/NR_Indices!G58=0,\"\",NR_Indices!H58/NR_Indices!G58)","v":1.0108205357757734},{"$f":"IF(NR_Indices!I58/NR_Indices!H58=0,\"\",NR_Indices!I58/NR_Indices!H58)","v":1.0382574082264484},{"$f":"IF(NR_Indices!J58/NR_Indices!I58=0,\"\",NR_Indices!J58/NR_Indices!I58)","v":1.0383345445805747},{"$f":"IF(NR_Indices!K58/NR_Indices!J58=0,\"\",NR_Indices!K58/NR_Indices!J58)","v":1.0989381794730051},{"$f":"IF(NR_Indices!L58/NR_Indices!K58=0,\"\",NR_Indices!L58/NR_Indices!K58)","v":1.0094211561763762},{"$f":"IF(NR_Indices!M58/NR_Indices!L58=0,\"\",NR_Indices!M58/NR_Indices!L58)","v":1.0202805155420775},{"$f":"IF(NR_Indices!N58/NR_Indices!M58=0,\"\",NR_Indices!N58/NR_Indices!M58)","v":1.0153958409339656},{"$f":"IF(NR_Indices!O58/NR_Indices!N58=0,\"\",NR_Indices!O58/NR_Indices!N58)","v":0.98372833392288639},{"$f":"IF(NR_Indices!P58/NR_Indices!O58=0,\"\",NR_Indices!P58/NR_Indices!O58)","v":0.94034505804599144},{"$f":"IF(NR_Indices!Q58/NR_Indices!P58=0,\"\",NR_Indices!Q58/NR_Indices!P58)","v":0.97092543113917895},{"$f":"IF(NR_Indices!R58/NR_Indices!Q58=0,\"\",NR_Indices!R58/NR_Indices!Q58)","v":0.9803807303807307},{"$f":"IF(NR_Indices!S58/NR_Indices!R58=0,\"\",NR_Indices!S58/NR_Indices!R58)","v":0.94798450251421951},{"$f":"IF(NR_Indices!T58/NR_Indices!S58=0,\"\",NR_Indices!T58/NR_Indices!S58)","v":0.95266615146831535},{"$f":"IF(NR_Indices!U58/NR_Indices!T58=0,\"\",NR_Indices!U58/NR_Indices!T58)","v":1.0533578525709559},{"$f":"IF(NR_Indices!V58/NR_Indices!U58=0,\"\",NR_Indices!V58/NR_Indices!U58)","v":0.99497476113214356},{"$f":"IF(NR_Indices!W58/NR_Indices!V58=0,\"\",NR_Indices!W58/NR_Indices!V58)","v":1.0693808312128923},{"$f":"IF(NR_Indices!X58/NR_Indices!W58=0,\"\",NR_Indices!X58/NR_Indices!W58)","v":1.0448567060593559}]
["Portugal",null,{"$f":"IF(NR_Indices!C59/NR_Indices!B59=0,\"\",NR_Indices!C59/NR_Indices!B59)","v":1.0636984138746421},{"$f":"IF(NR_Indices!D59/NR_Indices!C59=0,\"\",NR_Indices!D59/NR_Indices!C59)","v":1.0411927381156336},{"$f":"IF(NR_Indices!E59/NR_Indices!D59=0,\"\",NR_Indices!E59/NR_Indices!D59)","v":1.0428287824864861},{"$f":"IF(NR_Indices!F59/NR_Indices!E59=0,\"\",NR_Indices!F59/NR_Indices!E59)","v":1.0238861149626031},{"$f":"IF(NR_Indices!G59/NR_Indices!F59=0,\"\",NR_Indices!G59/NR_Indices!F59)","v":1.0658872386618883},{"$f":"IF(NR_Indices!H59/NR_Indices!G59=0,\"\",NR_Indices!H59/NR_Indices!G59)","v":0.98874009982384681},{"$f":"IF(NR_Indices!I59/NR_Indices!H59=0,\"\",NR_Indices!I59/NR_Indices!H59)","v":1.0041407746049256},{"$f":"IF(NR_Indices!J59/NR_Indices!I59=0,\"\",NR_Indices!J59/NR_Indices!I59)","v":0.99629646120172022},{"$f":"IF(NR_Indices!K59/NR_Indices!J59=0,\"\",NR_Indices!K59/NR_Indices!J59)","v":1.0384727575976851},{"$f":"IF(NR_Indices!L59/NR_Indices!K59=0,\"\",NR_Indices!L59/NR_Indices!K59)","v":1.0342738013591584},{"$f":"IF(NR_Indices!M59/NR_Indices!L59=0,\"\",NR_Indices!M59/NR_Indices!L59)","v":1.0166322855494547},{"$f":"IF(NR_Indices!N59/NR_Indices!M59=0,\"\",NR_Indices!N59/NR_Indices!M59)","v":1.0794908548083049},{"$f":"IF(NR_Indices!O59/NR_Indices!N59=0,\"\",NR_Indices!O59/NR_Indices!N59)","v":1.0116747948176938},{"$f":"IF(NR_Indices!P59/NR_Indices!O59=0,\"\",NR_Indices!P59/NR_Indices!O59)","v":0.96646264229269996},{"$f":"IF(NR_Indices!Q59/NR_Indices!P59=0,\"\",NR_Indices!Q59/NR_Indices!P59)","v":1.0360101053614954},{"$f":"IF(NR_Indices!R59/NR_Indices!Q59=0,\"\",NR_Indices!R59/NR_Indices!Q59)","v":0.98733766136193524},{"$f":"IF(NR_Indices!S59/NR_Indices!R59=0,\"\",NR_Indices!S59/NR_Indices!R59)","v":0.97551421301552255},{"$f":"IF(NR_Indices!T59/NR_Indices!S59=0,\"\",NR_Indices!T59/NR_Indices!S59)","v":1.0387471029382245},{"$f":"IF(NR_Indices!U59/NR_Indices!T59=0,\"\",NR_Indices!U59/NR_Indices!T59)","v":1.0336249804842697},{"$f":"IF(NR_Indices!V59/NR_Indices!U59=0,\"\",NR_Indices!V59/NR_Indices!U59)","v":0.97004255492435798},{"$f":"IF(NR_Indices!W59/NR_Indices!V59=0,\"\",NR_Indices!W59/NR_Indices!V59)","v":0.94698014405023423},{"$f":"IF(NR_Indices!X59/NR_Indices!W59=0,\"\",NR_Indices!X59/NR_Indices!W59)","v":""}]
["Rumänien",null,{"$f":"IF(NR_Indices!C60/NR_Indices!B60=0,\"\",NR_Indices!C60/NR_Indices!B60)","v":1.277172874762021},{"$f":"IF(NR_Indices!D60/NR_Indices!C60=0,\"\",NR_Indices!D60/NR_Indices!C60)","v":1.0528301886792453},{"$f":"IF(NR_Indices!E60/NR_Indices!D60=0,\"\",NR_Indices!E60/NR_Indices!D60)","v":1.0264431883963872},{"$f":"IF(NR_Indices!F60/NR_Indices!E60=0,\"\",NR_Indices!F60/NR_Indices!E60)","v":1.0395184931463479},{"$f":"IF(NR_Indices!G60/NR_Indices!F60=0,\"\",NR_Indices!G60/NR_Indices!F60)","v":0.92187854688302318},{"$f":"IF(NR_Indices!H60/NR_Indices!G60=0,\"\",NR_Indices!H60/NR_Indices!G60)","v":1.0852935547096585},{"$f":"IF(NR_Indices!I60/NR_Indices!H60=0,\"\",NR_Indices!I60/NR_Indices!H60)","v":0.9857237764818777},{"$f":"IF(NR_Indices!J60/NR_Indices!I60=0,\"\",NR_Indices!J60/NR_Indices!I60)","v":1.00065979640824},{"$f":"IF(NR_Indices!K60/NR_Indices!J60=0,\"\",NR_Indices!K60/NR_Indices!J60)","v":1.0198194788728148},{"$f":"IF(NR_Indices!L60/NR_Indices!K60=0,\"\",NR_Indices!L60/NR_Indices!K60)","v":1.0552425062386865},{"$f":"IF(NR_Indices!M60/NR_Indices!L60=0,\"\",NR_Indices!M60/NR_Indices!L60)","v":1.0037981613774596},{"$f":"IF(NR_Indices!N60/NR_Indices!M60=0,\"\",NR_Indices!N60/NR_Indices!M60)","v":0.97816524482111389},{"$f":"IF(NR_Indices!O60/NR_Indices!N60=0,\"\",NR_Indices!O60/NR_Indices!N60)","v":1.271077394991873},{"$f":"IF(NR_Indices!P60/NR_Indices!O60=0,\"\",NR_Indices!P60/NR_Indices!O60)","v":0.8515253971145702},{"$f":"IF(NR_Indices!Q60/NR_Indices!P60=0,\"\",NR_Indices!Q60/NR_Indices!P60)","v":0.73274838513989471},{"$f":"IF(NR_Indices!R60/NR_Indices!Q60=0,\"\",NR_Indices!R60/NR_Indices!Q60)","v":1.020074969130953},{"$f":"IF(NR_Indices!S60/NR_Indices!R60=0,\"\",NR_Indices!S60/NR_Indices!R60)","v":1.0428983955344882},{"$f":"IF(NR_Indices!T60/NR_Indices!S60=0,\"\",NR_Indices!T60/NR_Indices!S60)","v":1.06361454236037},{"$f":"IF(NR_Indices!U60/NR_Indices!T60=0,\"\",NR_Indices!U60/NR_Indices!T60)","v":1.2051818373855232},{"$f":"IF(NR_Indices!V60/NR_Indices!U60=0,\"\",NR_Indices!V60/NR_Indices!U60)","v":0.94139396318493307},{"$f":"IF(NR_Indices!W60/NR_Indices!V60=0,\"\",NR_Indices!W60/NR_Indices!V60)","v":1.3790990521932589},{"$f":"IF(NR_Indices!X60/NR_Indices!W60=0,\"\",NR_Indices!X60/NR_Indices!W60)","v":0.86952178932066526}]
["Slowenien",null,{"$f":"IF(NR_Indices!C61/NR_Indices!B61=0,\"\",NR_Indices!C61/NR_Indices!B61)","v":{"$error":"#DIV/0!"}},{"$f":"IF(NR_Indices!D61/NR_Indices!C61=0,\"\",NR_Indices!D61/NR_Indices!C61)","v":{"$error":"#DIV/0!"}},{"$f":"IF(NR_Indices!E61/NR_Indices!D61=0,\"\",NR_Indices!E61/NR_Indices!D61)","v":{"$error":"#DIV/0!"}},{"$f":"IF(NR_Indices!F61/NR_Indices!E61=0,\"\",NR_Indices!F61/NR_Indices!E61)","v":{"$error":"#DIV/0!"}},{"$f":"IF(NR_Indices!G61/NR_Indices!F61=0,\"\",NR_Indices!G61/NR_Indices!F61)","v":{"$error":"#DIV/0!"}},{"$f":"IF(NR_Indices!H61/NR_Indices!G61=0,\"\",NR_Indices!H61/NR_Indices!G61)","v":0.86918414500993602},{"$f":"IF(NR_Indices!I61/NR_Indices!H61=0,\"\",NR_Indices!I61/NR_Indices!H61)","v":1.0354909409238493},{"$f":"IF(NR_Indices!J61/NR_Indices!I61=0,\"\",NR_Indices!J61/NR_Indices!I61)","v":1.0097341758361478},{"$f":"IF(NR_Indices!K61/NR_Indices!J61=0,\"\",NR_Indices!K61/NR_Indices!J61)","v":0.9913700686106347},{"$f":"IF(NR_Indices!L61/NR_Indices!K61=0,\"\",NR_Indices!L61/NR_Indices!K61)","v":0.96688787581510738},{"$f":"IF(NR_Indices!M61/NR_Indices!L61=0,\"\",NR_Indices!M61/NR_Indices!L61)","v":1.0686487411709638},{"$f":"IF(NR_Indices!N61/NR_Indices!M61=0,\"\",NR_Indices!N61/NR_Indices!M61)","v":0.99571261897194863},{"$f":"IF(NR_Indices!O61/NR_Indices!N61=0,\"\",NR_Indices!O61/NR_Indices!N61)","v":1.0776665685408691},{"$f":"IF(NR_Indices!P61/NR_Indices!O61=0,\"\",NR_Indices!P61/NR_Indices!O61)","v":0.95078838480896755},{"$f":"IF(NR_Indices!Q61/NR_Indices!P61=0,\"\",NR_Indices!Q61/NR_Indices!P61)","v":1.044725272679272},{"$f":"IF(NR_Indices!R61/NR_Indices!Q61=0,\"\",NR_Indices!R61/NR_Indices!Q61)","v":1.0726466165413533},{"$f":"IF(NR_Indices!S61/NR_Indices!R61=0,\"\",NR_Indices!S61/NR_Indices!R61)","v":0.96373677357558707},{"$f":"IF(NR_Indices!T61/NR_Indices!S61=0,\"\",NR_Indices!T61/NR_Indices!S61)","v":0.96764154710226735},{"$f":"IF(NR_Indices!U61/NR_Indices!T61=0,\"\",NR_Indices!U61/NR_Indices!T61)","v":1.0540149182600371},{"$f":"IF(NR_Indices!V61/NR_Indices!U61=0,\"\",NR_Indices!V61/NR_Indices!U61)","v":1.0123847506615933},{"$f":"IF(NR_Indices!W61/NR_Indices!V61=0,\"\",NR_Indices!W61/NR_Indices!V61)","v":1.0612271174999972},{"$f":"IF(NR_Indices!X61/NR_Indices!W61=0,\"\",NR_Indices!X61/NR_Indices!W61)","v":""}]
["Slowakei",null,{"$f":"IF(NR_Indices!C62/NR_Indices!B62=0,\"\",NR_Indices!C62/NR_Indices!B62)","v":1.1828669911158887},{"$f":"IF(NR_Indices!D62/NR_Indices!C62=0,\"\",NR_Indices!D62/NR_Indices!C62)","v":1.13977742424307},{"$f":"IF(NR_Indices!E62/NR_Indices!D62=0,\"\",NR_Indices!E62/NR_Indices!D62)","v":1.040792833674012},{"$f":"IF(NR_Indices!F62/NR_Indices!E62=0,\"\",NR_Indices!F62/NR_Indices!E62)","v":1.0981544619895969},{"$f":"IF(NR_Indices!G62/NR_Indices!F62=0,\"\",NR_Indices!G62/NR_Indices!F62)","v":0.79046920679135091},{"$f":"IF(NR_Indices!H62/NR_Indices!G62=0,\"\",NR_Indices!H62/NR_Indices!G62)","v":1.0436128623162295},{"$f":"IF(NR_Indices!I62/NR_Indices!H62=0,\"\",NR_Indices!I62/NR_Indices!H62)","v":0.87399015552868653},{"$f":"IF(NR_Indices!J62/NR_Indices!I62=0,\"\",NR_Indices!J62/NR_Indices!I62)","v":1.0756150655271253},{"$f":"IF(NR_Indices!K62/NR_Indices!J62=0,\"\",NR_Indices!K62/NR_Indices!J62)","v":1.0335552552716749},{"$f":"IF(NR_Indices!L62/NR_Indices!K62=0,\"\",NR_Indices!L62/NR_Indices!K62)","v":1.1360651770374461},{"$f":"IF(NR_Indices!M62/NR_Indices!L62=0,\"\",NR_Indices!M62/NR_Indices!L62)","v":1.1104450905053105},{"$f":"IF(NR_Indices!N62/NR_Indices!M62=0,\"\",NR_Indices!N62/NR_Indices!M62)","v":1.1087088906995619},{"$f":"IF(NR_Indices!O62/NR_Indices!N62=0,\"\",NR_Indices!O62/NR_Indices!N62)","v":0.9894479545999274},{"$f":"IF(NR_Indices!P62/NR_Indices!O62=0,\"\",NR_Indices!P62/NR_Indices!O62)","v":0.90430725460259131},{"$f":"IF(NR_Indices!Q62/NR_Indices!P62=0,\"\",NR_Indices!Q62/NR_Indices!P62)","v":1.0206722270120903},{"$f":"IF(NR_Indices!R62/NR_Indices!Q62=0,\"\",NR_Indices!R62/NR_Indices!Q62)","v":1.0844489075019603},{"$f":"IF(NR_Indices!S62/NR_Indices!R62=0,\"\",NR_Indices!S62/NR_Indices!R62)","v":1.0493243555656155},{"$f":"IF(NR_Indices!T62/NR_Indices!S62=0,\"\",NR_Indices!T62/NR_Indices!S62)","v":0.99996299099662656},{"$f":"IF(NR_Indices!U62/NR_Indices!T62=0,\"\",NR_Indices!U62/NR_Indices!T62)","v":1.0796047302617735},{"$f":"IF(NR_Indices!V62/NR_Indices!U62=0,\"\",NR_Indices!V62/NR_Indices!U62)","v":1.0558512257310859},{"$f":"IF(NR_Indices!W62/NR_Indices!V62=0,\"\",NR_Indices!W62/NR_Indices!V62)","v":""},{"$f":"IF(NR_Indices!X62/NR_Indices!W62=0,\"\",NR_Indices!X62/NR_Indices!W62)","v":{"$error":"#DIV/0!"}}]
["Großbritannien",null,{"$f":"IF(NR_Indices!C63/NR_Indices!B63=0,\"\",NR_Indices!C63/NR_Indices!B63)","v":{"$error":"#DIV/0!"}},{"$f":"IF(NR_Indices!D63/NR_Indices!C63=0,\"\",NR_Indices!D63/NR_Indices!C63)","v":{"$error":"#DIV/0!"}},{"$f":"IF(NR_Indices!E63/NR_Indices!D63=0,\"\",NR_Indices!E63/NR_Indices!D63)","v":{"$error":"#DIV/0!"}},{"$f":"IF(NR_Indices!F63/NR_Indices!E63=0,\"\",NR_Indices!F63/NR_Indices!E63)","v":{"$error":"#DIV/0!"}},{"$f":"IF(NR_Indices!G63/NR_Indices!F63=0,\"\",NR_Indices!G63/NR_Indices!F63)","v":{"$error":"#DIV/0!"}},{"$f":"IF(NR_Indices!H63/NR_Indices!G63=0,\"\",NR_Indices!H63/NR_Indices!G63)","v":{"$error":"#DIV/0!"}},{"$f":"IF(NR_Indices!I63/NR_Indices!H63=0,\"\",NR_Indices!I63/NR_Indices!H63)","v":{"$error":"#DIV/0!"}},{"$f":"IF(NR_Indices!J63/NR_Indices!I63=0,\"\",NR_Indices!J63/NR_Indices!I63)","v":{"$error":"#DIV/0!"}},{"$f":"IF(NR_Indices!K63/NR_Indices!J63=0,\"\",NR_Indices!K63/NR_Indices!J63)","v":{"$error":"#DIV/0!"}},{"$f":"IF(NR_Indices!L63/NR_Indices!K63=0,\"\",NR_Indices!L63/NR_Indices!K63)","v":{"$error":"#DIV/0!"}},{"$f":"IF(NR_Indices!M63/NR_Indices!L63=0,\"\",NR_Indices!M63/NR_Indices!L63)","v":{"$error":"#DIV/0!"}},{"$f":"IF(NR_Indices!N63/NR_Indices!M63=0,\"\",NR_Indices!N63/NR_Indices!M63)","v":{"$error":"#DIV/0!"}},{"$f":"IF(NR_Indices!O63/NR_Indices!N63=0,\"\",NR_Indices!O63/NR_Indices!N63)","v":{"$error":"#DIV/0!"}},{"$f":"IF(NR_Indices!P63/NR_Indices!O63=0,\"\",NR_Indices!P63/NR_Indices!O63)","v":{"$error":"#DIV/0!"}},{"$f":"IF(NR_Indices!Q63/NR_Indices!P63=0,\"\",NR_Indices!Q63/NR_Indices!P63)","v":{"$error":"#DIV/0!"}},{"$f":"IF(NR_Indices!R63/NR_Indices!Q63=0,\"\",NR_Indices!R63/NR_Indices!Q63)","v":{"$error":"#DIV/0!"}},{"$f":"IF(NR_Indices!S63/NR_Indices!R63=0,\"\",NR_Indices!S63/NR_Indices!R63)","v":{"$error":"#DIV/0!"}},{"$f":"IF(NR_Indices!T63/NR_Indices!S63=0,\"\",NR_Indices!T63/NR_Indices!S63)","v":{"$error":"#DIV/0!"}},{"$f":"IF(NR_Indices!U63/NR_Indices!T63=0,\"\",NR_Indices!U63/NR_Indices!T63)","v":{"$error":"#DIV/0!"}},{"$f":"IF(NR_Indices!V63/NR_Indices!U63=0,\"\",NR_Indices!V63/NR_Indices!U63)","v":{"$error":"#DIV/0!"}},{"$f":"IF(NR_Indices!W63/NR_Indices!V63=0,\"\",NR_Indices!W63/NR_Indices!V63)","v":{"$error":"#DIV/0!"}},{"$f":"IF(NR_Indices!X63/NR_Indices!W63=0,\"\",NR_Indices!X63/NR_Indices!W63)","v":{"$error":"#DIV/0!"}}]
[]
["PW (preisbereinigt)/Angestellte"]
[null,1995,{"$f":"B66+1","v":1996},{"$f":"C66+1","v":1997},1998,1999,2000,2001,2002,2003,2004,2005,2006,2007,2008,2009,2010,2011,2012,2013,2014,2015,2016,2017]
["Österreich",null,{"$f":"IF(NR_Indices!C67/NR_Indices!B67=0,\"\",NR_Indices!C67/NR_Indices!B67)","v":1.2296582834223904},{"$f":"IF(NR_Indices!D67/NR_Indices!C67=0,\"\",NR_Indices!D67/NR_Indices!C67)","v":1.0896687471363062},{"$f":"IF(NR_Indices!E67/NR_Indices!D67=0,\"\",NR_Indices!E67/NR_Indices!D67)","v":1.1419161451198598},{"$f":"IF(NR_Indices!F67/NR_Indices!E67=0,\"\",NR_Indices!F67/NR_Indices!E67)","v":1.1011846154921738},{"$f":"IF(NR_Indices!G67/NR_Indices!F67=0,\"\",NR_Indices!G67/NR_Indices!F67)","v":1.1382737850637683},{"$f":"IF(NR_Indices!H67/NR_Indices!G67=0,\"\",NR_Indices!H67/NR_Indices!G67)","v":0.99725298305242871},{"$f":"IF(NR_Indices!I67/NR_Indices!H67=0,\"\",NR_Indices!I67/NR_Indices!H67)","v":1.0263845684431676},{"$f":"IF(NR_Indices!J67/NR_Indices!I67=0,\"\",NR_Indices!J67/NR_Indices!I67)","v":1.103776619521827},{"$f":"IF(NR_Indices!K67/NR_Indices!J67=0,\"\",NR_Indices!K67/NR_Indices!J67)","v":1.0447980888400825},{"$f":"IF(NR_Indices!L67/NR_Indices!K67=0,\"\",NR_Indices!L67/NR_Indices!K67)","v":1.2685838387542403},{"$f":"IF(NR_Indices!M67/NR_Indices!L67=0,\"\",NR_Indices!M67/NR_Indices!L67)","v":1.1156781956325228},{"$f":"IF(NR_Indices!N67/NR_Indices!M67=0,\"\",NR_Indices!N67/NR_Indices!M67)","v":1.0641791374120677},{"$f":"IF(NR_Indices!O67/NR_Indices!N67=0,\"\",NR_Indices!O67/NR_Indices!N67)","v":1.0289729303861654},{"$f":"IF(NR_Indices!P67/NR_Indices!O67=0,\"\",NR_Indices!P67/NR_Indices!O67)","v":1.0252918391322436},{"$f":"IF(NR_Indices!Q67/NR_Indices!P67=0,\"\",NR_Indices!Q67/NR_Indices!P67)","v":1.0633793543339927},{"$f":"IF(NR_Indices!R67/NR_Indices!Q67=0,\"\",NR_Indices!R67/NR_Indices!Q67)","v":0.99505489934698954},{"$f":"IF(NR_Indices!S67/NR_Indices!R67=0,\"\",NR_Indices!S67/NR_Indices!R67)","v":1.0093116818553041},{"$f":"IF(NR_Indices!T67/NR_Indices!S67=0,\"\",NR_Indices!T67/NR_Indices!S67)","v":1.0289974657634027},{"$f":"IF(NR_Indices!U67/NR_Indices!T67=0,\"\",NR_Indices!U67/NR_Indices!T67)","v":1.0251671013423993},{"$f":"IF(NR_Indices!V67/NR_Indices!U67=0,\"\",NR_Indices!V67/NR_Indices!U67)","v":0.984590480416905},{"$f":"IF(NR_Indices!W67/NR_Indices!V67=0,\"\",NR_Indices!W67/NR_Indices!V67)","v":1.0582845640420828},{"$f":"IF(NR_Indices!X67/NR_Indices!W67=0,\"\",NR_Indices!X67/NR_Indices!W67)","v":1.0220597210965374}]
["Belgien",null,{"$f":"IF(NR_Indices!C68/NR_Indices!B68=0,\"\",NR_Indices!C68/NR_Indices!B68)","v":1.0025560007392897},{"$f":"IF(NR_Indices!D68/NR_Indices!C68=0,\"\",NR_Indices!D68/NR_Indices!C68)","v":1.1083862157159921},{"$f":"IF(NR_Indices!E68/NR_Indices!D68=0,\"\",NR_Indices!E68/NR_Indices!D68)","v":1.1424001651971465},{"$f":"IF(NR_Indices!F68/NR_Indices!E68=0,\"\",NR_Indices!F68/NR_Indices!E68)","v":0.99762585941036874},{"$f":"IF(NR_Indices!G68/NR_Indices!F68=0,\"\",NR_Indices!G68/NR_Indices!F68)","v":1.0267812225621689},{"$f":"IF(NR_Indices!H68/NR_Indices!G68=0,\"\",NR_Indices!H68/NR_Indices!G68)","v":0.92983146826508145},{"$f":"IF(NR_Indices!I68/NR_Indices!H68=0,\"\",NR_Indices!I68/NR_Indices!H68)","v":0.99682934482917851},{"$f":"IF(NR_Indices!J68/NR_Indices!I68=0,\"\",NR_Indices!J68/NR_Indices!I68)","v":1.0134355247335463},{"$f":"IF(NR_Indices!K68/NR_Indices!J68=0,\"\",NR_Indices!K68/NR_Indices!J68)","v":1.0523000890081866},{"$f":"IF(NR_Indices!L68/NR_Indices!K68=0,\"\",NR_Indices!L68/NR_Indices!K68)","v":1.0362311929672141},{"$f":"IF(NR_Indices!M68/NR_Indices!L68=0,\"\",NR_Indices!M68/NR_Indices!L68)","v":1.0513701147377241},{"$f":"IF(NR_Indices!N68/NR_Indices!M68=0,\"\",NR_Indices!N68/NR_Indices!M68)","v":1.0831963730803189},{"$f":"IF(NR_Indices!O68/NR_Indices!N68=0,\"\",NR_Indices!O68/NR_Indices!N68)","v":1.0413807503934176},{"$f":"IF(NR_Indices!P68/NR_Indices!O68=0,\"\",NR_Indices!P68/NR_Indices!O68)","v":0.99156537736593942},{"$f":"IF(NR_Indices!Q68/NR_Indices!P68=0,\"\",NR_Indices!Q68/NR_Indices!P68)","v":1.0395517654968986},{"$f":"IF(NR_Indices!R68/NR_Indices!Q68=0,\"\",NR_Indices!R68/NR_Indices!Q68)","v":1.0477935203493536},{"$f":"IF(NR_Indices!S68/NR_Indices!R68=0,\"\",NR_Indices!S68/NR_Indices!R68)","v":1.0393582041325791},{"$f":"IF(NR_Indices!T68/NR_Indices!S68=0,\"\",NR_Indices!T68/NR_Indices!S68)","v":0.98570770537917562},{"$f":"IF(NR_Indices!U68/NR_Indices!T68=0,\"\",NR_Indices!U68/NR_Indices!T68)","v":1.0223953635763072},{"$f":"IF(NR_Indices!V68/NR_Indices!U68=0,\"\",NR_Indices!V68/NR_Indices!U68)","v":1.0362188195796604},{"$f":"IF(NR_Indices!W68/NR_Indices!V68=0,\"\",NR_Indices!W68/NR_Indices!V68)","v":1.0053263146620437},{"$f":"IF(NR_Indices!X68/NR_Indices!W68=0,\"\",NR_Indices!X68/NR_Indices!W68)","v":""}]
["Tschechien",null,{"$f":"IF(NR_Indices!C69/NR_Indices!B69=0,\"\",NR_Indices!C69/NR_Indices!B69)","v":1.0466574389264394},{"$f":"IF(NR_Indices!D69/NR_Indices!C69=0,\"\",NR_Indices!D69/NR_Indices!C69)","v":0.96853048706254241},{"$f":"IF(NR_Indices!E69/NR_Indices!D69=0,\"\",NR_Indices!E69/NR_Indices!D69)","v":1.0319419050954548},{"$f":"IF(NR_Indices!F69/NR_Indices!E69=0,\"\",NR_Indices!F69/NR_Indices!E69)","v":1.0136019396795675},{"$f":"IF(NR_Indices!G69/NR_Indices!F69=0,\"\",NR_Indices!G69/NR_Indices!F69)","v":1.0523426706807351},{"$f":"IF(NR_Indices!H69/NR_Indices!G69=0,\"\",NR_Indices!H69/NR_Indices!G69)","v":1.1263406700520395},{"$f":"IF(NR_Indices!I69/NR_Indices!H69=0,\"\",NR_Indices!I69/NR_Indices!H69)","v":1.035860711528676},{"$f":"IF(NR_Indices!J69/NR_Indices!I69=0,\"\",NR_Indices!J69/NR_Indices!I69)","v":1.1918701913310021},{"$f":"IF(NR_Indices!K69/NR_Indices!J69=0,\"\",NR_Indices!K69/NR_Indices!J69)","v":1.0348438727245453},{"$f":"IF(NR_Indices!L69/NR_Indices!K69=0,\"\",NR_Indices!L69/NR_Indices!K69)","v":1.0309652125971629},{"$f":"IF(NR_Indices!M69/NR_Indices!L69=0,\"\",NR_Indices!M69/NR_Indices!L69)","v":1.1780785975249148},{"$f":"IF(NR_Indices!N69/NR_Indices!M69=0,\"\",NR_Indices!N69/NR_Indices!M69)","v":0.97799352685814978},{"$f":"IF(NR_Indices!O69/NR_Indices!N69=0,\"\",NR_Indices!O69/NR_Indices!N69)","v":0.88154978030362829},{"$f":"IF(NR_Indices!P69/NR_Indices!O69=0,\"\",NR_Indices!P69/NR_Indices!O69)","v":1.1313400578600454},{"$f":"IF(NR_Indices!Q69/NR_Indices!P69=0,\"\",NR_Indices!Q69/NR_Indices!P69)","v":1.0227563841955805},{"$f":"IF(NR_Indices!R69/NR_Indices!Q69=0,\"\",NR_Indices!R69/NR_Indices!Q69)","v":1.054333578874014},{"$f":"IF(NR_Indices!S69/NR_Indices!R69=0,\"\",NR_Indices!S69/NR_Indices!R69)","v":1.0455982335745415},{"$f":"IF(NR_Indices!T69/NR_Indices!S69=0,\"\",NR_Indices!T69/NR_Indices!S69)","v":0.93693036341985814},{"$f":"IF(NR_Indices!U69/NR_Indices!T69=0,\"\",NR_Indices!U69/NR_Indices!T69)","v":1.003414480359391},{"$f":"IF(NR_Indices!V69/NR_Indices!U69=0,\"\",NR_Indices!V69/NR_Indices!U69)","v":1.0423230333816238},{"$f":"IF(NR_Indices!W69/NR_Indices!V69=0,\"\",NR_Indices!W69/NR_Indices!V69)","v":1.0232081041722096},{"$f":"IF(NR_Indices!X69/NR_Indices!W69=0,\"\",NR_Indices!X69/NR_Indices!W69)","v":0.97396852072496487}]
["Dänemark",null,{"$f":"IF(NR_Indices!C70/NR_Indices!B70=0,\"\",NR_Indices!C70/NR_Indices!B70)","v":1.0489429481610193},{"$f":"IF(NR_Indices!D70/NR_Indices!C70=0,\"\",NR_Indices!D70/NR_Indices!C70)","v":1.0365445014895782},{"$f":"IF(NR_Indices!E70/NR_Indices!D70=0,\"\",NR_Indices!E70/NR_Indices!D70)","v":1.0025832236681775},{"$f":"IF(NR_Indices!F70/NR_Indices!E70=0,\"\",NR_Indices!F70/NR_Indices!E70)","v":1.0237879536594741},{"$f":"IF(NR_Indices!G70/NR_Indices!F70=0,\"\",NR_Indices!G70/NR_Indices!F70)","v":1.0321380112424889},{"$f":"IF(NR_Indices!H70/NR_Indices!G70=0,\"\",NR_Indices!H70/NR_Indices!G70)","v":1.0185052015916394},{"$f":"IF(NR_Indices!I70/NR_Indices!H70=0,\"\",NR_Indices!I70/NR_Indices!H70)","v":0.98307089524654367},{"$f":"IF(NR_Indices!J70/NR_Indices!I70=0,\"\",NR_Indices!J70/NR_Indices!I70)","v":0.99675862565727857},{"$f":"IF(NR_Indices!K70/NR_Indices!J70=0,\"\",NR_Indices!K70/NR_Indices!J70)","v":1.0164773992429306},{"$f":"IF(NR_Indices!L70/NR_Indices!K70=0,\"\",NR_Indices!L70/NR_Indices!K70)","v":1.1253658010169425},{"$f":"IF(NR_Indices!M70/NR_Indices!L70=0,\"\",NR_Indices!M70/NR_Indices!L70)","v":0.97478405894506259},{"$f":"IF(NR_Indices!N70/NR_Indices!M70=0,\"\",NR_Indices!N70/NR_Indices!M70)","v":1.0350988144811084},{"$f":"IF(NR_Indices!O70/NR_Indices!N70=0,\"\",NR_Indices!O70/NR_Indices!N70)","v":0.95816166883963516},{"$f":"IF(NR_Indices!P70/NR_Indices!O70=0,\"\",NR_Indices!P70/NR_Indices!O70)","v":1.0349343006366745},{"$f":"IF(NR_Indices!Q70/NR_Indices!P70=0,\"\",NR_Indices!Q70/NR_Indices!P70)","v":0.930349184859254},{"$f":"IF(NR_Indices!R70/NR_Indices!Q70=0,\"\",NR_Indices!R70/NR_Indices!Q70)","v":0.95424681797586208},{"$f":"IF(NR_Indices!S70/NR_Indices!R70=0,\"\",NR_Indices!S70/NR_Indices!R70)","v":1.0379503675543769},{"$f":"IF(NR_Indices!T70/NR_Indices!S70=0,\"\",NR_Indices!T70/NR_Indices!S70)","v":0.90666270826586071},{"$f":"IF(NR_Indices!U70/NR_Indices!T70=0,\"\",NR_Indices!U70/NR_Indices!T70)","v":1.0152780929788425},{"$f":"IF(NR_Indices!V70/NR_Indices!U70=0,\"\",NR_Indices!V70/NR_Indices!U70)","v":1.0150249585534004},{"$f":"IF(NR_Indices!W70/NR_Indices!V70=0,\"\",NR_Indices!W70/NR_Indices!V70)","v":1.0195386783064508},{"$f":"IF(NR_Indices!X70/NR_Indices!W70=0,\"\",NR_Indices!X70/NR_Indices!W70)","v":1.1753221418618542}]
["Estland",null,{"$f":"IF(NR_Indices!C71/NR_Indices!B71=0,\"\",NR_Indices!C71/NR_Indices!B71)","v":1.1651271613237935},{"$f":"IF(NR_Indices!D71/NR_Indices!C71=0,\"\",NR_Indices!D71/NR_Indices!C71)","v":1.0834188083515672},{"$f":"IF(NR_Indices!E71/NR_Indices!D71=0,\"\",NR_Indices!E71/NR_Indices!D71)","v":1.2251965376216907},{"$f":"IF(NR_Indices!F71/NR_Indices!E71=0,\"\",NR_Indices!F71/NR_Indices!E71)","v":0.97792479931136611},{"$f":"IF(NR_Indices!G71/NR_Indices!F71=0,\"\",NR_Indices!G71/NR_Indices!F71)","v":1.0950343846226616},{"$f":"IF(NR_Indices!H71/NR_Indices!G71=0,\"\",NR_Indices!H71/NR_Indices!G71)","v":1.1499438522653},{"$f":"IF(NR_Indices!I71/NR_Indices!H71=0,\"\",NR_Indices!I71/NR_Indices!H71)","v":1.1707286766663711},{"$f":"IF(NR_Indices!J71/NR_Indices!I71=0,\"\",NR_Indices!J71/NR_Indices!I71)","v":1.0793290609776751},{"$f":"IF(NR_Indices!K71/NR_Indices!J71=0,\"\",NR_Indices!K71/NR_Indices!J71)","v":1.240774105041841},{"$f":"IF(NR_Indices!L71/NR_Indices!K71=0,\"\",NR_Indices!L71/NR_Indices!K71)","v":1.2791157853966479},{"$f":"IF(NR_Indices!M71/NR_Indices!L71=0,\"\",NR_Indices!M71/NR_Indices!L71)","v":1.0044937041623299},{"$f":"IF(NR_Indices!N71/NR_Indices!M71=0,\"\",NR_Indices!N71/NR_Indices!M71)","v":1.1612983459768682},{"$f":"IF(NR_Indices!O71/NR_Indices!N71=0,\"\",NR_Indices!O71/NR_Indices!N71)","v":0.98415043397345336},{"$f":"IF(NR_Indices!P71/NR_Indices!O71=0,\"\",NR_Indices!P71/NR_Indices!O71)","v":0.92563550903447533},{"$f":"IF(NR_Indices!Q71/NR_Indices!P71=0,\"\",NR_Indices!Q71/NR_Indices!P71)","v":0.98352909508816688},{"$f":"IF(NR_Indices!R71/NR_Indices!Q71=0,\"\",NR_Indices!R71/NR_Indices!Q71)","v":1.0895249203658846},{"$f":"IF(NR_Indices!S71/NR_Indices!R71=0,\"\",NR_Indices!S71/NR_Indices!R71)","v":1.0250811943425879},{"$f":"IF(NR_Indices!T71/NR_Indices!S71=0,\"\",NR_Indices!T71/NR_Indices!S71)","v":1.1142862798949065},{"$f":"IF(NR_Indices!U71/NR_Indices!T71=0,\"\",NR_Indices!U71/NR_Indices!T71)","v":0.90209279796446473},{"$f":"IF(NR_Indices!V71/NR_Indices!U71=0,\"\",NR_Indices!V71/NR_Indices!U71)","v":1.1201339211653258},{"$f":"IF(NR_Indices!W71/NR_Indices!V71=0,\"\",NR_Indices!W71/NR_Indices!V71)","v":1.111267389947542},{"$f":"IF(NR_Indices!X71/NR_Indices!W71=0,\"\",NR_Indices!X71/NR_Indices!W71)","v":1.0477498013357687}]
["Frankreich",null,{"$f":"IF(NR_Indices!C72/NR_Indices!B72=0,\"\",NR_Indices!C72/NR_Indices!B72)","v":1.0377704603672575},{"$f":"IF(NR_Indices!D72/NR_Indices!C72=0,\"\",NR_Indices!D72/NR_Indices!C72)","v":1.134070038465899},{"$f":"IF(NR_Indices!E72/NR_Indices!D72=0,\"\",NR_Indices!E72/NR_Indices!D72)","v":1.145268457082675},{"$f":"IF(NR_Indices!F72/NR_Indices!E72=0,\"\",NR_Indices!F72/NR_Indices!E72)","v":1.1911423994181252},{"$f":"IF(NR_Indices!G72/NR_Indices!F72=0,\"\",NR_Indices!G72/NR_Indices!F72)","v":0.91738908963259458},{"$f":"IF(NR_Indices!H72/NR_Indices!G72=0,\"\",NR_Indices!H72/NR_Indices!G72)","v":0.95778064886591996},{"$f":"IF(NR_Indices!I72/NR_Indices!H72=0,\"\",NR_Indices!I72/NR_Indices!H72)","v":0.97659977070214621},{"$f":"IF(NR_Indices!J72/NR_Indices!I72=0,\"\",NR_Indices!J72/NR_Indices!I72)","v":0.972245453053313},{"$f":"IF(NR_Indices!K72/NR_Indices!J72=0,\"\",NR_Indices!K72/NR_Indices!J72)","v":1.0307359091004187},{"$f":"IF(NR_Indices!L72/NR_Indices!K72=0,\"\",NR_Indices!L72/NR_Indices!K72)","v":1.0192416707021235},{"$f":"IF(NR_Indices!M72/NR_Indices!L72=0,\"\",NR_Indices!M72/NR_Indices!L72)","v":0.97403829555293664},{"$f":"IF(NR_Indices!N72/NR_Indices!M72=0,\"\",NR_Indices!N72/NR_Indices!M72)","v":1.0321404631722833},{"$f":"IF(NR_Indices!O72/NR_Indices!N72=0,\"\",NR_Indices!O72/NR_Indices!N72)","v":1.0033623456994407},{"$f":"IF(NR_Indices!P72/NR_Indices!O72=0,\"\",NR_Indices!P72/NR_Indices!O72)","v":1.0086097779032559},{"$f":"IF(NR_Indices!Q72/NR_Indices!P72=0,\"\",NR_Indices!Q72/NR_Indices!P72)","v":0.98485355770350536},{"$f":"IF(NR_Indices!R72/NR_Indices!Q72=0,\"\",NR_Indices!R72/NR_Indices!Q72)","v":0.98379211702398039},{"$f":"IF(NR_Indices!S72/NR_Indices!R72=0,\"\",NR_Indices!S72/NR_Indices!R72)","v":1.0009149888635371},{"$f":"IF(NR_Indices!T72/NR_Indices!S72=0,\"\",NR_Indices!T72/NR_Indices!S72)","v":0.97499703308914776},{"$f":"IF(NR_Indices!U72/NR_Indices!T72=0,\"\",NR_Indices!U72/NR_Indices!T72)","v":0.98855997785465177},{"$f":"IF(NR_Indices!V72/NR_Indices!U72=0,\"\",NR_Indices!V72/NR_Indices!U72)","v":0.95977528010686197},{"$f":"IF(NR_Indices!W72/NR_Indices!V72=0,\"\",NR_Indices!W72/NR_Indices!V72)","v":1.0348074348814076},{"$f":"IF(NR_Indices!X72/NR_Indices!W72=0,\"\",NR_Indices!X72/NR_Indices!W72)","v":""}]
["Griechenland",null,{"$f":"IF(NR_Indices!C73/NR_Indices!B73=0,\"\",NR_Indices!C73/NR_Indices!B73)","v":1.0034463868995667},{"$f":"IF(NR_Indices!D73/NR_Indices!C73=0,\"\",NR_Indices!D73/NR_Indices!C73)","v":1.2115810248440286},{"$f":"IF(NR_Indices!E73/NR_Indices!D73=0,\"\",NR_Indices!E73/NR_Indices!D73)","v":1.0415537928739753},{"$f":"IF(NR_Indices!F73/NR_Indices!E73=0,\"\",NR_Indices!F73/NR_Indices!E73)","v":1.3096949785409631},{"$f":"IF(NR_Indices!G73/NR_Indices!F73=0,\"\",NR_Indices!G73/NR_Indices!F73)","v":1.0284189197158826},{"$f":"IF(NR_Indices!H73/NR_Indices!G73=0,\"\",NR_Indices!H73/NR_Indices!G73)","v":1.1454271769681503},{"$f":"IF(NR_Indices!I73/NR_Indices!H73=0,\"\",NR_Indices!I73/NR_Indices!H73)","v":1.0558176709939935},{"$f":"IF(NR_Indices!J73/NR_Indices!I73=0,\"\",NR_Indices!J73/NR_Indices!I73)","v":0.96373325248661923},{"$f":"IF(NR_Indices!K73/NR_Indices!J73=0,\"\",NR_Indices!K73/NR_Indices!J73)","v":1.0310044801291431},{"$f":"IF(NR_Indices!L73/NR_Indices!K73=0,\"\",NR_Indices!L73/NR_Indices!K73)","v":1.0155846873864882},{"$f":"IF(NR_Indices!M73/NR_Indices!L73=0,\"\",NR_Indices!M73/NR_Indices!L73)","v":1.0802483885800203},{"$f":"IF(NR_Indices!N73/NR_Indices!M73=0,\"\",NR_Indices!N73/NR_Indices!M73)","v":1.1801495452647188},{"$f":"IF(NR_Indices!O73/NR_Indices!N73=0,\"\",NR_Indices!O73/NR_Indices!N73)","v":1.0347081834205663},{"$f":"IF(NR_Indices!P73/NR_Indices!O73=0,\"\",NR_Indices!P73/NR_Indices!O73)","v":0.97289067142008323},{"$f":"IF(NR_Indices!Q73/NR_Indices!P73=0,\"\",NR_Indices!Q73/NR_Indices!P73)","v":0.91068312632571513},{"$f":"IF(NR_Indices!R73/NR_Indices!Q73=0,\"\",NR_Indices!R73/NR_Indices!Q73)","v":1.0252723522342582},{"$f":"IF(NR_Indices!S73/NR_Indices!R73=0,\"\",NR_Indices!S73/NR_Indices!R73)","v":0.88905205682850241},{"$f":"IF(NR_Indices!T73/NR_Indices!S73=0,\"\",NR_Indices!T73/NR_Indices!S73)","v":0.95002469472575191},{"$f":"IF(NR_Indices!U73/NR_Indices!T73=0,\"\",NR_Indices!U73/NR_Indices!T73)","v":0.99999362299363137},{"$f":"IF(NR_Indices!V73/NR_Indices!U73=0,\"\",NR_Indices!V73/NR_Indices!U73)","v":0.94672878545576711},{"$f":"IF(NR_Indices!W73/NR_Indices!V73=0,\"\",NR_Indices!W73/NR_Indices!V73)","v":0.98312573590452323},{"$f":"IF(NR_Indices!X73/NR_Indices!W73=0,\"\",NR_Indices!X73/NR_Indices!W73)","v":0.98244876448842833}]
["Italien",null,{"$f":"IF(NR_Indices!C74/NR_Indices!B74=0,\"\",NR_Indices!C74/NR_Indices!B74)","v":1.0102247853927593},{"$f":"IF(NR_Indices!D74/NR_Indices!C74=0,\"\",NR_Indices!D74/NR_Indices!C74)","v":1.1150847807818169},{"$f":"IF(NR_Indices!E74/NR_Indices!D74=0,\"\",NR_Indices!E74/NR_Indices!D74)","v":1.0500988833808296},{"$f":"IF(NR_Indices!F74/NR_Indices!E74=0,\"\",NR_Indices!F74/NR_Indices!E74)","v":1.1457498610317489},{"$f":"IF(NR_Indices!G74/NR_Indices!F74=0,\"\",NR_Indices!G74/NR_Indices!F74)","v":1.0416495289041972},{"$f":"IF(NR_Indices!H74/NR_Indices!G74=0,\"\",NR_Indices!H74/NR_Indices!G74)","v":1.15472324686768},{"$f":"IF(NR_Indices!I74/NR_Indices!H74=0,\"\",NR_Indices!I74/NR_Indices!H74)","v":0.94097948244628693},{"$f":"IF(NR_Indices!J74/NR_Indices!I74=0,\"\",NR_Indices!J74/NR_Indices!I74)","v":1.0374787445145863},{"$f":"IF(NR_Indices!K74/NR_Indices!J74=0,\"\",NR_Indices!K74/NR_Indices!J74)","v":0.97702808631205806},{"$f":"IF(NR_Indices!L74/NR_Indices!K74=0,\"\",NR_Indices!L74/NR_Indices!K74)","v":1.0441380841773755},{"$f":"IF(NR_Indices!M74/NR_Indices!L74=0,\"\",NR_Indices!M74/NR_Indices!L74)","v":1.0160664648761899},{"$f":"IF(NR_Indices!N74/NR_Indices!M74=0,\"\",NR_Indices!N74/NR_Indices!M74)","v":1.0788284174638676},{"$f":"IF(NR_Indices!O74/NR_Indices!N74=0,\"\",NR_Indices!O74/NR_Indices!N74)","v":0.93323936077302494},{"$f":"IF(NR_Indices!P74/NR_Indices!O74=0,\"\",NR_Indices!P74/NR_Indices!O74)","v":0.96652704198915029},{"$f":"IF(NR_Indices!Q74/NR_Indices!P74=0,\"\",NR_Indices!Q74/NR_Indices!P74)","v":1.030826536292021},{"$f":"IF(NR_Indices!R74/NR_Indices!Q74=0,\"\",NR_Indices!R74/NR_Indices!Q74)","v":0.95086143153346359},{"$f":"IF(NR_Indices!S74/NR_Indices!R74=0,\"\",NR_Indices!S74/NR_Indices!R74)","v":0.92493666701009181},{"$f":"IF(NR_Indices!T74/NR_Indices!S74=0,\"\",NR_Indices!T74/NR_Indices!S74)","v":0.98891540751615914},{"$f":"IF(NR_Indices!U74/NR_Indices!T74=0,\"\",NR_Indices!U74/NR_Indices!T74)","v":0.96858324781340033},{"$f":"IF(NR_Indices!V74/NR_Indices!U74=0,\"\",NR_Indices!V74/NR_Indices!U74)","v":1.0658051919298095},{"$f":"IF(NR_Indices!W74/NR_Indices!V74=0,\"\",NR_Indices!W74/NR_Indices!V74)","v":""},{"$f":"IF(NR_Indices!X74/NR_Indices!W74=0,\"\",NR_Indices!X74/NR_Indices!W74)","v":{"$error":"#DIV/0!"}}]
["Spanien",null,{"$f":"IF(NR_Indices!C75/NR_Indices!B75=0,\"\",NR_Indices!C75/NR_Indices!B75)","v":{"$error":"#DIV/0!"}},{"$f":"IF(NR_Indices!D75/NR_Indices!C75=0,\"\",NR_Indices!D75/NR_Indices!C75)","v":{"$error":"#DIV/0!"}},{"$f":"IF(NR_Indices!E75/NR_Indices!D75=0,\"\",NR_Indices!E75/NR_Indices!D75)","v":{"$error":"#DIV/0!"}},{"$f":"IF(NR_Indices!F75/NR_Indices!E75=0,\"\",NR_Indices!F75/NR_Indices!E75)","v":{"$error":"#DIV/0!"}},{"$f":"IF(NR_Indices!G75/NR_Indices!F75=0,\"\",NR_Indices!G75/NR_Indices!F75)","v":{"$error":"#DIV/0!"}},{"$f":"IF(NR_Indices!H75/NR_Indices!G75=0,\"\",NR_Indices!H75/NR_Indices!G75)","v":{"$error":"#DIV/0!"}},{"$f":"IF(NR_Indices!I75/NR_Indices!H75=0,\"\",NR_Indices!I75/NR_Indices!H75)","v":{"$error":"#DIV/0!"}},{"$f":"IF(NR_Indices!J75/NR_Indices!I75=0,\"\",NR_Indices!J75/NR_Indices!I75)","v":{"$error":"#DIV/0!"}},{"$f":"IF(NR_Indices!K75/NR_Indices!J75=0,\"\",NR_Indices!K75/NR_Indices!J75)","v":{"$error":"#DIV/0!"}},{"$f":"IF(NR_Indices!L75/NR_Indices!K75=0,\"\",NR_Indices!L75/NR_Indices!K75)","v":{"$error":"#DIV/0!"}},{"$f":"IF(NR_Indices!M75/NR_Indices!L75=0,\"\",NR_Indices!M75/NR_Indices!L75)","v":{"$error":"#DIV/0!"}},{"$f":"IF(NR_Indices!N75/NR_Indices!M75=0,\"\",NR_Indices!N75/NR_Indices!M75)","v":{"$error":"#DIV/0!"}},{"$f":"IF(NR_Indices!O75/NR_Indices!N75=0,\"\",NR_Indices!O75/NR_Indices!N75)","v":{"$error":"#DIV/0!"}},{"$f":"IF(NR_Indices!P75/NR_Indices!O75=0,\"\",NR_Indices!P75/NR_Indices!O75)","v":{"$error":"#DIV/0!"}},{"$f":"IF(NR_Indices!Q75/NR_Indices!P75=0,\"\",NR_Indices!Q75/NR_Indices!P75)","v":{"$error":"#DIV/0!"}},{"$f":"IF(NR_Indices!R75/NR_Indices!Q75=0,\"\",NR_Indices!R75/NR_Indices!Q75)","v":{"$error":"#DIV/0!"}},{"$f":"IF(NR_Indices!S75/NR_Indices!R75=0,\"\",NR_Indices!S75/NR_Indices!R75)","v":{"$error":"#DIV/0!"}},{"$f":"IF(NR_Indices!T75/NR_Indices!S75=0,\"\",NR_Indices!T75/NR_Indices!S75)","v":{"$error":"#DIV/0!"}},{"$f":"IF(NR_Indices!U75/NR_Indices!T75=0,\"\",NR_Indices!U75/NR_Indices!T75)","v":{"$error":"#DIV/0!"}},{"$f":"IF(NR_Indices!V75/NR_Indices!U75=0,\"\",NR_Indices!V75/NR_Indices!U75)","v":{"$error":"#DIV/0!"}},{"$f":"IF(NR_Indices!W75/NR_Indices!V75=0,\"\",NR_Indices!W75/NR_Indices!V75)","v":{"$error":"#DIV/0!"}},{"$f":"IF(NR_Indices!X75/NR_Indices!W75=0,\"\",NR_Indices!X75/NR_Indices!W75)","v":{"$error":"#DIV/0!"}}]
["Finnland",null,{"$f":"IF(NR_Indices!C76/NR_Indices!B76=0,\"\",NR_Indices!C76/NR_Indices!B76)","v":1.0470742841834315},{"$f":"IF(NR_Indices!D76/NR_Indices!C76=0,\"\",NR_Indices!D76/NR_Indices!C76)","v":1.0709126614299029},{"$f":"IF(NR_Indices!E76/NR_Indices!D76=0,\"\",NR_Indices!E76/NR_Indices!D76)","v":1.0215300614258236},{"$f":"IF(NR_Indices!F76/NR_Indices!E76=0,\"\",NR_Indices!F76/NR_Indices!E76)","v":1.1011897163573232},{"$f":"IF(NR_Indices!G76/NR_Indices!F76=0,\"\",NR_Indices!G76/NR_Indices!F76)","v":1.0471497078201903},{"$f":"IF(NR_Indices!H76/NR_Indices!G76=0,\"\",NR_Indices!H76/NR_Indices!G76)","v":0.99386032233307753},{"$f":"IF(NR_Indices!I76/NR_Indices!H76=0,\"\",NR_Indices!I76/NR_Indices!H76)","v":1.0065332075603535},{"$f":"IF(NR_Indices!J76/NR_Indices!I76=0,\"\",NR_Indices!J76/NR_Indices!I76)","v":1.0253626555595923},{"$f":"IF(NR_Indices!K76/NR_Indices!J76=0,\"\",NR_Indices!K76/NR_Indices!J76)","v":1.0438888169164111},{"$f":"IF(NR_Indices!L76/NR_Indices!K76=0,\"\",NR_Indices!L76/NR_Indices!K76)","v":1.0011128749815883},{"$f":"IF(NR_Indices!M76/NR_Indices!L76=0,\"\",NR_Indices!M76/NR_Indices!L76)","v":0.98939664700596042},{"$f":"IF(NR_Indices!N76/NR_Indices!M76=0,\"\",NR_Indices!N76/NR_Indices!M76)","v":0.99437185418679119},{"$f":"IF(NR_Indices!O76/NR_Indices!N76=0,\"\",NR_Indices!O76/NR_Indices!N76)","v":1.0050891554032617},{"$f":"IF(NR_Indices!P76/NR_Indices!O76=0,\"\",NR_Indices!P76/NR_Indices!O76)","v":0.9242581804597817},{"$f":"IF(NR_Indices!Q76/NR_Indices!P76=0,\"\",NR_Indices!Q76/NR_Indices!P76)","v":1.061354924726404},{"$f":"IF(NR_Indices!R76/NR_Indices!Q76=0,\"\",NR_Indices!R76/NR_Indices!Q76)","v":1.0940286328907349},{"$f":"IF(NR_Indices!S76/NR_Indices!R76=0,\"\",NR_Indices!S76/NR_Indices!R76)","v":1.0504418975047627},{"$f":"IF(NR_Indices!T76/NR_Indices!S76=0,\"\",NR_Indices!T76/NR_Indices!S76)","v":0.95318962275974439},{"$f":"IF(NR_Indices!U76/NR_Indices!T76=0,\"\",NR_Indices!U76/NR_Indices!T76)","v":0.93261529244754693},{"$f":"IF(NR_Indices!V76/NR_Indices!U76=0,\"\",NR_Indices!V76/NR_Indices!U76)","v":0.86089456134299192},{"$f":"IF(NR_Indices!W76/NR_Indices!V76=0,\"\",NR_Indices!W76/NR_Indices!V76)","v":0.99765097609925213},{"$f":"IF(NR_Indices!X76/NR_Indices!W76=0,\"\",NR_Indices!X76/NR_Indices!W76)","v":1.0024406402777988}]
["Ungarn",null,{"$f":"IF(NR_Indices!C77/NR_Indices!B77=0,\"\",NR_Indices!C77/NR_Indices!B77)","v":0.91548248724100212},{"$f":"IF(NR_Indices!D77/NR_Indices!C77=0,\"\",NR_Indices!D77/NR_Indices!C77)","v":0.97226150796212563},{"$f":"IF(NR_Indices!E77/NR_Indices!D77=0,\"\",NR_Indices!E77/NR_Indices!D77)","v":1.0702104899590454},{"$f":"IF(NR_Indices!F77/NR_Indices!E77=0,\"\",NR_Indices!F77/NR_Indices!E77)","v":1.0413231421098181},{"$f":"IF(NR_Indices!G77/NR_Indices!F77=0,\"\",NR_Indices!G77/NR_Indices!F77)","v":0.95087615131586556},{"$f":"IF(NR_Indices!H77/NR_Indices!G77=0,\"\",NR_Indices!H77/NR_Indices!G77)","v":1.4815115718071421},{"$f":"IF(NR_Indices!I77/NR_Indices!H77=0,\"\",NR_Indices!I77/NR_Indices!H77)","v":1.2892884018230286},{"$f":"IF(NR_Indices!J77/NR_Indices!I77=0,\"\",NR_Indices!J77/NR_Indices!I77)","v":0.89785394841969846},{"$f":"IF(NR_Indices!K77/NR_Indices!J77=0,\"\",NR_Indices!K77/NR_Indices!J77)","v":1.2149715611670553},{"$f":"IF(NR_Indices!L77/NR_Indices!K77=0,\"\",NR_Indices!L77/NR_Indices!K77)","v":1.0674027829080923},{"$f":"IF(NR_Indices!M77/NR_Indices!L77=0,\"\",NR_Indices!M77/NR_Indices!L77)","v":0.99245219244511418},{"$f":"IF(NR_Indices!N77/NR_Indices!M77=0,\"\",NR_Indices!N77/NR_Indices!M77)","v":1.0704021141056155},{"$f":"IF(NR_Indices!O77/NR_Indices!N77=0,\"\",NR_Indices!O77/NR_Indices!N77)","v":1.1381625155996169},{"$f":"IF(NR_Indices!P77/NR_Indices!O77=0,\"\",NR_Indices!P77/NR_Indices!O77)","v":0.85605822508136553},{"$f":"IF(NR_Indices!Q77/NR_Indices!P77=0,\"\",NR_Indices!Q77/NR_Indices!P77)","v":0.98287141885381568},{"$f":"IF(NR_Indices!R77/NR_Indices!Q77=0,\"\",NR_Indices!R77/NR_Indices!Q77)","v":1.0024834381428895},{"$f":"IF(NR_Indices!S77/NR_Indices!R77=0,\"\",NR_Indices!S77/NR_Indices!R77)","v":0.97831020680899705},{"$f":"IF(NR_Indices!T77/NR_Indices!S77=0,\"\",NR_Indices!T77/NR_Indices!S77)","v":1.0529501587668904},{"$f":"IF(NR_Indices!U77/NR_Indices!T77=0,\"\",NR_Indices!U77/NR_Indices!T77)","v":1.0626550732658848},{"$f":"IF(NR_Indices!V77/NR_Indices!U77=0,\"\",NR_Indices!V77/NR_Indices!U77)","v":1.0427174166430362},{"$f":"IF(NR_Indices!W77/NR_Indices!V77=0,\"\",NR_Indices!W77/NR_Indices!V77)","v":0.96664205893053323},{"$f":"IF(NR_Indices!X77/NR_Indices!W77=0,\"\",NR_Indices!X77/NR_Indices!W77)","v":0.94912379526779822}]
["Irland",null,{"$f":"IF(NR_Indices!C78/NR_Indices!B78=0,\"\",NR_Indices!C78/NR_Indices!B78)","v":{"$error":"#DIV/0!"}},{"$f":"IF(NR_Indices!D78/NR_Indices!C78=0,\"\",NR_Indices!D78/NR_Indices!C78)","v":{"$error":"#DIV/0!"}},{"$f":"IF(NR_Indices!E78/NR_Indices!D78=0,\"\",NR_Indices!E78/NR_Indices!D78)","v":{"$error":"#DIV/0!"}},{"$f":"IF(NR_Indices!F78/NR_Indices!E78=0,\"\",NR_Indices!F78/NR_Indices!E78)","v":{"$error":"#DIV/0!"}},{"$f":"IF(NR_Indices!G78/NR_Indices!F78=0,\"\",NR_Indices!G78/NR_Indices!F78)","v":{"$error":"#DIV/0!"}},{"$f":"IF(NR_Indices!H78/NR_Indices!G78=0,\"\",NR_Indices!H78/NR_Indices!G78)","v":{"$error":"#DIV/0!"}},{"$f":"IF(NR_Indices!I78/NR_Indices!H78=0,\"\",NR_Indices!I78/NR_Indices!H78)","v":{"$error":"#DIV/0!"}},{"$f":"IF(NR_Indices!J78/NR_Indices!I78=0,\"\",NR_Indices!J78/NR_Indices!I78)","v":{"$error":"#DIV/0!"}},{"$f":"IF(NR_Indices!K78/NR_Indices!J78=0,\"\",NR_Indices!K78/NR_Indices!J78)","v":{"$error":"#DIV/0!"}},{"$f":"IF(NR_Indices!L78/NR_Indices!K78=0,\"\",NR_Indices!L78/NR_Indices!K78)","v":{"$error":"#DIV/0!"}},{"$f":"IF(NR_Indices!M78/NR_Indices!L78=0,\"\",NR_Indices!M78/NR_Indices!L78)","v":{"$error":"#DIV/0!"}},{"$f":"IF(NR_Indices!N78/NR_Indices!M78=0,\"\",NR_Indices!N78/NR_Indices!M78)","v":{"$error":"#DIV/0!"}},{"$f":"IF(NR_Indices!O78/NR_Indices!N78=0,\"\",NR_Indices!O78/NR_Indices!N78)","v":{"$error":"#DIV/0!"}},{"$f":"IF(NR_Indices!P78/NR_Indices!O78=0,\"\",NR_Indices!P78/NR_Indices!O78)","v":{"$error":"#DIV/0!"}},{"$f":"IF(NR_Indices!Q78/NR_Indices!P78=0,\"\",NR_Indices!Q78/NR_Indices!P78)","v":{"$error":"#DIV/0!"}},{"$f":"IF(NR_Indices!R78/NR_Indices!Q78=0,\"\",NR_Indices!R78/NR_Indices!Q78)","v":{"$error":"#DIV/0!"}},{"$f":"IF(NR_Indices!S78/NR_Indices!R78=0,\"\",NR_Indices!S78/NR_Indices!R78)","v":{"$error":"#DIV/0!"}},{"$f":"IF(NR_Indices!T78/NR_Indices!S78=0,\"\",NR_Indices!T78/NR_Indices!S78)","v":{"$error":"#DIV/0!"}},{"$f":"IF(NR_Indices!U78/NR_Indices!T78=0,\"\",NR_Indices!U78/NR_Indices!T78)","v":{"$error":"#DIV/0!"}},{"$f":"IF(NR_Indices!V78/NR_Indices!U78=0,\"\",NR_Indices!V78/NR_Indices!U78)","v":{"$error":"#DIV/0!"}},{"$f":"IF(NR_Indices!W78/NR_Indices!V78=0,\"\",NR_Indices!W78/NR_Indices!V78)","v":{"$error":"#DIV/0!"}},{"$f":"IF(NR_Indices!X78/NR_Indices!W78=0,\"\",NR_Indices!X78/NR_Indices!W78)","v":{"$error":"#DIV/0!"}}]
["Niederlande",null,{"$f":"IF(NR_Indices!C79/NR_Indices!B79=0,\"\",NR_Indices!C79/NR_Indices!B79)","v":1.0491007707679134},{"$f":"IF(NR_Indices!D79/NR_Indices!C79=0,\"\",NR_Indices!D79/NR_Indices!C79)","v":1.0089421142238042},{"$f":"IF(NR_Indices!E79/NR_Indices!D79=0,\"\",NR_Indices!E79/NR_Indices!D79)","v":1.0389407986778105},{"$f":"IF(NR_Indices!F79/NR_Indices!E79=0,\"\",NR_Indices!F79/NR_Indices!E79)","v":0.99900457358084482},{"$f":"IF(NR_Indices!G79/NR_Indices!F79=0,\"\",NR_Indices!G79/NR_Indices!F79)","v":1.0256660460935993},{"$f":"IF(NR_Indices!H79/NR_Indices!G79=0,\"\",NR_Indices!H79/NR_Indices!G79)","v":1.0102954341987469},{"$f":"IF(NR_Indices!I79/NR_Indices!H79=0,\"\",NR_Indices!I79/NR_Indices!H79)","v":1.039351462397393},{"$f":"IF(NR_Indices!J79/NR_Indices!I79=0,\"\",NR_Indices!J79/NR_Indices!I79)","v":1.0394891048599453},{"$f":"IF(NR_Indices!K79/NR_Indices!J79=0,\"\",NR_Indices!K79/NR_Indices!J79)","v":1.100229528685077},{"$f":"IF(NR_Indices!L79/NR_Indices!K79=0,\"\",NR_Indices!L79/NR_Indices!K79)","v":1.0100396740416802},{"$f":"IF(NR_Indices!M79/NR_Indices!L79=0,\"\",NR_Indices!M79/NR_Indices!L79)","v":1.0511981069221403},{"$f":"IF(NR_Indices!N79/NR_Indices!M79=0,\"\",NR_Indices!N79/NR_Indices!M79)","v":1.0010944910616564},{"$f":"IF(NR_Indices!O79/NR_Indices!N79=0,\"\",NR_Indices!O79/NR_Indices!N79)","v":0.99886261598323867},{"$f":"IF(NR_Indices!P79/NR_Indices!O79=0,\"\",NR_Indices!P79/NR_Indices!O79)","v":0.92530755711775037},{"$f":"IF(NR_Indices!Q79/NR_Indices!P79=0,\"\",NR_Indices!Q79/NR_Indices!P79)","v":0.98780551675977657},{"$f":"IF(NR_Indices!R79/NR_Indices!Q79=0,\"\",NR_Indices!R79/NR_Indices!Q79)","v":0.98038073038073037},{"$f":"IF(NR_Indices!S79/NR_Indices!R79=0,\"\",NR_Indices!S79/NR_Indices!R79)","v":0.94692766360394742},{"$f":"IF(NR_Indices!T79/NR_Indices!S79=0,\"\",NR_Indices!T79/NR_Indices!S79)","v":0.96755156008500776},{"$f":"IF(NR_Indices!U79/NR_Indices!T79=0,\"\",NR_Indices!U79/NR_Indices!T79)","v":1.0577982369611849},{"$f":"IF(NR_Indices!V79/NR_Indices!U79=0,\"\",NR_Indices!V79/NR_Indices!U79)","v":1.0171200490861187},{"$f":"IF(NR_Indices!W79/NR_Indices!V79=0,\"\",NR_Indices!W79/NR_Indices!V79)","v":1.0582414475544248},{"$f":"IF(NR_Indices!X79/NR_Indices!W79=0,\"\",NR_Indices!X79/NR_Indices!W79)","v":1.0694415697313409}]
["Portugal",null,{"$f":"IF(NR_Indices!C80/NR_Indices!B80=0,\"\",NR_Indices!C80/NR_Indices!B80)","v":1.0637634522107724},{"$f":"IF(NR_Indices!D80/NR_Indices!C80=0,\"\",NR_Indices!D80/NR_Indices!C80)","v":1.0418719352913013},{"$f":"IF(NR_Indices!E80/NR_Indices!D80=0,\"\",NR_Indices!E80/NR_Indices!D80)","v":1.0426104706666013},{"$f":"IF(NR_Indices!F80/NR_Indices!E80=0,\"\",NR_Indices!F80/NR_Indices!E80)","v":1.0237038801819742},{"$f":"IF(NR_Indices!G80/NR_Indices!F80=0,\"\",NR_Indices!G80/NR_Indices!F80)","v":1.0656266902573568},{"$f":"IF(NR_Indices!H80/NR_Indices!G80=0,\"\",NR_Indices!H80/NR_Indices!G80)","v":0.98852105882874874},{"$f":"IF(NR_Indices!I80/NR_Indices!H80=0,\"\",NR_Indices!I80/NR_Indices!H80)","v":1.0026895523454185},{"$f":"IF(NR_Indices!J80/NR_Indices!I80=0,\"\",NR_Indices!J80/NR_Indices!I80)","v":0.99620277999102436},{"$f":"IF(NR_Indices!K80/NR_Indices!J80=0,\"\",NR_Indices!K80/NR_Indices!J80)","v":1.0391068913445378},{"$f":"IF(NR_Indices!L80/NR_Indices!K80=0,\"\",NR_Indices!L80/NR_Indices!K80)","v":1.033590209950461},{"$f":"IF(NR_Indices!M80/NR_Indices!L80=0,\"\",NR_Indices!M80/NR_Indices!L80)","v":1.0172338618497272},{"$f":"IF(NR_Indices!N80/NR_Indices!M80=0,\"\",NR_Indices!N80/NR_Indices!M80)","v":1.0794557151320414},{"$f":"IF(NR_Indices!O80/NR_Indices!N80=0,\"\",NR_Indices!O80/NR_Indices!N80)","v":1.0116277232084012},{"$f":"IF(NR_Indices!P80/NR_Indices!O80=0,\"\",NR_Indices!P80/NR_Indices!O80)","v":0.96587556160802435},{"$f":"IF(NR_Indices!Q80/NR_Indices!P80=0,\"\",NR_Indices!Q80/NR_Indices!P80)","v":1.0365721895473803},{"$f":"IF(NR_Indices!R80/NR_Indices!Q80=0,\"\",NR_Indices!R80/NR_Indices!Q80)","v":0.98816373871158647},{"$f":"IF(NR_Indices!S80/NR_Indices!R80=0,\"\",NR_Indices!S80/NR_Indices!R80)","v":0.97677675326297531},{"$f":"IF(NR_Indices!T80/NR_Indices!S80=0,\"\",NR_Indices!T80/NR_Indices!S80)","v":1.0390990096947643},{"$f":"IF(NR_Indices!U80/NR_Indices!T80=0,\"\",NR_Indices!U80/NR_Indices!T80)","v":1.0338373459059669},{"$f":"IF(NR_Indices!V80/NR_Indices!U80=0,\"\",NR_Indices!V80/NR_Indices!U80)","v":0.96929126079310812},{"$f":"IF(NR_Indices!W80/NR_Indices!V80=0,\"\",NR_Indices!W80/NR_Indices!V80)","v":0.94754658583807927},{"$f":"IF(NR_Indices!X80/NR_Indices!W80=0,\"\",NR_Indices!X80/NR_Indices!W80)","v":""}]
["Rumänien",null,{"$f":"IF(NR_Indices!C81/NR_Indices!B81=0,\"\",NR_Indices!C81/NR_Indices!B81)","v":1.277172874762021},{"$f":"IF(NR_Indices!D81/NR_Indices!C81=0,\"\",NR_Indices!D81/NR_Indices!C81)","v":1.0528301886792453},{"$f":"IF(NR_Indices!E81/NR_Indices!D81=0,\"\",NR_Indices!E81/NR_Indices!D81)","v":1.0264431883963872},{"$f":"IF(NR_Indices!F81/NR_Indices!E81=0,\"\",NR_Indices!F81/NR_Indices!E81)","v":1.0395184931463479},{"$f":"IF(NR_Indices!G81/NR_Indices!F81=0,\"\",NR_Indices!G81/NR_Indices!F81)","v":0.92187854688302318},{"$f":"IF(NR_Indices!H81/NR_Indices!G81=0,\"\",NR_Indices!H81/NR_Indices!G81)","v":1.0852935547096585},{"$f":"IF(NR_Indices!I81/NR_Indices!H81=0,\"\",NR_Indices!I81/NR_Indices!H81)","v":0.9857237764818777},{"$f":"IF(NR_Indices!J81/NR_Indices!I81=0,\"\",NR_Indices!J81/NR_Indices!I81)","v":1.00065979640824},{"$f":"IF(NR_Indices!K81/NR_Indices!J81=0,\"\",NR_Indices!K81/NR_Indices!J81)","v":1.0198194788728148},{"$f":"IF(NR_Indices!L81/NR_Indices!K81=0,\"\",NR_Indices!L81/NR_Indices!K81)","v":1.0552425062386865},{"$f":"IF(NR_Indices!M81/NR_Indices!L81=0,\"\",NR_Indices!M81/NR_Indices!L81)","v":1.0037981613774596},{"$f":"IF(NR_Indices!N81/NR_Indices!M81=0,\"\",NR_Indices!N81/NR_Indices!M81)","v":0.97816524482111389},{"$f":"IF(NR_Indices!O81/NR_Indices!N81=0,\"\",NR_Indices!O81/NR_Indices!N81)","v":1.271077394991873},{"$f":"IF(NR_Indices!P81/NR_Indices!O81=0,\"\",NR_Indices!P81/NR_Indices!O81)","v":0.8515253971145702},{"$f":"IF(NR_Indices!Q81/NR_Indices!P81=0,\"\",NR_Indices!Q81/NR_Indices!P81)","v":0.73274838513989471},{"$f":"IF(NR_Indices!R81/NR_Indices!Q81=0,\"\",NR_Indices!R81/NR_Indices!Q81)","v":1.0247011594671478},{"$f":"IF(NR_Indices!S81/NR_Indices!R81=0,\"\",NR_Indices!S81/NR_Indices!R81)","v":1.0429853857405083},{"$f":"IF(NR_Indices!T81/NR_Indices!S81=0,\"\",NR_Indices!T81/NR_Indices!S81)","v":1.0657825229601237},{"$f":"IF(NR_Indices!U81/NR_Indices!T81=0,\"\",NR_Indices!U81/NR_Indices!T81)","v":1.1972005007140956},{"$f":"IF(NR_Indices!V81/NR_Indices!U81=0,\"\",NR_Indices!V81/NR_Indices!U81)","v":0.94371839272366143},{"$f":"IF(NR_Indices!W81/NR_Indices!V81=0,\"\",NR_Indices!W81/NR_Indices!V81)","v":1.3757022564982013},{"$f":"IF(NR_Indices!X81/NR_Indices!W81=0,\"\",NR_Indices!X81/NR_Indices!W81)","v":0.8686693076961679}]
["Slowenien",null,{"$f":"IF(NR_Indices!C82/NR_Indices!B82=0,\"\",NR_Indices!C82/NR_Indices!B82)","v":{"$error":"#DIV/0!"}},{"$f":"IF(NR_Indices!D82/NR_Indices!C82=0,\"\",NR_Indices!D82/NR_Indices!C82)","v":{"$error":"#DIV/0!"}},{"$f":"IF(NR_Indices!E82/NR_Indices!D82=0,\"\",NR_Indices!E82/NR_Indices!D82)","v":{"$error":"#DIV/0!"}},{"$f":"IF(NR_Indices!F82/NR_Indices!E82=0,\"\",NR_Indices!F82/NR_Indices!E82)","v":{"$error":"#DIV/0!"}},{"$f":"IF(NR_Indices!G82/NR_Indices!F82=0,\"\",NR_Indices!G82/NR_Indices!F82)","v":{"$error":"#DIV/0!"}},{"$f":"IF(NR_Indices!H82/NR_Indices!G82=0,\"\",NR_Indices!H82/NR_Indices!G82)","v":0.87353095025930982},{"$f":"IF(NR_Indices!I82/NR_Indices!H82=0,\"\",NR_Indices!I82/NR_Indices!H82)","v":1.0346243548334875},{"$f":"IF(NR_Indices!J82/NR_Indices!I82=0,\"\",NR_Indices!J82/NR_Indices!I82)","v":1.0139261124716974},{"$f":"IF(NR_Indices!K82/NR_Indices!J82=0,\"\",NR_Indices!K82/NR_Indices!J82)","v":0.99424271789317675},{"$f":"IF(NR_Indices!L82/NR_Indices!K82=0,\"\",NR_Indices!L82/NR_Indices!K82)","v":0.96884590064313547},{"$f":"IF(NR_Indices!M82/NR_Indices!L82=0,\"\",NR_Indices!M82/NR_Indices!L82)","v":1.0721725588418729},{"$f":"IF(NR_Indices!N82/NR_Indices!M82=0,\"\",NR_Indices!N82/NR_Indices!M82)","v":0.99796398693366917},{"$f":"IF(NR_Indices!O82/NR_Indices!N82=0,\"\",NR_Indices!O82/NR_Indices!N82)","v":1.0796581751786374},{"$f":"IF(NR_Indices!P82/NR_Indices!O82=0,\"\",NR_Indices!P82/NR_Indices!O82)","v":0.94885899106828286},{"$f":"IF(NR_Indices!Q82/NR_Indices!P82=0,\"\",NR_Indices!Q82/NR_Indices!P82)","v":1.0460872704739417},{"$f":"IF(NR_Indices!R82/NR_Indices!Q82=0,\"\",NR_Indices!R82/NR_Indices!Q82)","v":1.0738383615943625},{"$f":"IF(NR_Indices!S82/NR_Indices!R82=0,\"\",NR_Indices!S82/NR_Indices!R82)","v":0.96168181901497518},{"$f":"IF(NR_Indices!T82/NR_Indices!S82=0,\"\",NR_Indices!T82/NR_Indices!S82)","v":0.97130956207055508},{"$f":"IF(NR_Indices!U82/NR_Indices!T82=0,\"\",NR_Indices!U82/NR_Indices!T82)","v":1.049520327756176},{"$f":"IF(NR_Indices!V82/NR_Indices!U82=0,\"\",NR_Indices!V82/NR_Indices!U82)","v":1.0069453970500113},{"$f":"IF(NR_Indices!W82/NR_Indices!V82=0,\"\",NR_Indices!W82/NR_Indices!V82)","v":1.0564551168786027},{"$f":"IF(NR_Indices!X82/NR_Indices!W82=0,\"\",NR_Indices!X82/NR_Indices!W82)","v":""}]
["Slowakei",null,{"$f":"IF(NR_Indices!C83/NR_Indices!B83=0,\"\",NR_Indices!C83/NR_Indices!B83)","v":1.1827199495241323},{"$f":"IF(NR_Indices!D83/NR_Indices!C83=0,\"\",NR_Indices!D83/NR_Indices!C83)","v":1.1397030519068296},{"$f":"IF(NR_Indices!E83/NR_Indices!D83=0,\"\",NR_Indices!E83/NR_Indices!D83)","v":1.0413890830983863},{"$f":"IF(NR_Indices!F83/NR_Indices!E83=0,\"\",NR_Indices!F83/NR_Indices!E83)","v":1.0981909700269503},{"$f":"IF(NR_Indices!G83/NR_Indices!F83=0,\"\",NR_Indices!G83/NR_Indices!F83)","v":0.79052909845726038},{"$f":"IF(NR_Indices!H83/NR_Indices!G83=0,\"\",NR_Indices!H83/NR_Indices!G83)","v":1.0436490792564401},{"$f":"IF(NR_Indices!I83/NR_Indices!H83=0,\"\",NR_Indices!I83/NR_Indices!H83)","v":0.87409100642036541},{"$f":"IF(NR_Indices!J83/NR_Indices!I83=0,\"\",NR_Indices!J83/NR_Indices!I83)","v":1.0761341240198083},{"$f":"IF(NR_Indices!K83/NR_Indices!J83=0,\"\",NR_Indices!K83/NR_Indices!J83)","v":1.0360565095556191},{"$f":"IF(NR_Indices!L83/NR_Indices!K83=0,\"\",NR_Indices!L83/NR_Indices!K83)","v":1.1367547201469406},{"$f":"IF(NR_Indices!M83/NR_Indices!L83=0,\"\",NR_Indices!M83/NR_Indices!L83)","v":1.1110650022371964},{"$f":"IF(NR_Indices!N83/NR_Indices!M83=0,\"\",NR_Indices!N83/NR_Indices!M83)","v":1.1089848384180092},{"$f":"IF(NR_Indices!O83/NR_Indices!N83=0,\"\",NR_Indices!O83/NR_Indices!N83)","v":0.99099325342313149},{"$f":"IF(NR_Indices!P83/NR_Indices!O83=0,\"\",NR_Indices!P83/NR_Indices!O83)","v":0.90669405757920429},{"$f":"IF(NR_Indices!Q83/NR_Indices!P83=0,\"\",NR_Indices!Q83/NR_Indices!P83)","v":1.0234423628361626},{"$f":"IF(NR_Indices!R83/NR_Indices!Q83=0,\"\",NR_Indices!R83/NR_Indices!Q83)","v":1.0861346163545336},{"$f":"IF(NR_Indices!S83/NR_Indices!R83=0,\"\",NR_Indices!S83/NR_Indices!R83)","v":1.0527812989893484},{"$f":"IF(NR_Indices!T83/NR_Indices!S83=0,\"\",NR_Indices!T83/NR_Indices!S83)","v":1.0032992201785447},{"$f":"IF(NR_Indices!U83/NR_Indices!T83=0,\"\",NR_Indices!U83/NR_Indices!T83)","v":1.0822158906957198},{"$f":"IF(NR_Indices!V83/NR_Indices!U83=0,\"\",NR_Indices!V83/NR_Indices!U83)","v":1.0639835824466188},{"$f":"IF(NR_Indices!W83/NR_Indices!V83=0,\"\",NR_Indices!W83/NR_Indices!V83)","v":""},{"$f":"IF(NR_Indices!X83/NR_Indices!W83=0,\"\",NR_Indices!X83/NR_Indices!W83)","v":{"$error":"#DIV/0!"}}]
["Großbritannien",null,{"$f":"IF(NR_Indices!C84/NR_Indices!B84=0,\"\",NR_Indices!C84/NR_Indices!B84)","v":{"$error":"#DIV/0!"}},{"$f":"IF(NR_Indices!D84/NR_Indices!C84=0,\"\",NR_Indices!D84/NR_Indices!C84)","v":{"$error":"#DIV/0!"}},{"$f":"IF(NR_Indices!E84/NR_Indices!D84=0,\"\",NR_Indices!E84/NR_Indices!D84)","v":{"$error":"#DIV/0!"}},{"$f":"IF(NR_Indices!F84/NR_Indices!E84=0,\"\",NR_Indices!F84/NR_Indices!E84)","v":{"$error":"#DIV/0!"}},{"$f":"IF(NR_Indices!G84/NR_Indices!F84=0,\"\",NR_Indices!G84/NR_Indices!F84)","v":{"$error":"#DIV/0!"}},{"$f":"IF(NR_Indices!H84/NR_Indices!G84=0,\"\",NR_Indices!H84/NR_Indices!G84)","v":{"$error":"#DIV/0!"}},{"$f":"IF(NR_Indices!I84/NR_Indices!H84=0,\"\",NR_Indices!I84/NR_Indices!H84)","v":{"$error":"#DIV/0!"}},{"$f":"IF(NR_Indices!J84/NR_Indices!I84=0,\"\",NR_Indices!J84/NR_Indices!I84)","v":{"$error":"#DIV/0!"}},{"$f":"IF(NR_Indices!K84/NR_Indices!J84=0,\"\",NR_Indices!K84/NR_Indices!J84)","v":{"$error":"#DIV/0!"}},{"$f":"IF(NR_Indices!L84/NR_Indices!K84=0,\"\",NR_Indices!L84/NR_Indices!K84)","v":{"$error":"#DIV/0!"}},{"$f":"IF(NR_Indices!M84/NR_Indices!L84=0,\"\",NR_Indices!M84/NR_Indices!L84)","v":{"$error":"#DIV/0!"}},{"$f":"IF(NR_Indices!N84/NR_Indices!M84=0,\"\",NR_Indices!N84/NR_Indices!M84)","v":{"$error":"#DIV/0!"}},{"$f":"IF(NR_Indices!O84/NR_Indices!N84=0,\"\",NR_Indices!O84/NR_Indices!N84)","v":{"$error":"#DIV/0!"}},{"$f":"IF(NR_Indices!P84/NR_Indices!O84=0,\"\",NR_Indices!P84/NR_Indices!O84)","v":{"$error":"#DIV/0!"}},{"$f":"IF(NR_Indices!Q84/NR_Indices!P84=0,\"\",NR_Indices!Q84/NR_Indices!P84)","v":{"$error":"#DIV/0!"}},{"$f":"IF(NR_Indices!R84/NR_Indices!Q84=0,\"\",NR_Indices!R84/NR_Indices!Q84)","v":{"$error":"#DIV/0!"}},{"$f":"IF(NR_Indices!S84/NR_Indices!R84=0,\"\",NR_Indices!S84/NR_Indices!R84)","v":{"$error":"#DIV/0!"}},{"$f":"IF(NR_Indices!T84/NR_Indices!S84=0,\"\",NR_Indices!T84/NR_Indices!S84)","v":{"$error":"#DIV/0!"}},{"$f":"IF(NR_Indices!U84/NR_Indices!T84=0,\"\",NR_Indices!U84/NR_Indices!T84)","v":{"$error":"#DIV/0!"}},{"$f":"IF(NR_Indices!V84/NR_Indices!U84=0,\"\",NR_Indices!V84/NR_Indices!U84)","v":{"$error":"#DIV/0!"}},{"$f":"IF(NR_Indices!W84/NR_Indices!V84=0,\"\",NR_Indices!W84/NR_Indices!V84)","v":{"$error":"#DIV/0!"}},{"$f":"IF(NR_Indices!X84/NR_Indices!W84=0,\"\",NR_Indices!X84/NR_Indices!W84)","v":{"$error":"#DIV/0!"}}]
[]
["BWS (preisbereinigt)/Arbeitsstunden Erwerbstätige"]
[null,1995,{"$f":"B87+1","v":1996},{"$f":"C87+1","v":1997},{"$f":"D87+1","v":1998},{"$f":"E87+1","v":1999},{"$f":"F87+1","v":2000},{"$f":"G87+1","v":2001},{"$f":"H87+1","v":2002},{"$f":"I87+1","v":2003},{"$f":"J87+1","v":2004},{"$f":"K87+1","v":2005},{"$f":"L87+1","v":2006},{"$f":"M87+1","v":2007},{"$f":"N87+1","v":2008},{"$f":"O87+1","v":2009},{"$f":"P87+1","v":2010},{"$f":"Q87+1","v":2011},{"$f":"R87+1","v":2012},{"$f":"S87+1","v":2013},{"$f":"T87+1","v":2014},{"$f":"U87+1","v":2015},{"$f":"V87+1","v":2016},{"$f":"W87+1","v":2017}]
["Österreich",null,{"$f":"IF(NR_Indices!C88/NR_Indices!B88=0,\"\",NR_Indices!C88/NR_Indices!B88)","v":1.1714726354525455},{"$f":"IF(NR_Indices!D88/NR_Indices!C88=0,\"\",NR_Indices!D88/NR_Indices!C88)","v":0.93608864980551054},{"$f":"IF(NR_Indices!E88/NR_Indices!D88=0,\"\",NR_Indices!E88/NR_Indices!D88)","v":1.1670414407532503},{"$f":"IF(NR_Indices!F88/NR_Indices!E88=0,\"\",NR_Indices!F88/NR_Indices!E88)","v":1.1161691456287488},{"$f":"IF(NR_Indices!G88/NR_Indices!F88=0,\"\",NR_Indices!G88/NR_Indices!F88)","v":1.0063065143140777},{"$f":"IF(NR_Indices!H88/NR_Indices!G88=0,\"\",NR_Indices!H88/NR_Indices!G88)","v":1.0067051525503028},{"$f":"IF(NR_Indices!I88/NR_Indices!H88=0,\"\",NR_Indices!I88/NR_Indices!H88)","v":1.0147000497664114},{"$f":"IF(NR_Indices!J88/NR_Indices!I88=0,\"\",NR_Indices!J88/NR_Indices!I88)","v":1.0727847431814286},{"$f":"IF(NR_Indices!K88/NR_Indices!J88=0,\"\",NR_Indices!K88/NR_Indices!J88)","v":1.058185817176418},{"$f":"IF(NR_Indices!L88/NR_Indices!K88=0,\"\",NR_Indices!L88/NR_Indices!K88)","v":1.2607581232532588},{"$f":"IF(NR_Indices!M88/NR_Indices!L88=0,\"\",NR_Indices!M88/NR_Indices!L88)","v":1.1611491976911439},{"$f":"IF(NR_Indices!N88/NR_Indices!M88=0,\"\",NR_Indices!N88/NR_Indices!M88)","v":1.0291574853344194},{"$f":"IF(NR_Indices!O88/NR_Indices!N88=0,\"\",NR_Indices!O88/NR_Indices!N88)","v":1.0622144698018767},{"$f":"IF(NR_Indices!P88/NR_Indices!O88=0,\"\",NR_Indices!P88/NR_Indices!O88)","v":1.0138121724186357},{"$f":"IF(NR_Indices!Q88/NR_Indices!P88=0,\"\",NR_Indices!Q88/NR_Indices!P88)","v":1.0043162042030322},{"$f":"IF(NR_Indices!R88/NR_Indices!Q88=0,\"\",NR_Indices!R88/NR_Indices!Q88)","v":0.994338994858457},{"$f":"IF(NR_Indices!S88/NR_Indices!R88=0,\"\",NR_Indices!S88/NR_Indices!R88)","v":1.0279692786715287},{"$f":"IF(NR_Indices!T88/NR_Indices!S88=0,\"\",NR_Indices!T88/NR_Indices!S88)","v":1.0437962455953307},{"$f":"IF(NR_Indices!U88/NR_Indices!T88=0,\"\",NR_Indices!U88/NR_Indices!T88)","v":1.0619932080874503},{"$f":"IF(NR_Indices!V88/NR_Indices!U88=0,\"\",NR_Indices!V88/NR_Indices!U88)","v":0.93799221129171007},{"$f":"IF(NR_Indices!W88/NR_Indices!V88=0,\"\",NR_Indices!W88/NR_Indices!V88)","v":0.95405238672909598},{"$f":"IF(NR_Indices!X88/NR_Indices!W88=0,\"\",NR_Indices!X88/NR_Indices!W88)","v":1.0567140328641862}]
["Belgien",null,{"$f":"IF(NR_Indices!C89/NR_Indices!B89=0,\"\",NR_Indices!C89/NR_Indices!B89)","v":{"$error":"#DIV/0!"}},{"$f":"IF(NR_Indices!D89/NR_Indices!C89=0,\"\",NR_Indices!D89/NR_Indices!C89)","v":{"$error":"#DIV/0!"}},{"$f":"IF(NR_Indices!E89/NR_Indices!D89=0,\"\",NR_Indices!E89/NR_Indices!D89)","v":{"$error":"#DIV/0!"}},{"$f":"IF(NR_Indices!F89/NR_Indices!E89=0,\"\",NR_Indices!F89/NR_Indices!E89)","v":{"$error":"#DIV/0!"}},{"$f":"IF(NR_Indices!G89/NR_Indices!F89=0,\"\",NR_Indices!G89/NR_Indices!F89)","v":1.0340627538646492},{"$f":"IF(NR_Indices!H89/NR_Indices!G89=0,\"\",NR_Indices!H89/NR_Indices!G89)","v":0.88862035689453434},{"$f":"IF(NR_Indices!I89/NR_Indices!H89=0,\"\",NR_Indices!I89/NR_Indices!H89)","v":0.98333934035284776},{"$f":"IF(NR_Indices!J89/NR_Indices!I89=0,\"\",NR_Indices!J89/NR_Indices!I89)","v":1.0193805738603943},{"$f":"IF(NR_Indices!K89/NR_Indices!J89=0,\"\",NR_Indices!K89/NR_Indices!J89)","v":1.017816219822105},{"$f":"IF(NR_Indices!L89/NR_Indices!K89=0,\"\",NR_Indices!L89/NR_Indices!K89)","v":1.0132508867902399},{"$f":"IF(NR_Indices!M89/NR_Indices!L89=0,\"\",NR_Indices!M89/NR_Indices!L89)","v":1.0242263081422629},{"$f":"IF(NR_Indices!N89/NR_Indices!M89=0,\"\",NR_Indices!N89/NR_Indices!M89)","v":1.0705091946394025},{"$f":"IF(NR_Indices!O89/NR_Indices!N89=0,\"\",NR_Indices!O89/NR_Indices!N89)","v":1.0547461877591244},{"$f":"IF(NR_Indices!P89/NR_Indices!O89=0,\"\",NR_Indices!P89/NR_Indices!O89)","v":0.96815529134725664},{"$f":"IF(NR_Indices!Q89/NR_Indices!P89=0,\"\",NR_Indices!Q89/NR_Indices!P89)","v":1.009970632946227},{"$f":"IF(NR_Indices!R89/NR_Indices!Q89=0,\"\",NR_Indices!R89/NR_Indices!Q89)","v":1.0435333033836203},{"$f":"IF(NR_Indices!S89/NR_Indices!R89=0,\"\",NR_Indices!S89/NR_Indices!R89)","v":0.95841055782964968},{"$f":"IF(NR_Indices!T89/NR_Indices!S89=0,\"\",NR_Indices!T89/NR_Indices!S89)","v":1.011974192930426},{"$f":"IF(NR_Indices!U89/NR_Indices!T89=0,\"\",NR_Indices!U89/NR_Indices!T89)","v":0.97591628982093859},{"$f":"IF(NR_Indices!V89/NR_Indices!U89=0,\"\",NR_Indices!V89/NR_Indices!U89)","v":0.98735670256191188},{"$f":"IF(NR_Indices!W89/NR_Indices!V89=0,\"\",NR_Indices!W89/NR_Indices!V89)","v":0.97099881911557129},{"$f":"IF(NR_Indices!X89/NR_Indices!W89=0,\"\",NR_Indices!X89/NR_Indices!W89)","v":""}]
["Tschechien",null,{"$f":"IF(NR_Indices!C90/NR_Indices!B90=0,\"\",NR_Indices!C90/NR_Indices!B90)","v":1.0561175664708704},{"$f":"IF(NR_Indices!D90/NR_Indices!C90=0,\"\",NR_Indices!D90/NR_Indices!C90)","v":0.87100036889553356},{"$f":"IF(NR_Indices!E90/NR_Indices!D90=0,\"\",NR_Indices!E90/NR_Indices!D90)","v":1.1034839426533596},{"$f":"IF(NR_Indices!F90/NR_Indices!E90=0,\"\",NR_Indices!F90/NR_Indices!E90)","v":0.93855014930931147},{"$f":"IF(NR_Indices!G90/NR_Indices!F90=0,\"\",NR_Indices!G90/NR_Indices!F90)","v":1.1012197401742807},{"$f":"IF(NR_Indices!H90/NR_Indices!G90=0,\"\",NR_Indices!H90/NR_Indices!G90)","v":1.1581991918785135},{"$f":"IF(NR_Indices!I90/NR_Indices!H90=0,\"\",NR_Indices!I90/NR_Indices!H90)","v":1.0294027413598283},{"$f":"IF(NR_Indices!J90/NR_Indices!I90=0,\"\",NR_Indices!J90/NR_Indices!I90)","v":1.2252504019346513},{"$f":"IF(NR_Indices!K90/NR_Indices!J90=0,\"\",NR_Indices!K90/NR_Indices!J90)","v":0.98233597920564919},{"$f":"IF(NR_Indices!L90/NR_Indices!K90=0,\"\",NR_Indices!L90/NR_Indices!K90)","v":0.99888531324105301},{"$f":"IF(NR_Indices!M90/NR_Indices!L90=0,\"\",NR_Indices!M90/NR_Indices!L90)","v":1.1232681387080909},{"$f":"IF(NR_Indices!N90/NR_Indices!M90=0,\"\",NR_Indices!N90/NR_Indices!M90)","v":1.0787972383322},{"$f":"IF(NR_Indices!O90/NR_Indices!N90=0,\"\",NR_Indices!O90/NR_Indices!N90)","v":0.91058856207588923},{"$f":"IF(NR_Indices!P90/NR_Indices!O90=0,\"\",NR_Indices!P90/NR_Indices!O90)","v":0.99759351538988605},{"$f":"IF(NR_Indices!Q90/NR_Indices!P90=0,\"\",NR_Indices!Q90/NR_Indices!P90)","v":0.9398025207376457},{"$f":"IF(NR_Indices!R90/NR_Indices!Q90=0,\"\",NR_Indices!R90/NR_Indices!Q90)","v":1.0274736159842608},{"$f":"IF(NR_Indices!S90/NR_Indices!R90=0,\"\",NR_Indices!S90/NR_Indices!R90)","v":1.0166091395357606},{"$f":"IF(NR_Indices!T90/NR_Indices!S90=0,\"\",NR_Indices!T90/NR_Indices!S90)","v":0.96548247540618548},{"$f":"IF(NR_Indices!U90/NR_Indices!T90=0,\"\",NR_Indices!U90/NR_Indices!T90)","v":0.94314902128329303},{"$f":"IF(NR_Indices!V90/NR_Indices!U90=0,\"\",NR_Indices!V90/NR_Indices!U90)","v":0.98567291927334533},{"$f":"IF(NR_Indices!W90/NR_Indices!V90=0,\"\",NR_Indices!W90/NR_Indices!V90)","v":0.94239102141030728},{"$f":"IF(NR_Indices!X90/NR_Indices!W90=0,\"\",NR_Indices!X90/NR_Indices!W90)","v":0.93562673752681147}]
["Dänemark",null,{"$f":"IF(NR_Indices!C91/NR_Indices!B91=0,\"\",NR_Indices!C91/NR_Indices!B91)","v":0.98663261323137008},{"$f":"IF(NR_Indices!D91/NR_Indices!C91=0,\"\",NR_Indices!D91/NR_Indices!C91)","v":1.0112031476522412},{"$f":"IF(NR_Indices!E91/NR_Indices!D91=0,\"\",NR_Indices!E91/NR_Indices!D91)","v":0.97090988705981884},{"$f":"IF(NR_Indices!F91/NR_Indices!E91=0,\"\",NR_Indices!F91/NR_Indices!E91)","v":0.94771565548824699},{"$f":"IF(NR_Indices!G91/NR_Indices!F91=0,\"\",NR_Indices!G91/NR_Indices!F91)","v":0.86660443633015793},{"$f":"IF(NR_Indices!H91/NR_Indices!G91=0,\"\",NR_Indices!H91/NR_Indices!G91)","v":1.1937922092896036},{"$f":"IF(NR_Indices!I91/NR_Indices!H91=0,\"\",NR_Indices!I91/NR_Indices!H91)","v":0.9753187879164491},{"$f":"IF(NR_Indices!J91/NR_Indices!I91=0,\"\",NR_Indices!J91/NR_Indices!I91)","v":0.98206228605533341},{"$f":"IF(NR_Indices!K91/NR_Indices!J91=0,\"\",NR_Indices!K91/NR_Indices!J91)","v":0.9482849901410072},{"$f":"IF(NR_Indices!L91/NR_Indices!K91=0,\"\",NR_Indices!L91/NR_Indices!K91)","v":1.0226922010631483},{"$f":"IF(NR_Indices!M91/NR_Indices!L91=0,\"\",NR_Indices!M91/NR_Indices!L91)","v":0.83514652487563301},{"$f":"IF(NR_Indices!N91/NR_Indices!M91=0,\"\",NR_Indices!N91/NR_Indices!M91)","v":0.97958617831093187},{"$f":"IF(NR_Indices!O91/NR_Indices!N91=0,\"\",NR_Indices!O91/NR_Indices!N91)","v":0.87180695364975991},{"$f":"IF(NR_Indices!P91/NR_Indices!O91=0,\"\",NR_Indices!P91/NR_Indices!O91)","v":0.9832281682837275},{"$f":"IF(NR_Indices!Q91/NR_Indices!P91=0,\"\",NR_Indices!Q91/NR_Indices!P91)","v":1.018238081598474},{"$f":"IF(NR_Indices!R91/NR_Indices!Q91=0,\"\",NR_Indices!R91/NR_Indices!Q91)","v":0.90211962493340503},{"$f":"IF(NR_Indices!S91/NR_Indices!R91=0,\"\",NR_Indices!S91/NR_Indices!R91)","v":0.96535319816010667},{"$f":"IF(NR_Indices!T91/NR_Indices!S91=0,\"\",NR_Indices!T91/NR_Indices!S91)","v":1.0004972046979992},{"$f":"IF(NR_Indices!U91/NR_Indices!T91=0,\"\",NR_Indices!U91/NR_Indices!T91)","v":1.0070551532038228},{"$f":"IF(NR_Indices!V91/NR_Indices!U91=0,\"\",NR_Indices!V91/NR_Indices!U91)","v":0.9129985288510315},{"$f":"IF(NR_Indices!W91/NR_Indices!V91=0,\"\",NR_Indices!W91/NR_Indices!V91)","v":0.87575862907567292},{"$f":"IF(NR_Indices!X91/NR_Indices!W91=0,\"\",NR_Indices!X91/NR_Indices!W91)","v":1.1920566465950253}]
["Estland",null,{"$f":"IF(NR_Indices!C92/NR_Indices!B92=0,\"\",NR_Indices!C92/NR_Indices!B92)","v":{"$error":"#DIV/0!"}},{"$f":"IF(NR_Indices!D92/NR_Indices!C92=0,\"\",NR_Indices!D92/NR_Indices!C92)","v":{"$error":"#DIV/0!"}},{"$f":"IF(NR_Indices!E92/NR_Indices!D92=0,\"\",NR_Indices!E92/NR_Indices!D92)","v":{"$error":"#DIV/0!"}},{"$f":"IF(NR_Indices!F92/NR_Indices!E92=0,\"\",NR_Indices!F92/NR_Indices!E92)","v":{"$error":"#DIV/0!"}},{"$f":"IF(NR_Indices!G92/NR_Indices!F92=0,\"\",NR_Indices!G92/NR_Indices!F92)","v":{"$error":"#DIV/0!"}},{"$f":"IF(NR_Indices!H92/NR_Indices!G92=0,\"\",NR_Indices!H92/NR_Indices!G92)","v":1.7289174049572815},{"$f":"IF(NR_Indices!I92/NR_Indices!H92=0,\"\",NR_Indices!I92/NR_Indices!H92)","v":0.90515688912989611},{"$f":"IF(NR_Indices!J92/NR_Indices!I92=0,\"\",NR_Indices!J92/NR_Indices!I92)","v":1.0010137629058844},{"$f":"IF(NR_Indices!K92/NR_Indices!J92=0,\"\",NR_Indices!K92/NR_Indices!J92)","v":1.4480112362640971},{"$f":"IF(NR_Indices!L92/NR_Indices!K92=0,\"\",NR_Indices!L92/NR_Indices!K92)","v":1.1936901791577823},{"$f":"IF(NR_Indices!M92/NR_Indices!L92=0,\"\",NR_Indices!M92/NR_Indices!L92)","v":0.95540629979164127},{"$f":"IF(NR_Indices!N92/NR_Indices!M92=0,\"\",NR_Indices!N92/NR_Indices!M92)","v":0.94931080526057099},{"$f":"IF(NR_Indices!O92/NR_Indices!N92=0,\"\",NR_Indices!O92/NR_Indices!N92)","v":1.2132017514488289},{"$f":"IF(NR_Indices!P92/NR_Indices!O92=0,\"\",NR_Indices!P92/NR_Indices!O92)","v":0.82218995108513571},{"$f":"IF(NR_Indices!Q92/NR_Indices!P92=0,\"\",NR_Indices!Q92/NR_Indices!P92)","v":1.1321647905526289},{"$f":"IF(NR_Indices!R92/NR_Indices!Q92=0,\"\",NR_Indices!R92/NR_Indices!Q92)","v":0.68772222226611168},{"$f":"IF(NR_Indices!S92/NR_Indices!R92=0,\"\",NR_Indices!S92/NR_Indices!R92)","v":1.2263445661027741},{"$f":"IF(NR_Indices!T92/NR_Indices!S92=0,\"\",NR_Indices!T92/NR_Indices!S92)","v":1.0991726447475301},{"$f":"IF(NR_Indices!U92/NR_Indices!T92=0,\"\",NR_Indices!U92/NR_Indices!T92)","v":0.65768312808216933},{"$f":"IF(NR_Indices!V92/NR_Indices!U92=0,\"\",NR_Indices!V92/NR_Indices!U92)","v":1.0582546252225056},{"$f":"IF(NR_Indices!W92/NR_Indices!V92=0,\"\",NR_Indices!W92/NR_Indices!V92)","v":1.088641433081073},{"$f":"IF(NR_Indices!X92/NR_Indices!W92=0,\"\",NR_Indices!X92/NR_Indices!W92)","v":0.98167426022099613}]
["Frankreich",null,{"$f":"IF(NR_Indices!C93/NR_Indices!B93=0,\"\",NR_Indices!C93/NR_Indices!B93)","v":{"$error":"#DIV/0!"}},{"$f":"IF(NR_Indices!D93/NR_Indices!C93=0,\"\",NR_Indices!D93/NR_Indices!C93)","v":{"$error":"#DIV/0!"}},{"$f":"IF(NR_Indices!E93/NR_Indices!D93=0,\"\",NR_Indices!E93/NR_Indices!D93)","v":{"$error":"#DIV/0!"}},{"$f":"IF(NR_Indices!F93/NR_Indices!E93=0,\"\",NR_Indices!F93/NR_Indices!E93)","v":{"$error":"#DIV/0!"}},{"$f":"IF(NR_Indices!G93/NR_Indices!F93=0,\"\",NR_Indices!G93/NR_Indices!F93)","v":{"$error":"#DIV/0!"}},{"$f":"IF(NR_Indices!H93/NR_Indices!G93=0,\"\",NR_Indices!H93/NR_Indices!G93)","v":{"$error":"#DIV/0!"}},{"$f":"IF(NR_Indices!I93/NR_Indices!H93=0,\"\",NR_Indices!I93/NR_Indices!H93)","v":{"$error":"#DIV/0!"}},{"$f":"IF(NR_Indices!J93/NR_Indices!I93=0,\"\",NR_Indices!J93/NR_Indices!I93)","v":{"$error":"#DIV/0!"}},{"$f":"IF(NR_Indices!K93/NR_Indices!J93=0,\"\",NR_Indices!K93/NR_Indices!J93)","v":{"$error":"#DIV/0!"}},{"$f":"IF(NR_Indices!L93/NR_Indices!K93=0,\"\",NR_Indices!L93/NR_Indices!K93)","v":{"$error":"#DIV/0!"}},{"$f":"IF(NR_Indices!M93/NR_Indices!L93=0,\"\",NR_Indices!M93/NR_Indices!L93)","v":{"$error":"#DIV/0!"}},{"$f":"IF(NR_Indices!N93/NR_Indices!M93=0,\"\",NR_Indices!N93/NR_Indices!M93)","v":{"$error":"#DIV/0!"}},{"$f":"IF(NR_Indices!O93/NR_Indices!N93=0,\"\",NR_Indices!O93/NR_Indices!N93)","v":{"$error":"#DIV/0!"}},{"$f":"IF(NR_Indices!P93/NR_Indices!O93=0,\"\",NR_Indices!P93/NR_Indices!O93)","v":{"$error":"#DIV/0!"}},{"$f":"IF(NR_Indices!Q93/NR_Indices!P93=0,\"\",NR_Indices!Q93/NR_Indices!P93)","v":{"$error":"#DIV/0!"}},{"$f":"IF(NR_Indices!R93/NR_Indices!Q93=0,\"\",NR_Indices!R93/NR_Indices!Q93)","v":{"$error":"#DIV/0!"}},{"$f":"IF(NR_Indices!S93/NR_Indices!R93=0,\"\",NR_Indices!S93/NR_Indices!R93)","v":{"$error":"#DIV/0!"}},{"$f":"IF(NR_Indices!T93/NR_Indices!S93=0,\"\",NR_Indices!T93/NR_Indices!S93)","v":{"$error":"#DIV/0!"}},{"$f":"IF(NR_Indices!U93/NR_Indices!T93=0,\"\",NR_Indices!U93/NR_Indices!T93)","v":{"$error":"#DIV/0!"}},{"$f":"IF(NR_Indices!V93/NR_Indices!U93=0,\"\",NR_Indices!V93/NR_Indices!U93)","v":{"$error":"#DIV/0!"}},{"$f":"IF(NR_Indices!W93/NR_Indices!V93=0,\"\",NR_Indices!W93/NR_Indices!V93)","v":{"$error":"#DIV/0!"}},{"$f":"IF(NR_Indices!X93/NR_Indices!W93=0,\"\",NR_Indices!X93/NR_Indices!W93)","v":{"$error":"#DIV/0!"}}]
["Griechenland",null,{"$f":"IF(NR_Indices!C94/NR_Indices!B94=0,\"\",NR_Indices!C94/NR_Indices!B94)","v":0.99720825172865957},{"$f":"IF(NR_Indices!D94/NR_Indices!C94=0,\"\",NR_Indices!D94/NR_Indices!C94)","v":1.2017797932598679},{"$f":"IF(NR_Indices!E94/NR_Indices!D94=0,\"\",NR_Indices!E94/NR_Indices!D94)","v":1.0360365247720402},{"$f":"IF(NR_Indices!F94/NR_Indices!E94=0,\"\",NR_Indices!F94/NR_Indices!E94)","v":1.2834908339573043},{"$f":"IF(NR_Indices!G94/NR_Indices!F94=0,\"\",NR_Indices!G94/NR_Indices!F94)","v":1.0170074842609216},{"$f":"IF(NR_Indices!H94/NR_Indices!G94=0,\"\",NR_Indices!H94/NR_Indices!G94)","v":1.1057702768460151},{"$f":"IF(NR_Indices!I94/NR_Indices!H94=0,\"\",NR_Indices!I94/NR_Indices!H94)","v":1.0601341163180436},{"$f":"IF(NR_Indices!J94/NR_Indices!I94=0,\"\",NR_Indices!J94/NR_Indices!I94)","v":0.97960672291862561},{"$f":"IF(NR_Indices!K94/NR_Indices!J94=0,\"\",NR_Indices!K94/NR_Indices!J94)","v":1.0331195615815507},{"$f":"IF(NR_Indices!L94/NR_Indices!K94=0,\"\",NR_Indices!L94/NR_Indices!K94)","v":0.98557535700626042},{"$f":"IF(NR_Indices!M94/NR_Indices!L94=0,\"\",NR_Indices!M94/NR_Indices!L94)","v":1.0930181733622486},{"$f":"IF(NR_Indices!N94/NR_Indices!M94=0,\"\",NR_Indices!N94/NR_Indices!M94)","v":1.0310778867651369},{"$f":"IF(NR_Indices!O94/NR_Indices!N94=0,\"\",NR_Indices!O94/NR_Indices!N94)","v":1.0527972724501835},{"$f":"IF(NR_Indices!P94/NR_Indices!O94=0,\"\",NR_Indices!P94/NR_Indices!O94)","v":0.88214562784725703},{"$f":"IF(NR_Indices!Q94/NR_Indices!P94=0,\"\",NR_Indices!Q94/NR_Indices!P94)","v":0.93250551625502964},{"$f":"IF(NR_Indices!R94/NR_Indices!Q94=0,\"\",NR_Indices!R94/NR_Indices!Q94)","v":1.0020218812356667},{"$f":"IF(NR_Indices!S94/NR_Indices!R94=0,\"\",NR_Indices!S94/NR_Indices!R94)","v":0.90678916259733999},{"$f":"IF(NR_Indices!T94/NR_Indices!S94=0,\"\",NR_Indices!T94/NR_Indices!S94)","v":0.90399875268479246},{"$f":"IF(NR_Indices!U94/NR_Indices!T94=0,\"\",NR_Indices!U94/NR_Indices!T94)","v":0.90237570098852415},{"$f":"IF(NR_Indices!V94/NR_Indices!U94=0,\"\",NR_Indices!V94/NR_Indices!U94)","v":0.85652497566419139},{"$f":"IF(NR_Indices!W94/NR_Indices!V94=0,\"\",NR_Indices!W94/NR_Indices!V94)","v":0.94683701778695228},{"$f":"IF(NR_Indices!X94/NR_Indices!W94=0,\"\",NR_Indices!X94/NR_Indices!W94)","v":1.0233736407632301}]
["Italien",null,{"$f":"IF(NR_Indices!C95/NR_Indices!B95=0,\"\",NR_Indices!C95/NR_Indices!B95)","v":{"$error":"#DIV/0!"}},{"$f":"IF(NR_Indices!D95/NR_Indices!C95=0,\"\",NR_Indices!D95/NR_Indices!C95)","v":{"$error":"#DIV/0!"}},{"$f":"IF(NR_Indices!E95/NR_Indices!D95=0,\"\",NR_Indices!E95/NR_Indices!D95)","v":{"$error":"#DIV/0!"}},{"$f":"IF(NR_Indices!F95/NR_Indices!E95=0,\"\",NR_Indices!F95/NR_Indices!E95)","v":{"$error":"#DIV/0!"}},{"$f":"IF(NR_Indices!G95/NR_Indices!F95=0,\"\",NR_Indices!G95/NR_Indices!F95)","v":{"$error":"#DIV/0!"}},{"$f":"IF(NR_Indices!H95/NR_Indices!G95=0,\"\",NR_Indices!H95/NR_Indices!G95)","v":{"$error":"#DIV/0!"}},{"$f":"IF(NR_Indices!I95/NR_Indices!H95=0,\"\",NR_Indices!I95/NR_Indices!H95)","v":{"$error":"#DIV/0!"}},{"$f":"IF(NR_Indices!J95/NR_Indices!I95=0,\"\",NR_Indices!J95/NR_Indices!I95)","v":{"$error":"#DIV/0!"}},{"$f":"IF(NR_Indices!K95/NR_Indices!J95=0,\"\",NR_Indices!K95/NR_Indices!J95)","v":{"$error":"#DIV/0!"}},{"$f":"IF(NR_Indices!L95/NR_Indices!K95=0,\"\",NR_Indices!L95/NR_Indices!K95)","v":{"$error":"#DIV/0!"}},{"$f":"IF(NR_Indices!M95/NR_Indices!L95=0,\"\",NR_Indices!M95/NR_Indices!L95)","v":{"$error":"#DIV/0!"}},{"$f":"IF(NR_Indices!N95/NR_Indices!M95=0,\"\",NR_Indices!N95/NR_Indices!M95)","v":{"$error":"#DIV/0!"}},{"$f":"IF(NR_Indices!O95/NR_Indices!N95=0,\"\",NR_Indices!O95/NR_Indices!N95)","v":{"$error":"#DIV/0!"}},{"$f":"IF(NR_Indices!P95/NR_Indices!O95=0,\"\",NR_Indices!P95/NR_Indices!O95)","v":{"$error":"#DIV/0!"}},{"$f":"IF(NR_Indices!Q95/NR_Indices!P95=0,\"\",NR_Indices!Q95/NR_Indices!P95)","v":{"$error":"#DIV/0!"}},{"$f":"IF(NR_Indices!R95/NR_Indices!Q95=0,\"\",NR_Indices!R95/NR_Indices!Q95)","v":{"$error":"#DIV/0!"}},{"$f":"IF(NR_Indices!S95/NR_Indices!R95=0,\"\",NR_Indices!S95/NR_Indices!R95)","v":{"$error":"#DIV/0!"}},{"$f":"IF(NR_Indices!T95/NR_Indices!S95=0,\"\",NR_Indices!T95/NR_Indices!S95)","v":{"$error":"#DIV/0!"}},{"$f":"IF(NR_Indices!U95/NR_Indices!T95=0,\"\",NR_Indices!U95/NR_Indices!T95)","v":{"$error":"#DIV/0!"}},{"$f":"IF(NR_Indices!V95/NR_Indices!U95=0,\"\",NR_Indices!V95/NR_Indices!U95)","v":{"$error":"#DIV/0!"}},{"$f":"IF(NR_Indices!W95/NR_Indices!V95=0,\"\",NR_Indices!W95/NR_Indices!V95)","v":{"$error":"#DIV/0!"}},{"$f":"IF(NR_Indices!X95/NR_Indices!W95=0,\"\",NR_Indices!X95/NR_Indices!W95)","v":{"$error":"#DIV/0!"}}]
["Spanien",null,{"$f":"IF(NR_Indices!C96/NR_Indices!B96=0,\"\",NR_Indices!C96/NR_Indices!B96)","v":1.137103128563576},{"$f":"IF(NR_Indices!D96/NR_Indices!C96=0,\"\",NR_Indices!D96/NR_Indices!C96)","v":1.1218393870396057},{"$f":"IF(NR_Indices!E96/NR_Indices!D96=0,\"\",NR_Indices!E96/NR_Indices!D96)","v":1.0834085955529815},{"$f":"IF(NR_Indices!F96/NR_Indices!E96=0,\"\",NR_Indices!F96/NR_Indices!E96)","v":1.0240861128510612},{"$f":"IF(NR_Indices!G96/NR_Indices!F96=0,\"\",NR_Indices!G96/NR_Indices!F96)","v":1.1121934533663194},{"$f":"IF(NR_Indices!H96/NR_Indices!G96=0,\"\",NR_Indices!H96/NR_Indices!G96)","v":1.0543156543492402},{"$f":"IF(NR_Indices!I96/NR_Indices!H96=0,\"\",NR_Indices!I96/NR_Indices!H96)","v":1.0909923043307597},{"$f":"IF(NR_Indices!J96/NR_Indices!I96=0,\"\",NR_Indices!J96/NR_Indices!I96)","v":1.0607299316641843},{"$f":"IF(NR_Indices!K96/NR_Indices!J96=0,\"\",NR_Indices!K96/NR_Indices!J96)","v":1.0745275160181995},{"$f":"IF(NR_Indices!L96/NR_Indices!K96=0,\"\",NR_Indices!L96/NR_Indices!K96)","v":1.0822085553183867},{"$f":"IF(NR_Indices!M96/NR_Indices!L96=0,\"\",NR_Indices!M96/NR_Indices!L96)","v":1.0153899361708447},{"$f":"IF(NR_Indices!N96/NR_Indices!M96=0,\"\",NR_Indices!N96/NR_Indices!M96)","v":1.08541900081273},{"$f":"IF(NR_Indices!O96/NR_Indices!N96=0,\"\",NR_Indices!O96/NR_Indices!N96)","v":1.0063749113428537},{"$f":"IF(NR_Indices!P96/NR_Indices!O96=0,\"\",NR_Indices!P96/NR_Indices!O96)","v":0.97258653350285174},{"$f":"IF(NR_Indices!Q96/NR_Indices!P96=0,\"\",NR_Indices!Q96/NR_Indices!P96)","v":1.0901101145926004},{"$f":"IF(NR_Indices!R96/NR_Indices!Q96=0,\"\",NR_Indices!R96/NR_Indices!Q96)","v":1.0167374039482848},{"$f":"IF(NR_Indices!S96/NR_Indices!R96=0,\"\",NR_Indices!S96/NR_Indices!R96)","v":0.96448118341036193},{"$f":"IF(NR_Indices!T96/NR_Indices!S96=0,\"\",NR_Indices!T96/NR_Indices!S96)","v":1.0619407634561469},{"$f":"IF(NR_Indices!U96/NR_Indices!T96=0,\"\",NR_Indices!U96/NR_Indices!T96)","v":1.1519339741032917},{"$f":"IF(NR_Indices!V96/NR_Indices!U96=0,\"\",NR_Indices!V96/NR_Indices!U96)","v":0.94252462422712391},{"$f":"IF(NR_Indices!W96/NR_Indices!V96=0,\"\",NR_Indices!W96/NR_Indices!V96)","v":0.95257802692439542},{"$f":"IF(NR_Indices!X96/NR_Indices!W96=0,\"\",NR_Indices!X96/NR_Indices!W96)","v":0.98693595372187648}]
["Finnland",null,{"$f":"IF(NR_Indices!C97/NR_Indices!B97=0,\"\",NR_Indices!C97/NR_Indices!B97)","v":1.0166192054525931},{"$f":"IF(NR_Indices!D97/NR_Indices!C97=0,\"\",NR_Indices!D97/NR_Indices!C97)","v":1.0600667962713721},{"$f":"IF(NR_Indices!E97/NR_Indices!D97=0,\"\",NR_Indices!E97/NR_Indices!D97)","v":1.0154144007862616},{"$f":"IF(NR_Indices!F97/NR_Indices!E97=0,\"\",NR_Indices!F97/NR_Indices!E97)","v":1.0964605606649016},{"$f":"IF(NR_Indices!G97/NR_Indices!F97=0,\"\",NR_Indices!G97/NR_Indices!F97)","v":1.036030837340661},{"$f":"IF(NR_Indices!H97/NR_Indices!G97=0,\"\",NR_Indices!H97/NR_Indices!G97)","v":1.0657073164676383},{"$f":"IF(NR_Indices!I97/NR_Indices!H97=0,\"\",NR_Indices!I97/NR_Indices!H97)","v":1.023468485537451},{"$f":"IF(NR_Indices!J97/NR_Indices!I97=0,\"\",NR_Indices!J97/NR_Indices!I97)","v":1.0346569357084552},{"$f":"IF(NR_Indices!K97/NR_Indices!J97=0,\"\",NR_Indices!K97/NR_Indices!J97)","v":0.97753155501859923},{"$f":"IF(NR_Indices!L97/NR_Indices!K97=0,\"\",NR_Indices!L97/NR_Indices!K97)","v":1.0251585597047355},{"$f":"IF(NR_Indices!M97/NR_Indices!L97=0,\"\",NR_Indices!M97/NR_Indices!L97)","v":0.99597977779795965},{"$f":"IF(NR_Indices!N97/NR_Indices!M97=0,\"\",NR_Indices!N97/NR_Indices!M97)","v":0.96942422895118663},{"$f":"IF(NR_Indices!O97/NR_Indices!N97=0,\"\",NR_Indices!O97/NR_Indices!N97)","v":0.98460100479027901},{"$f":"IF(NR_Indices!P97/NR_Indices!O97=0,\"\",NR_Indices!P97/NR_Indices!O97)","v":0.96819407008086245},{"$f":"IF(NR_Indices!Q97/NR_Indices!P97=0,\"\",NR_Indices!Q97/NR_Indices!P97)","v":1.0744981331523056},{"$f":"IF(NR_Indices!R97/NR_Indices!Q97=0,\"\",NR_Indices!R97/NR_Indices!Q97)","v":0.98419052360799919},{"$f":"IF(NR_Indices!S97/NR_Indices!R97=0,\"\",NR_Indices!S97/NR_Indices!R97)","v":1.0391983662620139},{"$f":"IF(NR_Indices!T97/NR_Indices!S97=0,\"\",NR_Indices!T97/NR_Indices!S97)","v":0.88574720210664915},{"$f":"IF(NR_Indices!U97/NR_Indices!T97=0,\"\",NR_Indices!U97/NR_Indices!T97)","v":0.84333635699125487},{"$f":"IF(NR_Indices!V97/NR_Indices!U97=0,\"\",NR_Indices!V97/NR_Indices!U97)","v":0.94823632593025686},{"$f":"IF(NR_Indices!W97/NR_Indices!V97=0,\"\",NR_Indices!W97/NR_Indices!V97)","v":0.95206155060169662},{"$f":"IF(NR_Indices!X97/NR_Indices!W97=0,\"\",NR_Indices!X97/NR_Indices!W97)","v":0.89767144491553952}]
["Ungarn",null,{"$f":"IF(NR_Indices!C98/NR_Indices!B98=0,\"\",NR_Indices!C98/NR_Indices!B98)","v":{"$error":"#DIV/0!"}},{"$f":"IF(NR_Indices!D98/NR_Indices!C98=0,\"\",NR_Indices!D98/NR_Indices!C98)","v":{"$error":"#DIV/0!"}},{"$f":"IF(NR_Indices!E98/NR_Indices!D98=0,\"\",NR_Indices!E98/NR_Indices!D98)","v":{"$error":"#DIV/0!"}},{"$f":"IF(NR_Indices!F98/NR_Indices!E98=0,\"\",NR_Indices!F98/NR_Indices!E98)","v":{"$error":"#DIV/0!"}},{"$f":"IF(NR_Indices!G98/NR_Indices!F98=0,\"\",NR_Indices!G98/NR_Indices!F98)","v":{"$error":"#DIV/0!"}},{"$f":"IF(NR_Indices!H98/NR_Indices!G98=0,\"\",NR_Indices!H98/NR_Indices!G98)","v":{"$error":"#DIV/0!"}},{"$f":"IF(NR_Indices!I98/NR_Indices!H98=0,\"\",NR_Indices!I98/NR_Indices!H98)","v":{"$error":"#DIV/0!"}},{"$f":"IF(NR_Indices!J98/NR_Indices!I98=0,\"\",NR_Indices!J98/NR_Indices!I98)","v":{"$error":"#DIV/0!"}},{"$f":"IF(NR_Indices!K98/NR_Indices!J98=0,\"\",NR_Indices!K98/NR_Indices!J98)","v":{"$error":"#DIV/0!"}},{"$f":"IF(NR_Indices!L98/NR_Indices!K98=0,\"\",NR_Indices!L98/NR_Indices!K98)","v":{"$error":"#DIV/0!"}},{"$f":"IF(NR_Indices!M98/NR_Indices!L98=0,\"\",NR_Indices!M98/NR_Indices!L98)","v":{"$error":"#DIV/0!"}},{"$f":"IF(NR_Indices!N98/NR_Indices!M98=0,\"\",NR_Indices!N98/NR_Indices!M98)","v":{"$error":"#DIV/0!"}},{"$f":"IF(NR_Indices!O98/NR_Indices!N98=0,\"\",NR_Indices!O98/NR_Indices!N98)","v":{"$error":"#DIV/0!"}},{"$f":"IF(NR_Indices!P98/NR_Indices!O98=0,\"\",NR_Indices!P98/NR_Indices!O98)","v":{"$error":"#DIV/0!"}},{"$f":"IF(NR_Indices!Q98/NR_Indices!P98=0,\"\",NR_Indices!Q98/NR_Indices!P98)","v":{"$error":"#DIV/0!"}},{"$f":"IF(NR_Indices!R98/NR_Indices!Q98=0,\"\",NR_Indices!R98/NR_Indices!Q98)","v":0.98023155629334568},{"$f":"IF(NR_Indices!S98/NR_Indices!R98=0,\"\",NR_Indices!S98/NR_Indices!R98)","v":0.98796649756238653},{"$f":"IF(NR_Indices!T98/NR_Indices!S98=0,\"\",NR_Indices!T98/NR_Indices!S98)","v":1.0717244817156253},{"$f":"IF(NR_Indices!U98/NR_Indices!T98=0,\"\",NR_Indices!U98/NR_Indices!T98)","v":1.0361707489721823},{"$f":"IF(NR_Indices!V98/NR_Indices!U98=0,\"\",NR_Indices!V98/NR_Indices!U98)","v":1.0233495395093684},{"$f":"IF(NR_Indices!W98/NR_Indices!V98=0,\"\",NR_Indices!W98/NR_Indices!V98)","v":0.93404315330729604},{"$f":"IF(NR_Indices!X98/NR_Indices!W98=0,\"\",NR_Indices!X98/NR_Indices!W98)","v":0.93616596525192253}]
["Irland",null,{"$f":"IF(NR_Indices!C99/NR_Indices!B99=0,\"\",NR_Indices!C99/NR_Indices!B99)","v":1.016104856320502},{"$f":"IF(NR_Indices!D99/NR_Indices!C99=0,\"\",NR_Indices!D99/NR_Indices!C99)","v":1.0533064861467365},{"$f":"IF(NR_Indices!E99/NR_Indices!D99=0,\"\",NR_Indices!E99/NR_Indices!D99)","v":0.93134716999917366},{"$f":"IF(NR_Indices!F99/NR_Indices!E99=0,\"\",NR_Indices!F99/NR_Indices!E99)","v":1.0449748822342091},{"$f":"IF(NR_Indices!G99/NR_Indices!F99=0,\"\",NR_Indices!G99/NR_Indices!F99)","v":0.96347446906156264},{"$f":"IF(NR_Indices!H99/NR_Indices!G99=0,\"\",NR_Indices!H99/NR_Indices!G99)","v":0.93858163390891691},{"$f":"IF(NR_Indices!I99/NR_Indices!H99=0,\"\",NR_Indices!I99/NR_Indices!H99)","v":0.94726842528392285},{"$f":"IF(NR_Indices!J99/NR_Indices!I99=0,\"\",NR_Indices!J99/NR_Indices!I99)","v":1.0393869741341524},{"$f":"IF(NR_Indices!K99/NR_Indices!J99=0,\"\",NR_Indices!K99/NR_Indices!J99)","v":1.2147739955357144},{"$f":"IF(NR_Indices!L99/NR_Indices!K99=0,\"\",NR_Indices!L99/NR_Indices!K99)","v":0.79413525743931856},{"$f":"IF(NR_Indices!M99/NR_Indices!L99=0,\"\",NR_Indices!M99/NR_Indices!L99)","v":0.91528900827725679},{"$f":"IF(NR_Indices!N99/NR_Indices!M99=0,\"\",NR_Indices!N99/NR_Indices!M99)","v":1.0105229876637472},{"$f":"IF(NR_Indices!O99/NR_Indices!N99=0,\"\",NR_Indices!O99/NR_Indices!N99)","v":1.0202929070085103},{"$f":"IF(NR_Indices!P99/NR_Indices!O99=0,\"\",NR_Indices!P99/NR_Indices!O99)","v":0.98495281407039392},{"$f":"IF(NR_Indices!Q99/NR_Indices!P99=0,\"\",NR_Indices!Q99/NR_Indices!P99)","v":1.2391081950087772},{"$f":"IF(NR_Indices!R99/NR_Indices!Q99=0,\"\",NR_Indices!R99/NR_Indices!Q99)","v":0.97675153061657061},{"$f":"IF(NR_Indices!S99/NR_Indices!R99=0,\"\",NR_Indices!S99/NR_Indices!R99)","v":1.0448014153293868},{"$f":"IF(NR_Indices!T99/NR_Indices!S99=0,\"\",NR_Indices!T99/NR_Indices!S99)","v":0.99969751599876133},{"$f":"IF(NR_Indices!U99/NR_Indices!T99=0,\"\",NR_Indices!U99/NR_Indices!T99)","v":0.91424474883551266},{"$f":"IF(NR_Indices!V99/NR_Indices!U99=0,\"\",NR_Indices!V99/NR_Indices!U99)","v":0.90455602710811422},{"$f":"IF(NR_Indices!W99/NR_Indices!V99=0,\"\",NR_Indices!W99/NR_Indices!V99)","v":0.9378312162620519},{"$f":"IF(NR_Indices!X99/NR_Indices!W99=0,\"\",NR_Indices!X99/NR_Indices!W99)","v":0.98074773931492742}]
["Niederlande",null,{"$f":"IF(NR_Indices!C100/NR_Indices!B100=0,\"\",NR_Indices!C100/NR_Indices!B100)","v":1.0027547318517089},{"$f":"IF(NR_Indices!D100/NR_Indices!C100=0,\"\",NR_Indices!D100/NR_Indices!C100)","v":0.98521501594885419},{"$f":"IF(NR_Indices!E100/NR_Indices!D100=0,\"\",NR_Indices!E100/NR_Indices!D100)","v":1.0688779984227486},{"$f":"IF(NR_Indices!F100/NR_Indices!E100=0,\"\",NR_Indices!F100/NR_Indices!E100)","v":0.96272123756519046},{"$f":"IF(NR_Indices!G100/NR_Indices!F100=0,\"\",NR_Indices!G100/NR_Indices!F100)","v":1.0478700521642959},{"$f":"IF(NR_Indices!H100/NR_Indices!G100=0,\"\",NR_Indices!H100/NR_Indices!G100)","v":1.0407659839609156},{"$f":"IF(NR_Indices!I100/NR_Indices!H100=0,\"\",NR_Indices!I100/NR_Indices!H100)","v":1.0063308277182881},{"$f":"IF(NR_Indices!J100/NR_Indices!I100=0,\"\",NR_Indices!J100/NR_Indices!I100)","v":1.0390950797902483},{"$f":"IF(NR_Indices!K100/NR_Indices!J100=0,\"\",NR_Indices!K100/NR_Indices!J100)","v":1.0951470370176066},{"$f":"IF(NR_Indices!L100/NR_Indices!K100=0,\"\",NR_Indices!L100/NR_Indices!K100)","v":1.026918845591636},{"$f":"IF(NR_Indices!M100/NR_Indices!L100=0,\"\",NR_Indices!M100/NR_Indices!L100)","v":0.99629969405531815},{"$f":"IF(NR_Indices!N100/NR_Indices!M100=0,\"\",NR_Indices!N100/NR_Indices!M100)","v":1.0074255797144676},{"$f":"IF(NR_Indices!O100/NR_Indices!N100=0,\"\",NR_Indices!O100/NR_Indices!N100)","v":1.0129385758589025},{"$f":"IF(NR_Indices!P100/NR_Indices!O100=0,\"\",NR_Indices!P100/NR_Indices!O100)","v":0.96827736958669863},{"$f":"IF(NR_Indices!Q100/NR_Indices!P100=0,\"\",NR_Indices!Q100/NR_Indices!P100)","v":0.9807336023688874},{"$f":"IF(NR_Indices!R100/NR_Indices!Q100=0,\"\",NR_Indices!R100/NR_Indices!Q100)","v":0.90431137467333556},{"$f":"IF(NR_Indices!S100/NR_Indices!R100=0,\"\",NR_Indices!S100/NR_Indices!R100)","v":0.87262420424050491},{"$f":"IF(NR_Indices!T100/NR_Indices!S100=0,\"\",NR_Indices!T100/NR_Indices!S100)","v":0.93931787696733571},{"$f":"IF(NR_Indices!U100/NR_Indices!T100=0,\"\",NR_Indices!U100/NR_Indices!T100)","v":0.97533215659318118},{"$f":"IF(NR_Indices!V100/NR_Indices!U100=0,\"\",NR_Indices!V100/NR_Indices!U100)","v":0.90322937991899832},{"$f":"IF(NR_Indices!W100/NR_Indices!V100=0,\"\",NR_Indices!W100/NR_Indices!V100)","v":0.95936852684864005},{"$f":"IF(NR_Indices!X100/NR_Indices!W100=0,\"\",NR_Indices!X100/NR_Indices!W100)","v":0.98733340113636492}]
["Portugal",null,{"$f":"IF(NR_Indices!C101/NR_Indices!B101=0,\"\",NR_Indices!C101/NR_Indices!B101)","v":{"$error":"#DIV/0!"}},{"$f":"IF(NR_Indices!D101/NR_Indices!C101=0,\"\",NR_Indices!D101/NR_Indices!C101)","v":{"$error":"#DIV/0!"}},{"$f":"IF(NR_Indices!E101/NR_Indices!D101=0,\"\",NR_Indices!E101/NR_Indices!D101)","v":{"$error":"#DIV/0!"}},{"$f":"IF(NR_Indices!F101/NR_Indices!E101=0,\"\",NR_Indices!F101/NR_Indices!E101)","v":{"$error":"#DIV/0!"}},{"$f":"IF(NR_Indices!G101/NR_Indices!F101=0,\"\",NR_Indices!G101/NR_Indices!F101)","v":{"$error":"#DIV/0!"}},{"$f":"IF(NR_Indices!H101/NR_Indices!G101=0,\"\",NR_Indices!H101/NR_Indices!G101)","v":{"$error":"#DIV/0!"}},{"$f":"IF(NR_Indices!I101/NR_Indices!H101=0,\"\",NR_Indices!I101/NR_Indices!H101)","v":{"$error":"#DIV/0!"}},{"$f":"IF(NR_Indices!J101/NR_Indices!I101=0,\"\",NR_Indices!J101/NR_Indices!I101)","v":{"$error":"#DIV/0!"}},{"$f":"IF(NR_Indices!K101/NR_Indices!J101=0,\"\",NR_Indices!K101/NR_Indices!J101)","v":{"$error":"#DIV/0!"}},{"$f":"IF(NR_Indices!L101/NR_Indices!K101=0,\"\",NR_Indices!L101/NR_Indices!K101)","v":{"$error":"#DIV/0!"}},{"$f":"IF(NR_Indices!M101/NR_Indices!L101=0,\"\",NR_Indices!M101/NR_Indices!L101)","v":{"$error":"#DIV/0!"}},{"$f":"IF(NR_Indices!N101/NR_Indices!M101=0,\"\",NR_Indices!N101/NR_Indices!M101)","v":{"$error":"#DIV/0!"}},{"$f":"IF(NR_Indices!O101/NR_Indices!N101=0,\"\",NR_Indices!O101/NR_Indices!N101)","v":{"$error":"#DIV/0!"}},{"$f":"IF(NR_Indices!P101/NR_Indices!O101=0,\"\",NR_Indices!P101/NR_Indices!O101)","v":{"$error":"#DIV/0!"}},{"$f":"IF(NR_Indices!Q101/NR_Indices!P101=0,\"\",NR_Indices!Q101/NR_Indices!P101)","v":{"$error":"#DIV/0!"}},{"$f":"IF(NR_Indices!R101/NR_Indices!Q101=0,\"\",NR_Indices!R101/NR_Indices!Q101)","v":0.98509696267611613},{"$f":"IF(NR_Indices!S101/NR_Indices!R101=0,\"\",NR_Indices!S101/NR_Indices!R101)","v":0.91436745527023378},{"$f":"IF(NR_Indices!T101/NR_Indices!S101=0,\"\",NR_Indices!T101/NR_Indices!S101)","v":0.99836477901800069},{"$f":"IF(NR_Indices!U101/NR_Indices!T101=0,\"\",NR_Indices!U101/NR_Indices!T101)","v":1.0224369222558167},{"$f":"IF(NR_Indices!V101/NR_Indices!U101=0,\"\",NR_Indices!V101/NR_Indices!U101)","v":0.96848504996519591},{"$f":"IF(NR_Indices!W101/NR_Indices!V101=0,\"\",NR_Indices!W101/NR_Indices!V101)","v":0.96908076999225712},{"$f":"IF(NR_Indices!X101/NR_Indices!W101=0,\"\",NR_Indices!X101/NR_Indices!W101)","v":0.996512916499803}]
["Rumänien",null,{"$f":"IF(NR_Indices!C102/NR_Indices!B102=0,\"\",NR_Indices!C102/NR_Indices!B102)","v":1.2875543084027761},{"$f":"IF(NR_Indices!D102/NR_Indices!C102=0,\"\",NR_Indices!D102/NR_Indices!C102)","v":1.0412621846277219},{"$f":"IF(NR_Indices!E102/NR_Indices!D102=0,\"\",NR_Indices!E102/NR_Indices!D102)","v":0.9872002515163989},{"$f":"IF(NR_Indices!F102/NR_Indices!E102=0,\"\",NR_Indices!F102/NR_Indices!E102)","v":1.0297423088474558},{"$f":"IF(NR_Indices!G102/NR_Indices!F102=0,\"\",NR_Indices!G102/NR_Indices!F102)","v":0.97035349024490192},{"$f":"IF(NR_Indices!H102/NR_Indices!G102=0,\"\",NR_Indices!H102/NR_Indices!G102)","v":1.0737264634189962},{"$f":"IF(NR_Indices!I102/NR_Indices!H102=0,\"\",NR_Indices!I102/NR_Indices!H102)","v":0.97126961163252601},{"$f":"IF(NR_Indices!J102/NR_Indices!I102=0,\"\",NR_Indices!J102/NR_Indices!I102)","v":0.99940982300798198},{"$f":"IF(NR_Indices!K102/NR_Indices!J102=0,\"\",NR_Indices!K102/NR_Indices!J102)","v":1.0309764922651581},{"$f":"IF(NR_Indices!L102/NR_Indices!K102=0,\"\",NR_Indices!L102/NR_Indices!K102)","v":1.0859997491410469},{"$f":"IF(NR_Indices!M102/NR_Indices!L102=0,\"\",NR_Indices!M102/NR_Indices!L102)","v":0.98990724488569448},{"$f":"IF(NR_Indices!N102/NR_Indices!M102=0,\"\",NR_Indices!N102/NR_Indices!M102)","v":0.92960785770369703},{"$f":"IF(NR_Indices!O102/NR_Indices!N102=0,\"\",NR_Indices!O102/NR_Indices!N102)","v":1.297411050708585},{"$f":"IF(NR_Indices!P102/NR_Indices!O102=0,\"\",NR_Indices!P102/NR_Indices!O102)","v":0.76649519056642179},{"$f":"IF(NR_Indices!Q102/NR_Indices!P102=0,\"\",NR_Indices!Q102/NR_Indices!P102)","v":0.70646642117957126},{"$f":"IF(NR_Indices!R102/NR_Indices!Q102=0,\"\",NR_Indices!R102/NR_Indices!Q102)","v":0.9907372620840037},{"$f":"IF(NR_Indices!S102/NR_Indices!R102=0,\"\",NR_Indices!S102/NR_Indices!R102)","v":1.0399749199964707},{"$f":"IF(NR_Indices!T102/NR_Indices!S102=0,\"\",NR_Indices!T102/NR_Indices!S102)","v":1.0129044169923866},{"$f":"IF(NR_Indices!U102/NR_Indices!T102=0,\"\",NR_Indices!U102/NR_Indices!T102)","v":1.2136876847259594},{"$f":"IF(NR_Indices!V102/NR_Indices!U102=0,\"\",NR_Indices!V102/NR_Indices!U102)","v":0.82413326566828649},{"$f":"IF(NR_Indices!W102/NR_Indices!V102=0,\"\",NR_Indices!W102/NR_Indices!V102)","v":1.480595157003525},{"$f":"IF(NR_Indices!X102/NR_Indices!W102=0,\"\",NR_Indices!X102/NR_Indices!W102)","v":0.80292377737335596}]
["Slowenien",null,{"$f":"IF(NR_Indices!C103/NR_Indices!B103=0,\"\",NR_Indices!C103/NR_Indices!B103)","v":1.0129151357985569},{"$f":"IF(NR_Indices!D103/NR_Indices!C103=0,\"\",NR_Indices!D103/NR_Indices!C103)","v":1.0274570617067302},{"$f":"IF(NR_Indices!E103/NR_Indices!D103=0,\"\",NR_Indices!E103/NR_Indices!D103)","v":0.94553372623959153},{"$f":"IF(NR_Indices!F103/NR_Indices!E103=0,\"\",NR_Indices!F103/NR_Indices!E103)","v":1.0155160387548066},{"$f":"IF(NR_Indices!G103/NR_Indices!F103=0,\"\",NR_Indices!G103/NR_Indices!F103)","v":1.0362387442852141},{"$f":"IF(NR_Indices!H103/NR_Indices!G103=0,\"\",NR_Indices!H103/NR_Indices!G103)","v":0.876457144165945},{"$f":"IF(NR_Indices!I103/NR_Indices!H103=0,\"\",NR_Indices!I103/NR_Indices!H103)","v":1.0126119179862563},{"$f":"IF(NR_Indices!J103/NR_Indices!I103=0,\"\",NR_Indices!J103/NR_Indices!I103)","v":1.0024498538570124},{"$f":"IF(NR_Indices!K103/NR_Indices!J103=0,\"\",NR_Indices!K103/NR_Indices!J103)","v":0.92984431614653473},{"$f":"IF(NR_Indices!L103/NR_Indices!K103=0,\"\",NR_Indices!L103/NR_Indices!K103)","v":0.99465838013859664},{"$f":"IF(NR_Indices!M103/NR_Indices!L103=0,\"\",NR_Indices!M103/NR_Indices!L103)","v":1.0791640441003612},{"$f":"IF(NR_Indices!N103/NR_Indices!M103=0,\"\",NR_Indices!N103/NR_Indices!M103)","v":0.99766712378265199},{"$f":"IF(NR_Indices!O103/NR_Indices!N103=0,\"\",NR_Indices!O103/NR_Indices!N103)","v":1.0648514467513113},{"$f":"IF(NR_Indices!P103/NR_Indices!O103=0,\"\",NR_Indices!P103/NR_Indices!O103)","v":0.95356347120763096},{"$f":"IF(NR_Indices!Q103/NR_Indices!P103=0,\"\",NR_Indices!Q103/NR_Indices!P103)","v":0.98642764747813838},{"$f":"IF(NR_Indices!R103/NR_Indices!Q103=0,\"\",NR_Indices!R103/NR_Indices!Q103)","v":1.0666222686383426},{"$f":"IF(NR_Indices!S103/NR_Indices!R103=0,\"\",NR_Indices!S103/NR_Indices!R103)","v":0.97711446338055241},{"$f":"IF(NR_Indices!T103/NR_Indices!S103=0,\"\",NR_Indices!T103/NR_Indices!S103)","v":0.93898741161956212},{"$f":"IF(NR_Indices!U103/NR_Indices!T103=0,\"\",NR_Indices!U103/NR_Indices!T103)","v":1.0216050024958947},{"$f":"IF(NR_Indices!V103/NR_Indices!U103=0,\"\",NR_Indices!V103/NR_Indices!U103)","v":0.96267538788234952},{"$f":"IF(NR_Indices!W103/NR_Indices!V103=0,\"\",NR_Indices!W103/NR_Indices!V103)","v":1.0066490286561476},{"$f":"IF(NR_Indices!X103/NR_Indices!W103=0,\"\",NR_Indices!X103/NR_Indices!W103)","v":0.94534697529710576}]
["Slowakei",null,{"$f":"IF(NR_Indices!C104/NR_Indices!B104=0,\"\",NR_Indices!C104/NR_Indices!B104)","v":1.215475663752565},{"$f":"IF(NR_Indices!D104/NR_Indices!C104=0,\"\",NR_Indices!D104/NR_Indices!C104)","v":1.1769627700109748},{"$f":"IF(NR_Indices!E104/NR_Indices!D104=0,\"\",NR_Indices!E104/NR_Indices!D104)","v":1.0891579300543148},{"$f":"IF(NR_Indices!F104/NR_Indices!E104=0,\"\",NR_Indices!F104/NR_Indices!E104)","v":1.0869628407856484},{"$f":"IF(NR_Indices!G104/NR_Indices!F104=0,\"\",NR_Indices!G104/NR_Indices!F104)","v":0.77590123658980936},{"$f":"IF(NR_Indices!H104/NR_Indices!G104=0,\"\",NR_Indices!H104/NR_Indices!G104)","v":1.0035167830687011},{"$f":"IF(NR_Indices!I104/NR_Indices!H104=0,\"\",NR_Indices!I104/NR_Indices!H104)","v":0.9052482145157762},{"$f":"IF(NR_Indices!J104/NR_Indices!I104=0,\"\",NR_Indices!J104/NR_Indices!I104)","v":1.116832027290183},{"$f":"IF(NR_Indices!K104/NR_Indices!J104=0,\"\",NR_Indices!K104/NR_Indices!J104)","v":0.84987441412298226},{"$f":"IF(NR_Indices!L104/NR_Indices!K104=0,\"\",NR_Indices!L104/NR_Indices!K104)","v":1.469064651083501},{"$f":"IF(NR_Indices!M104/NR_Indices!L104=0,\"\",NR_Indices!M104/NR_Indices!L104)","v":0.99934375297166211},{"$f":"IF(NR_Indices!N104/NR_Indices!M104=0,\"\",NR_Indices!N104/NR_Indices!M104)","v":1.0225752305482474},{"$f":"IF(NR_Indices!O104/NR_Indices!N104=0,\"\",NR_Indices!O104/NR_Indices!N104)","v":0.8569518842609114},{"$f":"IF(NR_Indices!P104/NR_Indices!O104=0,\"\",NR_Indices!P104/NR_Indices!O104)","v":0.88772193178074166},{"$f":"IF(NR_Indices!Q104/NR_Indices!P104=0,\"\",NR_Indices!Q104/NR_Indices!P104)","v":0.94364074148968635},{"$f":"IF(NR_Indices!R104/NR_Indices!Q104=0,\"\",NR_Indices!R104/NR_Indices!Q104)","v":0.99939186729951857},{"$f":"IF(NR_Indices!S104/NR_Indices!R104=0,\"\",NR_Indices!S104/NR_Indices!R104)","v":1.0541882721077538},{"$f":"IF(NR_Indices!T104/NR_Indices!S104=0,\"\",NR_Indices!T104/NR_Indices!S104)","v":0.96557797244521604},{"$f":"IF(NR_Indices!U104/NR_Indices!T104=0,\"\",NR_Indices!U104/NR_Indices!T104)","v":1.0460497306631513},{"$f":"IF(NR_Indices!V104/NR_Indices!U104=0,\"\",NR_Indices!V104/NR_Indices!U104)","v":1.0298091262873739},{"$f":"IF(NR_Indices!W104/NR_Indices!V104=0,\"\",NR_Indices!W104/NR_Indices!V104)","v":1.0557574649727028},{"$f":"IF(NR_Indices!X104/NR_Indices!W104=0,\"\",NR_Indices!X104/NR_Indices!W104)","v":1.0621190711625452}]
["Großbritannien",null,{"$f":"IF(NR_Indices!C105/NR_Indices!B105=0,\"\",NR_Indices!C105/NR_Indices!B105)","v":{"$error":"#DIV/0!"}},{"$f":"IF(NR_Indices!D105/NR_Indices!C105=0,\"\",NR_Indices!D105/NR_Indices!C105)","v":{"$error":"#DIV/0!"}},{"$f":"IF(NR_Indices!E105/NR_Indices!D105=0,\"\",NR_Indices!E105/NR_Indices!D105)","v":{"$error":"#DIV/0!"}},{"$f":"IF(NR_Indices!F105/NR_Indices!E105=0,\"\",NR_Indices!F105/NR_Indices!E105)","v":{"$error":"#DIV/0!"}},{"$f":"IF(NR_Indices!G105/NR_Indices!F105=0,\"\",NR_Indices!G105/NR_Indices!F105)","v":{"$error":"#DIV/0!"}},{"$f":"IF(NR_Indices!H105/NR_Indices!G105=0,\"\",NR_Indices!H105/NR_Indices!G105)","v":{"$error":"#DIV/0!"}},{"$f":"IF(NR_Indices!I105/NR_Indices!H105=0,\"\",NR_Indices!I105/NR_Indices!H105)","v":{"$error":"#DIV/0!"}},{"$f":"IF(NR_Indices!J105/NR_Indices!I105=0,\"\",NR_Indices!J105/NR_Indices!I105)","v":{"$error":"#DIV/0!"}},{"$f":"IF(NR_Indices!K105/NR_Indices!J105=0,\"\",NR_Indices!K105/NR_Indices!J105)","v":{"$error":"#DIV/0!"}},{"$f":"IF(NR_Indices!L105/NR_Indices!K105=0,\"\",NR_Indices!L105/NR_Indices!K105)","v":{"$error":"#DIV/0!"}},{"$f":"IF(NR_Indices!M105/NR_Indices!L105=0,\"\",NR_Indices!M105/NR_Indices!L105)","v":{"$error":"#DIV/0!"}},{"$f":"IF(NR_Indices!N105/NR_Indices!M105=0,\"\",NR_Indices!N105/NR_Indices!M105)","v":{"$error":"#DIV/0!"}},{"$f":"IF(NR_Indices!O105/NR_Indices!N105=0,\"\",NR_Indices!O105/NR_Indices!N105)","v":{"$error":"#DIV/0!"}},{"$f":"IF(NR_Indices!P105/NR_Indices!O105=0,\"\",NR_Indices!P105/NR_Indices!O105)","v":{"$error":"#DIV/0!"}},{"$f":"IF(NR_Indices!Q105/NR_Indices!P105=0,\"\",NR_Indices!Q105/NR_Indices!P105)","v":{"$error":"#DIV/0!"}},{"$f":"IF(NR_Indices!R105/NR_Indices!Q105=0,\"\",NR_Indices!R105/NR_Indices!Q105)","v":{"$error":"#DIV/0!"}},{"$f":"IF(NR_Indices!S105/NR_Indices!R105=0,\"\",NR_Indices!S105/NR_Indices!R105)","v":{"$error":"#DIV/0!"}},{"$f":"IF(NR_Indices!T105/NR_Indices!S105=0,\"\",NR_Indices!T105/NR_Indices!S105)","v":{"$error":"#DIV/0!"}},{"$f":"IF(NR_Indices!U105/NR_Indices!T105=0,\"\",NR_Indices!U105/NR_Indices!T105)","v":{"$error":"#DIV/0!"}},{"$f":"IF(NR_Indices!V105/NR_Indices!U105=0,\"\",NR_Indices!V105/NR_Indices!U105)","v":{"$error":"#DIV/0!"}},{"$f":"IF(NR_Indices!W105/NR_Indices!V105=0,\"\",NR_Indices!W105/NR_Indices!V105)","v":{"$error":"#DIV/0!"}},{"$f":"IF(NR_Indices!X105/NR_Indices!W105=0,\"\",NR_Indices!X105/NR_Indices!W105)","v":{"$error":"#DIV/0!"}}]

{"sheet":"NR_Indices","index":5,"n_rows":105,"n_cols":24,"rows_kept":105,"cut":false,"hidden":false,"merged":[]}
[null,null,null,null,null,null,"Index: 2010 = 100"]
["BWS (preisbereinigt)/Erwerbstätige"]
[null,1995,{"$f":"B3+1","v":1996},{"$f":"C3+1","v":1997},1998,1999,2000,2001,2002,2003,2004,2005,2006,2007,2008,2009,2010,2011,2012,2013,2014,2015,2016,2017]
["Österreich",{"$f":"(NR_Arbeitsprod_Arbeitskraft!B4/NR_Arbeitsprod_Arbeitskraft!$Q4)*100","v":36.234332893741808},{"$f":"(NR_Arbeitsprod_Arbeitskraft!C4/NR_Arbeitsprod_Arbeitskraft!$Q4)*100","v":43.523925096704062},{"$f":"(NR_Arbeitsprod_Arbeitskraft!D4/NR_Arbeitsprod_Arbeitskraft!$Q4)*100","v":41.92696840786347},{"$f":"(NR_Arbeitsprod_Arbeitskraft!E4/NR_Arbeitsprod_Arbeitskraft!$Q4)*100","v":47.370353482577464},{"$f":"(NR_Arbeitsprod_Arbeitskraft!F4/NR_Arbeitsprod_Arbeitskraft!$Q4)*100","v":52.666145735975121},{"$f":"(NR_Arbeitsprod_Arbeitskraft!G4/NR_Arbeitsprod_Arbeitskraft!$Q4)*100","v":52.868972850669628},{"$f":"(NR_Arbeitsprod_Arbeitskraft!H4/NR_Arbeitsprod_Arbeitskraft!$Q4)*100","v":53.37175554715192},{"$f":"(NR_Arbeitsprod_Arbeitskraft!I4/NR_Arbeitsprod_Arbeitskraft!$Q4)*100","v":54.229970242272685},{"$f":"(NR_Arbeitsprod_Arbeitskraft!J4/NR_Arbeitsprod_Arbeitskraft!$Q4)*100","v":58.941927607400977},{"$f":"(NR_Arbeitsprod_Arbeitskraft!K4/NR_Arbeitsprod_Arbeitskraft!$Q4)*100","v":62.460168088332516},{"$f":"(NR_Arbeitsprod_Arbeitskraft!L4/NR_Arbeitsprod_Arbeitskraft!$Q4)*100","v":77.671784319033549},{"$f":"(NR_Arbeitsprod_Arbeitskraft!M4/NR_Arbeitsprod_Arbeitskraft!$Q4)*100","v":86.061458853984746},{"$f":"(NR_Arbeitsprod_Arbeitskraft!N4/NR_Arbeitsprod_Arbeitskraft!$Q4)*100","v":91.760998748071657},{"$f":"(NR_Arbeitsprod_Arbeitskraft!O4/NR_Arbeitsprod_Arbeitskraft!$Q4)*100","v":95.07587843636},{"$f":"(NR_Arbeitsprod_Arbeitskraft!P4/NR_Arbeitsprod_Arbeitskraft!$Q4)*100","v":97.337056857576528},{"$f":"(NR_Arbeitsprod_Arbeitskraft!Q4/NR_Arbeitsprod_Arbeitskraft!$Q4)*100","v":100},{"$f":"(NR_Arbeitsprod_Arbeitskraft!R4/NR_Arbeitsprod_Arbeitskraft!$Q4)*100","v":98.166846819686455},{"$f":"(NR_Arbeitsprod_Arbeitskraft!S4/NR_Arbeitsprod_Arbeitskraft!$Q4)*100","v":98.073576186011124},{"$f":"(NR_Arbeitsprod_Arbeitskraft!T4/NR_Arbeitsprod_Arbeitskraft!$Q4)*100","v":101.04633189404943},{"$f":"(NR_Arbeitsprod_Arbeitskraft!U4/NR_Arbeitsprod_Arbeitskraft!$Q4)*100","v":103.33713856196589},{"$f":"(NR_Arbeitsprod_Arbeitskraft!V4/NR_Arbeitsprod_Arbeitskraft!$Q4)*100","v":96.7332705094923},{"$f":"(NR_Arbeitsprod_Arbeitskraft!W4/NR_Arbeitsprod_Arbeitskraft!$Q4)*100","v":96.979154451338275},{"$f":"(NR_Arbeitsprod_Arbeitskraft!X4/NR_Arbeitsprod_Arbeitskraft!$Q4)*100","v":99.684845665511148}]
["Belgien",{"$f":"(NR_Arbeitsprod_Arbeitskraft!B5/NR_Arbeitsprod_Arbeitskraft!$Q5)*100","v":93.667385857738438},{"$f":"(NR_Arbeitsprod_Arbeitskraft!C5/NR_Arbeitsprod_Arbeitskraft!$Q5)*100","v":95.601335535914671},{"$f":"(NR_Arbeitsprod_Arbeitskraft!D5/NR_Arbeitsprod_Arbeitskraft!$Q5)*100","v":94.867058773366736},{"$f":"(NR_Arbeitsprod_Arbeitskraft!E5/NR_Arbeitsprod_Arbeitskraft!$Q5)*100","v":97.665659815018429},{"$f":"(NR_Arbeitsprod_Arbeitskraft!F5/NR_Arbeitsprod_Arbeitskraft!$Q5)*100","v":97.746646355496154},{"$f":"(NR_Arbeitsprod_Arbeitskraft!G5/NR_Arbeitsprod_Arbeitskraft!$Q5)*100","v":100.7222860887516},{"$f":"(NR_Arbeitsprod_Arbeitskraft!H5/NR_Arbeitsprod_Arbeitskraft!$Q5)*100","v":89.723277674628065},{"$f":"(NR_Arbeitsprod_Arbeitskraft!I5/NR_Arbeitsprod_Arbeitskraft!$Q5)*100","v":85.539633922261004},{"$f":"(NR_Arbeitsprod_Arbeitskraft!J5/NR_Arbeitsprod_Arbeitskraft!$Q5)*100","v":87.537693686066305},{"$f":"(NR_Arbeitsprod_Arbeitskraft!K5/NR_Arbeitsprod_Arbeitskraft!$Q5)*100","v":88.628985432466365},{"$f":"(NR_Arbeitsprod_Arbeitskraft!L5/NR_Arbeitsprod_Arbeitskraft!$Q5)*100","v":89.20625161285254},{"$f":"(NR_Arbeitsprod_Arbeitskraft!M5/NR_Arbeitsprod_Arbeitskraft!$Q5)*100","v":91.681229246625861},{"$f":"(NR_Arbeitsprod_Arbeitskraft!N5/NR_Arbeitsprod_Arbeitskraft!$Q5)*100","v":96.70882220712376},{"$f":"(NR_Arbeitsprod_Arbeitskraft!O5/NR_Arbeitsprod_Arbeitskraft!$Q5)*100","v":102.36201349788698},{"$f":"(NR_Arbeitsprod_Arbeitskraft!P5/NR_Arbeitsprod_Arbeitskraft!$Q5)*100","v":98.674565368898143},{"$f":"(NR_Arbeitsprod_Arbeitskraft!Q5/NR_Arbeitsprod_Arbeitskraft!$Q5)*100","v":100},{"$f":"(NR_Arbeitsprod_Arbeitskraft!R5/NR_Arbeitsprod_Arbeitskraft!$Q5)*100","v":104.30447579518649},{"$f":"(NR_Arbeitsprod_Arbeitskraft!S5/NR_Arbeitsprod_Arbeitskraft!$Q5)*100","v":101.82389181704316},{"$f":"(NR_Arbeitsprod_Arbeitskraft!T5/NR_Arbeitsprod_Arbeitskraft!$Q5)*100","v":103.28248711674009},{"$f":"(NR_Arbeitsprod_Arbeitskraft!U5/NR_Arbeitsprod_Arbeitskraft!$Q5)*100","v":100.65069918087953},{"$f":"(NR_Arbeitsprod_Arbeitskraft!V5/NR_Arbeitsprod_Arbeitskraft!$Q5)*100","v":99.294496680345986},{"$f":"(NR_Arbeitsprod_Arbeitskraft!W5/NR_Arbeitsprod_Arbeitskraft!$Q5)*100","v":95.338645498404546}]
["Tschechien",{"$f":"(NR_Arbeitsprod_Arbeitskraft!B6/NR_Arbeitsprod_Arbeitskraft!$Q6)*100","v":63.392935158113453},{"$f":"(NR_Arbeitsprod_Arbeitskraft!C6/NR_Arbeitsprod_Arbeitskraft!$Q6)*100","v":66.853381479324071},{"$f":"(NR_Arbeitsprod_Arbeitskraft!D6/NR_Arbeitsprod_Arbeitskraft!$Q6)*100","v":58.538239334107722},{"$f":"(NR_Arbeitsprod_Arbeitskraft!E6/NR_Arbeitsprod_Arbeitskraft!$Q6)*100","v":65.132120733440345},{"$f":"(NR_Arbeitsprod_Arbeitskraft!F6/NR_Arbeitsprod_Arbeitskraft!$Q6)*100","v":61.82427174967998},{"$f":"(NR_Arbeitsprod_Arbeitskraft!G6/NR_Arbeitsprod_Arbeitskraft!$Q6)*100","v":68.130296307500586},{"$f":"(NR_Arbeitsprod_Arbeitskraft!H6/NR_Arbeitsprod_Arbeitskraft!$Q6)*100","v":75.098205435446289},{"$f":"(NR_Arbeitsprod_Arbeitskraft!I6/NR_Arbeitsprod_Arbeitskraft!$Q6)*100","v":76.985415619997809},{"$f":"(NR_Arbeitsprod_Arbeitskraft!J6/NR_Arbeitsprod_Arbeitskraft!$Q6)*100","v":93.74304339948408},{"$f":"(NR_Arbeitsprod_Arbeitskraft!K6/NR_Arbeitsprod_Arbeitskraft!$Q6)*100","v":93.170508622618925},{"$f":"(NR_Arbeitsprod_Arbeitskraft!L6/NR_Arbeitsprod_Arbeitskraft!$Q6)*100","v":93.479189273788592},{"$f":"(NR_Arbeitsprod_Arbeitskraft!M6/NR_Arbeitsprod_Arbeitskraft!$Q6)*100","v":104.01517306263604},{"$f":"(NR_Arbeitsprod_Arbeitskraft!N6/NR_Arbeitsprod_Arbeitskraft!$Q6)*100","v":111.7789756018509},{"$f":"(NR_Arbeitsprod_Arbeitskraft!O6/NR_Arbeitsprod_Arbeitskraft!$Q6)*100","v":101.95069348329665},{"$f":"(NR_Arbeitsprod_Arbeitskraft!P6/NR_Arbeitsprod_Arbeitskraft!$Q6)*100","v":104.75353812000672},{"$f":"(NR_Arbeitsprod_Arbeitskraft!Q6/NR_Arbeitsprod_Arbeitskraft!$Q6)*100","v":100},{"$f":"(NR_Arbeitsprod_Arbeitskraft!R6/NR_Arbeitsprod_Arbeitskraft!$Q6)*100","v":103.00135085248934},{"$f":"(NR_Arbeitsprod_Arbeitskraft!S6/NR_Arbeitsprod_Arbeitskraft!$Q6)*100","v":104.46392520323204},{"$f":"(NR_Arbeitsprod_Arbeitskraft!T6/NR_Arbeitsprod_Arbeitskraft!$Q6)*100","v":98.44540366624922},{"$f":"(NR_Arbeitsprod_Arbeitskraft!U6/NR_Arbeitsprod_Arbeitskraft!$Q6)*100","v":93.792419939236694},{"$f":"(NR_Arbeitsprod_Arbeitskraft!V6/NR_Arbeitsprod_Arbeitskraft!$Q6)*100","v":91.694630226069904},{"$f":"(NR_Arbeitsprod_Arbeitskraft!W6/NR_Arbeitsprod_Arbeitskraft!$Q6)*100","v":87.239891873836612},{"$f":"(NR_Arbeitsprod_Arbeitskraft!X6/NR_Arbeitsprod_Arbeitskraft!$Q6)*100","v":82.83998161313319}]
["Dänemark",{"$f":"(NR_Arbeitsprod_Arbeitskraft!B7/NR_Arbeitsprod_Arbeitskraft!$Q7)*100","v":174.24931517607897},{"$f":"(NR_Arbeitsprod_Arbeitskraft!C7/NR_Arbeitsprod_Arbeitskraft!$Q7)*100","v":178.83082364986751},{"$f":"(NR_Arbeitsprod_Arbeitskraft!D7/NR_Arbeitsprod_Arbeitskraft!$Q7)*100","v":176.10207719142721},{"$f":"(NR_Arbeitsprod_Arbeitskraft!E7/NR_Arbeitsprod_Arbeitskraft!$Q7)*100","v":167.55332694565843},{"$f":"(NR_Arbeitsprod_Arbeitskraft!F7/NR_Arbeitsprod_Arbeitskraft!$Q7)*100","v":155.51526031574733},{"$f":"(NR_Arbeitsprod_Arbeitskraft!G7/NR_Arbeitsprod_Arbeitskraft!$Q7)*100","v":135.83241703444725},{"$f":"(NR_Arbeitsprod_Arbeitskraft!H7/NR_Arbeitsprod_Arbeitskraft!$Q7)*100","v":173.28243826777276},{"$f":"(NR_Arbeitsprod_Arbeitskraft!I7/NR_Arbeitsprod_Arbeitskraft!$Q7)*100","v":167.79487819203857},{"$f":"(NR_Arbeitsprod_Arbeitskraft!J7/NR_Arbeitsprod_Arbeitskraft!$Q7)*100","v":161.8713911510674},{"$f":"(NR_Arbeitsprod_Arbeitskraft!K7/NR_Arbeitsprod_Arbeitskraft!$Q7)*100","v":156.19007629681093},{"$f":"(NR_Arbeitsprod_Arbeitskraft!L7/NR_Arbeitsprod_Arbeitskraft!$Q7)*100","v":150.95262970205832},{"$f":"(NR_Arbeitsprod_Arbeitskraft!M7/NR_Arbeitsprod_Arbeitskraft!$Q7)*100","v":129.59057229853744},{"$f":"(NR_Arbeitsprod_Arbeitskraft!N7/NR_Arbeitsprod_Arbeitskraft!$Q7)*100","v":124.08248235026038},{"$f":"(NR_Arbeitsprod_Arbeitskraft!O7/NR_Arbeitsprod_Arbeitskraft!$Q7)*100","v":110.88787542545901},{"$f":"(NR_Arbeitsprod_Arbeitskraft!P7/NR_Arbeitsprod_Arbeitskraft!$Q7)*100","v":108.42097428454467},{"$f":"(NR_Arbeitsprod_Arbeitskraft!Q7/NR_Arbeitsprod_Arbeitskraft!$Q7)*100","v":100},{"$f":"(NR_Arbeitsprod_Arbeitskraft!R7/NR_Arbeitsprod_Arbeitskraft!$Q7)*100","v":78.955670999914233},{"$f":"(NR_Arbeitsprod_Arbeitskraft!S7/NR_Arbeitsprod_Arbeitskraft!$Q7)*100","v":75.103023913244144},{"$f":"(NR_Arbeitsprod_Arbeitskraft!T7/NR_Arbeitsprod_Arbeitskraft!$Q7)*100","v":75.522654990809116},{"$f":"(NR_Arbeitsprod_Arbeitskraft!U7/NR_Arbeitsprod_Arbeitskraft!$Q7)*100","v":73.62672985901591},{"$f":"(NR_Arbeitsprod_Arbeitskraft!V7/NR_Arbeitsprod_Arbeitskraft!$Q7)*100","v":69.262437886974197},{"$f":"(NR_Arbeitsprod_Arbeitskraft!W7/NR_Arbeitsprod_Arbeitskraft!$Q7)*100","v":61.076102160921721},{"$f":"(NR_Arbeitsprod_Arbeitskraft!X7/NR_Arbeitsprod_Arbeitskraft!$Q7)*100","v":71.118257030695844}]
["Estland",{"$f":"(NR_Arbeitsprod_Arbeitskraft!B8/NR_Arbeitsprod_Arbeitskraft!$Q8)*100","v":30.953356648205059},{"$f":"(NR_Arbeitsprod_Arbeitskraft!C8/NR_Arbeitsprod_Arbeitskraft!$Q8)*100","v":35.529364098565786},{"$f":"(NR_Arbeitsprod_Arbeitskraft!D8/NR_Arbeitsprod_Arbeitskraft!$Q8)*100","v":39.536856588915484},{"$f":"(NR_Arbeitsprod_Arbeitskraft!E8/NR_Arbeitsprod_Arbeitskraft!$Q8)*100","v":48.1990418061159},{"$f":"(NR_Arbeitsprod_Arbeitskraft!F8/NR_Arbeitsprod_Arbeitskraft!$Q8)*100","v":46.88767289567852},{"$f":"(NR_Arbeitsprod_Arbeitskraft!G8/NR_Arbeitsprod_Arbeitskraft!$Q8)*100","v":51.85738330837976},{"$f":"(NR_Arbeitsprod_Arbeitskraft!H8/NR_Arbeitsprod_Arbeitskraft!$Q8)*100","v":63.14819739983367},{"$f":"(NR_Arbeitsprod_Arbeitskraft!I8/NR_Arbeitsprod_Arbeitskraft!$Q8)*100","v":73.191734487275212},{"$f":"(NR_Arbeitsprod_Arbeitskraft!J8/NR_Arbeitsprod_Arbeitskraft!$Q8)*100","v":75.677704906607076},{"$f":"(NR_Arbeitsprod_Arbeitskraft!K8/NR_Arbeitsprod_Arbeitskraft!$Q8)*100","v":96.473001445222167},{"$f":"(NR_Arbeitsprod_Arbeitskraft!L8/NR_Arbeitsprod_Arbeitskraft!$Q8)*100","v":123.62977648837376},{"$f":"(NR_Arbeitsprod_Arbeitskraft!M8/NR_Arbeitsprod_Arbeitskraft!$Q8)*100","v":114.91172612063561},{"$f":"(NR_Arbeitsprod_Arbeitskraft!N8/NR_Arbeitsprod_Arbeitskraft!$Q8)*100","v":132.72232178611273},{"$f":"(NR_Arbeitsprod_Arbeitskraft!O8/NR_Arbeitsprod_Arbeitskraft!$Q8)*100","v":126.40075216146276},{"$f":"(NR_Arbeitsprod_Arbeitskraft!P8/NR_Arbeitsprod_Arbeitskraft!$Q8)*100","v":108.9671747471259},{"$f":"(NR_Arbeitsprod_Arbeitskraft!Q8/NR_Arbeitsprod_Arbeitskraft!$Q8)*100","v":100},{"$f":"(NR_Arbeitsprod_Arbeitskraft!R8/NR_Arbeitsprod_Arbeitskraft!$Q8)*100","v":92.736834801242935},{"$f":"(NR_Arbeitsprod_Arbeitskraft!S8/NR_Arbeitsprod_Arbeitskraft!$Q8)*100","v":86.351967350343685},{"$f":"(NR_Arbeitsprod_Arbeitskraft!T8/NR_Arbeitsprod_Arbeitskraft!$Q8)*100","v":96.251842280169598},{"$f":"(NR_Arbeitsprod_Arbeitskraft!U8/NR_Arbeitsprod_Arbeitskraft!$Q8)*100","v":86.668689097538063},{"$f":"(NR_Arbeitsprod_Arbeitskraft!V8/NR_Arbeitsprod_Arbeitskraft!$Q8)*100","v":82.016767061499849},{"$f":"(NR_Arbeitsprod_Arbeitskraft!W8/NR_Arbeitsprod_Arbeitskraft!$Q8)*100","v":81.71797875359384},{"$f":"(NR_Arbeitsprod_Arbeitskraft!X8/NR_Arbeitsprod_Arbeitskraft!$Q8)*100","v":85.351481148889434}]
["Frankreich",{"$f":"(NR_Arbeitsprod_Arbeitskraft!B9/NR_Arbeitsprod_Arbeitskraft!$Q9)*100","v":101.24207201378074},{"$f":"(NR_Arbeitsprod_Arbeitskraft!C9/NR_Arbeitsprod_Arbeitskraft!$Q9)*100","v":104.64263498104853},{"$f":"(NR_Arbeitsprod_Arbeitskraft!D9/NR_Arbeitsprod_Arbeitskraft!$Q9)*100","v":104.29274178302418},{"$f":"(NR_Arbeitsprod_Arbeitskraft!E9/NR_Arbeitsprod_Arbeitskraft!$Q9)*100","v":108.36624400782351},{"$f":"(NR_Arbeitsprod_Arbeitskraft!F9/NR_Arbeitsprod_Arbeitskraft!$Q9)*100","v":115.07771532506304},{"$f":"(NR_Arbeitsprod_Arbeitskraft!G9/NR_Arbeitsprod_Arbeitskraft!$Q9)*100","v":105.87988963005755},{"$f":"(NR_Arbeitsprod_Arbeitskraft!H9/NR_Arbeitsprod_Arbeitskraft!$Q9)*100","v":101.91748961928417},{"$f":"(NR_Arbeitsprod_Arbeitskraft!I9/NR_Arbeitsprod_Arbeitskraft!$Q9)*100","v":99.638957116973188},{"$f":"(NR_Arbeitsprod_Arbeitskraft!J9/NR_Arbeitsprod_Arbeitskraft!$Q9)*100","v":96.982640843216529},{"$f":"(NR_Arbeitsprod_Arbeitskraft!K9/NR_Arbeitsprod_Arbeitskraft!$Q9)*100","v":99.675016027237263},{"$f":"(NR_Arbeitsprod_Arbeitskraft!L9/NR_Arbeitsprod_Arbeitskraft!$Q9)*100","v":101.01842965710399},{"$f":"(NR_Arbeitsprod_Arbeitskraft!M9/NR_Arbeitsprod_Arbeitskraft!$Q9)*100","v":98.014652281330697},{"$f":"(NR_Arbeitsprod_Arbeitskraft!N9/NR_Arbeitsprod_Arbeitskraft!$Q9)*100","v":102.27576493115569},{"$f":"(NR_Arbeitsprod_Arbeitskraft!O9/NR_Arbeitsprod_Arbeitskraft!$Q9)*100","v":102.94331934465686},{"$f":"(NR_Arbeitsprod_Arbeitskraft!P9/NR_Arbeitsprod_Arbeitskraft!$Q9)*100","v":104.49511118802457},{"$f":"(NR_Arbeitsprod_Arbeitskraft!Q9/NR_Arbeitsprod_Arbeitskraft!$Q9)*100","v":100},{"$f":"(NR_Arbeitsprod_Arbeitskraft!R9/NR_Arbeitsprod_Arbeitskraft!$Q9)*100","v":95.376022369800765},{"$f":"(NR_Arbeitsprod_Arbeitskraft!S9/NR_Arbeitsprod_Arbeitskraft!$Q9)*100","v":93.966128146142552},{"$f":"(NR_Arbeitsprod_Arbeitskraft!T9/NR_Arbeitsprod_Arbeitskraft!$Q9)*100","v":89.208589245554222},{"$f":"(NR_Arbeitsprod_Arbeitskraft!U9/NR_Arbeitsprod_Arbeitskraft!$Q9)*100","v":86.591707572845038},{"$f":"(NR_Arbeitsprod_Arbeitskraft!V9/NR_Arbeitsprod_Arbeitskraft!$Q9)*100","v":79.951241204921061},{"$f":"(NR_Arbeitsprod_Arbeitskraft!W9/NR_Arbeitsprod_Arbeitskraft!$Q9)*100","v":78.805723884921179},{"$f":"(NR_Arbeitsprod_Arbeitskraft!X9/NR_Arbeitsprod_Arbeitskraft!$Q9)*100","v":79.300121489584072}]
["Griechenland",{"$f":"(NR_Arbeitsprod_Arbeitskraft!B10/NR_Arbeitsprod_Arbeitskraft!$Q10)*100","v":51.520180291187415},{"$f":"(NR_Arbeitsprod_Arbeitskraft!C10/NR_Arbeitsprod_Arbeitskraft!$Q10)*100","v":51.373738591637895},{"$f":"(NR_Arbeitsprod_Arbeitskraft!D10/NR_Arbeitsprod_Arbeitskraft!$Q10)*100","v":61.744268653747028},{"$f":"(NR_Arbeitsprod_Arbeitskraft!E10/NR_Arbeitsprod_Arbeitskraft!$Q10)*100","v":63.969618478101864},{"$f":"(NR_Arbeitsprod_Arbeitskraft!F10/NR_Arbeitsprod_Arbeitskraft!$Q10)*100","v":82.070700170603587},{"$f":"(NR_Arbeitsprod_Arbeitskraft!G10/NR_Arbeitsprod_Arbeitskraft!$Q10)*100","v":83.48920211331037},{"$f":"(NR_Arbeitsprod_Arbeitskraft!H10/NR_Arbeitsprod_Arbeitskraft!$Q10)*100","v":92.695690943571023},{"$f":"(NR_Arbeitsprod_Arbeitskraft!I10/NR_Arbeitsprod_Arbeitskraft!$Q10)*100","v":97.964525959787125},{"$f":"(NR_Arbeitsprod_Arbeitskraft!J10/NR_Arbeitsprod_Arbeitskraft!$Q10)*100","v":95.90411363239572},{"$f":"(NR_Arbeitsprod_Arbeitskraft!K10/NR_Arbeitsprod_Arbeitskraft!$Q10)*100","v":98.9845602094436},{"$f":"(NR_Arbeitsprod_Arbeitskraft!L10/NR_Arbeitsprod_Arbeitskraft!$Q10)*100","v":101.07861051754374},{"$f":"(NR_Arbeitsprod_Arbeitskraft!M10/NR_Arbeitsprod_Arbeitskraft!$Q10)*100","v":109.83602178249311},{"$f":"(NR_Arbeitsprod_Arbeitskraft!N10/NR_Arbeitsprod_Arbeitskraft!$Q10)*100","v":112.4882238434428},{"$f":"(NR_Arbeitsprod_Arbeitskraft!O10/NR_Arbeitsprod_Arbeitskraft!$Q10)*100","v":121.37374198023787},{"$f":"(NR_Arbeitsprod_Arbeitskraft!P10/NR_Arbeitsprod_Arbeitskraft!$Q10)*100","v":108.02417688261212},{"$f":"(NR_Arbeitsprod_Arbeitskraft!Q10/NR_Arbeitsprod_Arbeitskraft!$Q10)*100","v":100},{"$f":"(NR_Arbeitsprod_Arbeitskraft!R10/NR_Arbeitsprod_Arbeitskraft!$Q10)*100","v":96.658221553772378},{"$f":"(NR_Arbeitsprod_Arbeitskraft!S10/NR_Arbeitsprod_Arbeitskraft!$Q10)*100","v":87.508738250455195},{"$f":"(NR_Arbeitsprod_Arbeitskraft!T10/NR_Arbeitsprod_Arbeitskraft!$Q10)*100","v":77.7302880486112},{"$f":"(NR_Arbeitsprod_Arbeitskraft!U10/NR_Arbeitsprod_Arbeitskraft!$Q10)*100","v":70.582831653551978},{"$f":"(NR_Arbeitsprod_Arbeitskraft!V10/NR_Arbeitsprod_Arbeitskraft!$Q10)*100","v":63.176954948855027},{"$f":"(NR_Arbeitsprod_Arbeitskraft!W10/NR_Arbeitsprod_Arbeitskraft!$Q10)*100","v":62.337595966040325},{"$f":"(NR_Arbeitsprod_Arbeitskraft!X10/NR_Arbeitsprod_Arbeitskraft!$Q10)*100","v":61.408423268524736}]
["Italien",{"$f":"(NR_Arbeitsprod_Arbeitskraft!B11/NR_Arbeitsprod_Arbeitskraft!$Q11)*100","v":60.28269182627357},{"$f":"(NR_Arbeitsprod_Arbeitskraft!C11/NR_Arbeitsprod_Arbeitskraft!$Q11)*100","v":60.41690967896308},{"$f":"(NR_Arbeitsprod_Arbeitskraft!D11/NR_Arbeitsprod_Arbeitskraft!$Q11)*100","v":65.434012028773722},{"$f":"(NR_Arbeitsprod_Arbeitskraft!E11/NR_Arbeitsprod_Arbeitskraft!$Q11)*100","v":67.045183984971231},{"$f":"(NR_Arbeitsprod_Arbeitskraft!F11/NR_Arbeitsprod_Arbeitskraft!$Q11)*100","v":75.364044676534618},{"$f":"(NR_Arbeitsprod_Arbeitskraft!G11/NR_Arbeitsprod_Arbeitskraft!$Q11)*100","v":78.833980764916362},{"$f":"(NR_Arbeitsprod_Arbeitskraft!H11/NR_Arbeitsprod_Arbeitskraft!$Q11)*100","v":90.909590130116641},{"$f":"(NR_Arbeitsprod_Arbeitskraft!I11/NR_Arbeitsprod_Arbeitskraft!$Q11)*100","v":88.972424029371851},{"$f":"(NR_Arbeitsprod_Arbeitskraft!J11/NR_Arbeitsprod_Arbeitskraft!$Q11)*100","v":91.018342626007623},{"$f":"(NR_Arbeitsprod_Arbeitskraft!K11/NR_Arbeitsprod_Arbeitskraft!$Q11)*100","v":89.525588174527286},{"$f":"(NR_Arbeitsprod_Arbeitskraft!L11/NR_Arbeitsprod_Arbeitskraft!$Q11)*100","v":93.261411523223842},{"$f":"(NR_Arbeitsprod_Arbeitskraft!M11/NR_Arbeitsprod_Arbeitskraft!$Q11)*100","v":94.818237290573734},{"$f":"(NR_Arbeitsprod_Arbeitskraft!N11/NR_Arbeitsprod_Arbeitskraft!$Q11)*100","v":99.053859722247253},{"$f":"(NR_Arbeitsprod_Arbeitskraft!O11/NR_Arbeitsprod_Arbeitskraft!$Q11)*100","v":96.844820458875674},{"$f":"(NR_Arbeitsprod_Arbeitskraft!P11/NR_Arbeitsprod_Arbeitskraft!$Q11)*100","v":96.706113244311283},{"$f":"(NR_Arbeitsprod_Arbeitskraft!Q11/NR_Arbeitsprod_Arbeitskraft!$Q11)*100","v":100},{"$f":"(NR_Arbeitsprod_Arbeitskraft!R11/NR_Arbeitsprod_Arbeitskraft!$Q11)*100","v":95.571411846117073},{"$f":"(NR_Arbeitsprod_Arbeitskraft!S11/NR_Arbeitsprod_Arbeitskraft!$Q11)*100","v":91.313829225795715},{"$f":"(NR_Arbeitsprod_Arbeitskraft!T11/NR_Arbeitsprod_Arbeitskraft!$Q11)*100","v":99.927881157343876},{"$f":"(NR_Arbeitsprod_Arbeitskraft!U11/NR_Arbeitsprod_Arbeitskraft!$Q11)*100","v":89.20129866817561},{"$f":"(NR_Arbeitsprod_Arbeitskraft!V11/NR_Arbeitsprod_Arbeitskraft!$Q11)*100","v":91.673439527700339},{"$f":"(NR_Arbeitsprod_Arbeitskraft!W11/NR_Arbeitsprod_Arbeitskraft!$Q11)*100","v":91.124798746625359},{"$f":"(NR_Arbeitsprod_Arbeitskraft!X11/NR_Arbeitsprod_Arbeitskraft!$Q11)*100","v":92.506481679893}]
["Spanien",{"$f":"(NR_Arbeitsprod_Arbeitskraft!B12/NR_Arbeitsprod_Arbeitskraft!$Q12)*100","v":40.234824281120268},{"$f":"(NR_Arbeitsprod_Arbeitskraft!C12/NR_Arbeitsprod_Arbeitskraft!$Q12)*100","v":46.582827069819729},{"$f":"(NR_Arbeitsprod_Arbeitskraft!D12/NR_Arbeitsprod_Arbeitskraft!$Q12)*100","v":51.906969438356057},{"$f":"(NR_Arbeitsprod_Arbeitskraft!E12/NR_Arbeitsprod_Arbeitskraft!$Q12)*100","v":55.986291152583235},{"$f":"(NR_Arbeitsprod_Arbeitskraft!F12/NR_Arbeitsprod_Arbeitskraft!$Q12)*100","v":57.006887073368382},{"$f":"(NR_Arbeitsprod_Arbeitskraft!G12/NR_Arbeitsprod_Arbeitskraft!$Q12)*100","v":62.11553960755738},{"$f":"(NR_Arbeitsprod_Arbeitskraft!H12/NR_Arbeitsprod_Arbeitskraft!$Q12)*100","v":65.950044093791476},{"$f":"(NR_Arbeitsprod_Arbeitskraft!I12/NR_Arbeitsprod_Arbeitskraft!$Q12)*100","v":71.397854013549008},{"$f":"(NR_Arbeitsprod_Arbeitskraft!J12/NR_Arbeitsprod_Arbeitskraft!$Q12)*100","v":75.498777873581929},{"$f":"(NR_Arbeitsprod_Arbeitskraft!K12/NR_Arbeitsprod_Arbeitskraft!$Q12)*100","v":80.065133814271945},{"$f":"(NR_Arbeitsprod_Arbeitskraft!L12/NR_Arbeitsprod_Arbeitskraft!$Q12)*100","v":84.141546999724639},{"$f":"(NR_Arbeitsprod_Arbeitskraft!M12/NR_Arbeitsprod_Arbeitskraft!$Q12)*100","v":84.541325804652246},{"$f":"(NR_Arbeitsprod_Arbeitskraft!N12/NR_Arbeitsprod_Arbeitskraft!$Q12)*100","v":91.5662966414191},{"$f":"(NR_Arbeitsprod_Arbeitskraft!O12/NR_Arbeitsprod_Arbeitskraft!$Q12)*100","v":92.761525056767155},{"$f":"(NR_Arbeitsprod_Arbeitskraft!P12/NR_Arbeitsprod_Arbeitskraft!$Q12)*100","v":90.881458966565347},{"$f":"(NR_Arbeitsprod_Arbeitskraft!Q12/NR_Arbeitsprod_Arbeitskraft!$Q12)*100","v":100},{"$f":"(NR_Arbeitsprod_Arbeitskraft!R12/NR_Arbeitsprod_Arbeitskraft!$Q12)*100","v":104.22425005244389},{"$f":"(NR_Arbeitsprod_Arbeitskraft!S12/NR_Arbeitsprod_Arbeitskraft!$Q12)*100","v":99.727404206766252},{"$f":"(NR_Arbeitsprod_Arbeitskraft!T12/NR_Arbeitsprod_Arbeitskraft!$Q12)*100","v":107.2359625837376},{"$f":"(NR_Arbeitsprod_Arbeitskraft!U12/NR_Arbeitsprod_Arbeitskraft!$Q12)*100","v":120.23322901582854},{"$f":"(NR_Arbeitsprod_Arbeitskraft!V12/NR_Arbeitsprod_Arbeitskraft!$Q12)*100","v":116.86419154372803},{"$f":"(NR_Arbeitsprod_Arbeitskraft!W12/NR_Arbeitsprod_Arbeitskraft!$Q12)*100","v":109.59563031781204},{"$f":"(NR_Arbeitsprod_Arbeitskraft!X12/NR_Arbeitsprod_Arbeitskraft!$Q12)*100","v":105.27681189747891}]
["Finnland",{"$f":"(NR_Arbeitsprod_Arbeitskraft!B13/NR_Arbeitsprod_Arbeitskraft!$Q13)*100","v":78.137607322923969},{"$f":"(NR_Arbeitsprod_Arbeitskraft!C13/NR_Arbeitsprod_Arbeitskraft!$Q13)*100","v":80.738424932804207},{"$f":"(NR_Arbeitsprod_Arbeitskraft!D13/NR_Arbeitsprod_Arbeitskraft!$Q13)*100","v":85.494745977003035},{"$f":"(NR_Arbeitsprod_Arbeitskraft!E13/NR_Arbeitsprod_Arbeitskraft!$Q13)*100","v":86.593436182503268},{"$f":"(NR_Arbeitsprod_Arbeitskraft!F13/NR_Arbeitsprod_Arbeitskraft!$Q13)*100","v":94.828224761884499},{"$f":"(NR_Arbeitsprod_Arbeitskraft!G13/NR_Arbeitsprod_Arbeitskraft!$Q13)*100","v":97.890454735689488},{"$f":"(NR_Arbeitsprod_Arbeitskraft!H13/NR_Arbeitsprod_Arbeitskraft!$Q13)*100","v":99.182811629042376},{"$f":"(NR_Arbeitsprod_Arbeitskraft!I13/NR_Arbeitsprod_Arbeitskraft!$Q13)*100","v":97.15407230026652},{"$f":"(NR_Arbeitsprod_Arbeitskraft!J13/NR_Arbeitsprod_Arbeitskraft!$Q13)*100","v":98.22755629230204},{"$f":"(NR_Arbeitsprod_Arbeitskraft!K13/NR_Arbeitsprod_Arbeitskraft!$Q13)*100","v":100.39648859246083},{"$f":"(NR_Arbeitsprod_Arbeitskraft!L13/NR_Arbeitsprod_Arbeitskraft!$Q13)*100","v":100.21304828752571},{"$f":"(NR_Arbeitsprod_Arbeitskraft!M13/NR_Arbeitsprod_Arbeitskraft!$Q13)*100","v":99.676556289436576},{"$f":"(NR_Arbeitsprod_Arbeitskraft!N13/NR_Arbeitsprod_Arbeitskraft!$Q13)*100","v":99.081522491753134},{"$f":"(NR_Arbeitsprod_Arbeitskraft!O13/NR_Arbeitsprod_Arbeitskraft!$Q13)*100","v":97.291700916261888},{"$f":"(NR_Arbeitsprod_Arbeitskraft!P13/NR_Arbeitsprod_Arbeitskraft!$Q13)*100","v":94.523008123312607},{"$f":"(NR_Arbeitsprod_Arbeitskraft!Q13/NR_Arbeitsprod_Arbeitskraft!$Q13)*100","v":100},{"$f":"(NR_Arbeitsprod_Arbeitskraft!R13/NR_Arbeitsprod_Arbeitskraft!$Q13)*100","v":98.538806484994822},{"$f":"(NR_Arbeitsprod_Arbeitskraft!S13/NR_Arbeitsprod_Arbeitskraft!$Q13)*100","v":101.39116921725618},{"$f":"(NR_Arbeitsprod_Arbeitskraft!T13/NR_Arbeitsprod_Arbeitskraft!$Q13)*100","v":89.844146997847176},{"$f":"(NR_Arbeitsprod_Arbeitskraft!U13/NR_Arbeitsprod_Arbeitskraft!$Q13)*100","v":75.555633274822227},{"$f":"(NR_Arbeitsprod_Arbeitskraft!V13/NR_Arbeitsprod_Arbeitskraft!$Q13)*100","v":70.679708307021713},{"$f":"(NR_Arbeitsprod_Arbeitskraft!W13/NR_Arbeitsprod_Arbeitskraft!$Q13)*100","v":67.578844427461163},{"$f":"(NR_Arbeitsprod_Arbeitskraft!X13/NR_Arbeitsprod_Arbeitskraft!$Q13)*100","v":59.805605327100473}]
["Ungarn",{"$f":"(NR_Arbeitsprod_Arbeitskraft!B14/NR_Arbeitsprod_Arbeitskraft!$Q14)*100","v":51.300151344765055},{"$f":"(NR_Arbeitsprod_Arbeitskraft!C14/NR_Arbeitsprod_Arbeitskraft!$Q14)*100","v":45.909687745576747},{"$f":"(NR_Arbeitsprod_Arbeitskraft!D14/NR_Arbeitsprod_Arbeitskraft!$Q14)*100","v":44.699994514076096},{"$f":"(NR_Arbeitsprod_Arbeitskraft!E14/NR_Arbeitsprod_Arbeitskraft!$Q14)*100","v":47.315773162288245},{"$f":"(NR_Arbeitsprod_Arbeitskraft!F14/NR_Arbeitsprod_Arbeitskraft!$Q14)*100","v":48.31244212244075},{"$f":"(NR_Arbeitsprod_Arbeitskraft!G14/NR_Arbeitsprod_Arbeitskraft!$Q14)*100","v":46.621917217824191},{"$f":"(NR_Arbeitsprod_Arbeitskraft!H14/NR_Arbeitsprod_Arbeitskraft!$Q14)*100","v":68.831478772339267},{"$f":"(NR_Arbeitsprod_Arbeitskraft!I14/NR_Arbeitsprod_Arbeitskraft!$Q14)*100","v":84.500869037542998},{"$f":"(NR_Arbeitsprod_Arbeitskraft!J14/NR_Arbeitsprod_Arbeitskraft!$Q14)*100","v":77.683426245345515},{"$f":"(NR_Arbeitsprod_Arbeitskraft!K14/NR_Arbeitsprod_Arbeitskraft!$Q14)*100","v":91.674922189649365},{"$f":"(NR_Arbeitsprod_Arbeitskraft!L14/NR_Arbeitsprod_Arbeitskraft!$Q14)*100","v":97.417350637490273},{"$f":"(NR_Arbeitsprod_Arbeitskraft!M14/NR_Arbeitsprod_Arbeitskraft!$Q14)*100","v":97.713397024538395},{"$f":"(NR_Arbeitsprod_Arbeitskraft!N14/NR_Arbeitsprod_Arbeitskraft!$Q14)*100","v":104.48747746584766},{"$f":"(NR_Arbeitsprod_Arbeitskraft!O14/NR_Arbeitsprod_Arbeitskraft!$Q14)*100","v":120.04611721279015},{"$f":"(NR_Arbeitsprod_Arbeitskraft!P14/NR_Arbeitsprod_Arbeitskraft!$Q14)*100","v":101.56137092546817},{"$f":"(NR_Arbeitsprod_Arbeitskraft!Q14/NR_Arbeitsprod_Arbeitskraft!$Q14)*100","v":100},{"$f":"(NR_Arbeitsprod_Arbeitskraft!R14/NR_Arbeitsprod_Arbeitskraft!$Q14)*100","v":98.665048779633679},{"$f":"(NR_Arbeitsprod_Arbeitskraft!S14/NR_Arbeitsprod_Arbeitskraft!$Q14)*100","v":96.470043771560285},{"$f":"(NR_Arbeitsprod_Arbeitskraft!T14/NR_Arbeitsprod_Arbeitskraft!$Q14)*100","v":102.54065621909317},{"$f":"(NR_Arbeitsprod_Arbeitskraft!U14/NR_Arbeitsprod_Arbeitskraft!$Q14)*100","v":107.25431050744942},{"$f":"(NR_Arbeitsprod_Arbeitskraft!V14/NR_Arbeitsprod_Arbeitskraft!$Q14)*100","v":110.14469820479991},{"$f":"(NR_Arbeitsprod_Arbeitskraft!W14/NR_Arbeitsprod_Arbeitskraft!$Q14)*100","v":104.13745414938464},{"$f":"(NR_Arbeitsprod_Arbeitskraft!X14/NR_Arbeitsprod_Arbeitskraft!$Q14)*100","v":94.639700447891045}]
["Irland",{"$f":"(NR_Arbeitsprod_Arbeitskraft!B15/NR_Arbeitsprod_Arbeitskraft!$Q15)*100","v":121.55232575338859},{"$f":"(NR_Arbeitsprod_Arbeitskraft!C15/NR_Arbeitsprod_Arbeitskraft!$Q15)*100","v":121.79445715405011},{"$f":"(NR_Arbeitsprod_Arbeitskraft!D15/NR_Arbeitsprod_Arbeitskraft!$Q15)*100","v":126.8991020536498},{"$f":"(NR_Arbeitsprod_Arbeitskraft!E15/NR_Arbeitsprod_Arbeitskraft!$Q15)*100","v":107.80569157038768},{"$f":"(NR_Arbeitsprod_Arbeitskraft!F15/NR_Arbeitsprod_Arbeitskraft!$Q15)*100","v":111.31996590643642},{"$f":"(NR_Arbeitsprod_Arbeitskraft!G15/NR_Arbeitsprod_Arbeitskraft!$Q15)*100","v":107.50059793956892},{"$f":"(NR_Arbeitsprod_Arbeitskraft!H15/NR_Arbeitsprod_Arbeitskraft!$Q15)*100","v":100.7051518157196},{"$f":"(NR_Arbeitsprod_Arbeitskraft!I15/NR_Arbeitsprod_Arbeitskraft!$Q15)*100","v":94.399862147147118},{"$f":"(NR_Arbeitsprod_Arbeitskraft!J15/NR_Arbeitsprod_Arbeitskraft!$Q15)*100","v":96.015975106145461},{"$f":"(NR_Arbeitsprod_Arbeitskraft!K15/NR_Arbeitsprod_Arbeitskraft!$Q15)*100","v":111.6737763404617},{"$f":"(NR_Arbeitsprod_Arbeitskraft!L15/NR_Arbeitsprod_Arbeitskraft!$Q15)*100","v":89.832165700977569},{"$f":"(NR_Arbeitsprod_Arbeitskraft!M15/NR_Arbeitsprod_Arbeitskraft!$Q15)*100","v":84.141657383956328},{"$f":"(NR_Arbeitsprod_Arbeitskraft!N15/NR_Arbeitsprod_Arbeitskraft!$Q15)*100","v":84.390797521145785},{"$f":"(NR_Arbeitsprod_Arbeitskraft!O15/NR_Arbeitsprod_Arbeitskraft!$Q15)*100","v":83.606654200399532},{"$f":"(NR_Arbeitsprod_Arbeitskraft!P15/NR_Arbeitsprod_Arbeitskraft!$Q15)*100","v":82.101743040823919},{"$f":"(NR_Arbeitsprod_Arbeitskraft!Q15/NR_Arbeitsprod_Arbeitskraft!$Q15)*100","v":100},{"$f":"(NR_Arbeitsprod_Arbeitskraft!R15/NR_Arbeitsprod_Arbeitskraft!$Q15)*100","v":99.311276289422523},{"$f":"(NR_Arbeitsprod_Arbeitskraft!S15/NR_Arbeitsprod_Arbeitskraft!$Q15)*100","v":101.66133720880856},{"$f":"(NR_Arbeitsprod_Arbeitskraft!T15/NR_Arbeitsprod_Arbeitskraft!$Q15)*100","v":98.805585033914497},{"$f":"(NR_Arbeitsprod_Arbeitskraft!U15/NR_Arbeitsprod_Arbeitskraft!$Q15)*100","v":91.635356894537907},{"$f":"(NR_Arbeitsprod_Arbeitskraft!V15/NR_Arbeitsprod_Arbeitskraft!$Q15)*100","v":87.294269437808467},{"$f":"(NR_Arbeitsprod_Arbeitskraft!W15/NR_Arbeitsprod_Arbeitskraft!$Q15)*100","v":81.485361702156609},{"$f":"(NR_Arbeitsprod_Arbeitskraft!X15/NR_Arbeitsprod_Arbeitskraft!$Q15)*100","v":82.971637576329755}]
["Niederlande",{"$f":"(NR_Arbeitsprod_Arbeitskraft!B16/NR_Arbeitsprod_Arbeitskraft!$Q16)*100","v":84.020256223569262},{"$f":"(NR_Arbeitsprod_Arbeitskraft!C16/NR_Arbeitsprod_Arbeitskraft!$Q16)*100","v":88.082409706504549},{"$f":"(NR_Arbeitsprod_Arbeitskraft!D16/NR_Arbeitsprod_Arbeitskraft!$Q16)*100","v":86.940715723929898},{"$f":"(NR_Arbeitsprod_Arbeitskraft!E16/NR_Arbeitsprod_Arbeitskraft!$Q16)*100","v":89.240238752779774},{"$f":"(NR_Arbeitsprod_Arbeitskraft!F16/NR_Arbeitsprod_Arbeitskraft!$Q16)*100","v":88.4882695868761},{"$f":"(NR_Arbeitsprod_Arbeitskraft!G16/NR_Arbeitsprod_Arbeitskraft!$Q16)*100","v":90.263418347215037},{"$f":"(NR_Arbeitsprod_Arbeitskraft!H16/NR_Arbeitsprod_Arbeitskraft!$Q16)*100","v":93.606147169106919},{"$f":"(NR_Arbeitsprod_Arbeitskraft!I16/NR_Arbeitsprod_Arbeitskraft!$Q16)*100","v":94.8776275812872},{"$f":"(NR_Arbeitsprod_Arbeitskraft!J16/NR_Arbeitsprod_Arbeitskraft!$Q16)*100","v":98.258232619125209},{"$f":"(NR_Arbeitsprod_Arbeitskraft!K16/NR_Arbeitsprod_Arbeitskraft!$Q16)*100","v":113.21704361697853},{"$f":"(NR_Arbeitsprod_Arbeitskraft!L16/NR_Arbeitsprod_Arbeitskraft!$Q16)*100","v":113.54914255235977},{"$f":"(NR_Arbeitsprod_Arbeitskraft!M16/NR_Arbeitsprod_Arbeitskraft!$Q16)*100","v":112.29508575710278},{"$f":"(NR_Arbeitsprod_Arbeitskraft!N16/NR_Arbeitsprod_Arbeitskraft!$Q16)*100","v":112.95203495664177},{"$f":"(NR_Arbeitsprod_Arbeitskraft!O16/NR_Arbeitsprod_Arbeitskraft!$Q16)*100","v":111.19402663046839},{"$f":"(NR_Arbeitsprod_Arbeitskraft!P16/NR_Arbeitsprod_Arbeitskraft!$Q16)*100","v":103.86918012350787},{"$f":"(NR_Arbeitsprod_Arbeitskraft!Q16/NR_Arbeitsprod_Arbeitskraft!$Q16)*100","v":100},{"$f":"(NR_Arbeitsprod_Arbeitskraft!R16/NR_Arbeitsprod_Arbeitskraft!$Q16)*100","v":90.681399631675859},{"$f":"(NR_Arbeitsprod_Arbeitskraft!S16/NR_Arbeitsprod_Arbeitskraft!$Q16)*100","v":78.592571276825097},{"$f":"(NR_Arbeitsprod_Arbeitskraft!T16/NR_Arbeitsprod_Arbeitskraft!$Q16)*100","v":69.506341517394674},{"$f":"(NR_Arbeitsprod_Arbeitskraft!U16/NR_Arbeitsprod_Arbeitskraft!$Q16)*100","v":68.580668281042847},{"$f":"(NR_Arbeitsprod_Arbeitskraft!V16/NR_Arbeitsprod_Arbeitskraft!$Q16)*100","v":61.490709589477575},{"$f":"(NR_Arbeitsprod_Arbeitskraft!W16/NR_Arbeitsprod_Arbeitskraft!$Q16)*100","v":61.330993460673746},{"$f":"(NR_Arbeitsprod_Arbeitskraft!X16/NR_Arbeitsprod_Arbeitskraft!$Q16)*100","v":63.028840292756492}]
["Portugal",{"$f":"(NR_Arbeitsprod_Arbeitskraft!B17/NR_Arbeitsprod_Arbeitskraft!$Q17)*100","v":73.36437713411965},{"$f":"(NR_Arbeitsprod_Arbeitskraft!C17/NR_Arbeitsprod_Arbeitskraft!$Q17)*100","v":75.962076666988082},{"$f":"(NR_Arbeitsprod_Arbeitskraft!D17/NR_Arbeitsprod_Arbeitskraft!$Q17)*100","v":77.283690865448278},{"$f":"(NR_Arbeitsprod_Arbeitskraft!E17/NR_Arbeitsprod_Arbeitskraft!$Q17)*100","v":79.914881184692561},{"$f":"(NR_Arbeitsprod_Arbeitskraft!F17/NR_Arbeitsprod_Arbeitskraft!$Q17)*100","v":83.635429752622272},{"$f":"(NR_Arbeitsprod_Arbeitskraft!G17/NR_Arbeitsprod_Arbeitskraft!$Q17)*100","v":88.239228594283574},{"$f":"(NR_Arbeitsprod_Arbeitskraft!H17/NR_Arbeitsprod_Arbeitskraft!$Q17)*100","v":86.428337013485162},{"$f":"(NR_Arbeitsprod_Arbeitskraft!I17/NR_Arbeitsprod_Arbeitskraft!$Q17)*100","v":86.819898807485629},{"$f":"(NR_Arbeitsprod_Arbeitskraft!J17/NR_Arbeitsprod_Arbeitskraft!$Q17)*100","v":85.514728492807834},{"$f":"(NR_Arbeitsprod_Arbeitskraft!K17/NR_Arbeitsprod_Arbeitskraft!$Q17)*100","v":89.468291596559553},{"$f":"(NR_Arbeitsprod_Arbeitskraft!L17/NR_Arbeitsprod_Arbeitskraft!$Q17)*100","v":90.890829103393074},{"$f":"(NR_Arbeitsprod_Arbeitskraft!M17/NR_Arbeitsprod_Arbeitskraft!$Q17)*100","v":93.36861731079766},{"$f":"(NR_Arbeitsprod_Arbeitskraft!N17/NR_Arbeitsprod_Arbeitskraft!$Q17)*100","v":100.44468558958235},{"$f":"(NR_Arbeitsprod_Arbeitskraft!O17/NR_Arbeitsprod_Arbeitskraft!$Q17)*100","v":100.93665538885929},{"$f":"(NR_Arbeitsprod_Arbeitskraft!P17/NR_Arbeitsprod_Arbeitskraft!$Q17)*100","v":96.712639396476646},{"$f":"(NR_Arbeitsprod_Arbeitskraft!Q17/NR_Arbeitsprod_Arbeitskraft!$Q17)*100","v":100},{"$f":"(NR_Arbeitsprod_Arbeitskraft!R17/NR_Arbeitsprod_Arbeitskraft!$Q17)*100","v":98.972631365412553},{"$f":"(NR_Arbeitsprod_Arbeitskraft!S17/NR_Arbeitsprod_Arbeitskraft!$Q17)*100","v":91.064063044635844},{"$f":"(NR_Arbeitsprod_Arbeitskraft!T17/NR_Arbeitsprod_Arbeitskraft!$Q17)*100","v":91.56702975215515},{"$f":"(NR_Arbeitsprod_Arbeitskraft!U17/NR_Arbeitsprod_Arbeitskraft!$Q17)*100","v":92.885115446256648},{"$f":"(NR_Arbeitsprod_Arbeitskraft!V17/NR_Arbeitsprod_Arbeitskraft!$Q17)*100","v":91.559070760281699},{"$f":"(NR_Arbeitsprod_Arbeitskraft!W17/NR_Arbeitsprod_Arbeitskraft!$Q17)*100","v":83.653881400223639},{"$f":"(NR_Arbeitsprod_Arbeitskraft!X17/NR_Arbeitsprod_Arbeitskraft!$Q17)*100","v":86.136980280918678}]
["Rumänien",{"$f":"(NR_Arbeitsprod_Arbeitskraft!B18/NR_Arbeitsprod_Arbeitskraft!$Q18)*100","v":103.57735043145451},{"$f":"(NR_Arbeitsprod_Arbeitskraft!C18/NR_Arbeitsprod_Arbeitskraft!$Q18)*100","v":133.13907437060607},{"$f":"(NR_Arbeitsprod_Arbeitskraft!D18/NR_Arbeitsprod_Arbeitskraft!$Q18)*100","v":138.89077139165454},{"$f":"(NR_Arbeitsprod_Arbeitskraft!E18/NR_Arbeitsprod_Arbeitskraft!$Q18)*100","v":138.28076725068888},{"$f":"(NR_Arbeitsprod_Arbeitskraft!F18/NR_Arbeitsprod_Arbeitskraft!$Q18)*100","v":142.34686377274531},{"$f":"(NR_Arbeitsprod_Arbeitskraft!G18/NR_Arbeitsprod_Arbeitskraft!$Q18)*100","v":136.04310782825911},{"$f":"(NR_Arbeitsprod_Arbeitskraft!H18/NR_Arbeitsprod_Arbeitskraft!$Q18)*100","v":145.20657845138973},{"$f":"(NR_Arbeitsprod_Arbeitskraft!I18/NR_Arbeitsprod_Arbeitskraft!$Q18)*100","v":143.73764081660875},{"$f":"(NR_Arbeitsprod_Arbeitskraft!J18/NR_Arbeitsprod_Arbeitskraft!$Q18)*100","v":141.94401338497306},{"$f":"(NR_Arbeitsprod_Arbeitskraft!K18/NR_Arbeitsprod_Arbeitskraft!$Q18)*100","v":144.42500997817652},{"$f":"(NR_Arbeitsprod_Arbeitskraft!L18/NR_Arbeitsprod_Arbeitskraft!$Q18)*100","v":155.55629265857235},{"$f":"(NR_Arbeitsprod_Arbeitskraft!M18/NR_Arbeitsprod_Arbeitskraft!$Q18)*100","v":152.90683716892536},{"$f":"(NR_Arbeitsprod_Arbeitskraft!N18/NR_Arbeitsprod_Arbeitskraft!$Q18)*100","v":144.48303260738854},{"$f":"(NR_Arbeitsprod_Arbeitskraft!O18/NR_Arbeitsprod_Arbeitskraft!$Q18)*100","v":179.2997175713819},{"$f":"(NR_Arbeitsprod_Arbeitskraft!P18/NR_Arbeitsprod_Arbeitskraft!$Q18)*100","v":150.24443244397563},{"$f":"(NR_Arbeitsprod_Arbeitskraft!Q18/NR_Arbeitsprod_Arbeitskraft!$Q18)*100","v":100},{"$f":"(NR_Arbeitsprod_Arbeitskraft!R18/NR_Arbeitsprod_Arbeitskraft!$Q18)*100","v":104.12898430957121},{"$f":"(NR_Arbeitsprod_Arbeitskraft!S18/NR_Arbeitsprod_Arbeitskraft!$Q18)*100","v":103.66987761104474},{"$f":"(NR_Arbeitsprod_Arbeitskraft!T18/NR_Arbeitsprod_Arbeitskraft!$Q18)*100","v":106.44587555981629},{"$f":"(NR_Arbeitsprod_Arbeitskraft!U18/NR_Arbeitsprod_Arbeitskraft!$Q18)*100","v":129.26944934538773},{"$f":"(NR_Arbeitsprod_Arbeitskraft!V18/NR_Arbeitsprod_Arbeitskraft!$Q18)*100","v":105.85684836600701},{"$f":"(NR_Arbeitsprod_Arbeitskraft!W18/NR_Arbeitsprod_Arbeitskraft!$Q18)*100","v":155.55080151439634},{"$f":"(NR_Arbeitsprod_Arbeitskraft!X18/NR_Arbeitsprod_Arbeitskraft!$Q18)*100","v":125.24577238312811}]
["Slowenien",{"$f":"(NR_Arbeitsprod_Arbeitskraft!B19/NR_Arbeitsprod_Arbeitskraft!$Q19)*100","v":107.7738250176601},{"$f":"(NR_Arbeitsprod_Arbeitskraft!C19/NR_Arbeitsprod_Arbeitskraft!$Q19)*100","v":109.53421999808199},{"$f":"(NR_Arbeitsprod_Arbeitskraft!D19/NR_Arbeitsprod_Arbeitskraft!$Q19)*100","v":114.134116959729},{"$f":"(NR_Arbeitsprod_Arbeitskraft!E19/NR_Arbeitsprod_Arbeitskraft!$Q19)*100","v":109.42961687562163},{"$f":"(NR_Arbeitsprod_Arbeitskraft!F19/NR_Arbeitsprod_Arbeitskraft!$Q19)*100","v":111.61317586689337},{"$f":"(NR_Arbeitsprod_Arbeitskraft!G19/NR_Arbeitsprod_Arbeitskraft!$Q19)*100","v":113.64947643963517},{"$f":"(NR_Arbeitsprod_Arbeitskraft!H19/NR_Arbeitsprod_Arbeitskraft!$Q19)*100","v":98.297914986687644},{"$f":"(NR_Arbeitsprod_Arbeitskraft!I19/NR_Arbeitsprod_Arbeitskraft!$Q19)*100","v":101.52396464475193},{"$f":"(NR_Arbeitsprod_Arbeitskraft!J19/NR_Arbeitsprod_Arbeitskraft!$Q19)*100","v":101.73884737362036},{"$f":"(NR_Arbeitsprod_Arbeitskraft!K19/NR_Arbeitsprod_Arbeitskraft!$Q19)*100","v":96.711792152031677},{"$f":"(NR_Arbeitsprod_Arbeitskraft!L19/NR_Arbeitsprod_Arbeitskraft!$Q19)*100","v":92.720395698925344},{"$f":"(NR_Arbeitsprod_Arbeitskraft!M19/NR_Arbeitsprod_Arbeitskraft!$Q19)*100","v":98.808816436064888},{"$f":"(NR_Arbeitsprod_Arbeitskraft!N19/NR_Arbeitsprod_Arbeitskraft!$Q19)*100","v":98.134579101992458},{"$f":"(NR_Arbeitsprod_Arbeitskraft!O19/NR_Arbeitsprod_Arbeitskraft!$Q19)*100","v":102.68270457713446},{"$f":"(NR_Arbeitsprod_Arbeitskraft!P19/NR_Arbeitsprod_Arbeitskraft!$Q19)*100","v":99.774825202871028},{"$f":"(NR_Arbeitsprod_Arbeitskraft!Q19/NR_Arbeitsprod_Arbeitskraft!$Q19)*100","v":100},{"$f":"(NR_Arbeitsprod_Arbeitskraft!R19/NR_Arbeitsprod_Arbeitskraft!$Q19)*100","v":104.52942119608785},{"$f":"(NR_Arbeitsprod_Arbeitskraft!S19/NR_Arbeitsprod_Arbeitskraft!$Q19)*100","v":99.283204879519587},{"$f":"(NR_Arbeitsprod_Arbeitskraft!T19/NR_Arbeitsprod_Arbeitskraft!$Q19)*100","v":93.018999391105865},{"$f":"(NR_Arbeitsprod_Arbeitskraft!U19/NR_Arbeitsprod_Arbeitskraft!$Q19)*100","v":95.940988626642635},{"$f":"(NR_Arbeitsprod_Arbeitskraft!V19/NR_Arbeitsprod_Arbeitskraft!$Q19)*100","v":92.825044946338167},{"$f":"(NR_Arbeitsprod_Arbeitskraft!W19/NR_Arbeitsprod_Arbeitskraft!$Q19)*100","v":93.411426921702301},{"$f":"(NR_Arbeitsprod_Arbeitskraft!X19/NR_Arbeitsprod_Arbeitskraft!$Q19)*100","v":87.857652783983369}]
["Slowakei",{"$f":"(NR_Arbeitsprod_Arbeitskraft!B20/NR_Arbeitsprod_Arbeitskraft!$Q20)*100","v":80.918528053024119},{"$f":"(NR_Arbeitsprod_Arbeitskraft!C20/NR_Arbeitsprod_Arbeitskraft!$Q20)*100","v":97.737228399212484},{"$f":"(NR_Arbeitsprod_Arbeitskraft!D20/NR_Arbeitsprod_Arbeitskraft!$Q20)*100","v":111.66434393821866},{"$f":"(NR_Arbeitsprod_Arbeitskraft!E20/NR_Arbeitsprod_Arbeitskraft!$Q20)*100","v":120.53125417660857},{"$f":"(NR_Arbeitsprod_Arbeitskraft!F20/NR_Arbeitsprod_Arbeitskraft!$Q20)*100","v":130.46569987125386},{"$f":"(NR_Arbeitsprod_Arbeitskraft!G20/NR_Arbeitsprod_Arbeitskraft!$Q20)*100","v":101.54307495495966},{"$f":"(NR_Arbeitsprod_Arbeitskraft!H20/NR_Arbeitsprod_Arbeitskraft!$Q20)*100","v":101.76276660997756},{"$f":"(NR_Arbeitsprod_Arbeitskraft!I20/NR_Arbeitsprod_Arbeitskraft!$Q20)*100","v":94.129750184810774},{"$f":"(NR_Arbeitsprod_Arbeitskraft!J20/NR_Arbeitsprod_Arbeitskraft!$Q20)*100","v":102.9165953923858},{"$f":"(NR_Arbeitsprod_Arbeitskraft!K20/NR_Arbeitsprod_Arbeitskraft!$Q20)*100","v":91.517542633124791},{"$f":"(NR_Arbeitsprod_Arbeitskraft!L20/NR_Arbeitsprod_Arbeitskraft!$Q20)*100","v":129.42468753371125},{"$f":"(NR_Arbeitsprod_Arbeitskraft!M20/NR_Arbeitsprod_Arbeitskraft!$Q20)*100","v":132.36730477681664},{"$f":"(NR_Arbeitsprod_Arbeitskraft!N20/NR_Arbeitsprod_Arbeitskraft!$Q20)*100","v":136.45879211816862},{"$f":"(NR_Arbeitsprod_Arbeitskraft!O20/NR_Arbeitsprod_Arbeitskraft!$Q20)*100","v":121.58852662352247},{"$f":"(NR_Arbeitsprod_Arbeitskraft!P20/NR_Arbeitsprod_Arbeitskraft!$Q20)*100","v":105.58972813109469},{"$f":"(NR_Arbeitsprod_Arbeitskraft!Q20/NR_Arbeitsprod_Arbeitskraft!$Q20)*100","v":100},{"$f":"(NR_Arbeitsprod_Arbeitskraft!R20/NR_Arbeitsprod_Arbeitskraft!$Q20)*100","v":99.008731509788731},{"$f":"(NR_Arbeitsprod_Arbeitskraft!S20/NR_Arbeitsprod_Arbeitskraft!$Q20)*100","v":104.32209902764966},{"$f":"(NR_Arbeitsprod_Arbeitskraft!T20/NR_Arbeitsprod_Arbeitskraft!$Q20)*100","v":102.13530111731983},{"$f":"(NR_Arbeitsprod_Arbeitskraft!U20/NR_Arbeitsprod_Arbeitskraft!$Q20)*100","v":106.52264598648351},{"$f":"(NR_Arbeitsprod_Arbeitskraft!V20/NR_Arbeitsprod_Arbeitskraft!$Q20)*100","v":111.3705638193621},{"$f":"(NR_Arbeitsprod_Arbeitskraft!W20/NR_Arbeitsprod_Arbeitskraft!$Q20)*100","v":116.91724571278124},{"$f":"(NR_Arbeitsprod_Arbeitskraft!X20/NR_Arbeitsprod_Arbeitskraft!$Q20)*100","v":123.30291141261797}]
["Großbritannien",{"$f":"(NR_Arbeitsprod_Arbeitskraft!B21/NR_Arbeitsprod_Arbeitskraft!$Q21)*100","v":72.698969486674244},{"$f":"(NR_Arbeitsprod_Arbeitskraft!C21/NR_Arbeitsprod_Arbeitskraft!$Q21)*100","v":74.44166829199456},{"$f":"(NR_Arbeitsprod_Arbeitskraft!D21/NR_Arbeitsprod_Arbeitskraft!$Q21)*100","v":80.984493638053962},{"$f":"(NR_Arbeitsprod_Arbeitskraft!E21/NR_Arbeitsprod_Arbeitskraft!$Q21)*100","v":84.07067583126522},{"$f":"(NR_Arbeitsprod_Arbeitskraft!F21/NR_Arbeitsprod_Arbeitskraft!$Q21)*100","v":84.155409542675585},{"$f":"(NR_Arbeitsprod_Arbeitskraft!G21/NR_Arbeitsprod_Arbeitskraft!$Q21)*100","v":94.549923873409128},{"$f":"(NR_Arbeitsprod_Arbeitskraft!H21/NR_Arbeitsprod_Arbeitskraft!$Q21)*100","v":96.975753061873903},{"$f":"(NR_Arbeitsprod_Arbeitskraft!I21/NR_Arbeitsprod_Arbeitskraft!$Q21)*100","v":99.159142398546294},{"$f":"(NR_Arbeitsprod_Arbeitskraft!J21/NR_Arbeitsprod_Arbeitskraft!$Q21)*100","v":120.89022053089195},{"$f":"(NR_Arbeitsprod_Arbeitskraft!K21/NR_Arbeitsprod_Arbeitskraft!$Q21)*100","v":139.3375595104215},{"$f":"(NR_Arbeitsprod_Arbeitskraft!L21/NR_Arbeitsprod_Arbeitskraft!$Q21)*100","v":140.08502763986289},{"$f":"(NR_Arbeitsprod_Arbeitskraft!M21/NR_Arbeitsprod_Arbeitskraft!$Q21)*100","v":130.30718365245559},{"$f":"(NR_Arbeitsprod_Arbeitskraft!N21/NR_Arbeitsprod_Arbeitskraft!$Q21)*100","v":123.58974155594173},{"$f":"(NR_Arbeitsprod_Arbeitskraft!O21/NR_Arbeitsprod_Arbeitskraft!$Q21)*100","v":107.27907271843287},{"$f":"(NR_Arbeitsprod_Arbeitskraft!P21/NR_Arbeitsprod_Arbeitskraft!$Q21)*100","v":87.468382896301918},{"$f":"(NR_Arbeitsprod_Arbeitskraft!Q21/NR_Arbeitsprod_Arbeitskraft!$Q21)*100","v":100},{"$f":"(NR_Arbeitsprod_Arbeitskraft!R21/NR_Arbeitsprod_Arbeitskraft!$Q21)*100","v":104.76622575098082},{"$f":"(NR_Arbeitsprod_Arbeitskraft!S21/NR_Arbeitsprod_Arbeitskraft!$Q21)*100","v":112.19777419096577},{"$f":"(NR_Arbeitsprod_Arbeitskraft!T21/NR_Arbeitsprod_Arbeitskraft!$Q21)*100","v":110.83293449676985},{"$f":"(NR_Arbeitsprod_Arbeitskraft!U21/NR_Arbeitsprod_Arbeitskraft!$Q21)*100","v":117.54462049201912},{"$f":"(NR_Arbeitsprod_Arbeitskraft!V21/NR_Arbeitsprod_Arbeitskraft!$Q21)*100","v":109.69730848683228},{"$f":"(NR_Arbeitsprod_Arbeitskraft!W21/NR_Arbeitsprod_Arbeitskraft!$Q21)*100","v":109.34673156088502}]
[]
["BWS (preisbereinigt)/Angestellte"]
[null,1995,{"$f":"B24+1","v":1996},{"$f":"C24+1","v":1997},1998,1999,2000,2001,2002,2003,2004,2005,2006,2007,2008,2009,2010,2011,2012,2013,2014,2015,2016,2017]
["Österreich",{"$f":"(NR_Arbeitsprod_Arbeitskraft!B25/NR_Arbeitsprod_Arbeitskraft!$Q25)*100","v":35.755129607165642},{"$f":"(NR_Arbeitsprod_Arbeitskraft!C25/NR_Arbeitsprod_Arbeitskraft!$Q25)*100","v":43.028493549027758},{"$f":"(NR_Arbeitsprod_Arbeitskraft!D25/NR_Arbeitsprod_Arbeitskraft!$Q25)*100","v":41.456830505987227},{"$f":"(NR_Arbeitsprod_Arbeitskraft!E25/NR_Arbeitsprod_Arbeitskraft!$Q25)*100","v":46.86697625802546},{"$f":"(NR_Arbeitsprod_Arbeitskraft!F25/NR_Arbeitsprod_Arbeitskraft!$Q25)*100","v":52.113071433470246},{"$f":"(NR_Arbeitsprod_Arbeitskraft!G25/NR_Arbeitsprod_Arbeitskraft!$Q25)*100","v":52.332426113174002},{"$f":"(NR_Arbeitsprod_Arbeitskraft!H25/NR_Arbeitsprod_Arbeitskraft!$Q25)*100","v":52.882889294794012},{"$f":"(NR_Arbeitsprod_Arbeitskraft!I25/NR_Arbeitsprod_Arbeitskraft!$Q25)*100","v":53.813406102580608},{"$f":"(NR_Arbeitsprod_Arbeitskraft!J25/NR_Arbeitsprod_Arbeitskraft!$Q25)*100","v":58.458403161397754},{"$f":"(NR_Arbeitsprod_Arbeitskraft!K25/NR_Arbeitsprod_Arbeitskraft!$Q25)*100","v":62.039554290102451},{"$f":"(NR_Arbeitsprod_Arbeitskraft!L25/NR_Arbeitsprod_Arbeitskraft!$Q25)*100","v":77.214360279205081},{"$f":"(NR_Arbeitsprod_Arbeitskraft!M25/NR_Arbeitsprod_Arbeitskraft!$Q25)*100","v":85.750005645264949},{"$f":"(NR_Arbeitsprod_Arbeitskraft!N25/NR_Arbeitsprod_Arbeitskraft!$Q25)*100","v":91.643031045446449},{"$f":"(NR_Arbeitsprod_Arbeitskraft!O25/NR_Arbeitsprod_Arbeitskraft!$Q25)*100","v":94.967013474873056},{"$f":"(NR_Arbeitsprod_Arbeitskraft!P25/NR_Arbeitsprod_Arbeitskraft!$Q25)*100","v":97.247351613141959},{"$f":"(NR_Arbeitsprod_Arbeitskraft!Q25/NR_Arbeitsprod_Arbeitskraft!$Q25)*100","v":100},{"$f":"(NR_Arbeitsprod_Arbeitskraft!R25/NR_Arbeitsprod_Arbeitskraft!$Q25)*100","v":98.345819405811426},{"$f":"(NR_Arbeitsprod_Arbeitskraft!S25/NR_Arbeitsprod_Arbeitskraft!$Q25)*100","v":98.296364546379039},{"$f":"(NR_Arbeitsprod_Arbeitskraft!T25/NR_Arbeitsprod_Arbeitskraft!$Q25)*100","v":101.29855314683964},{"$f":"(NR_Arbeitsprod_Arbeitskraft!U25/NR_Arbeitsprod_Arbeitskraft!$Q25)*100","v":103.48450660177942},{"$f":"(NR_Arbeitsprod_Arbeitskraft!V25/NR_Arbeitsprod_Arbeitskraft!$Q25)*100","v":96.780592992680852},{"$f":"(NR_Arbeitsprod_Arbeitskraft!W25/NR_Arbeitsprod_Arbeitskraft!$Q25)*100","v":97.117255198433142},{"$f":"(NR_Arbeitsprod_Arbeitskraft!X25/NR_Arbeitsprod_Arbeitskraft!$Q25)*100","v":99.865616616448719}]
["Belgien",{"$f":"(NR_Arbeitsprod_Arbeitskraft!B26/NR_Arbeitsprod_Arbeitskraft!$Q26)*100","v":91.547361512672907},{"$f":"(NR_Arbeitsprod_Arbeitskraft!C26/NR_Arbeitsprod_Arbeitskraft!$Q26)*100","v":93.560165404802603},{"$f":"(NR_Arbeitsprod_Arbeitskraft!D26/NR_Arbeitsprod_Arbeitskraft!$Q26)*100","v":93.088930113030372},{"$f":"(NR_Arbeitsprod_Arbeitskraft!E26/NR_Arbeitsprod_Arbeitskraft!$Q26)*100","v":96.177152186001109},{"$f":"(NR_Arbeitsprod_Arbeitskraft!F26/NR_Arbeitsprod_Arbeitskraft!$Q26)*100","v":96.439785548624968},{"$f":"(NR_Arbeitsprod_Arbeitskraft!G26/NR_Arbeitsprod_Arbeitskraft!$Q26)*100","v":99.436876393542491},{"$f":"(NR_Arbeitsprod_Arbeitskraft!H26/NR_Arbeitsprod_Arbeitskraft!$Q26)*100","v":88.661085400203376},{"$f":"(NR_Arbeitsprod_Arbeitskraft!I26/NR_Arbeitsprod_Arbeitskraft!$Q26)*100","v":84.603899726489729},{"$f":"(NR_Arbeitsprod_Arbeitskraft!J26/NR_Arbeitsprod_Arbeitskraft!$Q26)*100","v":86.693736179452713},{"$f":"(NR_Arbeitsprod_Arbeitskraft!K26/NR_Arbeitsprod_Arbeitskraft!$Q26)*100","v":87.9506441462852},{"$f":"(NR_Arbeitsprod_Arbeitskraft!L26/NR_Arbeitsprod_Arbeitskraft!$Q26)*100","v":88.786244454150605},{"$f":"(NR_Arbeitsprod_Arbeitskraft!M26/NR_Arbeitsprod_Arbeitskraft!$Q26)*100","v":91.05794730864838},{"$f":"(NR_Arbeitsprod_Arbeitskraft!N26/NR_Arbeitsprod_Arbeitskraft!$Q26)*100","v":96.210362198312566},{"$f":"(NR_Arbeitsprod_Arbeitskraft!O26/NR_Arbeitsprod_Arbeitskraft!$Q26)*100","v":102.06526829117237},{"$f":"(NR_Arbeitsprod_Arbeitskraft!P26/NR_Arbeitsprod_Arbeitskraft!$Q26)*100","v":98.701564687832857},{"$f":"(NR_Arbeitsprod_Arbeitskraft!Q26/NR_Arbeitsprod_Arbeitskraft!$Q26)*100","v":100},{"$f":"(NR_Arbeitsprod_Arbeitskraft!R26/NR_Arbeitsprod_Arbeitskraft!$Q26)*100","v":104.26762697610714},{"$f":"(NR_Arbeitsprod_Arbeitskraft!S26/NR_Arbeitsprod_Arbeitskraft!$Q26)*100","v":101.96538878816102},{"$f":"(NR_Arbeitsprod_Arbeitskraft!T26/NR_Arbeitsprod_Arbeitskraft!$Q26)*100","v":103.58218098735352},{"$f":"(NR_Arbeitsprod_Arbeitskraft!U26/NR_Arbeitsprod_Arbeitskraft!$Q26)*100","v":101.07156097177447},{"$f":"(NR_Arbeitsprod_Arbeitskraft!V26/NR_Arbeitsprod_Arbeitskraft!$Q26)*100","v":99.814603885583296},{"$f":"(NR_Arbeitsprod_Arbeitskraft!W26/NR_Arbeitsprod_Arbeitskraft!$Q26)*100","v":95.800937677498027}]
["Tschechien",{"$f":"(NR_Arbeitsprod_Arbeitskraft!B27/NR_Arbeitsprod_Arbeitskraft!$Q27)*100","v":63.214166548233486},{"$f":"(NR_Arbeitsprod_Arbeitskraft!C27/NR_Arbeitsprod_Arbeitskraft!$Q27)*100","v":66.683323387309088},{"$f":"(NR_Arbeitsprod_Arbeitskraft!D27/NR_Arbeitsprod_Arbeitskraft!$Q27)*100","v":58.421179918928893},{"$f":"(NR_Arbeitsprod_Arbeitskraft!E27/NR_Arbeitsprod_Arbeitskraft!$Q27)*100","v":65.004462406549791},{"$f":"(NR_Arbeitsprod_Arbeitskraft!F27/NR_Arbeitsprod_Arbeitskraft!$Q27)*100","v":61.723417396306516},{"$f":"(NR_Arbeitsprod_Arbeitskraft!G27/NR_Arbeitsprod_Arbeitskraft!$Q27)*100","v":67.990003780628655},{"$f":"(NR_Arbeitsprod_Arbeitskraft!H27/NR_Arbeitsprod_Arbeitskraft!$Q27)*100","v":74.952572467354045},{"$f":"(NR_Arbeitsprod_Arbeitskraft!I27/NR_Arbeitsprod_Arbeitskraft!$Q27)*100","v":76.82920912217898},{"$f":"(NR_Arbeitsprod_Arbeitskraft!J27/NR_Arbeitsprod_Arbeitskraft!$Q27)*100","v":93.823447905845654},{"$f":"(NR_Arbeitsprod_Arbeitskraft!K27/NR_Arbeitsprod_Arbeitskraft!$Q27)*100","v":93.277170643324155},{"$f":"(NR_Arbeitsprod_Arbeitskraft!L27/NR_Arbeitsprod_Arbeitskraft!$Q27)*100","v":93.487809610822808},{"$f":"(NR_Arbeitsprod_Arbeitskraft!M27/NR_Arbeitsprod_Arbeitskraft!$Q27)*100","v":104.15276487817917},{"$f":"(NR_Arbeitsprod_Arbeitskraft!N27/NR_Arbeitsprod_Arbeitskraft!$Q27)*100","v":111.96615506587702},{"$f":"(NR_Arbeitsprod_Arbeitskraft!O27/NR_Arbeitsprod_Arbeitskraft!$Q27)*100","v":102.17431521633276},{"$f":"(NR_Arbeitsprod_Arbeitskraft!P27/NR_Arbeitsprod_Arbeitskraft!$Q27)*100","v":104.94660989129039},{"$f":"(NR_Arbeitsprod_Arbeitskraft!Q27/NR_Arbeitsprod_Arbeitskraft!$Q27)*100","v":100},{"$f":"(NR_Arbeitsprod_Arbeitskraft!R27/NR_Arbeitsprod_Arbeitskraft!$Q27)*100","v":102.8765947457467},{"$f":"(NR_Arbeitsprod_Arbeitskraft!S27/NR_Arbeitsprod_Arbeitskraft!$Q27)*100","v":104.28423693653998},{"$f":"(NR_Arbeitsprod_Arbeitskraft!T27/NR_Arbeitsprod_Arbeitskraft!$Q27)*100","v":98.226083661658762},{"$f":"(NR_Arbeitsprod_Arbeitskraft!U27/NR_Arbeitsprod_Arbeitskraft!$Q27)*100","v":93.471189358758551},{"$f":"(NR_Arbeitsprod_Arbeitskraft!V27/NR_Arbeitsprod_Arbeitskraft!$Q27)*100","v":91.496525935519898},{"$f":"(NR_Arbeitsprod_Arbeitskraft!W27/NR_Arbeitsprod_Arbeitskraft!$Q27)*100","v":87.027397437902593},{"$f":"(NR_Arbeitsprod_Arbeitskraft!X27/NR_Arbeitsprod_Arbeitskraft!$Q27)*100","v":82.657842445922824}]
["Dänemark",{"$f":"(NR_Arbeitsprod_Arbeitskraft!B28/NR_Arbeitsprod_Arbeitskraft!$Q28)*100","v":168.62836952523773},{"$f":"(NR_Arbeitsprod_Arbeitskraft!C28/NR_Arbeitsprod_Arbeitskraft!$Q28)*100","v":173.06208740309759},{"$f":"(NR_Arbeitsprod_Arbeitskraft!D28/NR_Arbeitsprod_Arbeitskraft!$Q28)*100","v":170.42136502396181},{"$f":"(NR_Arbeitsprod_Arbeitskraft!E28/NR_Arbeitsprod_Arbeitskraft!$Q28)*100","v":162.14838091515333},{"$f":"(NR_Arbeitsprod_Arbeitskraft!F28/NR_Arbeitsprod_Arbeitskraft!$Q28)*100","v":150.49863901523935},{"$f":"(NR_Arbeitsprod_Arbeitskraft!G28/NR_Arbeitsprod_Arbeitskraft!$Q28)*100","v":131.45072616236831},{"$f":"(NR_Arbeitsprod_Arbeitskraft!H28/NR_Arbeitsprod_Arbeitskraft!$Q28)*100","v":167.69268219461881},{"$f":"(NR_Arbeitsprod_Arbeitskraft!I28/NR_Arbeitsprod_Arbeitskraft!$Q28)*100","v":162.38214018584378},{"$f":"(NR_Arbeitsprod_Arbeitskraft!J28/NR_Arbeitsprod_Arbeitskraft!$Q28)*100","v":156.6497333720007},{"$f":"(NR_Arbeitsprod_Arbeitskraft!K28/NR_Arbeitsprod_Arbeitskraft!$Q28)*100","v":155.87517694943836},{"$f":"(NR_Arbeitsprod_Arbeitskraft!L28/NR_Arbeitsprod_Arbeitskraft!$Q28)*100","v":150.50995336862121},{"$f":"(NR_Arbeitsprod_Arbeitskraft!M28/NR_Arbeitsprod_Arbeitskraft!$Q28)*100","v":128.99338072112482},{"$f":"(NR_Arbeitsprod_Arbeitskraft!N28/NR_Arbeitsprod_Arbeitskraft!$Q28)*100","v":127.14334054865392},{"$f":"(NR_Arbeitsprod_Arbeitskraft!O28/NR_Arbeitsprod_Arbeitskraft!$Q28)*100","v":110.66431116048835},{"$f":"(NR_Arbeitsprod_Arbeitskraft!P28/NR_Arbeitsprod_Arbeitskraft!$Q28)*100","v":108.54157603569543},{"$f":"(NR_Arbeitsprod_Arbeitskraft!Q28/NR_Arbeitsprod_Arbeitskraft!$Q28)*100","v":100},{"$f":"(NR_Arbeitsprod_Arbeitskraft!R28/NR_Arbeitsprod_Arbeitskraft!$Q28)*100","v":78.724129442729733},{"$f":"(NR_Arbeitsprod_Arbeitskraft!S28/NR_Arbeitsprod_Arbeitskraft!$Q28)*100","v":75.024873003865125},{"$f":"(NR_Arbeitsprod_Arbeitskraft!T28/NR_Arbeitsprod_Arbeitskraft!$Q28)*100","v":75.522654990809116},{"$f":"(NR_Arbeitsprod_Arbeitskraft!U28/NR_Arbeitsprod_Arbeitskraft!$Q28)*100","v":76.165582612775097},{"$f":"(NR_Arbeitsprod_Arbeitskraft!V28/NR_Arbeitsprod_Arbeitskraft!$Q28)*100","v":69.422028757681502},{"$f":"(NR_Arbeitsprod_Arbeitskraft!W28/NR_Arbeitsprod_Arbeitskraft!$Q28)*100","v":63.652513418330322},{"$f":"(NR_Arbeitsprod_Arbeitskraft!X28/NR_Arbeitsprod_Arbeitskraft!$Q28)*100","v":74.330049283695004}]
["Estland",{"$f":"(NR_Arbeitsprod_Arbeitskraft!B29/NR_Arbeitsprod_Arbeitskraft!$Q29)*100","v":29.387042215404318},{"$f":"(NR_Arbeitsprod_Arbeitskraft!C29/NR_Arbeitsprod_Arbeitskraft!$Q29)*100","v":33.731492662252819},{"$f":"(NR_Arbeitsprod_Arbeitskraft!D29/NR_Arbeitsprod_Arbeitskraft!$Q29)*100","v":37.536196375982406},{"$f":"(NR_Arbeitsprod_Arbeitskraft!E29/NR_Arbeitsprod_Arbeitskraft!$Q29)*100","v":45.760054148457016},{"$f":"(NR_Arbeitsprod_Arbeitskraft!F29/NR_Arbeitsprod_Arbeitskraft!$Q29)*100","v":44.515043664812858},{"$f":"(NR_Arbeitsprod_Arbeitskraft!G29/NR_Arbeitsprod_Arbeitskraft!$Q29)*100","v":49.23327475542559},{"$f":"(NR_Arbeitsprod_Arbeitskraft!H29/NR_Arbeitsprod_Arbeitskraft!$Q29)*100","v":60.136368947674569},{"$f":"(NR_Arbeitsprod_Arbeitskraft!I29/NR_Arbeitsprod_Arbeitskraft!$Q29)*100","v":70.425500624473642},{"$f":"(NR_Arbeitsprod_Arbeitskraft!J29/NR_Arbeitsprod_Arbeitskraft!$Q29)*100","v":73.522114192939583},{"$f":"(NR_Arbeitsprod_Arbeitskraft!K29/NR_Arbeitsprod_Arbeitskraft!$Q29)*100","v":95.047508129937015},{"$f":"(NR_Arbeitsprod_Arbeitskraft!L29/NR_Arbeitsprod_Arbeitskraft!$Q29)*100","v":121.23116721547866},{"$f":"(NR_Arbeitsprod_Arbeitskraft!M29/NR_Arbeitsprod_Arbeitskraft!$Q29)*100","v":113.36592563515737},{"$f":"(NR_Arbeitsprod_Arbeitskraft!N29/NR_Arbeitsprod_Arbeitskraft!$Q29)*100","v":128.93663045581673},{"$f":"(NR_Arbeitsprod_Arbeitskraft!O29/NR_Arbeitsprod_Arbeitskraft!$Q29)*100","v":122.63049008043458},{"$f":"(NR_Arbeitsprod_Arbeitskraft!P29/NR_Arbeitsprod_Arbeitskraft!$Q29)*100","v":106.30526562581582},{"$f":"(NR_Arbeitsprod_Arbeitskraft!Q29/NR_Arbeitsprod_Arbeitskraft!$Q29)*100","v":100},{"$f":"(NR_Arbeitsprod_Arbeitskraft!R29/NR_Arbeitsprod_Arbeitskraft!$Q29)*100","v":94.058070633160042},{"$f":"(NR_Arbeitsprod_Arbeitskraft!S29/NR_Arbeitsprod_Arbeitskraft!$Q29)*100","v":89.586509699915126},{"$f":"(NR_Arbeitsprod_Arbeitskraft!T29/NR_Arbeitsprod_Arbeitskraft!$Q29)*100","v":102.43327878726933},{"$f":"(NR_Arbeitsprod_Arbeitskraft!U29/NR_Arbeitsprod_Arbeitskraft!$Q29)*100","v":90.621059774005388},{"$f":"(NR_Arbeitsprod_Arbeitskraft!V29/NR_Arbeitsprod_Arbeitskraft!$Q29)*100","v":83.096361981280779},{"$f":"(NR_Arbeitsprod_Arbeitskraft!W29/NR_Arbeitsprod_Arbeitskraft!$Q29)*100","v":80.980641261718105},{"$f":"(NR_Arbeitsprod_Arbeitskraft!X29/NR_Arbeitsprod_Arbeitskraft!$Q29)*100","v":88.140603741495283}]
["Frankreich",{"$f":"(NR_Arbeitsprod_Arbeitskraft!B30/NR_Arbeitsprod_Arbeitskraft!$Q30)*100","v":101.22783329004339},{"$f":"(NR_Arbeitsprod_Arbeitskraft!C30/NR_Arbeitsprod_Arbeitskraft!$Q30)*100","v":104.62950212023263},{"$f":"(NR_Arbeitsprod_Arbeitskraft!D30/NR_Arbeitsprod_Arbeitskraft!$Q30)*100","v":104.2877356513205},{"$f":"(NR_Arbeitsprod_Arbeitskraft!E30/NR_Arbeitsprod_Arbeitskraft!$Q30)*100","v":108.36276236142967},{"$f":"(NR_Arbeitsprod_Arbeitskraft!F30/NR_Arbeitsprod_Arbeitskraft!$Q30)*100","v":115.07585926281685},{"$f":"(NR_Arbeitsprod_Arbeitskraft!G30/NR_Arbeitsprod_Arbeitskraft!$Q30)*100","v":105.83954024521331},{"$f":"(NR_Arbeitsprod_Arbeitskraft!H30/NR_Arbeitsprod_Arbeitskraft!$Q30)*100","v":101.50818243205812},{"$f":"(NR_Arbeitsprod_Arbeitskraft!I30/NR_Arbeitsprod_Arbeitskraft!$Q30)*100","v":99.238800662688149},{"$f":"(NR_Arbeitsprod_Arbeitskraft!J30/NR_Arbeitsprod_Arbeitskraft!$Q30)*100","v":96.593152325773886},{"$f":"(NR_Arbeitsprod_Arbeitskraft!K30/NR_Arbeitsprod_Arbeitskraft!$Q30)*100","v":99.624273612833434},{"$f":"(NR_Arbeitsprod_Arbeitskraft!L30/NR_Arbeitsprod_Arbeitskraft!$Q30)*100","v":100.97595601582326},{"$f":"(NR_Arbeitsprod_Arbeitskraft!M30/NR_Arbeitsprod_Arbeitskraft!$Q30)*100","v":97.963549031356649},{"$f":"(NR_Arbeitsprod_Arbeitskraft!N30/NR_Arbeitsprod_Arbeitskraft!$Q30)*100","v":101.86501888725546},{"$f":"(NR_Arbeitsprod_Arbeitskraft!O30/NR_Arbeitsprod_Arbeitskraft!$Q30)*100","v":102.91246658455837},{"$f":"(NR_Arbeitsprod_Arbeitskraft!P30/NR_Arbeitsprod_Arbeitskraft!$Q30)*100","v":104.48681753029578},{"$f":"(NR_Arbeitsprod_Arbeitskraft!Q30/NR_Arbeitsprod_Arbeitskraft!$Q30)*100","v":100},{"$f":"(NR_Arbeitsprod_Arbeitskraft!R30/NR_Arbeitsprod_Arbeitskraft!$Q30)*100","v":95.37448407167058},{"$f":"(NR_Arbeitsprod_Arbeitskraft!S30/NR_Arbeitsprod_Arbeitskraft!$Q30)*100","v":93.972314605300241},{"$f":"(NR_Arbeitsprod_Arbeitskraft!T30/NR_Arbeitsprod_Arbeitskraft!$Q30)*100","v":89.226806233351979},{"$f":"(NR_Arbeitsprod_Arbeitskraft!U30/NR_Arbeitsprod_Arbeitskraft!$Q30)*100","v":86.610945241792265},{"$f":"(NR_Arbeitsprod_Arbeitskraft!V30/NR_Arbeitsprod_Arbeitskraft!$Q30)*100","v":79.97788180369858},{"$f":"(NR_Arbeitsprod_Arbeitskraft!W30/NR_Arbeitsprod_Arbeitskraft!$Q30)*100","v":79.190031775352523},{"$f":"(NR_Arbeitsprod_Arbeitskraft!X30/NR_Arbeitsprod_Arbeitskraft!$Q30)*100","v":79.477525207140957}]
["Griechenland",{"$f":"(NR_Arbeitsprod_Arbeitskraft!B31/NR_Arbeitsprod_Arbeitskraft!$Q31)*100","v":50.478355315882403},{"$f":"(NR_Arbeitsprod_Arbeitskraft!C31/NR_Arbeitsprod_Arbeitskraft!$Q31)*100","v":50.320229045692024},{"$f":"(NR_Arbeitsprod_Arbeitskraft!D31/NR_Arbeitsprod_Arbeitskraft!$Q31)*100","v":60.471670271273894},{"$f":"(NR_Arbeitsprod_Arbeitskraft!E31/NR_Arbeitsprod_Arbeitskraft!$Q31)*100","v":62.682637724773386},{"$f":"(NR_Arbeitsprod_Arbeitskraft!F31/NR_Arbeitsprod_Arbeitskraft!$Q31)*100","v":80.451259434424202},{"$f":"(NR_Arbeitsprod_Arbeitskraft!G31/NR_Arbeitsprod_Arbeitskraft!$Q31)*100","v":81.779535557095031},{"$f":"(NR_Arbeitsprod_Arbeitskraft!H31/NR_Arbeitsprod_Arbeitskraft!$Q31)*100","v":92.014594614035289},{"$f":"(NR_Arbeitsprod_Arbeitskraft!I31/NR_Arbeitsprod_Arbeitskraft!$Q31)*100","v":96.290770462391393},{"$f":"(NR_Arbeitsprod_Arbeitskraft!J31/NR_Arbeitsprod_Arbeitskraft!$Q31)*100","v":94.106202018928528},{"$f":"(NR_Arbeitsprod_Arbeitskraft!K31/NR_Arbeitsprod_Arbeitskraft!$Q31)*100","v":96.827704885611425},{"$f":"(NR_Arbeitsprod_Arbeitskraft!L31/NR_Arbeitsprod_Arbeitskraft!$Q31)*100","v":97.614700163941521},{"$f":"(NR_Arbeitsprod_Arbeitskraft!M31/NR_Arbeitsprod_Arbeitskraft!$Q31)*100","v":106.09587897390284},{"$f":"(NR_Arbeitsprod_Arbeitskraft!N31/NR_Arbeitsprod_Arbeitskraft!$Q31)*100","v":109.10098943269419},{"$f":"(NR_Arbeitsprod_Arbeitskraft!O31/NR_Arbeitsprod_Arbeitskraft!$Q31)*100","v":119.55104283634988},{"$f":"(NR_Arbeitsprod_Arbeitskraft!P31/NR_Arbeitsprod_Arbeitskraft!$Q31)*100","v":106.43440093255947},{"$f":"(NR_Arbeitsprod_Arbeitskraft!Q31/NR_Arbeitsprod_Arbeitskraft!$Q31)*100","v":100},{"$f":"(NR_Arbeitsprod_Arbeitskraft!R31/NR_Arbeitsprod_Arbeitskraft!$Q31)*100","v":95.891008328103297},{"$f":"(NR_Arbeitsprod_Arbeitskraft!S31/NR_Arbeitsprod_Arbeitskraft!$Q31)*100","v":86.819641144304541},{"$f":"(NR_Arbeitsprod_Arbeitskraft!T31/NR_Arbeitsprod_Arbeitskraft!$Q31)*100","v":76.501525502946237},{"$f":"(NR_Arbeitsprod_Arbeitskraft!U31/NR_Arbeitsprod_Arbeitskraft!$Q31)*100","v":69.478923450367759},{"$f":"(NR_Arbeitsprod_Arbeitskraft!V31/NR_Arbeitsprod_Arbeitskraft!$Q31)*100","v":62.225469792445217},{"$f":"(NR_Arbeitsprod_Arbeitskraft!W31/NR_Arbeitsprod_Arbeitskraft!$Q31)*100","v":61.39609007430694},{"$f":"(NR_Arbeitsprod_Arbeitskraft!X31/NR_Arbeitsprod_Arbeitskraft!$Q31)*100","v":60.481904141638111}]
["Italien",{"$f":"(NR_Arbeitsprod_Arbeitskraft!B32/NR_Arbeitsprod_Arbeitskraft!$Q32)*100","v":60.294091872175137},{"$f":"(NR_Arbeitsprod_Arbeitskraft!C32/NR_Arbeitsprod_Arbeitskraft!$Q32)*100","v":60.490169703655049},{"$f":"(NR_Arbeitsprod_Arbeitskraft!D32/NR_Arbeitsprod_Arbeitskraft!$Q32)*100","v":65.71022644080206},{"$f":"(NR_Arbeitsprod_Arbeitskraft!E32/NR_Arbeitsprod_Arbeitskraft!$Q32)*100","v":67.212296545627893},{"$f":"(NR_Arbeitsprod_Arbeitskraft!F32/NR_Arbeitsprod_Arbeitskraft!$Q32)*100","v":75.721519833770273},{"$f":"(NR_Arbeitsprod_Arbeitskraft!G32/NR_Arbeitsprod_Arbeitskraft!$Q32)*100","v":79.397941330866914},{"$f":"(NR_Arbeitsprod_Arbeitskraft!H32/NR_Arbeitsprod_Arbeitskraft!$Q32)*100","v":91.165216480754367},{"$f":"(NR_Arbeitsprod_Arbeitskraft!I32/NR_Arbeitsprod_Arbeitskraft!$Q32)*100","v":89.149440813141283},{"$f":"(NR_Arbeitsprod_Arbeitskraft!J32/NR_Arbeitsprod_Arbeitskraft!$Q32)*100","v":91.503715214346357},{"$f":"(NR_Arbeitsprod_Arbeitskraft!K32/NR_Arbeitsprod_Arbeitskraft!$Q32)*100","v":89.995271606502314},{"$f":"(NR_Arbeitsprod_Arbeitskraft!L32/NR_Arbeitsprod_Arbeitskraft!$Q32)*100","v":93.6469650598778},{"$f":"(NR_Arbeitsprod_Arbeitskraft!M32/NR_Arbeitsprod_Arbeitskraft!$Q32)*100","v":95.51762438262439},{"$f":"(NR_Arbeitsprod_Arbeitskraft!N32/NR_Arbeitsprod_Arbeitskraft!$Q32)*100","v":100.34535503422484},{"$f":"(NR_Arbeitsprod_Arbeitskraft!O32/NR_Arbeitsprod_Arbeitskraft!$Q32)*100","v":97.835517517135727},{"$f":"(NR_Arbeitsprod_Arbeitskraft!P32/NR_Arbeitsprod_Arbeitskraft!$Q32)*100","v":96.932948326646184},{"$f":"(NR_Arbeitsprod_Arbeitskraft!Q32/NR_Arbeitsprod_Arbeitskraft!$Q32)*100","v":100},{"$f":"(NR_Arbeitsprod_Arbeitskraft!R32/NR_Arbeitsprod_Arbeitskraft!$Q32)*100","v":95.350008640715558},{"$f":"(NR_Arbeitsprod_Arbeitskraft!S32/NR_Arbeitsprod_Arbeitskraft!$Q32)*100","v":90.511485214292918},{"$f":"(NR_Arbeitsprod_Arbeitskraft!T32/NR_Arbeitsprod_Arbeitskraft!$Q32)*100","v":98.423261681825053},{"$f":"(NR_Arbeitsprod_Arbeitskraft!U32/NR_Arbeitsprod_Arbeitskraft!$Q32)*100","v":88.078166686627497},{"$f":"(NR_Arbeitsprod_Arbeitskraft!V32/NR_Arbeitsprod_Arbeitskraft!$Q32)*100","v":90.463060066179551},{"$f":"(NR_Arbeitsprod_Arbeitskraft!W32/NR_Arbeitsprod_Arbeitskraft!$Q32)*100","v":89.769435262965686},{"$f":"(NR_Arbeitsprod_Arbeitskraft!X32/NR_Arbeitsprod_Arbeitskraft!$Q32)*100","v":90.464652945039802}]
["Spanien",{"$f":"(NR_Arbeitsprod_Arbeitskraft!B33/NR_Arbeitsprod_Arbeitskraft!$Q33)*100","v":39.031055770522876},{"$f":"(NR_Arbeitsprod_Arbeitskraft!C33/NR_Arbeitsprod_Arbeitskraft!$Q33)*100","v":45.348063784019104},{"$f":"(NR_Arbeitsprod_Arbeitskraft!D33/NR_Arbeitsprod_Arbeitskraft!$Q33)*100","v":50.867487746238595},{"$f":"(NR_Arbeitsprod_Arbeitskraft!E33/NR_Arbeitsprod_Arbeitskraft!$Q33)*100","v":54.978190994778387},{"$f":"(NR_Arbeitsprod_Arbeitskraft!F33/NR_Arbeitsprod_Arbeitskraft!$Q33)*100","v":56.325161005958037},{"$f":"(NR_Arbeitsprod_Arbeitskraft!G33/NR_Arbeitsprod_Arbeitskraft!$Q33)*100","v":61.839629185767876},{"$f":"(NR_Arbeitsprod_Arbeitskraft!H33/NR_Arbeitsprod_Arbeitskraft!$Q33)*100","v":65.76940243018997},{"$f":"(NR_Arbeitsprod_Arbeitskraft!I33/NR_Arbeitsprod_Arbeitskraft!$Q33)*100","v":71.574011014550436},{"$f":"(NR_Arbeitsprod_Arbeitskraft!J33/NR_Arbeitsprod_Arbeitskraft!$Q33)*100","v":75.8303307819873},{"$f":"(NR_Arbeitsprod_Arbeitskraft!K33/NR_Arbeitsprod_Arbeitskraft!$Q33)*100","v":80.569833517298079},{"$f":"(NR_Arbeitsprod_Arbeitskraft!L33/NR_Arbeitsprod_Arbeitskraft!$Q33)*100","v":84.810017484247453},{"$f":"(NR_Arbeitsprod_Arbeitskraft!M33/NR_Arbeitsprod_Arbeitskraft!$Q33)*100","v":85.650437239405761},{"$f":"(NR_Arbeitsprod_Arbeitskraft!N33/NR_Arbeitsprod_Arbeitskraft!$Q33)*100","v":92.888485686073665},{"$f":"(NR_Arbeitsprod_Arbeitskraft!O33/NR_Arbeitsprod_Arbeitskraft!$Q33)*100","v":95.62644555005491},{"$f":"(NR_Arbeitsprod_Arbeitskraft!P33/NR_Arbeitsprod_Arbeitskraft!$Q33)*100","v":90.514730002454826},{"$f":"(NR_Arbeitsprod_Arbeitskraft!Q33/NR_Arbeitsprod_Arbeitskraft!$Q33)*100","v":100},{"$f":"(NR_Arbeitsprod_Arbeitskraft!R33/NR_Arbeitsprod_Arbeitskraft!$Q33)*100","v":104.31514361731008},{"$f":"(NR_Arbeitsprod_Arbeitskraft!S33/NR_Arbeitsprod_Arbeitskraft!$Q33)*100","v":100.70944503677481},{"$f":"(NR_Arbeitsprod_Arbeitskraft!T33/NR_Arbeitsprod_Arbeitskraft!$Q33)*100","v":108.84177090530649},{"$f":"(NR_Arbeitsprod_Arbeitskraft!U33/NR_Arbeitsprod_Arbeitskraft!$Q33)*100","v":122.07185497088788},{"$f":"(NR_Arbeitsprod_Arbeitskraft!V33/NR_Arbeitsprod_Arbeitskraft!$Q33)*100","v":118.51208216786584},{"$f":"(NR_Arbeitsprod_Arbeitskraft!W33/NR_Arbeitsprod_Arbeitskraft!$Q33)*100","v":111.01085781985232},{"$f":"(NR_Arbeitsprod_Arbeitskraft!X33/NR_Arbeitsprod_Arbeitskraft!$Q33)*100","v":107.8856632328221}]
["Finnland",{"$f":"(NR_Arbeitsprod_Arbeitskraft!B34/NR_Arbeitsprod_Arbeitskraft!$Q34)*100","v":77.751992854317749},{"$f":"(NR_Arbeitsprod_Arbeitskraft!C34/NR_Arbeitsprod_Arbeitskraft!$Q34)*100","v":80.91179002080203},{"$f":"(NR_Arbeitsprod_Arbeitskraft!D34/NR_Arbeitsprod_Arbeitskraft!$Q34)*100","v":85.681556377344606},{"$f":"(NR_Arbeitsprod_Arbeitskraft!E34/NR_Arbeitsprod_Arbeitskraft!$Q34)*100","v":86.769690130875006},{"$f":"(NR_Arbeitsprod_Arbeitskraft!F34/NR_Arbeitsprod_Arbeitskraft!$Q34)*100","v":95.104642913105238},{"$f":"(NR_Arbeitsprod_Arbeitskraft!G34/NR_Arbeitsprod_Arbeitskraft!$Q34)*100","v":98.188672728221221},{"$f":"(NR_Arbeitsprod_Arbeitskraft!H34/NR_Arbeitsprod_Arbeitskraft!$Q34)*100","v":99.489381991746228},{"$f":"(NR_Arbeitsprod_Arbeitskraft!I34/NR_Arbeitsprod_Arbeitskraft!$Q34)*100","v":97.441496443547777},{"$f":"(NR_Arbeitsprod_Arbeitskraft!J34/NR_Arbeitsprod_Arbeitskraft!$Q34)*100","v":98.52680124655096},{"$f":"(NR_Arbeitsprod_Arbeitskraft!K34/NR_Arbeitsprod_Arbeitskraft!$Q34)*100","v":100.74864952545252},{"$f":"(NR_Arbeitsprod_Arbeitskraft!L34/NR_Arbeitsprod_Arbeitskraft!$Q34)*100","v":100.52280307322457},{"$f":"(NR_Arbeitsprod_Arbeitskraft!M34/NR_Arbeitsprod_Arbeitskraft!$Q34)*100","v":99.967107013957275},{"$f":"(NR_Arbeitsprod_Arbeitskraft!N34/NR_Arbeitsprod_Arbeitskraft!$Q34)*100","v":99.001125281032799},{"$f":"(NR_Arbeitsprod_Arbeitskraft!O34/NR_Arbeitsprod_Arbeitskraft!$Q34)*100","v":97.227306640814717},{"$f":"(NR_Arbeitsprod_Arbeitskraft!P34/NR_Arbeitsprod_Arbeitskraft!$Q34)*100","v":94.484255288536474},{"$f":"(NR_Arbeitsprod_Arbeitskraft!Q34/NR_Arbeitsprod_Arbeitskraft!$Q34)*100","v":100},{"$f":"(NR_Arbeitsprod_Arbeitskraft!R34/NR_Arbeitsprod_Arbeitskraft!$Q34)*100","v":98.591483930850444},{"$f":"(NR_Arbeitsprod_Arbeitskraft!S34/NR_Arbeitsprod_Arbeitskraft!$Q34)*100","v":101.51638214620615},{"$f":"(NR_Arbeitsprod_Arbeitskraft!T34/NR_Arbeitsprod_Arbeitskraft!$Q34)*100","v":89.968007834665869},{"$f":"(NR_Arbeitsprod_Arbeitskraft!U34/NR_Arbeitsprod_Arbeitskraft!$Q34)*100","v":75.682502718450834},{"$f":"(NR_Arbeitsprod_Arbeitskraft!V34/NR_Arbeitsprod_Arbeitskraft!$Q34)*100","v":70.802057688490123},{"$f":"(NR_Arbeitsprod_Arbeitskraft!W34/NR_Arbeitsprod_Arbeitskraft!$Q34)*100","v":67.717644099001959},{"$f":"(NR_Arbeitsprod_Arbeitskraft!X34/NR_Arbeitsprod_Arbeitskraft!$Q34)*100","v":59.931777490237813}]
["Ungarn",{"$f":"(NR_Arbeitsprod_Arbeitskraft!B35/NR_Arbeitsprod_Arbeitskraft!$Q35)*100","v":51.314902907130843},{"$f":"(NR_Arbeitsprod_Arbeitskraft!C35/NR_Arbeitsprod_Arbeitskraft!$Q35)*100","v":45.968992005712288},{"$f":"(NR_Arbeitsprod_Arbeitskraft!D35/NR_Arbeitsprod_Arbeitskraft!$Q35)*100","v":44.805304213776488},{"$f":"(NR_Arbeitsprod_Arbeitskraft!E35/NR_Arbeitsprod_Arbeitskraft!$Q35)*100","v":47.4908373472867},{"$f":"(NR_Arbeitsprod_Arbeitskraft!F35/NR_Arbeitsprod_Arbeitskraft!$Q35)*100","v":48.464776705012213},{"$f":"(NR_Arbeitsprod_Arbeitskraft!G35/NR_Arbeitsprod_Arbeitskraft!$Q35)*100","v":46.769270055106979},{"$f":"(NR_Arbeitsprod_Arbeitskraft!H35/NR_Arbeitsprod_Arbeitskraft!$Q35)*100","v":69.167766963881022},{"$f":"(NR_Arbeitsprod_Arbeitskraft!I35/NR_Arbeitsprod_Arbeitskraft!$Q35)*100","v":85.843082505755703},{"$f":"(NR_Arbeitsprod_Arbeitskraft!J35/NR_Arbeitsprod_Arbeitskraft!$Q35)*100","v":78.56287276493785},{"$f":"(NR_Arbeitsprod_Arbeitskraft!K35/NR_Arbeitsprod_Arbeitskraft!$Q35)*100","v":92.253346566514409},{"$f":"(NR_Arbeitsprod_Arbeitskraft!L35/NR_Arbeitsprod_Arbeitskraft!$Q35)*100","v":97.622781311843767},{"$f":"(NR_Arbeitsprod_Arbeitskraft!M35/NR_Arbeitsprod_Arbeitskraft!$Q35)*100","v":98.266694454792002},{"$f":"(NR_Arbeitsprod_Arbeitskraft!N35/NR_Arbeitsprod_Arbeitskraft!$Q35)*100","v":104.93108104315971},{"$f":"(NR_Arbeitsprod_Arbeitskraft!O35/NR_Arbeitsprod_Arbeitskraft!$Q35)*100","v":121.31122844712262},{"$f":"(NR_Arbeitsprod_Arbeitskraft!P35/NR_Arbeitsprod_Arbeitskraft!$Q35)*100","v":102.82045942329852},{"$f":"(NR_Arbeitsprod_Arbeitskraft!Q35/NR_Arbeitsprod_Arbeitskraft!$Q35)*100","v":100},{"$f":"(NR_Arbeitsprod_Arbeitskraft!R35/NR_Arbeitsprod_Arbeitskraft!$Q35)*100","v":99.247724832074184},{"$f":"(NR_Arbeitsprod_Arbeitskraft!S35/NR_Arbeitsprod_Arbeitskraft!$Q35)*100","v":97.134397240100455},{"$f":"(NR_Arbeitsprod_Arbeitskraft!T35/NR_Arbeitsprod_Arbeitskraft!$Q35)*100","v":103.20280905050028},{"$f":"(NR_Arbeitsprod_Arbeitskraft!U35/NR_Arbeitsprod_Arbeitskraft!$Q35)*100","v":107.97862295398606},{"$f":"(NR_Arbeitsprod_Arbeitskraft!V35/NR_Arbeitsprod_Arbeitskraft!$Q35)*100","v":110.90329760881301},{"$f":"(NR_Arbeitsprod_Arbeitskraft!W35/NR_Arbeitsprod_Arbeitskraft!$Q35)*100","v":104.80324147643427},{"$f":"(NR_Arbeitsprod_Arbeitskraft!X35/NR_Arbeitsprod_Arbeitskraft!$Q35)*100","v":95.258598455297346}]
["Irland",{"$f":"(NR_Arbeitsprod_Arbeitskraft!B36/NR_Arbeitsprod_Arbeitskraft!$Q36)*100","v":122.51834941840359},{"$f":"(NR_Arbeitsprod_Arbeitskraft!C36/NR_Arbeitsprod_Arbeitskraft!$Q36)*100","v":122.7601218292061},{"$f":"(NR_Arbeitsprod_Arbeitskraft!D36/NR_Arbeitsprod_Arbeitskraft!$Q36)*100","v":128.01166990560563},{"$f":"(NR_Arbeitsprod_Arbeitskraft!E36/NR_Arbeitsprod_Arbeitskraft!$Q36)*100","v":108.36585523565614},{"$f":"(NR_Arbeitsprod_Arbeitskraft!F36/NR_Arbeitsprod_Arbeitskraft!$Q36)*100","v":112.97868258053703},{"$f":"(NR_Arbeitsprod_Arbeitskraft!G36/NR_Arbeitsprod_Arbeitskraft!$Q36)*100","v":104.92665700077615},{"$f":"(NR_Arbeitsprod_Arbeitskraft!H36/NR_Arbeitsprod_Arbeitskraft!$Q36)*100","v":99.16375720005351},{"$f":"(NR_Arbeitsprod_Arbeitskraft!I36/NR_Arbeitsprod_Arbeitskraft!$Q36)*100","v":95.053072347848314},{"$f":"(NR_Arbeitsprod_Arbeitskraft!J36/NR_Arbeitsprod_Arbeitskraft!$Q36)*100","v":92.845104627663261},{"$f":"(NR_Arbeitsprod_Arbeitskraft!K36/NR_Arbeitsprod_Arbeitskraft!$Q36)*100","v":105.98648258225276},{"$f":"(NR_Arbeitsprod_Arbeitskraft!L36/NR_Arbeitsprod_Arbeitskraft!$Q36)*100","v":88.305416851770474},{"$f":"(NR_Arbeitsprod_Arbeitskraft!M36/NR_Arbeitsprod_Arbeitskraft!$Q36)*100","v":82.17493673170884},{"$f":"(NR_Arbeitsprod_Arbeitskraft!N36/NR_Arbeitsprod_Arbeitskraft!$Q36)*100","v":81.770481338166732},{"$f":"(NR_Arbeitsprod_Arbeitskraft!O36/NR_Arbeitsprod_Arbeitskraft!$Q36)*100","v":81.909258317748979},{"$f":"(NR_Arbeitsprod_Arbeitskraft!P36/NR_Arbeitsprod_Arbeitskraft!$Q36)*100","v":81.664576868035581},{"$f":"(NR_Arbeitsprod_Arbeitskraft!Q36/NR_Arbeitsprod_Arbeitskraft!$Q36)*100","v":100},{"$f":"(NR_Arbeitsprod_Arbeitskraft!R36/NR_Arbeitsprod_Arbeitskraft!$Q36)*100","v":96.379788742485388},{"$f":"(NR_Arbeitsprod_Arbeitskraft!S36/NR_Arbeitsprod_Arbeitskraft!$Q36)*100","v":96.620131946833325},{"$f":"(NR_Arbeitsprod_Arbeitskraft!T36/NR_Arbeitsprod_Arbeitskraft!$Q36)*100","v":95.049397103802519},{"$f":"(NR_Arbeitsprod_Arbeitskraft!U36/NR_Arbeitsprod_Arbeitskraft!$Q36)*100","v":90.00355818060774},{"$f":"(NR_Arbeitsprod_Arbeitskraft!V36/NR_Arbeitsprod_Arbeitskraft!$Q36)*100","v":86.250796156205439},{"$f":"(NR_Arbeitsprod_Arbeitskraft!W36/NR_Arbeitsprod_Arbeitskraft!$Q36)*100","v":83.334806732532599},{"$f":"(NR_Arbeitsprod_Arbeitskraft!X36/NR_Arbeitsprod_Arbeitskraft!$Q36)*100","v":83.636265913952528}]
["Niederlande",{"$f":"(NR_Arbeitsprod_Arbeitskraft!B37/NR_Arbeitsprod_Arbeitskraft!$Q37)*100","v":80.190725536630708},{"$f":"(NR_Arbeitsprod_Arbeitskraft!C37/NR_Arbeitsprod_Arbeitskraft!$Q37)*100","v":84.067731507321284},{"$f":"(NR_Arbeitsprod_Arbeitskraft!D37/NR_Arbeitsprod_Arbeitskraft!$Q37)*100","v":82.94468282730206},{"$f":"(NR_Arbeitsprod_Arbeitskraft!E37/NR_Arbeitsprod_Arbeitskraft!$Q37)*100","v":85.105204215755691},{"$f":"(NR_Arbeitsprod_Arbeitskraft!F37/NR_Arbeitsprod_Arbeitskraft!$Q37)*100","v":84.355967142400416},{"$f":"(NR_Arbeitsprod_Arbeitskraft!G37/NR_Arbeitsprod_Arbeitskraft!$Q37)*100","v":87.11675002253736},{"$f":"(NR_Arbeitsprod_Arbeitskraft!H37/NR_Arbeitsprod_Arbeitskraft!$Q37)*100","v":90.296016747474724},{"$f":"(NR_Arbeitsprod_Arbeitskraft!I37/NR_Arbeitsprod_Arbeitskraft!$Q37)*100","v":91.618975690963069},{"$f":"(NR_Arbeitsprod_Arbeitskraft!J37/NR_Arbeitsprod_Arbeitskraft!$Q37)*100","v":94.988975236615033},{"$f":"(NR_Arbeitsprod_Arbeitskraft!K37/NR_Arbeitsprod_Arbeitskraft!$Q37)*100","v":109.57868871813426},{"$f":"(NR_Arbeitsprod_Arbeitskraft!L37/NR_Arbeitsprod_Arbeitskraft!$Q37)*100","v":109.96745604388806},{"$f":"(NR_Arbeitsprod_Arbeitskraft!M37/NR_Arbeitsprod_Arbeitskraft!$Q37)*100","v":112.04850014937966},{"$f":"(NR_Arbeitsprod_Arbeitskraft!N37/NR_Arbeitsprod_Arbeitskraft!$Q37)*100","v":111.11662639564233},{"$f":"(NR_Arbeitsprod_Arbeitskraft!O37/NR_Arbeitsprod_Arbeitskraft!$Q37)*100","v":111.07006450490486},{"$f":"(NR_Arbeitsprod_Arbeitskraft!P37/NR_Arbeitsprod_Arbeitskraft!$Q37)*100","v":102.09421468337005},{"$f":"(NR_Arbeitsprod_Arbeitskraft!Q37/NR_Arbeitsprod_Arbeitskraft!$Q37)*100","v":100},{"$f":"(NR_Arbeitsprod_Arbeitskraft!R37/NR_Arbeitsprod_Arbeitskraft!$Q37)*100","v":90.681399631675873},{"$f":"(NR_Arbeitsprod_Arbeitskraft!S37/NR_Arbeitsprod_Arbeitskraft!$Q37)*100","v":78.504954140507564},{"$f":"(NR_Arbeitsprod_Arbeitskraft!T37/NR_Arbeitsprod_Arbeitskraft!$Q37)*100","v":70.513679800255474},{"$f":"(NR_Arbeitsprod_Arbeitskraft!U37/NR_Arbeitsprod_Arbeitskraft!$Q37)*100","v":69.867879683799401},{"$f":"(NR_Arbeitsprod_Arbeitskraft!V37/NR_Arbeitsprod_Arbeitskraft!$Q37)*100","v":64.039142252351951},{"$f":"(NR_Arbeitsprod_Arbeitskraft!W37/NR_Arbeitsprod_Arbeitskraft!$Q37)*100","v":63.207465080243473},{"$f":"(NR_Arbeitsprod_Arbeitskraft!X37/NR_Arbeitsprod_Arbeitskraft!$Q37)*100","v":66.485665009011683}]
["Portugal",{"$f":"(NR_Arbeitsprod_Arbeitskraft!B38/NR_Arbeitsprod_Arbeitskraft!$Q38)*100","v":73.458631968075721},{"$f":"(NR_Arbeitsprod_Arbeitskraft!C38/NR_Arbeitsprod_Arbeitskraft!$Q38)*100","v":76.064319454618911},{"$f":"(NR_Arbeitsprod_Arbeitskraft!D38/NR_Arbeitsprod_Arbeitskraft!$Q38)*100","v":77.438194531091568},{"$f":"(NR_Arbeitsprod_Arbeitskraft!E38/NR_Arbeitsprod_Arbeitskraft!$Q38)*100","v":80.057881771523697},{"$f":"(NR_Arbeitsprod_Arbeitskraft!F38/NR_Arbeitsprod_Arbeitskraft!$Q38)*100","v":83.770175572086629},{"$f":"(NR_Arbeitsprod_Arbeitskraft!G38/NR_Arbeitsprod_Arbeitskraft!$Q38)*100","v":88.359787446771193},{"$f":"(NR_Arbeitsprod_Arbeitskraft!H38/NR_Arbeitsprod_Arbeitskraft!$Q38)*100","v":86.527248592634237},{"$f":"(NR_Arbeitsprod_Arbeitskraft!I38/NR_Arbeitsprod_Arbeitskraft!$Q38)*100","v":86.793639500755447},{"$f":"(NR_Arbeitsprod_Arbeitskraft!J38/NR_Arbeitsprod_Arbeitskraft!$Q38)*100","v":85.480825473220364},{"$f":"(NR_Arbeitsprod_Arbeitskraft!K38/NR_Arbeitsprod_Arbeitskraft!$Q38)*100","v":89.487432476087207},{"$f":"(NR_Arbeitsprod_Arbeitskraft!L38/NR_Arbeitsprod_Arbeitskraft!$Q38)*100","v":90.850188217804501},{"$f":"(NR_Arbeitsprod_Arbeitskraft!M38/NR_Arbeitsprod_Arbeitskraft!$Q38)*100","v":93.382093227050973},{"$f":"(NR_Arbeitsprod_Arbeitskraft!N38/NR_Arbeitsprod_Arbeitskraft!$Q38)*100","v":100.45591264087774},{"$f":"(NR_Arbeitsprod_Arbeitskraft!O38/NR_Arbeitsprod_Arbeitskraft!$Q38)*100","v":100.94324048333863},{"$f":"(NR_Arbeitsprod_Arbeitskraft!P38/NR_Arbeitsprod_Arbeitskraft!$Q38)*100","v":96.660196695690232},{"$f":"(NR_Arbeitsprod_Arbeitskraft!Q38/NR_Arbeitsprod_Arbeitskraft!$Q38)*100","v":100},{"$f":"(NR_Arbeitsprod_Arbeitskraft!R38/NR_Arbeitsprod_Arbeitskraft!$Q38)*100","v":99.055438952123637},{"$f":"(NR_Arbeitsprod_Arbeitskraft!S38/NR_Arbeitsprod_Arbeitskraft!$Q38)*100","v":91.258210253256379},{"$f":"(NR_Arbeitsprod_Arbeitskraft!T38/NR_Arbeitsprod_Arbeitskraft!$Q38)*100","v":91.793336494167818},{"$f":"(NR_Arbeitsprod_Arbeitskraft!U38/NR_Arbeitsprod_Arbeitskraft!$Q38)*100","v":93.133810877024885},{"$f":"(NR_Arbeitsprod_Arbeitskraft!V38/NR_Arbeitsprod_Arbeitskraft!$Q38)*100","v":91.733113767280258},{"$f":"(NR_Arbeitsprod_Arbeitskraft!W38/NR_Arbeitsprod_Arbeitskraft!$Q38)*100","v":83.863030755167628},{"$f":"(NR_Arbeitsprod_Arbeitskraft!X38/NR_Arbeitsprod_Arbeitskraft!$Q38)*100","v":86.513315246123256}]
["Rumänien",{"$f":"(NR_Arbeitsprod_Arbeitskraft!B39/NR_Arbeitsprod_Arbeitskraft!$Q39)*100","v":103.57735043145451},{"$f":"(NR_Arbeitsprod_Arbeitskraft!C39/NR_Arbeitsprod_Arbeitskraft!$Q39)*100","v":133.13907437060607},{"$f":"(NR_Arbeitsprod_Arbeitskraft!D39/NR_Arbeitsprod_Arbeitskraft!$Q39)*100","v":138.89077139165454},{"$f":"(NR_Arbeitsprod_Arbeitskraft!E39/NR_Arbeitsprod_Arbeitskraft!$Q39)*100","v":138.28076725068888},{"$f":"(NR_Arbeitsprod_Arbeitskraft!F39/NR_Arbeitsprod_Arbeitskraft!$Q39)*100","v":142.34686377274531},{"$f":"(NR_Arbeitsprod_Arbeitskraft!G39/NR_Arbeitsprod_Arbeitskraft!$Q39)*100","v":136.04310782825911},{"$f":"(NR_Arbeitsprod_Arbeitskraft!H39/NR_Arbeitsprod_Arbeitskraft!$Q39)*100","v":145.20657845138973},{"$f":"(NR_Arbeitsprod_Arbeitskraft!I39/NR_Arbeitsprod_Arbeitskraft!$Q39)*100","v":143.73764081660875},{"$f":"(NR_Arbeitsprod_Arbeitskraft!J39/NR_Arbeitsprod_Arbeitskraft!$Q39)*100","v":141.94401338497306},{"$f":"(NR_Arbeitsprod_Arbeitskraft!K39/NR_Arbeitsprod_Arbeitskraft!$Q39)*100","v":144.42500997817652},{"$f":"(NR_Arbeitsprod_Arbeitskraft!L39/NR_Arbeitsprod_Arbeitskraft!$Q39)*100","v":155.55629265857235},{"$f":"(NR_Arbeitsprod_Arbeitskraft!M39/NR_Arbeitsprod_Arbeitskraft!$Q39)*100","v":152.90683716892536},{"$f":"(NR_Arbeitsprod_Arbeitskraft!N39/NR_Arbeitsprod_Arbeitskraft!$Q39)*100","v":144.48303260738854},{"$f":"(NR_Arbeitsprod_Arbeitskraft!O39/NR_Arbeitsprod_Arbeitskraft!$Q39)*100","v":179.2997175713819},{"$f":"(NR_Arbeitsprod_Arbeitskraft!P39/NR_Arbeitsprod_Arbeitskraft!$Q39)*100","v":150.24443244397563},{"$f":"(NR_Arbeitsprod_Arbeitskraft!Q39/NR_Arbeitsprod_Arbeitskraft!$Q39)*100","v":100},{"$f":"(NR_Arbeitsprod_Arbeitskraft!R39/NR_Arbeitsprod_Arbeitskraft!$Q39)*100","v":104.60122460122459},{"$f":"(NR_Arbeitsprod_Arbeitskraft!S39/NR_Arbeitsprod_Arbeitskraft!$Q39)*100","v":104.14872231132671},{"$f":"(NR_Arbeitsprod_Arbeitskraft!T39/NR_Arbeitsprod_Arbeitskraft!$Q39)*100","v":107.15551473021507},{"$f":"(NR_Arbeitsprod_Arbeitskraft!U39/NR_Arbeitsprod_Arbeitskraft!$Q39)*100","v":129.26944934538773},{"$f":"(NR_Arbeitsprod_Arbeitskraft!V39/NR_Arbeitsprod_Arbeitskraft!$Q39)*100","v":106.11822330024407},{"$f":"(NR_Arbeitsprod_Arbeitskraft!W39/NR_Arbeitsprod_Arbeitskraft!$Q39)*100","v":155.55080151439634},{"$f":"(NR_Arbeitsprod_Arbeitskraft!X39/NR_Arbeitsprod_Arbeitskraft!$Q39)*100","v":125.12298107322199}]
["Slowenien",{"$f":"(NR_Arbeitsprod_Arbeitskraft!B40/NR_Arbeitsprod_Arbeitskraft!$Q40)*100","v":100.84840442829002},{"$f":"(NR_Arbeitsprod_Arbeitskraft!C40/NR_Arbeitsprod_Arbeitskraft!$Q40)*100","v":102.85621639479668},{"$f":"(NR_Arbeitsprod_Arbeitskraft!D40/NR_Arbeitsprod_Arbeitskraft!$Q40)*100","v":111.19881745929341},{"$f":"(NR_Arbeitsprod_Arbeitskraft!E40/NR_Arbeitsprod_Arbeitskraft!$Q40)*100","v":106.42376654603379},{"$f":"(NR_Arbeitsprod_Arbeitskraft!F40/NR_Arbeitsprod_Arbeitskraft!$Q40)*100","v":108.9684308861671},{"$f":"(NR_Arbeitsprod_Arbeitskraft!G40/NR_Arbeitsprod_Arbeitskraft!$Q40)*100","v":111.41252665733508},{"$f":"(NR_Arbeitsprod_Arbeitskraft!H40/NR_Arbeitsprod_Arbeitskraft!$Q40)*100","v":96.845041956118877},{"$f":"(NR_Arbeitsprod_Arbeitskraft!I40/NR_Arbeitsprod_Arbeitskraft!$Q40)*100","v":99.939701601556834},{"$f":"(NR_Arbeitsprod_Arbeitskraft!J40/NR_Arbeitsprod_Arbeitskraft!$Q40)*100","v":100.56701146038587},{"$f":"(NR_Arbeitsprod_Arbeitskraft!K40/NR_Arbeitsprod_Arbeitskraft!$Q40)*100","v":95.874867943229745},{"$f":"(NR_Arbeitsprod_Arbeitskraft!L40/NR_Arbeitsprod_Arbeitskraft!$Q40)*100","v":92.104153507814729},{"$f":"(NR_Arbeitsprod_Arbeitskraft!M40/NR_Arbeitsprod_Arbeitskraft!$Q40)*100","v":98.47576097199557},{"$f":"(NR_Arbeitsprod_Arbeitskraft!N40/NR_Arbeitsprod_Arbeitskraft!$Q40)*100","v":98.024936740573906},{"$f":"(NR_Arbeitsprod_Arbeitskraft!O40/NR_Arbeitsprod_Arbeitskraft!$Q40)*100","v":102.7575338829924},{"$f":"(NR_Arbeitsprod_Arbeitskraft!P40/NR_Arbeitsprod_Arbeitskraft!$Q40)*100","v":99.644919127416813},{"$f":"(NR_Arbeitsprod_Arbeitskraft!Q40/NR_Arbeitsprod_Arbeitskraft!$Q40)*100","v":100},{"$f":"(NR_Arbeitsprod_Arbeitskraft!R40/NR_Arbeitsprod_Arbeitskraft!$Q40)*100","v":104.64555676085199},{"$f":"(NR_Arbeitsprod_Arbeitskraft!S40/NR_Arbeitsprod_Arbeitskraft!$Q40)*100","v":99.181577146473046},{"$f":"(NR_Arbeitsprod_Arbeitskraft!T40/NR_Arbeitsprod_Arbeitskraft!$Q40)*100","v":93.276027687353462},{"$f":"(NR_Arbeitsprod_Arbeitskraft!U40/NR_Arbeitsprod_Arbeitskraft!$Q40)*100","v":95.795843409355726},{"$f":"(NR_Arbeitsprod_Arbeitskraft!V40/NR_Arbeitsprod_Arbeitskraft!$Q40)*100","v":92.186636646902997},{"$f":"(NR_Arbeitsprod_Arbeitskraft!W40/NR_Arbeitsprod_Arbeitskraft!$Q40)*100","v":92.351833148587929},{"$f":"(NR_Arbeitsprod_Arbeitskraft!X40/NR_Arbeitsprod_Arbeitskraft!$Q40)*100","v":86.899866643185604}]
["Slowakei",{"$f":"(NR_Arbeitsprod_Arbeitskraft!B41/NR_Arbeitsprod_Arbeitskraft!$Q41)*100","v":79.964314028813661},{"$f":"(NR_Arbeitsprod_Arbeitskraft!C41/NR_Arbeitsprod_Arbeitskraft!$Q41)*100","v":96.572677141079467},{"$f":"(NR_Arbeitsprod_Arbeitskraft!D41/NR_Arbeitsprod_Arbeitskraft!$Q41)*100","v":110.32664989893537},{"$f":"(NR_Arbeitsprod_Arbeitskraft!E41/NR_Arbeitsprod_Arbeitskraft!$Q41)*100","v":119.15556086739269},{"$f":"(NR_Arbeitsprod_Arbeitskraft!F41/NR_Arbeitsprod_Arbeitskraft!$Q41)*100","v":128.98090677013906},{"$f":"(NR_Arbeitsprod_Arbeitskraft!G41/NR_Arbeitsprod_Arbeitskraft!$Q41)*100","v":100.39504811800268},{"$f":"(NR_Arbeitsprod_Arbeitskraft!H41/NR_Arbeitsprod_Arbeitskraft!$Q41)*100","v":100.61574757047318},{"$f":"(NR_Arbeitsprod_Arbeitskraft!I41/NR_Arbeitsprod_Arbeitskraft!$Q41)*100","v":93.079506020443702},{"$f":"(NR_Arbeitsprod_Arbeitskraft!J41/NR_Arbeitsprod_Arbeitskraft!$Q41)*100","v":101.81742303177039},{"$f":"(NR_Arbeitsprod_Arbeitskraft!K41/NR_Arbeitsprod_Arbeitskraft!$Q41)*100","v":90.759226224199992},{"$f":"(NR_Arbeitsprod_Arbeitskraft!L41/NR_Arbeitsprod_Arbeitskraft!$Q41)*100","v":128.43017602744607},{"$f":"(NR_Arbeitsprod_Arbeitskraft!M41/NR_Arbeitsprod_Arbeitskraft!$Q41)*100","v":131.42350884250851},{"$f":"(NR_Arbeitsprod_Arbeitskraft!N41/NR_Arbeitsprod_Arbeitskraft!$Q41)*100","v":135.51954456071124},{"$f":"(NR_Arbeitsprod_Arbeitskraft!O41/NR_Arbeitsprod_Arbeitskraft!$Q41)*100","v":120.94021862362978},{"$f":"(NR_Arbeitsprod_Arbeitskraft!P41/NR_Arbeitsprod_Arbeitskraft!$Q41)*100","v":105.30393002543543},{"$f":"(NR_Arbeitsprod_Arbeitskraft!Q41/NR_Arbeitsprod_Arbeitskraft!$Q41)*100","v":100},{"$f":"(NR_Arbeitsprod_Arbeitskraft!R41/NR_Arbeitsprod_Arbeitskraft!$Q41)*100","v":99.162634468271634},{"$f":"(NR_Arbeitsprod_Arbeitskraft!S41/NR_Arbeitsprod_Arbeitskraft!$Q41)*100","v":104.82847914381254},{"$f":"(NR_Arbeitsprod_Arbeitskraft!T41/NR_Arbeitsprod_Arbeitskraft!$Q41)*100","v":102.97347993427151},{"$f":"(NR_Arbeitsprod_Arbeitskraft!U41/NR_Arbeitsprod_Arbeitskraft!$Q41)*100","v":107.65658258500733},{"$f":"(NR_Arbeitsprod_Arbeitskraft!V41/NR_Arbeitsprod_Arbeitskraft!$Q41)*100","v":113.42303409027269},{"$f":"(NR_Arbeitsprod_Arbeitskraft!W41/NR_Arbeitsprod_Arbeitskraft!$Q41)*100","v":119.70976752837963},{"$f":"(NR_Arbeitsprod_Arbeitskraft!X41/NR_Arbeitsprod_Arbeitskraft!$Q41)*100","v":126.35126719043024}]
["Großbritannien",{"$f":"(NR_Arbeitsprod_Arbeitskraft!B42/NR_Arbeitsprod_Arbeitskraft!$Q42)*100","v":72.395690168933712},{"$f":"(NR_Arbeitsprod_Arbeitskraft!C42/NR_Arbeitsprod_Arbeitskraft!$Q42)*100","v":74.433479674204023},{"$f":"(NR_Arbeitsprod_Arbeitskraft!D42/NR_Arbeitsprod_Arbeitskraft!$Q42)*100","v":81.635138754298737},{"$f":"(NR_Arbeitsprod_Arbeitskraft!E42/NR_Arbeitsprod_Arbeitskraft!$Q42)*100","v":83.526497440494225},{"$f":"(NR_Arbeitsprod_Arbeitskraft!F42/NR_Arbeitsprod_Arbeitskraft!$Q42)*100","v":82.826460293610879},{"$f":"(NR_Arbeitsprod_Arbeitskraft!G42/NR_Arbeitsprod_Arbeitskraft!$Q42)*100","v":92.48930541706018},{"$f":"(NR_Arbeitsprod_Arbeitskraft!H42/NR_Arbeitsprod_Arbeitskraft!$Q42)*100","v":94.777300480631041},{"$f":"(NR_Arbeitsprod_Arbeitskraft!I42/NR_Arbeitsprod_Arbeitskraft!$Q42)*100","v":98.561694644156304},{"$f":"(NR_Arbeitsprod_Arbeitskraft!J42/NR_Arbeitsprod_Arbeitskraft!$Q42)*100","v":119.08005782942648},{"$f":"(NR_Arbeitsprod_Arbeitskraft!K42/NR_Arbeitsprod_Arbeitskraft!$Q42)*100","v":139.57863895713442},{"$f":"(NR_Arbeitsprod_Arbeitskraft!L42/NR_Arbeitsprod_Arbeitskraft!$Q42)*100","v":140.34693041357019},{"$f":"(NR_Arbeitsprod_Arbeitskraft!M42/NR_Arbeitsprod_Arbeitskraft!$Q42)*100","v":131.4403714421444},{"$f":"(NR_Arbeitsprod_Arbeitskraft!N42/NR_Arbeitsprod_Arbeitskraft!$Q42)*100","v":123.79804250797213},{"$f":"(NR_Arbeitsprod_Arbeitskraft!O42/NR_Arbeitsprod_Arbeitskraft!$Q42)*100","v":107.32280252226265},{"$f":"(NR_Arbeitsprod_Arbeitskraft!P42/NR_Arbeitsprod_Arbeitskraft!$Q42)*100","v":86.83109754393908},{"$f":"(NR_Arbeitsprod_Arbeitskraft!Q42/NR_Arbeitsprod_Arbeitskraft!$Q42)*100","v":100},{"$f":"(NR_Arbeitsprod_Arbeitskraft!R42/NR_Arbeitsprod_Arbeitskraft!$Q42)*100","v":103.61448541777048},{"$f":"(NR_Arbeitsprod_Arbeitskraft!S42/NR_Arbeitsprod_Arbeitskraft!$Q42)*100","v":113.53253349239417},{"$f":"(NR_Arbeitsprod_Arbeitskraft!T42/NR_Arbeitsprod_Arbeitskraft!$Q42)*100","v":115.82198925025364},{"$f":"(NR_Arbeitsprod_Arbeitskraft!U42/NR_Arbeitsprod_Arbeitskraft!$Q42)*100","v":118.08406897336418},{"$f":"(NR_Arbeitsprod_Arbeitskraft!V42/NR_Arbeitsprod_Arbeitskraft!$Q42)*100","v":115.95146871693569},{"$f":"(NR_Arbeitsprod_Arbeitskraft!W42/NR_Arbeitsprod_Arbeitskraft!$Q42)*100","v":118.20316262631405}]
[]
["PW (preisbereinigt)/Erwerbstätige"]
[null,1995,{"$f":"B45+1","v":1996},{"$f":"C45+1","v":1997},1998,1999,2000,2001,2002,2003,2004,2005,2006,2007,2008,2009,2010,2011,2012,2013,2014,2015,2016,2017]
["Österreich",{"$f":"(NR_Arbeitsprod_Arbeitskraft!B46/NR_Arbeitsprod_Arbeitskraft!$Q46)*100","v":26.49234140441623},{"$f":"(NR_Arbeitsprod_Arbeitskraft!C46/NR_Arbeitsprod_Arbeitskraft!$Q46)*100","v":32.515825353249198},{"$f":"(NR_Arbeitsprod_Arbeitskraft!D46/NR_Arbeitsprod_Arbeitskraft!$Q46)*100","v":35.425397314220248},{"$f":"(NR_Arbeitsprod_Arbeitskraft!E46/NR_Arbeitsprod_Arbeitskraft!$Q46)*100","v":40.428838879015998},{"$f":"(NR_Arbeitsprod_Arbeitskraft!F46/NR_Arbeitsprod_Arbeitskraft!$Q46)*100","v":44.513995687730059},{"$f":"(NR_Arbeitsprod_Arbeitskraft!G46/NR_Arbeitsprod_Arbeitskraft!$Q46)*100","v":50.651049806771532},{"$f":"(NR_Arbeitsprod_Arbeitskraft!H46/NR_Arbeitsprod_Arbeitskraft!$Q46)*100","v":50.461493984195648},{"$f":"(NR_Arbeitsprod_Arbeitskraft!I46/NR_Arbeitsprod_Arbeitskraft!$Q46)*100","v":51.715745518212564},{"$f":"(NR_Arbeitsprod_Arbeitskraft!J46/NR_Arbeitsprod_Arbeitskraft!$Q46)*100","v":57.112672416894853},{"$f":"(NR_Arbeitsprod_Arbeitskraft!K46/NR_Arbeitsprod_Arbeitskraft!$Q46)*100","v":59.582942172733475},{"$f":"(NR_Arbeitsprod_Arbeitskraft!L46/NR_Arbeitsprod_Arbeitskraft!$Q46)*100","v":75.521715034335813},{"$f":"(NR_Arbeitsprod_Arbeitskraft!M46/NR_Arbeitsprod_Arbeitskraft!$Q46)*100","v":84.065951181656146},{"$f":"(NR_Arbeitsprod_Arbeitskraft!N46/NR_Arbeitsprod_Arbeitskraft!$Q46)*100","v":89.252216974713932},{"$f":"(NR_Arbeitsprod_Arbeitskraft!O46/NR_Arbeitsprod_Arbeitskraft!$Q46)*100","v":91.82519121983475},{"$f":"(NR_Arbeitsprod_Arbeitskraft!P46/NR_Arbeitsprod_Arbeitskraft!$Q46)*100","v":94.126563583087972},{"$f":"(NR_Arbeitsprod_Arbeitskraft!Q46/NR_Arbeitsprod_Arbeitskraft!$Q46)*100","v":100},{"$f":"(NR_Arbeitsprod_Arbeitskraft!R46/NR_Arbeitsprod_Arbeitskraft!$Q46)*100","v":99.324406946374282},{"$f":"(NR_Arbeitsprod_Arbeitskraft!S46/NR_Arbeitsprod_Arbeitskraft!$Q46)*100","v":100.20442450827456},{"$f":"(NR_Arbeitsprod_Arbeitskraft!T46/NR_Arbeitsprod_Arbeitskraft!$Q46)*100","v":103.0870134418571},{"$f":"(NR_Arbeitsprod_Arbeitskraft!U46/NR_Arbeitsprod_Arbeitskraft!$Q46)*100","v":105.79433339627626},{"$f":"(NR_Arbeitsprod_Arbeitskraft!V46/NR_Arbeitsprod_Arbeitskraft!$Q46)*100","v":104.26163549242334},{"$f":"(NR_Arbeitsprod_Arbeitskraft!W46/NR_Arbeitsprod_Arbeitskraft!$Q46)*100","v":110.23547960816609},{"$f":"(NR_Arbeitsprod_Arbeitskraft!X46/NR_Arbeitsprod_Arbeitskraft!$Q46)*100","v":112.62345038753632}]
["Belgien",{"$f":"(NR_Arbeitsprod_Arbeitskraft!B47/NR_Arbeitsprod_Arbeitskraft!$Q47)*100","v":62.837897575152176},{"$f":"(NR_Arbeitsprod_Arbeitskraft!C47/NR_Arbeitsprod_Arbeitskraft!$Q47)*100","v":62.915941139680434},{"$f":"(NR_Arbeitsprod_Arbeitskraft!D47/NR_Arbeitsprod_Arbeitskraft!$Q47)*100","v":69.549855545474017},{"$f":"(NR_Arbeitsprod_Arbeitskraft!E47/NR_Arbeitsprod_Arbeitskraft!$Q47)*100","v":79.171170793951646},{"$f":"(NR_Arbeitsprod_Arbeitskraft!F47/NR_Arbeitsprod_Arbeitskraft!$Q47)*100","v":78.833429514612988},{"$f":"(NR_Arbeitsprod_Arbeitskraft!G47/NR_Arbeitsprod_Arbeitskraft!$Q47)*100","v":80.894837912645656},{"$f":"(NR_Arbeitsprod_Arbeitskraft!H47/NR_Arbeitsprod_Arbeitskraft!$Q47)*100","v":75.148278252613267},{"$f":"(NR_Arbeitsprod_Arbeitskraft!I47/NR_Arbeitsprod_Arbeitskraft!$Q47)*100","v":74.841893716639476},{"$f":"(NR_Arbeitsprod_Arbeitskraft!J47/NR_Arbeitsprod_Arbeitskraft!$Q47)*100","v":75.748016783060976},{"$f":"(NR_Arbeitsprod_Arbeitskraft!K47/NR_Arbeitsprod_Arbeitskraft!$Q47)*100","v":79.550011483319139},{"$f":"(NR_Arbeitsprod_Arbeitskraft!L47/NR_Arbeitsprod_Arbeitskraft!$Q47)*100","v":82.188254970908602},{"$f":"(NR_Arbeitsprod_Arbeitskraft!M47/NR_Arbeitsprod_Arbeitskraft!$Q47)*100","v":86.592116434487266},{"$f":"(NR_Arbeitsprod_Arbeitskraft!N47/NR_Arbeitsprod_Arbeitskraft!$Q47)*100","v":93.641254783324086},{"$f":"(NR_Arbeitsprod_Arbeitskraft!O47/NR_Arbeitsprod_Arbeitskraft!$Q47)*100","v":97.295636641930443},{"$f":"(NR_Arbeitsprod_Arbeitskraft!P47/NR_Arbeitsprod_Arbeitskraft!$Q47)*100","v":96.168992077849254},{"$f":"(NR_Arbeitsprod_Arbeitskraft!Q47/NR_Arbeitsprod_Arbeitskraft!$Q47)*100","v":100},{"$f":"(NR_Arbeitsprod_Arbeitskraft!R47/NR_Arbeitsprod_Arbeitskraft!$Q47)*100","v":104.81638170079005},{"$f":"(NR_Arbeitsprod_Arbeitskraft!S47/NR_Arbeitsprod_Arbeitskraft!$Q47)*100","v":108.75215450675921},{"$f":"(NR_Arbeitsprod_Arbeitskraft!T47/NR_Arbeitsprod_Arbeitskraft!$Q47)*100","v":107.03621537986396},{"$f":"(NR_Arbeitsprod_Arbeitskraft!U47/NR_Arbeitsprod_Arbeitskraft!$Q47)*100","v":109.2938696305734},{"$f":"(NR_Arbeitsprod_Arbeitskraft!V47/NR_Arbeitsprod_Arbeitskraft!$Q47)*100","v":113.13332374216371},{"$f":"(NR_Arbeitsprod_Arbeitskraft!W47/NR_Arbeitsprod_Arbeitskraft!$Q47)*100","v":113.77994602558488}]
["Tschechien",{"$f":"(NR_Arbeitsprod_Arbeitskraft!B48/NR_Arbeitsprod_Arbeitskraft!$Q48)*100","v":51.545094546360048},{"$f":"(NR_Arbeitsprod_Arbeitskraft!C48/NR_Arbeitsprod_Arbeitskraft!$Q48)*100","v":53.935114322014613},{"$f":"(NR_Arbeitsprod_Arbeitskraft!D48/NR_Arbeitsprod_Arbeitskraft!$Q48)*100","v":52.209326221669052},{"$f":"(NR_Arbeitsprod_Arbeitskraft!E48/NR_Arbeitsprod_Arbeitskraft!$Q48)*100","v":53.87484746670912},{"$f":"(NR_Arbeitsprod_Arbeitskraft!F48/NR_Arbeitsprod_Arbeitskraft!$Q48)*100","v":54.589671928065897},{"$f":"(NR_Arbeitsprod_Arbeitskraft!G48/NR_Arbeitsprod_Arbeitskraft!$Q48)*100","v":57.471671904211263},{"$f":"(NR_Arbeitsprod_Arbeitskraft!H48/NR_Arbeitsprod_Arbeitskraft!$Q48)*100","v":64.724901923189748},{"$f":"(NR_Arbeitsprod_Arbeitskraft!I48/NR_Arbeitsprod_Arbeitskraft!$Q48)*100","v":67.052016364671744},{"$f":"(NR_Arbeitsprod_Arbeitskraft!J48/NR_Arbeitsprod_Arbeitskraft!$Q48)*100","v":79.686795867460873},{"$f":"(NR_Arbeitsprod_Arbeitskraft!K48/NR_Arbeitsprod_Arbeitskraft!$Q48)*100","v":82.439744864404247},{"$f":"(NR_Arbeitsprod_Arbeitskraft!L48/NR_Arbeitsprod_Arbeitskraft!$Q48)*100","v":85.081962927339177},{"$f":"(NR_Arbeitsprod_Arbeitskraft!M48/NR_Arbeitsprod_Arbeitskraft!$Q48)*100","v":100.11005662591177},{"$f":"(NR_Arbeitsprod_Arbeitskraft!N48/NR_Arbeitsprod_Arbeitskraft!$Q48)*100","v":97.872606672679453},{"$f":"(NR_Arbeitsprod_Arbeitskraft!O48/NR_Arbeitsprod_Arbeitskraft!$Q48)*100","v":86.23490411156267},{"$f":"(NR_Arbeitsprod_Arbeitskraft!P48/NR_Arbeitsprod_Arbeitskraft!$Q48)*100","v":97.595116608160566},{"$f":"(NR_Arbeitsprod_Arbeitskraft!Q48/NR_Arbeitsprod_Arbeitskraft!$Q48)*100","v":100},{"$f":"(NR_Arbeitsprod_Arbeitskraft!R48/NR_Arbeitsprod_Arbeitskraft!$Q48)*100","v":105.56121452265789},{"$f":"(NR_Arbeitsprod_Arbeitskraft!S48/NR_Arbeitsprod_Arbeitskraft!$Q48)*100","v":110.43088479329677},{"$f":"(NR_Arbeitsprod_Arbeitskraft!T48/NR_Arbeitsprod_Arbeitskraft!$Q48)*100","v":103.51869966628485},{"$f":"(NR_Arbeitsprod_Arbeitskraft!U48/NR_Arbeitsprod_Arbeitskraft!$Q48)*100","v":103.99693242754711},{"$f":"(NR_Arbeitsprod_Arbeitskraft!V48/NR_Arbeitsprod_Arbeitskraft!$Q48)*100","v":108.26103899472908},{"$f":"(NR_Arbeitsprod_Arbeitskraft!W48/NR_Arbeitsprod_Arbeitskraft!$Q48)*100","v":110.80413954456058},{"$f":"(NR_Arbeitsprod_Arbeitskraft!X48/NR_Arbeitsprod_Arbeitskraft!$Q48)*100","v":107.89410386093867}]
["Dänemark",{"$f":"(NR_Arbeitsprod_Arbeitskraft!B49/NR_Arbeitsprod_Arbeitskraft!$Q49)*100","v":84.414116839266057},{"$f":"(NR_Arbeitsprod_Arbeitskraft!C49/NR_Arbeitsprod_Arbeitskraft!$Q49)*100","v":88.545592583788476},{"$f":"(NR_Arbeitsprod_Arbeitskraft!D49/NR_Arbeitsprod_Arbeitskraft!$Q49)*100","v":91.781447123862321},{"$f":"(NR_Arbeitsprod_Arbeitskraft!E49/NR_Arbeitsprod_Arbeitskraft!$Q49)*100","v":92.018539130372261},{"$f":"(NR_Arbeitsprod_Arbeitskraft!F49/NR_Arbeitsprod_Arbeitskraft!$Q49)*100","v":94.207471875018072},{"$f":"(NR_Arbeitsprod_Arbeitskraft!G49/NR_Arbeitsprod_Arbeitskraft!$Q49)*100","v":97.23511266526387},{"$f":"(NR_Arbeitsprod_Arbeitskraft!H49/NR_Arbeitsprod_Arbeitskraft!$Q49)*100","v":99.034468026920337},{"$f":"(NR_Arbeitsprod_Arbeitskraft!I49/NR_Arbeitsprod_Arbeitskraft!$Q49)*100","v":97.357903143489793},{"$f":"(NR_Arbeitsprod_Arbeitskraft!J49/NR_Arbeitsprod_Arbeitskraft!$Q49)*100","v":97.042329734179319},{"$f":"(NR_Arbeitsprod_Arbeitskraft!K49/NR_Arbeitsprod_Arbeitskraft!$Q49)*100","v":95.652203582713682},{"$f":"(NR_Arbeitsprod_Arbeitskraft!L49/NR_Arbeitsprod_Arbeitskraft!$Q49)*100","v":107.74265594535204},{"$f":"(NR_Arbeitsprod_Arbeitskraft!M49/NR_Arbeitsprod_Arbeitskraft!$Q49)*100","v":105.20263463457798},{"$f":"(NR_Arbeitsprod_Arbeitskraft!N49/NR_Arbeitsprod_Arbeitskraft!$Q49)*100","v":105.78383317938258},{"$f":"(NR_Arbeitsprod_Arbeitskraft!O49/NR_Arbeitsprod_Arbeitskraft!$Q49)*100","v":104.06812146523457},{"$f":"(NR_Arbeitsprod_Arbeitskraft!P49/NR_Arbeitsprod_Arbeitskraft!$Q49)*100","v":107.36709454311001},{"$f":"(NR_Arbeitsprod_Arbeitskraft!Q49/NR_Arbeitsprod_Arbeitskraft!$Q49)*100","v":100},{"$f":"(NR_Arbeitsprod_Arbeitskraft!R49/NR_Arbeitsprod_Arbeitskraft!$Q49)*100","v":95.70534262640264},{"$f":"(NR_Arbeitsprod_Arbeitskraft!S49/NR_Arbeitsprod_Arbeitskraft!$Q49)*100","v":99.149256549257345},{"$f":"(NR_Arbeitsprod_Arbeitskraft!T49/NR_Arbeitsprod_Arbeitskraft!$Q49)*100","v":89.801390350547805},{"$f":"(NR_Arbeitsprod_Arbeitskraft!U49/NR_Arbeitsprod_Arbeitskraft!$Q49)*100","v":88.134271530554386},{"$f":"(NR_Arbeitsprod_Arbeitskraft!V49/NR_Arbeitsprod_Arbeitskraft!$Q49)*100","v":92.330517534903308},{"$f":"(NR_Arbeitsprod_Arbeitskraft!W49/NR_Arbeitsprod_Arbeitskraft!$Q49)*100","v":90.532447061765254},{"$f":"(NR_Arbeitsprod_Arbeitskraft!X49/NR_Arbeitsprod_Arbeitskraft!$Q49)*100","v":106.1016420399433}]
["Estland",{"$f":"(NR_Arbeitsprod_Arbeitskraft!B50/NR_Arbeitsprod_Arbeitskraft!$Q50)*100","v":26.386034429780437},{"$f":"(NR_Arbeitsprod_Arbeitskraft!C50/NR_Arbeitsprod_Arbeitskraft!$Q50)*100","v":30.743085393761959},{"$f":"(NR_Arbeitsprod_Arbeitskraft!D50/NR_Arbeitsprod_Arbeitskraft!$Q50)*100","v":33.307636942360055},{"$f":"(NR_Arbeitsprod_Arbeitskraft!E50/NR_Arbeitsprod_Arbeitskraft!$Q50)*100","v":40.808401458139848},{"$f":"(NR_Arbeitsprod_Arbeitskraft!F50/NR_Arbeitsprod_Arbeitskraft!$Q50)*100","v":39.90754780616907},{"$f":"(NR_Arbeitsprod_Arbeitskraft!G50/NR_Arbeitsprod_Arbeitskraft!$Q50)*100","v":43.700137053727801},{"$f":"(NR_Arbeitsprod_Arbeitskraft!H50/NR_Arbeitsprod_Arbeitskraft!$Q50)*100","v":50.099260577251478},{"$f":"(NR_Arbeitsprod_Arbeitskraft!I50/NR_Arbeitsprod_Arbeitskraft!$Q50)*100","v":58.049156379509093},{"$f":"(NR_Arbeitsprod_Arbeitskraft!J50/NR_Arbeitsprod_Arbeitskraft!$Q50)*100","v":62.053695823508782},{"$f":"(NR_Arbeitsprod_Arbeitskraft!K50/NR_Arbeitsprod_Arbeitskraft!$Q50)*100","v":75.923367604081747},{"$f":"(NR_Arbeitsprod_Arbeitskraft!L50/NR_Arbeitsprod_Arbeitskraft!$Q50)*100","v":97.572866558244272},{"$f":"(NR_Arbeitsprod_Arbeitskraft!M50/NR_Arbeitsprod_Arbeitskraft!$Q50)*100","v":97.420262553956633},{"$f":"(NR_Arbeitsprod_Arbeitskraft!N50/NR_Arbeitsprod_Arbeitskraft!$Q50)*100","v":114.88913170467465},{"$f":"(NR_Arbeitsprod_Arbeitskraft!O50/NR_Arbeitsprod_Arbeitskraft!$Q50)*100","v":113.22021517419363},{"$f":"(NR_Arbeitsprod_Arbeitskraft!P50/NR_Arbeitsprod_Arbeitskraft!$Q50)*100","v":104.22063188889537},{"$f":"(NR_Arbeitsprod_Arbeitskraft!Q50/NR_Arbeitsprod_Arbeitskraft!$Q50)*100","v":100},{"$f":"(NR_Arbeitsprod_Arbeitskraft!R50/NR_Arbeitsprod_Arbeitskraft!$Q50)*100","v":107.42203393250045},{"$f":"(NR_Arbeitsprod_Arbeitskraft!S50/NR_Arbeitsprod_Arbeitskraft!$Q50)*100","v":107.65273159893056},{"$f":"(NR_Arbeitsprod_Arbeitskraft!T50/NR_Arbeitsprod_Arbeitskraft!$Q50)*100","v":116.93922034860032},{"$f":"(NR_Arbeitsprod_Arbeitskraft!U50/NR_Arbeitsprod_Arbeitskraft!$Q50)*100","v":107.36841056402461},{"$f":"(NR_Arbeitsprod_Arbeitskraft!V50/NR_Arbeitsprod_Arbeitskraft!$Q50)*100","v":124.11778543510445},{"$f":"(NR_Arbeitsprod_Arbeitskraft!W50/NR_Arbeitsprod_Arbeitskraft!$Q50)*100","v":141.01598882772873},{"$f":"(NR_Arbeitsprod_Arbeitskraft!X50/NR_Arbeitsprod_Arbeitskraft!$Q50)*100","v":141.78313690270195}]
["Frankreich",{"$f":"(NR_Arbeitsprod_Arbeitskraft!B51/NR_Arbeitsprod_Arbeitskraft!$Q51)*100","v":70.932408503109542},{"$f":"(NR_Arbeitsprod_Arbeitskraft!C51/NR_Arbeitsprod_Arbeitskraft!$Q51)*100","v":73.610443728021806},{"$f":"(NR_Arbeitsprod_Arbeitskraft!D51/NR_Arbeitsprod_Arbeitskraft!$Q51)*100","v":83.472928682642106},{"$f":"(NR_Arbeitsprod_Arbeitskraft!E51/NR_Arbeitsprod_Arbeitskraft!$Q51)*100","v":95.597394821576259},{"$f":"(NR_Arbeitsprod_Arbeitskraft!F51/NR_Arbeitsprod_Arbeitskraft!$Q51)*100","v":113.86828832413029},{"$f":"(NR_Arbeitsprod_Arbeitskraft!G51/NR_Arbeitsprod_Arbeitskraft!$Q51)*100","v":104.49966392717276},{"$f":"(NR_Arbeitsprod_Arbeitskraft!H51/NR_Arbeitsprod_Arbeitskraft!$Q51)*100","v":100.45303970317691},{"$f":"(NR_Arbeitsprod_Arbeitskraft!I51/NR_Arbeitsprod_Arbeitskraft!$Q51)*100","v":98.102415540456164},{"$f":"(NR_Arbeitsprod_Arbeitskraft!J51/NR_Arbeitsprod_Arbeitskraft!$Q51)*100","v":95.379627442755165},{"$f":"(NR_Arbeitsprod_Arbeitskraft!K51/NR_Arbeitsprod_Arbeitskraft!$Q51)*100","v":97.966255398352175},{"$f":"(NR_Arbeitsprod_Arbeitskraft!L51/NR_Arbeitsprod_Arbeitskraft!$Q51)*100","v":99.842436862990041},{"$f":"(NR_Arbeitsprod_Arbeitskraft!M51/NR_Arbeitsprod_Arbeitskraft!$Q51)*100","v":97.260177566337049},{"$f":"(NR_Arbeitsprod_Arbeitskraft!N51/NR_Arbeitsprod_Arbeitskraft!$Q51)*100","v":100.73839687845532},{"$f":"(NR_Arbeitsprod_Arbeitskraft!O51/NR_Arbeitsprod_Arbeitskraft!$Q51)*100","v":100.70136284008721},{"$f":"(NR_Arbeitsprod_Arbeitskraft!P51/NR_Arbeitsprod_Arbeitskraft!$Q51)*100","v":101.54599811679097},{"$f":"(NR_Arbeitsprod_Arbeitskraft!Q51/NR_Arbeitsprod_Arbeitskraft!$Q51)*100","v":100},{"$f":"(NR_Arbeitsprod_Arbeitskraft!R51/NR_Arbeitsprod_Arbeitskraft!$Q51)*100","v":98.380798463877113},{"$f":"(NR_Arbeitsprod_Arbeitskraft!S51/NR_Arbeitsprod_Arbeitskraft!$Q51)*100","v":98.462745082047462},{"$f":"(NR_Arbeitsprod_Arbeitskraft!T51/NR_Arbeitsprod_Arbeitskraft!$Q51)*100","v":95.987603438826795},{"$f":"(NR_Arbeitsprod_Arbeitskraft!U51/NR_Arbeitsprod_Arbeitskraft!$Q51)*100","v":94.887799425715343},{"$f":"(NR_Arbeitsprod_Arbeitskraft!V51/NR_Arbeitsprod_Arbeitskraft!$Q51)*100","v":91.060854637282759},{"$f":"(NR_Arbeitsprod_Arbeitskraft!W51/NR_Arbeitsprod_Arbeitskraft!$Q51)*100","v":93.804396826561117}]
["Griechenland",{"$f":"(NR_Arbeitsprod_Arbeitskraft!B52/NR_Arbeitsprod_Arbeitskraft!$Q52)*100","v":41.956937682742058},{"$f":"(NR_Arbeitsprod_Arbeitskraft!C52/NR_Arbeitsprod_Arbeitskraft!$Q52)*100","v":42.113791314696073},{"$f":"(NR_Arbeitsprod_Arbeitskraft!D52/NR_Arbeitsprod_Arbeitskraft!$Q52)*100","v":51.029689766480224},{"$f":"(NR_Arbeitsprod_Arbeitskraft!E52/NR_Arbeitsprod_Arbeitskraft!$Q52)*100","v":53.123470981848499},{"$f":"(NR_Arbeitsprod_Arbeitskraft!F52/NR_Arbeitsprod_Arbeitskraft!$Q52)*100","v":69.548120830917952},{"$f":"(NR_Arbeitsprod_Arbeitskraft!G52/NR_Arbeitsprod_Arbeitskraft!$Q52)*100","v":71.579034686895397},{"$f":"(NR_Arbeitsprod_Arbeitskraft!H52/NR_Arbeitsprod_Arbeitskraft!$Q52)*100","v":80.904090199106022},{"$f":"(NR_Arbeitsprod_Arbeitskraft!I52/NR_Arbeitsprod_Arbeitskraft!$Q52)*100","v":86.266217414879591},{"$f":"(NR_Arbeitsprod_Arbeitskraft!J52/NR_Arbeitsprod_Arbeitskraft!$Q52)*100","v":83.278407081098393},{"$f":"(NR_Arbeitsprod_Arbeitskraft!K52/NR_Arbeitsprod_Arbeitskraft!$Q52)*100","v":86.127490329186884},{"$f":"(NR_Arbeitsprod_Arbeitskraft!L52/NR_Arbeitsprod_Arbeitskraft!$Q52)*100","v":88.600088405946181},{"$f":"(NR_Arbeitsprod_Arbeitskraft!M52/NR_Arbeitsprod_Arbeitskraft!$Q52)*100","v":95.688560910061256},{"$f":"(NR_Arbeitsprod_Arbeitskraft!N52/NR_Arbeitsprod_Arbeitskraft!$Q52)*100","v":112.46804795071196},{"$f":"(NR_Arbeitsprod_Arbeitskraft!O52/NR_Arbeitsprod_Arbeitskraft!$Q52)*100","v":114.5882386267325},{"$f":"(NR_Arbeitsprod_Arbeitskraft!P52/NR_Arbeitsprod_Arbeitskraft!$Q52)*100","v":111.44784005208504},{"$f":"(NR_Arbeitsprod_Arbeitskraft!Q52/NR_Arbeitsprod_Arbeitskraft!$Q52)*100","v":100},{"$f":"(NR_Arbeitsprod_Arbeitskraft!R52/NR_Arbeitsprod_Arbeitskraft!$Q52)*100","v":103.34754415776879},{"$f":"(NR_Arbeitsprod_Arbeitskraft!S52/NR_Arbeitsprod_Arbeitskraft!$Q52)*100","v":91.875533266225844},{"$f":"(NR_Arbeitsprod_Arbeitskraft!T52/NR_Arbeitsprod_Arbeitskraft!$Q52)*100","v":87.987608413365876},{"$f":"(NR_Arbeitsprod_Arbeitskraft!U52/NR_Arbeitsprod_Arbeitskraft!$Q52)*100","v":87.972018933420856},{"$f":"(NR_Arbeitsprod_Arbeitskraft!V52/NR_Arbeitsprod_Arbeitskraft!$Q52)*100","v":83.236660879414572},{"$f":"(NR_Arbeitsprod_Arbeitskraft!W52/NR_Arbeitsprod_Arbeitskraft!$Q52)*100","v":81.835651563276855},{"$f":"(NR_Arbeitsprod_Arbeitskraft!X52/NR_Arbeitsprod_Arbeitskraft!$Q52)*100","v":80.398067730312206}]
["Italien",{"$f":"(NR_Arbeitsprod_Arbeitskraft!B53/NR_Arbeitsprod_Arbeitskraft!$Q53)*100","v":60.420030543723811},{"$f":"(NR_Arbeitsprod_Arbeitskraft!C53/NR_Arbeitsprod_Arbeitskraft!$Q53)*100","v":60.975417978229331},{"$f":"(NR_Arbeitsprod_Arbeitskraft!D53/NR_Arbeitsprod_Arbeitskraft!$Q53)*100","v":67.789051239761051},{"$f":"(NR_Arbeitsprod_Arbeitskraft!E53/NR_Arbeitsprod_Arbeitskraft!$Q53)*100","v":71.307961064228849},{"$f":"(NR_Arbeitsprod_Arbeitskraft!F53/NR_Arbeitsprod_Arbeitskraft!$Q53)*100","v":81.518063822262604},{"$f":"(NR_Arbeitsprod_Arbeitskraft!G53/NR_Arbeitsprod_Arbeitskraft!$Q53)*100","v":84.710026331477437},{"$f":"(NR_Arbeitsprod_Arbeitskraft!H53/NR_Arbeitsprod_Arbeitskraft!$Q53)*100","v":98.240155883090168},{"$f":"(NR_Arbeitsprod_Arbeitskraft!I53/NR_Arbeitsprod_Arbeitskraft!$Q53)*100","v":92.517835626564477},{"$f":"(NR_Arbeitsprod_Arbeitskraft!J53/NR_Arbeitsprod_Arbeitskraft!$Q53)*100","v":95.66609967703225},{"$f":"(NR_Arbeitsprod_Arbeitskraft!K53/NR_Arbeitsprod_Arbeitskraft!$Q53)*100","v":93.476493328946191},{"$f":"(NR_Arbeitsprod_Arbeitskraft!L53/NR_Arbeitsprod_Arbeitskraft!$Q53)*100","v":97.710477284039996},{"$f":"(NR_Arbeitsprod_Arbeitskraft!M53/NR_Arbeitsprod_Arbeitskraft!$Q53)*100","v":98.960832506155711},{"$f":"(NR_Arbeitsprod_Arbeitskraft!N53/NR_Arbeitsprod_Arbeitskraft!$Q53)*100","v":106.16502883909192},{"$f":"(NR_Arbeitsprod_Arbeitskraft!O53/NR_Arbeitsprod_Arbeitskraft!$Q53)*100","v":99.352832314252041},{"$f":"(NR_Arbeitsprod_Arbeitskraft!P53/NR_Arbeitsprod_Arbeitskraft!$Q53)*100","v":96.782517838991069},{"$f":"(NR_Arbeitsprod_Arbeitskraft!Q53/NR_Arbeitsprod_Arbeitskraft!$Q53)*100","v":100},{"$f":"(NR_Arbeitsprod_Arbeitskraft!R53/NR_Arbeitsprod_Arbeitskraft!$Q53)*100","v":95.306933661743102},{"$f":"(NR_Arbeitsprod_Arbeitskraft!S53/NR_Arbeitsprod_Arbeitskraft!$Q53)*100","v":88.728286037208875},{"$f":"(NR_Arbeitsprod_Arbeitskraft!T53/NR_Arbeitsprod_Arbeitskraft!$Q53)*100","v":88.303373913257232},{"$f":"(NR_Arbeitsprod_Arbeitskraft!U53/NR_Arbeitsprod_Arbeitskraft!$Q53)*100","v":85.315558099826433},{"$f":"(NR_Arbeitsprod_Arbeitskraft!V53/NR_Arbeitsprod_Arbeitskraft!$Q53)*100","v":90.986175103889053}]
["Spanien"]
["Finnland",{"$f":"(NR_Arbeitsprod_Arbeitskraft!B55/NR_Arbeitsprod_Arbeitskraft!$Q55)*100","v":73.172673445546735},{"$f":"(NR_Arbeitsprod_Arbeitskraft!C55/NR_Arbeitsprod_Arbeitskraft!$Q55)*100","v":76.075760184484992},{"$f":"(NR_Arbeitsprod_Arbeitskraft!D55/NR_Arbeitsprod_Arbeitskraft!$Q55)*100","v":81.467421340354903},{"$f":"(NR_Arbeitsprod_Arbeitskraft!E55/NR_Arbeitsprod_Arbeitskraft!$Q55)*100","v":83.23384721619928},{"$f":"(NR_Arbeitsprod_Arbeitskraft!F55/NR_Arbeitsprod_Arbeitskraft!$Q55)*100","v":91.575877748232386},{"$f":"(NR_Arbeitsprod_Arbeitskraft!G55/NR_Arbeitsprod_Arbeitskraft!$Q55)*100","v":95.881080891545892},{"$f":"(NR_Arbeitsprod_Arbeitskraft!H55/NR_Arbeitsprod_Arbeitskraft!$Q55)*100","v":95.288172945206554},{"$f":"(NR_Arbeitsprod_Arbeitskraft!I55/NR_Arbeitsprod_Arbeitskraft!$Q55)*100","v":95.923383548219306},{"$f":"(NR_Arbeitsprod_Arbeitskraft!J55/NR_Arbeitsprod_Arbeitskraft!$Q55)*100","v":98.347625272515742},{"$f":"(NR_Arbeitsprod_Arbeitskraft!K55/NR_Arbeitsprod_Arbeitskraft!$Q55)*100","v":102.61679737713708},{"$f":"(NR_Arbeitsprod_Arbeitskraft!L55/NR_Arbeitsprod_Arbeitskraft!$Q55)*100","v":102.77367714210979},{"$f":"(NR_Arbeitsprod_Arbeitskraft!M55/NR_Arbeitsprod_Arbeitskraft!$Q55)*100","v":101.70177867879752},{"$f":"(NR_Arbeitsprod_Arbeitskraft!N55/NR_Arbeitsprod_Arbeitskraft!$Q55)*100","v":101.50653679654909},{"$f":"(NR_Arbeitsprod_Arbeitskraft!O55/NR_Arbeitsprod_Arbeitskraft!$Q55)*100","v":102.00785098605971},{"$f":"(NR_Arbeitsprod_Arbeitskraft!P55/NR_Arbeitsprod_Arbeitskraft!$Q55)*100","v":94.257832882921477},{"$f":"(NR_Arbeitsprod_Arbeitskraft!Q55/NR_Arbeitsprod_Arbeitskraft!$Q55)*100","v":100},{"$f":"(NR_Arbeitsprod_Arbeitskraft!R55/NR_Arbeitsprod_Arbeitskraft!$Q55)*100","v":109.34440932147321},{"$f":"(NR_Arbeitsprod_Arbeitskraft!S55/NR_Arbeitsprod_Arbeitskraft!$Q55)*100","v":114.77960434152901},{"$f":"(NR_Arbeitsprod_Arbeitskraft!T55/NR_Arbeitsprod_Arbeitskraft!$Q55)*100","v":109.39103095825766},{"$f":"(NR_Arbeitsprod_Arbeitskraft!U55/NR_Arbeitsprod_Arbeitskraft!$Q55)*100","v":101.9891393428771},{"$f":"(NR_Arbeitsprod_Arbeitskraft!V55/NR_Arbeitsprod_Arbeitskraft!$Q55)*100","v":87.797347469188651},{"$f":"(NR_Arbeitsprod_Arbeitskraft!W55/NR_Arbeitsprod_Arbeitskraft!$Q55)*100","v":87.56288834335696},{"$f":"(NR_Arbeitsprod_Arbeitskraft!X55/NR_Arbeitsprod_Arbeitskraft!$Q55)*100","v":87.771709156081016}]
["Ungarn",{"$f":"(NR_Arbeitsprod_Arbeitskraft!B56/NR_Arbeitsprod_Arbeitskraft!$Q56)*100","v":46.843271277382151},{"$f":"(NR_Arbeitsprod_Arbeitskraft!C56/NR_Arbeitsprod_Arbeitskraft!$Q56)*100","v":42.841185525800952},{"$f":"(NR_Arbeitsprod_Arbeitskraft!D56/NR_Arbeitsprod_Arbeitskraft!$Q56)*100","v":41.608614425203982},{"$f":"(NR_Arbeitsprod_Arbeitskraft!E56/NR_Arbeitsprod_Arbeitskraft!$Q56)*100","v":44.470348414444416},{"$f":"(NR_Arbeitsprod_Arbeitskraft!F56/NR_Arbeitsprod_Arbeitskraft!$Q56)*100","v":46.333244516619885},{"$f":"(NR_Arbeitsprod_Arbeitskraft!G56/NR_Arbeitsprod_Arbeitskraft!$Q56)*100","v":44.056848772389607},{"$f":"(NR_Arbeitsprod_Arbeitskraft!H56/NR_Arbeitsprod_Arbeitskraft!$Q56)*100","v":65.158681295876818},{"$f":"(NR_Arbeitsprod_Arbeitskraft!I56/NR_Arbeitsprod_Arbeitskraft!$Q56)*100","v":83.098826037963164},{"$f":"(NR_Arbeitsprod_Arbeitskraft!J56/NR_Arbeitsprod_Arbeitskraft!$Q56)*100","v":74.947254862011221},{"$f":"(NR_Arbeitsprod_Arbeitskraft!K56/NR_Arbeitsprod_Arbeitskraft!$Q56)*100","v":91.512252869104344},{"$f":"(NR_Arbeitsprod_Arbeitskraft!L56/NR_Arbeitsprod_Arbeitskraft!$Q56)*100","v":98.089900700767799},{"$f":"(NR_Arbeitsprod_Arbeitskraft!M56/NR_Arbeitsprod_Arbeitskraft!$Q56)*100","v":97.005535480118581},{"$f":"(NR_Arbeitsprod_Arbeitskraft!N56/NR_Arbeitsprod_Arbeitskraft!$Q56)*100","v":103.98143541071587},{"$f":"(NR_Arbeitsprod_Arbeitskraft!O56/NR_Arbeitsprod_Arbeitskraft!$Q56)*100","v":117.61077356586742},{"$f":"(NR_Arbeitsprod_Arbeitskraft!P56/NR_Arbeitsprod_Arbeitskraft!$Q56)*100","v":100.49681734426731},{"$f":"(NR_Arbeitsprod_Arbeitskraft!Q56/NR_Arbeitsprod_Arbeitskraft!$Q56)*100","v":100},{"$f":"(NR_Arbeitsprod_Arbeitskraft!R56/NR_Arbeitsprod_Arbeitskraft!$Q56)*100","v":99.659793201806522},{"$f":"(NR_Arbeitsprod_Arbeitskraft!S56/NR_Arbeitsprod_Arbeitskraft!$Q56)*100","v":97.403198211595438},{"$f":"(NR_Arbeitsprod_Arbeitskraft!T56/NR_Arbeitsprod_Arbeitskraft!$Q56)*100","v":102.6044459223213},{"$f":"(NR_Arbeitsprod_Arbeitskraft!U56/NR_Arbeitsprod_Arbeitskraft!$Q56)*100","v":109.00110385894712},{"$f":"(NR_Arbeitsprod_Arbeitskraft!V56/NR_Arbeitsprod_Arbeitskraft!$Q56)*100","v":113.6422151862928},{"$f":"(NR_Arbeitsprod_Arbeitskraft!W56/NR_Arbeitsprod_Arbeitskraft!$Q56)*100","v":109.90526091924283},{"$f":"(NR_Arbeitsprod_Arbeitskraft!X56/NR_Arbeitsprod_Arbeitskraft!$Q56)*100","v":104.29855025397509}]
["Irland"]
["Niederlande",{"$f":"(NR_Arbeitsprod_Arbeitskraft!B58/NR_Arbeitsprod_Arbeitskraft!$Q58)*100","v":79.787837680749249},{"$f":"(NR_Arbeitsprod_Arbeitskraft!C58/NR_Arbeitsprod_Arbeitskraft!$Q58)*100","v":83.705482008779214},{"$f":"(NR_Arbeitsprod_Arbeitskraft!D58/NR_Arbeitsprod_Arbeitskraft!$Q58)*100","v":84.487985179267255},{"$f":"(NR_Arbeitsprod_Arbeitskraft!E58/NR_Arbeitsprod_Arbeitskraft!$Q58)*100","v":87.812370188224534},{"$f":"(NR_Arbeitsprod_Arbeitskraft!F58/NR_Arbeitsprod_Arbeitskraft!$Q58)*100","v":87.758353024441462},{"$f":"(NR_Arbeitsprod_Arbeitskraft!G58/NR_Arbeitsprod_Arbeitskraft!$Q58)*100","v":88.906734841172408},{"$f":"(NR_Arbeitsprod_Arbeitskraft!H58/NR_Arbeitsprod_Arbeitskraft!$Q58)*100","v":89.868753346228502},{"$f":"(NR_Arbeitsprod_Arbeitskraft!I58/NR_Arbeitsprod_Arbeitskraft!$Q58)*100","v":93.306898929797171},{"$f":"(NR_Arbeitsprod_Arbeitskraft!J58/NR_Arbeitsprod_Arbeitskraft!$Q58)*100","v":96.883776406496651},{"$f":"(NR_Arbeitsprod_Arbeitskraft!K58/NR_Arbeitsprod_Arbeitskraft!$Q58)*100","v":106.46928086462512},{"$f":"(NR_Arbeitsprod_Arbeitskraft!L58/NR_Arbeitsprod_Arbeitskraft!$Q58)*100","v":107.47234458763721},{"$f":"(NR_Arbeitsprod_Arbeitskraft!M58/NR_Arbeitsprod_Arbeitskraft!$Q58)*100","v":109.65193914239029},{"$f":"(NR_Arbeitsprod_Arbeitskraft!N58/NR_Arbeitsprod_Arbeitskraft!$Q58)*100","v":111.34012295552742},{"$f":"(NR_Arbeitsprod_Arbeitskraft!O58/NR_Arbeitsprod_Arbeitskraft!$Q58)*100","v":109.52843365381031},{"$f":"(NR_Arbeitsprod_Arbeitskraft!P58/NR_Arbeitsprod_Arbeitskraft!$Q58)*100","v":102.99452130187878},{"$f":"(NR_Arbeitsprod_Arbeitskraft!Q58/NR_Arbeitsprod_Arbeitskraft!$Q58)*100","v":100},{"$f":"(NR_Arbeitsprod_Arbeitskraft!R58/NR_Arbeitsprod_Arbeitskraft!$Q58)*100","v":98.038073038073065},{"$f":"(NR_Arbeitsprod_Arbeitskraft!S58/NR_Arbeitsprod_Arbeitskraft!$Q58)*100","v":92.938573896450407},{"$f":"(NR_Arbeitsprod_Arbeitskraft!T58/NR_Arbeitsprod_Arbeitskraft!$Q58)*100","v":88.53943351688504},{"$f":"(NR_Arbeitsprod_Arbeitskraft!U58/NR_Arbeitsprod_Arbeitskraft!$Q58)*100","v":93.263707557194948},{"$f":"(NR_Arbeitsprod_Arbeitskraft!V58/NR_Arbeitsprod_Arbeitskraft!$Q58)*100","v":92.795035149018133},{"$f":"(NR_Arbeitsprod_Arbeitskraft!W58/NR_Arbeitsprod_Arbeitskraft!$Q58)*100","v":99.233231820086559},{"$f":"(NR_Arbeitsprod_Arbeitskraft!X58/NR_Arbeitsprod_Arbeitskraft!$Q58)*100","v":103.68450773116011}]
["Portugal",{"$f":"(NR_Arbeitsprod_Arbeitskraft!B59/NR_Arbeitsprod_Arbeitskraft!$Q59)*100","v":67.174679644523636},{"$f":"(NR_Arbeitsprod_Arbeitskraft!C59/NR_Arbeitsprod_Arbeitskraft!$Q59)*100","v":71.453600190417006},{"$f":"(NR_Arbeitsprod_Arbeitskraft!D59/NR_Arbeitsprod_Arbeitskraft!$Q59)*100","v":74.396969630480044},{"$f":"(NR_Arbeitsprod_Arbeitskraft!E59/NR_Arbeitsprod_Arbeitskraft!$Q59)*100","v":77.583301260437594},{"$f":"(NR_Arbeitsprod_Arbeitskraft!F59/NR_Arbeitsprod_Arbeitskraft!$Q59)*100","v":79.43646491352267},{"$f":"(NR_Arbeitsprod_Arbeitskraft!G59/NR_Arbeitsprod_Arbeitskraft!$Q59)*100","v":84.670314235736654},{"$f":"(NR_Arbeitsprod_Arbeitskraft!H59/NR_Arbeitsprod_Arbeitskraft!$Q59)*100","v":83.716934949558734},{"$f":"(NR_Arbeitsprod_Arbeitskraft!I59/NR_Arbeitsprod_Arbeitskraft!$Q59)*100","v":84.06358790780007},{"$f":"(NR_Arbeitsprod_Arbeitskraft!J59/NR_Arbeitsprod_Arbeitskraft!$Q59)*100","v":83.752255148460932},{"$f":"(NR_Arbeitsprod_Arbeitskraft!K59/NR_Arbeitsprod_Arbeitskraft!$Q59)*100","v":86.974435359047135},{"$f":"(NR_Arbeitsprod_Arbeitskraft!L59/NR_Arbeitsprod_Arbeitskraft!$Q59)*100","v":89.955379879868076},{"$f":"(NR_Arbeitsprod_Arbeitskraft!M59/NR_Arbeitsprod_Arbeitskraft!$Q59)*100","v":91.451543444739713},{"$f":"(NR_Arbeitsprod_Arbeitskraft!N59/NR_Arbeitsprod_Arbeitskraft!$Q59)*100","v":98.721104806700893},{"$f":"(NR_Arbeitsprod_Arbeitskraft!O59/NR_Arbeitsprod_Arbeitskraft!$Q59)*100","v":99.873653449495166},{"$f":"(NR_Arbeitsprod_Arbeitskraft!P59/NR_Arbeitsprod_Arbeitskraft!$Q59)*100","v":96.524155008224525},{"$f":"(NR_Arbeitsprod_Arbeitskraft!Q59/NR_Arbeitsprod_Arbeitskraft!$Q59)*100","v":100},{"$f":"(NR_Arbeitsprod_Arbeitskraft!R59/NR_Arbeitsprod_Arbeitskraft!$Q59)*100","v":98.733766136193523},{"$f":"(NR_Arbeitsprod_Arbeitskraft!S59/NR_Arbeitsprod_Arbeitskraft!$Q59)*100","v":96.316192170407476},{"$f":"(NR_Arbeitsprod_Arbeitskraft!T59/NR_Arbeitsprod_Arbeitskraft!$Q59)*100","v":100.04816558305207},{"$f":"(NR_Arbeitsprod_Arbeitskraft!U59/NR_Arbeitsprod_Arbeitskraft!$Q59)*100","v":103.41228319826918},{"$f":"(NR_Arbeitsprod_Arbeitskraft!V59/NR_Arbeitsprod_Arbeitskraft!$Q59)*100","v":100.31431540421029},{"$f":"(NR_Arbeitsprod_Arbeitskraft!W59/NR_Arbeitsprod_Arbeitskraft!$Q59)*100","v":94.995664851779694}]
["Rumänien",{"$f":"(NR_Arbeitsprod_Arbeitskraft!B60/NR_Arbeitsprod_Arbeitskraft!$Q60)*100","v":84.275930708969838},{"$f":"(NR_Arbeitsprod_Arbeitskraft!C60/NR_Arbeitsprod_Arbeitskraft!$Q60)*100","v":107.6349326968199},{"$f":"(NR_Arbeitsprod_Arbeitskraft!D60/NR_Arbeitsprod_Arbeitskraft!$Q60)*100","v":113.32130649967075},{"$f":"(NR_Arbeitsprod_Arbeitskraft!E60/NR_Arbeitsprod_Arbeitskraft!$Q60)*100","v":116.31788315676627},{"$f":"(NR_Arbeitsprod_Arbeitskraft!F60/NR_Arbeitsprod_Arbeitskraft!$Q60)*100","v":120.91459062509465},{"$f":"(NR_Arbeitsprod_Arbeitskraft!G60/NR_Arbeitsprod_Arbeitskraft!$Q60)*100","v":111.46856710241786},{"$f":"(NR_Arbeitsprod_Arbeitskraft!H60/NR_Arbeitsprod_Arbeitskraft!$Q60)*100","v":120.97611742897519},{"$f":"(NR_Arbeitsprod_Arbeitskraft!I60/NR_Arbeitsprod_Arbeitskraft!$Q60)*100","v":119.24903533620453},{"$f":"(NR_Arbeitsprod_Arbeitskraft!J60/NR_Arbeitsprod_Arbeitskraft!$Q60)*100","v":119.32771542140543},{"$f":"(NR_Arbeitsprod_Arbeitskraft!K60/NR_Arbeitsprod_Arbeitskraft!$Q60)*100","v":121.69272855614122},{"$f":"(NR_Arbeitsprod_Arbeitskraft!L60/NR_Arbeitsprod_Arbeitskraft!$Q60)*100","v":128.41533987260664},{"$f":"(NR_Arbeitsprod_Arbeitskraft!M60/NR_Arbeitsprod_Arbeitskraft!$Q60)*100","v":128.90308205678411},{"$f":"(NR_Arbeitsprod_Arbeitskraft!N60/NR_Arbeitsprod_Arbeitskraft!$Q60)*100","v":126.08851481827037},{"$f":"(NR_Arbeitsprod_Arbeitskraft!O60/NR_Arbeitsprod_Arbeitskraft!$Q60)*100","v":160.26826095360127},{"$f":"(NR_Arbeitsprod_Arbeitskraft!P60/NR_Arbeitsprod_Arbeitskraft!$Q60)*100","v":136.47249455337689},{"$f":"(NR_Arbeitsprod_Arbeitskraft!Q60/NR_Arbeitsprod_Arbeitskraft!$Q60)*100","v":100},{"$f":"(NR_Arbeitsprod_Arbeitskraft!R60/NR_Arbeitsprod_Arbeitskraft!$Q60)*100","v":102.0074969130953},{"$f":"(NR_Arbeitsprod_Arbeitskraft!S60/NR_Arbeitsprod_Arbeitskraft!$Q60)*100","v":106.38345486315635},{"$f":"(NR_Arbeitsprod_Arbeitskraft!T60/NR_Arbeitsprod_Arbeitskraft!$Q60)*100","v":113.15098965899111},{"$f":"(NR_Arbeitsprod_Arbeitskraft!U60/NR_Arbeitsprod_Arbeitskraft!$Q60)*100","v":136.36751761921323},{"$f":"(NR_Arbeitsprod_Arbeitskraft!V60/NR_Arbeitsprod_Arbeitskraft!$Q60)*100","v":128.37555786124233},{"$f":"(NR_Arbeitsprod_Arbeitskraft!W60/NR_Arbeitsprod_Arbeitskraft!$Q60)*100","v":177.04261017122016},{"$f":"(NR_Arbeitsprod_Arbeitskraft!X60/NR_Arbeitsprod_Arbeitskraft!$Q60)*100","v":153.94240718208036}]
["Slowenien",null,null,null,null,null,{"$f":"(NR_Arbeitsprod_Arbeitskraft!G61/NR_Arbeitsprod_Arbeitskraft!$Q61)*100","v":100.78213617722047},{"$f":"(NR_Arbeitsprod_Arbeitskraft!H61/NR_Arbeitsprod_Arbeitskraft!$Q61)*100","v":87.598234865472307},{"$f":"(NR_Arbeitsprod_Arbeitskraft!I61/NR_Arbeitsprod_Arbeitskraft!$Q61)*100","v":90.707178644116254},{"$f":"(NR_Arbeitsprod_Arbeitskraft!J61/NR_Arbeitsprod_Arbeitskraft!$Q61)*100","v":91.59013827063896},{"$f":"(NR_Arbeitsprod_Arbeitskraft!K61/NR_Arbeitsprod_Arbeitskraft!$Q61)*100","v":90.799721661420861},{"$f":"(NR_Arbeitsprod_Arbeitskraft!L61/NR_Arbeitsprod_Arbeitskraft!$Q61)*100","v":87.793150001814212},{"$f":"(NR_Arbeitsprod_Arbeitskraft!M61/NR_Arbeitsprod_Arbeitskraft!$Q61)*100","v":93.820039232872361},{"$f":"(NR_Arbeitsprod_Arbeitskraft!N61/NR_Arbeitsprod_Arbeitskraft!$Q61)*100","v":93.417796976614312},{"$f":"(NR_Arbeitsprod_Arbeitskraft!O61/NR_Arbeitsprod_Arbeitskraft!$Q61)*100","v":100.67323670843552},{"$f":"(NR_Arbeitsprod_Arbeitskraft!P61/NR_Arbeitsprod_Arbeitskraft!$Q61)*100","v":95.718944123504272},{"$f":"(NR_Arbeitsprod_Arbeitskraft!Q61/NR_Arbeitsprod_Arbeitskraft!$Q61)*100","v":100},{"$f":"(NR_Arbeitsprod_Arbeitskraft!R61/NR_Arbeitsprod_Arbeitskraft!$Q61)*100","v":107.26466165413532},{"$f":"(NR_Arbeitsprod_Arbeitskraft!S61/NR_Arbeitsprod_Arbeitskraft!$Q61)*100","v":103.37489894123337},{"$f":"(NR_Arbeitsprod_Arbeitskraft!T61/NR_Arbeitsprod_Arbeitskraft!$Q61)*100","v":100.0298471430356},{"$f":"(NR_Arbeitsprod_Arbeitskraft!U61/NR_Arbeitsprod_Arbeitskraft!$Q61)*100","v":105.43295116003068},{"$f":"(NR_Arbeitsprod_Arbeitskraft!V61/NR_Arbeitsprod_Arbeitskraft!$Q61)*100","v":106.73871197166361},{"$f":"(NR_Arbeitsprod_Arbeitskraft!W61/NR_Arbeitsprod_Arbeitskraft!$Q61)*100","v":113.27401563135102}]
["Slowakei",{"$f":"(NR_Arbeitsprod_Arbeitskraft!B62/NR_Arbeitsprod_Arbeitskraft!$Q62)*100","v":63.384297706698831},{"$f":"(NR_Arbeitsprod_Arbeitskraft!C62/NR_Arbeitsprod_Arbeitskraft!$Q62)*100","v":74.975193512316565},{"$f":"(NR_Arbeitsprod_Arbeitskraft!D62/NR_Arbeitsprod_Arbeitskraft!$Q62)*100","v":85.455032943593906},{"$f":"(NR_Arbeitsprod_Arbeitskraft!E62/NR_Arbeitsprod_Arbeitskraft!$Q62)*100","v":88.94098588906914},{"$f":"(NR_Arbeitsprod_Arbeitskraft!F62/NR_Arbeitsprod_Arbeitskraft!$Q62)*100","v":97.670940507835041},{"$f":"(NR_Arbeitsprod_Arbeitskraft!G62/NR_Arbeitsprod_Arbeitskraft!$Q62)*100","v":77.205870869793586},{"$f":"(NR_Arbeitsprod_Arbeitskraft!H62/NR_Arbeitsprod_Arbeitskraft!$Q62)*100","v":80.573039886042494},{"$f":"(NR_Arbeitsprod_Arbeitskraft!I62/NR_Arbeitsprod_Arbeitskraft!$Q62)*100","v":70.420043661421346},{"$f":"(NR_Arbeitsprod_Arbeitskraft!J62/NR_Arbeitsprod_Arbeitskraft!$Q62)*100","v":75.744859877302744},{"$f":"(NR_Arbeitsprod_Arbeitskraft!K62/NR_Arbeitsprod_Arbeitskraft!$Q62)*100","v":78.286497986002885},{"$f":"(NR_Arbeitsprod_Arbeitskraft!L62/NR_Arbeitsprod_Arbeitskraft!$Q62)*100","v":88.938564194110043},{"$f":"(NR_Arbeitsprod_Arbeitskraft!M62/NR_Arbeitsprod_Arbeitskraft!$Q62)*100","v":98.761391965940888},{"$f":"(NR_Arbeitsprod_Arbeitskraft!N62/NR_Arbeitsprod_Arbeitskraft!$Q62)*100","v":109.49763333050295},{"$f":"(NR_Arbeitsprod_Arbeitskraft!O62/NR_Arbeitsprod_Arbeitskraft!$Q62)*100","v":108.34220933239898},{"$f":"(NR_Arbeitsprod_Arbeitskraft!P62/NR_Arbeitsprod_Arbeitskraft!$Q62)*100","v":97.97464587896097},{"$f":"(NR_Arbeitsprod_Arbeitskraft!Q62/NR_Arbeitsprod_Arbeitskraft!$Q62)*100","v":100},{"$f":"(NR_Arbeitsprod_Arbeitskraft!R62/NR_Arbeitsprod_Arbeitskraft!$Q62)*100","v":108.44489075019604},{"$f":"(NR_Arbeitsprod_Arbeitskraft!S62/NR_Arbeitsprod_Arbeitskraft!$Q62)*100","v":113.79386510083303},{"$f":"(NR_Arbeitsprod_Arbeitskraft!T62/NR_Arbeitsprod_Arbeitskraft!$Q62)*100","v":113.78965370329564},{"$f":"(NR_Arbeitsprod_Arbeitskraft!U62/NR_Arbeitsprod_Arbeitskraft!$Q62)*100","v":122.84784839292711},{"$f":"(NR_Arbeitsprod_Arbeitskraft!V62/NR_Arbeitsprod_Arbeitskraft!$Q62)*100","v":129.70905130409869}]
["Großbritannien"]
[]
["PW (preisbereinigt)/Angestellte"]
[null,1995,{"$f":"B66+1","v":1996},{"$f":"C66+1","v":1997},1998,1999,2000,2001,2002,2003,2004,2005,2006,2007,2008,2009,2010,2011,2012,2013,2014,2015,2016,2017]
["Österreich",{"$f":"(NR_Arbeitsprod_Arbeitskraft!B67/NR_Arbeitsprod_Arbeitskraft!$Q67)*100","v":26.141977093658163},{"$f":"(NR_Arbeitsprod_Arbeitskraft!C67/NR_Arbeitsprod_Arbeitskraft!$Q67)*100","v":32.145698678255144},{"$f":"(NR_Arbeitsprod_Arbeitskraft!D67/NR_Arbeitsprod_Arbeitskraft!$Q67)*100","v":35.028163204555497},{"$f":"(NR_Arbeitsprod_Arbeitskraft!E67/NR_Arbeitsprod_Arbeitskraft!$Q67)*100","v":39.999225097175326},{"$f":"(NR_Arbeitsprod_Arbeitskraft!F67/NR_Arbeitsprod_Arbeitskraft!$Q67)*100","v":44.046531308617922},{"$f":"(NR_Arbeitsprod_Arbeitskraft!G67/NR_Arbeitsprod_Arbeitskraft!$Q67)*100","v":50.137011911590299},{"$f":"(NR_Arbeitsprod_Arbeitskraft!H67/NR_Arbeitsprod_Arbeitskraft!$Q67)*100","v":49.999284690168579},{"$f":"(NR_Arbeitsprod_Arbeitskraft!I67/NR_Arbeitsprod_Arbeitskraft!$Q67)*100","v":51.31849423918576},{"$f":"(NR_Arbeitsprod_Arbeitskraft!J67/NR_Arbeitsprod_Arbeitskraft!$Q67)*100","v":56.644154090278811},{"$f":"(NR_Arbeitsprod_Arbeitskraft!K67/NR_Arbeitsprod_Arbeitskraft!$Q67)*100","v":59.181703937486439},{"$f":"(NR_Arbeitsprod_Arbeitskraft!L67/NR_Arbeitsprod_Arbeitskraft!$Q67)*100","v":75.076953165033487},{"$f":"(NR_Arbeitsprod_Arbeitskraft!M67/NR_Arbeitsprod_Arbeitskraft!$Q67)*100","v":83.761719640751977},{"$f":"(NR_Arbeitsprod_Arbeitskraft!N67/NR_Arbeitsprod_Arbeitskraft!$Q67)*100","v":89.137474555446886},{"$f":"(NR_Arbeitsprod_Arbeitskraft!O67/NR_Arbeitsprod_Arbeitskraft!$Q67)*100","v":91.720048400540449},{"$f":"(NR_Arbeitsprod_Arbeitskraft!P67/NR_Arbeitsprod_Arbeitskraft!$Q67)*100","v":94.039817109888517},{"$f":"(NR_Arbeitsprod_Arbeitskraft!Q67/NR_Arbeitsprod_Arbeitskraft!$Q67)*100","v":100},{"$f":"(NR_Arbeitsprod_Arbeitskraft!R67/NR_Arbeitsprod_Arbeitskraft!$Q67)*100","v":99.505489934698957},{"$f":"(NR_Arbeitsprod_Arbeitskraft!S67/NR_Arbeitsprod_Arbeitskraft!$Q67)*100","v":100.43205339982704},{"$f":"(NR_Arbeitsprod_Arbeitskraft!T67/NR_Arbeitsprod_Arbeitskraft!$Q67)*100","v":103.34432842983676},{"$f":"(NR_Arbeitsprod_Arbeitskraft!U67/NR_Arbeitsprod_Arbeitskraft!$Q67)*100","v":105.94520561659266},{"$f":"(NR_Arbeitsprod_Arbeitskraft!V67/NR_Arbeitsprod_Arbeitskraft!$Q67)*100","v":104.31264089590874},{"$f":"(NR_Arbeitsprod_Arbeitskraft!W67/NR_Arbeitsprod_Arbeitskraft!$Q67)*100","v":110.39245769460513},{"$f":"(NR_Arbeitsprod_Arbeitskraft!X67/NR_Arbeitsprod_Arbeitskraft!$Q67)*100","v":112.82768452250941}]
["Belgien",{"$f":"(NR_Arbeitsprod_Arbeitskraft!B68/NR_Arbeitsprod_Arbeitskraft!$Q68)*100","v":61.415653627249235},{"$f":"(NR_Arbeitsprod_Arbeitskraft!C68/NR_Arbeitsprod_Arbeitskraft!$Q68)*100","v":61.57263208332445},{"$f":"(NR_Arbeitsprod_Arbeitskraft!D68/NR_Arbeitsprod_Arbeitskraft!$Q68)*100","v":68.246256666509069},{"$f":"(NR_Arbeitsprod_Arbeitskraft!E68/NR_Arbeitsprod_Arbeitskraft!$Q68)*100","v":77.964534889906815},{"$f":"(NR_Arbeitsprod_Arbeitskraft!F68/NR_Arbeitsprod_Arbeitskraft!$Q68)*100","v":77.779436123072969},{"$f":"(NR_Arbeitsprod_Arbeitskraft!G68/NR_Arbeitsprod_Arbeitskraft!$Q68)*100","v":79.862464512644991},{"$f":"(NR_Arbeitsprod_Arbeitskraft!H68/NR_Arbeitsprod_Arbeitskraft!$Q68)*100","v":74.258632637060657},{"$f":"(NR_Arbeitsprod_Arbeitskraft!I68/NR_Arbeitsprod_Arbeitskraft!$Q68)*100","v":74.023184119511825},{"$f":"(NR_Arbeitsprod_Arbeitskraft!J68/NR_Arbeitsprod_Arbeitskraft!$Q68)*100","v":75.017724440605377},{"$f":"(NR_Arbeitsprod_Arbeitskraft!K68/NR_Arbeitsprod_Arbeitskraft!$Q68)*100","v":78.94115810604066},{"$f":"(NR_Arbeitsprod_Arbeitskraft!L68/NR_Arbeitsprod_Arbeitskraft!$Q68)*100","v":81.80129043843597},{"$f":"(NR_Arbeitsprod_Arbeitskraft!M68/NR_Arbeitsprod_Arbeitskraft!$Q68)*100","v":86.003432113952329},{"$f":"(NR_Arbeitsprod_Arbeitskraft!N68/NR_Arbeitsprod_Arbeitskraft!$Q68)*100","v":93.158605738292593},{"$f":"(NR_Arbeitsprod_Arbeitskraft!O68/NR_Arbeitsprod_Arbeitskraft!$Q68)*100","v":97.013578749347687},{"$f":"(NR_Arbeitsprod_Arbeitskraft!P68/NR_Arbeitsprod_Arbeitskraft!$Q68)*100","v":96.195305822217222},{"$f":"(NR_Arbeitsprod_Arbeitskraft!Q68/NR_Arbeitsprod_Arbeitskraft!$Q68)*100","v":100},{"$f":"(NR_Arbeitsprod_Arbeitskraft!R68/NR_Arbeitsprod_Arbeitskraft!$Q68)*100","v":104.77935203493536},{"$f":"(NR_Arbeitsprod_Arbeitskraft!S68/NR_Arbeitsprod_Arbeitskraft!$Q68)*100","v":108.9032791612057},{"$f":"(NR_Arbeitsprod_Arbeitskraft!T68/NR_Arbeitsprod_Arbeitskraft!$Q68)*100","v":107.34680141025987},{"$f":"(NR_Arbeitsprod_Arbeitskraft!U68/NR_Arbeitsprod_Arbeitskraft!$Q68)*100","v":109.75087205659628},{"$f":"(NR_Arbeitsprod_Arbeitskraft!V68/NR_Arbeitsprod_Arbeitskraft!$Q68)*100","v":113.72591909032454},{"$f":"(NR_Arbeitsprod_Arbeitskraft!W68/NR_Arbeitsprod_Arbeitskraft!$Q68)*100","v":114.33165912062972}]
["Tschechien",{"$f":"(NR_Arbeitsprod_Arbeitskraft!B69/NR_Arbeitsprod_Arbeitskraft!$Q69)*100","v":51.399736946570719},{"$f":"(NR_Arbeitsprod_Arbeitskraft!C69/NR_Arbeitsprod_Arbeitskraft!$Q69)*100","v":53.797917033990394},{"$f":"(NR_Arbeitsprod_Arbeitskraft!D69/NR_Arbeitsprod_Arbeitskraft!$Q69)*100","v":52.104922787880966},{"$f":"(NR_Arbeitsprod_Arbeitskraft!E69/NR_Arbeitsprod_Arbeitskraft!$Q69)*100","v":53.76925328657746},{"$f":"(NR_Arbeitsprod_Arbeitskraft!F69/NR_Arbeitsprod_Arbeitskraft!$Q69)*100","v":54.500619426396867},{"$f":"(NR_Arbeitsprod_Arbeitskraft!G69/NR_Arbeitsprod_Arbeitskraft!$Q69)*100","v":57.353327400928833},{"$f":"(NR_Arbeitsprod_Arbeitskraft!H69/NR_Arbeitsprod_Arbeitskraft!$Q69)*100","v":64.599385214476186},{"$f":"(NR_Arbeitsprod_Arbeitskraft!I69/NR_Arbeitsprod_Arbeitskraft!$Q69)*100","v":66.915965132582329},{"$f":"(NR_Arbeitsprod_Arbeitskraft!J69/NR_Arbeitsprod_Arbeitskraft!$Q69)*100","v":79.755144165669563},{"$f":"(NR_Arbeitsprod_Arbeitskraft!K69/NR_Arbeitsprod_Arbeitskraft!$Q69)*100","v":82.53412225810591},{"$f":"(NR_Arbeitsprod_Arbeitskraft!L69/NR_Arbeitsprod_Arbeitskraft!$Q69)*100","v":85.089808900348402},{"$f":"(NR_Arbeitsprod_Arbeitskraft!M69/NR_Arbeitsprod_Arbeitskraft!$Q69)*100","v":100.24248273298547},{"$f":"(NR_Arbeitsprod_Arbeitskraft!N69/NR_Arbeitsprod_Arbeitskraft!$Q69)*100","v":98.036499229049639},{"$f":"(NR_Arbeitsprod_Arbeitskraft!O69/NR_Arbeitsprod_Arbeitskraft!$Q69)*100","v":86.424054357105533},{"$f":"(NR_Arbeitsprod_Arbeitskraft!P69/NR_Arbeitsprod_Arbeitskraft!$Q69)*100","v":97.774994656867491},{"$f":"(NR_Arbeitsprod_Arbeitskraft!Q69/NR_Arbeitsprod_Arbeitskraft!$Q69)*100","v":100},{"$f":"(NR_Arbeitsprod_Arbeitskraft!R69/NR_Arbeitsprod_Arbeitskraft!$Q69)*100","v":105.4333578874014},{"$f":"(NR_Arbeitsprod_Arbeitskraft!S69/NR_Arbeitsprod_Arbeitskraft!$Q69)*100","v":110.24093276689936},{"$f":"(NR_Arbeitsprod_Arbeitskraft!T69/NR_Arbeitsprod_Arbeitskraft!$Q69)*100","v":103.28807720103516},{"$f":"(NR_Arbeitsprod_Arbeitskraft!U69/NR_Arbeitsprod_Arbeitskraft!$Q69)*100","v":103.64075231199736},{"$f":"(NR_Arbeitsprod_Arbeitskraft!V69/NR_Arbeitsprod_Arbeitskraft!$Q69)*100","v":108.02714333179462},{"$f":"(NR_Arbeitsprod_Arbeitskraft!W69/NR_Arbeitsprod_Arbeitskraft!$Q69)*100","v":110.53424852766514},{"$f":"(NR_Arbeitsprod_Arbeitskraft!X69/NR_Arbeitsprod_Arbeitskraft!$Q69)*100","v":107.65687852793565}]
["Dänemark",{"$f":"(NR_Arbeitsprod_Arbeitskraft!B70/NR_Arbeitsprod_Arbeitskraft!$Q70)*100","v":81.691080812192965},{"$f":"(NR_Arbeitsprod_Arbeitskraft!C70/NR_Arbeitsprod_Arbeitskraft!$Q70)*100","v":85.689283145601763},{"$f":"(NR_Arbeitsprod_Arbeitskraft!D70/NR_Arbeitsprod_Arbeitskraft!$Q70)*100","v":88.820755281157091},{"$f":"(NR_Arbeitsprod_Arbeitskraft!E70/NR_Arbeitsprod_Arbeitskraft!$Q70)*100","v":89.050199158424775},{"$f":"(NR_Arbeitsprod_Arbeitskraft!F70/NR_Arbeitsprod_Arbeitskraft!$Q70)*100","v":91.168521169372326},{"$f":"(NR_Arbeitsprod_Arbeitskraft!G70/NR_Arbeitsprod_Arbeitskraft!$Q70)*100","v":94.098496127674707},{"$f":"(NR_Arbeitsprod_Arbeitskraft!H70/NR_Arbeitsprod_Arbeitskraft!$Q70)*100","v":95.839807767987423},{"$f":"(NR_Arbeitsprod_Arbeitskraft!I70/NR_Arbeitsprod_Arbeitskraft!$Q70)*100","v":94.217325622732048},{"$f":"(NR_Arbeitsprod_Arbeitskraft!J70/NR_Arbeitsprod_Arbeitskraft!$Q70)*100","v":93.911932000818695},{"$f":"(NR_Arbeitsprod_Arbeitskraft!K70/NR_Arbeitsprod_Arbeitskraft!$Q70)*100","v":95.459356398071122},{"$f":"(NR_Arbeitsprod_Arbeitskraft!L70/NR_Arbeitsprod_Arbeitskraft!$Q70)*100","v":107.42669507747711},{"$f":"(NR_Arbeitsprod_Arbeitskraft!M70/NR_Arbeitsprod_Arbeitskraft!$Q70)*100","v":104.71782986667671},{"$f":"(NR_Arbeitsprod_Arbeitskraft!N70/NR_Arbeitsprod_Arbeitskraft!$Q70)*100","v":108.39330155003147},{"$f":"(NR_Arbeitsprod_Arbeitskraft!O70/NR_Arbeitsprod_Arbeitskraft!$Q70)*100","v":103.85830670421596},{"$f":"(NR_Arbeitsprod_Arbeitskraft!P70/NR_Arbeitsprod_Arbeitskraft!$Q70)*100","v":107.48652401423698},{"$f":"(NR_Arbeitsprod_Arbeitskraft!Q70/NR_Arbeitsprod_Arbeitskraft!$Q70)*100","v":100},{"$f":"(NR_Arbeitsprod_Arbeitskraft!R70/NR_Arbeitsprod_Arbeitskraft!$Q70)*100","v":95.424681797586203},{"$f":"(NR_Arbeitsprod_Arbeitskraft!S70/NR_Arbeitsprod_Arbeitskraft!$Q70)*100","v":99.046083545564045},{"$f":"(NR_Arbeitsprod_Arbeitskraft!T70/NR_Arbeitsprod_Arbeitskraft!$Q70)*100","v":89.801390350547805},{"$f":"(NR_Arbeitsprod_Arbeitskraft!U70/NR_Arbeitsprod_Arbeitskraft!$Q70)*100","v":91.173384341952811},{"$f":"(NR_Arbeitsprod_Arbeitskraft!V70/NR_Arbeitsprod_Arbeitskraft!$Q70)*100","v":92.543260662863901},{"$f":"(NR_Arbeitsprod_Arbeitskraft!W70/NR_Arbeitsprod_Arbeitskraft!$Q70)*100","v":94.351433662385617},{"$f":"(NR_Arbeitsprod_Arbeitskraft!X70/NR_Arbeitsprod_Arbeitskraft!$Q70)*100","v":110.89332909981171}]
["Estland",{"$f":"(NR_Arbeitsprod_Arbeitskraft!B71/NR_Arbeitsprod_Arbeitskraft!$Q71)*100","v":25.050837506827691},{"$f":"(NR_Arbeitsprod_Arbeitskraft!C71/NR_Arbeitsprod_Arbeitskraft!$Q71)*100","v":29.187411193113761},{"$f":"(NR_Arbeitsprod_Arbeitskraft!D71/NR_Arbeitsprod_Arbeitskraft!$Q71)*100","v":31.622190253710507},{"$f":"(NR_Arbeitsprod_Arbeitskraft!E71/NR_Arbeitsprod_Arbeitskraft!$Q71)*100","v":38.743398010860481},{"$f":"(NR_Arbeitsprod_Arbeitskraft!F71/NR_Arbeitsprod_Arbeitskraft!$Q71)*100","v":37.888129724411115},{"$f":"(NR_Arbeitsprod_Arbeitskraft!G71/NR_Arbeitsprod_Arbeitskraft!$Q71)*100","v":41.488804817274101},{"$f":"(NR_Arbeitsprod_Arbeitskraft!H71/NR_Arbeitsprod_Arbeitskraft!$Q71)*100","v":47.70979603745932},{"$f":"(NR_Arbeitsprod_Arbeitskraft!I71/NR_Arbeitsprod_Arbeitskraft!$Q71)*100","v":55.855226378957227},{"$f":"(NR_Arbeitsprod_Arbeitskraft!J71/NR_Arbeitsprod_Arbeitskraft!$Q71)*100","v":60.286169038295377},{"$f":"(NR_Arbeitsprod_Arbeitskraft!K71/NR_Arbeitsprod_Arbeitskraft!$Q71)*100","v":74.801517434892091},{"$f":"(NR_Arbeitsprod_Arbeitskraft!L71/NR_Arbeitsprod_Arbeitskraft!$Q71)*100","v":95.679801722593055},{"$f":"(NR_Arbeitsprod_Arbeitskraft!M71/NR_Arbeitsprod_Arbeitskraft!$Q71)*100","v":96.109758445844761},{"$f":"(NR_Arbeitsprod_Arbeitskraft!N71/NR_Arbeitsprod_Arbeitskraft!$Q71)*100","v":111.61210351539586},{"$f":"(NR_Arbeitsprod_Arbeitskraft!O71/NR_Arbeitsprod_Arbeitskraft!$Q71)*100","v":109.84310011136684},{"$f":"(NR_Arbeitsprod_Arbeitskraft!P71/NR_Arbeitsprod_Arbeitskraft!$Q71)*100","v":101.67467388550988},{"$f":"(NR_Arbeitsprod_Arbeitskraft!Q71/NR_Arbeitsprod_Arbeitskraft!$Q71)*100","v":100},{"$f":"(NR_Arbeitsprod_Arbeitskraft!R71/NR_Arbeitsprod_Arbeitskraft!$Q71)*100","v":108.95249203658845},{"$f":"(NR_Arbeitsprod_Arbeitskraft!S71/NR_Arbeitsprod_Arbeitskraft!$Q71)*100","v":111.6851506634674},{"$f":"(NR_Arbeitsprod_Arbeitskraft!T71/NR_Arbeitsprod_Arbeitskraft!$Q71)*100","v":124.44923105229722},{"$f":"(NR_Arbeitsprod_Arbeitskraft!U71/NR_Arbeitsprod_Arbeitskraft!$Q71)*100","v":112.26475504449294},{"$f":"(NR_Arbeitsprod_Arbeitskraft!V71/NR_Arbeitsprod_Arbeitskraft!$Q71)*100","v":125.75156027665267},{"$f":"(NR_Arbeitsprod_Arbeitskraft!W71/NR_Arbeitsprod_Arbeitskraft!$Q71)*100","v":139.74360817046681},{"$f":"(NR_Arbeitsprod_Arbeitskraft!X71/NR_Arbeitsprod_Arbeitskraft!$Q71)*100","v":146.41633769855011}]
["Frankreich",{"$f":"(NR_Arbeitsprod_Arbeitskraft!B72/NR_Arbeitsprod_Arbeitskraft!$Q72)*100","v":70.922432542043055},{"$f":"(NR_Arbeitsprod_Arbeitskraft!C72/NR_Arbeitsprod_Arbeitskraft!$Q72)*100","v":73.601205469521787},{"$f":"(NR_Arbeitsprod_Arbeitskraft!D72/NR_Arbeitsprod_Arbeitskraft!$Q72)*100","v":83.468921917957104},{"$f":"(NR_Arbeitsprod_Arbeitskraft!E72/NR_Arbeitsprod_Arbeitskraft!$Q72)*100","v":95.594323419333008},{"$f":"(NR_Arbeitsprod_Arbeitskraft!F72/NR_Arbeitsprod_Arbeitskraft!$Q72)*100","v":113.8664517684566},{"$f":"(NR_Arbeitsprod_Arbeitskraft!G72/NR_Arbeitsprod_Arbeitskraft!$Q72)*100","v":104.45984052755814},{"$f":"(NR_Arbeitsprod_Arbeitskraft!H72/NR_Arbeitsprod_Arbeitskraft!$Q72)*100","v":100.04961384091516},{"$f":"(NR_Arbeitsprod_Arbeitskraft!I72/NR_Arbeitsprod_Arbeitskraft!$Q72)*100","v":97.708429935876012},{"$f":"(NR_Arbeitsprod_Arbeitskraft!J72/NR_Arbeitsprod_Arbeitskraft!$Q72)*100","v":94.996576730133668},{"$f":"(NR_Arbeitsprod_Arbeitskraft!K72/NR_Arbeitsprod_Arbeitskraft!$Q72)*100","v":97.916382877362011},{"$f":"(NR_Arbeitsprod_Arbeitskraft!L72/NR_Arbeitsprod_Arbeitskraft!$Q72)*100","v":99.800457673031246},{"$f":"(NR_Arbeitsprod_Arbeitskraft!M72/NR_Arbeitsprod_Arbeitskraft!$Q72)*100","v":97.209467687242352},{"$f":"(NR_Arbeitsprod_Arbeitskraft!N72/NR_Arbeitsprod_Arbeitskraft!$Q72)*100","v":100.33382500344143},{"$f":"(NR_Arbeitsprod_Arbeitskraft!O72/NR_Arbeitsprod_Arbeitskraft!$Q72)*100","v":100.6711820084502},{"$f":"(NR_Arbeitsprod_Arbeitskraft!P72/NR_Arbeitsprod_Arbeitskraft!$Q72)*100","v":101.53793852680121},{"$f":"(NR_Arbeitsprod_Arbeitskraft!Q72/NR_Arbeitsprod_Arbeitskraft!$Q72)*100","v":100},{"$f":"(NR_Arbeitsprod_Arbeitskraft!R72/NR_Arbeitsprod_Arbeitskraft!$Q72)*100","v":98.379211702398038},{"$f":"(NR_Arbeitsprod_Arbeitskraft!S72/NR_Arbeitsprod_Arbeitskraft!$Q72)*100","v":98.469227585509302},{"$f":"(NR_Arbeitsprod_Arbeitskraft!T72/NR_Arbeitsprod_Arbeitskraft!$Q72)*100","v":96.007204746451634},{"$f":"(NR_Arbeitsprod_Arbeitskraft!U72/NR_Arbeitsprod_Arbeitskraft!$Q72)*100","v":94.908880198039242},{"$f":"(NR_Arbeitsprod_Arbeitskraft!V72/NR_Arbeitsprod_Arbeitskraft!$Q72)*100","v":91.091197076701718},{"$f":"(NR_Arbeitsprod_Arbeitskraft!W72/NR_Arbeitsprod_Arbeitskraft!$Q72)*100","v":94.261847987218474}]
["Griechenland",{"$f":"(NR_Arbeitsprod_Arbeitskraft!B73/NR_Arbeitsprod_Arbeitskraft!$Q73)*100","v":41.108497609005099},{"$f":"(NR_Arbeitsprod_Arbeitskraft!C73/NR_Arbeitsprod_Arbeitskraft!$Q73)*100","v":41.250173396625641},{"$f":"(NR_Arbeitsprod_Arbeitskraft!D73/NR_Arbeitsprod_Arbeitskraft!$Q73)*100","v":49.977927358877579},{"$f":"(NR_Arbeitsprod_Arbeitskraft!E73/NR_Arbeitsprod_Arbeitskraft!$Q73)*100","v":52.054699800618963},{"$f":"(NR_Arbeitsprod_Arbeitskraft!F73/NR_Arbeitsprod_Arbeitskraft!$Q73)*100","v":68.175778938327923},{"$f":"(NR_Arbeitsprod_Arbeitskraft!G73/NR_Arbeitsprod_Arbeitskraft!$Q73)*100","v":70.113260926544029},{"$f":"(NR_Arbeitsprod_Arbeitskraft!H73/NR_Arbeitsprod_Arbeitskraft!$Q73)*100","v":80.309634531122654},{"$f":"(NR_Arbeitsprod_Arbeitskraft!I73/NR_Arbeitsprod_Arbeitskraft!$Q73)*100","v":84.792331289028709},{"$f":"(NR_Arbeitsprod_Arbeitskraft!J73/NR_Arbeitsprod_Arbeitskraft!$Q73)*100","v":81.717189219098572},{"$f":"(NR_Arbeitsprod_Arbeitskraft!K73/NR_Arbeitsprod_Arbeitskraft!$Q73)*100","v":84.250788188451537},{"$f":"(NR_Arbeitsprod_Arbeitskraft!L73/NR_Arbeitsprod_Arbeitskraft!$Q73)*100","v":85.563810384433793},{"$f":"(NR_Arbeitsprod_Arbeitskraft!M73/NR_Arbeitsprod_Arbeitskraft!$Q73)*100","v":92.430168288551002},{"$f":"(NR_Arbeitsprod_Arbeitskraft!N73/NR_Arbeitsprod_Arbeitskraft!$Q73)*100","v":109.08142107447489},{"$f":"(NR_Arbeitsprod_Arbeitskraft!O73/NR_Arbeitsprod_Arbeitskraft!$Q73)*100","v":112.86743904490378},{"$f":"(NR_Arbeitsprod_Arbeitskraft!P73/NR_Arbeitsprod_Arbeitskraft!$Q73)*100","v":109.80767855386175},{"$f":"(NR_Arbeitsprod_Arbeitskraft!Q73/NR_Arbeitsprod_Arbeitskraft!$Q73)*100","v":100},{"$f":"(NR_Arbeitsprod_Arbeitskraft!R73/NR_Arbeitsprod_Arbeitskraft!$Q73)*100","v":102.52723522342582},{"$f":"(NR_Arbeitsprod_Arbeitskraft!S73/NR_Arbeitsprod_Arbeitskraft!$Q73)*100","v":91.152049356326401},{"$f":"(NR_Arbeitsprod_Arbeitskraft!T73/NR_Arbeitsprod_Arbeitskraft!$Q73)*100","v":86.596697863370665},{"$f":"(NR_Arbeitsprod_Arbeitskraft!U73/NR_Arbeitsprod_Arbeitskraft!$Q73)*100","v":86.596145635676891},{"$f":"(NR_Arbeitsprod_Arbeitskraft!V73/NR_Arbeitsprod_Arbeitskraft!$Q73)*100","v":81.983063782815108},{"$f":"(NR_Arbeitsprod_Arbeitskraft!W73/NR_Arbeitsprod_Arbeitskraft!$Q73)*100","v":80.599659913187566},{"$f":"(NR_Arbeitsprod_Arbeitskraft!X73/NR_Arbeitsprod_Arbeitskraft!$Q73)*100","v":79.185036299898627}]
["Italien",{"$f":"(NR_Arbeitsprod_Arbeitskraft!B74/NR_Arbeitsprod_Arbeitskraft!$Q74)*100","v":60.431456561718456},{"$f":"(NR_Arbeitsprod_Arbeitskraft!C74/NR_Arbeitsprod_Arbeitskraft!$Q74)*100","v":61.049355236033875},{"$f":"(NR_Arbeitsprod_Arbeitskraft!D74/NR_Arbeitsprod_Arbeitskraft!$Q74)*100","v":68.075206900244098},{"$f":"(NR_Arbeitsprod_Arbeitskraft!E74/NR_Arbeitsprod_Arbeitskraft!$Q74)*100","v":71.485698751865272},{"$f":"(NR_Arbeitsprod_Arbeitskraft!F74/NR_Arbeitsprod_Arbeitskraft!$Q74)*100","v":81.904729410707105},{"$f":"(NR_Arbeitsprod_Arbeitskraft!G74/NR_Arbeitsprod_Arbeitskraft!$Q74)*100","v":85.316022805688803},{"$f":"(NR_Arbeitsprod_Arbeitskraft!H74/NR_Arbeitsprod_Arbeitskraft!$Q74)*100","v":98.516394864022018},{"$f":"(NR_Arbeitsprod_Arbeitskraft!I74/NR_Arbeitsprod_Arbeitskraft!$Q74)*100","v":92.70190625162148},{"$f":"(NR_Arbeitsprod_Arbeitskraft!J74/NR_Arbeitsprod_Arbeitskraft!$Q74)*100","v":96.17625731204113},{"$f":"(NR_Arbeitsprod_Arbeitskraft!K74/NR_Arbeitsprod_Arbeitskraft!$Q74)*100","v":93.966904630239625},{"$f":"(NR_Arbeitsprod_Arbeitskraft!L74/NR_Arbeitsprod_Arbeitskraft!$Q74)*100","v":98.114423776696569},{"$f":"(NR_Arbeitsprod_Arbeitskraft!M74/NR_Arbeitsprod_Arbeitskraft!$Q74)*100","v":99.690775720152473},{"$f":"(NR_Arbeitsprod_Arbeitskraft!N74/NR_Arbeitsprod_Arbeitskraft!$Q74)*100","v":107.54924180591745},{"$f":"(NR_Arbeitsprod_Arbeitskraft!O74/NR_Arbeitsprod_Arbeitskraft!$Q74)*100","v":100.36918567457789},{"$f":"(NR_Arbeitsprod_Arbeitskraft!P74/NR_Arbeitsprod_Arbeitskraft!$Q74)*100","v":97.00953213690957},{"$f":"(NR_Arbeitsprod_Arbeitskraft!Q74/NR_Arbeitsprod_Arbeitskraft!$Q74)*100","v":100},{"$f":"(NR_Arbeitsprod_Arbeitskraft!R74/NR_Arbeitsprod_Arbeitskraft!$Q74)*100","v":95.086143153346356},{"$f":"(NR_Arbeitsprod_Arbeitskraft!S74/NR_Arbeitsprod_Arbeitskraft!$Q74)*100","v":87.94866032710064},{"$f":"(NR_Arbeitsprod_Arbeitskraft!T74/NR_Arbeitsprod_Arbeitskraft!$Q74)*100","v":86.973785267874987},{"$f":"(NR_Arbeitsprod_Arbeitskraft!U74/NR_Arbeitsprod_Arbeitskraft!$Q74)*100","v":84.241351409383626},{"$f":"(NR_Arbeitsprod_Arbeitskraft!V74/NR_Arbeitsprod_Arbeitskraft!$Q74)*100","v":89.784869707304637}]
["Spanien"]
["Finnland",{"$f":"(NR_Arbeitsprod_Arbeitskraft!B76/NR_Arbeitsprod_Arbeitskraft!$Q76)*100","v":72.811561267250951},{"$f":"(NR_Arbeitsprod_Arbeitskraft!C76/NR_Arbeitsprod_Arbeitskraft!$Q76)*100","v":76.239113394184855},{"$f":"(NR_Arbeitsprod_Arbeitskraft!D76/NR_Arbeitsprod_Arbeitskraft!$Q76)*100","v":81.645431830022659},{"$f":"(NR_Arbeitsprod_Arbeitskraft!E76/NR_Arbeitsprod_Arbeitskraft!$Q76)*100","v":83.403262992460938},{"$f":"(NR_Arbeitsprod_Arbeitskraft!F76/NR_Arbeitsprod_Arbeitskraft!$Q76)*100","v":91.842815517943293},{"$f":"(NR_Arbeitsprod_Arbeitskraft!G76/NR_Arbeitsprod_Arbeitskraft!$Q76)*100","v":96.173177434997967},{"$f":"(NR_Arbeitsprod_Arbeitskraft!H76/NR_Arbeitsprod_Arbeitskraft!$Q76)*100","v":95.582705125343338},{"$f":"(NR_Arbeitsprod_Arbeitskraft!I76/NR_Arbeitsprod_Arbeitskraft!$Q76)*100","v":96.207166777107275},{"$f":"(NR_Arbeitsprod_Arbeitskraft!J76/NR_Arbeitsprod_Arbeitskraft!$Q76)*100","v":98.647236010439286},{"$f":"(NR_Arbeitsprod_Arbeitskraft!K76/NR_Arbeitsprod_Arbeitskraft!$Q76)*100","v":102.97674649101145},{"$f":"(NR_Arbeitsprod_Arbeitskraft!L76/NR_Arbeitsprod_Arbeitskraft!$Q76)*100","v":103.09134673586667},{"$f":"(NR_Arbeitsprod_Arbeitskraft!M76/NR_Arbeitsprod_Arbeitskraft!$Q76)*100","v":101.99823279579535},{"$f":"(NR_Arbeitsprod_Arbeitskraft!N76/NR_Arbeitsprod_Arbeitskraft!$Q76)*100","v":101.424171868931},{"$f":"(NR_Arbeitsprod_Arbeitskraft!O76/NR_Arbeitsprod_Arbeitskraft!$Q76)*100","v":101.9403352412191},{"$f":"(NR_Arbeitsprod_Arbeitskraft!P76/NR_Arbeitsprod_Arbeitskraft!$Q76)*100","v":94.21918876550933},{"$f":"(NR_Arbeitsprod_Arbeitskraft!Q76/NR_Arbeitsprod_Arbeitskraft!$Q76)*100","v":100},{"$f":"(NR_Arbeitsprod_Arbeitskraft!R76/NR_Arbeitsprod_Arbeitskraft!$Q76)*100","v":109.40286328907349},{"$f":"(NR_Arbeitsprod_Arbeitskraft!S76/NR_Arbeitsprod_Arbeitskraft!$Q76)*100","v":114.92135130582849},{"$f":"(NR_Arbeitsprod_Arbeitskraft!T76/NR_Arbeitsprod_Arbeitskraft!$Q76)*100","v":109.54183949824272},{"$f":"(NR_Arbeitsprod_Arbeitskraft!U76/NR_Arbeitsprod_Arbeitskraft!$Q76)*100","v":102.16039467889588},{"$f":"(NR_Arbeitsprod_Arbeitskraft!V76/NR_Arbeitsprod_Arbeitskraft!$Q76)*100","v":87.949328163714995},{"$f":"(NR_Arbeitsprod_Arbeitskraft!W76/NR_Arbeitsprod_Arbeitskraft!$Q76)*100","v":87.742733089803707},{"$f":"(NR_Arbeitsprod_Arbeitskraft!X76/NR_Arbeitsprod_Arbeitskraft!$Q76)*100","v":87.956881538266828}]
["Ungarn",{"$f":"(NR_Arbeitsprod_Arbeitskraft!B77/NR_Arbeitsprod_Arbeitskraft!$Q77)*100","v":46.856741246174671},{"$f":"(NR_Arbeitsprod_Arbeitskraft!C77/NR_Arbeitsprod_Arbeitskraft!$Q77)*100","v":42.896526020056044},{"$f":"(NR_Arbeitsprod_Arbeitskraft!D77/NR_Arbeitsprod_Arbeitskraft!$Q77)*100","v":41.706641074596249},{"$f":"(NR_Arbeitsprod_Arbeitskraft!E77/NR_Arbeitsprod_Arbeitskraft!$Q77)*100","v":44.634884778989701},{"$f":"(NR_Arbeitsprod_Arbeitskraft!F77/NR_Arbeitsprod_Arbeitskraft!$Q77)*100","v":46.479338465767249},{"$f":"(NR_Arbeitsprod_Arbeitskraft!G77/NR_Arbeitsprod_Arbeitskraft!$Q77)*100","v":44.19609447603623},{"$f":"(NR_Arbeitsprod_Arbeitskraft!H77/NR_Arbeitsprod_Arbeitskraft!$Q77)*100","v":65.477025394929385},{"$f":"(NR_Arbeitsprod_Arbeitskraft!I77/NR_Arbeitsprod_Arbeitskraft!$Q77)*100","v":84.418769427554366},{"$f":"(NR_Arbeitsprod_Arbeitskraft!J77/NR_Arbeitsprod_Arbeitskraft!$Q77)*100","v":75.795725451261816},{"$f":"(NR_Arbeitsprod_Arbeitskraft!K77/NR_Arbeitsprod_Arbeitskraft!$Q77)*100","v":92.089650881309083},{"$f":"(NR_Arbeitsprod_Arbeitskraft!L77/NR_Arbeitsprod_Arbeitskraft!$Q77)*100","v":98.296749627743964},{"$f":"(NR_Arbeitsprod_Arbeitskraft!M77/NR_Arbeitsprod_Arbeitskraft!$Q77)*100","v":97.554824678282955},{"$f":"(NR_Arbeitsprod_Arbeitskraft!N77/NR_Arbeitsprod_Arbeitskraft!$Q77)*100","v":104.42289057683674},{"$f":"(NR_Arbeitsprod_Arbeitskraft!O77/NR_Arbeitsprod_Arbeitskraft!$Q77)*100","v":118.85021982511603},{"$f":"(NR_Arbeitsprod_Arbeitskraft!P77/NR_Arbeitsprod_Arbeitskraft!$Q77)*100","v":101.74270823401895},{"$f":"(NR_Arbeitsprod_Arbeitskraft!Q77/NR_Arbeitsprod_Arbeitskraft!$Q77)*100","v":100},{"$f":"(NR_Arbeitsprod_Arbeitskraft!R77/NR_Arbeitsprod_Arbeitskraft!$Q77)*100","v":100.24834381428896},{"$f":"(NR_Arbeitsprod_Arbeitskraft!S77/NR_Arbeitsprod_Arbeitskraft!$Q77)*100","v":98.073977969216472},{"$f":"(NR_Arbeitsprod_Arbeitskraft!T77/NR_Arbeitsprod_Arbeitskraft!$Q77)*100","v":103.267010673587},{"$f":"(NR_Arbeitsprod_Arbeitskraft!U77/NR_Arbeitsprod_Arbeitskraft!$Q77)*100","v":109.7372127932895},{"$f":"(NR_Arbeitsprod_Arbeitskraft!V77/NR_Arbeitsprod_Arbeitskraft!$Q77)*100","v":114.42490303342598},{"$f":"(NR_Arbeitsprod_Arbeitskraft!W77/NR_Arbeitsprod_Arbeitskraft!$Q77)*100","v":110.6079238611575},{"$f":"(NR_Arbeitsprod_Arbeitskraft!X77/NR_Arbeitsprod_Arbeitskraft!$Q77)*100","v":104.98061248179347}]
["Irland"]
["Niederlande",{"$f":"(NR_Arbeitsprod_Arbeitskraft!B79/NR_Arbeitsprod_Arbeitskraft!$Q79)*100","v":76.151214959320441},{"$f":"(NR_Arbeitsprod_Arbeitskraft!C79/NR_Arbeitsprod_Arbeitskraft!$Q79)*100","v":79.890298308736135},{"$f":"(NR_Arbeitsprod_Arbeitskraft!D79/NR_Arbeitsprod_Arbeitskraft!$Q79)*100","v":80.60468648158664},{"$f":"(NR_Arbeitsprod_Arbeitskraft!E79/NR_Arbeitsprod_Arbeitskraft!$Q79)*100","v":83.743497350354147},{"$f":"(NR_Arbeitsprod_Arbeitskraft!F79/NR_Arbeitsprod_Arbeitskraft!$Q79)*100","v":83.660136860659151},{"$f":"(NR_Arbeitsprod_Arbeitskraft!G79/NR_Arbeitsprod_Arbeitskraft!$Q79)*100","v":85.807361789521664},{"$f":"(NR_Arbeitsprod_Arbeitskraft!H79/NR_Arbeitsprod_Arbeitskraft!$Q79)*100","v":86.690785836593747},{"$f":"(NR_Arbeitsprod_Arbeitskraft!I79/NR_Arbeitsprod_Arbeitskraft!$Q79)*100","v":90.102195035642907},{"$f":"(NR_Arbeitsprod_Arbeitskraft!J79/NR_Arbeitsprod_Arbeitskraft!$Q79)*100","v":93.660250063516656},{"$f":"(NR_Arbeitsprod_Arbeitskraft!K79/NR_Arbeitsprod_Arbeitskraft!$Q79)*100","v":103.04777278390938},{"$f":"(NR_Arbeitsprod_Arbeitskraft!L79/NR_Arbeitsprod_Arbeitskraft!$Q79)*100","v":104.08233883338096},{"$f":"(NR_Arbeitsprod_Arbeitskraft!M79/NR_Arbeitsprod_Arbeitskraft!$Q79)*100","v":109.41115754567883},{"$f":"(NR_Arbeitsprod_Arbeitskraft!N79/NR_Arbeitsprod_Arbeitskraft!$Q79)*100","v":109.53090707965806},{"$f":"(NR_Arbeitsprod_Arbeitskraft!O79/NR_Arbeitsprod_Arbeitskraft!$Q79)*100","v":109.40632837660429},{"$f":"(NR_Arbeitsprod_Arbeitskraft!P79/NR_Arbeitsprod_Arbeitskraft!$Q79)*100","v":101.23450244337813},{"$f":"(NR_Arbeitsprod_Arbeitskraft!Q79/NR_Arbeitsprod_Arbeitskraft!$Q79)*100","v":100},{"$f":"(NR_Arbeitsprod_Arbeitskraft!R79/NR_Arbeitsprod_Arbeitskraft!$Q79)*100","v":98.038073038073037},{"$f":"(NR_Arbeitsprod_Arbeitskraft!S79/NR_Arbeitsprod_Arbeitskraft!$Q79)*100","v":92.834963446175649},{"$f":"(NR_Arbeitsprod_Arbeitskraft!T79/NR_Arbeitsprod_Arbeitskraft!$Q79)*100","v":89.822613712781916},{"$f":"(NR_Arbeitsprod_Arbeitskraft!U79/NR_Arbeitsprod_Arbeitskraft!$Q79)*100","v":95.014202424626262},{"$f":"(NR_Arbeitsprod_Arbeitskraft!V79/NR_Arbeitsprod_Arbeitskraft!$Q79)*100","v":96.640850234014295},{"$f":"(NR_Arbeitsprod_Arbeitskraft!W79/NR_Arbeitsprod_Arbeitskraft!$Q79)*100","v":102.26935324453366},{"$f":"(NR_Arbeitsprod_Arbeitskraft!X79/NR_Arbeitsprod_Arbeitskraft!$Q79)*100","v":109.37109766924307}]
["Portugal",{"$f":"(NR_Arbeitsprod_Arbeitskraft!B80/NR_Arbeitsprod_Arbeitskraft!$Q80)*100","v":67.260982268811858},{"$f":"(NR_Arbeitsprod_Arbeitskraft!C80/NR_Arbeitsprod_Arbeitskraft!$Q80)*100","v":71.549774697358856},{"$f":"(NR_Arbeitsprod_Arbeitskraft!D80/NR_Arbeitsprod_Arbeitskraft!$Q80)*100","v":74.545702233593857},{"$f":"(NR_Arbeitsprod_Arbeitskraft!E80/NR_Arbeitsprod_Arbeitskraft!$Q80)*100","v":77.7221296919396},{"$f":"(NR_Arbeitsprod_Arbeitskraft!F80/NR_Arbeitsprod_Arbeitskraft!$Q80)*100","v":79.564445741645201},{"$f":"(NR_Arbeitsprod_Arbeitskraft!G80/NR_Arbeitsprod_Arbeitskraft!$Q80)*100","v":84.785996977830422},{"$f":"(NR_Arbeitsprod_Arbeitskraft!H80/NR_Arbeitsprod_Arbeitskraft!$Q80)*100","v":83.812743506376023},{"$f":"(NR_Arbeitsprod_Arbeitskraft!I80/NR_Arbeitsprod_Arbeitskraft!$Q80)*100","v":84.038162267249547},{"$f":"(NR_Arbeitsprod_Arbeitskraft!J80/NR_Arbeitsprod_Arbeitskraft!$Q80)*100","v":83.719050875970808},{"$f":"(NR_Arbeitsprod_Arbeitskraft!K80/NR_Arbeitsprod_Arbeitskraft!$Q80)*100","v":86.99304270204523},{"$f":"(NR_Arbeitsprod_Arbeitskraft!L80/NR_Arbeitsprod_Arbeitskraft!$Q80)*100","v":89.915157270636342},{"$f":"(NR_Arbeitsprod_Arbeitskraft!M80/NR_Arbeitsprod_Arbeitskraft!$Q80)*100","v":91.46474266923498},{"$f":"(NR_Arbeitsprod_Arbeitskraft!N80/NR_Arbeitsprod_Arbeitskraft!$Q80)*100","v":98.732139207387178},{"$f":"(NR_Arbeitsprod_Arbeitskraft!O80/NR_Arbeitsprod_Arbeitskraft!$Q80)*100","v":99.880169193864006},{"$f":"(NR_Arbeitsprod_Arbeitskraft!P80/NR_Arbeitsprod_Arbeitskraft!$Q80)*100","v":96.471814513627891},{"$f":"(NR_Arbeitsprod_Arbeitskraft!Q80/NR_Arbeitsprod_Arbeitskraft!$Q80)*100","v":100},{"$f":"(NR_Arbeitsprod_Arbeitskraft!R80/NR_Arbeitsprod_Arbeitskraft!$Q80)*100","v":98.816373871158646},{"$f":"(NR_Arbeitsprod_Arbeitskraft!S80/NR_Arbeitsprod_Arbeitskraft!$Q80)*100","v":96.521536839090643},{"$f":"(NR_Arbeitsprod_Arbeitskraft!T80/NR_Arbeitsprod_Arbeitskraft!$Q80)*100","v":100.2954333437158},{"$f":"(NR_Arbeitsprod_Arbeitskraft!U80/NR_Arbeitsprod_Arbeitskraft!$Q80)*100","v":103.68916461455595},{"$f":"(NR_Arbeitsprod_Arbeitskraft!V80/NR_Arbeitsprod_Arbeitskraft!$Q80)*100","v":100.50500109982707},{"$f":"(NR_Arbeitsprod_Arbeitskraft!W80/NR_Arbeitsprod_Arbeitskraft!$Q80)*100","v":95.233170651793543}]
["Rumänien",{"$f":"(NR_Arbeitsprod_Arbeitskraft!B81/NR_Arbeitsprod_Arbeitskraft!$Q81)*100","v":84.275930708969838},{"$f":"(NR_Arbeitsprod_Arbeitskraft!C81/NR_Arbeitsprod_Arbeitskraft!$Q81)*100","v":107.6349326968199},{"$f":"(NR_Arbeitsprod_Arbeitskraft!D81/NR_Arbeitsprod_Arbeitskraft!$Q81)*100","v":113.32130649967075},{"$f":"(NR_Arbeitsprod_Arbeitskraft!E81/NR_Arbeitsprod_Arbeitskraft!$Q81)*100","v":116.31788315676627},{"$f":"(NR_Arbeitsprod_Arbeitskraft!F81/NR_Arbeitsprod_Arbeitskraft!$Q81)*100","v":120.91459062509465},{"$f":"(NR_Arbeitsprod_Arbeitskraft!G81/NR_Arbeitsprod_Arbeitskraft!$Q81)*100","v":111.46856710241786},{"$f":"(NR_Arbeitsprod_Arbeitskraft!H81/NR_Arbeitsprod_Arbeitskraft!$Q81)*100","v":120.97611742897519},{"$f":"(NR_Arbeitsprod_Arbeitskraft!I81/NR_Arbeitsprod_Arbeitskraft!$Q81)*100","v":119.24903533620453},{"$f":"(NR_Arbeitsprod_Arbeitskraft!J81/NR_Arbeitsprod_Arbeitskraft!$Q81)*100","v":119.32771542140543},{"$f":"(NR_Arbeitsprod_Arbeitskraft!K81/NR_Arbeitsprod_Arbeitskraft!$Q81)*100","v":121.69272855614122},{"$f":"(NR_Arbeitsprod_Arbeitskraft!L81/NR_Arbeitsprod_Arbeitskraft!$Q81)*100","v":128.41533987260664},{"$f":"(NR_Arbeitsprod_Arbeitskraft!M81/NR_Arbeitsprod_Arbeitskraft!$Q81)*100","v":128.90308205678411},{"$f":"(NR_Arbeitsprod_Arbeitskraft!N81/NR_Arbeitsprod_Arbeitskraft!$Q81)*100","v":126.08851481827037},{"$f":"(NR_Arbeitsprod_Arbeitskraft!O81/NR_Arbeitsprod_Arbeitskraft!$Q81)*100","v":160.26826095360127},{"$f":"(NR_Arbeitsprod_Arbeitskraft!P81/NR_Arbeitsprod_Arbeitskraft!$Q81)*100","v":136.47249455337689},{"$f":"(NR_Arbeitsprod_Arbeitskraft!Q81/NR_Arbeitsprod_Arbeitskraft!$Q81)*100","v":100},{"$f":"(NR_Arbeitsprod_Arbeitskraft!R81/NR_Arbeitsprod_Arbeitskraft!$Q81)*100","v":102.47011594671478},{"$f":"(NR_Arbeitsprod_Arbeitskraft!S81/NR_Arbeitsprod_Arbeitskraft!$Q81)*100","v":106.87483340755892},{"$f":"(NR_Arbeitsprod_Arbeitskraft!T81/NR_Arbeitsprod_Arbeitskraft!$Q81)*100","v":113.90532959005107},{"$f":"(NR_Arbeitsprod_Arbeitskraft!U81/NR_Arbeitsprod_Arbeitskraft!$Q81)*100","v":136.36751761921323},{"$f":"(NR_Arbeitsprod_Arbeitskraft!V81/NR_Arbeitsprod_Arbeitskraft!$Q81)*100","v":128.6925345473195},{"$f":"(NR_Arbeitsprod_Arbeitskraft!W81/NR_Arbeitsprod_Arbeitskraft!$Q81)*100","v":177.04261017122016},{"$f":"(NR_Arbeitsprod_Arbeitskraft!X81/NR_Arbeitsprod_Arbeitskraft!$Q81)*100","v":153.79148161015635}]
["Slowenien",{"$f":"(NR_Arbeitsprod_Arbeitskraft!B82/NR_Arbeitsprod_Arbeitskraft!$Q82)*100","v":0},{"$f":"(NR_Arbeitsprod_Arbeitskraft!C82/NR_Arbeitsprod_Arbeitskraft!$Q82)*100","v":0},{"$f":"(NR_Arbeitsprod_Arbeitskraft!D82/NR_Arbeitsprod_Arbeitskraft!$Q82)*100","v":0},{"$f":"(NR_Arbeitsprod_Arbeitskraft!E82/NR_Arbeitsprod_Arbeitskraft!$Q82)*100","v":0},{"$f":"(NR_Arbeitsprod_Arbeitskraft!F82/NR_Arbeitsprod_Arbeitskraft!$Q82)*100","v":0},{"$f":"(NR_Arbeitsprod_Arbeitskraft!G82/NR_Arbeitsprod_Arbeitskraft!$Q82)*100","v":98.798452797023685},{"$f":"(NR_Arbeitsprod_Arbeitskraft!H82/NR_Arbeitsprod_Arbeitskraft!$Q82)*100","v":86.303506355933663},{"$f":"(NR_Arbeitsprod_Arbeitskraft!I82/NR_Arbeitsprod_Arbeitskraft!$Q82)*100","v":89.291709583375649},{"$f":"(NR_Arbeitsprod_Arbeitskraft!J82/NR_Arbeitsprod_Arbeitskraft!$Q82)*100","v":90.535195973823875},{"$f":"(NR_Arbeitsprod_Arbeitskraft!K82/NR_Arbeitsprod_Arbeitskraft!$Q82)*100","v":90.013959310006044},{"$f":"(NR_Arbeitsprod_Arbeitskraft!L82/NR_Arbeitsprod_Arbeitskraft!$Q82)*100","v":87.209655478157359},{"$f":"(NR_Arbeitsprod_Arbeitskraft!M82/NR_Arbeitsprod_Arbeitskraft!$Q82)*100","v":93.503799469734133},{"$f":"(NR_Arbeitsprod_Arbeitskraft!N82/NR_Arbeitsprod_Arbeitskraft!$Q82)*100","v":93.313424512262173},{"$f":"(NR_Arbeitsprod_Arbeitskraft!O82/NR_Arbeitsprod_Arbeitskraft!$Q82)*100","v":100.74660162857852},{"$f":"(NR_Arbeitsprod_Arbeitskraft!P82/NR_Arbeitsprod_Arbeitskraft!$Q82)*100","v":95.594318774851232},{"$f":"(NR_Arbeitsprod_Arbeitskraft!Q82/NR_Arbeitsprod_Arbeitskraft!$Q82)*100","v":100},{"$f":"(NR_Arbeitsprod_Arbeitskraft!R82/NR_Arbeitsprod_Arbeitskraft!$Q82)*100","v":107.38383615943626},{"$f":"(NR_Arbeitsprod_Arbeitskraft!S82/NR_Arbeitsprod_Arbeitskraft!$Q82)*100","v":103.26908289061272},{"$f":"(NR_Arbeitsprod_Arbeitskraft!T82/NR_Arbeitsprod_Arbeitskraft!$Q82)*100","v":100.3062476779089},{"$f":"(NR_Arbeitsprod_Arbeitskraft!U82/NR_Arbeitsprod_Arbeitskraft!$Q82)*100","v":105.27344593891112},{"$f":"(NR_Arbeitsprod_Arbeitskraft!V82/NR_Arbeitsprod_Arbeitskraft!$Q82)*100","v":106.00461181977975},{"$f":"(NR_Arbeitsprod_Arbeitskraft!W82/NR_Arbeitsprod_Arbeitskraft!$Q82)*100","v":111.98911456973633}]
["Slowakei",{"$f":"(NR_Arbeitsprod_Arbeitskraft!B83/NR_Arbeitsprod_Arbeitskraft!$Q83)*100","v":62.636852254566669},{"$f":"(NR_Arbeitsprod_Arbeitskraft!C83/NR_Arbeitsprod_Arbeitskraft!$Q83)*100","v":74.08185473687162},{"$f":"(NR_Arbeitsprod_Arbeitskraft!D83/NR_Arbeitsprod_Arbeitskraft!$Q83)*100","v":84.431315934531014},{"$f":"(NR_Arbeitsprod_Arbeitskraft!E83/NR_Arbeitsprod_Arbeitskraft!$Q83)*100","v":87.925850685851429},{"$f":"(NR_Arbeitsprod_Arbeitskraft!F83/NR_Arbeitsprod_Arbeitskraft!$Q83)*100","v":96.559375255139983},{"$f":"(NR_Arbeitsprod_Arbeitskraft!G83/NR_Arbeitsprod_Arbeitskraft!$Q83)*100","v":76.332995868042104},{"$f":"(NR_Arbeitsprod_Arbeitskraft!H83/NR_Arbeitsprod_Arbeitskraft!$Q83)*100","v":79.664860854567792},{"$f":"(NR_Arbeitsprod_Arbeitskraft!I83/NR_Arbeitsprod_Arbeitskraft!$Q83)*100","v":69.634338400707534},{"$f":"(NR_Arbeitsprod_Arbeitskraft!J83/NR_Arbeitsprod_Arbeitskraft!$Q83)*100","v":74.935887756544304},{"$f":"(NR_Arbeitsprod_Arbeitskraft!K83/NR_Arbeitsprod_Arbeitskraft!$Q83)*100","v":77.637814309496946},{"$f":"(NR_Arbeitsprod_Arbeitskraft!L83/NR_Arbeitsprod_Arbeitskraft!$Q83)*100","v":88.255151878212345},{"$f":"(NR_Arbeitsprod_Arbeitskraft!M83/NR_Arbeitsprod_Arbeitskraft!$Q83)*100","v":98.057210519010113},{"$f":"(NR_Arbeitsprod_Arbeitskraft!N83/NR_Arbeitsprod_Arbeitskraft!$Q83)*100","v":108.74395976314514},{"$f":"(NR_Arbeitsprod_Arbeitskraft!O83/NR_Arbeitsprod_Arbeitskraft!$Q83)*100","v":107.76453047579331},{"$f":"(NR_Arbeitsprod_Arbeitskraft!P83/NR_Arbeitsprod_Arbeitskraft!$Q83)*100","v":97.709459400214854},{"$f":"(NR_Arbeitsprod_Arbeitskraft!Q83/NR_Arbeitsprod_Arbeitskraft!$Q83)*100","v":100},{"$f":"(NR_Arbeitsprod_Arbeitskraft!R83/NR_Arbeitsprod_Arbeitskraft!$Q83)*100","v":108.61346163545336},{"$f":"(NR_Arbeitsprod_Arbeitskraft!S83/NR_Arbeitsprod_Arbeitskraft!$Q83)*100","v":114.34622122830235},{"$f":"(NR_Arbeitsprod_Arbeitskraft!T83/NR_Arbeitsprod_Arbeitskraft!$Q83)*100","v":114.7234745887191},{"$f":"(NR_Arbeitsprod_Arbeitskraft!U83/NR_Arbeitsprod_Arbeitskraft!$Q83)*100","v":124.15556723573842},{"$f":"(NR_Arbeitsprod_Arbeitskraft!V83/NR_Arbeitsprod_Arbeitskraft!$Q83)*100","v":132.09948520817301}]
["Großbritannien"]
[]
["BWS (preisbereinigt)/Arbeitsstunden Erwerbstätige"]
[null,1995,{"$f":"B87+1","v":1996},{"$f":"C87+1","v":1997},{"$f":"D87+1","v":1998},{"$f":"E87+1","v":1999},{"$f":"F87+1","v":2000},{"$f":"G87+1","v":2001},{"$f":"H87+1","v":2002},{"$f":"I87+1","v":2003},{"$f":"J87+1","v":2004},{"$f":"K87+1","v":2005},{"$f":"L87+1","v":2006},{"$f":"M87+1","v":2007},{"$f":"N87+1","v":2008},{"$f":"O87+1","v":2009},{"$f":"P87+1","v":2010},{"$f":"Q87+1","v":2011},{"$f":"R87+1","v":2012},{"$f":"S87+1","v":2013},{"$f":"T87+1","v":2014},{"$f":"U87+1","v":2015},{"$f":"V87+1","v":2016},{"$f":"W87+1","v":2017}]
["Österreich",{"$f":"(NR_Arbeitsprod_Arbeitskraft!B89/NR_Arbeitsprod_Arbeitskraft!$Q89)*100","v":36.816964286722119},{"$f":"(NR_Arbeitsprod_Arbeitskraft!C89/NR_Arbeitsprod_Arbeitskraft!$Q89)*100","v":43.130066182328605},{"$f":"(NR_Arbeitsprod_Arbeitskraft!D89/NR_Arbeitsprod_Arbeitskraft!$Q89)*100","v":40.373565418638293},{"$f":"(NR_Arbeitsprod_Arbeitskraft!E89/NR_Arbeitsprod_Arbeitskraft!$Q89)*100","v":47.117623954513242},{"$f":"(NR_Arbeitsprod_Arbeitskraft!F89/NR_Arbeitsprod_Arbeitskraft!$Q89)*100","v":52.591238073365709},{"$f":"(NR_Arbeitsprod_Arbeitskraft!G89/NR_Arbeitsprod_Arbeitskraft!$Q89)*100","v":52.922905469070457},{"$f":"(NR_Arbeitsprod_Arbeitskraft!H89/NR_Arbeitsprod_Arbeitskraft!$Q89)*100","v":53.277761623645823},{"$f":"(NR_Arbeitsprod_Arbeitskraft!I89/NR_Arbeitsprod_Arbeitskraft!$Q89)*100","v":54.060947370956413},{"$f":"(NR_Arbeitsprod_Arbeitskraft!J89/NR_Arbeitsprod_Arbeitskraft!$Q89)*100","v":57.995759541496206},{"$f":"(NR_Arbeitsprod_Arbeitskraft!K89/NR_Arbeitsprod_Arbeitskraft!$Q89)*100","v":61.370290203185206},{"$f":"(NR_Arbeitsprod_Arbeitskraft!L89/NR_Arbeitsprod_Arbeitskraft!$Q89)*100","v":77.373091900075636},{"$f":"(NR_Arbeitsprod_Arbeitskraft!M89/NR_Arbeitsprod_Arbeitskraft!$Q89)*100","v":89.841703582655967},{"$f":"(NR_Arbeitsprod_Arbeitskraft!N89/NR_Arbeitsprod_Arbeitskraft!$Q89)*100","v":92.46126173728652},{"$f":"(NR_Arbeitsprod_Arbeitskraft!O89/NR_Arbeitsprod_Arbeitskraft!$Q89)*100","v":98.213690113484347},{"$f":"(NR_Arbeitsprod_Arbeitskraft!P89/NR_Arbeitsprod_Arbeitskraft!$Q89)*100","v":99.57023453520226},{"$f":"(NR_Arbeitsprod_Arbeitskraft!Q89/NR_Arbeitsprod_Arbeitskraft!$Q89)*100","v":100},{"$f":"(NR_Arbeitsprod_Arbeitskraft!R89/NR_Arbeitsprod_Arbeitskraft!$Q89)*100","v":99.4338994858457},{"$f":"(NR_Arbeitsprod_Arbeitskraft!S89/NR_Arbeitsprod_Arbeitskraft!$Q89)*100","v":102.21499392996209},{"$f":"(NR_Arbeitsprod_Arbeitskraft!T89/NR_Arbeitsprod_Arbeitskraft!Q89)*100","v":106.69162690764394},{"$f":"(NR_Arbeitsprod_Arbeitskraft!U89/NR_Arbeitsprod_Arbeitskraft!$Q89)*100","v":113.30578313571813},{"$f":"(NR_Arbeitsprod_Arbeitskraft!V89/NR_Arbeitsprod_Arbeitskraft!$Q89)*100","v":106.2799420756112},{"$f":"(NR_Arbeitsprod_Arbeitskraft!W89/NR_Arbeitsprod_Arbeitskraft!$Q89)*100","v":101.39663239866694},{"$f":"(NR_Arbeitsprod_Arbeitskraft!X89/NR_Arbeitsprod_Arbeitskraft!$Q89)*100","v":107.14724434084273}]
["Belgien",{"$f":"(NR_Arbeitsprod_Arbeitskraft!B90/NR_Arbeitsprod_Arbeitskraft!$Q90)*100","v":{"$error":"#DIV/0!"}},{"$f":"(NR_Arbeitsprod_Arbeitskraft!C90/NR_Arbeitsprod_Arbeitskraft!$Q90)*100","v":{"$error":"#DIV/0!"}},{"$f":"(NR_Arbeitsprod_Arbeitskraft!D90/NR_Arbeitsprod_Arbeitskraft!$Q90)*100","v":{"$error":"#DIV/0!"}},{"$f":"(NR_Arbeitsprod_Arbeitskraft!E90/NR_Arbeitsprod_Arbeitskraft!$Q90)*100","v":{"$error":"#DIV/0!"}},{"$f":"(NR_Arbeitsprod_Arbeitskraft!F90/NR_Arbeitsprod_Arbeitskraft!$Q90)*100","v":93.094206995843138},{"$f":"(NR_Arbeitsprod_Arbeitskraft!G90/NR_Arbeitsprod_Arbeitskraft!$Q90)*100","v":96.265252054967235},{"$f":"(NR_Arbeitsprod_Arbeitskraft!H90/NR_Arbeitsprod_Arbeitskraft!$Q90)*100","v":85.543262637627294},{"$f":"(NR_Arbeitsprod_Arbeitskraft!I90/NR_Arbeitsprod_Arbeitskraft!$Q90)*100","v":84.118055453714831},{"$f":"(NR_Arbeitsprod_Arbeitskraft!J90/NR_Arbeitsprod_Arbeitskraft!$Q90)*100","v":85.748311640428284},{"$f":"(NR_Arbeitsprod_Arbeitskraft!K90/NR_Arbeitsprod_Arbeitskraft!$Q90)*100","v":87.276022409988514},{"$f":"(NR_Arbeitsprod_Arbeitskraft!L90/NR_Arbeitsprod_Arbeitskraft!$Q90)*100","v":88.432507102445712},{"$f":"(NR_Arbeitsprod_Arbeitskraft!M90/NR_Arbeitsprod_Arbeitskraft!$Q90)*100","v":90.574900269302418},{"$f":"(NR_Arbeitsprod_Arbeitskraft!N90/NR_Arbeitsprod_Arbeitskraft!$Q90)*100","v":96.961263541835137},{"$f":"(NR_Arbeitsprod_Arbeitskraft!O90/NR_Arbeitsprod_Arbeitskraft!$Q90)*100","v":102.2695230810584},{"$f":"(NR_Arbeitsprod_Arbeitskraft!P90/NR_Arbeitsprod_Arbeitskraft!$Q90)*100","v":99.012779914487083},{"$f":"(NR_Arbeitsprod_Arbeitskraft!Q90/NR_Arbeitsprod_Arbeitskraft!$Q90)*100","v":100},{"$f":"(NR_Arbeitsprod_Arbeitskraft!R90/NR_Arbeitsprod_Arbeitskraft!$Q90)*100","v":104.35333033836203},{"$f":"(NR_Arbeitsprod_Arbeitskraft!S90/NR_Arbeitsprod_Arbeitskraft!$Q90)*100","v":100.01333354097126},{"$f":"(NR_Arbeitsprod_Arbeitskraft!T90/NR_Arbeitsprod_Arbeitskraft!Q90)*100","v":101.2109124924059},{"$f":"(NR_Arbeitsprod_Arbeitskraft!U90/NR_Arbeitsprod_Arbeitskraft!$Q90)*100","v":98.773378208980446},{"$f":"(NR_Arbeitsprod_Arbeitskraft!V90/NR_Arbeitsprod_Arbeitskraft!$Q90)*100","v":97.524557009319537},{"$f":"(NR_Arbeitsprod_Arbeitskraft!W90/NR_Arbeitsprod_Arbeitskraft!$Q90)*100","v":94.696229690818484},{"$f":"(NR_Arbeitsprod_Arbeitskraft!X90/NR_Arbeitsprod_Arbeitskraft!$Q90)*100","v":0}]
["Tschechien",{"$f":"(NR_Arbeitsprod_Arbeitskraft!B91/NR_Arbeitsprod_Arbeitskraft!$Q91)*100","v":64.278704523292035},{"$f":"(NR_Arbeitsprod_Arbeitskraft!C91/NR_Arbeitsprod_Arbeitskraft!$Q91)*100","v":67.88586899703931},{"$f":"(NR_Arbeitsprod_Arbeitskraft!D91/NR_Arbeitsprod_Arbeitskraft!$Q91)*100","v":59.128616939215107},{"$f":"(NR_Arbeitsprod_Arbeitskraft!E91/NR_Arbeitsprod_Arbeitskraft!$Q91)*100","v":65.247479343725303},{"$f":"(NR_Arbeitsprod_Arbeitskraft!F91/NR_Arbeitsprod_Arbeitskraft!$Q91)*100","v":61.238031480109598},{"$f":"(NR_Arbeitsprod_Arbeitskraft!G91/NR_Arbeitsprod_Arbeitskraft!$Q91)*100","v":67.436529115310719},{"$f":"(NR_Arbeitsprod_Arbeitskraft!H91/NR_Arbeitsprod_Arbeitskraft!$Q91)*100","v":78.104933524444718},{"$f":"(NR_Arbeitsprod_Arbeitskraft!I91/NR_Arbeitsprod_Arbeitskraft!$Q91)*100","v":80.401432683790546},{"$f":"(NR_Arbeitsprod_Arbeitskraft!J91/NR_Arbeitsprod_Arbeitskraft!$Q91)*100","v":98.511887711936168},{"$f":"(NR_Arbeitsprod_Arbeitskraft!K91/NR_Arbeitsprod_Arbeitskraft!$Q91)*100","v":96.771771678901771},{"$f":"(NR_Arbeitsprod_Arbeitskraft!L91/NR_Arbeitsprod_Arbeitskraft!$Q91)*100","v":96.663901466371456},{"$f":"(NR_Arbeitsprod_Arbeitskraft!M91/NR_Arbeitsprod_Arbeitskraft!$Q91)*100","v":108.57948068039336},{"$f":"(NR_Arbeitsprod_Arbeitskraft!N91/NR_Arbeitsprod_Arbeitskraft!$Q91)*100","v":117.13524389755283},{"$f":"(NR_Arbeitsprod_Arbeitskraft!O91/NR_Arbeitsprod_Arbeitskraft!$Q91)*100","v":106.6620133090812},{"$f":"(NR_Arbeitsprod_Arbeitskraft!P91/NR_Arbeitsprod_Arbeitskraft!$Q91)*100","v":106.40533281556912},{"$f":"(NR_Arbeitsprod_Arbeitskraft!Q91/NR_Arbeitsprod_Arbeitskraft!$Q91)*100","v":100},{"$f":"(NR_Arbeitsprod_Arbeitskraft!R91/NR_Arbeitsprod_Arbeitskraft!$Q91)*100","v":102.74736159842608},{"$f":"(NR_Arbeitsprod_Arbeitskraft!S91/NR_Arbeitsprod_Arbeitskraft!$Q91)*100","v":104.45390686414559},{"$f":"(NR_Arbeitsprod_Arbeitskraft!T91/NR_Arbeitsprod_Arbeitskraft!Q91)*100","v":100.84841656504244},{"$f":"(NR_Arbeitsprod_Arbeitskraft!U91/NR_Arbeitsprod_Arbeitskraft!$Q91)*100","v":95.115085381289617},{"$f":"(NR_Arbeitsprod_Arbeitskraft!V91/NR_Arbeitsprod_Arbeitskraft!$Q91)*100","v":93.752363874709232},{"$f":"(NR_Arbeitsprod_Arbeitskraft!W91/NR_Arbeitsprod_Arbeitskraft!$Q91)*100","v":88.351385951518026},{"$f":"(NR_Arbeitsprod_Arbeitskraft!X91/NR_Arbeitsprod_Arbeitskraft!$Q91)*100","v":82.663918993790972}]
["Dänemark",{"$f":"(NR_Arbeitsprod_Arbeitskraft!B92/NR_Arbeitsprod_Arbeitskraft!$Q92)*100","v":158.74525257350481},{"$f":"(NR_Arbeitsprod_Arbeitskraft!C92/NR_Arbeitsprod_Arbeitskraft!$Q92)*100","v":156.62324338467093},{"$f":"(NR_Arbeitsprod_Arbeitskraft!D92/NR_Arbeitsprod_Arbeitskraft!$Q92)*100","v":158.37791670608232},{"$f":"(NR_Arbeitsprod_Arbeitskraft!E92/NR_Arbeitsprod_Arbeitskraft!$Q92)*100","v":153.77068522187179},{"$f":"(NR_Arbeitsprod_Arbeitskraft!F92/NR_Arbeitsprod_Arbeitskraft!$Q92)*100","v":145.73088573992311},{"$f":"(NR_Arbeitsprod_Arbeitskraft!G92/NR_Arbeitsprod_Arbeitskraft!$Q92)*100","v":126.29103209254072},{"$f":"(NR_Arbeitsprod_Arbeitskraft!H92/NR_Arbeitsprod_Arbeitskraft!$Q92)*100","v":150.7652502152184},{"$f":"(NR_Arbeitsprod_Arbeitskraft!I92/NR_Arbeitsprod_Arbeitskraft!$Q92)*100","v":147.04418109982697},{"$f":"(NR_Arbeitsprod_Arbeitskraft!J92/NR_Arbeitsprod_Arbeitskraft!$Q92)*100","v":144.40654464203052},{"$f":"(NR_Arbeitsprod_Arbeitskraft!K92/NR_Arbeitsprod_Arbeitskraft!$Q92)*100","v":136.93855876216483},{"$f":"(NR_Arbeitsprod_Arbeitskraft!L92/NR_Arbeitsprod_Arbeitskraft!$Q92)*100","v":140.04599607089364},{"$f":"(NR_Arbeitsprod_Arbeitskraft!M92/NR_Arbeitsprod_Arbeitskraft!$Q92)*100","v":116.95892694135337},{"$f":"(NR_Arbeitsprod_Arbeitskraft!N92/NR_Arbeitsprod_Arbeitskraft!$Q92)*100","v":114.57134826182784},{"$f":"(NR_Arbeitsprod_Arbeitskraft!O92/NR_Arbeitsprod_Arbeitskraft!$Q92)*100","v":99.884098103689837},{"$f":"(NR_Arbeitsprod_Arbeitskraft!P92/NR_Arbeitsprod_Arbeitskraft!$Q92)*100","v":98.208858819163098},{"$f":"(NR_Arbeitsprod_Arbeitskraft!Q92/NR_Arbeitsprod_Arbeitskraft!$Q92)*100","v":100},{"$f":"(NR_Arbeitsprod_Arbeitskraft!R92/NR_Arbeitsprod_Arbeitskraft!$Q92)*100","v":90.211962493340508},{"$f":"(NR_Arbeitsprod_Arbeitskraft!S92/NR_Arbeitsprod_Arbeitskraft!$Q92)*100","v":87.086406505245847},{"$f":"(NR_Arbeitsprod_Arbeitskraft!T92/NR_Arbeitsprod_Arbeitskraft!Q92)*100","v":87.129706275692115},{"$f":"(NR_Arbeitsprod_Arbeitskraft!U92/NR_Arbeitsprod_Arbeitskraft!$Q92)*100","v":87.744419702071198},{"$f":"(NR_Arbeitsprod_Arbeitskraft!V92/NR_Arbeitsprod_Arbeitskraft!$Q92)*100","v":80.110526102878467},{"$f":"(NR_Arbeitsprod_Arbeitskraft!W92/NR_Arbeitsprod_Arbeitskraft!$Q92)*100","v":70.157484514387761},{"$f":"(NR_Arbeitsprod_Arbeitskraft!X92/NR_Arbeitsprod_Arbeitskraft!$Q92)*100","v":83.631695723763485}]
["Estland",{"$f":"(NR_Arbeitsprod_Arbeitskraft!B93/NR_Arbeitsprod_Arbeitskraft!$Q93)*100","v":{"$error":"#DIV/0!"}},{"$f":"(NR_Arbeitsprod_Arbeitskraft!C93/NR_Arbeitsprod_Arbeitskraft!$Q93)*100","v":{"$error":"#DIV/0!"}},{"$f":"(NR_Arbeitsprod_Arbeitskraft!D93/NR_Arbeitsprod_Arbeitskraft!$Q93)*100","v":{"$error":"#DIV/0!"}},{"$f":"(NR_Arbeitsprod_Arbeitskraft!E93/NR_Arbeitsprod_Arbeitskraft!$Q93)*100","v":{"$error":"#DIV/0!"}},{"$f":"(NR_Arbeitsprod_Arbeitskraft!F93/NR_Arbeitsprod_Arbeitskraft!$Q93)*100","v":{"$error":"#DIV/0!"}},{"$f":"(NR_Arbeitsprod_Arbeitskraft!G93/NR_Arbeitsprod_Arbeitskraft!$Q93)*100","v":36.056779061632206},{"$f":"(NR_Arbeitsprod_Arbeitskraft!H93/NR_Arbeitsprod_Arbeitskraft!$Q93)*100","v":62.3391928863552},{"$f":"(NR_Arbeitsprod_Arbeitskraft!I93/NR_Arbeitsprod_Arbeitskraft!$Q93)*100","v":56.42674990388182},{"$f":"(NR_Arbeitsprod_Arbeitskraft!J93/NR_Arbeitsprod_Arbeitskraft!$Q93)*100","v":56.483953249833995},{"$f":"(NR_Arbeitsprod_Arbeitskraft!K93/NR_Arbeitsprod_Arbeitskraft!$Q93)*100","v":81.789398974375587},{"$f":"(NR_Arbeitsprod_Arbeitskraft!L93/NR_Arbeitsprod_Arbeitskraft!$Q93)*100","v":97.631202314929723},{"$f":"(NR_Arbeitsprod_Arbeitskraft!M93/NR_Arbeitsprod_Arbeitskraft!$Q93)*100","v":93.277465747916125},{"$f":"(NR_Arbeitsprod_Arbeitskraft!N93/NR_Arbeitsprod_Arbeitskraft!$Q93)*100","v":88.549306121819583},{"$f":"(NR_Arbeitsprod_Arbeitskraft!O93/NR_Arbeitsprod_Arbeitskraft!$Q93)*100","v":107.42817327657004},{"$f":"(NR_Arbeitsprod_Arbeitskraft!P93/NR_Arbeitsprod_Arbeitskraft!$Q93)*100","v":88.326364531428595},{"$f":"(NR_Arbeitsprod_Arbeitskraft!Q93/NR_Arbeitsprod_Arbeitskraft!$Q93)*100","v":100},{"$f":"(NR_Arbeitsprod_Arbeitskraft!R93/NR_Arbeitsprod_Arbeitskraft!$Q93)*100","v":68.772222226611163},{"$f":"(NR_Arbeitsprod_Arbeitskraft!S93/NR_Arbeitsprod_Arbeitskraft!$Q93)*100","v":84.338441026417016},{"$f":"(NR_Arbeitsprod_Arbeitskraft!T93/NR_Arbeitsprod_Arbeitskraft!Q93)*100","v":92.702507276890387},{"$f":"(NR_Arbeitsprod_Arbeitskraft!U93/NR_Arbeitsprod_Arbeitskraft!$Q93)*100","v":60.968874966925334},{"$f":"(NR_Arbeitsprod_Arbeitskraft!V93/NR_Arbeitsprod_Arbeitskraft!$Q93)*100","v":64.520593928361365},{"$f":"(NR_Arbeitsprod_Arbeitskraft!W93/NR_Arbeitsprod_Arbeitskraft!$Q93)*100","v":70.239791837413293},{"$f":"(NR_Arbeitsprod_Arbeitskraft!X93/NR_Arbeitsprod_Arbeitskraft!$Q93)*100","v":68.952595690069458}]
["Frankreich",{"$f":"(NR_Arbeitsprod_Arbeitskraft!B94/NR_Arbeitsprod_Arbeitskraft!$Q94)*100","v":{"$error":"#DIV/0!"}},{"$f":"(NR_Arbeitsprod_Arbeitskraft!C94/NR_Arbeitsprod_Arbeitskraft!$Q94)*100","v":{"$error":"#DIV/0!"}},{"$f":"(NR_Arbeitsprod_Arbeitskraft!D94/NR_Arbeitsprod_Arbeitskraft!$Q94)*100","v":{"$error":"#DIV/0!"}},{"$f":"(NR_Arbeitsprod_Arbeitskraft!E94/NR_Arbeitsprod_Arbeitskraft!$Q94)*100","v":{"$error":"#DIV/0!"}},{"$f":"(NR_Arbeitsprod_Arbeitskraft!F94/NR_Arbeitsprod_Arbeitskraft!$Q94)*100","v":{"$error":"#DIV/0!"}},{"$f":"(NR_Arbeitsprod_Arbeitskraft!G94/NR_Arbeitsprod_Arbeitskraft!$Q94)*100","v":{"$error":"#DIV/0!"}},{"$f":"(NR_Arbeitsprod_Arbeitskraft!H94/NR_Arbeitsprod_Arbeitskraft!$Q94)*100","v":{"$error":"#DIV/0!"}},{"$f":"(NR_Arbeitsprod_Arbeitskraft!I94/NR_Arbeitsprod_Arbeitskraft!$Q94)*100","v":{"$error":"#DIV/0!"}},{"$f":"(NR_Arbeitsprod_Arbeitskraft!J94/NR_Arbeitsprod_Arbeitskraft!$Q94)*100","v":{"$error":"#DIV/0!"}},{"$f":"(NR_Arbeitsprod_Arbeitskraft!K94/NR_Arbeitsprod_Arbeitskraft!$Q94)*100","v":{"$error":"#DIV/0!"}},{"$f":"(NR_Arbeitsprod_Arbeitskraft!L94/NR_Arbeitsprod_Arbeitskraft!$Q94)*100","v":{"$error":"#DIV/0!"}},{"$f":"(NR_Arbeitsprod_Arbeitskraft!M94/NR_Arbeitsprod_Arbeitskraft!$Q94)*100","v":{"$error":"#DIV/0!"}},{"$f":"(NR_Arbeitsprod_Arbeitskraft!N94/NR_Arbeitsprod_Arbeitskraft!$Q94)*100","v":{"$error":"#DIV/0!"}},{"$f":"(NR_Arbeitsprod_Arbeitskraft!O94/NR_Arbeitsprod_Arbeitskraft!$Q94)*100","v":{"$error":"#DIV/0!"}},{"$f":"(NR_Arbeitsprod_Arbeitskraft!P94/NR_Arbeitsprod_Arbeitskraft!$Q94)*100","v":{"$error":"#DIV/0!"}},{"$f":"(NR_Arbeitsprod_Arbeitskraft!Q94/NR_Arbeitsprod_Arbeitskraft!$Q94)*100","v":{"$error":"#DIV/0!"}},{"$f":"(NR_Arbeitsprod_Arbeitskraft!R94/NR_Arbeitsprod_Arbeitskraft!$Q94)*100","v":{"$error":"#DIV/0!"}},{"$f":"(NR_Arbeitsprod_Arbeitskraft!S94/NR_Arbeitsprod_Arbeitskraft!$Q94)*100","v":{"$error":"#DIV/0!"}},{"$f":"(NR_Arbeitsprod_Arbeitskraft!T94/NR_Arbeitsprod_Arbeitskraft!Q94)*100","v":{"$error":"#DIV/0!"}},{"$f":"(NR_Arbeitsprod_Arbeitskraft!U94/NR_Arbeitsprod_Arbeitskraft!$Q94)*100","v":{"$error":"#DIV/0!"}},{"$f":"(NR_Arbeitsprod_Arbeitskraft!V94/NR_Arbeitsprod_Arbeitskraft!$Q94)*100","v":{"$error":"#DIV/0!"}},{"$f":"(NR_Arbeitsprod_Arbeitskraft!W94/NR_Arbeitsprod_Arbeitskraft!$Q94)*100","v":{"$error":"#DIV/0!"}},{"$f":"(NR_Arbeitsprod_Arbeitskraft!X94/NR_Arbeitsprod_Arbeitskraft!$Q94)*100","v":{"$error":"#DIV/0!"}}]
["Griechenland",{"$f":"(NR_Arbeitsprod_Arbeitskraft!B95/NR_Arbeitsprod_Arbeitskraft!$Q95)*100","v":54.065976239757418},{"$f":"(NR_Arbeitsprod_Arbeitskraft!C95/NR_Arbeitsprod_Arbeitskraft!$Q95)*100","v":53.915037644051743},{"$f":"(NR_Arbeitsprod_Arbeitskraft!D95/NR_Arbeitsprod_Arbeitskraft!$Q95)*100","v":64.794002793466504},{"$f":"(NR_Arbeitsprod_Arbeitskraft!E95/NR_Arbeitsprod_Arbeitskraft!$Q95)*100","v":67.1289534802129},{"$f":"(NR_Arbeitsprod_Arbeitskraft!F95/NR_Arbeitsprod_Arbeitskraft!$Q95)*100","v":86.159396484999547},{"$f":"(NR_Arbeitsprod_Arbeitskraft!G95/NR_Arbeitsprod_Arbeitskraft!$Q95)*100","v":87.624751064648677},{"$f":"(NR_Arbeitsprod_Arbeitskraft!H95/NR_Arbeitsprod_Arbeitskraft!$Q95)*100","v":96.892845243319726},{"$f":"(NR_Arbeitsprod_Arbeitskraft!I95/NR_Arbeitsprod_Arbeitskraft!$Q95)*100","v":102.71941086956771},{"$f":"(NR_Arbeitsprod_Arbeitskraft!J95/NR_Arbeitsprod_Arbeitskraft!$Q95)*100","v":100.62462546206908},{"$f":"(NR_Arbeitsprod_Arbeitskraft!K95/NR_Arbeitsprod_Arbeitskraft!$Q95)*100","v":103.95726894168055},{"$f":"(NR_Arbeitsprod_Arbeitskraft!L95/NR_Arbeitsprod_Arbeitskraft!$Q95)*100","v":102.45772245059264},{"$f":"(NR_Arbeitsprod_Arbeitskraft!M95/NR_Arbeitsprod_Arbeitskraft!$Q95)*100","v":111.98815263980302},{"$f":"(NR_Arbeitsprod_Arbeitskraft!N95/NR_Arbeitsprod_Arbeitskraft!$Q95)*100","v":115.46850776657969},{"$f":"(NR_Arbeitsprod_Arbeitskraft!O95/NR_Arbeitsprod_Arbeitskraft!$Q95)*100","v":121.56493003054794},{"$f":"(NR_Arbeitsprod_Arbeitskraft!P95/NR_Arbeitsprod_Arbeitskraft!$Q95)*100","v":107.23797152600558},{"$f":"(NR_Arbeitsprod_Arbeitskraft!Q95/NR_Arbeitsprod_Arbeitskraft!$Q95)*100","v":100},{"$f":"(NR_Arbeitsprod_Arbeitskraft!R95/NR_Arbeitsprod_Arbeitskraft!$Q95)*100","v":100.20218812356667},{"$f":"(NR_Arbeitsprod_Arbeitskraft!S95/NR_Arbeitsprod_Arbeitskraft!$Q95)*100","v":90.862258258990153},{"$f":"(NR_Arbeitsprod_Arbeitskraft!T95/NR_Arbeitsprod_Arbeitskraft!Q95)*100","v":82.139368132250581},{"$f":"(NR_Arbeitsprod_Arbeitskraft!U95/NR_Arbeitsprod_Arbeitskraft!$Q95)*100","v":74.120569897094057},{"$f":"(NR_Arbeitsprod_Arbeitskraft!V95/NR_Arbeitsprod_Arbeitskraft!$Q95)*100","v":63.486119327324488},{"$f":"(NR_Arbeitsprod_Arbeitskraft!W95/NR_Arbeitsprod_Arbeitskraft!$Q95)*100","v":60.111007894750514},{"$f":"(NR_Arbeitsprod_Arbeitskraft!X95/NR_Arbeitsprod_Arbeitskraft!$Q95)*100","v":61.516020999198105}]
["Italien",{"$f":"(NR_Arbeitsprod_Arbeitskraft!B96/NR_Arbeitsprod_Arbeitskraft!$Q96)*100","v":{"$error":"#DIV/0!"}},{"$f":"(NR_Arbeitsprod_Arbeitskraft!C96/NR_Arbeitsprod_Arbeitskraft!$Q96)*100","v":{"$error":"#DIV/0!"}},{"$f":"(NR_Arbeitsprod_Arbeitskraft!D96/NR_Arbeitsprod_Arbeitskraft!$Q96)*100","v":{"$error":"#DIV/0!"}},{"$f":"(NR_Arbeitsprod_Arbeitskraft!E96/NR_Arbeitsprod_Arbeitskraft!$Q96)*100","v":{"$error":"#DIV/0!"}},{"$f":"(NR_Arbeitsprod_Arbeitskraft!F96/NR_Arbeitsprod_Arbeitskraft!$Q96)*100","v":{"$error":"#DIV/0!"}},{"$f":"(NR_Arbeitsprod_Arbeitskraft!G96/NR_Arbeitsprod_Arbeitskraft!$Q96)*100","v":{"$error":"#DIV/0!"}},{"$f":"(NR_Arbeitsprod_Arbeitskraft!H96/NR_Arbeitsprod_Arbeitskraft!$Q96)*100","v":{"$error":"#DIV/0!"}},{"$f":"(NR_Arbeitsprod_Arbeitskraft!I96/NR_Arbeitsprod_Arbeitskraft!$Q96)*100","v":{"$error":"#DIV/0!"}},{"$f":"(NR_Arbeitsprod_Arbeitskraft!J96/NR_Arbeitsprod_Arbeitskraft!$Q96)*100","v":{"$error":"#DIV/0!"}},{"$f":"(NR_Arbeitsprod_Arbeitskraft!K96/NR_Arbeitsprod_Arbeitskraft!$Q96)*100","v":{"$error":"#DIV/0!"}},{"$f":"(NR_Arbeitsprod_Arbeitskraft!L96/NR_Arbeitsprod_Arbeitskraft!$Q96)*100","v":{"$error":"#DIV/0!"}},{"$f":"(NR_Arbeitsprod_Arbeitskraft!M96/NR_Arbeitsprod_Arbeitskraft!$Q96)*100","v":{"$error":"#DIV/0!"}},{"$f":"(NR_Arbeitsprod_Arbeitskraft!N96/NR_Arbeitsprod_Arbeitskraft!$Q96)*100","v":{"$error":"#DIV/0!"}},{"$f":"(NR_Arbeitsprod_Arbeitskraft!O96/NR_Arbeitsprod_Arbeitskraft!$Q96)*100","v":{"$error":"#DIV/0!"}},{"$f":"(NR_Arbeitsprod_Arbeitskraft!P96/NR_Arbeitsprod_Arbeitskraft!$Q96)*100","v":{"$error":"#DIV/0!"}},{"$f":"(NR_Arbeitsprod_Arbeitskraft!Q96/NR_Arbeitsprod_Arbeitskraft!$Q96)*100","v":{"$error":"#DIV/0!"}},{"$f":"(NR_Arbeitsprod_Arbeitskraft!R96/NR_Arbeitsprod_Arbeitskraft!$Q96)*100","v":{"$error":"#DIV/0!"}},{"$f":"(NR_Arbeitsprod_Arbeitskraft!S96/NR_Arbeitsprod_Arbeitskraft!$Q96)*100","v":{"$error":"#DIV/0!"}},{"$f":"(NR_Arbeitsprod_Arbeitskraft!T96/NR_Arbeitsprod_Arbeitskraft!Q96)*100","v":{"$error":"#DIV/0!"}},{"$f":"(NR_Arbeitsprod_Arbeitskraft!U96/NR_Arbeitsprod_Arbeitskraft!$Q96)*100","v":{"$error":"#DIV/0!"}},{"$f":"(NR_Arbeitsprod_Arbeitskraft!V96/NR_Arbeitsprod_Arbeitskraft!$Q96)*100","v":{"$error":"#DIV/0!"}},{"$f":"(NR_Arbeitsprod_Arbeitskraft!W96/NR_Arbeitsprod_Arbeitskraft!$Q96)*100","v":{"$error":"#DIV/0!"}},{"$f":"(NR_Arbeitsprod_Arbeitskraft!X96/NR_Arbeitsprod_Arbeitskraft!$Q96)*100","v":{"$error":"#DIV/0!"}}]
["Spanien",{"$f":"(NR_Arbeitsprod_Arbeitskraft!B97/NR_Arbeitsprod_Arbeitskraft!$Q97)*100","v":38.075534302473109},{"$f":"(NR_Arbeitsprod_Arbeitskraft!C97/NR_Arbeitsprod_Arbeitskraft!$Q97)*100","v":43.295809177071924},{"$f":"(NR_Arbeitsprod_Arbeitskraft!D97/NR_Arbeitsprod_Arbeitskraft!$Q97)*100","v":48.570944028590105},{"$f":"(NR_Arbeitsprod_Arbeitskraft!E97/NR_Arbeitsprod_Arbeitskraft!$Q97)*100","v":52.622178254697282},{"$f":"(NR_Arbeitsprod_Arbeitskraft!F97/NR_Arbeitsprod_Arbeitskraft!$Q97)*100","v":53.88964197860858},{"$f":"(NR_Arbeitsprod_Arbeitskraft!G97/NR_Arbeitsprod_Arbeitskraft!$Q97)*100","v":59.935707012863247},{"$f":"(NR_Arbeitsprod_Arbeitskraft!H97/NR_Arbeitsprod_Arbeitskraft!$Q97)*100","v":63.191154158151264},{"$f":"(NR_Arbeitsprod_Arbeitskraft!I97/NR_Arbeitsprod_Arbeitskraft!$Q97)*100","v":68.94106288832171},{"$f":"(NR_Arbeitsprod_Arbeitskraft!J97/NR_Arbeitsprod_Arbeitskraft!$Q97)*100","v":73.127848926385724},{"$f":"(NR_Arbeitsprod_Arbeitskraft!K97/NR_Arbeitsprod_Arbeitskraft!$Q97)*100","v":78.577885858623418},{"$f":"(NR_Arbeitsprod_Arbeitskraft!L97/NR_Arbeitsprod_Arbeitskraft!$Q97)*100","v":85.037660335033934},{"$f":"(NR_Arbeitsprod_Arbeitskraft!M97/NR_Arbeitsprod_Arbeitskraft!$Q97)*100","v":86.34638449970808},{"$f":"(NR_Arbeitsprod_Arbeitskraft!N97/NR_Arbeitsprod_Arbeitskraft!$Q97)*100","v":93.722006387464944},{"$f":"(NR_Arbeitsprod_Arbeitskraft!O97/NR_Arbeitsprod_Arbeitskraft!$Q97)*100","v":94.319475869059403},{"$f":"(NR_Arbeitsprod_Arbeitskraft!P97/NR_Arbeitsprod_Arbeitskraft!$Q97)*100","v":91.733852077294358},{"$f":"(NR_Arbeitsprod_Arbeitskraft!Q97/NR_Arbeitsprod_Arbeitskraft!$Q97)*100","v":100},{"$f":"(NR_Arbeitsprod_Arbeitskraft!R97/NR_Arbeitsprod_Arbeitskraft!$Q97)*100","v":101.67374039482849},{"$f":"(NR_Arbeitsprod_Arbeitskraft!S97/NR_Arbeitsprod_Arbeitskraft!$Q97)*100","v":98.062409457762101},{"$f":"(NR_Arbeitsprod_Arbeitskraft!T97/NR_Arbeitsprod_Arbeitskraft!Q97)*100","v":104.13646996592516},{"$f":"(NR_Arbeitsprod_Arbeitskraft!U97/NR_Arbeitsprod_Arbeitskraft!$Q97)*100","v":119.95833769693624},{"$f":"(NR_Arbeitsprod_Arbeitskraft!V97/NR_Arbeitsprod_Arbeitskraft!$Q97)*100","v":113.06368716071526},{"$f":"(NR_Arbeitsprod_Arbeitskraft!W97/NR_Arbeitsprod_Arbeitskraft!$Q97)*100","v":107.70198403235125},{"$f":"(NR_Arbeitsprod_Arbeitskraft!X97/NR_Arbeitsprod_Arbeitskraft!$Q97)*100","v":106.29496032870689}]
["Finnland",{"$f":"(NR_Arbeitsprod_Arbeitskraft!B98/NR_Arbeitsprod_Arbeitskraft!$Q98)*100","v":71.92437076794252},{"$f":"(NR_Arbeitsprod_Arbeitskraft!C98/NR_Arbeitsprod_Arbeitskraft!$Q98)*100","v":73.11969666278344},{"$f":"(NR_Arbeitsprod_Arbeitskraft!D98/NR_Arbeitsprod_Arbeitskraft!$Q98)*100","v":77.511762585651383},{"$f":"(NR_Arbeitsprod_Arbeitskraft!E98/NR_Arbeitsprod_Arbeitskraft!$Q98)*100","v":78.706559959796166},{"$f":"(NR_Arbeitsprod_Arbeitskraft!F98/NR_Arbeitsprod_Arbeitskraft!$Q98)*100","v":86.298638861523798},{"$f":"(NR_Arbeitsprod_Arbeitskraft!G98/NR_Arbeitsprod_Arbeitskraft!$Q98)*100","v":89.408051081063817},{"$f":"(NR_Arbeitsprod_Arbeitskraft!H98/NR_Arbeitsprod_Arbeitskraft!$Q98)*100","v":95.282814188202053},{"$f":"(NR_Arbeitsprod_Arbeitskraft!I98/NR_Arbeitsprod_Arbeitskraft!$Q98)*100","v":97.5189575349455},{"$f":"(NR_Arbeitsprod_Arbeitskraft!J98/NR_Arbeitsprod_Arbeitskraft!$Q98)*100","v":100.89866577658968},{"$f":"(NR_Arbeitsprod_Arbeitskraft!K98/NR_Arbeitsprod_Arbeitskraft!$Q98)*100","v":98.631629655891629},{"$f":"(NR_Arbeitsprod_Arbeitskraft!L98/NR_Arbeitsprod_Arbeitskraft!$Q98)*100","v":101.11305939936474},{"$f":"(NR_Arbeitsprod_Arbeitskraft!M98/NR_Arbeitsprod_Arbeitskraft!$Q98)*100","v":100.70656243305119},{"$f":"(NR_Arbeitsprod_Arbeitskraft!N98/NR_Arbeitsprod_Arbeitskraft!$Q98)*100","v":97.627381636985191},{"$f":"(NR_Arbeitsprod_Arbeitskraft!O98/NR_Arbeitsprod_Arbeitskraft!$Q98)*100","v":96.124018054819658},{"$f":"(NR_Arbeitsprod_Arbeitskraft!P98/NR_Arbeitsprod_Arbeitskraft!$Q98)*100","v":93.066704273022154},{"$f":"(NR_Arbeitsprod_Arbeitskraft!Q98/NR_Arbeitsprod_Arbeitskraft!$Q98)*100","v":100},{"$f":"(NR_Arbeitsprod_Arbeitskraft!R98/NR_Arbeitsprod_Arbeitskraft!$Q98)*100","v":98.419052360799924},{"$f":"(NR_Arbeitsprod_Arbeitskraft!S98/NR_Arbeitsprod_Arbeitskraft!$Q98)*100","v":102.27691842239889},{"$f":"(NR_Arbeitsprod_Arbeitskraft!T98/NR_Arbeitsprod_Arbeitskraft!Q98)*100","v":90.591494332729823},{"$f":"(NR_Arbeitsprod_Arbeitskraft!U98/NR_Arbeitsprod_Arbeitskraft!$Q98)*100","v":76.39910080495828},{"$f":"(NR_Arbeitsprod_Arbeitskraft!V98/NR_Arbeitsprod_Arbeitskraft!$Q98)*100","v":72.444402651668966},{"$f":"(NR_Arbeitsprod_Arbeitskraft!W98/NR_Arbeitsprod_Arbeitskraft!$Q98)*100","v":68.97153032096162},{"$f":"(NR_Arbeitsprod_Arbeitskraft!X98/NR_Arbeitsprod_Arbeitskraft!$Q98)*100","v":61.913773281253562}]
["Ungarn",{"$f":"(NR_Arbeitsprod_Arbeitskraft!B99/NR_Arbeitsprod_Arbeitskraft!$Q99)*100","v":{"$error":"#DIV/0!"}},{"$f":"(NR_Arbeitsprod_Arbeitskraft!C99/NR_Arbeitsprod_Arbeitskraft!$Q99)*100","v":{"$error":"#DIV/0!"}},{"$f":"(NR_Arbeitsprod_Arbeitskraft!D99/NR_Arbeitsprod_Arbeitskraft!$Q99)*100","v":{"$error":"#DIV/0!"}},{"$f":"(NR_Arbeitsprod_Arbeitskraft!E99/NR_Arbeitsprod_Arbeitskraft!$Q99)*100","v":{"$error":"#DIV/0!"}},{"$f":"(NR_Arbeitsprod_Arbeitskraft!F99/NR_Arbeitsprod_Arbeitskraft!$Q99)*100","v":{"$error":"#DIV/0!"}},{"$f":"(NR_Arbeitsprod_Arbeitskraft!G99/NR_Arbeitsprod_Arbeitskraft!$Q99)*100","v":{"$error":"#DIV/0!"}},{"$f":"(NR_Arbeitsprod_Arbeitskraft!H99/NR_Arbeitsprod_Arbeitskraft!$Q99)*100","v":{"$error":"#DIV/0!"}},{"$f":"(NR_Arbeitsprod_Arbeitskraft!I99/NR_Arbeitsprod_Arbeitskraft!$Q99)*100","v":{"$error":"#DIV/0!"}},{"$f":"(NR_Arbeitsprod_Arbeitskraft!J99/NR_Arbeitsprod_Arbeitskraft!$Q99)*100","v":{"$error":"#DIV/0!"}},{"$f":"(NR_Arbeitsprod_Arbeitskraft!K99/NR_Arbeitsprod_Arbeitskraft!$Q99)*100","v":{"$error":"#DIV/0!"}},{"$f":"(NR_Arbeitsprod_Arbeitskraft!L99/NR_Arbeitsprod_Arbeitskraft!$Q99)*100","v":{"$error":"#DIV/0!"}},{"$f":"(NR_Arbeitsprod_Arbeitskraft!M99/NR_Arbeitsprod_Arbeitskraft!$Q99)*100","v":{"$error":"#DIV/0!"}},{"$f":"(NR_Arbeitsprod_Arbeitskraft!N99/NR_Arbeitsprod_Arbeitskraft!$Q99)*100","v":{"$error":"#DIV/0!"}},{"$f":"(NR_Arbeitsprod_Arbeitskraft!O99/NR_Arbeitsprod_Arbeitskraft!$Q99)*100","v":{"$error":"#DIV/0!"}},{"$f":"(NR_Arbeitsprod_Arbeitskraft!P99/NR_Arbeitsprod_Arbeitskraft!$Q99)*100","v":{"$error":"#DIV/0!"}},{"$f":"(NR_Arbeitsprod_Arbeitskraft!Q99/NR_Arbeitsprod_Arbeitskraft!$Q99)*100","v":100},{"$f":"(NR_Arbeitsprod_Arbeitskraft!R99/NR_Arbeitsprod_Arbeitskraft!$Q99)*100","v":98.023155629334568},{"$f":"(NR_Arbeitsprod_Arbeitskraft!S99/NR_Arbeitsprod_Arbeitskraft!$Q99)*100","v":96.843593747126405},{"$f":"(NR_Arbeitsprod_Arbeitskraft!T99/NR_Arbeitsprod_Arbeitskraft!Q99)*100","v":103.78965031611762},{"$f":"(NR_Arbeitsprod_Arbeitskraft!U99/NR_Arbeitsprod_Arbeitskraft!$Q99)*100","v":107.54379970361248},{"$f":"(NR_Arbeitsprod_Arbeitskraft!V99/NR_Arbeitsprod_Arbeitskraft!$Q99)*100","v":110.05489790377958},{"$f":"(NR_Arbeitsprod_Arbeitskraft!W99/NR_Arbeitsprod_Arbeitskraft!$Q99)*100","v":102.79602387495881},{"$f":"(NR_Arbeitsprod_Arbeitskraft!X99/NR_Arbeitsprod_Arbeitskraft!$Q99)*100","v":96.234138914960482}]
["Irland",{"$f":"(NR_Arbeitsprod_Arbeitskraft!B100/NR_Arbeitsprod_Arbeitskraft!$Q100)*100","v":97.047139497502783},{"$f":"(NR_Arbeitsprod_Arbeitskraft!C100/NR_Arbeitsprod_Arbeitskraft!$Q100)*100","v":98.610069735425782},{"$f":"(NR_Arbeitsprod_Arbeitskraft!D100/NR_Arbeitsprod_Arbeitskraft!$Q100)*100","v":103.86662605170598},{"$f":"(NR_Arbeitsprod_Arbeitskraft!E100/NR_Arbeitsprod_Arbeitskraft!$Q100)*100","v":96.735888230618812},{"$f":"(NR_Arbeitsprod_Arbeitskraft!F100/NR_Arbeitsprod_Arbeitskraft!$Q100)*100","v":101.08657341161251},{"$f":"(NR_Arbeitsprod_Arbeitskraft!G100/NR_Arbeitsprod_Arbeitskraft!$Q100)*100","v":97.394332647006038},{"$f":"(NR_Arbeitsprod_Arbeitskraft!H100/NR_Arbeitsprod_Arbeitskraft!$Q100)*100","v":91.412531869295492},{"$f":"(NR_Arbeitsprod_Arbeitskraft!I100/NR_Arbeitsprod_Arbeitskraft!$Q100)*100","v":86.592205115043953},{"$f":"(NR_Arbeitsprod_Arbeitskraft!J100/NR_Arbeitsprod_Arbeitskraft!$Q100)*100","v":90.002810058129413},{"$f":"(NR_Arbeitsprod_Arbeitskraft!K100/NR_Arbeitsprod_Arbeitskraft!$Q100)*100","v":109.33307318375584},{"$f":"(NR_Arbeitsprod_Arbeitskraft!L100/NR_Arbeitsprod_Arbeitskraft!$Q100)*100","v":86.825248219413808},{"$f":"(NR_Arbeitsprod_Arbeitskraft!M100/NR_Arbeitsprod_Arbeitskraft!$Q100)*100","v":79.470195336173916},{"$f":"(NR_Arbeitsprod_Arbeitskraft!N100/NR_Arbeitsprod_Arbeitskraft!$Q100)*100","v":80.306459221332048},{"$f":"(NR_Arbeitsprod_Arbeitskraft!O100/NR_Arbeitsprod_Arbeitskraft!$Q100)*100","v":81.936110730493255},{"$f":"(NR_Arbeitsprod_Arbeitskraft!P100/NR_Arbeitsprod_Arbeitskraft!$Q100)*100","v":80.70320283798273},{"$f":"(NR_Arbeitsprod_Arbeitskraft!Q100/NR_Arbeitsprod_Arbeitskraft!$Q100)*100","v":100},{"$f":"(NR_Arbeitsprod_Arbeitskraft!R100/NR_Arbeitsprod_Arbeitskraft!$Q100)*100","v":97.675153061657056},{"$f":"(NR_Arbeitsprod_Arbeitskraft!S100/NR_Arbeitsprod_Arbeitskraft!$Q100)*100","v":102.05113816133378},{"$f":"(NR_Arbeitsprod_Arbeitskraft!T100/NR_Arbeitsprod_Arbeitskraft!Q100)*100","v":102.02026932473179},{"$f":"(NR_Arbeitsprod_Arbeitskraft!U100/NR_Arbeitsprod_Arbeitskraft!$Q100)*100","v":93.271495504920765},{"$f":"(NR_Arbeitsprod_Arbeitskraft!V100/NR_Arbeitsprod_Arbeitskraft!$Q100)*100","v":84.369293416363462},{"$f":"(NR_Arbeitsprod_Arbeitskraft!W100/NR_Arbeitsprod_Arbeitskraft!$Q100)*100","v":79.124157059838069},{"$f":"(NR_Arbeitsprod_Arbeitskraft!X100/NR_Arbeitsprod_Arbeitskraft!$Q100)*100","v":77.600838161635437}]
["Niederlande",{"$f":"(NR_Arbeitsprod_Arbeitskraft!B101/NR_Arbeitsprod_Arbeitskraft!$Q101)*100","v":79.440781657159249},{"$f":"(NR_Arbeitsprod_Arbeitskraft!C101/NR_Arbeitsprod_Arbeitskraft!$Q101)*100","v":79.659619708714885},{"$f":"(NR_Arbeitsprod_Arbeitskraft!D101/NR_Arbeitsprod_Arbeitskraft!$Q101)*100","v":78.481853501801197},{"$f":"(NR_Arbeitsprod_Arbeitskraft!E101/NR_Arbeitsprod_Arbeitskraft!$Q101)*100","v":83.887526483512644},{"$f":"(NR_Arbeitsprod_Arbeitskraft!F101/NR_Arbeitsprod_Arbeitskraft!$Q101)*100","v":80.760303312489981},{"$f":"(NR_Arbeitsprod_Arbeitskraft!G101/NR_Arbeitsprod_Arbeitskraft!$Q101)*100","v":84.626303244863223},{"$f":"(NR_Arbeitsprod_Arbeitskraft!H101/NR_Arbeitsprod_Arbeitskraft!$Q101)*100","v":88.076177765614901},{"$f":"(NR_Arbeitsprod_Arbeitskraft!I101/NR_Arbeitsprod_Arbeitskraft!$Q101)*100","v":88.633772873134333},{"$f":"(NR_Arbeitsprod_Arbeitskraft!J101/NR_Arbeitsprod_Arbeitskraft!$Q101)*100","v":92.098917295720256},{"$f":"(NR_Arbeitsprod_Arbeitskraft!K101/NR_Arbeitsprod_Arbeitskraft!$Q101)*100","v":100.86185638893764},{"$f":"(NR_Arbeitsprod_Arbeitskraft!L101/NR_Arbeitsprod_Arbeitskraft!$Q101)*100","v":103.57694112715721},{"$f":"(NR_Arbeitsprod_Arbeitskraft!M101/NR_Arbeitsprod_Arbeitskraft!$Q101)*100","v":103.19367475617243},{"$f":"(NR_Arbeitsprod_Arbeitskraft!N101/NR_Arbeitsprod_Arbeitskraft!$Q101)*100","v":103.95994761410323},{"$f":"(NR_Arbeitsprod_Arbeitskraft!O101/NR_Arbeitsprod_Arbeitskraft!$Q101)*100","v":105.30504128259584},{"$f":"(NR_Arbeitsprod_Arbeitskraft!P101/NR_Arbeitsprod_Arbeitskraft!$Q101)*100","v":101.96448837733061},{"$f":"(NR_Arbeitsprod_Arbeitskraft!Q101/NR_Arbeitsprod_Arbeitskraft!$Q101)*100","v":100},{"$f":"(NR_Arbeitsprod_Arbeitskraft!R101/NR_Arbeitsprod_Arbeitskraft!$Q101)*100","v":90.431137467333556},{"$f":"(NR_Arbeitsprod_Arbeitskraft!S101/NR_Arbeitsprod_Arbeitskraft!$Q101)*100","v":78.912399370995658},{"$f":"(NR_Arbeitsprod_Arbeitskraft!T101/NR_Arbeitsprod_Arbeitskraft!Q101)*100","v":74.123827443562163},{"$f":"(NR_Arbeitsprod_Arbeitskraft!U101/NR_Arbeitsprod_Arbeitskraft!$Q101)*100","v":72.29535247547031},{"$f":"(NR_Arbeitsprod_Arbeitskraft!V101/NR_Arbeitsprod_Arbeitskraft!$Q101)*100","v":65.299286387444468},{"$f":"(NR_Arbeitsprod_Arbeitskraft!W101/NR_Arbeitsprod_Arbeitskraft!$Q101)*100","v":62.646080185790055},{"$f":"(NR_Arbeitsprod_Arbeitskraft!X101/NR_Arbeitsprod_Arbeitskraft!$Q101)*100","v":61.852567417697536}]
["Portugal",{"$f":"(NR_Arbeitsprod_Arbeitskraft!B102/NR_Arbeitsprod_Arbeitskraft!$Q102)*100","v":{"$error":"#DIV/0!"}},{"$f":"(NR_Arbeitsprod_Arbeitskraft!C102/NR_Arbeitsprod_Arbeitskraft!$Q102)*100","v":{"$error":"#DIV/0!"}},{"$f":"(NR_Arbeitsprod_Arbeitskraft!D102/NR_Arbeitsprod_Arbeitskraft!$Q102)*100","v":{"$error":"#DIV/0!"}},{"$f":"(NR_Arbeitsprod_Arbeitskraft!E102/NR_Arbeitsprod_Arbeitskraft!$Q102)*100","v":{"$error":"#DIV/0!"}},{"$f":"(NR_Arbeitsprod_Arbeitskraft!F102/NR_Arbeitsprod_Arbeitskraft!$Q102)*100","v":{"$error":"#DIV/0!"}},{"$f":"(NR_Arbeitsprod_Arbeitskraft!G102/NR_Arbeitsprod_Arbeitskraft!$Q102)*100","v":{"$error":"#DIV/0!"}},{"$f":"(NR_Arbeitsprod_Arbeitskraft!H102/NR_Arbeitsprod_Arbeitskraft!$Q102)*100","v":{"$error":"#DIV/0!"}},{"$f":"(NR_Arbeitsprod_Arbeitskraft!I102/NR_Arbeitsprod_Arbeitskraft!$Q102)*100","v":{"$error":"#DIV/0!"}},{"$f":"(NR_Arbeitsprod_Arbeitskraft!J102/NR_Arbeitsprod_Arbeitskraft!$Q102)*100","v":{"$error":"#DIV/0!"}},{"$f":"(NR_Arbeitsprod_Arbeitskraft!K102/NR_Arbeitsprod_Arbeitskraft!$Q102)*100","v":{"$error":"#DIV/0!"}},{"$f":"(NR_Arbeitsprod_Arbeitskraft!L102/NR_Arbeitsprod_Arbeitskraft!$Q102)*100","v":{"$error":"#DIV/0!"}},{"$f":"(NR_Arbeitsprod_Arbeitskraft!M102/NR_Arbeitsprod_Arbeitskraft!$Q102)*100","v":{"$error":"#DIV/0!"}},{"$f":"(NR_Arbeitsprod_Arbeitskraft!N102/NR_Arbeitsprod_Arbeitskraft!$Q102)*100","v":{"$error":"#DIV/0!"}},{"$f":"(NR_Arbeitsprod_Arbeitskraft!O102/NR_Arbeitsprod_Arbeitskraft!$Q102)*100","v":{"$error":"#DIV/0!"}},{"$f":"(NR_Arbeitsprod_Arbeitskraft!P102/NR_Arbeitsprod_Arbeitskraft!$Q102)*100","v":{"$error":"#DIV/0!"}},{"$f":"(NR_Arbeitsprod_Arbeitskraft!Q102/NR_Arbeitsprod_Arbeitskraft!$Q102)*100","v":100},{"$f":"(NR_Arbeitsprod_Arbeitskraft!R102/NR_Arbeitsprod_Arbeitskraft!$Q102)*100","v":98.509696267611616},{"$f":"(NR_Arbeitsprod_Arbeitskraft!S102/NR_Arbeitsprod_Arbeitskraft!$Q102)*100","v":90.074060295659677},{"$f":"(NR_Arbeitsprod_Arbeitskraft!T102/NR_Arbeitsprod_Arbeitskraft!Q102)*100","v":89.926769302330342},{"$f":"(NR_Arbeitsprod_Arbeitskraft!U102/NR_Arbeitsprod_Arbeitskraft!$Q102)*100","v":91.944449233883503},{"$f":"(NR_Arbeitsprod_Arbeitskraft!V102/NR_Arbeitsprod_Arbeitskraft!$Q102)*100","v":89.046824510300084},{"$f":"(NR_Arbeitsprod_Arbeitskraft!W102/NR_Arbeitsprod_Arbeitskraft!$Q102)*100","v":86.293565261807004},{"$f":"(NR_Arbeitsprod_Arbeitskraft!X102/NR_Arbeitsprod_Arbeitskraft!$Q102)*100","v":85.992652394209387}]
["Rumänien",{"$f":"(NR_Arbeitsprod_Arbeitskraft!B103/NR_Arbeitsprod_Arbeitskraft!$Q103)*100","v":100.22640682562916},{"$f":"(NR_Arbeitsprod_Arbeitskraft!C103/NR_Arbeitsprod_Arbeitskraft!$Q103)*100","v":129.04694192406822},{"$f":"(NR_Arbeitsprod_Arbeitskraft!D103/NR_Arbeitsprod_Arbeitskraft!$Q103)*100","v":134.37170066738204},{"$f":"(NR_Arbeitsprod_Arbeitskraft!E103/NR_Arbeitsprod_Arbeitskraft!$Q103)*100","v":132.65177669552583},{"$f":"(NR_Arbeitsprod_Arbeitskraft!F103/NR_Arbeitsprod_Arbeitskraft!$Q103)*100","v":136.59714680716789},{"$f":"(NR_Arbeitsprod_Arbeitskraft!G103/NR_Arbeitsprod_Arbeitskraft!$Q103)*100","v":132.54751816183062},{"$f":"(NR_Arbeitsprod_Arbeitskraft!H103/NR_Arbeitsprod_Arbeitskraft!$Q103)*100","v":142.31977791086757},{"$f":"(NR_Arbeitsprod_Arbeitskraft!I103/NR_Arbeitsprod_Arbeitskraft!$Q103)*100","v":138.2308754191157},{"$f":"(NR_Arbeitsprod_Arbeitskraft!J103/NR_Arbeitsprod_Arbeitskraft!$Q103)*100","v":138.14929473685683},{"$f":"(NR_Arbeitsprod_Arbeitskraft!K103/NR_Arbeitsprod_Arbeitskraft!$Q103)*100","v":142.42867529671011},{"$f":"(NR_Arbeitsprod_Arbeitskraft!L103/NR_Arbeitsprod_Arbeitskraft!$Q103)*100","v":154.67750564271881},{"$f":"(NR_Arbeitsprod_Arbeitskraft!M103/NR_Arbeitsprod_Arbeitskraft!$Q103)*100","v":153.11638345657525},{"$f":"(NR_Arbeitsprod_Arbeitskraft!N103/NR_Arbeitsprod_Arbeitskraft!$Q103)*100","v":142.33819320440472},{"$f":"(NR_Arbeitsprod_Arbeitskraft!O103/NR_Arbeitsprod_Arbeitskraft!$Q103)*100","v":184.67114480128831},{"$f":"(NR_Arbeitsprod_Arbeitskraft!P103/NR_Arbeitsprod_Arbeitskraft!$Q103)*100","v":141.54954432658275},{"$f":"(NR_Arbeitsprod_Arbeitskraft!Q103/NR_Arbeitsprod_Arbeitskraft!$Q103)*100","v":100},{"$f":"(NR_Arbeitsprod_Arbeitskraft!R103/NR_Arbeitsprod_Arbeitskraft!$Q103)*100","v":99.073726208400373},{"$f":"(NR_Arbeitsprod_Arbeitskraft!S103/NR_Arbeitsprod_Arbeitskraft!$Q103)*100","v":103.03419048733342},{"$f":"(NR_Arbeitsprod_Arbeitskraft!T103/NR_Arbeitsprod_Arbeitskraft!Q103)*100","v":104.36378664585497},{"$f":"(NR_Arbeitsprod_Arbeitskraft!U103/NR_Arbeitsprod_Arbeitskraft!$Q103)*100","v":126.66504258344173},{"$f":"(NR_Arbeitsprod_Arbeitskraft!V103/NR_Arbeitsprod_Arbeitskraft!$Q103)*100","v":104.3888751903044},{"$f":"(NR_Arbeitsprod_Arbeitskraft!W103/NR_Arbeitsprod_Arbeitskraft!$Q103)*100","v":154.55766305181012},{"$f":"(NR_Arbeitsprod_Arbeitskraft!X103/NR_Arbeitsprod_Arbeitskraft!$Q103)*100","v":124.09802263955775}]
["Slowenien",{"$f":"(NR_Arbeitsprod_Arbeitskraft!B104/NR_Arbeitsprod_Arbeitskraft!$Q104)*100","v":108.82835422895025},{"$f":"(NR_Arbeitsprod_Arbeitskraft!C104/NR_Arbeitsprod_Arbeitskraft!$Q104)*100","v":110.23388720255059},{"$f":"(NR_Arbeitsprod_Arbeitskraft!D104/NR_Arbeitsprod_Arbeitskraft!$Q104)*100","v":113.26058584564377},{"$f":"(NR_Arbeitsprod_Arbeitskraft!E104/NR_Arbeitsprod_Arbeitskraft!$Q104)*100","v":107.09170377071069},{"$f":"(NR_Arbeitsprod_Arbeitskraft!F104/NR_Arbeitsprod_Arbeitskraft!$Q104)*100","v":108.7533427967353},{"$f":"(NR_Arbeitsprod_Arbeitskraft!G104/NR_Arbeitsprod_Arbeitskraft!$Q104)*100","v":112.69442737650841},{"$f":"(NR_Arbeitsprod_Arbeitskraft!H104/NR_Arbeitsprod_Arbeitskraft!$Q104)*100","v":98.77183598183106},{"$f":"(NR_Arbeitsprod_Arbeitskraft!I104/NR_Arbeitsprod_Arbeitskraft!$Q104)*100","v":100.01753827658587},{"$f":"(NR_Arbeitsprod_Arbeitskraft!J104/NR_Arbeitsprod_Arbeitskraft!$Q104)*100","v":100.26256662850163},{"$f":"(NR_Arbeitsprod_Arbeitskraft!K104/NR_Arbeitsprod_Arbeitskraft!$Q104)*100","v":93.228577701775478},{"$f":"(NR_Arbeitsprod_Arbeitskraft!L104/NR_Arbeitsprod_Arbeitskraft!$Q104)*100","v":92.730586079473284},{"$f":"(NR_Arbeitsprod_Arbeitskraft!M104/NR_Arbeitsprod_Arbeitskraft!$Q104)*100","v":100.07151428532104},{"$f":"(NR_Arbeitsprod_Arbeitskraft!N104/NR_Arbeitsprod_Arbeitskraft!$Q104)*100","v":99.838059829610813},{"$f":"(NR_Arbeitsprod_Arbeitskraft!O104/NR_Arbeitsprod_Arbeitskraft!$Q104)*100","v":106.31270245040506},{"$f":"(NR_Arbeitsprod_Arbeitskraft!P104/NR_Arbeitsprod_Arbeitskraft!$Q104)*100","v":101.37590958207225},{"$f":"(NR_Arbeitsprod_Arbeitskraft!Q104/NR_Arbeitsprod_Arbeitskraft!$Q104)*100","v":100},{"$f":"(NR_Arbeitsprod_Arbeitskraft!R104/NR_Arbeitsprod_Arbeitskraft!$Q104)*100","v":106.66222686383426},{"$f":"(NR_Arbeitsprod_Arbeitskraft!S104/NR_Arbeitsprod_Arbeitskraft!$Q104)*100","v":104.22120456503016},{"$f":"(NR_Arbeitsprod_Arbeitskraft!T104/NR_Arbeitsprod_Arbeitskraft!Q104)*100","v":97.862399110390569},{"$f":"(NR_Arbeitsprod_Arbeitskraft!U104/NR_Arbeitsprod_Arbeitskraft!$Q104)*100","v":99.976716487424795},{"$f":"(NR_Arbeitsprod_Arbeitskraft!V104/NR_Arbeitsprod_Arbeitskraft!$Q104)*100","v":96.245124323735354},{"$f":"(NR_Arbeitsprod_Arbeitskraft!W104/NR_Arbeitsprod_Arbeitskraft!$Q104)*100","v":96.885060913378354},{"$f":"(NR_Arbeitsprod_Arbeitskraft!X104/NR_Arbeitsprod_Arbeitskraft!$Q104)*100","v":91.589999285938077}]
["Slowakei",{"$f":"(NR_Arbeitsprod_Arbeitskraft!B105/NR_Arbeitsprod_Arbeitskraft!$Q105)*100","v":81.894158683024401},{"$f":"(NR_Arbeitsprod_Arbeitskraft!C105/NR_Arbeitsprod_Arbeitskraft!$Q105)*100","v":99.540356882706959},{"$f":"(NR_Arbeitsprod_Arbeitskraft!D105/NR_Arbeitsprod_Arbeitskraft!$Q105)*100","v":117.15529416455179},{"$f":"(NR_Arbeitsprod_Arbeitskraft!E105/NR_Arbeitsprod_Arbeitskraft!$Q105)*100","v":127.60061768716757},{"$f":"(NR_Arbeitsprod_Arbeitskraft!F105/NR_Arbeitsprod_Arbeitskraft!$Q105)*100","v":138.69712988724712},{"$f":"(NR_Arbeitsprod_Arbeitskraft!G105/NR_Arbeitsprod_Arbeitskraft!$Q105)*100","v":107.61527459097245},{"$f":"(NR_Arbeitsprod_Arbeitskraft!H105/NR_Arbeitsprod_Arbeitskraft!$Q105)*100","v":107.9937341665876},{"$f":"(NR_Arbeitsprod_Arbeitskraft!I105/NR_Arbeitsprod_Arbeitskraft!$Q105)*100","v":97.761135033194805},{"$f":"(NR_Arbeitsprod_Arbeitskraft!J105/NR_Arbeitsprod_Arbeitskraft!$Q105)*100","v":109.1827666293123},{"$f":"(NR_Arbeitsprod_Arbeitskraft!K105/NR_Arbeitsprod_Arbeitskraft!$Q105)*100","v":92.791639821413085},{"$f":"(NR_Arbeitsprod_Arbeitskraft!L105/NR_Arbeitsprod_Arbeitskraft!$Q105)*100","v":136.31691797771012},{"$f":"(NR_Arbeitsprod_Arbeitskraft!M105/NR_Arbeitsprod_Arbeitskraft!$Q105)*100","v":136.22746040537507},{"$f":"(NR_Arbeitsprod_Arbeitskraft!N105/NR_Arbeitsprod_Arbeitskraft!$Q105)*100","v":139.30282673102866},{"$f":"(NR_Arbeitsprod_Arbeitskraft!O105/NR_Arbeitsprod_Arbeitskraft!$Q105)*100","v":119.37581985002626},{"$f":"(NR_Arbeitsprod_Arbeitskraft!P105/NR_Arbeitsprod_Arbeitskraft!$Q105)*100","v":105.97253340517511},{"$f":"(NR_Arbeitsprod_Arbeitskraft!Q105/NR_Arbeitsprod_Arbeitskraft!$Q105)*100","v":100},{"$f":"(NR_Arbeitsprod_Arbeitskraft!R105/NR_Arbeitsprod_Arbeitskraft!$Q105)*100","v":99.939186729951857},{"$f":"(NR_Arbeitsprod_Arbeitskraft!S105/NR_Arbeitsprod_Arbeitskraft!$Q105)*100","v":105.3547185747021},{"$f":"(NR_Arbeitsprod_Arbeitskraft!T105/NR_Arbeitsprod_Arbeitskraft!Q105)*100","v":101.7281955488972},{"$f":"(NR_Arbeitsprod_Arbeitskraft!U105/NR_Arbeitsprod_Arbeitskraft!$Q105)*100","v":106.4127515547723},{"$f":"(NR_Arbeitsprod_Arbeitskraft!V105/NR_Arbeitsprod_Arbeitskraft!$Q105)*100","v":109.58482270445545},{"$f":"(NR_Arbeitsprod_Arbeitskraft!W105/NR_Arbeitsprod_Arbeitskraft!$Q105)*100","v":115.69499461793897},{"$f":"(NR_Arbeitsprod_Arbeitskraft!X105/NR_Arbeitsprod_Arbeitskraft!$Q105)*100","v":122.88186022176102}]
["Großbritannien",{"$f":"(NR_Arbeitsprod_Arbeitskraft!B106/NR_Arbeitsprod_Arbeitskraft!$Q106)*100","v":{"$error":"#DIV/0!"}},{"$f":"(NR_Arbeitsprod_Arbeitskraft!C106/NR_Arbeitsprod_Arbeitskraft!$Q106)*100","v":{"$error":"#DIV/0!"}},{"$f":"(NR_Arbeitsprod_Arbeitskraft!D106/NR_Arbeitsprod_Arbeitskraft!$Q106)*100","v":{"$error":"#DIV/0!"}},{"$f":"(NR_Arbeitsprod_Arbeitskraft!E106/NR_Arbeitsprod_Arbeitskraft!$Q106)*100","v":{"$error":"#DIV/0!"}},{"$f":"(NR_Arbeitsprod_Arbeitskraft!F106/NR_Arbeitsprod_Arbeitskraft!$Q106)*100","v":{"$error":"#DIV/0!"}},{"$f":"(NR_Arbeitsprod_Arbeitskraft!G106/NR_Arbeitsprod_Arbeitskraft!Q106)*100","v":{"$error":"#DIV/0!"}},{"$f":"(NR_Arbeitsprod_Arbeitskraft!H106/NR_Arbeitsprod_Arbeitskraft!$Q106)*100","v":{"$error":"#DIV/0!"}},{"$f":"(NR_Arbeitsprod_Arbeitskraft!I106/NR_Arbeitsprod_Arbeitskraft!$Q106)*100","v":{"$error":"#DIV/0!"}},{"$f":"(NR_Arbeitsprod_Arbeitskraft!J106/NR_Arbeitsprod_Arbeitskraft!$Q106)*100","v":{"$error":"#DIV/0!"}},{"$f":"(NR_Arbeitsprod_Arbeitskraft!K106/NR_Arbeitsprod_Arbeitskraft!$Q106)*100","v":{"$error":"#DIV/0!"}},{"$f":"(NR_Arbeitsprod_Arbeitskraft!L106/NR_Arbeitsprod_Arbeitskraft!$Q106)*100","v":{"$error":"#DIV/0!"}},{"$f":"(NR_Arbeitsprod_Arbeitskraft!M106/NR_Arbeitsprod_Arbeitskraft!$Q106)*100","v":{"$error":"#DIV/0!"}},{"$f":"(NR_Arbeitsprod_Arbeitskraft!N106/NR_Arbeitsprod_Arbeitskraft!$Q106)*100","v":{"$error":"#DIV/0!"}},{"$f":"(NR_Arbeitsprod_Arbeitskraft!O106/NR_Arbeitsprod_Arbeitskraft!$Q106)*100","v":{"$error":"#DIV/0!"}},{"$f":"(NR_Arbeitsprod_Arbeitskraft!P106/NR_Arbeitsprod_Arbeitskraft!$Q106)*100","v":{"$error":"#DIV/0!"}},{"$f":"(NR_Arbeitsprod_Arbeitskraft!Q106/NR_Arbeitsprod_Arbeitskraft!$Q106)*100","v":{"$error":"#DIV/0!"}},{"$f":"(NR_Arbeitsprod_Arbeitskraft!R106/NR_Arbeitsprod_Arbeitskraft!$Q106)*100","v":{"$error":"#DIV/0!"}},{"$f":"(NR_Arbeitsprod_Arbeitskraft!S106/NR_Arbeitsprod_Arbeitskraft!$Q106)*100","v":{"$error":"#DIV/0!"}},{"$f":"(NR_Arbeitsprod_Arbeitskraft!T106/NR_Arbeitsprod_Arbeitskraft!Q106)*100","v":{"$error":"#DIV/0!"}},{"$f":"(NR_Arbeitsprod_Arbeitskraft!U106/NR_Arbeitsprod_Arbeitskraft!$Q106)*100","v":{"$error":"#DIV/0!"}},{"$f":"(NR_Arbeitsprod_Arbeitskraft!V106/NR_Arbeitsprod_Arbeitskraft!$Q106)*100","v":{"$error":"#DIV/0!"}},{"$f":"(NR_Arbeitsprod_Arbeitskraft!W106/NR_Arbeitsprod_Arbeitskraft!$Q106)*100","v":{"$error":"#DIV/0!"}},{"$f":"(NR_Arbeitsprod_Arbeitskraft!X106/NR_Arbeitsprod_Arbeitskraft!$Q106)*100","v":{"$error":"#DIV/0!"}}]

{"sheet":"NR_Arbeitsprod_Arbeitskraft","index":6,"n_rows":106,"n_cols":24,"rows_kept":106,"cut":false,"hidden":false,"merged":[]}
[]
["BWS (preisbereinigt)/Erwerbstätige"]
[null,1995,{"$f":"B3+1","v":1996},{"$f":"C3+1","v":1997},1998,1999,2000,2001,2002,2003,2004,2005,2006,2007,2008,2009,2010,2011,2012,2013,2014,2015,2016,2017]
["Österreich",{"$f":"RD_Daten_Produktivität!B4/RD_Daten_Produktivität!B46","v":17.843598574542135},{"$f":"RD_Daten_Produktivität!C4/RD_Daten_Produktivität!C46","v":21.433358524675953},{"$f":"RD_Daten_Produktivität!D4/RD_Daten_Produktivität!D46","v":20.64693714415364},{"$f":"RD_Daten_Produktivität!E4/RD_Daten_Produktivität!E46","v":23.327532325654172},{"$f":"RD_Daten_Produktivität!F4/RD_Daten_Produktivität!F46","v":25.935445416835123},{"$f":"RD_Daten_Produktivität!G4/RD_Daten_Produktivität!G46","v":26.035327636972987},{"$f":"RD_Daten_Produktivität!H4/RD_Daten_Produktivität!H46","v":26.282922994463487},{"$f":"RD_Daten_Produktivität!I4/RD_Daten_Produktivität!I46","v":26.705550852837909},{"$f":"RD_Daten_Produktivität!J4/RD_Daten_Produktivität!J46","v":29.0259544316831},{"$f":"RD_Daten_Produktivität!K4/RD_Daten_Produktivität!K46","v":30.75851208672659},{"$f":"RD_Daten_Produktivität!L4/RD_Daten_Produktivität!L46","v":38.249473062511484},{"$f":"RD_Daten_Produktivität!M4/RD_Daten_Produktivität!M46","v":42.380968597746893},{"$f":"RD_Daten_Produktivität!N4/RD_Daten_Produktivität!N46","v":45.18770722952781},{"$f":"RD_Daten_Produktivität!O4/RD_Daten_Produktivität!O46","v":46.820119854707855},{"$f":"RD_Daten_Produktivität!P4/RD_Daten_Produktivität!P46","v":47.93363725192129},{"$f":"RD_Daten_Produktivität!Q4/RD_Daten_Produktivität!Q46","v":49.245003700962251},{"$f":"RD_Daten_Produktivität!R4/RD_Daten_Produktivität!R46","v":48.342267349472536},{"$f":"RD_Daten_Produktivität!S4/RD_Daten_Produktivität!S46","v":48.296336222467211},{"$f":"RD_Daten_Produktivität!T4/RD_Daten_Produktivität!T46","v":49.760269880911238},{"$f":"RD_Daten_Produktivität!U4/RD_Daten_Produktivität!U46","v":50.888377709308593},{"$f":"RD_Daten_Produktivität!V4/RD_Daten_Produktivität!V46","v":47.63630264246131},{"$f":"RD_Daten_Produktivität!W4/RD_Daten_Produktivität!W46","v":47.757388198723426},{"$f":"RD_Daten_Produktivität!X4/RD_Daten_Produktivität!X46","v":49.089805937279472}]
["Belgien",{"$f":"RD_Daten_Produktivität!B5/RD_Daten_Produktivität!B47","v":48.235794246847107},{"$f":"RD_Daten_Produktivität!C5/RD_Daten_Produktivität!C47","v":49.231718259309105},{"$f":"RD_Daten_Produktivität!D5/RD_Daten_Produktivität!D47","v":48.853588534494349},{"$f":"RD_Daten_Produktivität!E5/RD_Daten_Produktivität!E47","v":50.294781141589731},{"$f":"RD_Daten_Produktivität!F5/RD_Daten_Produktivität!F47","v":50.336486694354711},{"$f":"RD_Daten_Produktivität!G5/RD_Daten_Produktivität!G47","v":51.868848728500183},{"$f":"RD_Daten_Produktivität!H5/RD_Daten_Produktivität!H47","v":46.204701043319844},{"$f":"RD_Daten_Produktivität!I5/RD_Daten_Produktivität!I47","v":44.050254462011601},{"$f":"RD_Daten_Produktivität!J5/RD_Daten_Produktivität!J47","v":45.079193177203194},{"$f":"RD_Daten_Produktivität!K5/RD_Daten_Produktivität!K47","v":45.64117452920317},{"$f":"RD_Daten_Produktivität!L5/RD_Daten_Produktivität!L47","v":45.938448681222972},{"$f":"RD_Daten_Produktivität!M5/RD_Daten_Produktivität!M47","v":47.212985285559895},{"$f":"RD_Daten_Produktivität!N5/RD_Daten_Produktivität!N47","v":49.80203949454355},{"$f":"RD_Daten_Produktivität!O5/RD_Daten_Produktivität!O47","v":52.713257411455182},{"$f":"RD_Daten_Produktivität!P5/RD_Daten_Produktivität!P47","v":50.814336163498389},{"$f":"RD_Daten_Produktivität!Q5/RD_Daten_Produktivität!Q47","v":51.496893828239628},{"$f":"RD_Daten_Produktivität!R5/RD_Daten_Produktivität!R47","v":53.713565158349091},{"$f":"RD_Daten_Produktivität!S5/RD_Daten_Produktivität!S47","v":52.436141460804294},{"$f":"RD_Daten_Produktivität!T5/RD_Daten_Produktivität!T47","v":53.187272733672913},{"$f":"RD_Daten_Produktivität!U5/RD_Daten_Produktivität!U47","v":51.831983694558382},{"$f":"RD_Daten_Produktivität!V5/RD_Daten_Produktivität!V47","v":51.133581532762697},{"$f":"RD_Daten_Produktivität!W5/RD_Daten_Produktivität!W47","v":49.096441049595143}]
["Tschechien",{"$f":"RD_Daten_Produktivität!B6/RD_Daten_Produktivität!B48","v":235.2054301995264},{"$f":"RD_Daten_Produktivität!C6/RD_Daten_Produktivität!C48","v":248.04464901204329},{"$f":"RD_Daten_Produktivität!D6/RD_Daten_Produktivität!D48","v":217.19315774479421},{"$f":"RD_Daten_Produktivität!E6/RD_Daten_Produktivität!E48","v":241.65829265843115},{"$f":"RD_Daten_Produktivität!F6/RD_Daten_Produktivität!F48","v":229.38525243210483},{"$f":"RD_Daten_Produktivität!G6/RD_Daten_Produktivität!G48","v":252.78235835994326},{"$f":"RD_Daten_Produktivität!H6/RD_Daten_Produktivität!H48","v":278.6352402298549},{"$f":"RD_Daten_Produktivität!I6/RD_Daten_Produktivität!I48","v":285.63731518075042},{"$f":"RD_Daten_Produktivität!J6/RD_Daten_Produktivität!J48","v":347.81277749633534},{"$f":"RD_Daten_Produktivität!K6/RD_Daten_Produktivität!K48","v":345.68851415120258},{"$f":"RD_Daten_Produktivität!L6/RD_Daten_Produktivität!L48","v":346.83380526560745},{"$f":"RD_Daten_Produktivität!M6/RD_Daten_Produktivität!M48","v":385.9252370387257},{"$f":"RD_Daten_Produktivität!N6/RD_Daten_Produktivität!N48","v":414.73110494286379},{"$f":"RD_Daten_Produktivität!O6/RD_Daten_Produktivität!O48","v":378.26544330326374},{"$f":"RD_Daten_Produktivität!P6/RD_Daten_Produktivität!P48","v":388.6647768712009},{"$f":"RD_Daten_Produktivität!Q6/RD_Daten_Produktivität!Q48","v":371.02782764811491},{"$f":"RD_Daten_Produktivität!R6/RD_Daten_Produktivität!R48","v":382.16367451620425},{"$f":"RD_Daten_Produktivität!S6/RD_Daten_Produktivität!S48","v":387.59023235750345},{"$f":"RD_Daten_Produktivität!T6/RD_Daten_Produktivität!T48","v":365.25984264230215},{"$f":"RD_Daten_Produktivität!U6/RD_Daten_Produktivität!U48","v":347.99597819914726},{"$f":"RD_Daten_Produktivität!V6/RD_Daten_Produktivität!V48","v":340.21259459775894},{"$f":"RD_Daten_Produktivität!W6/RD_Daten_Produktivität!W48","v":323.68427566206032},{"$f":"RD_Daten_Produktivität!X6/RD_Daten_Produktivität!X48","v":307.35938420330586}]
["Dänemark",{"$f":"RD_Daten_Produktivität!B7/RD_Daten_Produktivität!B49","v":539.72320139377757},{"$f":"RD_Daten_Produktivität!C7/RD_Daten_Produktivität!C49","v":553.91405441484767},{"$f":"RD_Daten_Produktivität!D7/RD_Daten_Produktivität!D49","v":545.46198232002712},{"$f":"RD_Daten_Produktivität!E7/RD_Daten_Produktivität!E49","v":518.98291784910077},{"$f":"RD_Daten_Produktivität!F7/RD_Daten_Produktivität!F49","v":481.69597727477606},{"$f":"RD_Daten_Produktivität!G7/RD_Daten_Produktivität!G49","v":420.72995753702014},{"$f":"RD_Daten_Produktivität!H7/RD_Daten_Produktivität!H49","v":536.72837814424327},{"$f":"RD_Daten_Produktivität!I7/RD_Daten_Produktivität!I49","v":519.73110335482397},{"$f":"RD_Daten_Produktivität!J7/RD_Daten_Produktivität!J49","v":501.38357994598357},{"$f":"RD_Daten_Produktivität!K7/RD_Daten_Produktivität!K49","v":483.78616535547701},{"$f":"RD_Daten_Produktivität!L7/RD_Daten_Produktivität!L49","v":467.56359690295614},{"$f":"RD_Daten_Produktivität!M7/RD_Daten_Produktivität!M49","v":401.39634684211501},{"$f":"RD_Daten_Produktivität!N7/RD_Daten_Produktivität!N49","v":384.33548242812913},{"$f":"RD_Daten_Produktivität!O7/RD_Daten_Produktivität!O49","v":343.46625155976051},{"$f":"RD_Daten_Produktivität!P7/RD_Daten_Produktivität!P49","v":335.82522421941866},{"$f":"RD_Daten_Produktivität!Q7/RD_Daten_Produktivität!Q49","v":309.74193548387098},{"$f":"RD_Daten_Produktivität!R7/RD_Daten_Produktivität!R49","v":244.55882352941177},{"$f":"RD_Daten_Produktivität!S7/RD_Daten_Produktivität!S49","v":232.62555987579688},{"$f":"RD_Daten_Produktivität!T7/RD_Daten_Produktivität!T49","v":233.92533329733843},{"$f":"RD_Daten_Produktivität!U7/RD_Daten_Produktivität!U49","v":228.05285809879703},{"$f":"RD_Daten_Produktivität!V7/RD_Daten_Produktivität!V49","v":214.53481567442782},{"$f":"RD_Daten_Produktivität!W7/RD_Daten_Produktivität!W49","v":189.17830095134528},{"$f":"RD_Daten_Produktivität!X7/RD_Daten_Produktivität!X49","v":220.28306580927145}]
["Estland",{"$f":"RD_Daten_Produktivität!B8/RD_Daten_Produktivität!B50","v":2.9536215018528202},{"$f":"RD_Daten_Produktivität!C8/RD_Daten_Produktivität!C50","v":3.3902718513330243},{"$f":"RD_Daten_Produktivität!D8/RD_Daten_Produktivität!D50","v":3.7726735443880801},{"$f":"RD_Daten_Produktivität!E8/RD_Daten_Produktivität!E50","v":4.5992338687281675},{"$f":"RD_Daten_Produktivität!F8/RD_Daten_Produktivität!F50","v":4.4741008353466736},{"$f":"RD_Daten_Produktivität!G8/RD_Daten_Produktivität!G50","v":4.9483189855706948},{"$f":"RD_Daten_Produktivität!H8/RD_Daten_Produktivität!H50","v":6.0257075109238878},{"$f":"RD_Daten_Produktivität!I8/RD_Daten_Produktivität!I50","v":6.9840787607134889},{"$f":"RD_Daten_Produktivität!J8/RD_Daten_Produktivität!J50","v":7.2212942513292537},{"$f":"RD_Daten_Produktivität!K8/RD_Daten_Produktivität!K50","v":9.2056165234477056},{"$f":"RD_Daten_Produktivität!L8/RD_Daten_Produktivität!L50","v":11.796961804673737},{"$f":"RD_Daten_Produktivität!M8/RD_Daten_Produktivität!M50","v":10.965070733438964},{"$f":"RD_Daten_Produktivität!N8/RD_Daten_Produktivität!N50","v":12.664587813807383},{"$f":"RD_Daten_Produktivität!O8/RD_Daten_Produktivität!O50","v":12.061372977334759},{"$f":"RD_Daten_Produktivität!P8/RD_Daten_Produktivität!P50","v":10.397831614424543},{"$f":"RD_Daten_Produktivität!Q8/RD_Daten_Produktivität!Q50","v":9.5421686746987948},{"$f":"RD_Daten_Produktivität!R8/RD_Daten_Produktivität!R50","v":8.8491052003113744},{"$f":"RD_Daten_Produktivität!S8/RD_Daten_Produktivität!S50","v":8.2398503784906261},{"$f":"RD_Daten_Produktivität!T8/RD_Daten_Produktivität!T50","v":9.1845131428788331},{"$f":"RD_Daten_Produktivität!U8/RD_Daten_Produktivität!U50","v":8.2700725018373671},{"$f":"RD_Daten_Produktivität!V8/RD_Daten_Produktivität!V50","v":7.8261782545431178},{"$f":"RD_Daten_Produktivität!W8/RD_Daten_Produktivität!W50","v":7.797667370222447},{"$f":"RD_Daten_Produktivität!X8/RD_Daten_Produktivität!X50","v":8.1443822975807745}]
["Frankreich",{"$f":"RD_Daten_Produktivität!B9/RD_Daten_Produktivität!B51","v":34.898020244750207},{"$f":"RD_Daten_Produktivität!C9/RD_Daten_Produktivität!C51","v":36.070190202503596},{"$f":"RD_Daten_Produktivität!D9/RD_Daten_Produktivität!D51","v":35.949582438702677},{"$f":"RD_Daten_Produktivität!E9/RD_Daten_Produktivität!E51","v":37.353713747756998},{"$f":"RD_Daten_Produktivität!F9/RD_Daten_Produktivität!F51","v":39.667149824699436},{"$f":"RD_Daten_Produktivität!G9/RD_Daten_Produktivität!G51","v":36.496670389348751},{"$f":"RD_Daten_Produktivität!H9/RD_Daten_Produktivität!H51","v":35.130835879611084},{"$f":"RD_Daten_Produktivität!I9/RD_Daten_Produktivität!I51","v":34.345428471284372},{"$f":"RD_Daten_Produktivität!J9/RD_Daten_Produktivität!J51","v":33.429799452101506},{"$f":"RD_Daten_Produktivität!K9/RD_Daten_Produktivität!K51","v":34.357857934207928},{"$f":"RD_Daten_Produktivität!L9/RD_Daten_Produktivität!L51","v":34.82093099385235},{"$f":"RD_Daten_Produktivität!M9/RD_Daten_Produktivität!M51","v":33.785532551432183},{"$f":"RD_Daten_Produktivität!N9/RD_Daten_Produktivität!N51","v":35.254332947956193},{"$f":"RD_Daten_Produktivität!O9/RD_Daten_Produktivität!O51","v":35.484438150007627},{"$f":"RD_Daten_Produktivität!P9/RD_Daten_Produktivität!P51","v":36.019338928787747},{"$f":"RD_Daten_Produktivität!Q9/RD_Daten_Produktivität!Q51","v":34.46987951807229},{"$f":"RD_Daten_Produktivität!R9/RD_Daten_Produktivität!R51","v":32.875999999999998},{"$f":"RD_Daten_Produktivität!S9/RD_Daten_Produktivität!S51","v":32.390011159772754},{"$f":"RD_Daten_Produktivität!T9/RD_Daten_Produktivität!T51","v":30.750093232714537},{"$f":"RD_Daten_Produktivität!U9/RD_Daten_Produktivität!U51","v":29.848057273001164},{"$f":"RD_Daten_Produktivität!V9/RD_Daten_Produktivität!V51","v":27.559096516539658},{"$f":"RD_Daten_Produktivität!W9/RD_Daten_Produktivität!W51","v":27.164238076477048},{"$f":"RD_Daten_Produktivität!X9/RD_Daten_Produktivität!X51","v":27.334656335144583}]
["Griechenland",{"$f":"RD_Daten_Produktivität!B10/RD_Daten_Produktivität!B52","v":17.046733102450361},{"$f":"RD_Daten_Produktivität!C10/RD_Daten_Produktivität!C52","v":16.9982792237337},{"$f":"RD_Daten_Produktivität!D10/RD_Daten_Produktivität!D52","v":20.429627039299309},{"$f":"RD_Daten_Produktivität!E10/RD_Daten_Produktivität!E52","v":21.165939379453338},{"$f":"RD_Daten_Produktivität!F10/RD_Daten_Produktivität!F52","v":27.155132482694626},{"$f":"RD_Daten_Produktivität!G10/RD_Daten_Produktivität!G52","v":27.624479132608542},{"$f":"RD_Daten_Produktivität!H10/RD_Daten_Produktivität!H52","v":30.670674953607811},{"$f":"RD_Daten_Produktivität!I10/RD_Daten_Produktivität!I52","v":32.414000069604029},{"$f":"RD_Daten_Produktivität!J10/RD_Daten_Produktivität!J52","v":31.73226140278404},{"$f":"RD_Daten_Produktivität!K10/RD_Daten_Produktivität!K52","v":32.751503772249777},{"$f":"RD_Daten_Produktivität!L10/RD_Daten_Produktivität!L52","v":33.444372401659315},{"$f":"RD_Daten_Produktivität!M10/RD_Daten_Produktivität!M52","v":36.341979740341692},{"$f":"RD_Daten_Produktivität!N10/RD_Daten_Produktivität!N52","v":37.219526759999766},{"$f":"RD_Daten_Produktivität!O10/RD_Daten_Produktivität!O52","v":40.159521443613805},{"$f":"RD_Daten_Produktivität!P10/RD_Daten_Produktivität!P52","v":35.742485789490942},{"$f":"RD_Daten_Produktivität!Q10/RD_Daten_Produktivität!Q52","v":33.087487283825027},{"$f":"RD_Daten_Produktivität!R10/RD_Daten_Produktivität!R52","v":31.981776765375859},{"$f":"RD_Daten_Produktivität!S10/RD_Daten_Produktivität!S52","v":28.954442640855092},{"$f":"RD_Daten_Produktivität!T10/RD_Daten_Produktivität!T52","v":25.718999173764796},{"$f":"RD_Daten_Produktivität!U10/RD_Daten_Produktivität!U52","v":23.354085447932636},{"$f":"RD_Daten_Produktivität!V10/RD_Daten_Produktivität!V52","v":20.903666935010271},{"$f":"RD_Daten_Produktivität!W10/RD_Daten_Produktivität!W52","v":20.625944138305815},{"$f":"RD_Daten_Produktivität!X10/RD_Daten_Produktivität!X52","v":20.318504240170572}]
["Italien",{"$f":"RD_Daten_Produktivität!B11/RD_Daten_Produktivität!B53","v":24.399378302446426},{"$f":"RD_Daten_Produktivität!C11/RD_Daten_Produktivität!C53","v":24.453702886560073},{"$f":"RD_Daten_Produktivität!D11/RD_Daten_Produktivität!D53","v":26.484371632539492},{"$f":"RD_Daten_Produktivität!E11/RD_Daten_Produktivität!E53","v":27.136492380279925},{"$f":"RD_Daten_Produktivität!F11/RD_Daten_Produktivität!F53","v":30.503545557728472},{"$f":"RD_Daten_Produktivität!G11/RD_Daten_Produktivität!G53","v":31.907999817165464},{"$f":"RD_Daten_Produktivität!H11/RD_Daten_Produktivität!H53","v":36.795594451844202},{"$f":"RD_Daten_Produktivität!I11/RD_Daten_Produktivität!I53","v":36.011527796974839},{"$f":"RD_Daten_Produktivität!J11/RD_Daten_Produktivität!J53","v":36.839611950203867},{"$f":"RD_Daten_Produktivität!K11/RD_Daten_Produktivität!K53","v":36.235420606537701},{"$f":"RD_Daten_Produktivität!L11/RD_Daten_Produktivität!L53","v":37.747492552804573},{"$f":"RD_Daten_Produktivität!M11/RD_Daten_Produktivität!M53","v":38.377616717764489},{"$f":"RD_Daten_Produktivität!N11/RD_Daten_Produktivität!N53","v":40.091982001162265},{"$f":"RD_Daten_Produktivität!O11/RD_Daten_Produktivität!O53","v":39.197874869594706},{"$f":"RD_Daten_Produktivität!P11/RD_Daten_Produktivität!P53","v":39.141733219331499},{"$f":"RD_Daten_Produktivität!Q11/RD_Daten_Produktivität!Q53","v":40.474931631722882},{"$f":"RD_Daten_Produktivität!R11/RD_Daten_Produktivität!R53","v":38.682463604188186},{"$f":"RD_Daten_Produktivität!S11/RD_Daten_Produktivität!S53","v":36.959209949449004},{"$f":"RD_Daten_Produktivität!T11/RD_Daten_Produktivität!T53","v":40.445741579464226},{"$f":"RD_Daten_Produktivität!U11/RD_Daten_Produktivität!U53","v":36.10416465055301},{"$f":"RD_Daten_Produktivität!V11/RD_Daten_Produktivität!V53","v":37.104761973285534},{"$f":"RD_Daten_Produktivität!W11/RD_Daten_Produktivität!W53","v":36.882699992241683},{"$f":"RD_Daten_Produktivität!X11/RD_Daten_Produktivität!X53","v":37.441935214848947}]
["Spanien",{"$f":"RD_Daten_Produktivität!B12/RD_Daten_Produktivität!B54","v":10.990261575227962},{"$f":"RD_Daten_Produktivität!C12/RD_Daten_Produktivität!C54","v":12.724237362984057},{"$f":"RD_Daten_Produktivität!D12/RD_Daten_Produktivität!D54","v":14.178542640549912},{"$f":"RD_Daten_Produktivität!E12/RD_Daten_Produktivität!E54","v":15.292821464675441},{"$f":"RD_Daten_Produktivität!F12/RD_Daten_Produktivität!F54","v":15.571600267179191},{"$f":"RD_Daten_Produktivität!G12/RD_Daten_Produktivität!G54","v":16.967043857423324},{"$f":"RD_Daten_Produktivität!H12/RD_Daten_Produktivität!H54","v":18.014450129677694},{"$f":"RD_Daten_Produktivität!I12/RD_Daten_Produktivität!I54","v":19.502535565615627},{"$f":"RD_Daten_Produktivität!J12/RD_Daten_Produktivität!J54","v":20.622715079932632},{"$f":"RD_Daten_Produktivität!K12/RD_Daten_Produktivität!K54","v":21.870028747394784},{"$f":"RD_Daten_Produktivität!L12/RD_Daten_Produktivität!L54","v":22.983513098259852},{"$f":"RD_Daten_Produktivität!M12/RD_Daten_Produktivität!M54","v":23.092713864434149},{"$f":"RD_Daten_Produktivität!N12/RD_Daten_Produktivität!N54","v":25.011605482177437},{"$f":"RD_Daten_Produktivität!O12/RD_Daten_Produktivität!O54","v":25.338085668471781},{"$f":"RD_Daten_Produktivität!P12/RD_Daten_Produktivität!P54","v":24.824540040294906},{"$f":"RD_Daten_Produktivität!Q12/RD_Daten_Produktivität!Q54","v":27.315296566077006},{"$f":"RD_Daten_Produktivität!R12/RD_Daten_Produktivität!R54","v":28.469162995594715},{"$f":"RD_Daten_Produktivität!S12/RD_Daten_Produktivität!S54","v":27.24083621672856},{"$f":"RD_Daten_Produktivität!T12/RD_Daten_Produktivität!T54","v":29.291821205235298},{"$f":"RD_Daten_Produktivität!U12/RD_Daten_Produktivität!U54","v":32.842063076644116},{"$f":"RD_Daten_Produktivität!V12/RD_Daten_Produktivität!V54","v":31.921800499717595},{"$f":"RD_Daten_Produktivität!W12/RD_Daten_Produktivität!W54","v":29.936371444771758},{"$f":"RD_Daten_Produktivität!X12/RD_Daten_Produktivität!X54","v":28.756673385107401}]
["Finnland",{"$f":"RD_Daten_Produktivität!B13/RD_Daten_Produktivität!B55","v":32.145218202468726},{"$f":"RD_Daten_Produktivität!C13/RD_Daten_Produktivität!C55","v":33.215174814128318},{"$f":"RD_Daten_Produktivität!D13/RD_Daten_Produktivität!D55","v":35.171889167754415},{"$f":"RD_Daten_Produktivität!E13/RD_Daten_Produktivität!E55","v":35.62388197381464},{"$f":"RD_Daten_Produktivität!F13/RD_Daten_Produktivität!F55","v":39.011611452674003},{"$f":"RD_Daten_Produktivität!G13/RD_Daten_Produktivität!G55","v":40.271389606454541},{"$f":"RD_Daten_Produktivität!H13/RD_Daten_Produktivität!H55","v":40.803055417011109},{"$f":"RD_Daten_Produktivität!I13/RD_Daten_Produktivität!I55","v":39.968447465299519},{"$f":"RD_Daten_Produktivität!J13/RD_Daten_Produktivität!J55","v":40.410070626579959},{"$f":"RD_Daten_Produktivität!K13/RD_Daten_Produktivität!K55","v":41.302352901961733},{"$f":"RD_Daten_Produktivität!L13/RD_Daten_Produktivität!L55","v":41.226886953728929},{"$f":"RD_Daten_Produktivität!M13/RD_Daten_Produktivität!M55","v":41.00617822033783},{"$f":"RD_Daten_Produktivität!N13/RD_Daten_Produktivität!N55","v":40.761385835214902},{"$f":"RD_Daten_Produktivität!O13/RD_Daten_Produktivität!O55","v":40.025066832639389},{"$f":"RD_Daten_Produktivität!P13/RD_Daten_Produktivität!P55","v":38.886047645666579},{"$f":"RD_Daten_Produktivität!Q13/RD_Daten_Produktivität!Q55","v":41.139240506329116},{"$f":"RD_Daten_Produktivität!R13/RD_Daten_Produktivität!R55","v":40.538116591928251},{"$f":"RD_Daten_Produktivität!S13/RD_Daten_Produktivität!S55","v":41.711556956466147},{"$f":"RD_Daten_Produktivität!T13/RD_Daten_Produktivität!T55","v":36.961199714304222},{"$f":"RD_Daten_Produktivität!U13/RD_Daten_Produktivität!U55","v":31.083013689009146},{"$f":"RD_Daten_Produktivität!V13/RD_Daten_Produktivität!V55","v":29.077095189597543},{"$f":"RD_Daten_Produktivität!W13/RD_Daten_Produktivität!W55","v":27.801423340411237},{"$f":"RD_Daten_Produktivität!X13/RD_Daten_Produktivität!X55","v":24.60357181178184}]
["Ungarn",{"$f":"RD_Daten_Produktivität!B14/RD_Daten_Produktivität!B56","v":1499.0846106725007},{"$f":"RD_Daten_Produktivität!C14/RD_Daten_Produktivität!C56","v":1341.5653672763874},{"$f":"RD_Daten_Produktivität!D14/RD_Daten_Produktivität!D56","v":1306.2159100244965},{"$f":"RD_Daten_Produktivität!E14/RD_Daten_Produktivität!E56","v":1382.6537647611706},{"$f":"RD_Daten_Produktivität!F14/RD_Daten_Produktivität!F56","v":1411.778261686306},{"$f":"RD_Daten_Produktivität!G14/RD_Daten_Produktivität!G56","v":1362.3780201268257},{"$f":"RD_Daten_Produktivität!H14/RD_Daten_Produktivität!H56","v":2011.3821860678424},{"$f":"RD_Daten_Produktivität!I14/RD_Daten_Produktivität!I56","v":2469.270539014884},{"$f":"RD_Daten_Produktivität!J14/RD_Daten_Produktivität!J56","v":2270.0523436290664},{"$f":"RD_Daten_Produktivität!K14/RD_Daten_Produktivität!K56","v":2678.9095438629006},{"$f":"RD_Daten_Produktivität!L14/RD_Daten_Produktivität!L56","v":2846.7138463530282},{"$f":"RD_Daten_Produktivität!M14/RD_Daten_Produktivität!M56","v":2855.3648653312466},{"$f":"RD_Daten_Produktivität!N14/RD_Daten_Produktivität!N56","v":3053.3159332097343},{"$f":"RD_Daten_Produktivität!O14/RD_Daten_Produktivität!O56","v":3507.9679526724226},{"$f":"RD_Daten_Produktivität!P14/RD_Daten_Produktivität!P56","v":2967.809727694053},{"$f":"RD_Daten_Produktivität!Q14/RD_Daten_Produktivität!Q56","v":2922.1836025352691},{"$f":"RD_Daten_Produktivität!R14/RD_Daten_Produktivität!R56","v":2883.1738768718801},{"$f":"RD_Daten_Produktivität!S14/RD_Daten_Produktivität!S56","v":2819.0318004511314},{"$f":"RD_Daten_Produktivität!T14/RD_Daten_Produktivität!T56","v":2996.4262419664019},{"$f":"RD_Daten_Produktivität!U14/RD_Daten_Produktivität!U56","v":3134.1678746609491},{"$f":"RD_Daten_Produktivität!V14/RD_Daten_Produktivität!V56","v":3218.6303100026216},{"$f":"RD_Daten_Produktivität!W14/RD_Daten_Produktivität!W56","v":3043.0876092510025},{"$f":"RD_Daten_Produktivität!X14/RD_Daten_Produktivität!X56","v":2765.5458079767695}]
["Irland",{"$f":"RD_Daten_Produktivität!B15/RD_Daten_Produktivität!B57","v":66.401853850665233},{"$f":"RD_Daten_Produktivität!C15/RD_Daten_Produktivität!C57","v":66.534125888898402},{"$f":"RD_Daten_Produktivität!D15/RD_Daten_Produktivität!D57","v":69.322701775718187},{"$f":"RD_Daten_Produktivität!E15/RD_Daten_Produktivität!E57","v":58.892314330951528},{"$f":"RD_Daten_Produktivität!F15/RD_Daten_Produktivität!F57","v":60.812099324016103},{"$f":"RD_Daten_Produktivität!G15/RD_Daten_Produktivität!G57","v":58.725647156474764},{"$f":"RD_Daten_Produktivität!H15/RD_Daten_Produktivität!H57","v":55.013416908561695},{"$f":"RD_Daten_Produktivität!I15/RD_Daten_Produktivität!I57","v":51.568950334486395},{"$f":"RD_Daten_Produktivität!J15/RD_Daten_Produktivität!J57","v":52.451803836831516},{"$f":"RD_Daten_Produktivität!K15/RD_Daten_Produktivität!K57","v":61.005379613680418},{"$f":"RD_Daten_Produktivität!L15/RD_Daten_Produktivität!L57","v":49.073699750239165},{"$f":"RD_Daten_Produktivität!M15/RD_Daten_Produktivität!M57","v":45.965077193979219},{"$f":"RD_Daten_Produktivität!N15/RD_Daten_Produktivität!N57","v":46.101177979179774},{"$f":"RD_Daten_Produktivität!O15/RD_Daten_Produktivität!O57","v":45.672814557423386},{"$f":"RD_Daten_Produktivität!P15/RD_Daten_Produktivität!P57","v":44.850708602173171},{"$f":"RD_Daten_Produktivität!Q15/RD_Daten_Produktivität!Q57","v":54.628205128205131},{"$f":"RD_Daten_Produktivität!R15/RD_Daten_Produktivität!R57","v":54.251967726824283},{"$f":"RD_Daten_Produktivität!S15/RD_Daten_Produktivität!S57","v":55.535763826504272},{"$f":"RD_Daten_Produktivität!T15/RD_Daten_Produktivität!T57","v":53.97571767044996},{"$f":"RD_Daten_Produktivität!U15/RD_Daten_Produktivität!U57","v":50.058750734311026},{"$f":"RD_Daten_Produktivität!V15/RD_Daten_Produktivität!V57","v":47.687292573654091},{"$f":"RD_Daten_Produktivität!W15/RD_Daten_Produktivität!W57","v":44.513990540114015},{"$f":"RD_Daten_Produktivität!X15/RD_Daten_Produktivität!X57","v":45.325916373428342}]
["Niederlande",{"$f":"RD_Daten_Produktivität!B16/RD_Daten_Produktivität!B58","v":33.0601442966653},{"$f":"RD_Daten_Produktivität!C16/RD_Daten_Produktivität!C58","v":34.658513384515921},{"$f":"RD_Daten_Produktivität!D16/RD_Daten_Produktivität!D58","v":34.2092816218072},{"$f":"RD_Daten_Produktivität!E16/RD_Daten_Produktivität!E58","v":35.114093944028568},{"$f":"RD_Daten_Produktivität!F16/RD_Daten_Produktivität!F58","v":34.818210424401251},{"$f":"RD_Daten_Produktivität!G16/RD_Daten_Produktivität!G58","v":35.516692871404182},{"$f":"RD_Daten_Produktivität!H16/RD_Daten_Produktivität!H58","v":36.831983994800765},{"$f":"RD_Daten_Produktivität!I16/RD_Daten_Produktivität!I58","v":37.332283896115179},{"$f":"RD_Daten_Produktivität!J16/RD_Daten_Produktivität!J58","v":38.662478487090574},{"$f":"RD_Daten_Produktivität!K16/RD_Daten_Produktivität!K58","v":44.548445423202423},{"$f":"RD_Daten_Produktivität!L16/RD_Daten_Produktivität!L58","v":44.679119134732865},{"$f":"RD_Daten_Produktivität!M16/RD_Daten_Produktivität!M58","v":44.185675047903487},{"$f":"RD_Daten_Produktivität!N16/RD_Daten_Produktivität!N58","v":44.444170276417744},{"$f":"RD_Daten_Produktivität!O16/RD_Daten_Produktivität!O58","v":43.752432217640816},{"$f":"RD_Daten_Produktivität!P16/RD_Daten_Produktivität!P58","v":40.87026435294549},{"$f":"RD_Daten_Produktivität!Q16/RD_Daten_Produktivität!Q58","v":39.347826086956523},{"$f":"RD_Daten_Produktivität!R16/RD_Daten_Produktivität!R58","v":35.681159420289852},{"$f":"RD_Daten_Produktivität!S16/RD_Daten_Produktivität!S58","v":30.924468263272484},{"$f":"RD_Daten_Produktivität!T16/RD_Daten_Produktivität!T58","v":27.349234379670516},{"$f":"RD_Daten_Produktivität!U16/RD_Daten_Produktivität!U58","v":26.985002084497292},{"$f":"RD_Daten_Produktivität!V16/RD_Daten_Produktivität!V58","v":24.195257468903137},{"$f":"RD_Daten_Produktivität!W16/RD_Daten_Produktivität!W58","v":24.132412644308584},{"$f":"RD_Daten_Produktivität!X16/RD_Daten_Produktivität!X58","v":24.800478463019406}]
["Portugal",{"$f":"RD_Daten_Produktivität!B17/RD_Daten_Produktivität!B59","v":23.82723244753155},{"$f":"RD_Daten_Produktivität!C17/RD_Daten_Produktivität!C59","v":24.670911532891274},{"$f":"RD_Daten_Produktivität!D17/RD_Daten_Produktivität!D59","v":25.10014449230291},{"$f":"RD_Daten_Produktivität!E17/RD_Daten_Produktivität!E59","v":25.954700692455955},{"$f":"RD_Daten_Produktivität!F17/RD_Daten_Produktivität!F59","v":27.163057922809418},{"$f":"RD_Daten_Produktivität!G17/RD_Daten_Produktivität!G59","v":28.658276575608749},{"$f":"RD_Daten_Produktivität!H17/RD_Daten_Produktivität!H59","v":28.07013644113885},{"$f":"RD_Daten_Produktivität!I17/RD_Daten_Produktivität!I59","v":28.197307613957033},{"$f":"RD_Daten_Produktivität!J17/RD_Daten_Produktivität!J59","v":27.773415287922649},{"$f":"RD_Daten_Produktivität!K17/RD_Daten_Produktivität!K59","v":29.057450820547185},{"$f":"RD_Daten_Produktivität!L17/RD_Daten_Produktivität!L59","v":29.519461583327725},{"$f":"RD_Daten_Produktivität!M17/RD_Daten_Produktivität!M59","v":30.324195950057934},{"$f":"RD_Daten_Produktivität!N17/RD_Daten_Produktivität!N59","v":32.622356587133588},{"$f":"RD_Daten_Produktivität!O17/RD_Daten_Produktivität!O59","v":32.782138203531794},{"$f":"RD_Daten_Produktivität!P17/RD_Daten_Produktivität!P59","v":31.410265165904871},{"$f":"RD_Daten_Produktivität!Q17/RD_Daten_Produktivität!Q59","v":32.477931904161416},{"$f":"RD_Daten_Produktivität!R17/RD_Daten_Produktivität!R59","v":32.144263818615393},{"$f":"RD_Daten_Produktivität!S17/RD_Daten_Produktivität!S59","v":29.57572438479945},{"$f":"RD_Daten_Produktivität!T17/RD_Daten_Produktivität!T59","v":29.739077569568174},{"$f":"RD_Daten_Produktivität!U17/RD_Daten_Produktivität!U59","v":30.167164543736952},{"$f":"RD_Daten_Produktivität!V17/RD_Daten_Produktivität!V59","v":29.736492653607257},{"$f":"RD_Daten_Produktivität!W17/RD_Daten_Produktivität!W59","v":27.169050636352587},{"$f":"RD_Daten_Produktivität!X17/RD_Daten_Produktivität!X59","v":27.975509799937718}]
["Rumänien",{"$f":"RD_Daten_Produktivität!B18/RD_Daten_Produktivität!B60","v":37.639269308573205},{"$f":"RD_Daten_Produktivität!C18/RD_Daten_Produktivität!C60","v":48.381788632889879},{"$f":"RD_Daten_Produktivität!D18/RD_Daten_Produktivität!D60","v":50.471914246788749},{"$f":"RD_Daten_Produktivität!E18/RD_Daten_Produktivität!E60","v":50.250243099134273},{"$f":"RD_Daten_Produktivität!F18/RD_Daten_Produktivität!F60","v":51.727833531702984},{"$f":"RD_Daten_Produktivität!G18/RD_Daten_Produktivität!G60","v":49.437093648304881},{"$f":"RD_Daten_Produktivität!H18/RD_Daten_Produktivität!H60","v":52.767033419388952},{"$f":"RD_Daten_Produktivität!I18/RD_Daten_Produktivität!I60","v":52.23323197532121},{"$f":"RD_Daten_Produktivität!J18/RD_Daten_Produktivität!J60","v":51.581440578289325},{"$f":"RD_Daten_Produktivität!K18/RD_Daten_Produktivität!K60","v":52.483017018855215},{"$f":"RD_Daten_Produktivität!L18/RD_Daten_Produktivität!L60","v":56.528045635749059},{"$f":"RD_Daten_Produktivität!M18/RD_Daten_Produktivität!M60","v":55.56525243549342},{"$f":"RD_Daten_Produktivität!N18/RD_Daten_Produktivität!N60","v":52.50410202786351},{"$f":"RD_Daten_Produktivität!O18/RD_Daten_Produktivität!O60","v":65.156236653171817},{"$f":"RD_Daten_Produktivität!P18/RD_Daten_Produktivität!P60","v":54.597753575623287},{"$f":"RD_Daten_Produktivität!Q18/RD_Daten_Produktivität!Q60","v":36.339285714285715},{"$f":"RD_Daten_Produktivität!R18/RD_Daten_Produktivität!R60","v":37.839729119638825},{"$f":"RD_Daten_Produktivität!S18/RD_Daten_Produktivität!S60","v":37.672893024727863},{"$f":"RD_Daten_Produktivität!T18/RD_Daten_Produktivität!T60","v":38.681670850754671},{"$f":"RD_Daten_Produktivität!U18/RD_Daten_Produktivität!U60","v":46.975594538904296},{"$f":"RD_Daten_Produktivität!V18/RD_Daten_Produktivität!V60","v":38.467622575861483},{"$f":"RD_Daten_Produktivität!W18/RD_Daten_Produktivität!W60","v":56.526050193177966},{"$f":"RD_Daten_Produktivität!X18/RD_Daten_Produktivität!X60","v":45.513419071368872}]
["Slowenien",{"$f":"RD_Daten_Produktivität!B19/RD_Daten_Produktivität!B61","v":28.453975966201007},{"$f":"RD_Daten_Produktivität!C19/RD_Daten_Produktivität!C61","v":28.918747783065974},{"$f":"RD_Daten_Produktivität!D19/RD_Daten_Produktivität!D61","v":30.133192548037968},{"$f":"RD_Daten_Produktivität!E19/RD_Daten_Produktivität!E61","v":28.89113092218172},{"$f":"RD_Daten_Produktivität!F19/RD_Daten_Produktivität!F61","v":29.467624658469241},{"$f":"RD_Daten_Produktivität!G19/RD_Daten_Produktivität!G61","v":30.005239868352181},{"$f":"RD_Daten_Produktivität!H19/RD_Daten_Produktivität!H61","v":25.952187463890805},{"$f":"RD_Daten_Produktivität!I19/RD_Daten_Produktivität!I61","v":26.803915046365404},{"$f":"RD_Daten_Produktivität!J19/RD_Daten_Produktivität!J61","v":26.860647448706811},{"$f":"RD_Daten_Produktivität!K19/RD_Daten_Produktivität!K61","v":25.533426220060516},{"$f":"RD_Daten_Produktivität!L19/RD_Daten_Produktivität!L61","v":24.479635109559819},{"$f":"RD_Daten_Produktivität!M19/RD_Daten_Produktivität!M61","v":26.087073439769416},{"$f":"RD_Daten_Produktivität!N19/RD_Daten_Produktivität!N61","v":25.909064234880667},{"$f":"RD_Daten_Produktivität!O19/RD_Daten_Produktivität!O61","v":27.109840517431195},{"$f":"RD_Daten_Produktivität!P19/RD_Daten_Produktivität!P61","v":26.342114867772338},{"$f":"RD_Daten_Produktivität!Q19/RD_Daten_Produktivität!Q61","v":26.401564537157757},{"$f":"RD_Daten_Produktivität!R19/RD_Daten_Produktivität!R61","v":27.597402597402596},{"$f":"RD_Daten_Produktivität!S19/RD_Daten_Produktivität!S61","v":26.212319410824925},{"$f":"RD_Daten_Produktivität!T19/RD_Daten_Produktivität!T61","v":24.558471156061199},{"$f":"RD_Daten_Produktivität!U19/RD_Daten_Produktivität!U61","v":25.329922029850238},{"$f":"RD_Daten_Produktivität!V19/RD_Daten_Produktivität!V61","v":24.507264148153165},{"$f":"RD_Daten_Produktivität!W19/RD_Daten_Produktivität!W61","v":24.662078163813188},{"$f":"RD_Daten_Produktivität!X19/RD_Daten_Produktivität!X61","v":23.195794900595349}]
["Slowakei",{"$f":"RD_Daten_Produktivität!B20/RD_Daten_Produktivität!B62","v":12.632570675568658},{"$f":"RD_Daten_Produktivität!C20/RD_Daten_Produktivität!C62","v":15.258216815043824},{"$f":"RD_Daten_Produktivität!D20/RD_Daten_Produktivität!D62","v":17.432444097552221},{"$f":"RD_Daten_Produktivität!E20/RD_Daten_Produktivität!E62","v":18.816699013644921},{"$f":"RD_Daten_Produktivität!F20/RD_Daten_Produktivität!F62","v":20.367611893300484},{"$f":"RD_Daten_Produktivität!G20/RD_Daten_Produktivität!G62","v":15.852365358679487},{"$f":"RD_Daten_Produktivität!H20/RD_Daten_Produktivität!H62","v":15.886662452628446},{"$f":"RD_Daten_Produktivität!I20/RD_Daten_Produktivität!I62","v":14.695036482918384},{"$f":"RD_Daten_Produktivität!J20/RD_Daten_Produktivität!J62","v":16.066792071789664},{"$f":"RD_Daten_Produktivität!K20/RD_Daten_Produktivität!K62","v":14.287232518734756},{"$f":"RD_Daten_Produktivität!L20/RD_Daten_Produktivität!L62","v":20.205094578112444},{"$f":"RD_Daten_Produktivität!M20/RD_Daten_Produktivität!M62","v":20.664480347837731},{"$f":"RD_Daten_Produktivität!N20/RD_Daten_Produktivität!N62","v":21.303221613298646},{"$f":"RD_Daten_Produktivität!O20/RD_Daten_Produktivität!O62","v":18.981754770717259},{"$f":"RD_Daten_Produktivität!P20/RD_Daten_Produktivität!P62","v":16.484107352472829},{"$f":"RD_Daten_Produktivität!Q20/RD_Daten_Produktivität!Q62","v":15.61146869514336},{"$f":"RD_Daten_Produktivität!R20/RD_Daten_Produktivität!R62","v":15.456717125109208},{"$f":"RD_Daten_Produktivität!S20/RD_Daten_Produktivität!S62","v":16.286211831817983},{"$f":"RD_Daten_Produktivität!T20/RD_Daten_Produktivität!T62","v":15.944820560620792},{"$f":"RD_Daten_Produktivität!U20/RD_Daten_Produktivität!U62","v":16.629749531418259},{"$f":"RD_Daten_Produktivität!V20/RD_Daten_Produktivität!V62","v":17.386580706264372},{"$f":"RD_Daten_Produktivität!W20/RD_Daten_Produktivität!W62","v":18.252499213674685},{"$f":"RD_Daten_Produktivität!X20/RD_Daten_Produktivität!X62","v":19.249395415381205}]
["Großbritannien",{"$f":"RD_Daten_Produktivität!B21/RD_Daten_Produktivität!B63","v":26.030140122739684},{"$f":"RD_Daten_Produktivität!C21/RD_Daten_Produktivität!C63","v":26.654120000508563},{"$f":"RD_Daten_Produktivität!D21/RD_Daten_Produktivität!D63","v":28.996803284179553},{"$f":"RD_Daten_Produktivität!E21/RD_Daten_Produktivität!E63","v":30.101822454338745},{"$f":"RD_Daten_Produktivität!F21/RD_Daten_Produktivität!F63","v":30.132161679182033},{"$f":"RD_Daten_Produktivität!G21/RD_Daten_Produktivität!G63","v":33.853956725897454},{"$f":"RD_Daten_Produktivität!H21/RD_Daten_Produktivität!H63","v":34.72253401296814},{"$f":"RD_Daten_Produktivität!I21/RD_Daten_Produktivität!I63","v":35.504304797029882},{"$f":"RD_Daten_Produktivität!J21/RD_Daten_Produktivität!J63","v":43.285199255332323},{"$f":"RD_Daten_Produktivität!K21/RD_Daten_Produktivität!K63","v":49.890338529237027},{"$f":"RD_Daten_Produktivität!L21/RD_Daten_Produktivität!L63","v":50.157972311174021},{"$f":"RD_Daten_Produktivität!M21/RD_Daten_Produktivität!M63","v":46.656978405928193},{"$f":"RD_Daten_Produktivität!N21/RD_Daten_Produktivität!N63","v":44.251772936396783},{"$f":"RD_Daten_Produktivität!O21/RD_Daten_Produktivität!O63","v":38.411676462762678},{"$f":"RD_Daten_Produktivität!P21/RD_Daten_Produktivität!P63","v":31.318384279402022},{"$f":"RD_Daten_Produktivität!Q21/RD_Daten_Produktivität!Q63","v":35.80537703152865},{"$f":"RD_Daten_Produktivität!R21/RD_Daten_Produktivität!R63","v":37.511942131841138},{"$f":"RD_Daten_Produktivität!S21/RD_Daten_Produktivität!S63","v":40.172836070058437},{"$f":"RD_Daten_Produktivität!T21/RD_Daten_Produktivität!T63","v":39.684150071675624},{"$f":"RD_Daten_Produktivität!U21/RD_Daten_Produktivität!U63","v":42.087294547446938},{"$f":"RD_Daten_Produktivität!V21/RD_Daten_Produktivität!V63","v":39.277534897149373},{"$f":"RD_Daten_Produktivität!W21/RD_Daten_Produktivität!W63","v":39.15200950702841}]
[]
["BWS (preisbereinigt)/Angestellte"]
[null,1995,{"$f":"B24+1","v":1996},{"$f":"C24+1","v":1997},1998,1999,2000,2001,2002,2003,2004,2005,2006,2007,2008,2009,2010,2011,2012,2013,2014,2015,2016,2017]
["Österreich",{"$f":"RD_Daten_Produktivität!B4/RD_Daten_Produktivität!B67","v":17.939583505013047},{"$f":"RD_Daten_Produktivität!C4/RD_Daten_Produktivität!C67","v":21.588881416416413},{"$f":"RD_Daten_Produktivität!D4/RD_Daten_Produktivität!D67","v":20.800323782528885},{"$f":"RD_Daten_Produktivität!E4/RD_Daten_Produktivität!E67","v":23.51478077259754},{"$f":"RD_Daten_Produktivität!F4/RD_Daten_Produktivität!F67","v":26.146927922087297},{"$f":"RD_Daten_Produktivität!G4/RD_Daten_Produktivität!G67","v":26.256985741398687},{"$f":"RD_Daten_Produktivität!H4/RD_Daten_Produktivität!H67","v":26.533172132599137},{"$f":"RD_Daten_Produktivität!I4/RD_Daten_Produktivität!I67","v":27.000044555088142},{"$f":"RD_Daten_Produktivität!J4/RD_Daten_Produktivität!J67","v":29.330600017554993},{"$f":"RD_Daten_Produktivität!K4/RD_Daten_Produktivität!K67","v":31.1273872316781},{"$f":"RD_Daten_Produktivität!L4/RD_Daten_Produktivität!L67","v":38.74111153375199},{"$f":"RD_Daten_Produktivität!M4/RD_Daten_Produktivität!M67","v":43.023739634837682},{"$f":"RD_Daten_Produktivität!N4/RD_Daten_Produktivität!N67","v":45.980474023028293},{"$f":"RD_Daten_Produktivität!O4/RD_Daten_Produktivität!O67","v":47.64823081812446},{"$f":"RD_Daten_Produktivität!P4/RD_Daten_Produktivität!P67","v":48.792355224904476},{"$f":"RD_Daten_Produktivität!Q4/RD_Daten_Produktivität!Q67","v":50.173453996983405},{"$f":"RD_Daten_Produktivität!R4/RD_Daten_Produktivität!R67","v":49.343494457531172},{"$f":"RD_Daten_Produktivität!S4/RD_Daten_Produktivität!S67","v":49.318681246384592},{"$f":"RD_Daten_Produktivität!T4/RD_Daten_Produktivität!T67","v":50.824982962739377},{"$f":"RD_Daten_Produktivität!U4/RD_Daten_Produktivität!U67","v":51.92175131384905},{"$f":"RD_Daten_Produktivität!V4/RD_Daten_Produktivität!V67","v":48.558166303190475},{"$f":"RD_Daten_Produktivität!W4/RD_Daten_Produktivität!W67","v":48.727081360118824},{"$f":"RD_Daten_Produktivität!X4/RD_Daten_Produktivität!X67","v":50.10602921185771}]
["Belgien",{"$f":"RD_Daten_Produktivität!B5/RD_Daten_Produktivität!B68","v":50.005141539229946},{"$f":"RD_Daten_Produktivität!C5/RD_Daten_Produktivität!C68","v":51.104578397415374},{"$f":"RD_Daten_Produktivität!D5/RD_Daten_Produktivität!D68","v":50.847179526776273},{"$f":"RD_Daten_Produktivität!E5/RD_Daten_Produktivität!E68","v":52.534032968664917},{"$f":"RD_Daten_Produktivität!F5/RD_Daten_Produktivität!F68","v":52.677488970606731},{"$f":"RD_Daten_Produktivität!G5/RD_Daten_Produktivität!G68","v":54.314564572018625},{"$f":"RD_Daten_Produktivität!H5/RD_Daten_Produktivität!H68","v":48.428595332539345},{"$f":"RD_Daten_Produktivität!I5/RD_Daten_Produktivität!I68","v":46.212473092501853},{"$f":"RD_Daten_Produktivität!J5/RD_Daten_Produktivität!J68","v":47.353986795327579},{"$f":"RD_Daten_Produktivität!K5/RD_Daten_Produktivität!K68","v":48.040537010917824},{"$f":"RD_Daten_Produktivität!L5/RD_Daten_Produktivität!L68","v":48.496959904757858},{"$f":"RD_Daten_Produktivität!M5/RD_Daten_Produktivität!M68","v":49.737812954995782},{"$f":"RD_Daten_Produktivität!N5/RD_Daten_Produktivität!N68","v":52.55217299300547},{"$f":"RD_Daten_Produktivität!O5/RD_Daten_Produktivität!O68","v":55.75024886362273},{"$f":"RD_Daten_Produktivität!P5/RD_Daten_Produktivität!P68","v":53.912921473715095},{"$f":"RD_Daten_Produktivität!Q5/RD_Daten_Produktivität!Q68","v":54.622154820166749},{"$f":"RD_Daten_Produktivität!R5/RD_Daten_Produktivität!R68","v":56.953224634203195},{"$f":"RD_Daten_Produktivität!S5/RD_Daten_Produktivität!S68","v":55.695692526854252},{"$f":"RD_Daten_Produktivität!T5/RD_Daten_Produktivität!T68","v":56.578819265017572},{"$f":"RD_Daten_Produktivität!U5/RD_Daten_Produktivität!U68","v":55.207464513161888},{"$f":"RD_Daten_Produktivität!V5/RD_Daten_Produktivität!V68","v":54.520887467519486},{"$f":"RD_Daten_Produktivität!W5/RD_Daten_Produktivität!W68","v":52.328536497374429}]
["Tschechien",{"$f":"RD_Daten_Produktivität!B6/RD_Daten_Produktivität!B69","v":235.70586728505731},{"$f":"RD_Daten_Produktivität!C6/RD_Daten_Produktivität!C69","v":248.64126873305841},{"$f":"RD_Daten_Produktivität!D6/RD_Daten_Produktivität!D69","v":217.83431835806297},{"$f":"RD_Daten_Produktivität!E6/RD_Daten_Produktivität!E69","v":242.38132092185106},{"$f":"RD_Daten_Produktivität!F6/RD_Daten_Produktivität!F69","v":230.14732968270985},{"$f":"RD_Daten_Produktivität!G6/RD_Daten_Produktivität!G69","v":253.51347147161334},{"$f":"RD_Daten_Produktivität!H6/RD_Daten_Produktivität!H69","v":279.47471371284718},{"$f":"RD_Daten_Produktivität!I6/RD_Daten_Produktivität!I69","v":286.47210519102055},{"$f":"RD_Daten_Produktivität!J6/RD_Daten_Produktivität!J69","v":349.83830947842716},{"$f":"RD_Daten_Produktivität!K6/RD_Daten_Produktivität!K69","v":347.80141232432976},{"$f":"RD_Daten_Produktivität!L6/RD_Daten_Produktivität!L69","v":348.58681919164036},{"$f":"RD_Daten_Produktivität!M6/RD_Daten_Produktivität!M69","v":388.35310368311593},{"$f":"RD_Daten_Produktivität!N6/RD_Daten_Produktivität!N69","v":417.48679334779979},{"$f":"RD_Daten_Produktivität!O6/RD_Daten_Produktivität!O69","v":380.97608332693488},{"$f":"RD_Daten_Produktivität!P6/RD_Daten_Produktivität!P69","v":391.31310359330257},{"$f":"RD_Daten_Produktivität!Q6/RD_Daten_Produktivität!Q69","v":372.86874154262512},{"$f":"RD_Daten_Produktivität!R6/RD_Daten_Produktivität!R69","v":383.59466417037214},{"$f":"RD_Daten_Produktivität!S6/RD_Daten_Produktivität!S69","v":388.84332189260607},{"$f":"RD_Daten_Produktivität!T6/RD_Daten_Produktivität!T69","v":366.25436201583312},{"$f":"RD_Daten_Produktivität!U6/RD_Daten_Produktivität!U69","v":348.5248474669271},{"$f":"RD_Daten_Produktivität!V6/RD_Daten_Produktivität!V69","v":341.16194481099467},{"$f":"RD_Daten_Produktivität!W6/RD_Daten_Produktivität!W69","v":324.49796162400617},{"$f":"RD_Daten_Produktivität!X6/RD_Daten_Produktivität!X69","v":308.20525691439826}]
["Dänemark",{"$f":"RD_Daten_Produktivität!B7/RD_Daten_Produktivität!B70","v":539.72320139377757},{"$f":"RD_Daten_Produktivität!C7/RD_Daten_Produktivität!C70","v":553.91405441484767},{"$f":"RD_Daten_Produktivität!D7/RD_Daten_Produktivität!D70","v":545.46198232002712},{"$f":"RD_Daten_Produktivität!E7/RD_Daten_Produktivität!E70","v":518.98291784910077},{"$f":"RD_Daten_Produktivität!F7/RD_Daten_Produktivität!F70","v":481.69597727477606},{"$f":"RD_Daten_Produktivität!G7/RD_Daten_Produktivität!G70","v":420.72995753702014},{"$f":"RD_Daten_Produktivität!H7/RD_Daten_Produktivität!H70","v":536.72837814424327},{"$f":"RD_Daten_Produktivität!I7/RD_Daten_Produktivität!I70","v":519.73110335482397},{"$f":"RD_Daten_Produktivität!J7/RD_Daten_Produktivität!J70","v":501.38357994598357},{"$f":"RD_Daten_Produktivität!K7/RD_Daten_Produktivität!K70","v":498.90448302283568},{"$f":"RD_Daten_Produktivität!L7/RD_Daten_Produktivität!L70","v":481.73219074850027},{"$f":"RD_Daten_Produktivität!M7/RD_Daten_Produktivität!M70","v":412.86481389474687},{"$f":"RD_Daten_Produktivität!N7/RD_Daten_Produktivität!N70","v":406.94345198272498},{"$f":"RD_Daten_Produktivität!O7/RD_Daten_Produktivität!O70","v":354.19957192100304},{"$f":"RD_Daten_Produktivität!P7/RD_Daten_Produktivität!P70","v":347.40540436491585},{"$f":"RD_Daten_Produktivität!Q7/RD_Daten_Produktivität!Q70","v":320.06666666666666},{"$f":"RD_Daten_Produktivität!R7/RD_Daten_Produktivität!R70","v":251.96969696969697},{"$f":"RD_Daten_Produktivität!S7/RD_Daten_Produktivität!S70","v":240.12961019437097},{"$f":"RD_Daten_Produktivität!T7/RD_Daten_Produktivität!T70","v":241.72284440724971},{"$f":"RD_Daten_Produktivität!U7/RD_Daten_Produktivität!U70","v":243.78064141595547},{"$f":"RD_Daten_Produktivität!V7/RD_Daten_Produktivität!V70","v":222.19677337708595},{"$f":"RD_Daten_Produktivität!W7/RD_Daten_Produktivität!W70","v":203.73047794760259},{"$f":"RD_Daten_Produktivität!X7/RD_Daten_Produktivität!X70","v":237.90571107401317}]
["Estland",{"$f":"RD_Daten_Produktivität!B8/RD_Daten_Produktivität!B71","v":2.9536215018528202},{"$f":"RD_Daten_Produktivität!C8/RD_Daten_Produktivität!C71","v":3.3902718513330243},{"$f":"RD_Daten_Produktivität!D8/RD_Daten_Produktivität!D71","v":3.7726735443880801},{"$f":"RD_Daten_Produktivität!E8/RD_Daten_Produktivität!E71","v":4.5992338687281675},{"$f":"RD_Daten_Produktivität!F8/RD_Daten_Produktivität!F71","v":4.4741008353466736},{"$f":"RD_Daten_Produktivität!G8/RD_Daten_Produktivität!G71","v":4.9483189855706948},{"$f":"RD_Daten_Produktivität!H8/RD_Daten_Produktivität!H71","v":6.0441629703754147},{"$f":"RD_Daten_Produktivität!I8/RD_Daten_Produktivität!I71","v":7.0782990475359302},{"$f":"RD_Daten_Produktivität!J8/RD_Daten_Produktivität!J71","v":7.3895322894426592},{"$f":"RD_Daten_Produktivität!K8/RD_Daten_Produktivität!K71","v":9.5529982790495076},{"$f":"RD_Daten_Produktivität!L8/RD_Daten_Produktivität!L71","v":12.184655385109025},{"$f":"RD_Daten_Produktivität!M8/RD_Daten_Produktivität!M71","v":11.394138718660489},{"$f":"RD_Daten_Produktivität!N8/RD_Daten_Produktivität!N71","v":12.959113111802901},{"$f":"RD_Daten_Produktivität!O8/RD_Daten_Produktivität!O71","v":12.32529798777972},{"$f":"RD_Daten_Produktivität!P8/RD_Daten_Produktivität!P71","v":10.684488626351033},{"$f":"RD_Daten_Produktivität!Q8/RD_Daten_Produktivität!Q71","v":10.050761421319798},{"$f":"RD_Daten_Produktivität!R8/RD_Daten_Produktivität!R71","v":9.4535522768353761},{"$f":"RD_Daten_Produktivität!S8/RD_Daten_Produktivität!S71","v":9.0041263556259885},{"$f":"RD_Daten_Produktivität!T8/RD_Daten_Produktivität!T71","v":10.295324466943823},{"$f":"RD_Daten_Produktivität!U8/RD_Daten_Produktivität!U71","v":9.1081065153568872},{"$f":"RD_Daten_Produktivität!V8/RD_Daten_Produktivität!V71","v":8.3518170925348212},{"$f":"RD_Daten_Produktivität!W8/RD_Daten_Produktivität!W71","v":8.1391710506701447},{"$f":"RD_Daten_Produktivität!X8/RD_Daten_Produktivität!X71","v":8.858801797368562}]
["Frankreich",{"$f":"RD_Daten_Produktivität!B9/RD_Daten_Produktivität!B72","v":35.033810206792033},{"$f":"RD_Daten_Produktivität!C9/RD_Daten_Produktivität!C72","v":36.211089382982124},{"$f":"RD_Daten_Produktivität!D9/RD_Daten_Produktivität!D72","v":36.092807866745318},{"$f":"RD_Daten_Produktivität!E9/RD_Daten_Produktivität!E72","v":37.503128602748021},{"$f":"RD_Daten_Produktivität!F9/RD_Daten_Produktivität!F72","v":39.82645564728859},{"$f":"RD_Daten_Produktivität!G9/RD_Daten_Produktivität!G72","v":36.629869916317176},{"$f":"RD_Daten_Produktivität!H9/RD_Daten_Produktivität!H72","v":35.130835879611084},{"$f":"RD_Daten_Produktivität!I9/RD_Daten_Produktivität!I72","v":34.345428471284372},{"$f":"RD_Daten_Produktivität!J9/RD_Daten_Produktivität!J72","v":33.429799452101506},{"$f":"RD_Daten_Produktivität!K9/RD_Daten_Produktivität!K72","v":34.478836307215701},{"$f":"RD_Daten_Produktivität!L9/RD_Daten_Produktivität!L72","v":34.946638325960123},{"$f":"RD_Daten_Produktivität!M9/RD_Daten_Produktivität!M72","v":33.904078279682828},{"$f":"RD_Daten_Produktivität!N9/RD_Daten_Produktivität!N72","v":35.254332947956193},{"$f":"RD_Daten_Produktivität!O9/RD_Daten_Produktivität!O72","v":35.61684276997034},{"$f":"RD_Daten_Produktivität!P9/RD_Daten_Produktivität!P72","v":36.161707857360028},{"$f":"RD_Daten_Produktivität!Q9/RD_Daten_Produktivität!Q72","v":34.608870967741936},{"$f":"RD_Daten_Produktivität!R9/RD_Daten_Produktivität!R72","v":33.008032128514053},{"$f":"RD_Daten_Produktivität!S9/RD_Daten_Produktivität!S72","v":32.52275710714887},{"$f":"RD_Daten_Produktivität!T9/RD_Daten_Produktivität!T72","v":30.880390237937902},{"$f":"RD_Daten_Produktivität!U9/RD_Daten_Produktivität!U72","v":29.975070282673506},{"$f":"RD_Daten_Produktivität!V9/RD_Daten_Produktivität!V72","v":27.6794419161752},{"$f":"RD_Daten_Produktivität!W9/RD_Daten_Produktivität!W72","v":27.406775916445593},{"$f":"RD_Daten_Produktivität!X9/RD_Daten_Produktivität!X72","v":27.506274147293983}]
["Griechenland",{"$f":"RD_Daten_Produktivität!B10/RD_Daten_Produktivität!B73","v":18.081591482919329},{"$f":"RD_Daten_Produktivität!C10/RD_Daten_Produktivität!C73","v":18.024949886686485},{"$f":"RD_Daten_Produktivität!D10/RD_Daten_Produktivität!D73","v":21.661245325695848},{"$f":"RD_Daten_Produktivität!E10/RD_Daten_Produktivität!E73","v":22.453224581478569},{"$f":"RD_Daten_Produktivität!F10/RD_Daten_Produktivität!F73","v":28.818030981328711},{"$f":"RD_Daten_Produktivität!G10/RD_Daten_Produktivität!G73","v":29.293825925049731},{"$f":"RD_Daten_Produktivität!H10/RD_Daten_Produktivität!H73","v":32.960073676448211},{"$f":"RD_Daten_Produktivität!I10/RD_Daten_Produktivität!I73","v":34.491820586886341},{"$f":"RD_Daten_Produktivität!J10/RD_Daten_Produktivität!J73","v":33.70929758442346},{"$f":"RD_Daten_Produktivität!K10/RD_Daten_Produktivität!K73","v":34.684153099168626},{"$f":"RD_Daten_Produktivität!L10/RD_Daten_Produktivität!L73","v":34.966058621499975},{"$f":"RD_Daten_Produktivität!M10/RD_Daten_Produktivität!M73","v":38.004057969451431},{"$f":"RD_Daten_Produktivität!N10/RD_Daten_Produktivität!N73","v":39.08050309799976},{"$f":"RD_Daten_Produktivität!O10/RD_Daten_Produktivität!O73","v":42.82376286621453},{"$f":"RD_Daten_Produktivität!P10/RD_Daten_Produktivität!P73","v":38.125318175457011},{"$f":"RD_Daten_Produktivität!Q10/RD_Daten_Produktivität!Q73","v":35.820484581497794},{"$f":"RD_Daten_Produktivität!R10/RD_Daten_Produktivität!R73","v":34.348623853211009},{"$f":"RD_Daten_Produktivität!S10/RD_Daten_Produktivität!S73","v":31.09921616980732},{"$f":"RD_Daten_Produktivität!T10/RD_Daten_Produktivität!T73","v":27.403217147393462},{"$f":"RD_Daten_Produktivität!U10/RD_Daten_Produktivität!U73","v":24.88768706192964},{"$f":"RD_Daten_Produktivität!V10/RD_Daten_Produktivität!V73","v":22.289464812767406},{"$f":"RD_Daten_Produktivität!W10/RD_Daten_Produktivität!W73","v":21.992376978709615},{"$f":"RD_Daten_Produktivität!X10/RD_Daten_Produktivität!X73","v":21.664911147651754}]
["Italien",{"$f":"RD_Daten_Produktivität!B11/RD_Daten_Produktivität!B74","v":25.399601263913173},{"$f":"RD_Daten_Produktivität!C11/RD_Daten_Produktivität!C74","v":25.482201375825312},{"$f":"RD_Daten_Produktivität!D11/RD_Daten_Produktivität!D74","v":27.681212184042245},{"$f":"RD_Daten_Produktivität!E11/RD_Daten_Produktivität!E74","v":28.313977029624514},{"$f":"RD_Daten_Produktivität!F11/RD_Daten_Produktivität!F74","v":31.898588255590454},{"$f":"RD_Daten_Produktivität!G11/RD_Daten_Produktivität!G74","v":33.447324412066621},{"$f":"RD_Daten_Produktivität!H11/RD_Daten_Produktivität!H74","v":38.404428623927657},{"$f":"RD_Daten_Produktivität!I11/RD_Daten_Produktivität!I74","v":37.55525921768772},{"$f":"RD_Daten_Produktivität!J11/RD_Daten_Produktivität!J74","v":38.54702522990695},{"$f":"RD_Daten_Produktivität!K11/RD_Daten_Produktivität!K74","v":37.911575470591167},{"$f":"RD_Daten_Produktivität!L11/RD_Daten_Produktivität!L74","v":39.449894645385527},{"$f":"RD_Daten_Produktivität!M11/RD_Daten_Produktivität!M74","v":40.237932070331169},{"$f":"RD_Daten_Produktivität!N11/RD_Daten_Produktivität!N74","v":42.271670862188017},{"$f":"RD_Daten_Produktivität!O11/RD_Daten_Produktivität!O74","v":41.214372042489025},{"$f":"RD_Daten_Produktivität!P11/RD_Daten_Produktivität!P74","v":40.83415406690149},{"$f":"RD_Daten_Produktivität!Q11/RD_Daten_Produktivität!Q74","v":42.126185958254268},{"$f":"RD_Daten_Produktivität!R11/RD_Daten_Produktivität!R74","v":40.167321951199348},{"$f":"RD_Daten_Produktivität!S11/RD_Daten_Produktivität!S74","v":38.129036574950852},{"$f":"RD_Daten_Produktivität!T11/RD_Daten_Produktivität!T74","v":41.461966242264836},{"$f":"RD_Daten_Produktivität!U11/RD_Daten_Produktivität!U74","v":37.103972287029862},{"$f":"RD_Daten_Produktivität!V11/RD_Daten_Produktivität!V74","v":38.108636907006058},{"$f":"RD_Daten_Produktivität!W11/RD_Daten_Produktivität!W74","v":37.816439232551602},{"$f":"RD_Daten_Produktivität!X11/RD_Daten_Produktivität!X74","v":38.109307926116813}]
["Spanien",{"$f":"RD_Daten_Produktivität!B12/RD_Daten_Produktivität!B75","v":11.028689063253234},{"$f":"RD_Daten_Produktivität!C12/RD_Daten_Produktivität!C75","v":12.813634815183008},{"$f":"RD_Daten_Produktivität!D12/RD_Daten_Produktivität!D75","v":14.373213706552884},{"$f":"RD_Daten_Produktivität!E12/RD_Daten_Produktivität!E75","v":15.534741804229629},{"$f":"RD_Daten_Produktivität!F12/RD_Daten_Produktivität!F75","v":15.91534420243701},{"$f":"RD_Daten_Produktivität!G12/RD_Daten_Produktivität!G75","v":17.473522778540438},{"$f":"RD_Daten_Produktivität!H12/RD_Daten_Produktivität!H75","v":18.583926951479942},{"$f":"RD_Daten_Produktivität!I12/RD_Daten_Produktivität!I75","v":20.224088149967155},{"$f":"RD_Daten_Produktivität!J12/RD_Daten_Produktivität!J75","v":21.426761927095441},{"$f":"RD_Daten_Produktivität!K12/RD_Daten_Produktivität!K75","v":22.765964799021251},{"$f":"RD_Daten_Produktivität!L12/RD_Daten_Produktivität!L75","v":23.964079213794353},{"$f":"RD_Daten_Produktivität!M12/RD_Daten_Produktivität!M75","v":24.201549811995708},{"$f":"RD_Daten_Produktivität!N12/RD_Daten_Produktivität!N75","v":26.246746493642988},{"$f":"RD_Daten_Produktivität!O12/RD_Daten_Produktivität!O75","v":27.020389619902492},{"$f":"RD_Daten_Produktivität!P12/RD_Daten_Produktivität!P75","v":25.576013590575233},{"$f":"RD_Daten_Produktivität!Q12/RD_Daten_Produktivität!Q75","v":28.256189451022603},{"$f":"RD_Daten_Produktivität!R12/RD_Daten_Produktivität!R75","v":29.475484606613453},{"$f":"RD_Daten_Produktivität!S12/RD_Daten_Produktivität!S75","v":28.45665158466457},{"$f":"RD_Daten_Produktivität!T12/RD_Daten_Produktivität!T75","v":30.754536988851402},{"$f":"RD_Daten_Produktivität!U12/RD_Daten_Produktivität!U75","v":34.492854606951632},{"$f":"RD_Daten_Produktivität!V12/RD_Daten_Produktivität!V75","v":33.486998459703749},{"$f":"RD_Daten_Produktivität!W12/RD_Daten_Produktivität!W75","v":31.367438296782808},{"$f":"RD_Daten_Produktivität!X12/RD_Daten_Produktivität!X75","v":30.484377393558447}]
["Finnland",{"$f":"RD_Daten_Produktivität!B13/RD_Daten_Produktivität!B76","v":32.258805545940341},{"$f":"RD_Daten_Produktivität!C13/RD_Daten_Produktivität!C76","v":33.569785221396586},{"$f":"RD_Daten_Produktivität!D13/RD_Daten_Produktivität!D76","v":35.548730837408932},{"$f":"RD_Daten_Produktivität!E13/RD_Daten_Produktivität!E76","v":36.000190586214096},{"$f":"RD_Daten_Produktivität!F13/RD_Daten_Produktivität!F76","v":39.458309293735155},{"$f":"RD_Daten_Produktivität!G13/RD_Daten_Produktivität!G76","v":40.737853578730082},{"$f":"RD_Daten_Produktivität!H13/RD_Daten_Produktivität!H76","v":41.277509549767053},{"$f":"RD_Daten_Produktivität!I13/RD_Daten_Produktivität!I76","v":40.427854907429392},{"$f":"RD_Daten_Produktivität!J13/RD_Daten_Produktivität!J76","v":40.878140942717955},{"$f":"RD_Daten_Produktivität!K13/RD_Daten_Produktivität!K76","v":41.799971611623924},{"$f":"RD_Daten_Produktivität!L13/RD_Daten_Produktivität!L76","v":41.706269360167639},{"$f":"RD_Daten_Produktivität!M13/RD_Daten_Produktivität!M76","v":41.475714612173761},{"$f":"RD_Daten_Produktivität!N13/RD_Daten_Produktivität!N76","v":41.074934957024247},{"$f":"RD_Daten_Produktivität!O13/RD_Daten_Produktivität!O76","v":40.338988925444404},{"$f":"RD_Daten_Produktivität!P13/RD_Daten_Produktivität!P76","v":39.200914428222582},{"$f":"RD_Daten_Produktivität!Q13/RD_Daten_Produktivität!Q76","v":41.48936170212766},{"$f":"RD_Daten_Produktivität!R13/RD_Daten_Produktivität!R76","v":40.904977375565608},{"$f":"RD_Daten_Produktivität!S13/RD_Daten_Produktivität!S76","v":42.118498975553621},{"$f":"RD_Daten_Produktivität!T13/RD_Daten_Produktivität!T76","v":37.327152186723076},{"$f":"RD_Daten_Produktivität!U13/RD_Daten_Produktivität!U76","v":31.400187298080667},{"$f":"RD_Daten_Produktivität!V13/RD_Daten_Produktivität!V76","v":29.375321806926749},{"$f":"RD_Daten_Produktivität!W13/RD_Daten_Produktivität!W76","v":28.095618296394431},{"$f":"RD_Daten_Produktivität!X13/RD_Daten_Produktivität!X76","v":24.865311937439092}]
["Ungarn",{"$f":"RD_Daten_Produktivität!B14/RD_Daten_Produktivität!B77","v":1502.5878268999729},{"$f":"RD_Daten_Produktivität!C14/RD_Daten_Produktivität!C77","v":1346.0504432338503},{"$f":"RD_Daten_Produktivität!D14/RD_Daten_Produktivität!D77","v":1311.9756811001414},{"$f":"RD_Daten_Produktivität!E14/RD_Daten_Produktivität!E77","v":1390.6126689251391},{"$f":"RD_Daten_Produktivität!F14/RD_Daten_Produktivität!F77","v":1419.131273465922},{"$f":"RD_Daten_Produktivität!G14/RD_Daten_Produktivität!G77","v":1369.4839486490698},{"$f":"RD_Daten_Produktivität!H14/RD_Daten_Produktivität!H77","v":2025.3501179155357},{"$f":"RD_Daten_Produktivität!I14/RD_Daten_Produktivität!I77","v":2513.6317812031607},{"$f":"RD_Daten_Produktivität!J14/RD_Daten_Produktivität!J77","v":2300.4548303740989},{"$f":"RD_Daten_Produktivität!K14/RD_Daten_Produktivität!K77","v":2701.3352396378828},{"$f":"RD_Daten_Produktivität!L14/RD_Daten_Produktivität!L77","v":2858.5614415517225},{"$f":"RD_Daten_Produktivität!M14/RD_Daten_Produktivität!M77","v":2877.416315971459},{"$f":"RD_Daten_Produktivität!N14/RD_Daten_Produktivität!N77","v":3072.560915183888},{"$f":"RD_Daten_Produktivität!O14/RD_Daten_Produktivität!O77","v":3552.1995522590764},{"$f":"RD_Daten_Produktivität!P14/RD_Daten_Produktivität!P77","v":3010.7583164547259},{"$f":"RD_Daten_Produktivität!Q14/RD_Daten_Produktivität!Q77","v":2928.1704568735913},{"$f":"RD_Daten_Produktivität!R14/RD_Daten_Produktivität!R77","v":2906.1425576519914},{"$f":"RD_Daten_Produktivität!S14/RD_Daten_Produktivität!S77","v":2844.2607234468587},{"$f":"RD_Daten_Produktivität!T14/RD_Daten_Produktivität!T77","v":3021.9541652804141},{"$f":"RD_Daten_Produktivität!U14/RD_Daten_Produktivität!U77","v":3161.798137077546},{"$f":"RD_Daten_Produktivität!V14/RD_Daten_Produktivität!V77","v":3247.4375962798586},{"$f":"RD_Daten_Produktivität!W14/RD_Daten_Produktivität!W77","v":3068.8175547588385},{"$f":"RD_Daten_Produktivität!X14/RD_Daten_Produktivität!X77","v":2789.3341375998598}]
["Irland",{"$f":"RD_Daten_Produktivität!B15/RD_Daten_Produktivität!B78","v":76.998626382273983},{"$f":"RD_Daten_Produktivität!C15/RD_Daten_Produktivität!C78","v":77.15057214074443},{"$f":"RD_Daten_Produktivität!D15/RD_Daten_Produktivität!D78","v":80.450991956900523},{"$f":"RD_Daten_Produktivität!E15/RD_Daten_Produktivität!E78","v":68.104263887777407},{"$f":"RD_Daten_Produktivität!F15/RD_Daten_Produktivität!F78","v":71.003269391691489},{"$f":"RD_Daten_Produktivität!G15/RD_Daten_Produktivität!G78","v":65.942844466121997},{"$f":"RD_Daten_Produktivität!H15/RD_Daten_Produktivität!H78","v":62.321057437968733},{"$f":"RD_Daten_Produktivität!I15/RD_Daten_Produktivität!I78","v":59.737631456368973},{"$f":"RD_Daten_Produktivität!J15/RD_Daten_Produktivität!J78","v":58.349998645792496},{"$f":"RD_Daten_Produktivität!K15/RD_Daten_Produktivität!K78","v":66.608908891294831},{"$f":"RD_Daten_Produktivität!L15/RD_Daten_Produktivität!L78","v":55.496958879851626},{"$f":"RD_Daten_Produktivität!M15/RD_Daten_Produktivität!M78","v":51.644160090532644},{"$f":"RD_Daten_Produktivität!N15/RD_Daten_Produktivität!N78","v":51.38997359615464},{"$f":"RD_Daten_Produktivität!O15/RD_Daten_Produktivität!O78","v":51.477190220048435},{"$f":"RD_Daten_Produktivität!P15/RD_Daten_Produktivität!P78","v":51.323416229306723},{"$f":"RD_Daten_Produktivität!Q15/RD_Daten_Produktivität!Q78","v":62.846607669616517},{"$f":"RD_Daten_Produktivität!R15/RD_Daten_Produktivität!R78","v":60.571427703795024},{"$f":"RD_Daten_Produktivität!S15/RD_Daten_Produktivität!S78","v":60.722475254492146},{"$f":"RD_Daten_Produktivität!T15/RD_Daten_Produktivität!T78","v":59.735321690162607},{"$f":"RD_Daten_Produktivität!U15/RD_Daten_Produktivität!U78","v":56.564183098461584},{"$f":"RD_Daten_Produktivität!V15/RD_Daten_Produktivität!V78","v":54.205699472211123},{"$f":"RD_Daten_Produktivität!W15/RD_Daten_Produktivität!W78","v":52.373099039427935},{"$f":"RD_Daten_Produktivität!X15/RD_Daten_Produktivität!X78","v":52.562555908458954}]
["Niederlande",{"$f":"RD_Daten_Produktivität!B16/RD_Daten_Produktivität!B79","v":34.018409348742559},{"$f":"RD_Daten_Produktivität!C16/RD_Daten_Produktivität!C79","v":35.663107975371453},{"$f":"RD_Daten_Produktivität!D16/RD_Daten_Produktivität!D79","v":35.186689668144545},{"$f":"RD_Daten_Produktivität!E16/RD_Daten_Produktivität!E79","v":36.10322335090261},{"$f":"RD_Daten_Produktivität!F16/RD_Daten_Produktivität!F79","v":35.785382936190175},{"$f":"RD_Daten_Produktivität!G16/RD_Daten_Produktivität!G79","v":36.95655879862327},{"$f":"RD_Daten_Produktivität!H16/RD_Daten_Produktivität!H79","v":38.305263354592796},{"$f":"RD_Daten_Produktivität!I16/RD_Daten_Produktivität!I79","v":38.866487343900737},{"$f":"RD_Daten_Produktivität!J16/RD_Daten_Produktivität!J79","v":40.296104338657784},{"$f":"RD_Daten_Produktivität!K16/RD_Daten_Produktivität!K79","v":46.485334354646014},{"$f":"RD_Daten_Produktivität!L16/RD_Daten_Produktivität!L79","v":46.650256743618137},{"$f":"RD_Daten_Produktivität!M16/RD_Daten_Produktivität!M79","v":47.533074672744654},{"$f":"RD_Daten_Produktivität!N16/RD_Daten_Produktivität!N79","v":47.137756353776389},{"$f":"RD_Daten_Produktivität!O16/RD_Daten_Produktivität!O79","v":47.118003926690108},{"$f":"RD_Daten_Produktivität!P16/RD_Daten_Produktivität!P79","v":43.310280135210888},{"$f":"RD_Daten_Produktivität!Q16/RD_Daten_Produktivität!Q79","v":42.421875},{"$f":"RD_Daten_Produktivität!R16/RD_Daten_Produktivität!R79","v":38.46875},{"$f":"RD_Daten_Produktivität!S16/RD_Daten_Produktivität!S79","v":33.303273514293444},{"$f":"RD_Daten_Produktivität!T16/RD_Daten_Produktivität!T79","v":29.913225102764628},{"$f":"RD_Daten_Produktivität!U16/RD_Daten_Produktivität!U79","v":29.63926458461178},{"$f":"RD_Daten_Produktivität!V16/RD_Daten_Produktivität!V79","v":27.166604877364925},{"$f":"RD_Daten_Produktivität!W16/RD_Daten_Produktivität!W79","v":26.813791827009535},{"$f":"RD_Daten_Produktivität!X16/RD_Daten_Produktivität!X79","v":28.204465703041677}]
["Portugal",{"$f":"RD_Daten_Produktivität!B17/RD_Daten_Produktivität!B80","v":23.963610719921348},{"$f":"RD_Daten_Produktivität!C17/RD_Daten_Produktivität!C80","v":24.813635814486513},{"$f":"RD_Daten_Produktivität!D17/RD_Daten_Produktivität!D80","v":25.261820141206634},{"$f":"RD_Daten_Produktivität!E17/RD_Daten_Produktivität!E80","v":26.116412223250073},{"$f":"RD_Daten_Produktivität!F17/RD_Daten_Produktivität!F80","v":27.327433462433078},{"$f":"RD_Daten_Produktivität!G17/RD_Daten_Produktivität!G80","v":28.824652637005606},{"$f":"RD_Daten_Produktivität!H17/RD_Daten_Produktivität!H80","v":28.226843413594615},{"$f":"RD_Daten_Produktivität!I17/RD_Daten_Produktivität!I80","v":28.313745222824025},{"$f":"RD_Daten_Produktivität!J17/RD_Daten_Produktivität!J80","v":27.885480178122744},{"$f":"RD_Daten_Produktivität!K17/RD_Daten_Produktivität!K80","v":29.192512012940167},{"$f":"RD_Daten_Produktivität!L17/RD_Daten_Produktivität!L80","v":29.637068999994366},{"$f":"RD_Daten_Produktivität!M17/RD_Daten_Produktivität!M80","v":30.463024839299536},{"$f":"RD_Daten_Produktivität!N17/RD_Daten_Produktivität!N80","v":32.770640026166014},{"$f":"RD_Daten_Produktivität!O17/RD_Daten_Produktivität!O80","v":32.929615689023265},{"$f":"RD_Daten_Produktivität!P17/RD_Daten_Produktivität!P80","v":31.532404887872097},{"$f":"RD_Daten_Produktivität!Q17/RD_Daten_Produktivität!Q80","v":32.621912602913241},{"$f":"RD_Daten_Produktivität!R17/RD_Daten_Produktivität!R80","v":32.313778723393852},{"$f":"RD_Daten_Produktivität!S17/RD_Daten_Produktivität!S80","v":29.770173591800106},{"$f":"RD_Daten_Produktivität!T17/RD_Daten_Produktivität!T80","v":29.944742006425493},{"$f":"RD_Daten_Produktivität!U17/RD_Daten_Produktivität!U80","v":30.382030388065566},{"$f":"RD_Daten_Produktivität!V17/RD_Daten_Produktivität!V80","v":29.92509620109314},{"$f":"RD_Daten_Produktivität!W17/RD_Daten_Produktivität!W80","v":27.357724599105037},{"$f":"RD_Daten_Produktivität!X17/RD_Daten_Produktivität!X80","v":28.222298089473146}]
["Rumänien",{"$f":"RD_Daten_Produktivität!B18/RD_Daten_Produktivität!B81","v":37.639269308573205},{"$f":"RD_Daten_Produktivität!C18/RD_Daten_Produktivität!C81","v":48.381788632889879},{"$f":"RD_Daten_Produktivität!D18/RD_Daten_Produktivität!D81","v":50.471914246788749},{"$f":"RD_Daten_Produktivität!E18/RD_Daten_Produktivität!E81","v":50.250243099134273},{"$f":"RD_Daten_Produktivität!F18/RD_Daten_Produktivität!F81","v":51.727833531702984},{"$f":"RD_Daten_Produktivität!G18/RD_Daten_Produktivität!G81","v":49.437093648304881},{"$f":"RD_Daten_Produktivität!H18/RD_Daten_Produktivität!H81","v":52.767033419388952},{"$f":"RD_Daten_Produktivität!I18/RD_Daten_Produktivität!I81","v":52.23323197532121},{"$f":"RD_Daten_Produktivität!J18/RD_Daten_Produktivität!J81","v":51.581440578289325},{"$f":"RD_Daten_Produktivität!K18/RD_Daten_Produktivität!K81","v":52.483017018855215},{"$f":"RD_Daten_Produktivität!L18/RD_Daten_Produktivität!L81","v":56.528045635749059},{"$f":"RD_Daten_Produktivität!M18/RD_Daten_Produktivität!M81","v":55.56525243549342},{"$f":"RD_Daten_Produktivität!N18/RD_Daten_Produktivität!N81","v":52.50410202786351},{"$f":"RD_Daten_Produktivität!O18/RD_Daten_Produktivität!O81","v":65.156236653171817},{"$f":"RD_Daten_Produktivität!P18/RD_Daten_Produktivität!P81","v":54.597753575623287},{"$f":"RD_Daten_Produktivität!Q18/RD_Daten_Produktivität!Q81","v":36.339285714285715},{"$f":"RD_Daten_Produktivität!R18/RD_Daten_Produktivität!R81","v":38.011337868480723},{"$f":"RD_Daten_Produktivität!S18/RD_Daten_Produktivität!S81","v":37.846901768491044},{"$f":"RD_Daten_Produktivität!T18/RD_Daten_Produktivität!T81","v":38.939548656426368},{"$f":"RD_Daten_Produktivität!U18/RD_Daten_Produktivität!U81","v":46.975594538904296},{"$f":"RD_Daten_Produktivität!V18/RD_Daten_Produktivität!V81","v":38.562604359999412},{"$f":"RD_Daten_Produktivität!W18/RD_Daten_Produktivität!W81","v":56.526050193177966},{"$f":"RD_Daten_Produktivität!X18/RD_Daten_Produktivität!X81","v":45.46879758642978}]
["Slowenien",{"$f":"RD_Daten_Produktivität!B19/RD_Daten_Produktivität!B82","v":28.561960694725492},{"$f":"RD_Daten_Produktivität!C19/RD_Daten_Produktivität!C82","v":29.130606741183673},{"$f":"RD_Daten_Produktivität!D19/RD_Daten_Produktivität!D82","v":31.493371378331346},{"$f":"RD_Daten_Produktivität!E19/RD_Daten_Produktivität!E82","v":30.140996818981595},{"$f":"RD_Daten_Produktivität!F19/RD_Daten_Produktivität!F82","v":30.861688467760608},{"$f":"RD_Daten_Produktivität!G19/RD_Daten_Produktivität!G82","v":31.553897409944547},{"$f":"RD_Daten_Produktivität!H19/RD_Daten_Produktivität!H82","v":27.428141253306396},{"$f":"RD_Daten_Produktivität!I19/RD_Daten_Produktivität!I82","v":28.30460080323812},{"$f":"RD_Daten_Produktivität!J19/RD_Daten_Produktivität!J82","v":28.482265483535858},{"$f":"RD_Daten_Produktivität!K19/RD_Daten_Produktivität!K82","v":27.153371690215415},{"$f":"RD_Daten_Produktivität!L19/RD_Daten_Produktivität!L82","v":26.085442077388088},{"$f":"RD_Daten_Produktivität!M19/RD_Daten_Produktivität!M82","v":27.889988247313426},{"$f":"RD_Daten_Produktivität!N19/RD_Daten_Produktivität!N82","v":27.762307258694008},{"$f":"RD_Daten_Produktivität!O19/RD_Daten_Produktivität!O82","v":29.102658197630713},{"$f":"RD_Daten_Produktivität!P19/RD_Daten_Produktivität!P82","v":28.221113459163504},{"$f":"RD_Daten_Produktivität!Q19/RD_Daten_Produktivität!Q82","v":28.32167832167832},{"$f":"RD_Daten_Produktivität!R19/RD_Daten_Produktivität!R82","v":29.637377963737798},{"$f":"RD_Daten_Produktivität!S19/RD_Daten_Produktivität!S82","v":28.089887233791316},{"$f":"RD_Daten_Produktivität!T19/RD_Daten_Produktivität!T82","v":26.417336512851854},{"$f":"RD_Daten_Produktivität!U19/RD_Daten_Produktivität!U82","v":27.130990615936412},{"$f":"RD_Daten_Produktivität!V19/RD_Daten_Produktivität!V82","v":26.108802686710288},{"$f":"RD_Daten_Produktivität!W19/RD_Daten_Produktivität!W82","v":26.15558910851616},{"$f":"RD_Daten_Produktivität!X19/RD_Daten_Produktivität!X82","v":24.611500692650466}]
["Slowakei",{"$f":"RD_Daten_Produktivität!B20/RD_Daten_Produktivität!B83","v":12.691540144489881},{"$f":"RD_Daten_Produktivität!C20/RD_Daten_Produktivität!C83","v":15.32753733565735},{"$f":"RD_Daten_Produktivität!D20/RD_Daten_Produktivität!D83","v":17.510499817392006},{"$f":"RD_Daten_Produktivität!E20/RD_Daten_Produktivität!E83","v":18.911780868185826},{"$f":"RD_Daten_Produktivität!F20/RD_Daten_Produktivität!F83","v":20.471211139960204},{"$f":"RD_Daten_Produktivität!G20/RD_Daten_Produktivität!G83","v":15.93420513853844},{"$f":"RD_Daten_Produktivität!H20/RD_Daten_Produktivität!H83","v":15.969233463296995},{"$f":"RD_Daten_Produktivität!I20/RD_Daten_Produktivität!I83","v":14.773118504612958},{"$f":"RD_Daten_Produktivität!J20/RD_Daten_Produktivität!J83","v":16.159957444899671},{"$f":"RD_Daten_Produktivität!K20/RD_Daten_Produktivität!K83","v":14.404855179426866},{"$f":"RD_Daten_Produktivität!L20/RD_Daten_Produktivität!L83","v":20.383801882285908},{"$f":"RD_Daten_Produktivität!M20/RD_Daten_Produktivität!M83","v":20.858888851386837},{"$f":"RD_Daten_Produktivität!N20/RD_Daten_Produktivität!N83","v":21.508991367518004},{"$f":"RD_Daten_Produktivität!O20/RD_Daten_Produktivität!O83","v":19.195032914208465},{"$f":"RD_Daten_Produktivität!P20/RD_Daten_Produktivität!P83","v":16.713318578694931},{"$f":"RD_Daten_Produktivität!Q20/RD_Daten_Produktivität!Q83","v":15.871505056513982},{"$f":"RD_Daten_Produktivität!R20/RD_Daten_Produktivität!R83","v":15.738602543804209},{"$f":"RD_Daten_Produktivität!S20/RD_Daten_Produktivität!S83","v":16.637857367976913},{"$f":"RD_Daten_Produktivität!T20/RD_Daten_Produktivität!T83","v":16.343441074636313},{"$f":"RD_Daten_Produktivität!U20/RD_Daten_Produktivität!U83","v":17.086719948649588},{"$f":"RD_Daten_Produktivität!V20/RD_Daten_Produktivität!V83","v":18.001942590889207},{"$f":"RD_Daten_Produktivität!W20/RD_Daten_Produktivität!W83","v":18.999741806407904},{"$f":"RD_Daten_Produktivität!X20/RD_Daten_Produktivität!X83","v":20.053847761098627}]
["Großbritannien",{"$f":"RD_Daten_Produktivität!B21/RD_Daten_Produktivität!B84","v":29.454864995320932},{"$f":"RD_Daten_Produktivität!C21/RD_Daten_Produktivität!C84","v":30.283958752512238},{"$f":"RD_Daten_Produktivität!D21/RD_Daten_Produktivität!D84","v":33.214021238988025},{"$f":"RD_Daten_Produktivität!E21/RD_Daten_Produktivität!E84","v":33.983538245174699},{"$f":"RD_Daten_Produktivität!F21/RD_Daten_Produktivität!F84","v":33.698721571626265},{"$f":"RD_Daten_Produktivität!G21/RD_Daten_Produktivität!G84","v":37.630140664637814},{"$f":"RD_Daten_Produktivität!H21/RD_Daten_Produktivität!H84","v":38.561032898003937},{"$f":"RD_Daten_Produktivität!I21/RD_Daten_Produktivität!I84","v":40.100749128564168},{"$f":"RD_Daten_Produktivität!J21/RD_Daten_Produktivität!J84","v":48.448837476597355},{"$f":"RD_Daten_Produktivität!K21/RD_Daten_Produktivität!K84","v":56.788877309125454},{"$f":"RD_Daten_Produktivität!L21/RD_Daten_Produktivität!L84","v":57.10146388815479},{"$f":"RD_Daten_Produktivität!M21/RD_Daten_Produktivität!M84","v":53.477746903565745},{"$f":"RD_Daten_Produktivität!N21/RD_Daten_Produktivität!N84","v":50.368393757258218},{"$f":"RD_Daten_Produktivität!O21/RD_Daten_Produktivität!O84","v":43.665287972753568},{"$f":"RD_Daten_Produktivität!P21/RD_Daten_Produktivität!P84","v":35.32804576604174},{"$f":"RD_Daten_Produktivität!Q21/RD_Daten_Produktivität!Q84","v":40.685937141546226},{"$f":"RD_Daten_Produktivität!R21/RD_Daten_Produktivität!R84","v":42.156524406610679},{"$f":"RD_Daten_Produktivität!S21/RD_Daten_Produktivität!S84","v":46.191775211920401},{"$f":"RD_Daten_Produktivität!T21/RD_Daten_Produktivität!T84","v":47.123261742446623},{"$f":"RD_Daten_Produktivität!U21/RD_Daten_Produktivität!U84","v":48.043610076683045},{"$f":"RD_Daten_Produktivität!V21/RD_Daten_Produktivität!V84","v":47.175941676872093},{"$f":"RD_Daten_Produktivität!W21/RD_Daten_Produktivität!W84","v":48.092064445461794}]
[]
["PW (preisbereinigt)/Erwerbstätige"]
[null,1995,{"$f":"B45+1","v":1996},{"$f":"C45+1","v":1997},1998,1999,2000,2001,2002,2003,2004,2005,2006,2007,2008,2009,2010,2011,2012,2013,2014,2015,2016,2017]
["Österreich",{"$f":"RD_Daten_Produktivität!B25/RD_Daten_Produktivität!B46","v":24.386288505205048},{"$f":"RD_Daten_Produktivität!C25/RD_Daten_Produktivität!C46","v":29.930925543523831},{"$f":"RD_Daten_Produktivität!D25/RD_Daten_Produktivität!D46","v":32.609196224992075},{"$f":"RD_Daten_Produktivität!E25/RD_Daten_Produktivität!E46","v":37.214880851180084},{"$f":"RD_Daten_Produktivität!F25/RD_Daten_Produktivität!F46","v":40.975281300711394},{"$f":"RD_Daten_Produktivität!G25/RD_Daten_Produktivität!G46","v":46.624460058994131},{"$f":"RD_Daten_Produktivität!H25/RD_Daten_Produktivität!H46","v":46.449973292927979},{"$f":"RD_Daten_Produktivität!I25/RD_Daten_Produktivität!I46","v":47.604516007734375},{"$f":"RD_Daten_Produktivität!J25/RD_Daten_Produktivität!J46","v":52.572405194411864},{"$f":"RD_Daten_Produktivität!K25/RD_Daten_Produktivität!K46","v":54.846296732798919},{"$f":"RD_Daten_Produktivität!L25/RD_Daten_Produktivität!L46","v":69.517990241820883},{"$f":"RD_Daten_Produktivität!M25/RD_Daten_Produktivität!M46","v":77.382988075135145},{"$f":"RD_Daten_Produktivität!N25/RD_Daten_Produktivität!N46","v":82.156963012401349},{"$f":"RD_Daten_Produktivität!O25/RD_Daten_Produktivität!O46","v":84.525394375267567},{"$f":"RD_Daten_Produktivität!P25/RD_Daten_Produktivität!P46","v":86.64381530120518},{"$f":"RD_Daten_Produktivität!Q25/RD_Daten_Produktivität!Q46","v":92.050333086602507},{"$f":"RD_Daten_Produktivität!R25/RD_Daten_Produktivität!R46","v":91.428447430430083},{"$f":"RD_Daten_Produktivität!S25/RD_Daten_Produktivität!S46","v":92.238506527379897},{"$f":"RD_Daten_Produktivität!T25/RD_Daten_Produktivität!T46","v":94.89193924226015},{"$f":"RD_Daten_Produktivität!U25/RD_Daten_Produktivität!U46","v":97.384036278023061},{"$f":"RD_Daten_Produktivität!V25/RD_Daten_Produktivität!V46","v":95.973182752315054},{"$f":"RD_Daten_Produktivität!W25/RD_Daten_Produktivität!W46","v":101.47212615893066},{"$f":"RD_Daten_Produktivität!X25/RD_Daten_Produktivität!X46","v":103.6702612153517}]
["Belgien",{"$f":"RD_Daten_Produktivität!B26/RD_Daten_Produktivität!B47","v":57.170657975532578},{"$f":"RD_Daten_Produktivität!C26/RD_Daten_Produktivität!C47","v":57.241662928069381},{"$f":"RD_Daten_Produktivität!D26/RD_Daten_Produktivität!D47","v":63.277276246910837},{"$f":"RD_Daten_Produktivität!E26/RD_Daten_Produktivität!E47","v":72.030861974180581},{"$f":"RD_Daten_Produktivität!F26/RD_Daten_Produktivität!F47","v":71.723580987540373},{"$f":"RD_Daten_Produktivität!G26/RD_Daten_Produktivität!G47","v":73.599074583278025},{"$f":"RD_Daten_Produktivität!H26/RD_Daten_Produktivität!H47","v":68.370787044427971},{"$f":"RD_Daten_Produktivität!I26/RD_Daten_Produktivität!I47","v":68.092034791550617},{"$f":"RD_Daten_Produktivität!J26/RD_Daten_Produktivität!J47","v":68.916436210330886},{"$f":"RD_Daten_Produktivität!K26/RD_Daten_Produktivität!K47","v":72.375535687255422},{"$f":"RD_Daten_Produktivität!L26/RD_Daten_Produktivität!L47","v":74.775840629106241},{"$f":"RD_Daten_Produktivität!M26/RD_Daten_Produktivität!M47","v":78.782525563222208},{"$f":"RD_Daten_Produktivität!N26/RD_Daten_Produktivität!N47","v":85.195914507076992},{"$f":"RD_Daten_Produktivität!O26/RD_Daten_Produktivität!O47","v":88.520714085237756},{"$f":"RD_Daten_Produktivität!P26/RD_Daten_Produktivität!P47","v":87.495679615297931},{"$f":"RD_Daten_Produktivität!Q26/RD_Daten_Produktivität!Q47","v":90.981175662597948},{"$f":"RD_Daten_Produktivität!R26/RD_Daten_Produktivität!R47","v":95.363176358374957},{"$f":"RD_Daten_Produktivität!S26/RD_Daten_Produktivität!S47","v":98.943988728654531},{"$f":"RD_Daten_Produktivität!T26/RD_Daten_Produktivität!T47","v":97.38280713735071},{"$f":"RD_Daten_Produktivität!U26/RD_Daten_Produktivität!U47","v":99.436847517042779},{"$f":"RD_Daten_Produktivität!V26/RD_Daten_Produktivität!V47","v":102.93002800679361},{"$f":"RD_Daten_Produktivität!W26/RD_Daten_Produktivität!W47","v":103.51833256234652}]
["Tschechien",{"$f":"RD_Daten_Produktivität!B27/RD_Daten_Produktivität!B48","v":358.18982330072686},{"$f":"RD_Daten_Produktivität!C27/RD_Daten_Produktivität!C48","v":374.79820802988831},{"$f":"RD_Daten_Produktivität!D27/RD_Daten_Produktivität!D48","v":362.80560737297623},{"$f":"RD_Daten_Produktivität!E27/RD_Daten_Produktivität!E48","v":374.37941019000175},{"$f":"RD_Daten_Produktivität!F27/RD_Daten_Produktivität!F48","v":379.34676643908449},{"$f":"RD_Daten_Produktivität!G27/RD_Daten_Produktivität!G48","v":399.37394984602815},{"$f":"RD_Daten_Produktivität!H27/RD_Daten_Produktivität!H48","v":449.77706195053196},{"$f":"RD_Daten_Produktivität!I27/RD_Daten_Produktivität!I48","v":465.94831389857728},{"$f":"RD_Daten_Produktivität!J27/RD_Daten_Produktivität!J48","v":553.74812253948062},{"$f":"RD_Daten_Produktivität!K27/RD_Daten_Produktivität!K48","v":572.87852327788994},{"$f":"RD_Daten_Produktivität!L27/RD_Daten_Produktivität!L48","v":591.23944839431272},{"$f":"RD_Daten_Produktivität!M27/RD_Daten_Produktivität!M48","v":695.67053487911971},{"$f":"RD_Daten_Produktivität!N27/RD_Daten_Produktivität!N48","v":680.12236661120266},{"$f":"RD_Daten_Produktivität!O27/RD_Daten_Produktivität!O48","v":599.25130292067729},{"$f":"RD_Daten_Produktivität!P27/RD_Daten_Produktivität!P48","v":678.19407221088238},{"$f":"RD_Daten_Produktivität!Q27/RD_Daten_Produktivität!Q48","v":694.90574506283656},{"$f":"RD_Daten_Produktivität!R27/RD_Daten_Produktivität!R48","v":733.55094427605502},{"$f":"RD_Daten_Produktivität!S27/RD_Daten_Produktivität!S48","v":767.39056275234157},{"$f":"RD_Daten_Produktivität!T27/RD_Daten_Produktivität!T48","v":719.35739119535674},{"$f":"RD_Daten_Produktivität!U27/RD_Daten_Produktivität!U48","v":722.68065812814086},{"$f":"RD_Daten_Produktivität!V27/RD_Daten_Produktivität!V48","v":752.31217963909012},{"$f":"RD_Daten_Produktivität!W27/RD_Daten_Produktivität!W48","v":769.98433146259379},{"$f":"RD_Daten_Produktivität!X27/RD_Daten_Produktivität!X48","v":749.76232631372659}]
["Dänemark",{"$f":"RD_Daten_Produktivität!B28/RD_Daten_Produktivität!B49","v":480.77924094002628},{"$f":"RD_Daten_Produktivität!C28/RD_Daten_Produktivität!C49","v":504.30999440624817},{"$f":"RD_Daten_Produktivität!D28/RD_Daten_Produktivität!D49","v":522.7397517480365},{"$f":"RD_Daten_Produktivität!E28/RD_Daten_Produktivität!E49","v":524.09010544704927},{"$f":"RD_Daten_Produktivität!F28/RD_Daten_Produktivität!F49","v":536.55713658881257},{"$f":"RD_Daten_Produktivität!G28/RD_Daten_Produktivität!G49","v":553.80101587674153},{"$f":"RD_Daten_Produktivität!H28/RD_Daten_Produktivität!H49","v":564.04921531719526},{"$f":"RD_Daten_Produktivität!I28/RD_Daten_Produktivität!I49","v":554.50036706498565},{"$f":"RD_Daten_Produktivität!J28/RD_Daten_Produktivität!J49","v":552.70302380215162},{"$f":"RD_Daten_Produktivität!K28/RD_Daten_Produktivität!K49","v":544.78558272786859},{"$f":"RD_Daten_Produktivität!L28/RD_Daten_Produktivität!L49","v":613.6465591519792},{"$f":"RD_Daten_Produktivität!M28/RD_Daten_Produktivität!M49","v":599.1799087445512},{"$f":"RD_Daten_Produktivität!N28/RD_Daten_Produktivität!N49","v":602.49011568231572},{"$f":"RD_Daten_Produktivität!O28/RD_Daten_Produktivität!O49","v":592.71830728715531},{"$f":"RD_Daten_Produktivität!P28/RD_Daten_Produktivität!P49","v":611.50755524295175},{"$f":"RD_Daten_Produktivität!Q28/RD_Daten_Produktivität!Q49","v":569.54838709677415},{"$f":"RD_Daten_Produktivität!R28/RD_Daten_Produktivität!R49","v":545.08823529411768},{"$f":"RD_Daten_Produktivität!S28/RD_Daten_Produktivität!S49","v":564.70299149473794},{"$f":"RD_Daten_Produktivität!T28/RD_Daten_Produktivität!T49","v":511.46237033202317},{"$f":"RD_Daten_Produktivität!U28/RD_Daten_Produktivität!U49","v":501.96732198176392},{"$f":"RD_Daten_Produktivität!V28/RD_Daten_Produktivität!V49","v":525.86697341814602},{"$f":"RD_Daten_Produktivität!W28/RD_Daten_Produktivität!W49","v":515.62609203952491},{"$f":"RD_Daten_Produktivität!X28/RD_Daten_Produktivität!X49","v":604.30019092168993}]
["Estland",{"$f":"RD_Daten_Produktivität!B29/RD_Daten_Produktivität!B50","v":4.7304119556040103},{"$f":"RD_Daten_Produktivität!C29/RD_Daten_Produktivität!C50","v":5.5115314537250351},{"$f":"RD_Daten_Produktivität!D29/RD_Daten_Produktivität!D50","v":5.9712968397869588},{"$f":"RD_Daten_Produktivität!E29/RD_Daten_Produktivität!E50","v":7.3160122132183245},{"$f":"RD_Daten_Produktivität!F29/RD_Daten_Produktivität!F50","v":7.1545097753710332},{"$f":"RD_Daten_Produktivität!G29/RD_Daten_Produktivität!G50","v":7.8344342091502366},{"$f":"RD_Daten_Produktivität!H29/RD_Daten_Produktivität!H50","v":8.9816505709578554},{"$f":"RD_Daten_Produktivität!I29/RD_Daten_Produktivität!I50","v":10.406884902736088},{"$f":"RD_Daten_Produktivität!J29/RD_Daten_Produktivität!J50","v":11.124807154865188},{"$f":"RD_Daten_Produktivität!K29/RD_Daten_Produktivität!K50","v":13.611321806611281},{"$f":"RD_Daten_Produktivität!L29/RD_Daten_Produktivität!L50","v":17.492581378152707},{"$f":"RD_Daten_Produktivität!M29/RD_Daten_Produktivität!M50","v":17.465222973528611},{"$f":"RD_Daten_Produktivität!N29/RD_Daten_Produktivität!N50","v":20.596991322476612},{"$f":"RD_Daten_Produktivität!O29/RD_Daten_Produktivität!O50","v":20.297792792674713},{"$f":"RD_Daten_Produktivität!P29/RD_Daten_Produktivität!P50","v":18.684373524177868},{"$f":"RD_Daten_Produktivität!Q29/RD_Daten_Produktivität!Q50","v":17.927710843373493},{"$f":"RD_Daten_Produktivität!R29/RD_Daten_Produktivität!R50","v":19.258311625489235},{"$f":"RD_Daten_Produktivität!S29/RD_Daten_Produktivität!S50","v":19.299670436049237},{"$f":"RD_Daten_Produktivität!T29/RD_Daten_Produktivität!T50","v":20.964525286592441},{"$f":"RD_Daten_Produktivität!U29/RD_Daten_Produktivität!U50","v":19.248698183044414},{"$f":"RD_Daten_Produktivität!V29/RD_Daten_Produktivität!V50","v":22.251477678004267},{"$f":"RD_Daten_Produktivität!W29/RD_Daten_Produktivität!W50","v":25.280938719959078},{"$f":"RD_Daten_Produktivität!X29/RD_Daten_Produktivität!X50","v":25.418470808580782}]
["Frankreich",{"$f":"RD_Daten_Produktivität!B30/RD_Daten_Produktivität!B51","v":35.605790115677358},{"$f":"RD_Daten_Produktivität!C30/RD_Daten_Produktivität!C51","v":36.950077757290941},{"$f":"RD_Daten_Produktivität!D30/RD_Daten_Produktivität!D51","v":41.900728337523844},{"$f":"RD_Daten_Produktivität!E30/RD_Daten_Produktivität!E51","v":47.98682079818802},{"$f":"RD_Daten_Produktivität!F30/RD_Daten_Produktivität!F51","v":57.158222319811422},{"$f":"RD_Daten_Produktivität!G30/RD_Daten_Produktivität!G51","v":52.455473872519363},{"$f":"RD_Daten_Produktivität!H30/RD_Daten_Produktivität!H51","v":50.424198524096717},{"$f":"RD_Daten_Produktivität!I30/RD_Daten_Produktivität!I51","v":49.244260716472354},{"$f":"RD_Daten_Produktivität!J30/RD_Daten_Produktivität!J51","v":47.877508570562121},{"$f":"RD_Daten_Produktivität!K30/RD_Daten_Produktivität!K51","v":49.175912699759188},{"$f":"RD_Daten_Produktivität!L30/RD_Daten_Produktivität!L51","v":50.117695516084837},{"$f":"RD_Daten_Produktivität!M30/RD_Daten_Produktivität!M51","v":48.821484313319147},{"$f":"RD_Daten_Produktivität!N30/RD_Daten_Produktivität!N51","v":50.567438657984454},{"$f":"RD_Daten_Produktivität!O30/RD_Daten_Produktivität!O51","v":50.548848760572291},{"$f":"RD_Daten_Produktivität!P30/RD_Daten_Produktivität!P51","v":50.972828532601213},{"$f":"RD_Daten_Produktivität!Q30/RD_Daten_Produktivität!Q51","v":50.196787148594375},{"$f":"RD_Daten_Produktivität!R30/RD_Daten_Produktivität!R51","v":49.384},{"$f":"RD_Daten_Produktivität!S30/RD_Daten_Produktivität!S51","v":49.425134569498439},{"$f":"RD_Daten_Produktivität!T30/RD_Daten_Produktivität!T51","v":48.18269298722474},{"$f":"RD_Daten_Produktivität!U30/RD_Daten_Produktivität!U51","v":47.630626707711485},{"$f":"RD_Daten_Produktivität!V30/RD_Daten_Produktivität!V51","v":45.709623377967759},{"$f":"RD_Daten_Produktivität!W30/RD_Daten_Produktivität!W51","v":47.086793411051701}]
["Griechenland",{"$f":"RD_Daten_Produktivität!B31/RD_Daten_Produktivität!B52","v":23.722956219804715},{"$f":"RD_Daten_Produktivität!C31/RD_Daten_Produktivität!C52","v":23.811643146193365},{"$f":"RD_Daten_Produktivität!D31/RD_Daten_Produktivität!D52","v":28.852799157893902},{"$f":"RD_Daten_Produktivität!E31/RD_Daten_Produktivität!E52","v":30.036648190957674},{"$f":"RD_Daten_Produktivität!F31/RD_Daten_Produktivität!F52","v":39.323342378254523},{"$f":"RD_Daten_Produktivität!G31/RD_Daten_Produktivität!G52","v":40.471645451654588},{"$f":"RD_Daten_Produktivität!H31/RD_Daten_Produktivität!H52","v":45.744143776869912},{"$f":"RD_Daten_Produktivität!I31/RD_Daten_Produktivität!I52","v":48.775954872014324},{"$f":"RD_Daten_Produktivität!J31/RD_Daten_Produktivität!J52","v":47.086611043412496},{"$f":"RD_Daten_Produktivität!K31/RD_Daten_Produktivität!K52","v":48.697516912474129},{"$f":"RD_Daten_Produktivität!L31/RD_Daten_Produktivität!L52","v":50.095553546312196},{"$f":"RD_Daten_Produktivität!M31/RD_Daten_Produktivität!M52","v":54.103460990653147},{"$f":"RD_Daten_Produktivität!N31/RD_Daten_Produktivität!N52","v":63.590784385560234},{"$f":"RD_Daten_Produktivität!O31/RD_Daten_Produktivität!O52","v":64.789565644697788},{"$f":"RD_Daten_Produktivität!P31/RD_Daten_Produktivität!P52","v":63.013946593030376},{"$f":"RD_Daten_Produktivität!Q31/RD_Daten_Produktivität!Q52","v":56.541200406917596},{"$f":"RD_Daten_Produktivität!R31/RD_Daten_Produktivität!R52","v":58.433942057871704},{"$f":"RD_Daten_Produktivität!S31/RD_Daten_Produktivität!S52","v":51.947529388980996},{"$f":"RD_Daten_Produktivität!T31/RD_Daten_Produktivität!T52","v":49.749250006255089},{"$f":"RD_Daten_Produktivität!U31/RD_Daten_Produktivität!U52","v":49.740435527156983},{"$f":"RD_Daten_Produktivität!V31/RD_Daten_Produktivität!V52","v":47.063007239856169},{"$f":"RD_Daten_Produktivität!W31/RD_Daten_Produktivität!W52","v":46.27085975469916},{"$f":"RD_Daten_Produktivität!X31/RD_Daten_Produktivität!X52","v":45.458032598685172}]
["Italien",{"$f":"RD_Daten_Produktivität!B32/RD_Daten_Produktivität!B53","v":44.434333492666021},{"$f":"RD_Daten_Produktivität!C32/RD_Daten_Produktivität!C53","v":44.842778676496167},{"$f":"RD_Daten_Produktivität!D32/RD_Daten_Produktivität!D53","v":49.853687309197475},{"$f":"RD_Daten_Produktivität!E32/RD_Daten_Produktivität!E53","v":52.441577637353937},{"$f":"RD_Daten_Produktivität!F32/RD_Daten_Produktivität!F53","v":59.950331056744382},{"$f":"RD_Daten_Produktivität!G32/RD_Daten_Produktivität!G53","v":62.297776520677061},{"$f":"RD_Daten_Produktivität!H32/RD_Daten_Produktivität!H53","v":72.248156937321625},{"$f":"RD_Daten_Produktivität!I32/RD_Daten_Produktivität!I53","v":68.039825952677447},{"$f":"RD_Daten_Produktivität!J32/RD_Daten_Produktivität!J53","v":70.355134526383353},{"$f":"RD_Daten_Produktivität!K32/RD_Daten_Produktivität!K53","v":68.74484572293585},{"$f":"RD_Daten_Produktivität!L32/RD_Daten_Produktivität!L53","v":71.858618645097636},{"$f":"RD_Daten_Produktivität!M32/RD_Daten_Produktivität!M53","v":72.778159738073086},{"$f":"RD_Daten_Produktivität!N32/RD_Daten_Produktivität!N53","v":78.076297781427343},{"$f":"RD_Daten_Produktivität!O32/RD_Daten_Produktivität!O53","v":73.066445759203262},{"$f":"RD_Daten_Produktivität!P32/RD_Daten_Produktivität!P53","v":71.176175106458004},{"$f":"RD_Daten_Produktivität!Q32/RD_Daten_Produktivität!Q53","v":73.542388331814038},{"$f":"RD_Daten_Produktivität!R32/RD_Daten_Produktivität!R53","v":70.090995260663504},{"$f":"RD_Daten_Produktivität!S32/RD_Daten_Produktivität!S53","v":65.252900677646878},{"$f":"RD_Daten_Produktivität!T32/RD_Daten_Produktivität!T53","v":64.940410153381407},{"$f":"RD_Daten_Produktivität!U32/RD_Daten_Produktivität!U53","v":62.743099045228782},{"$f":"RD_Daten_Produktivität!V32/RD_Daten_Produktivität!V53","v":66.91340622316639}]
["Spanien"]
["Finnland",{"$f":"RD_Daten_Produktivität!B34/RD_Daten_Produktivität!B55","v":47.083682280362346},{"$f":"RD_Daten_Produktivität!C34/RD_Daten_Produktivität!C55","v":48.951702228413346},{"$f":"RD_Daten_Produktivität!D34/RD_Daten_Produktivität!D55","v":52.42102006077689},{"$f":"RD_Daten_Produktivität!E34/RD_Daten_Produktivität!E55","v":53.55764430578224},{"$f":"RD_Daten_Produktivität!F34/RD_Daten_Produktivität!F55","v":58.925406567955434},{"$f":"RD_Daten_Produktivität!G34/RD_Daten_Produktivität!G55","v":61.695632219243663},{"$f":"RD_Daten_Produktivität!H34/RD_Daten_Produktivität!H55","v":61.314119722126577},{"$f":"RD_Daten_Produktivität!I34/RD_Daten_Produktivität!I55","v":61.722852283136895},{"$f":"RD_Daten_Produktivität!J34/RD_Daten_Produktivität!J55","v":63.282754658475319},{"$f":"RD_Daten_Produktivität!K34/RD_Daten_Produktivität!K55","v":66.029795780647277},{"$f":"RD_Daten_Produktivität!L34/RD_Daten_Produktivität!L55","v":66.130741620977815},{"$f":"RD_Daten_Produktivität!M34/RD_Daten_Produktivität!M55","v":65.441017926230472},{"$f":"RD_Daten_Produktivität!N34/RD_Daten_Produktivität!N55","v":65.31538760115501},{"$f":"RD_Daten_Produktivität!O34/RD_Daten_Produktivität!O55","v":65.637963187232515},{"$f":"RD_Daten_Produktivität!P34/RD_Daten_Produktivität!P55","v":60.651137192597155},{"$f":"RD_Daten_Produktivität!Q34/RD_Daten_Produktivität!Q55","v":64.345991561181435},{"$f":"RD_Daten_Produktivität!R34/RD_Daten_Produktivität!R55","v":70.358744394618839},{"$f":"RD_Daten_Produktivität!S34/RD_Daten_Produktivität!S55","v":73.856074523557695},{"$f":"RD_Daten_Produktivität!T34/RD_Daten_Produktivität!T55","v":70.388743549089853},{"$f":"RD_Daten_Produktivität!U34/RD_Daten_Produktivität!U55","v":65.625922994889279},{"$f":"RD_Daten_Produktivität!V34/RD_Daten_Produktivität!V55","v":56.494073793465276},{"$f":"RD_Daten_Produktivität!W34/RD_Daten_Produktivität!W55","v":56.34320874414319},{"$f":"RD_Daten_Produktivität!X34/RD_Daten_Produktivität!X55","v":56.477576566676603}]
["Ungarn",{"$f":"RD_Daten_Produktivität!B35/RD_Daten_Produktivität!B56","v":1967.4173936500504},{"$f":"RD_Daten_Produktivität!C35/RD_Daten_Produktivität!C56","v":1799.3297920836399},{"$f":"RD_Daten_Produktivität!D35/RD_Daten_Produktivität!D56","v":1747.5618058585674},{"$f":"RD_Daten_Produktivität!E35/RD_Daten_Produktivität!E56","v":1867.7546334066656},{"$f":"RD_Daten_Produktivität!F35/RD_Daten_Produktivität!F56","v":1945.9962696980353},{"$f":"RD_Daten_Produktivität!G35/RD_Daten_Produktivität!G56","v":1850.3876484403634},{"$f":"RD_Daten_Produktivität!H35/RD_Daten_Produktivität!H56","v":2736.6646144268266},{"$f":"RD_Daten_Produktivität!I35/RD_Daten_Produktivität!I56","v":3490.1506935944526},{"$f":"RD_Daten_Produktivität!J35/RD_Daten_Produktivität!J56","v":3147.7847042044709},{"$f":"RD_Daten_Produktivität!K35/RD_Daten_Produktivität!K56","v":3843.5146205023825},{"$f":"RD_Daten_Produktivität!L35/RD_Daten_Produktivität!L56","v":4119.7758294322475},{"$f":"RD_Daten_Produktivität!M35/RD_Daten_Produktivität!M56","v":4074.2324901649808},{"$f":"RD_Daten_Produktivität!N35/RD_Daten_Produktivität!N56","v":4367.2202872500666},{"$f":"RD_Daten_Produktivität!O35/RD_Daten_Produktivität!O56","v":4939.6524897664322},{"$f":"RD_Daten_Produktivität!P35/RD_Daten_Produktivität!P56","v":4220.8663284592276},{"$f":"RD_Daten_Produktivität!Q35/RD_Daten_Produktivität!Q56","v":4200},{"$f":"RD_Daten_Produktivität!R35/RD_Daten_Produktivität!R56","v":4185.7113144758741},{"$f":"RD_Daten_Produktivität!S35/RD_Daten_Produktivität!S56","v":4090.9343248870082},{"$f":"RD_Daten_Produktivität!T35/RD_Daten_Produktivität!T56","v":4309.3867287374942},{"$f":"RD_Daten_Produktivität!U35/RD_Daten_Produktivität!U56","v":4578.0463620757791},{"$f":"RD_Daten_Produktivität!V35/RD_Daten_Produktivität!V56","v":4772.9730378242975},{"$f":"RD_Daten_Produktivität!W35/RD_Daten_Produktivität!W56","v":4616.0209586081992},{"$f":"RD_Daten_Produktivität!X35/RD_Daten_Produktivität!X56","v":4380.539110666954}]
["Irland"]
["Niederlande",{"$f":"RD_Daten_Produktivität!B37/RD_Daten_Produktivität!B58","v":59.528664982680745},{"$f":"RD_Daten_Produktivität!C37/RD_Daten_Produktivität!C58","v":62.451568316115264},{"$f":"RD_Daten_Produktivität!D37/RD_Daten_Produktivität!D58","v":63.035383725053308},{"$f":"RD_Daten_Produktivität!E37/RD_Daten_Produktivität!E58","v":65.515664018692732},{"$f":"RD_Daten_Produktivität!F37/RD_Daten_Produktivität!F58","v":65.47536251736588},{"$f":"RD_Daten_Produktivität!G37/RD_Daten_Produktivität!G58","v":66.332155211935586},{"$f":"RD_Daten_Produktivität!H37/RD_Daten_Produktivität!H58","v":67.049904670490477},{"$f":"RD_Daten_Produktivität!I37/RD_Daten_Produktivität!I58","v":69.615060245013879},{"$f":"RD_Daten_Produktivität!J37/RD_Daten_Produktivität!J58","v":72.283721875455754},{"$f":"RD_Daten_Produktivität!K37/RD_Daten_Produktivität!K58","v":79.435341723346397},{"$f":"RD_Daten_Produktivität!L37/RD_Daten_Produktivität!L58","v":80.183714483645844},{"$f":"RD_Daten_Produktivität!M37/RD_Daten_Produktivität!M58","v":81.809881551452918},{"$f":"RD_Daten_Produktivität!N37/RD_Daten_Produktivität!N58","v":83.069413474645671},{"$f":"RD_Daten_Produktivität!O37/RD_Daten_Produktivität!O58","v":81.717735717364562},{"$f":"RD_Daten_Produktivität!P37/RD_Daten_Produktivität!P58","v":76.842868936532156},{"$f":"RD_Daten_Produktivität!Q37/RD_Daten_Produktivität!Q58","v":74.608695652173907},{"$f":"RD_Daten_Produktivität!R37/RD_Daten_Produktivität!R58","v":73.14492753623189},{"$f":"RD_Daten_Produktivität!S37/RD_Daten_Produktivität!S58","v":69.34025774187343},{"$f":"RD_Daten_Produktivität!T37/RD_Daten_Produktivität!T58","v":66.058116484771617},{"$f":"RD_Daten_Produktivität!U37/RD_Daten_Produktivität!U58","v":69.5828357252811},{"$f":"RD_Daten_Produktivität!V37/RD_Daten_Produktivität!V58","v":69.233165354658738},{"$f":"RD_Daten_Produktivität!W37/RD_Daten_Produktivität!W58","v":74.03661991446458},{"$f":"RD_Daten_Produktivität!X37/RD_Daten_Produktivität!X58","v":77.357658811595982}]
["Portugal",{"$f":"RD_Daten_Produktivität!B38/RD_Daten_Produktivität!B59","v":40.567407417102608},{"$f":"RD_Daten_Produktivität!C38/RD_Daten_Produktivität!C59","v":43.151486924578435},{"$f":"RD_Daten_Produktivität!D38/RD_Daten_Produktivität!D59","v":44.929014824762788},{"$f":"RD_Daten_Produktivität!E38/RD_Daten_Produktivität!E59","v":46.853269828024672},{"$f":"RD_Daten_Produktivität!F38/RD_Daten_Produktivität!F59","v":47.972412417510725},{"$f":"RD_Daten_Produktivität!G38/RD_Daten_Produktivität!G59","v":51.133182203649788},{"$f":"RD_Daten_Produktivität!H38/RD_Daten_Produktivität!H59","v":50.557427676347636},{"$f":"RD_Daten_Produktivität!I38/RD_Daten_Produktivität!I59","v":50.76677458896021},{"$f":"RD_Daten_Produktivität!J38/RD_Daten_Produktivität!J59","v":50.578757869606477},{"$f":"RD_Daten_Produktivität!K38/RD_Daten_Produktivität!K59","v":52.524662160715849},{"$f":"RD_Daten_Produktivität!L38/RD_Daten_Produktivität!L59","v":54.324881998069124},{"$f":"RD_Daten_Produktivität!M38/RD_Daten_Produktivität!M59","v":55.228428947901449},{"$f":"RD_Daten_Produktivität!N38/RD_Daten_Produktivität!N59","v":59.618583974689855},{"$f":"RD_Daten_Produktivität!O38/RD_Daten_Produktivität!O59","v":60.314618709915798},{"$f":"RD_Daten_Produktivität!P38/RD_Daten_Produktivität!P59","v":58.291825767261948},{"$f":"RD_Daten_Produktivität!Q38/RD_Daten_Produktivität!Q59","v":60.390920554854979},{"$f":"RD_Daten_Produktivität!R38/RD_Daten_Produktivität!R59","v":59.626230268124942},{"$f":"RD_Daten_Produktivität!S38/RD_Daten_Produktivität!S59","v":58.166235095092233},{"$f":"RD_Daten_Produktivität!T38/RD_Daten_Produktivität!T59","v":60.420008193850741},{"$f":"RD_Daten_Produktivität!U38/RD_Daten_Produktivität!U59","v":62.451629790228381},{"$f":"RD_Daten_Produktivität!V38/RD_Daten_Produktivität!V59","v":60.580738520903296},{"$f":"RD_Daten_Produktivität!W38/RD_Daten_Produktivität!W59","v":57.368756491194567}]
["Rumänien",{"$f":"RD_Daten_Produktivität!B39/RD_Daten_Produktivität!B60","v":50.870306210534878},{"$f":"RD_Daten_Produktivität!C39/RD_Daten_Produktivität!C60","v":64.970175222933122},{"$f":"RD_Daten_Produktivität!D39/RD_Daten_Produktivität!D60","v":68.402561838484303},{"$f":"RD_Daten_Produktivität!E39/RD_Daten_Produktivität!E60","v":70.211343667974859},{"$f":"RD_Daten_Produktivität!F39/RD_Daten_Produktivität!F60","v":72.985990171513606},{"$f":"RD_Daten_Produktivität!G39/RD_Daten_Produktivität!G60","v":67.284218562133574},{"$f":"RD_Daten_Produktivität!H39/RD_Daten_Produktivität!H60","v":73.023128739159532},{"$f":"RD_Daten_Produktivität!I39/RD_Daten_Produktivität!I60","v":71.980634231286672},{"$f":"RD_Daten_Produktivität!J39/RD_Daten_Produktivität!J60","v":72.028126795215314},{"$f":"RD_Daten_Produktivität!K39/RD_Daten_Produktivität!K60","v":73.455686732481496},{"$f":"RD_Daten_Produktivität!L39/RD_Daten_Produktivität!L60","v":77.513562965067621},{"$f":"RD_Daten_Produktivität!M39/RD_Daten_Produktivität!M60","v":77.807971986150804},{"$f":"RD_Daten_Produktivität!N39/RD_Daten_Produktivität!N60","v":76.109053966867577},{"$f":"RD_Daten_Produktivität!O39/RD_Daten_Produktivität!O60","v":96.740498051501916},{"$f":"RD_Daten_Produktivität!P39/RD_Daten_Produktivität!P60","v":82.376991020366475},{"$f":"RD_Daten_Produktivität!Q39/RD_Daten_Produktivität!Q60","v":60.361607142857146},{"$f":"RD_Daten_Produktivität!R39/RD_Daten_Produktivität!R60","v":61.573364542944717},{"$f":"RD_Daten_Produktivität!S39/RD_Daten_Produktivität!S60","v":64.214763089497183},{"$f":"RD_Daten_Produktivität!T39/RD_Daten_Produktivität!T60","v":68.299755856215128},{"$f":"RD_Daten_Produktivität!U39/RD_Daten_Produktivität!U60","v":82.313625255776003},{"$f":"RD_Daten_Produktivität!V39/RD_Daten_Produktivität!V60","v":77.489549903654364},{"$f":"RD_Daten_Produktivität!W39/RD_Daten_Produktivität!W60","v":106.86576482701196},{"$f":"RD_Daten_Produktivität!X39/RD_Daten_Produktivität!X60","v":92.922111049504849}]
["Slowenien",{"$f":"RD_Daten_Produktivität!B40/RD_Daten_Produktivität!B61","v":0},{"$f":"RD_Daten_Produktivität!C40/RD_Daten_Produktivität!C61","v":0},{"$f":"RD_Daten_Produktivität!D40/RD_Daten_Produktivität!D61","v":0},{"$f":"RD_Daten_Produktivität!E40/RD_Daten_Produktivität!E61","v":0},{"$f":"RD_Daten_Produktivität!F40/RD_Daten_Produktivität!F61","v":0},{"$f":"RD_Daten_Produktivität!G40/RD_Daten_Produktivität!G61","v":37.448381760766409},{"$f":"RD_Daten_Produktivität!H40/RD_Daten_Produktivität!H61","v":32.549539682737432},{"$f":"RD_Daten_Produktivität!I40/RD_Daten_Produktivität!I61","v":33.70475347271595},{"$f":"RD_Daten_Produktivität!J40/RD_Daten_Produktivität!J61","v":34.032841469533388},{"$f":"RD_Daten_Produktivität!K40/RD_Daten_Produktivität!K61","v":33.739140382666164},{"$f":"RD_Daten_Produktivität!L40/RD_Daten_Produktivität!L61","v":32.621965776423799},{"$f":"RD_Daten_Produktivität!M40/RD_Daten_Produktivität!M61","v":34.861422661497556},{"$f":"RD_Daten_Produktivität!N40/RD_Daten_Produktivität!N61","v":34.711958459367771},{"$f":"RD_Daten_Produktivität!O40/RD_Daten_Produktivität!O61","v":37.407917160240068},{"$f":"RD_Daten_Produktivität!P40/RD_Daten_Produktivität!P61","v":35.567013135852307},{"$f":"RD_Daten_Produktivität!Q40/RD_Daten_Produktivität!Q61","v":37.157757496740551},{"$f":"RD_Daten_Produktivität!R40/RD_Daten_Produktivität!R61","v":39.857142857142854},{"$f":"RD_Daten_Produktivität!S40/RD_Daten_Produktivität!S61","v":38.411794261084111},{"$f":"RD_Daten_Produktivität!T40/RD_Daten_Produktivität!T61","v":37.168848025769421},{"$f":"RD_Daten_Produktivität!U40/RD_Daten_Produktivität!U61","v":39.176520313701104},{"$f":"RD_Daten_Produktivität!V40/RD_Daten_Produktivität!V61","v":39.661711749575133},{"$f":"RD_Daten_Produktivität!W40/RD_Daten_Produktivität!W61","v":42.0900840351174}]
["Slowakei",{"$f":"RD_Daten_Produktivität!B41/RD_Daten_Produktivität!B62","v":18.357227524876848},{"$f":"RD_Daten_Produktivität!C41/RD_Daten_Produktivität!C62","v":21.71415848758085},{"$f":"RD_Daten_Produktivität!D41/RD_Daten_Produktivität!D62","v":24.749307630580695},{"$f":"RD_Daten_Produktivität!E41/RD_Daten_Produktivität!E62","v":25.758902020301928},{"$f":"RD_Daten_Produktivität!F41/RD_Daten_Produktivität!F62","v":28.2872531895474},{"$f":"RD_Daten_Produktivität!G41/RD_Daten_Produktivität!G62","v":22.360202591047642},{"$f":"RD_Daten_Produktivität!H41/RD_Daten_Produktivität!H62","v":23.335395028014005},{"$f":"RD_Daten_Produktivität!I41/RD_Daten_Produktivität!I62","v":20.394905529857301},{"$f":"RD_Daten_Produktivität!J41/RD_Daten_Produktivität!J62","v":21.93706764791699},{"$f":"RD_Daten_Produktivität!K41/RD_Daten_Produktivität!K62","v":22.673171552754845},{"$f":"RD_Daten_Produktivität!L41/RD_Daten_Produktivität!L62","v":25.75820065408082},{"$f":"RD_Daten_Produktivität!M41/RD_Daten_Produktivität!M62","v":28.603067456574728},{"$f":"RD_Daten_Produktivität!N41/RD_Daten_Produktivität!N62","v":31.712475190383703},{"$f":"RD_Daten_Produktivität!O41/RD_Daten_Produktivität!O62","v":31.377843712426095},{"$f":"RD_Daten_Produktivität!P41/RD_Daten_Produktivität!P62","v":28.375211702933225},{"$f":"RD_Daten_Produktivität!Q41/RD_Daten_Produktivität!Q62","v":28.961790520772382},{"$f":"RD_Daten_Produktivität!R41/RD_Daten_Produktivität!R62","v":31.407582089552239},{"$f":"RD_Daten_Produktivität!S41/RD_Daten_Produktivität!S62","v":32.956740835993571},{"$f":"RD_Daten_Produktivität!T41/RD_Daten_Produktivität!T62","v":32.955521139860792},{"$f":"RD_Daten_Produktivität!U41/RD_Daten_Produktivität!U62","v":35.57893651083559},{"$f":"RD_Daten_Produktivität!V41/RD_Daten_Produktivität!V62","v":37.566063725174239}]
["Großbritannien"]
[]
["PW (preisbereinigt)/Angestellte"]
[null,1995,{"$f":"B66+1","v":1996},{"$f":"C66+1","v":1997},1998,1999,2000,2001,2002,2003,2004,2005,2006,2007,2008,2009,2010,2011,2012,2013,2014,2015,2016,2017]
["Österreich",{"$f":"RD_Daten_Produktivität!B25/RD_Daten_Produktivität!B67","v":24.517468109859191},{"$f":"RD_Daten_Produktivität!C25/RD_Daten_Produktivität!C67","v":30.148107749832654},{"$f":"RD_Daten_Produktivität!D25/RD_Daten_Produktivität!D67","v":32.851450800290507},{"$f":"RD_Daten_Produktivität!E25/RD_Daten_Produktivität!E67","v":37.513602059462471},{"$f":"RD_Daten_Produktivität!F25/RD_Daten_Produktivität!F67","v":41.309401459575604},{"$f":"RD_Daten_Produktivität!G25/RD_Daten_Produktivität!G67","v":47.021408758109871},{"$f":"RD_Daten_Produktivität!H25/RD_Daten_Produktivität!H67","v":46.892240151352667},{"$f":"RD_Daten_Produktivität!I25/RD_Daten_Produktivität!I67","v":48.129471671079493},{"$f":"RD_Daten_Produktivität!J25/RD_Daten_Produktivität!J67","v":53.124185540475658},{"$f":"RD_Daten_Produktivität!K25/RD_Daten_Produktivität!K67","v":55.50404752387491},{"$f":"RD_Daten_Produktivität!L25/RD_Daten_Produktivität!L67","v":70.411537674235021},{"$f":"RD_Daten_Produktivität!M25/RD_Daten_Produktivität!M67","v":78.55661730410192},{"$f":"RD_Daten_Produktivität!N25/RD_Daten_Produktivität!N67","v":83.598313240689095},{"$f":"RD_Daten_Produktivität!O25/RD_Daten_Produktivität!O67","v":86.020401350612445},{"$f":"RD_Daten_Produktivität!P25/RD_Daten_Produktivität!P67","v":88.196015503663162},{"$f":"RD_Daten_Produktivität!Q25/RD_Daten_Produktivität!Q67","v":93.785822021116132},{"$f":"RD_Daten_Produktivität!R25/RD_Daten_Produktivität!R67","v":93.322041691396393},{"$f":"RD_Daten_Produktivität!S25/RD_Daten_Produktivität!S67","v":94.191026853714092},{"$f":"RD_Daten_Produktivität!T25/RD_Daten_Produktivität!T67","v":96.922327930124425},{"$f":"RD_Daten_Produktivität!U25/RD_Daten_Produktivität!U67","v":99.361581979483134},{"$f":"RD_Daten_Produktivität!V25/RD_Daten_Produktivität!V67","v":97.830467736162973},{"$f":"RD_Daten_Produktivität!W25/RD_Daten_Produktivität!W67","v":103.53247389819829},{"$f":"RD_Daten_Produktivität!X25/RD_Daten_Produktivität!X67","v":105.81637139682708}]
["Belgien",{"$f":"RD_Daten_Produktivität!B26/RD_Daten_Produktivität!B68","v":59.267746879575363},{"$f":"RD_Daten_Produktivität!C26/RD_Daten_Produktivität!C68","v":59.419235284415592},{"$f":"RD_Daten_Produktivität!D26/RD_Daten_Produktivität!D68","v":65.859461337631558},{"$f":"RD_Daten_Produktivität!E26/RD_Daten_Produktivität!E68","v":75.237859511905356},{"$f":"RD_Daten_Produktivität!F26/RD_Daten_Produktivität!F68","v":75.059234255761183},{"$f":"RD_Daten_Produktivität!G26/RD_Daten_Produktivität!G68","v":77.0694123137107},{"$f":"RD_Daten_Produktivität!H26/RD_Daten_Produktivität!H68","v":71.661564809984554},{"$f":"RD_Daten_Produktivität!I26/RD_Daten_Produktivität!I68","v":71.434350698970633},{"$f":"RD_Daten_Produktivität!J26/RD_Daten_Produktivität!J68","v":72.394108684611467},{"$f":"RD_Daten_Produktivität!K26/RD_Daten_Produktivität!K68","v":76.18032701248498},{"$f":"RD_Daten_Produktivität!L26/RD_Daten_Produktivität!L68","v":78.940431140779793},{"$f":"RD_Daten_Produktivität!M26/RD_Daten_Produktivität!M68","v":82.995610145927074},{"$f":"RD_Daten_Produktivität!N26/RD_Daten_Produktivität!N68","v":89.900543891656326},{"$f":"RD_Daten_Produktivität!O26/RD_Daten_Produktivität!O68","v":93.62069585866945},{"$f":"RD_Daten_Produktivität!P26/RD_Daten_Produktivität!P68","v":92.831040618363417},{"$f":"RD_Daten_Produktivität!Q26/RD_Daten_Produktivität!Q68","v":96.502672167733991},{"$f":"RD_Daten_Produktivität!R26/RD_Daten_Produktivität!R68","v":101.11487459374958},{"$f":"RD_Daten_Produktivität!S26/RD_Daten_Produktivität!S68","v":105.0945744688505},{"$f":"RD_Daten_Produktivität!T26/RD_Daten_Produktivität!T68","v":103.59253184749153},{"$f":"RD_Daten_Produktivität!U26/RD_Daten_Produktivität!U68","v":105.91252426200629},{"$f":"RD_Daten_Produktivität!V26/RD_Daten_Produktivität!V68","v":109.74855086947831},{"$f":"RD_Daten_Produktivität!W26/RD_Daten_Produktivität!W68","v":110.33310618511244}]
["Tschechien",{"$f":"RD_Daten_Produktivität!B27/RD_Daten_Produktivität!B69","v":358.95192930774971},{"$f":"RD_Daten_Produktivität!C27/RD_Daten_Produktivität!C69","v":375.6997070269536},{"$f":"RD_Daten_Produktivität!D27/RD_Daten_Produktivität!D69","v":363.87662023606993},{"$f":"RD_Daten_Produktivität!E27/RD_Daten_Produktivität!E69","v":375.4995327061053},{"$f":"RD_Daten_Produktivität!F27/RD_Daten_Produktivität!F69","v":380.60705469967945},{"$f":"RD_Daten_Produktivität!G27/RD_Daten_Produktivität!G69","v":400.52904442258932},{"$f":"RD_Daten_Produktivität!H27/RD_Daten_Produktivität!H69","v":451.13215227024239},{"$f":"RD_Daten_Produktivität!I27/RD_Daten_Produktivität!I69","v":467.31007224411621},{"$f":"RD_Daten_Produktivität!J27/RD_Daten_Produktivität!J69","v":556.97294521649928},{"$f":"RD_Daten_Produktivität!K27/RD_Daten_Produktivität!K69","v":576.38003963063807},{"$f":"RD_Daten_Produktivität!L27/RD_Daten_Produktivität!L69","v":594.22777009456195},{"$f":"RD_Daten_Produktivität!M27/RD_Daten_Produktivität!M69","v":700.0470180033592},{"$f":"RD_Daten_Produktivität!N27/RD_Daten_Produktivität!N69","v":684.64145210363586},{"$f":"RD_Daten_Produktivität!O27/RD_Daten_Produktivität!O69","v":603.54552168871726},{"$f":"RD_Daten_Produktivität!P27/RD_Daten_Produktivität!P69","v":682.81522542848472},{"$f":"RD_Daten_Produktivität!Q27/RD_Daten_Produktivität!Q69","v":698.3536310329273},{"$f":"RD_Daten_Produktivität!R27/RD_Daten_Produktivität!R69","v":736.29768312660894},{"$f":"RD_Daten_Produktivität!S27/RD_Daten_Produktivität!S69","v":769.8715568622099},{"$f":"RD_Daten_Produktivität!T27/RD_Daten_Produktivität!T69","v":721.31603755752224},{"$f":"RD_Daten_Produktivität!U27/RD_Daten_Produktivität!U69","v":723.77895700067609},{"$f":"RD_Daten_Produktivität!V27/RD_Daten_Produktivität!V69","v":754.41147795873246},{"$f":"RD_Daten_Produktivität!W27/RD_Daten_Produktivität!W69","v":771.91993812790952},{"$f":"RD_Daten_Produktivität!X27/RD_Daten_Produktivität!X69","v":751.82572025654645}]
["Dänemark",{"$f":"RD_Daten_Produktivität!B28/RD_Daten_Produktivität!B70","v":480.77924094002628},{"$f":"RD_Daten_Produktivität!C28/RD_Daten_Produktivität!C70","v":504.30999440624817},{"$f":"RD_Daten_Produktivität!D28/RD_Daten_Produktivität!D70","v":522.7397517480365},{"$f":"RD_Daten_Produktivität!E28/RD_Daten_Produktivität!E70","v":524.09010544704927},{"$f":"RD_Daten_Produktivität!F28/RD_Daten_Produktivität!F70","v":536.55713658881257},{"$f":"RD_Daten_Produktivität!G28/RD_Daten_Produktivität!G70","v":553.80101587674153},{"$f":"RD_Daten_Produktivität!H28/RD_Daten_Produktivität!H70","v":564.04921531719526},{"$f":"RD_Daten_Produktivität!I28/RD_Daten_Produktivität!I70","v":554.50036706498565},{"$f":"RD_Daten_Produktivität!J28/RD_Daten_Produktivität!J70","v":552.70302380215162},{"$f":"RD_Daten_Produktivität!K28/RD_Daten_Produktivität!K70","v":561.81013218811449},{"$f":"RD_Daten_Produktivität!L28/RD_Daten_Produktivität!L70","v":632.24190942931193},{"$f":"RD_Daten_Produktivität!M28/RD_Daten_Produktivität!M70","v":616.29933470868127},{"$f":"RD_Daten_Produktivität!N28/RD_Daten_Produktivität!N70","v":637.93071072245186},{"$f":"RD_Daten_Produktivität!O28/RD_Daten_Produktivität!O70","v":611.24075438987893},{"$f":"RD_Daten_Produktivität!P28/RD_Daten_Produktivität!P70","v":632.59402266512257},{"$f":"RD_Daten_Produktivität!Q28/RD_Daten_Produktivität!Q70","v":588.5333333333333},{"$f":"RD_Daten_Produktivität!R28/RD_Daten_Produktivität!R70","v":561.60606060606062},{"$f":"RD_Daten_Produktivität!S28/RD_Daten_Produktivität!S70","v":582.91921702682623},{"$f":"RD_Daten_Produktivität!T28/RD_Daten_Produktivität!T70","v":528.5111160097573},{"$f":"RD_Daten_Produktivität!U28/RD_Daten_Produktivität!U70","v":536.58575798050629},{"$f":"RD_Daten_Produktivität!V28/RD_Daten_Produktivität!V70","v":544.64793675450835},{"$f":"RD_Daten_Produktivität!W28/RD_Daten_Produktivität!W70","v":555.2896375810268},{"$f":"RD_Daten_Produktivität!X28/RD_Daten_Produktivität!X70","v":652.64420619542511}]
["Estland",{"$f":"RD_Daten_Produktivität!B29/RD_Daten_Produktivität!B71","v":4.7304119556040103},{"$f":"RD_Daten_Produktivität!C29/RD_Daten_Produktivität!C71","v":5.5115314537250351},{"$f":"RD_Daten_Produktivität!D29/RD_Daten_Produktivität!D71","v":5.9712968397869588},{"$f":"RD_Daten_Produktivität!E29/RD_Daten_Produktivität!E71","v":7.3160122132183245},{"$f":"RD_Daten_Produktivität!F29/RD_Daten_Produktivität!F71","v":7.1545097753710332},{"$f":"RD_Daten_Produktivität!G29/RD_Daten_Produktivität!G71","v":7.8344342091502366},{"$f":"RD_Daten_Produktivität!H29/RD_Daten_Produktivität!H71","v":9.0091594547892733},{"$f":"RD_Daten_Produktivität!I29/RD_Daten_Produktivität!I71","v":10.54728132638177},{"$f":"RD_Daten_Produktivität!J29/RD_Daten_Produktivität!J71","v":11.383987249871007},{"$f":"RD_Daten_Produktivität!K29/RD_Daten_Produktivität!K71","v":14.124956591766425},{"$f":"RD_Daten_Produktivität!L29/RD_Daten_Produktivität!L71","v":18.067454944570873},{"$f":"RD_Daten_Produktivität!M29/RD_Daten_Produktivität!M71","v":18.148644742057996},{"$f":"RD_Daten_Produktivität!N29/RD_Daten_Produktivität!N71","v":21.075991120673738},{"$f":"RD_Daten_Produktivität!O29/RD_Daten_Produktivität!O71","v":20.741945807831708},{"$f":"RD_Daten_Produktivität!P29/RD_Daten_Produktivität!P71","v":19.199481566197807},{"$f":"RD_Daten_Produktivität!Q29/RD_Daten_Produktivität!Q71","v":18.883248730964468},{"$f":"RD_Daten_Produktivität!R29/RD_Daten_Produktivität!R71","v":20.573770069853254},{"$f":"RD_Daten_Produktivität!S29/RD_Daten_Produktivität!S71","v":21.08978479533496},{"$f":"RD_Daten_Produktivität!T29/RD_Daten_Produktivität!T71","v":23.500057843377952},{"$f":"RD_Daten_Produktivität!U29/RD_Daten_Produktivität!U71","v":21.19923293225958},{"$f":"RD_Daten_Produktivität!V29/RD_Daten_Produktivität!V71","v":23.745979910109032},{"$f":"RD_Daten_Produktivität!W29/RD_Daten_Produktivität!W71","v":26.388133116453634},{"$f":"RD_Daten_Produktivität!X29/RD_Daten_Produktivität!X71","v":27.648161230386112}]
["Frankreich",{"$f":"RD_Daten_Produktivität!B30/RD_Daten_Produktivität!B72","v":35.744334046088554},{"$f":"RD_Daten_Produktivität!C30/RD_Daten_Produktivität!C72","v":37.094413998530356},{"$f":"RD_Daten_Produktivität!D30/RD_Daten_Produktivität!D72","v":42.067663510183301},{"$f":"RD_Daten_Produktivität!E30/RD_Daten_Produktivität!E72","v":48.178768081380774},{"$f":"RD_Daten_Produktivität!F30/RD_Daten_Produktivität!F72","v":57.387773413465283},{"$f":"RD_Daten_Produktivität!G30/RD_Daten_Produktivität!G72","v":52.646917207820529},{"$f":"RD_Daten_Produktivität!H30/RD_Daten_Produktivität!H72","v":50.424198524096717},{"$f":"RD_Daten_Produktivität!I30/RD_Daten_Produktivität!I72","v":49.244260716472354},{"$f":"RD_Daten_Produktivität!J30/RD_Daten_Produktivität!J72","v":47.877508570562121},{"$f":"RD_Daten_Produktivität!K30/RD_Daten_Produktivität!K72","v":49.34906732194144},{"$f":"RD_Daten_Produktivität!L30/RD_Daten_Produktivität!L72","v":50.298625824807161},{"$f":"RD_Daten_Produktivität!M30/RD_Daten_Produktivität!M72","v":48.992787767050089},{"$f":"RD_Daten_Produktivität!N30/RD_Daten_Produktivität!N72","v":50.567438657984454},{"$f":"RD_Daten_Produktivität!O30/RD_Daten_Produktivität!O72","v":50.737463867887861},{"$f":"RD_Daten_Produktivität!P30/RD_Daten_Produktivität!P72","v":51.174302163164853},{"$f":"RD_Daten_Produktivität!Q30/RD_Daten_Produktivität!Q72","v":50.399193548387096},{"$f":"RD_Daten_Produktivität!R30/RD_Daten_Produktivität!R72","v":49.582329317269078},{"$f":"RD_Daten_Produktivität!S30/RD_Daten_Produktivität!S72","v":49.627696596422609},{"$f":"RD_Daten_Produktivität!T30/RD_Daten_Produktivität!T72","v":48.386856940560442},{"$f":"RD_Daten_Produktivität!U30/RD_Daten_Produktivität!U72","v":47.833310225616636},{"$f":"RD_Daten_Produktivität!V30/RD_Daten_Produktivität!V72","v":45.909228720229628},{"$f":"RD_Daten_Produktivität!W30/RD_Daten_Produktivität!W72","v":47.507211209364662}]
["Griechenland",{"$f":"RD_Daten_Produktivität!B31/RD_Daten_Produktivität!B73","v":25.163108998992325},{"$f":"RD_Daten_Produktivität!C31/RD_Daten_Produktivität!C73","v":25.249830808198823},{"$f":"RD_Daten_Produktivität!D31/RD_Daten_Produktivität!D73","v":30.592215887735854},{"$f":"RD_Daten_Produktivität!E31/RD_Daten_Produktivität!E73","v":31.863438490290768},{"$f":"RD_Daten_Produktivität!F31/RD_Daten_Produktivität!F73","v":41.731385389782659},{"$f":"RD_Daten_Produktivität!G31/RD_Daten_Produktivität!G73","v":42.91734628080745},{"$f":"RD_Daten_Produktivität!H31/RD_Daten_Produktivität!H73","v":49.158694793389827},{"$f":"RD_Daten_Produktivität!I31/RD_Daten_Produktivität!I73","v":51.902618645861402},{"$f":"RD_Daten_Produktivität!J31/RD_Daten_Produktivität!J73","v":50.020279480148659},{"$f":"RD_Daten_Produktivität!K31/RD_Daten_Produktivität!K73","v":51.571132241345104},{"$f":"RD_Daten_Produktivität!L31/RD_Daten_Produktivität!L73","v":52.374852215493718},{"$f":"RD_Daten_Produktivität!M31/RD_Daten_Produktivität!M73","v":56.577849707903781},{"$f":"RD_Daten_Produktivität!N31/RD_Daten_Produktivität!N73","v":66.770323604838254},{"$f":"RD_Daten_Produktivität!O31/RD_Daten_Produktivität!O73","v":69.087800243565539},{"$f":"RD_Daten_Produktivität!P31/RD_Daten_Produktivität!P73","v":67.214876365899073},{"$f":"RD_Daten_Produktivität!Q31/RD_Daten_Produktivität!Q73","v":61.211453744493383},{"$f":"RD_Daten_Produktivität!R31/RD_Daten_Produktivität!R73","v":62.758411164295225},{"$f":"RD_Daten_Produktivität!S31/RD_Daten_Produktivität!S73","v":55.795494528905515},{"$f":"RD_Daten_Produktivität!T31/RD_Daten_Produktivität!T73","v":53.007097656895823},{"$f":"RD_Daten_Produktivität!U31/RD_Daten_Produktivität!U73","v":53.006759630296486},{"$f":"RD_Daten_Produktivität!V31/RD_Daten_Produktivität!V73","v":50.183025165736375},{"$f":"RD_Daten_Produktivität!W31/RD_Daten_Produktivität!W73","v":49.336223545979784},{"$f":"RD_Daten_Produktivität!X31/RD_Daten_Produktivität!X73","v":48.470311867272741}]
["Italien",{"$f":"RD_Daten_Produktivität!B32/RD_Daten_Produktivität!B74","v":46.255865176216304},{"$f":"RD_Daten_Produktivität!C32/RD_Daten_Produktivität!C74","v":46.728821470799517},{"$f":"RD_Daten_Produktivität!D32/RD_Daten_Produktivität!D74","v":52.106597645959141},{"$f":"RD_Daten_Produktivität!E32/RD_Daten_Produktivität!E74","v":54.717080004795861},{"$f":"RD_Daten_Produktivität!F32/RD_Daten_Produktivität!F74","v":62.692086811557942},{"$f":"RD_Daten_Produktivität!G32/RD_Daten_Produktivität!G74","v":65.303182693280363},{"$f":"RD_Daten_Produktivität!H32/RD_Daten_Produktivität!H74","v":75.407103150377992},{"$f":"RD_Daten_Produktivität!I32/RD_Daten_Produktivität!I74","v":70.956536895216459},{"$f":"RD_Daten_Produktivität!J32/RD_Daten_Produktivität!J74","v":73.6158988131521},{"$f":"RD_Daten_Produktivität!K32/RD_Daten_Produktivität!K74","v":71.92480073955609},{"$f":"RD_Daten_Produktivität!L32/RD_Daten_Produktivität!L74","v":75.099423649039593},{"$f":"RD_Daten_Produktivität!M32/RD_Daten_Produktivität!M74","v":76.306005901318983},{"$f":"RD_Daten_Produktivität!N32/RD_Daten_Produktivität!N74","v":82.321087589508508},{"$f":"RD_Daten_Produktivität!O32/RD_Daten_Produktivität!O74","v":76.82527916017311},{"$f":"RD_Daten_Produktivität!P32/RD_Daten_Produktivität!P74","v":74.253709816672838},{"$f":"RD_Daten_Produktivität!Q32/RD_Daten_Produktivität!Q74","v":76.542694497153704},{"$f":"RD_Daten_Produktivität!R32/RD_Daten_Produktivität!R74","v":72.781496062992133},{"$f":"RD_Daten_Produktivität!S32/RD_Daten_Produktivität!S74","v":67.318274388512066},{"$f":"RD_Daten_Produktivität!T32/RD_Daten_Produktivität!T74","v":66.572078750200035},{"$f":"RD_Daten_Produktivität!U32/RD_Daten_Produktivität!U74","v":64.480600249558194},{"$f":"RD_Daten_Produktivität!V32/RD_Daten_Produktivität!V74","v":68.723758524729689}]
["Spanien"]
["Finnland",{"$f":"RD_Daten_Produktivität!B34/RD_Daten_Produktivität!B76","v":47.250055715982},{"$f":"RD_Daten_Produktivität!C34/RD_Daten_Produktivität!C76","v":49.474318266439106},{"$f":"RD_Daten_Produktivität!D34/RD_Daten_Produktivität!D76","v":52.982673847142358},{"$f":"RD_Daten_Produktivität!E34/RD_Daten_Produktivität!E76","v":54.123394069575717},{"$f":"RD_Daten_Produktivität!F34/RD_Daten_Produktivität!F76","v":59.600124963771719},{"$f":"RD_Daten_Produktivität!G34/RD_Daten_Produktivität!G76","v":62.410253441860384},{"$f":"RD_Daten_Produktivität!H34/RD_Daten_Produktivität!H76","v":62.027074602616423},{"$f":"RD_Daten_Produktivität!I34/RD_Daten_Produktivität!I76","v":62.432310355356854},{"$f":"RD_Daten_Produktivität!J34/RD_Daten_Produktivität!J76","v":64.015759538689323},{"$f":"RD_Daten_Produktivität!K34/RD_Daten_Produktivität!K76","v":66.825335488847855},{"$f":"RD_Daten_Produktivität!L34/RD_Daten_Produktivität!L76","v":66.899703732849645},{"$f":"RD_Daten_Produktivität!M34/RD_Daten_Produktivität!M76","v":66.190342558973569},{"$f":"RD_Daten_Produktivität!N34/RD_Daten_Produktivität!N76","v":65.817813659625443},{"$f":"RD_Daten_Produktivität!O34/RD_Daten_Produktivität!O76","v":66.152770741642186},{"$f":"RD_Daten_Produktivität!P34/RD_Daten_Produktivität!P76","v":61.14223951804329},{"$f":"RD_Daten_Produktivität!Q34/RD_Daten_Produktivität!Q76","v":64.893617021276597},{"$f":"RD_Daten_Produktivität!R34/RD_Daten_Produktivität!R76","v":70.995475113122168},{"$f":"RD_Daten_Produktivität!S34/RD_Daten_Produktivität!S76","v":74.576621592080201},{"$f":"RD_Daten_Produktivität!T34/RD_Daten_Produktivität!T76","v":71.085661802051135},{"$f":"RD_Daten_Produktivität!U34/RD_Daten_Produktivität!U76","v":66.295575270347328},{"$f":"RD_Daten_Produktivität!V34/RD_Daten_Produktivität!V76","v":57.073500191346973},{"$f":"RD_Daten_Produktivität!W34/RD_Daten_Produktivität!W76","v":56.939433175298149},{"$f":"RD_Daten_Produktivität!X34/RD_Daten_Produktivität!X76","v":57.078401849300818}]
["Ungarn",{"$f":"RD_Daten_Produktivität!B35/RD_Daten_Produktivität!B77","v":1972.0150584453377},{"$f":"RD_Daten_Produktivität!C35/RD_Daten_Produktivität!C77","v":1805.3452505822481},{"$f":"RD_Daten_Produktivität!D35/RD_Daten_Produktivität!D77","v":1755.267695723358},{"$f":"RD_Daten_Produktivität!E35/RD_Daten_Produktivität!E77","v":1878.5059006493796},{"$f":"RD_Daten_Produktivität!F35/RD_Daten_Produktivität!F77","v":1956.1316669360458},{"$f":"RD_Daten_Produktivität!G35/RD_Daten_Produktivität!G77","v":1860.0389509232357},{"$f":"RD_Daten_Produktivität!H35/RD_Daten_Produktivität!H77","v":2755.669229804791},{"$f":"RD_Daten_Produktivität!I35/RD_Daten_Produktivität!I77","v":3552.8523772479148},{"$f":"RD_Daten_Produktivität!J35/RD_Daten_Produktivität!J77","v":3189.9425350643523},{"$f":"RD_Daten_Produktivität!K35/RD_Daten_Produktivität!K77","v":3875.6894618603305},{"$f":"RD_Daten_Produktivität!L35/RD_Daten_Produktivität!L77","v":4136.9217172772833},{"$f":"RD_Daten_Produktivität!M35/RD_Daten_Produktivität!M77","v":4105.6970282856464},{"$f":"RD_Daten_Produktivität!N35/RD_Daten_Produktivität!N77","v":4394.7467789540988},{"$f":"RD_Daten_Produktivität!O35/RD_Daten_Produktivität!O77","v":5001.9360493577105},{"$f":"RD_Daten_Produktivität!P35/RD_Daten_Produktivität!P77","v":4281.9484963836585},{"$f":"RD_Daten_Produktivität!Q35/RD_Daten_Produktivität!Q77","v":4208.6047940995695},{"$f":"RD_Daten_Produktivität!R35/RD_Daten_Produktivität!R77","v":4219.0566037735844},{"$f":"RD_Daten_Produktivität!S35/RD_Daten_Produktivität!S77","v":4127.5461385766002},{"$f":"RD_Daten_Produktivität!T35/RD_Daten_Produktivität!T77","v":4346.1003619318963},{"$f":"RD_Daten_Produktivität!U35/RD_Daten_Produktivität!U77","v":4618.4055985296282},{"$f":"RD_Daten_Produktivität!V35/RD_Daten_Produktivität!V77","v":4815.6919547085499},{"$f":"RD_Daten_Produktivität!W35/RD_Daten_Produktivität!W77","v":4655.0503862746764},{"$f":"RD_Daten_Produktivität!X35/RD_Daten_Produktivität!X77","v":4418.2190897838509}]
["Irland"]
["Niederlande",{"$f":"RD_Daten_Produktivität!B37/RD_Daten_Produktivität!B79","v":61.254133532903374},{"$f":"RD_Daten_Produktivität!C37/RD_Daten_Produktivität!C79","v":64.261758702089622},{"$f":"RD_Daten_Produktivität!D37/RD_Daten_Produktivität!D79","v":64.836394688626257},{"$f":"RD_Daten_Produktivität!E37/RD_Daten_Produktivität!E79","v":67.361175681191114},{"$f":"RD_Daten_Produktivität!F37/RD_Daten_Produktivität!F79","v":67.294122587292705},{"$f":"RD_Daten_Produktivität!G37/RD_Daten_Produktivität!G79","v":69.02129663944649},{"$f":"RD_Daten_Produktivität!H37/RD_Daten_Produktivität!H79","v":69.731900857310094},{"$f":"RD_Daten_Produktivität!I37/RD_Daten_Produktivität!I79","v":72.475953131795265},{"$f":"RD_Daten_Produktivität!J37/RD_Daten_Produktivität!J79","v":75.33796364484121},{"$f":"RD_Daten_Produktivität!K37/RD_Daten_Produktivität!K79","v":82.8890522330571},{"$f":"RD_Daten_Produktivität!L37/RD_Daten_Produktivität!L79","v":83.721231299100808},{"$f":"RD_Daten_Produktivität!M37/RD_Daten_Produktivität!M79","v":88.007599850805406},{"$f":"RD_Daten_Produktivität!N37/RD_Daten_Produktivität!N79","v":88.103923382199952},{"$f":"RD_Daten_Produktivität!O37/RD_Daten_Produktivität!O79","v":88.003715387931067},{"$f":"RD_Daten_Produktivität!P37/RD_Daten_Produktivität!P79","v":81.430502902892286},{"$f":"RD_Daten_Produktivität!Q37/RD_Daten_Produktivität!Q79","v":80.4375},{"$f":"RD_Daten_Produktivität!R37/RD_Daten_Produktivität!R79","v":78.859375},{"$f":"RD_Daten_Produktivität!S37/RD_Daten_Produktivität!S79","v":74.674123722017541},{"$f":"RD_Daten_Produktivität!T37/RD_Daten_Produktivität!T79","v":72.251064905218954},{"$f":"RD_Daten_Produktivität!U37/RD_Daten_Produktivität!U79","v":76.427049075308744},{"$f":"RD_Daten_Produktivität!V37/RD_Daten_Produktivität!V79","v":77.735483906985252},{"$f":"RD_Daten_Produktivität!W37/RD_Daten_Produktivität!W79","v":82.262911016071754},{"$f":"RD_Daten_Produktivität!X37/RD_Daten_Produktivität!X79","v":87.975376687697391}]
["Portugal",{"$f":"RD_Daten_Produktivität!B38/RD_Daten_Produktivität!B80","v":40.799600264134263},{"$f":"RD_Daten_Produktivität!C38/RD_Daten_Produktivität!C80","v":43.401123625795009},{"$f":"RD_Daten_Produktivität!D38/RD_Daten_Produktivität!D80","v":45.218412665824061},{"$f":"RD_Daten_Produktivität!E38/RD_Daten_Produktivität!E80","v":47.14519051231143},{"$f":"RD_Daten_Produktivität!F38/RD_Daten_Produktivität!F80","v":48.262714459371608},{"$f":"RD_Daten_Produktivität!G38/RD_Daten_Produktivität!G80","v":51.430036672176051},{"$f":"RD_Daten_Produktivität!H38/RD_Daten_Produktivität!H80","v":50.839674306780843},{"$f":"RD_Daten_Produktivität!I38/RD_Daten_Produktivität!I80","v":50.976410272052959},{"$f":"RD_Daten_Produktivität!J38/RD_Daten_Produktivität!J80","v":50.782841626982162},{"$f":"RD_Daten_Produktivität!K38/RD_Daten_Produktivität!K80","v":52.768800696655433},{"$f":"RD_Daten_Produktivität!L38/RD_Daten_Produktivität!L80","v":54.54131579089011},{"$f":"RD_Daten_Produktivität!M38/RD_Daten_Produktivität!M80","v":55.481273292332652},{"$f":"RD_Daten_Produktivität!N38/RD_Daten_Produktivität!N80","v":59.889577538211171},{"$f":"RD_Daten_Produktivität!O38/RD_Daten_Produktivität!O80","v":60.585956968893569},{"$f":"RD_Daten_Produktivität!P38/RD_Daten_Produktivität!P80","v":58.518495212889668},{"$f":"RD_Daten_Produktivität!Q38/RD_Daten_Produktivität!Q80","v":60.658644711842939},{"$f":"RD_Daten_Produktivität!R38/RD_Daten_Produktivität!R80","v":59.940673143632523},{"$f":"RD_Daten_Produktivität!S38/RD_Daten_Produktivität!S80","v":58.548656101634585},{"$f":"RD_Daten_Produktivität!T38/RD_Daten_Produktivität!T80","v":60.837850574167824},{"$f":"RD_Daten_Produktivität!U38/RD_Daten_Produktivität!U80","v":62.896441968221467},{"$f":"RD_Daten_Produktivität!V38/RD_Daten_Produktivität!V80","v":60.964971534777945},{"$f":"RD_Daten_Produktivität!W38/RD_Daten_Produktivität!W80","v":57.767150633494524}]
["Rumänien",{"$f":"RD_Daten_Produktivität!B39/RD_Daten_Produktivität!B81","v":50.870306210534878},{"$f":"RD_Daten_Produktivität!C39/RD_Daten_Produktivität!C81","v":64.970175222933122},{"$f":"RD_Daten_Produktivität!D39/RD_Daten_Produktivität!D81","v":68.402561838484303},{"$f":"RD_Daten_Produktivität!E39/RD_Daten_Produktivität!E81","v":70.211343667974859},{"$f":"RD_Daten_Produktivität!F39/RD_Daten_Produktivität!F81","v":72.985990171513606},{"$f":"RD_Daten_Produktivität!G39/RD_Daten_Produktivität!G81","v":67.284218562133574},{"$f":"RD_Daten_Produktivität!H39/RD_Daten_Produktivität!H81","v":73.023128739159532},{"$f":"RD_Daten_Produktivität!I39/RD_Daten_Produktivität!I81","v":71.980634231286672},{"$f":"RD_Daten_Produktivität!J39/RD_Daten_Produktivität!J81","v":72.028126795215314},{"$f":"RD_Daten_Produktivität!K39/RD_Daten_Produktivität!K81","v":73.455686732481496},{"$f":"RD_Daten_Produktivität!L39/RD_Daten_Produktivität!L81","v":77.513562965067621},{"$f":"RD_Daten_Produktivität!M39/RD_Daten_Produktivität!M81","v":77.807971986150804},{"$f":"RD_Daten_Produktivität!N39/RD_Daten_Produktivität!N81","v":76.109053966867577},{"$f":"RD_Daten_Produktivität!O39/RD_Daten_Produktivität!O81","v":96.740498051501916},{"$f":"RD_Daten_Produktivität!P39/RD_Daten_Produktivität!P81","v":82.376991020366475},{"$f":"RD_Daten_Produktivität!Q39/RD_Daten_Produktivität!Q81","v":60.361607142857146},{"$f":"RD_Daten_Produktivität!R39/RD_Daten_Produktivität!R81","v":61.852608826586184},{"$f":"RD_Daten_Produktivität!S39/RD_Daten_Produktivität!S81","v":64.511367076053759},{"$f":"RD_Daten_Produktivität!T39/RD_Daten_Produktivität!T81","v":68.755087561923233},{"$f":"RD_Daten_Produktivität!U39/RD_Daten_Produktivität!U81","v":82.313625255776003},{"$f":"RD_Daten_Produktivität!V39/RD_Daten_Produktivität!V81","v":77.680882125638703},{"$f":"RD_Daten_Produktivität!W39/RD_Daten_Produktivität!W81","v":106.86576482701196},{"$f":"RD_Daten_Produktivität!X39/RD_Daten_Produktivität!X81","v":92.831009948701976}]
["Slowenien",{"$f":"RD_Daten_Produktivität!B40/RD_Daten_Produktivität!B82","v":0},{"$f":"RD_Daten_Produktivität!C40/RD_Daten_Produktivität!C82","v":0},{"$f":"RD_Daten_Produktivität!D40/RD_Daten_Produktivität!D82","v":0},{"$f":"RD_Daten_Produktivität!E40/RD_Daten_Produktivität!E82","v":0},{"$f":"RD_Daten_Produktivität!F40/RD_Daten_Produktivität!F82","v":0},{"$f":"RD_Daten_Produktivität!G40/RD_Daten_Produktivität!G82","v":39.3812014645479},{"$f":"RD_Daten_Produktivität!H40/RD_Daten_Produktivität!H82","v":34.400698337679849},{"$f":"RD_Daten_Produktivität!I40/RD_Daten_Produktivität!I82","v":35.591800323443444},{"$f":"RD_Daten_Produktivität!J40/RD_Daten_Produktivität!J82","v":36.087455737817905},{"$f":"RD_Daten_Produktivität!K40/RD_Daten_Produktivität!K82","v":35.879690074617791},{"$f":"RD_Daten_Produktivität!L40/RD_Daten_Produktivität!L82","v":34.761890645139644},{"$f":"RD_Daten_Produktivität!M40/RD_Daten_Produktivität!M82","v":37.270745243180741},{"$f":"RD_Daten_Produktivität!N40/RD_Daten_Produktivität!N82","v":37.194861518873736},{"$f":"RD_Daten_Produktivität!O40/RD_Daten_Produktivität!O82","v":40.157736313489337},{"$f":"RD_Daten_Produktivität!P40/RD_Daten_Produktivität!P82","v":38.104029162003634},{"$f":"RD_Daten_Produktivität!Q40/RD_Daten_Produktivität!Q82","v":39.86013986013986},{"$f":"RD_Daten_Produktivität!R40/RD_Daten_Produktivität!R82","v":42.803347280334727},{"$f":"RD_Daten_Produktivität!S40/RD_Daten_Produktivität!S82","v":41.163200872481994},{"$f":"RD_Daten_Produktivität!T40/RD_Daten_Produktivität!T82","v":39.982210612872777},{"$f":"RD_Daten_Produktivität!U40/RD_Daten_Produktivität!U82","v":41.962142786838697},{"$f":"RD_Daten_Produktivität!V40/RD_Daten_Produktivität!V82","v":42.253586529562561},{"$f":"RD_Daten_Produktivität!W40/RD_Daten_Produktivität!W82","v":44.639017695629164}]
["Slowakei",{"$f":"RD_Daten_Produktivität!B41/RD_Daten_Produktivität!B83","v":18.442919977015798},{"$f":"RD_Daten_Produktivität!C41/RD_Daten_Produktivität!C83","v":21.812809384293736},{"$f":"RD_Daten_Produktivität!D41/RD_Daten_Produktivität!D83","v":24.860125425941504},{"$f":"RD_Daten_Produktivität!E41/RD_Daten_Produktivität!E83","v":25.889063223032107},{"$f":"RD_Daten_Produktivität!F41/RD_Daten_Produktivität!F83","v":28.431135453990677},{"$f":"RD_Daten_Produktivität!G41/RD_Daten_Produktivität!G83","v":22.475639878559502},{"$f":"RD_Daten_Produktivität!H41/RD_Daten_Produktivität!H83","v":23.456680864957949},{"$f":"RD_Daten_Produktivität!I41/RD_Daten_Produktivität!I83","v":20.503273784532421},{"$f":"RD_Daten_Produktivität!J41/RD_Daten_Produktivität!J83","v":22.064272573656098},{"$f":"RD_Daten_Produktivität!K41/RD_Daten_Produktivität!K83","v":22.859833228545913},{"$f":"RD_Daten_Produktivität!L41/RD_Daten_Produktivität!L83","v":25.986023324321447},{"$f":"RD_Daten_Produktivität!M41/RD_Daten_Produktivität!M83","v":28.872161062973046},{"$f":"RD_Daten_Produktivität!N41/RD_Daten_Produktivität!N83","v":32.018788871199902},{"$f":"RD_Daten_Produktivität!O41/RD_Daten_Produktivität!O83","v":31.730403754138745},{"$f":"RD_Daten_Produktivität!P41/RD_Daten_Produktivität!P83","v":28.769768528466475},{"$f":"RD_Daten_Produktivität!Q41/RD_Daten_Produktivität!Q83","v":29.444199881023202},{"$f":"RD_Daten_Produktivität!R41/RD_Daten_Produktivität!R83","v":31.980364741641338},{"$f":"RD_Daten_Produktivität!S41/RD_Daten_Produktivität!S83","v":33.668329934858328},{"$f":"RD_Daten_Produktivität!T41/RD_Daten_Produktivität!T83","v":33.779409168357311},{"$f":"RD_Daten_Produktivität!U41/RD_Daten_Produktivität!U83","v":36.556613380308974},{"$f":"RD_Daten_Produktivität!V41/RD_Daten_Produktivität!V83","v":38.895636466497137}]
["Großbritannien"]
[]
["BWS (preisbereinigt)/Arbeitsstunden Erwerbstätige"]
[]
[null,1995,{"$f":"B88+1","v":1996},{"$f":"C88+1","v":1997},{"$f":"D88+1","v":1998},{"$f":"E88+1","v":1999},{"$f":"F88+1","v":2000},{"$f":"G88+1","v":2001},{"$f":"H88+1","v":2002},{"$f":"I88+1","v":2003},{"$f":"J88+1","v":2004},{"$f":"K88+1","v":2005},{"$f":"L88+1","v":2006},{"$f":"M88+1","v":2007},{"$f":"N88+1","v":2008},{"$f":"O88+1","v":2009},{"$f":"P88+1","v":2010},{"$f":"Q88+1","v":2011},{"$f":"R88+1","v":2012},{"$f":"S88+1","v":2013},{"$f":"T88+1","v":2014},{"$f":"U88+1","v":2015},{"$f":"V88+1","v":2016},{"$f":"W88+1","v":2017}]
["Österreich",{"$f":"RD_Daten_Produktivität!B4/RD_Daten_Produktivität!B90","v":1.0613482825987923E-2},{"$f":"RD_Daten_Produktivität!C4/RD_Daten_Produktivität!C90","v":1.2433404697490399E-2},{"$f":"RD_Daten_Produktivität!D4/RD_Daten_Produktivität!D90","v":1.1638769015759281E-2},{"$f":"RD_Daten_Produktivität!E4/RD_Daten_Produktivität!E90","v":1.3582925760746002E-2},{"$f":"RD_Daten_Produktivität!F4/RD_Daten_Produktivität!F90","v":1.5160842641510587E-2},{"$f":"RD_Daten_Produktivität!G4/RD_Daten_Produktivität!G90","v":1.5256454712642753E-2},{"$f":"RD_Daten_Produktivität!H4/RD_Daten_Produktivität!H90","v":1.5358751568867806E-2},{"$f":"RD_Daten_Produktivität!I4/RD_Daten_Produktivität!I90","v":1.5584525981280111E-2},{"$f":"RD_Daten_Produktivität!J4/RD_Daten_Produktivität!J90","v":1.6718841702431885E-2},{"$f":"RD_Daten_Produktivität!K4/RD_Daten_Produktivität!K90","v":1.7691641169131061E-2},{"$f":"RD_Daten_Produktivität!L4/RD_Daten_Produktivität!L90","v":2.2304880317663766E-2},{"$f":"RD_Daten_Produktivität!M4/RD_Daten_Produktivität!M90","v":2.5899293885452264E-2},{"$f":"RD_Daten_Produktivität!N4/RD_Daten_Produktivität!N90","v":2.6654452167089164E-2},{"$f":"RD_Daten_Produktivität!O4/RD_Daten_Produktivität!O90","v":2.8312744776524096E-2},{"$f":"RD_Daten_Produktivität!P4/RD_Daten_Produktivität!P90","v":2.8703805289022277E-2},{"$f":"RD_Daten_Produktivität!Q4/RD_Daten_Produktivität!Q90","v":2.8827696774053772E-2},{"$f":"RD_Daten_Produktivität!R4/RD_Daten_Produktivität!R90","v":2.866450303439701E-2},{"$f":"RD_Daten_Produktivität!S4/RD_Daten_Produktivität!S90","v":2.9466228507746939E-2},{"$f":"RD_Daten_Produktivität!T4/RD_Daten_Produktivität!T90","v":3.0756738688240359E-2},{"$f":"RD_Daten_Produktivität!U4/RD_Daten_Produktivität!U90","v":3.2663447589831779E-2},{"$f":"RD_Daten_Produktivität!V4/RD_Daten_Produktivität!V90","v":3.0638059433197185E-2},{"$f":"RD_Daten_Produktivität!W4/RD_Daten_Produktivität!W90","v":2.9230313726989674E-2},{"$f":"RD_Daten_Produktivität!X4/RD_Daten_Produktivität!X90","v":3.0888082700332633E-2}]
["Belgien",{"$f":"RD_Daten_Produktivität!B5/RD_Daten_Produktivität!B91","v":{"$error":"#DIV/0!"}},{"$f":"RD_Daten_Produktivität!C5/RD_Daten_Produktivität!C91","v":{"$error":"#DIV/0!"}},{"$f":"RD_Daten_Produktivität!D5/RD_Daten_Produktivität!D91","v":{"$error":"#DIV/0!"}},{"$f":"RD_Daten_Produktivität!E5/RD_Daten_Produktivität!E91","v":{"$error":"#DIV/0!"}},{"$f":"RD_Daten_Produktivität!F5/RD_Daten_Produktivität!F91","v":3.1786564469160609E-2},{"$f":"RD_Daten_Produktivität!G5/RD_Daten_Produktivität!G91","v":3.2869302390876431E-2},{"$f":"RD_Daten_Produktivität!H5/RD_Daten_Produktivität!H91","v":2.9208331221454987E-2},{"$f":"RD_Daten_Produktivität!I5/RD_Daten_Produktivität!I91","v":2.8721701156113034E-2},{"$f":"RD_Daten_Produktivität!J5/RD_Daten_Produktivität!J91","v":2.9278344206765252E-2},{"$f":"RD_Daten_Produktivität!K5/RD_Daten_Produktivität!K91","v":2.9799973623180234E-2},{"$f":"RD_Daten_Produktivität!L5/RD_Daten_Produktivität!L91","v":3.019484970001313E-2},{"$f":"RD_Daten_Produktivität!M5/RD_Daten_Produktivität!M91","v":3.0926359433154964E-2},{"$f":"RD_Daten_Produktivität!N5/RD_Daten_Produktivität!N91","v":3.3106952129915414E-2},{"$f":"RD_Daten_Produktivität!O5/RD_Daten_Produktivität!O91","v":3.4919431547352102E-2},{"$f":"RD_Daten_Produktivität!P5/RD_Daten_Produktivität!P91","v":3.3807432423407266E-2},{"$f":"RD_Daten_Produktivität!Q5/RD_Daten_Produktivität!Q91","v":3.4144513922955436E-2},{"$f":"RD_Daten_Produktivität!R5/RD_Daten_Produktivität!R91","v":3.5630937406449702E-2},{"$f":"RD_Daten_Produktivität!S5/RD_Daten_Produktivität!S91","v":3.4149066595708794E-2},{"$f":"RD_Daten_Produktivität!T5/RD_Daten_Produktivität!T91","v":3.4557974107519776E-2},{"$f":"RD_Daten_Produktivität!U5/RD_Daten_Produktivität!U91","v":3.3725689874738757E-2},{"$f":"RD_Daten_Produktivität!V5/RD_Daten_Produktivität!V91","v":3.329928594634772E-2},{"$f":"RD_Daten_Produktivität!W5/RD_Daten_Produktivität!W91","v":3.2333567331295374E-2},{"$f":"RD_Daten_Produktivität!X5/RD_Daten_Produktivität!X91","v":0}]
["Tschechien",{"$f":"RD_Daten_Produktivität!B6/RD_Daten_Produktivität!B92","v":0.15150112934217025},{"$f":"RD_Daten_Produktivität!C6/RD_Daten_Produktivität!C92","v":0.16000300403844139},{"$f":"RD_Daten_Produktivität!D6/RD_Daten_Produktivität!D92","v":0.13936267554187601},{"$f":"RD_Daten_Produktivität!E6/RD_Daten_Produktivität!E92","v":0.15378447466567025},{"$f":"RD_Daten_Produktivität!F6/RD_Daten_Produktivität!F92","v":0.14433444165891884},{"$f":"RD_Daten_Produktivität!G6/RD_Daten_Produktivität!G92","v":0.15894393634183449},{"$f":"RD_Daten_Produktivität!H6/RD_Daten_Produktivität!H92","v":0.18408873862510258},{"$f":"RD_Daten_Produktivität!I6/RD_Daten_Produktivität!I92","v":0.18950145219415351},{"$f":"RD_Daten_Produktivität!J6/RD_Daten_Produktivität!J92","v":0.23218673046808666},{"$f":"RD_Daten_Produktivität!K6/RD_Daten_Produktivität!K92","v":0.22808537923292604},{"$f":"RD_Daten_Produktivität!L6/RD_Daten_Produktivität!L92","v":0.22783113548078571},{"$f":"RD_Daten_Produktivität!M6/RD_Daten_Produktivität!M92","v":0.25591545549125305},{"$f":"RD_Daten_Produktivität!N6/RD_Daten_Produktivität!N92","v":0.27608088663049085},{"$f":"RD_Daten_Produktivität!O6/RD_Daten_Produktivität!O92","v":0.25139609757349524},{"$f":"RD_Daten_Produktivität!P6/RD_Daten_Produktivität!P92","v":0.25079111673364191},{"$f":"RD_Daten_Produktivität!Q6/RD_Daten_Produktivität!Q92","v":0.23569412368488582},{"$f":"RD_Daten_Produktivität!R6/RD_Daten_Produktivität!R92","v":0.24216949352875125},{"$f":"RD_Daten_Produktivität!S6/RD_Daten_Produktivität!S92","v":0.24619172043807477},{"$f":"RD_Daten_Produktivität!T6/RD_Daten_Produktivität!T92","v":0.23769379167306001},{"$f":"RD_Daten_Produktivität!U6/RD_Daten_Produktivität!U92","v":0.2241806669815615},{"$f":"RD_Daten_Produktivität!V6/RD_Daten_Produktivität!V92","v":0.22096881246836139},{"$f":"RD_Daten_Produktivität!W6/RD_Daten_Produktivität!W92","v":0.20823902488188173},{"$f":"RD_Daten_Produktivität!X6/RD_Daten_Produktivität!X92","v":0.19483399947599953}]
["Dänemark",{"$f":"RD_Daten_Produktivität!B7/RD_Daten_Produktivität!B93","v":0.40725443924623089},{"$f":"RD_Daten_Produktivität!C7/RD_Daten_Produktivität!C93","v":0.40181051164358506},{"$f":"RD_Daten_Produktivität!D7/RD_Daten_Produktivität!D93","v":0.40631205413375077},{"$f":"RD_Daten_Produktivität!E7/RD_Daten_Produktivität!E93","v":0.39449239059004293},{"$f":"RD_Daten_Produktivität!F7/RD_Daten_Produktivität!F93","v":0.37386661453316811},{"$f":"RD_Daten_Produktivität!G7/RD_Daten_Produktivität!G93","v":0.32399446675018057},{"$f":"RD_Daten_Produktivität!H7/RD_Daten_Produktivität!H93","v":0.38678207025930506},{"$f":"RD_Daten_Produktivität!I7/RD_Daten_Produktivität!I93","v":0.37723581995312028},{"$f":"RD_Daten_Produktivität!J7/RD_Daten_Produktivität!J93","v":0.37046907172511945},{"$f":"RD_Daten_Produktivität!K7/RD_Daten_Produktivität!K93","v":0.35131026002840293},{"$f":"RD_Daten_Produktivität!L7/RD_Daten_Produktivität!L93","v":0.35928226308451439},{"$f":"RD_Daten_Produktivität!M7/RD_Daten_Produktivität!M93","v":0.30005333346448515},{"$f":"RD_Daten_Produktivität!N7/RD_Daten_Produktivität!N93","v":0.29392809821793064},{"$f":"RD_Daten_Produktivität!O7/RD_Daten_Produktivität!O93","v":0.25624855989944151},{"$f":"RD_Daten_Produktivität!P7/RD_Daten_Produktivität!P93","v":0.25195080217527094},{"$f":"RD_Daten_Produktivität!Q7/RD_Daten_Produktivität!Q93","v":0.25654590146414447},{"$f":"RD_Daten_Produktivität!R7/RD_Daten_Produktivität!R93","v":0.2314350924070363},{"$f":"RD_Daten_Produktivität!S7/RD_Daten_Produktivität!S93","v":0.22341660662161231},{"$f":"RD_Daten_Produktivität!T7/RD_Daten_Produktivität!T93","v":0.22352769040803561},{"$f":"RD_Daten_Produktivität!U7/RD_Daten_Produktivität!U93","v":0.22510471250916095},{"$f":"RD_Daten_Produktivität!V7/RD_Daten_Produktivität!V93","v":0.20552027135829831},{"$f":"RD_Daten_Produktivität!W7/RD_Daten_Produktivität!W93","v":0.17998615109200364},{"$f":"RD_Daten_Produktivität!X7/RD_Daten_Produktivität!X93","v":0.21455368770427941}]
["Estland",{"$f":"RD_Daten_Produktivität!B8/RD_Daten_Produktivität!B94","v":{"$error":"#DIV/0!"}},{"$f":"RD_Daten_Produktivität!C8/RD_Daten_Produktivität!C94","v":{"$error":"#DIV/0!"}},{"$f":"RD_Daten_Produktivität!D8/RD_Daten_Produktivität!D94","v":{"$error":"#DIV/0!"}},{"$f":"RD_Daten_Produktivität!E8/RD_Daten_Produktivität!E94","v":{"$error":"#DIV/0!"}},{"$f":"RD_Daten_Produktivität!F8/RD_Daten_Produktivität!F94","v":{"$error":"#DIV/0!"}},{"$f":"RD_Daten_Produktivität!G8/RD_Daten_Produktivität!G94","v":2.2624757579474495E-3},{"$f":"RD_Daten_Produktivität!H8/RD_Daten_Produktivität!H94","v":3.9116337162092632E-3},{"$f":"RD_Daten_Produktivität!I8/RD_Daten_Produktivität!I94","v":3.540642205979592E-3},{"$f":"RD_Daten_Produktivität!J8/RD_Daten_Produktivität!J94","v":3.5442315777110224E-3},{"$f":"RD_Daten_Produktivität!K8/RD_Daten_Produktivität!K94","v":5.1320871484475889E-3},{"$f":"RD_Daten_Produktivität!L8/RD_Daten_Produktivität!L94","v":6.1261220276837541E-3},{"$f":"RD_Daten_Produktivität!M8/RD_Daten_Produktivität!M94","v":5.8529355785414015E-3},{"$f":"RD_Daten_Produktivität!N8/RD_Daten_Produktivität!N94","v":5.5562549872033842E-3},{"$f":"RD_Daten_Produktivität!O8/RD_Daten_Produktivität!O94","v":6.7408582819714364E-3},{"$f":"RD_Daten_Produktivität!P8/RD_Daten_Produktivität!P94","v":5.5422659411259265E-3},{"$f":"RD_Daten_Produktivität!Q8/RD_Daten_Produktivität!Q94","v":6.2747583584218036E-3},{"$f":"RD_Daten_Produktivität!R8/RD_Daten_Produktivität!R94","v":4.3152907624367017E-3},{"$f":"RD_Daten_Produktivität!S8/RD_Daten_Produktivität!S94","v":5.292033377667745E-3},{"$f":"RD_Daten_Produktivität!T8/RD_Daten_Produktivität!T94","v":5.8168583238232601E-3},{"$f":"RD_Daten_Produktivität!U8/RD_Daten_Produktivität!U94","v":3.825649578022886E-3},{"$f":"RD_Daten_Produktivität!V8/RD_Daten_Produktivität!V94","v":4.0485113604232454E-3},{"$f":"RD_Daten_Produktivität!W8/RD_Daten_Produktivität!W94","v":4.4073772092561659E-3},{"$f":"RD_Daten_Produktivität!X8/RD_Daten_Produktivität!X94","v":4.3266087614114261E-3}]
["Frankreich",{"$f":"RD_Daten_Produktivität!B9/RD_Daten_Produktivität!B95","v":{"$error":"#DIV/0!"}},{"$f":"RD_Daten_Produktivität!C9/RD_Daten_Produktivität!C95","v":{"$error":"#DIV/0!"}},{"$f":"RD_Daten_Produktivität!D9/RD_Daten_Produktivität!D95","v":{"$error":"#DIV/0!"}},{"$f":"RD_Daten_Produktivität!E9/RD_Daten_Produktivität!E95","v":{"$error":"#DIV/0!"}},{"$f":"RD_Daten_Produktivität!F9/RD_Daten_Produktivität!F95","v":{"$error":"#DIV/0!"}},{"$f":"RD_Daten_Produktivität!G9/RD_Daten_Produktivität!G95","v":{"$error":"#DIV/0!"}},{"$f":"RD_Daten_Produktivität!H9/RD_Daten_Produktivität!H95","v":{"$error":"#DIV/0!"}},{"$f":"RD_Daten_Produktivität!I9/RD_Daten_Produktivität!I95","v":{"$error":"#DIV/0!"}},{"$f":"RD_Daten_Produktivität!J9/RD_Daten_Produktivität!J95","v":{"$error":"#DIV/0!"}},{"$f":"RD_Daten_Produktivität!K9/RD_Daten_Produktivität!K95","v":{"$error":"#DIV/0!"}},{"$f":"RD_Daten_Produktivität!L9/RD_Daten_Produktivität!L95","v":{"$error":"#DIV/0!"}},{"$f":"RD_Daten_Produktivität!M9/RD_Daten_Produktivität!M95","v":{"$error":"#DIV/0!"}},{"$f":"RD_Daten_Produktivität!N9/RD_Daten_Produktivität!N95","v":{"$error":"#DIV/0!"}},{"$f":"RD_Daten_Produktivität!O9/RD_Daten_Produktivität!O95","v":{"$error":"#DIV/0!"}},{"$f":"RD_Daten_Produktivität!P9/RD_Daten_Produktivität!P95","v":{"$error":"#DIV/0!"}},{"$f":"RD_Daten_Produktivität!Q9/RD_Daten_Produktivität!Q95","v":{"$error":"#DIV/0!"}},{"$f":"RD_Daten_Produktivität!R9/RD_Daten_Produktivität!R95","v":{"$error":"#DIV/0!"}},{"$f":"RD_Daten_Produktivität!S9/RD_Daten_Produktivität!S95","v":{"$error":"#DIV/0!"}},{"$f":"RD_Daten_Produktivität!T9/RD_Daten_Produktivität!T95","v":{"$error":"#DIV/0!"}},{"$f":"RD_Daten_Produktivität!U9/RD_Daten_Produktivität!U95","v":{"$error":"#DIV/0!"}},{"$f":"RD_Daten_Produktivität!V9/RD_Daten_Produktivität!V95","v":{"$error":"#DIV/0!"}},{"$f":"RD_Daten_Produktivität!W9/RD_Daten_Produktivität!W95","v":{"$error":"#DIV/0!"}},{"$f":"RD_Daten_Produktivität!X9/RD_Daten_Produktivität!X95","v":{"$error":"#DIV/0!"}}]
["Griechenland",{"$f":"RD_Daten_Produktivität!B10/RD_Daten_Produktivität!B96","v":8.4421309515031687E-3},{"$f":"RD_Daten_Produktivität!C10/RD_Daten_Produktivität!C96","v":8.41856264701288E-3},{"$f":"RD_Daten_Produktivität!D10/RD_Daten_Produktivität!D96","v":1.0117258477472385E-2},{"$f":"RD_Daten_Produktivität!E10/RD_Daten_Produktivität!E96","v":1.0481849313220954E-2},{"$f":"RD_Daten_Produktivität!F10/RD_Daten_Produktivität!F96","v":1.3453357516440761E-2},{"$f":"RD_Daten_Produktivität!G10/RD_Daten_Produktivität!G96","v":1.3682165282658178E-2},{"$f":"RD_Daten_Produktivität!H10/RD_Daten_Produktivität!H96","v":1.512933169245787E-2},{"$f":"RD_Daten_Produktivität!I10/RD_Daten_Produktivität!I96","v":1.6039120684266394E-2},{"$f":"RD_Daten_Produktivität!J10/RD_Daten_Produktivität!J96","v":1.5712030452010545E-2},{"$f":"RD_Daten_Produktivität!K10/RD_Daten_Produktivität!K96","v":1.6232406012137112E-2},{"$f":"RD_Daten_Produktivität!L10/RD_Daten_Produktivität!L96","v":1.5998259350482599E-2},{"$f":"RD_Daten_Produktivität!M10/RD_Daten_Produktivität!M96","v":1.7486388212240005E-2},{"$f":"RD_Daten_Produktivität!N10/RD_Daten_Produktivität!N96","v":1.8029828205031226E-2},{"$f":"RD_Daten_Produktivität!O10/RD_Daten_Produktivität!O96","v":1.8981753957002266E-2},{"$f":"RD_Daten_Produktivität!P10/RD_Daten_Produktivität!P96","v":1.6744671262041919E-2},{"$f":"RD_Daten_Produktivität!Q10/RD_Daten_Produktivität!Q96","v":1.5614498319731157E-2},{"$f":"RD_Daten_Produktivität!R10/RD_Daten_Produktivität!R96","v":1.5646068980888172E-2},{"$f":"RD_Daten_Produktivität!S10/RD_Daten_Produktivität!S96","v":1.4187685789119803E-2},{"$f":"RD_Daten_Produktivität!T10/RD_Daten_Produktivität!T96","v":1.2825650256848056E-2},{"$f":"RD_Daten_Produktivität!U10/RD_Daten_Produktivität!U96","v":1.157355514115691E-2},{"$f":"RD_Daten_Produktivität!V10/RD_Daten_Produktivität!V96","v":9.9130390356276001E-3},{"$f":"RD_Daten_Produktivität!W10/RD_Daten_Produktivität!W96","v":9.3860323176992826E-3},{"$f":"RD_Daten_Produktivität!X10/RD_Daten_Produktivität!X96","v":9.6054180652852539E-3}]
["Italien",{"$f":"RD_Daten_Produktivität!B11/RD_Daten_Produktivität!B97","v":{"$error":"#DIV/0!"}},{"$f":"RD_Daten_Produktivität!C11/RD_Daten_Produktivität!C97","v":{"$error":"#DIV/0!"}},{"$f":"RD_Daten_Produktivität!D11/RD_Daten_Produktivität!D97","v":{"$error":"#DIV/0!"}},{"$f":"RD_Daten_Produktivität!E11/RD_Daten_Produktivität!E97","v":{"$error":"#DIV/0!"}},{"$f":"RD_Daten_Produktivität!F11/RD_Daten_Produktivität!F97","v":{"$error":"#DIV/0!"}},{"$f":"RD_Daten_Produktivität!G11/RD_Daten_Produktivität!G97","v":{"$error":"#DIV/0!"}},{"$f":"RD_Daten_Produktivität!H11/RD_Daten_Produktivität!H97","v":{"$error":"#DIV/0!"}},{"$f":"RD_Daten_Produktivität!I11/RD_Daten_Produktivität!I97","v":{"$error":"#DIV/0!"}},{"$f":"RD_Daten_Produktivität!J11/RD_Daten_Produktivität!J97","v":{"$error":"#DIV/0!"}},{"$f":"RD_Daten_Produktivität!K11/RD_Daten_Produktivität!K97","v":{"$error":"#DIV/0!"}},{"$f":"RD_Daten_Produktivität!L11/RD_Daten_Produktivität!L97","v":{"$error":"#DIV/0!"}},{"$f":"RD_Daten_Produktivität!M11/RD_Daten_Produktivität!M97","v":{"$error":"#DIV/0!"}},{"$f":"RD_Daten_Produktivität!N11/RD_Daten_Produktivität!N97","v":{"$error":"#DIV/0!"}},{"$f":"RD_Daten_Produktivität!O11/RD_Daten_Produktivität!O97","v":{"$error":"#DIV/0!"}},{"$f":"RD_Daten_Produktivität!P11/RD_Daten_Produktivität!P97","v":{"$error":"#DIV/0!"}},{"$f":"RD_Daten_Produktivität!Q11/RD_Daten_Produktivität!Q97","v":{"$error":"#DIV/0!"}},{"$f":"RD_Daten_Produktivität!R11/RD_Daten_Produktivität!R97","v":{"$error":"#DIV/0!"}},{"$f":"RD_Daten_Produktivität!S11/RD_Daten_Produktivität!S97","v":{"$error":"#DIV/0!"}},{"$f":"RD_Daten_Produktivität!T11/RD_Daten_Produktivität!T97","v":{"$error":"#DIV/0!"}},{"$f":"RD_Daten_Produktivität!U11/RD_Daten_Produktivität!U97","v":{"$error":"#DIV/0!"}},{"$f":"RD_Daten_Produktivität!V11/RD_Daten_Produktivität!V97","v":{"$error":"#DIV/0!"}},{"$f":"RD_Daten_Produktivität!W11/RD_Daten_Produktivität!W97","v":{"$error":"#DIV/0!"}},{"$f":"RD_Daten_Produktivität!X11/RD_Daten_Produktivität!X97","v":{"$error":"#DIV/0!"}}]
["Spanien",{"$f":"RD_Daten_Produktivität!B12/RD_Daten_Produktivität!B98","v":6.3118185261849891E-3},{"$f":"RD_Daten_Produktivität!C12/RD_Daten_Produktivität!C98","v":7.1771885930504899E-3},{"$f":"RD_Daten_Produktivität!D12/RD_Daten_Produktivität!D98","v":8.0516528518954113E-3},{"$f":"RD_Daten_Produktivität!E12/RD_Daten_Produktivität!E98","v":8.7232299081521671E-3},{"$f":"RD_Daten_Produktivität!F12/RD_Daten_Produktivität!F98","v":8.9333386081456734E-3},{"$f":"RD_Daten_Produktivität!G12/RD_Daten_Produktivität!G98","v":9.9356007166842043E-3},{"$f":"RD_Daten_Produktivität!H12/RD_Daten_Produktivität!H98","v":1.0475259370963688E-2},{"$f":"RD_Daten_Produktivität!I12/RD_Daten_Produktivität!I98","v":1.1428427359590057E-2},{"$f":"RD_Daten_Produktivität!J12/RD_Daten_Produktivität!J98","v":1.2122474972167055E-2},{"$f":"RD_Daten_Produktivität!K12/RD_Daten_Produktivität!K98","v":1.302593291983546E-2},{"$f":"RD_Daten_Produktivität!L12/RD_Daten_Produktivität!L98","v":1.4096776046849347E-2},{"$f":"RD_Daten_Produktivität!M12/RD_Daten_Produktivität!M98","v":1.4313724530425051E-2},{"$f":"RD_Daten_Produktivität!N12/RD_Daten_Produktivität!N98","v":1.5536388577722621E-2},{"$f":"RD_Daten_Produktivität!O12/RD_Daten_Produktivität!O98","v":1.563543167749373E-2},{"$f":"RD_Daten_Produktivität!P12/RD_Daten_Produktivität!P98","v":1.5206810295034305E-2},{"$f":"RD_Daten_Produktivität!Q12/RD_Daten_Produktivität!Q98","v":1.657709771330778E-2},{"$f":"RD_Daten_Produktivität!R12/RD_Daten_Produktivität!R98","v":1.6854555294025599E-2},{"$f":"RD_Daten_Produktivität!S12/RD_Daten_Produktivität!S98","v":1.6255901435837192E-2},{"$f":"RD_Daten_Produktivität!T12/RD_Daten_Produktivität!T98","v":1.7262804381440823E-2},{"$f":"RD_Daten_Produktivität!U12/RD_Daten_Produktivität!U98","v":1.9885610855280844E-2},{"$f":"RD_Daten_Produktivität!V12/RD_Daten_Produktivität!V98","v":1.8742677898900391E-2},{"$f":"RD_Daten_Produktivität!W12/RD_Daten_Produktivität!W98","v":1.7853863132214008E-2},{"$f":"RD_Daten_Produktivität!X12/RD_Daten_Produktivität!X98","v":1.7620619438011482E-2}]
["Finnland",{"$f":"RD_Daten_Produktivität!B13/RD_Daten_Produktivität!B99","v":2.1379957774007301E-2},{"$f":"RD_Daten_Produktivität!C13/RD_Daten_Produktivität!C99","v":2.1735275684821295E-2},{"$f":"RD_Daten_Produktivität!D13/RD_Daten_Produktivität!D99","v":2.3040844061283566E-2},{"$f":"RD_Daten_Produktivität!E13/RD_Daten_Produktivität!E99","v":2.3396004866097945E-2},{"$f":"RD_Daten_Produktivität!F13/RD_Daten_Produktivität!F99","v":2.5652796612800521E-2},{"$f":"RD_Daten_Produktivität!G13/RD_Daten_Produktivität!G99","v":2.6577088354889394E-2},{"$f":"RD_Daten_Produktivität!H13/RD_Daten_Produktivität!H99","v":2.8323397510212501E-2},{"$f":"RD_Daten_Produktivität!I13/RD_Daten_Produktivität!I99","v":2.8988104755052396E-2},{"$f":"RD_Daten_Produktivität!J13/RD_Daten_Produktivität!J99","v":2.9992743637858213E-2},{"$f":"RD_Daten_Produktivität!K13/RD_Daten_Produktivität!K99","v":2.9318853327589735E-2},{"$f":"RD_Daten_Produktivität!L13/RD_Daten_Produktivität!L99","v":3.005647344950629E-2},{"$f":"RD_Daten_Produktivität!M13/RD_Daten_Produktivität!M99","v":2.9935639747629545E-2},{"$f":"RD_Daten_Produktivität!N13/RD_Daten_Produktivität!N99","v":2.9020334480506265E-2},{"$f":"RD_Daten_Produktivität!O13/RD_Daten_Produktivität!O99","v":2.8573450488856452E-2},{"$f":"RD_Daten_Produktivität!P13/RD_Daten_Produktivität!P99","v":2.7664645325059939E-2},{"$f":"RD_Daten_Produktivität!Q13/RD_Daten_Produktivität!Q99","v":2.972560975609756E-2},{"$f":"RD_Daten_Produktivität!R13/RD_Daten_Produktivität!R99","v":2.9255663430420711E-2},{"$f":"RD_Daten_Produktivität!S13/RD_Daten_Produktivität!S99","v":3.0402437640804549E-2},{"$f":"RD_Daten_Produktivität!T13/RD_Daten_Produktivität!T99","v":2.6928874077564505E-2},{"$f":"RD_Daten_Produktivität!U13/RD_Daten_Produktivität!U99","v":2.2710098562449488E-2},{"$f":"RD_Daten_Produktivität!V13/RD_Daten_Produktivität!V99","v":2.1534540422371112E-2},{"$f":"RD_Daten_Produktivität!W13/RD_Daten_Produktivität!W99","v":2.0502207946017554E-2},{"$f":"RD_Daten_Produktivität!X13/RD_Daten_Produktivität!X99","v":1.8404246630860432E-2}]
["Ungarn",{"$f":"RD_Daten_Produktivität!B14/RD_Daten_Produktivität!B100","v":{"$error":"#DIV/0!"}},{"$f":"RD_Daten_Produktivität!C14/RD_Daten_Produktivität!C100","v":{"$error":"#DIV/0!"}},{"$f":"RD_Daten_Produktivität!D14/RD_Daten_Produktivität!D100","v":{"$error":"#DIV/0!"}},{"$f":"RD_Daten_Produktivität!E14/RD_Daten_Produktivität!E100","v":{"$error":"#DIV/0!"}},{"$f":"RD_Daten_Produktivität!F14/RD_Daten_Produktivität!F100","v":{"$error":"#DIV/0!"}},{"$f":"RD_Daten_Produktivität!G14/RD_Daten_Produktivität!G100","v":{"$error":"#DIV/0!"}},{"$f":"RD_Daten_Produktivität!H14/RD_Daten_Produktivität!H100","v":{"$error":"#DIV/0!"}},{"$f":"RD_Daten_Produktivität!I14/RD_Daten_Produktivität!I100","v":{"$error":"#DIV/0!"}},{"$f":"RD_Daten_Produktivität!J14/RD_Daten_Produktivität!J100","v":{"$error":"#DIV/0!"}},{"$f":"RD_Daten_Produktivität!K14/RD_Daten_Produktivität!K100","v":{"$error":"#DIV/0!"}},{"$f":"RD_Daten_Produktivität!L14/RD_Daten_Produktivität!L100","v":{"$error":"#DIV/0!"}},{"$f":"RD_Daten_Produktivität!M14/RD_Daten_Produktivität!M100","v":{"$error":"#DIV/0!"}},{"$f":"RD_Daten_Produktivität!N14/RD_Daten_Produktivität!N100","v":{"$error":"#DIV/0!"}},{"$f":"RD_Daten_Produktivität!O14/RD_Daten_Produktivität!O100","v":{"$error":"#DIV/0!"}},{"$f":"RD_Daten_Produktivität!P14/RD_Daten_Produktivität!P100","v":{"$error":"#DIV/0!"}},{"$f":"RD_Daten_Produktivität!Q14/RD_Daten_Produktivität!Q100","v":1.7303147699757868},{"$f":"RD_Daten_Produktivität!R14/RD_Daten_Produktivität!R100","v":1.696109139850728},{"$f":"RD_Daten_Produktivität!S14/RD_Daten_Produktivität!S100","v":1.6756990063818757},{"$f":"RD_Daten_Produktivität!T14/RD_Daten_Produktivität!T100","v":1.7958876491260043},{"$f":"RD_Daten_Produktivität!U14/RD_Daten_Produktivität!U100","v":1.8608462504647829},{"$f":"RD_Daten_Produktivität!V14/RD_Daten_Produktivität!V100","v":1.9042961535108707},{"$f":"RD_Daten_Produktivität!W14/RD_Daten_Produktivität!W100","v":1.7786947840562484},{"$f":"RD_Daten_Produktivität!X14/RD_Daten_Produktivität!X100","v":1.6651535194045775}]
["Irland",{"$f":"RD_Daten_Produktivität!B15/RD_Daten_Produktivität!B101","v":2.8915310915240845E-2},{"$f":"RD_Daten_Produktivität!C15/RD_Daten_Produktivität!C101","v":2.9380987842993443E-2},{"$f":"RD_Daten_Produktivität!D15/RD_Daten_Produktivität!D101","v":3.0947185064423413E-2},{"$f":"RD_Daten_Produktivität!E15/RD_Daten_Produktivität!E101","v":2.8822573229191441E-2},{"$f":"RD_Daten_Produktivität!F15/RD_Daten_Produktivität!F101","v":3.0118865065861193E-2},{"$f":"RD_Daten_Produktivität!G15/RD_Daten_Produktivität!G101","v":2.901875752806746E-2},{"$f":"RD_Daten_Produktivität!H15/RD_Daten_Produktivität!H101","v":2.7236472854700239E-2},{"$f":"RD_Daten_Produktivität!I15/RD_Daten_Produktivität!I101","v":2.5800250751360203E-2},{"$f":"RD_Daten_Produktivität!J15/RD_Daten_Produktivität!J101","v":2.6816444560358678E-2},{"$f":"RD_Daten_Produktivität!K15/RD_Daten_Produktivität!K101","v":3.257591950464888E-2},{"$f":"RD_Daten_Produktivität!L15/RD_Daten_Produktivität!L101","v":2.5869686222146859E-2},{"$f":"RD_Daten_Produktivität!M15/RD_Daten_Produktivität!M101","v":2.3678239446712612E-2},{"$f":"RD_Daten_Produktivität!N15/RD_Daten_Produktivität!N101","v":2.392740526830962E-2},{"$f":"RD_Daten_Produktivität!O15/RD_Daten_Produktivität!O101","v":2.4412961878374363E-2},{"$f":"RD_Daten_Produktivität!P15/RD_Daten_Produktivität!P101","v":2.4045615501898078E-2},{"$f":"RD_Daten_Produktivität!Q15/RD_Daten_Produktivität!Q101","v":2.9795119222431998E-2},{"$f":"RD_Daten_Produktivität!R15/RD_Daten_Produktivität!R101","v":2.9102428305413659E-2},{"$f":"RD_Daten_Produktivität!S15/RD_Daten_Produktivität!S101","v":3.0406258283018194E-2},{"$f":"RD_Daten_Produktivität!T15/RD_Daten_Produktivität!T101","v":3.0397060876350052E-2},{"$f":"RD_Daten_Produktivität!U15/RD_Daten_Produktivität!U101","v":2.7790353286236445E-2},{"$f":"RD_Daten_Produktivität!V15/RD_Daten_Produktivität!V101","v":2.5137931560528962E-2},{"$f":"RD_Daten_Produktivität!W15/RD_Daten_Produktivität!W101","v":2.3575136929723101E-2},{"$f":"RD_Daten_Produktivität!X15/RD_Daten_Produktivität!X101","v":2.3121262247865784E-2}]
["Niederlande",{"$f":"RD_Daten_Produktivität!B16/RD_Daten_Produktivität!B102","v":2.7506213615159328E-2},{"$f":"RD_Daten_Produktivität!C16/RD_Daten_Produktivität!C102","v":2.7581985857924925E-2},{"$f":"RD_Daten_Produktivität!D16/RD_Daten_Produktivität!D102","v":2.7174186636916575E-2},{"$f":"RD_Daten_Produktivität!E16/RD_Daten_Produktivität!E102","v":2.9045890221233588E-2},{"$f":"RD_Daten_Produktivität!F16/RD_Daten_Produktivität!F102","v":2.7963095379968661E-2},{"$f":"RD_Daten_Produktivität!G16/RD_Daten_Produktivität!G102","v":2.930169021448294E-2},{"$f":"RD_Daten_Produktivität!H16/RD_Daten_Produktivität!H102","v":3.0496202447794274E-2},{"$f":"RD_Daten_Produktivität!I16/RD_Daten_Produktivität!I102","v":3.0689268651553296E-2},{"$f":"RD_Daten_Produktivität!J16/RD_Daten_Produktivität!J102","v":3.1889068058190133E-2},{"$f":"RD_Daten_Produktivität!K16/RD_Daten_Produktivität!K102","v":3.4923218397179726E-2},{"$f":"RD_Daten_Produktivität!L16/RD_Daten_Produktivität!L102","v":3.5863311120776384E-2},{"$f":"RD_Daten_Produktivität!M16/RD_Daten_Produktivität!M102","v":3.5730605897440204E-2},{"$f":"RD_Daten_Produktivität!N16/RD_Daten_Produktivität!N102","v":3.5995926359777872E-2},{"$f":"RD_Daten_Produktivität!O16/RD_Daten_Produktivität!O102","v":3.6461662383595328E-2},{"$f":"RD_Daten_Produktivität!P16/RD_Daten_Produktivität!P102","v":3.530500254354596E-2},{"$f":"RD_Daten_Produktivität!Q16/RD_Daten_Produktivität!Q102","v":3.4624802326174563E-2},{"$f":"RD_Daten_Produktivität!R16/RD_Daten_Produktivität!R102","v":3.1311602589375424E-2},{"$f":"RD_Daten_Produktivität!S16/RD_Daten_Produktivität!S102","v":2.7323262293048666E-2},{"$f":"RD_Daten_Produktivität!T16/RD_Daten_Produktivität!T102","v":2.5665228728928131E-2},{"$f":"RD_Daten_Produktivität!U16/RD_Daten_Produktivität!U102","v":2.5032122885642744E-2},{"$f":"RD_Daten_Produktivität!V16/RD_Daten_Produktivität!V102","v":2.260974883205526E-2},{"$f":"RD_Daten_Produktivität!W16/RD_Daten_Produktivität!W102","v":2.1691081429426617E-2},{"$f":"RD_Daten_Produktivität!X16/RD_Daten_Produktivität!X102","v":2.1416329202041624E-2}]
["Portugal",{"$f":"RD_Daten_Produktivität!B17/RD_Daten_Produktivität!B103","v":{"$error":"#DIV/0!"}},{"$f":"RD_Daten_Produktivität!C17/RD_Daten_Produktivität!C103","v":{"$error":"#DIV/0!"}},{"$f":"RD_Daten_Produktivität!D17/RD_Daten_Produktivität!D103","v":{"$error":"#DIV/0!"}},{"$f":"RD_Daten_Produktivität!E17/RD_Daten_Produktivität!E103","v":{"$error":"#DIV/0!"}},{"$f":"RD_Daten_Produktivität!F17/RD_Daten_Produktivität!F103","v":{"$error":"#DIV/0!"}},{"$f":"RD_Daten_Produktivität!G17/RD_Daten_Produktivität!G103","v":{"$error":"#DIV/0!"}},{"$f":"RD_Daten_Produktivität!H17/RD_Daten_Produktivität!H103","v":{"$error":"#DIV/0!"}},{"$f":"RD_Daten_Produktivität!I17/RD_Daten_Produktivität!I103","v":{"$error":"#DIV/0!"}},{"$f":"RD_Daten_Produktivität!J17/RD_Daten_Produktivität!J103","v":{"$error":"#DIV/0!"}},{"$f":"RD_Daten_Produktivität!K17/RD_Daten_Produktivität!K103","v":{"$error":"#DIV/0!"}},{"$f":"RD_Daten_Produktivität!L17/RD_Daten_Produktivität!L103","v":{"$error":"#DIV/0!"}},{"$f":"RD_Daten_Produktivität!M17/RD_Daten_Produktivität!M103","v":{"$error":"#DIV/0!"}},{"$f":"RD_Daten_Produktivität!N17/RD_Daten_Produktivität!N103","v":{"$error":"#DIV/0!"}},{"$f":"RD_Daten_Produktivität!O17/RD_Daten_Produktivität!O103","v":{"$error":"#DIV/0!"}},{"$f":"RD_Daten_Produktivität!P17/RD_Daten_Produktivität!P103","v":{"$error":"#DIV/0!"}},{"$f":"RD_Daten_Produktivität!Q17/RD_Daten_Produktivität!Q103","v":1.6731087796797349E-2},{"$f":"RD_Daten_Produktivität!R17/RD_Daten_Produktivität!R103","v":1.6481743770892499E-2},{"$f":"RD_Daten_Produktivität!S17/RD_Daten_Produktivität!S103","v":1.5070370110207003E-2},{"$f":"RD_Daten_Produktivität!T17/RD_Daten_Produktivität!T103","v":1.5045726724796296E-2},{"$f":"RD_Daten_Produktivität!U17/RD_Daten_Produktivität!U103","v":1.5383306525602818E-2},{"$f":"RD_Daten_Produktivität!V17/RD_Daten_Produktivität!V103","v":1.4898502389078368E-2},{"$f":"RD_Daten_Produktivität!W17/RD_Daten_Produktivität!W103","v":1.4437852166939548E-2},{"$f":"RD_Daten_Produktivität!X17/RD_Daten_Produktivität!X103","v":1.4387506170869931E-2}]
["Rumänien",{"$f":"RD_Daten_Produktivität!B18/RD_Daten_Produktivität!B104","v":1.9417666136559635E-2},{"$f":"RD_Daten_Produktivität!C18/RD_Daten_Produktivität!C104","v":2.5001299693254049E-2},{"$f":"RD_Daten_Produktivität!D18/RD_Daten_Produktivität!D104","v":2.6032907937130104E-2},{"$f":"RD_Daten_Produktivität!E18/RD_Daten_Produktivität!E104","v":2.5699693263238101E-2},{"$f":"RD_Daten_Produktivität!F18/RD_Daten_Produktivität!F104","v":2.6464061477558205E-2},{"$f":"RD_Daten_Produktivität!G18/RD_Daten_Produktivität!G104","v":2.5679494420804257E-2},{"$f":"RD_Daten_Produktivität!H18/RD_Daten_Produktivität!H104","v":2.7572752726838002E-2},{"$f":"RD_Daten_Produktivität!I18/RD_Daten_Produktivität!I104","v":2.6780576832635624E-2},{"$f":"RD_Daten_Produktivität!J18/RD_Daten_Produktivität!J104","v":2.6764771552356029E-2},{"$f":"RD_Daten_Produktivität!K18/RD_Daten_Produktivität!K104","v":2.7593850291326306E-2},{"$f":"RD_Daten_Produktivität!L18/RD_Daten_Produktivität!L104","v":2.9966914494215974E-2},{"$f":"RD_Daten_Produktivität!M18/RD_Daten_Produktivität!M104","v":2.966446576469452E-2},{"$f":"RD_Daten_Produktivität!N18/RD_Daten_Produktivität!N104","v":2.7576320469442337E-2},{"$f":"RD_Daten_Produktivität!O18/RD_Daten_Produktivität!O104","v":3.5777822914935843E-2},{"$f":"RD_Daten_Produktivität!P18/RD_Daten_Produktivität!P104","v":2.742352919323544E-2},{"$f":"RD_Daten_Produktivität!Q18/RD_Daten_Produktivität!Q104","v":1.9373802525258537E-2},{"$f":"RD_Daten_Produktivität!R18/RD_Daten_Produktivität!R104","v":1.9194348070030801E-2},{"$f":"RD_Daten_Produktivität!S18/RD_Daten_Produktivität!S104","v":1.9961640598514692E-2},{"$f":"RD_Daten_Produktivität!T18/RD_Daten_Produktivität!T104","v":2.0219233932650082E-2},{"$f":"RD_Daten_Produktivität!U18/RD_Daten_Produktivität!U104","v":2.4539835218650635E-2},{"$f":"RD_Daten_Produktivität!V18/RD_Daten_Produktivität!V104","v":2.0224094537708175E-2},{"$f":"RD_Daten_Produktivität!W18/RD_Daten_Produktivität!W104","v":2.9943696427312167E-2},{"$f":"RD_Daten_Produktivität!X18/RD_Daten_Produktivität!X104","v":2.4042505843938553E-2}]
["Slowenien",{"$f":"RD_Daten_Produktivität!B19/RD_Daten_Produktivität!B105","v":1.7720924518625305E-2},{"$f":"RD_Daten_Produktivität!C19/RD_Daten_Produktivität!C105","v":1.7949792665259322E-2},{"$f":"RD_Daten_Produktivität!D19/RD_Daten_Produktivität!D105","v":1.8442641230092368E-2},{"$f":"RD_Daten_Produktivität!E19/RD_Daten_Produktivität!E105","v":1.7438139283989157E-2},{"$f":"RD_Daten_Produktivität!F19/RD_Daten_Produktivität!F105","v":1.7708710128931247E-2},{"$f":"RD_Daten_Produktivität!G19/RD_Daten_Produktivität!G105","v":1.8350451546914566E-2},{"$f":"RD_Daten_Produktivität!H19/RD_Daten_Produktivität!H105","v":1.6083384356964291E-2},{"$f":"RD_Daten_Produktivität!I19/RD_Daten_Produktivität!I105","v":1.6286226681415758E-2},{"$f":"RD_Daten_Produktivität!J19/RD_Daten_Produktivität!J105","v":1.6326125556667404E-2},{"$f":"RD_Daten_Produktivität!K19/RD_Daten_Produktivität!K105","v":1.5180755053561866E-2},{"$f":"RD_Daten_Produktivität!L19/RD_Daten_Produktivität!L105","v":1.509966523085666E-2},{"$f":"RD_Daten_Produktivität!M19/RD_Daten_Produktivität!M105","v":1.6295015795092887E-2},{"$f":"RD_Daten_Produktivität!N19/RD_Daten_Produktivität!N105","v":1.6257001540283204E-2},{"$f":"RD_Daten_Produktivität!O19/RD_Daten_Produktivität!O105","v":1.7311291610008866E-2},{"$f":"RD_Daten_Produktivität!P19/RD_Daten_Produktivität!P105","v":1.650741531872759E-2},{"$f":"RD_Daten_Produktivität!Q19/RD_Daten_Produktivität!Q105","v":1.6283370858797042E-2},{"$f":"RD_Daten_Produktivität!R19/RD_Daten_Produktivität!R105","v":1.736820596648958E-2},{"$f":"RD_Daten_Produktivität!S19/RD_Daten_Produktivität!S105","v":1.6970725252829374E-2},{"$f":"RD_Daten_Produktivität!T19/RD_Daten_Produktivität!T105","v":1.5935297378460993E-2},{"$f":"RD_Daten_Produktivität!U19/RD_Daten_Produktivität!U105","v":1.6279579518095468E-2},{"$f":"RD_Daten_Produktivität!V19/RD_Daten_Produktivität!V105","v":1.5671950527144107E-2},{"$f":"RD_Daten_Produktivität!W19/RD_Daten_Produktivität!W105","v":1.5776153775296814E-2},{"$f":"RD_Daten_Produktivität!X19/RD_Daten_Produktivität!X105","v":1.4913939253298859E-2}]
["Slowakei",{"$f":"RD_Daten_Produktivität!B20/RD_Daten_Produktivität!B106","v":8.0464614924618521E-3},{"$f":"RD_Daten_Produktivität!C20/RD_Daten_Produktivität!C106","v":9.7802781234095238E-3},{"$f":"RD_Daten_Produktivität!D20/RD_Daten_Produktivität!D106","v":1.1511023231605813E-2},{"$f":"RD_Daten_Produktivität!E20/RD_Daten_Produktivität!E106","v":1.2537322235742915E-2},{"$f":"RD_Daten_Produktivität!F20/RD_Daten_Produktivität!F106","v":1.3627603393208195E-2},{"$f":"RD_Daten_Produktivität!G20/RD_Daten_Produktivität!G106","v":1.057367432454572E-2},{"$f":"RD_Daten_Produktivität!H20/RD_Daten_Produktivität!H106","v":1.0610859643384244E-2},{"$f":"RD_Daten_Produktivität!I20/RD_Daten_Produktivität!I106","v":9.6054617466510925E-3},{"$f":"RD_Daten_Produktivität!J20/RD_Daten_Produktivität!J106","v":1.0727687315570644E-2},{"$f":"RD_Daten_Produktivität!K20/RD_Daten_Produktivität!K106","v":9.117186972215148E-3},{"$f":"RD_Daten_Produktivität!L20/RD_Daten_Produktivität!L106","v":1.3393737098200287E-2},{"$f":"RD_Daten_Produktivität!M20/RD_Daten_Produktivität!M106","v":1.3384947498031256E-2},{"$f":"RD_Daten_Produktivität!N20/RD_Daten_Produktivität!N106","v":1.3687115773675498E-2},{"$f":"RD_Daten_Produktivität!O20/RD_Daten_Produktivität!O106","v":1.1729199652348461E-2},{"$f":"RD_Daten_Produktivität!P20/RD_Daten_Produktivität!P106","v":1.041226777362478E-2},{"$f":"RD_Daten_Produktivität!Q20/RD_Daten_Produktivität!Q106","v":9.8254400824924516E-3},{"$f":"RD_Daten_Produktivität!R20/RD_Daten_Produktivität!R106","v":9.8194649110816667E-3},{"$f":"RD_Daten_Produktivität!S20/RD_Daten_Produktivität!S106","v":1.0351564747635902E-2},{"$f":"RD_Daten_Produktivität!T20/RD_Daten_Produktivität!T106","v":9.9952429006576488E-3},{"$f":"RD_Daten_Produktivität!U20/RD_Daten_Produktivität!U106","v":1.0455521144145706E-2},{"$f":"RD_Daten_Produktivität!V20/RD_Daten_Produktivität!V106","v":1.0767191094331854E-2},{"$f":"RD_Daten_Produktivität!W20/RD_Daten_Produktivität!W106","v":1.136754237462846E-2},{"$f":"RD_Daten_Produktivität!X20/RD_Daten_Produktivität!X106","v":1.2073683548341254E-2}]
["Großbritannien",{"$f":"RD_Daten_Produktivität!B21/RD_Daten_Produktivität!B107","v":{"$error":"#DIV/0!"}},{"$f":"RD_Daten_Produktivität!C21/RD_Daten_Produktivität!C107","v":{"$error":"#DIV/0!"}},{"$f":"RD_Daten_Produktivität!D21/RD_Daten_Produktivität!D107","v":{"$error":"#DIV/0!"}},{"$f":"RD_Daten_Produktivität!E21/RD_Daten_Produktivität!E107","v":{"$error":"#DIV/0!"}},{"$f":"RD_Daten_Produktivität!F21/RD_Daten_Produktivität!F107","v":{"$error":"#DIV/0!"}},{"$f":"RD_Daten_Produktivität!G21/RD_Daten_Produktivität!G107","v":{"$error":"#DIV/0!"}},{"$f":"RD_Daten_Produktivität!H21/RD_Daten_Produktivität!H107","v":{"$error":"#DIV/0!"}},{"$f":"RD_Daten_Produktivität!I21/RD_Daten_Produktivität!I107","v":{"$error":"#DIV/0!"}},{"$f":"RD_Daten_Produktivität!J21/RD_Daten_Produktivität!J107","v":{"$error":"#DIV/0!"}},{"$f":"RD_Daten_Produktivität!K21/RD_Daten_Produktivität!K107","v":{"$error":"#DIV/0!"}},{"$f":"RD_Daten_Produktivität!L21/RD_Daten_Produktivität!L107","v":{"$error":"#DIV/0!"}},{"$f":"RD_Daten_Produktivität!M21/RD_Daten_Produktivität!M107","v":{"$error":"#DIV/0!"}},{"$f":"RD_Daten_Produktivität!N21/RD_Daten_Produktivität!N107","v":{"$error":"#DIV/0!"}},{"$f":"RD_Daten_Produktivität!O21/RD_Daten_Produktivität!O107","v":{"$error":"#DIV/0!"}},{"$f":"RD_Daten_Produktivität!P21/RD_Daten_Produktivität!P107","v":{"$error":"#DIV/0!"}},{"$f":"RD_Daten_Produktivität!Q21/RD_Daten_Produktivität!Q107","v":{"$error":"#DIV/0!"}},{"$f":"RD_Daten_Produktivität!R21/RD_Daten_Produktivität!R107","v":{"$error":"#DIV/0!"}},{"$f":"RD_Daten_Produktivität!S21/RD_Daten_Produktivität!S107","v":{"$error":"#DIV/0!"}},{"$f":"RD_Daten_Produktivität!T21/RD_Daten_Produktivität!T107","v":{"$error":"#DIV/0!"}},{"$f":"RD_Daten_Produktivität!U21/RD_Daten_Produktivität!U107","v":{"$error":"#DIV/0!"}},{"$f":"RD_Daten_Produktivität!V21/RD_Daten_Produktivität!V107","v":{"$error":"#DIV/0!"}},{"$f":"RD_Daten_Produktivität!W21/RD_Daten_Produktivität!W107","v":{"$error":"#DIV/0!"}},{"$f":"RD_Daten_Produktivität!X21/RD_Daten_Produktivität!X107","v":{"$error":"#DIV/0!"}}]

{"sheet":"HI_Hilfstabelle","index":7,"n_rows":32,"n_cols":11,"rows_kept":32,"cut":false,"hidden":false,"merged":[[0,7,0,8],[0,9,0,10]]}
[null,null,null,null,null,null,null,"Gewichtung  gesamt (jeweils 2020)",null,"Gewichtung 2019"]
[null,null,null,null,"BWS / Stunde","PW / Ewe","BWS / Ewe","Einwohnerzahl","Einwohnerzahl (%)","BIP pro Einwohner","%"]
["Alle verfügbaren",false,{"$f":"IF(B3=TRUE,A3,\"\")","v":""},{"$f":"IF(B3=TRUE,1,0)","v":0},null,null,null,{"$f":"SUM(H4:H21)","v":365511776},{"$f":"SUM(I4:I21)","v":1},{"$f":"SUM(J4:J21)","v":1828},{"$f":"SUM(K4:K21)","v":0.99999999999999989}]
["Österreich",true,"Österreich",{"$f":"IF(B4=TRUE,1,0)","v":1},{"$f":"IF(AND(B4=TRUE,ISERROR(NR_Berechnung!BJ4)),1/0,1)","v":1},{"$f":"IF(AND(B4=TRUE,ISERROR(NR_Berechnung!BJ33)),1/0,1)","v":1},{"$f":"IF(AND(B4=TRUE,ISERROR(NR_Berechnung!BJ63)),1/0,1)","v":1},{"$f":"RD_Einwohner!X35","v":8901064},{"$f":"H4/$H$3","v":2.4352331674260475E-2},{"$f":"RD_BIP_Kopf!X35","v":126},{"$f":"J4/$J$3","v":6.8927789934354486E-2}]
["Belgien",false,"",0,{"$f":"IF(AND(B5=TRUE,ISERROR(NR_Berechnung!BJ5)),1/0,1)","v":1},{"$f":"IF(AND(B5=TRUE,ISERROR(NR_Berechnung!BJ34)),1/0,1)","v":1},{"$f":"IF(AND(B5=TRUE,ISERROR(NR_Berechnung!BJ64)),1/0,1)","v":1},{"$f":"RD_Einwohner!X15","v":11522440},3.152412796681002E-2,{"$f":"RD_BIP_Kopf!X16","v":118},{"$f":"J5/$J$3","v":6.4551422319474833E-2}]
["Tschechien",true,"Tschechien",1,{"$f":"IF(AND(B6=TRUE,ISERROR(NR_Berechnung!BJ6)),1/0,1)","v":1},{"$f":"IF(AND(B6=TRUE,ISERROR(NR_Berechnung!BJ35)),1/0,1)","v":1},{"$f":"IF(AND(B6=TRUE,ISERROR(NR_Berechnung!BJ65)),1/0,1)","v":1},{"$f":"RD_Einwohner!X17","v":10693939},2.925744039502574E-2,{"$f":"RD_BIP_Kopf!X18","v":93},5.0875273522975932E-2]
["Dänemark",true,"Dänemark",1,{"$f":"IF(AND(B7=TRUE,ISERROR(NR_Berechnung!BJ7)),1/0,1)","v":1},{"$f":"IF(AND(B7=TRUE,ISERROR(NR_Berechnung!BJ36)),1/0,1)","v":1},{"$f":"IF(AND(B7=TRUE,ISERROR(NR_Berechnung!BJ66)),1/0,1)","v":1},{"$f":"RD_Einwohner!X18","v":5822763},1.5930438859512969E-2,{"$f":"RD_BIP_Kopf!X19","v":130},7.1115973741794306E-2]
["Estland",true,"Estland",1,{"$f":"IF(AND(B8=TRUE,ISERROR(NR_Berechnung!BJ8)),1/0,1)","v":1},{"$f":"IF(AND(B8=TRUE,ISERROR(NR_Berechnung!BJ37)),1/0,1)","v":1},{"$f":"IF(AND(B8=TRUE,ISERROR(NR_Berechnung!BJ67)),1/0,1)","v":1},{"$f":"RD_Einwohner!X20","v":1328976},3.6359321019523048E-3,{"$f":"RD_BIP_Kopf!X21","v":84},4.5951859956236324E-2]
["Frankreich",false,"",0,{"$f":"IF(AND(B9=TRUE,ISERROR(NR_Berechnung!BJ9)),1/0,1)","v":1},{"$f":"IF(AND(B9=TRUE,ISERROR(NR_Berechnung!BJ38)),1/0,1)","v":1},{"$f":"IF(AND(B9=TRUE,ISERROR(NR_Berechnung!BJ68)),1/0,1)","v":1},{"$f":"RD_Einwohner!X24","v":67098824},0.18357499923613951,{"$f":"RD_BIP_Kopf!X25","v":106},5.798687089715536E-2]
["Griechenland",true,"Griechenland",1,{"$f":"IF(AND(B10=TRUE,ISERROR(NR_Berechnung!BJ10)),1/0,1)","v":1},{"$f":"IF(AND(B10=TRUE,ISERROR(NR_Berechnung!BJ39)),1/0,1)","v":1},{"$f":"IF(AND(B10=TRUE,ISERROR(NR_Berechnung!BJ69)),1/0,1)","v":1},{"$f":"RD_Einwohner!X22","v":10709739},2.9300667456470676E-2,{"$f":"RD_BIP_Kopf!X23","v":67},3.665207877461707E-2]
["Italien",true,"Italien",1,{"$f":"IF(AND(B11=TRUE,ISERROR(NR_Berechnung!BJ11)),1/0,1)","v":{"$error":"#DIV/0!"}},{"$f":"IF(AND(B11=TRUE,ISERROR(NR_Berechnung!BJ40)),1/0,1)","v":{"$error":"#DIV/0!"}},{"$f":"IF(AND(B11=TRUE,ISERROR(NR_Berechnung!BJ70)),1/0,1)","v":1},{"$f":"RD_Einwohner!X27","v":60244639},0.16482270327728099,{"$f":"RD_BIP_Kopf!X27","v":96},5.2516411378555797E-2]
["Spanien",true,"Spanien",1,{"$f":"IF(AND(B12=TRUE,ISERROR(NR_Berechnung!BJ12)),1/0,1)","v":1},{"$f":"IF(AND(B12=TRUE,ISERROR(NR_Berechnung!BJ41)),1/0,1)","v":{"$error":"#DIV/0!"}},{"$f":"IF(AND(B12=TRUE,ISERROR(NR_Berechnung!BJ71)),1/0,1)","v":1},{"$f":"RD_Einwohner!X23","v":47329981},0.12948962005536041,{"$f":"RD_BIP_Kopf!X24","v":91},4.9781181619256015E-2]
["Finnland",true,"Finnland",1,{"$f":"IF(AND(B13=TRUE,ISERROR(NR_Berechnung!BJ13)),1/0,1)","v":1},{"$f":"IF(AND(B13=TRUE,ISERROR(NR_Berechnung!BJ42)),1/0,1)","v":1},{"$f":"IF(AND(B13=TRUE,ISERROR(NR_Berechnung!BJ72)),1/0,1)","v":1},{"$f":"RD_Einwohner!X41","v":5525292},1.5116590935773298E-2,{"$f":"RD_BIP_Kopf!X41","v":111},6.0722100656455141E-2]
["Ungarn",true,"Ungarn",1,{"$f":"IF(AND(B14=TRUE,ISERROR(NR_Berechnung!BJ14)),1/0,1)","v":1},{"$f":"IF(AND(B14=TRUE,ISERROR(NR_Berechnung!BJ43)),1/0,1)","v":1},{"$f":"IF(AND(B14=TRUE,ISERROR(NR_Berechnung!BJ73)),1/0,1)","v":1},{"$f":"RD_Einwohner!X32","v":9769526},2.6728348144930903E-2,{"$f":"RD_BIP_Kopf!X32","v":73},3.9934354485776806E-2]
["Irland",true,"Irland",1,{"$f":"IF(AND(B15=TRUE,ISERROR(NR_Berechnung!BJ15)),1/0,1)","v":1},{"$f":"IF(AND(B15=TRUE,ISERROR(NR_Berechnung!BJ44)),1/0,1)","v":{"$error":"#DIV/0!"}},{"$f":"IF(AND(B15=TRUE,ISERROR(NR_Berechnung!BJ74)),1/0,1)","v":1},{"$f":"RD_Einwohner!X21","v":4963839},1.3580517307327466E-2,{"$f":"RD_BIP_Kopf!X22","v":193},0.10557986870897156]
["Niederlande",true,"Niederlande",1,{"$f":"IF(AND(B16=TRUE,ISERROR(NR_Berechnung!BJ16)),1/0,1)","v":1},{"$f":"IF(AND(B16=TRUE,ISERROR(NR_Berechnung!BJ45)),1/0,1)","v":1},{"$f":"IF(AND(B16=TRUE,ISERROR(NR_Berechnung!BJ75)),1/0,1)","v":1},{"$f":"RD_Einwohner!X34","v":17407585},4.7625237114111478E-2,{"$f":"RD_BIP_Kopf!X34","v":128},7.0021881838074396E-2]
["Portugal",true,"Portugal",1,{"$f":"IF(AND(B17=TRUE,ISERROR(NR_Berechnung!BJ17)),1/0,1)","v":1},{"$f":"IF(AND(B17=TRUE,ISERROR(NR_Berechnung!BJ46)),1/0,1)","v":{"$error":"#DIV/0!"}},{"$f":"IF(AND(B17=TRUE,ISERROR(NR_Berechnung!BJ76)),1/0,1)","v":1},{"$f":"RD_Einwohner!X37","v":10295909},2.8168474112308765E-2,{"$f":"RD_BIP_Kopf!X37","v":79},4.3216630196936542E-2]
["Rumänien",true,"Rumänien",1,{"$f":"IF(AND(B18=TRUE,ISERROR(NR_Berechnung!BJ18)),1/0,1)","v":1},{"$f":"IF(AND(B18=TRUE,ISERROR(NR_Berechnung!BJ47)),1/0,1)","v":1},{"$f":"IF(AND(B18=TRUE,ISERROR(NR_Berechnung!BJ77)),1/0,1)","v":1},{"$f":"RD_Einwohner!X38","v":19317984},5.2851878567108053E-2,{"$f":"RD_BIP_Kopf!X38","v":70},3.8293216630196934E-2]
["Slowenien",true,"Slowenien",1,{"$f":"IF(AND(B19=TRUE,ISERROR(NR_Berechnung!BJ19)),1/0,1)","v":1},{"$f":"IF(AND(B19=TRUE,ISERROR(NR_Berechnung!BJ48)),1/0,1)","v":{"$error":"#DIV/0!"}},{"$f":"IF(AND(B19=TRUE,ISERROR(NR_Berechnung!BJ78)),1/0,1)","v":1},{"$f":"RD_Einwohner!X39","v":2095861},5.7340450776611918E-3,{"$f":"RD_BIP_Kopf!X39","v":89},4.8687089715536105E-2]
["Slowakei",true,"Slowakei",1,{"$f":"IF(AND(B20=TRUE,ISERROR(NR_Berechnung!BJ20)),1/0,1)","v":1},{"$f":"IF(AND(B20=TRUE,ISERROR(NR_Berechnung!BJ49)),1/0,1)","v":{"$error":"#DIV/0!"}},{"$f":"IF(AND(B20=TRUE,ISERROR(NR_Berechnung!BJ79)),1/0,1)","v":1},{"$f":"RD_Einwohner!X40","v":5457873},1.4932139970231767E-2,{"$f":"RD_BIP_Kopf!X40","v":70},3.8293216630196934E-2]
["Großbritannien",false,"",0,{"$f":"IF(AND(B21=TRUE,ISERROR(NR_Berechnung!BJ21)),1/0,1)","v":1},{"$f":"IF(AND(B21=TRUE,ISERROR(NR_Berechnung!BJ50)),1/0,1)","v":1},{"$f":"IF(AND(B21=TRUE,ISERROR(NR_Berechnung!BJ80)),1/0,1)","v":1},{"$f":"RD_Einwohner!X43","v":67025542},0.18337450774773395,{"$f":"RD_BIP_Kopf!X43","v":104},5.689277899343545E-2]
[null,{"$f":"IF(AND(B3=FALSE,B4=FALSE,B5=FALSE,B6=FALSE,B7=FALSE,B8=FALSE,B9=FALSE,B10=FALSE,B11=FALSE,B12=FALSE,B13=FALSE,B14=FALSE,B15=FALSE,B16=FALSE,B17=FALSE,B18=FALSE,B19=FALSE,B20=FALSE,B21=FALSE),1,\"\")","v":""},null,{"$f":"SUM(D3:D21)","v":15},{"$f":"SUM(E3:E21)","v":{"$error":"#DIV/0!"}},{"$error":"#DIV/0!"},18]
["Geometrisches Mittel"]
["Arithmetisches Mittel"]
[]
["Gleichgewichtet (einfacher Durchschnitt)"]
["Nach Einwohnerzahl"]
["Nach BIP pro Kopf"]
[]
["Bruttowertschöpfung pro Stunde"]
["Bruttowertschöpfung pro Erwerbstätige(r)"]
["Produktionswert pro Erwerbstätige(r)"]

{"sheet":"RD_Einwohner","index":8,"n_rows":72,"n_cols":25,"rows_kept":72,"cut":false,"hidden":false,"merged":[[7,23,7,24],[7,1,7,2],[7,3,7,4],[7,5,7,6],[7,7,7,8],[7,9,7,10],[7,11,7,12],[7,13,7,14],[7,15,7,16],[7,17,7,18],[7,19,7,20],[7,21,7,22]]}
["Daten abgefragt am 22/04/2021 von [ESTAT]"]
["Datensatz: ","Bevölkerung am 1. Januar [TPS00001]"]
["Letzte Änderung: ","10/07/2020 11:00"]
[]
["Zeitliche Frequenz",null,"Jährlich"]
["Demographische Indikator",null,"Bevölkerung am 1. Januar - insgesamt"]
[]
["TIME","2009","","2010","","2011","","2012","","2013","","2014","","2015","","2016","","2017","","2018","","2019","","2020",""]
["GEO (Beschriftungen)","","","","","","","","","","","","","","","","","","","","","","","",""]
["Europäische Union - 27 Länder (ab 2020)",440047892,"",440660421,"b",439942305,"b",440552661,"b",441257711,"",442883888,"b",443666812,"b",444802830,"",445534430,"b",446208557,"p",446446444,"ep",447319916,"ep"]
["Europäische Union - 28 Länder (2013-2020)",502090235,"",503170618,"b",502964837,"b",504047749,"b",505163053,"",507235091,"b",508520205,"b",510181874,"",511378572,"b",512482133,"p",513093556,"ep",":",""]
["Europäische Union - 27 Länder (2007-2013)",497780439,"",498867771,"b",498674980,"b",499771765,"b",500900913,"",502988282,"b",504294889,"b",505991205,"",507224359,"b",508376640,"p",509395430,"ep",510287476,"ep"]
["Euroraum - 19 Länder (ab 2015)",334470255,"",335266424,"",334572589,"b",335288924,"b",336044966,"",337764352,"b",338562121,"b",339787987,"",340541142,"b",341523004,"p",341524067,"ep",342409476,"ep"]
["Euroraum - 18 Länder (2014)",331286399,"",332124448,"",331520001,"b",332285283,"b",333073061,"",334820880,"b",335640859,"b",336899429,"",337693238,"b",338444103,"p",339729883,"ep",339615386,"ep"]
["Belgien",10753080,"",10839905,"",11000638,"b",11075889,"b",11137974,"",11180840,"",11237274,"",11311117,"",11351727,"",11398589,"",11455519,"",11522440,""]
["Bulgarien",7467119,"",7421766,"",7369431,"",7327224,"",7284552,"",7245677,"",7202198,"",7153784,"",7101859,"",7050034,"",7000039,"",6951482,""]
["Tschechien",10425783,"",10462088,"",10486731,"",10505445,"",10516125,"",10512419,"",10538275,"",10553843,"",10578820,"",10610055,"",10649800,"",10693939,""]
["Dänemark",5511451,"",5534738,"",5560628,"",5580516,"",5602628,"",5627235,"",5659715,"",5707251,"",5748769,"",5781190,"",5806081,"",5822763,""]
["Deutschland (bis 1990 früheres Gebiet der BRD)",82002356,"",81802257,"",80222065,"b",80327900,"",80523746,"",80767463,"",81197537,"",82175684,"",82521653,"",82792351,"",83019213,"",83166711,""]
["Estland",1335740,"",1333290,"",1329660,"",1325217,"",1320174,"",1315819,"",1314870,"b",1315944,"",1315635,"",1319133,"",1324820,"",1328976,""]
["Irland",4521322,"",4549428,"",4570881,"",4589287,"",4609779,"",4637852,"",4677627,"",4726286,"",4784383,"",4830392,"",4904240,"e",4963839,"e"]
["Griechenland",11094745,"",11119289,"",11123392,"",11086406,"",11003615,"",10926807,"",10858018,"",10783748,"",10768193,"",10741165,"",10724599,"",10709739,"ep"]
["Spanien",46239273,"",46486619,"",46667174,"",46818219,"",46727890,"",46512199,"",46449565,"",46440099,"",46528024,"",46658447,"",46937060,"",47329981,"p"]
["Frankreich",64350226,"",64658856,"",64978721,"",65276983,"",65600350,"",66165980,"b",66458153,"",66638391,"",66809816,"",67026224,"p",67199636,"p",67098824,"p"]
["Frankreich (metropolitanes)",62465709,"",62765235,"",63070344,"",63375971,"",63697865,"",":","",":","",":","",":","",":","",":","",":",""]
["Kroatien",4309796,"",4302847,"",4289857,"",4275984,"",4262140,"",4246809,"",4225316,"",4190669,"",4154213,"",4105493,"",4076246,"",4058165,""]
["Italien",59000586,"",59190143,"",59364690,"",59394207,"",59685227,"",60782668,"",60795612,"",60665551,"",60589445,"",60483973,"",59816673,"p",60244639,"p"]
["Zypern",796930,"",819140,"",839751,"",862011,"",865878,"",858000,"",847008,"",848319,"",854802,"",864236,"",875899,"",888005,"p"]
["Lettland",2162834,"",2120504,"",2074605,"",2044813,"",2023825,"",2001468,"",1986096,"",1968957,"",1950116,"",1934379,"",1919968,"",1907675,""]
["Litauen",3183856,"",3141976,"",3052588,"",3003641,"",2971905,"",2943472,"",2921262,"",2888558,"",2847904,"",2808901,"",2794184,"",2794090,""]
["Luxemburg",493500,"",502066,"",511840,"",524853,"b",537039,"",549680,"",562958,"",576249,"",590667,"b",602005,"",613894,"",626108,""]
["Ungarn",10030975,"",10014324,"",9985722,"",9931925,"b",9908798,"",9877365,"",9855571,"",9830485,"",9797561,"",9778371,"",9772756,"",9769526,""]
["Malta",410926,"",414027,"",414989,"",417546,"",422509,"",429424,"",439691,"",450415,"",460297,"",475701,"",493559,"",514564,""]
["Niederlande",16485787,"",16574989,"",16655799,"",16730348,"",16779575,"",16829289,"",16900726,"",16979120,"",17081507,"",17181084,"",17282163,"",17407585,""]
["Österreich",8335003,"",8351643,"",8375164,"",8408121,"",8451860,"",8507786,"",8584926,"",8700471,"",8772865,"",8822267,"",8858775,"",8901064,""]
["Polen",38135876,"",38022869,"b",38062718,"",38063792,"",38062535,"",38017856,"",38005614,"",37967209,"",37972964,"",37976687,"",37972812,"",37958138,""]
["Portugal",10563014,"",10573479,"",10572721,"",10542398,"",10487289,"",10427301,"",10374822,"",10341330,"",10309573,"",10291027,"",10276617,"",10295909,""]
["Rumänien",20440290,"",20294683,"",20199059,"",20095996,"",20020074,"",19947311,"",19870647,"",19760585,"",19643949,"",19530631,"",19414458,"",19317984,"p"]
["Slowenien",2032362,"",2046976,"",2050189,"",2055496,"",2058821,"",2061085,"",2062874,"",2064188,"",2065895,"",2066880,"",2080908,"",2095861,""]
["Slowakei",5382401,"",5390410,"",5392446,"",5404322,"",5410836,"",5415949,"",5421349,"",5426252,"",5435343,"",5443120,"",5450421,"",5457873,""]
["Finnland",5326314,"",5351427,"",5375276,"",5401267,"",5426674,"",5451270,"",5471753,"",5487308,"",5503297,"",5513130,"",5517919,"",5525292,""]
["Schweden",9256347,"",9340682,"",9415570,"",9482855,"",9555893,"",9644864,"",9747355,"",9851017,"",9995153,"",10120242,"",10230185,"",10327589,""]
["Vereinigtes Königreich",62042343,"",62510197,"",63022532,"",63495088,"",63905342,"",64351203,"",64853393,"",65379044,"",65844142,"",66273576,"",66647112,"",67025542,"p"]
["Island",319368,"",317630,"",318452,"",319575,"",321857,"",325671,"",329100,"",332529,"",338349,"",348450,"",356991,"",364134,""]
["Liechtenstein",35589,"",35894,"",36149,"",36475,"",36838,"",37129,"",37366,"",37622,"",37810,"",38114,"",38378,"",38748,"p"]
["Norwegen",4799252,"",4858199,"",4920305,"",4985870,"",5051275,"",5107970,"",5166493,"",5210721,"",5258317,"",5295619,"",5328212,"",5367580,""]
["Schweiz",7701856,"",7785806,"",7870134,"b",7954662,"",8039060,"",8139631,"",8237666,"",8327126,"",8419550,"",8484130,"",8544527,"",8606033,""]
["Montenegro",617157,"",619001,"",619850,"",620308,"",620893,"",621521,"",622099,"",622218,"",622387,"",622359,"",622182,"",621873,""]
["Nordmazedonien",2048619,"",2052722,"",2057284,"",2059794,"",2062294,"",2065769,"",2069172,"",2071278,"",2073702,"",2075301,"",2077132,"e",2076255,"e"]
["Albanien",2936355,"",2918674,"",2907361,"",2903008,"",2897770,"",2892394,"",2885796,"",2875592,"",2876591,"",2870324,"",2862427,"",2845955,""]
["Serbien",7334937,"",7306677,"",7251549,"b",7216649,"",7181505,"",7146759,"",7114393,"",7076372,"",7040272,"",7001444,"",6963764,"",6926705,""]
["Türkei",71517100,"",72561312,"",73722988,"",74724269,"",75627384,"",76667864,"",77695904,"",78741053,"",79814871,"",80810525,"",82003882,"",83154997,""]
["Andorra",84484,"",84082,"",78115,"b",78115,"",76246,"",":","",":","",71732,"",":","",74794,"e",76177,"e",77543,"e"]
["Belarus",9671912,"",9480178,"",9481193,"",9465150,"",9463840,"",9468154,"",9480868,"e",9498364,"",9504704,"",9491823,"",9427348,"",9408350,""]
["Bosnien und Herzegowina",3843998,"",3844046,"",3843183,"",3839265,"",3835645,"",3830911,"",3825334,"",3515982,"",3509728,"",3500295,"",3492018,"p",":",""]
["Kosovo (gemäß der Resolution 1244/99 des Sicherheitsrates der Vereinten Nationen)",2180686,"",2208107,"",1794180,"b",1780021,"e",1815606,"e",1820631,"e",1804944,"e",1771604,"e",1783531,"e",1798506,"e",1795666,"",1782115,"e"]
["Moldau",3567512,"",3563695,"",3560430,"",3559541,"",3559497,"",3557634,"",3555159,"",3553056,"",3550852,"",3547539,"",":","",":",""]
["Monaco",":","",":","",":","",":","",":","",":","",37700,"e",38200,"",":","",38300,"",38300,"e",":",""]
["Russland",141903979,"",141914509,"",142856536,"",143056383,"",":","",143666931,"",":","",":","",":","",":","",":","",":",""]
["San Marino",31269,"",":","",31863,"",33376,"",33562,"",32520,"",32789,"",33005,"",33196,"",34453,"",34590,"",34735,""]
["Ukraine",45963359,"",45782592,"",45598179,"",45453282,"",45372692,"",45245894,"",42759661,"b",42590879,"",42414905,"",42216766,"",41983564,"e",41732779,"e"]
["Armenien",3237976,"",3249482,"",3262650,"",3274285,"",3026878,"",":","",3010598,"",2998577,"",2986151,"",2972732,"",2965269,"",2959694,""]
["Aserbaidschan",8896900,"",8997586,"",9111078,"",9235085,"",9356483,"",9477119,"",9593038,"",9705643,"",9809981,"",9898085,"",9981457,"",10067108,""]
["Georgien",4385429,"",4436391,"",4469250,"",4497617,"",":","",4490498,"",3729500,"e",3720400,"",3726374,"",3729633,"",3723464,"",3716858,""]
[]
["Spezial Zeichen"]
[":","nicht erhältlich"]
["Erhältliche Flaggen:"]
["ep","geschätzt, vorläufig"]
["b","Zeitreihenbruch"]
["e","geschätzt"]
["p","vorläufig"]

{"sheet":"RD_BIP_Kopf","index":9,"n_rows":58,"n_cols":25,"rows_kept":58,"cut":false,"hidden":false,"merged":[[8,23,8,24],[8,1,8,2],[8,3,8,4],[8,5,8,6],[8,7,8,8],[8,9,8,10],[8,11,8,12],[8,13,8,14],[8,15,8,16],[8,17,8,18],[8,19,8,20],[8,21,8,22]]}
["Daten abgefragt am 22/04/2021 von [ESTAT]"]
["Datensatz: ","BIP pro Kopf in KKS [TEC00114]"]
["Letzte Änderung: ","18/06/2020 11:00"]
[]
["Zeitliche Frequenz",null,"Jährlich"]
["Volkswirtschaftliche Gesamtrechnungen Indikator (ESVG 2010)",null,"Volumenindex der realen Pro-Kopf Ausgaben ( in PPS_EU27_2020=100)"]
["Analytische Kategorien zur Berechnung der Kaufkraftparitäten (KKP)",null,"Bruttoinlandsprodukt"]
[]
["TIME","2008","","2009","","2010","","2011","","2012","","2013","","2014","","2015","","2016","","2017","","2018","","2019",""]
["GEO (Beschriftungen)","","","","","","","","","","","","","","","","","","","","","","","",""]
["Europäische Union - 27 Länder (ab 2020)",100,"",100,"",100,"",100,"",100,"",100,"",100,"",100,"",100,"",100,"",100,"",100,""]
["Europäische Union - 28 Länder (2013-2020)",102,"",101,"",101,"",101,"",101,"",101,"",101,"",101,"",101,"",101,"",101,"",101,""]
["Europäische Union - 27 Länder (2007-2013)",102,"",102,"",102,"",101,"",102,"",102,"",102,"",102,"",101,"",101,"",101,"",101,""]
["Euroraum - 19 Länder (ab 2015)",110,"",110,"",109,"",109,"",108,"",108,"",108,"",108,"",107,"",107,"",107,"",106,""]
["Euroraum - 18 Länder (2014)",111,"",110,"",110,"",109,"",109,"",108,"",108,"",108,"",108,"",107,"",107,"",106,""]
["Belgien",116,"",119,"",121,"",119,"",121,"",121,"",121,"",121,"",120,"",119,"",118,"",118,""]
["Bulgarien",43,"",44,"",44,"",46,"",47,"",46,"",47,"",48,"",49,"",50,"",51,"",53,""]
["Tschechien",85,"",86,"",84,"",84,"",83,"",85,"",87,"",88,"",88,"",90,"",91,"",93,""]
["Dänemark",127,"",127,"",131,"",129,"",129,"",130,"",129,"",128,"",128,"",129,"",129,"",130,""]
["Deutschland (bis 1990 früheres Gebiet der BRD)",118,"",118,"",121,"",124,"",124,"",125,"",127,"",125,"",125,"",124,"",123,"",120,""]
["Estland",70,"",65,"",66,"",72,"",75,"",77,"",79,"",77,"",77,"",79,"",82,"",84,""]
["Irland",136,"",131,"",132,"",130,"",133,"",133,"",138,"",181,"",178,"",183,"",191,"",193,""]
["Griechenland",95,"",95,"",86,"",76,"",73,"",72,"",72,"",70,"",69,"",68,"",68,"",67,""]
["Spanien",102,"",101,"",96,"",93,"",91,"",90,"",91,"",91,"",92,"",93,"",91,"",91,""]
["Frankreich",108,"",109,"",109,"",109,"",108,"",110,"",108,"",107,"",106,"",104,"",104,"",106,""]
["Kroatien",64,"",63,"",60,"",60,"",61,"",60,"",60,"",60,"",61,"",62,"",63,"",65,""]
["Italien",108,"",108,"",106,"",105,"",103,"",100,"",98,"",97,"",98,"",98,"",97,"",96,""]
["Zypern",107,"",106,"",102,"",97,"",91,"",84,"",81,"",83,"",88,"",89,"",90,"",90,""]
["Lettland",60,"",53,"",53,"",58,"",61,"",63,"",64,"",65,"",65,"",67,"",69,"",69,""]
["Litauen",64,"",57,"",61,"",66,"",71,"",74,"",76,"",75,"",76,"",79,"",81,"",84,""]
["Luxemburg",266,"",258,"",260,"",267,"",263,"",264,"",272,"",272,"",272,"",264,"",263,"",260,""]
["Ungarn",64,"",65,"",66,"",67,"",66,"",68,"",69,"",70,"",68,"",69,"",71,"",73,""]
["Malta",80,"",82,"",85,"",83,"",84,"",86,"",90,"",95,"",96,"",98,"",99,"",100,""]
["Niederlande",143,"",140,"",137,"",135,"",136,"",137,"",133,"",132,"",129,"",129,"",130,"",128,""]
["Österreich",127,"",128,"",128,"",129,"",133,"",133,"",132,"",131,"",130,"",128,"",128,"",126,""]
["Polen",56,"",60,"",63,"",66,"",68,"",68,"",68,"",69,"",69,"",70,"",71,"",73,""]
["Portugal",82,"",83,"",83,"",78,"",76,"",78,"",78,"",78,"",78,"",77,"",77,"",79,""]
["Rumänien",52,"",52,"",52,"",52,"",54,"",55,"",56,"",57,"",60,"",64,"",66,"",70,""]
["Slowenien",91,"",86,"",85,"",84,"",83,"",83,"",83,"",83,"",84,"",86,"",87,"",89,""]
["Slowakei",73,"",72,"",76,"",76,"",77,"",78,"",78,"",78,"",73,"",72,"",73,"",70,""]
["Finnland",123,"",119,"",118,"",119,"",117,"",115,"",113,"",111,"",111,"",111,"",111,"",111,""]
["Schweden",129,"",126,"",128,"",130,"",130,"",128,"",127,"",129,"",124,"",123,"",121,"",119,""]
["Vereinigtes Königreich",113,"",110,"",111,"",108,"",110,"",111,"",111,"",111,"",109,"",108,"",106,"",104,""]
["Island",132,"",131,"",120,"",119,"",120,"",123,"",123,"",128,"",131,"",130,"",130,"",126,""]
["Liechtenstein",":","",":","",":","",":","",":","",":","",":","",":","",":","",":","",":","",":",""]
["Norwegen",190,"",174,"",176,"",180,"",187,"",186,"",178,"",158,"",145,"",147,"",153,"",147,""]
["Schweiz",161,"",162,"",161,"",163,"",166,"",167,"",167,"",167,"",162,"",157,"",156,"",158,""]
["Montenegro",42,"",41,"",41,"",42,"",40,"",41,"",41,"",43,"",45,"",46,"",48,"",50,""]
["Nordmazedonien",32,"",35,"",35,"",34,"",34,"",35,"",36,"",36,"",37,"",37,"",37,"",38,""]
["Albanien",25,"",28,"",29,"",30,"",30,"",29,"",30,"",31,"",30,"",31,"",31,"",31,""]
["Serbien",39,"",39,"",39,"",40,"",40,"",41,"",40,"",39,"",39,"",39,"",40,"",41,""]
["Türkei",49,"",48,"",52,"",57,"",59,"",62,"",65,"",67,"",65,"",66,"",64,"",59,""]
["Bosnien und Herzegowina",29,"",30,"",30,"",30,"",30,"",31,"",30,"",31,"",31,"",31,"",32,"",32,""]
["Vereinigte Staaten",148,"",147,"",147,"",145,"",148,"",147,"",148,"",149,"",144,"",141,"",142,"",140,""]
["Japan",107,"",104,"",106,"",104,"",107,"",108,"",106,"",106,"",99,"",95,"",93,"",91,""]
[]
["Spezial Zeichen"]
[":","nicht erhältlich"]

{"sheet":"RD_Daten_Produktivität","index":10,"n_rows":107,"n_cols":24,"rows_kept":107,"cut":false,"hidden":false,"merged":[]}
[]
["BWS (preisbereinigt)"]
[null,1995,{"$f":"B3+1","v":1996},{"$f":"C3+1","v":1997},1998,1999,2000,2001,2002,2003,2004,2005,2006,2007,2008,2009,2010,2011,2012,2013,2014,2015,2016,2017]
["Österreich",666.99371471638506,803.3222775048547,783.96420336351366,908.14083343771688,1058.1661730068729,1079.4246838289,1031.0790690728024,1003.8616565581771,1006.0395806021362,1012.2626327741719,1205.6233909303619,1304.9100231246268,1389.0701202356847,1400.8579860528591,1361.7946343270839,1330.6,1262.7000231682227,1258.119558595271,1258.9348279870544,1252.8718592031776,1154.2276130268376,1151.908203353209,1186.0097114446721]
["Belgien",2553,2633.7,2634.1,2653.1,2617.9,2735.2,2460.1,2313.1999999999998,2331,2299.1,2281.1999999999998,2271.6999999999998,2297.1999999999998,2324.1999999999998,2113.4,2062,2076.6,1935.3,1888.7,1770.6,1704.8,1631.8]
["Tschechien",12185.993338637463,12404.712897092284,8854.9650412552601,10531.468394054429,9698.4084728293928,10518.273931357238,11131.477847182703,11762.544639143303,12615.169439792084,13087.76714576453,13793.580435413209,14198.189470654719,16336.258223699406,16481.025364723202,16654.285688930959,16533,16391,15635.389973301691,14796.676225439658,13759.760977994281,13448.603864449411,12908.528913402966,12318.964118868498]
["Dänemark",17810.865645994661,18279.163795689972,18545.707398880921,18164.402124718526,17341.055181891938,14725.548513795706,18248.764856904272,17670.857514064013,16044.274558271474,15964.943456730742,15897.162294700509,14450.268486316141,13836.077367412649,11334.386301472097,10074.75672658256,9602,8315,7444.0179160255002,7251.6853322174911,7069.6386010627084,6221.5096545584065,5296.9924266376674,5947.642776850329]
["Estland",21.029785093192082,22.986043152037904,23.994203742308191,28.929181034300171,31.095000805659385,33.054770823612238,39.468384196551462,41.974313351888064,41.233590175090036,45.567801791066145,51.906631940564445,52.413038105838247,61.296605018827734,56.326611804153323,42.631109619140624,39.6,34.600001333217477,31.064235926909664,34.901149942939561,34.155399432588325,33.574304711989974,33.451993018254299,35.346619171500564]
["Frankreich",9003.6892231455531,9270.0388820434237,9059.2947745530746,9375.7821506870059,9916.7874561748595,10036.584357070906,10117.680733327992,10028.865113615037,9728.0716405615385,9791.9895112492595,9680.2188162909533,9662.6623097096053,9730.1958936359097,9545.3138623520517,9148.9120879120874,8583,8219,7935.5527341443249,7287.772096153345,7044.1415164282744,6338.5921988041209,6139.1178052838131,6328.6124285908209]
["Griechenland",271.04305632896074,289.48069518018491,348.5294372904462,383.95014034328358,470.59844592509779,504.14674417010588,556.36604365844573,645.68688138651225,643.84758386248814,658.30522582222056,714.70623822345954,864.21227822532546,828.50666567759492,877.88713875739779,777.75649077932303,650.5,561.6,461.8233601216387,355.69375857316714,348.67649573763424,319.40803076695693,315.37068587469588,323.67377254591719]
["Italien",4089.3358034900207,4059.3146791689724,4287.819767308144,4241.4337590377527,4673.1431794440014,4853.206772190867,5445.7479788729424,5081.2265721531494,4907.036311767155,4507.6863234532902,4548.5728526129515,4482.5056326348922,4742.8814707374959,4566.5524223077837,4438.6725470721922,4440.1000000000004,4080.9999102418537,3854.8455977275312,4125.4656411053511,3617.6372979854118,3662.2400067632821,3584.9984392458919,3797.4515549285074]
["Spanien",946.26152162712742,1094.284413216629,1256.2188779527221,1374.8246496743222,1441.930184740793,1639.0164366270931,1763.6146676954465,1913.1987389868927,2033.3997068813574,2167.3198488668231,2302.9480124456372,2318.5084719891888,2551.1837591820986,2645.2961437884542,2450.1821019771073,2625,2585,2359.0564163686931,2401.9293388292945,2607.659808285543,2595.2423806270403,2427.8397241709895,2283.2798667775278]
["Finnland",912.92419695011176,943.3109647212442,995.36446344745002,1022.4054126484803,1033.807703495861,1055.110407689109,1064.95974638399,1055.1670130839072,1058.7438504163949,1040.8192931294357,1076.0217494923252,1086.6637228389525,1067.9483088826305,1028.6442175988323,968.26258637709782,975,904,863.42922899884923,754.00847417180614,615.44367104238108,572.8187752350716,531.00718580185469,467.46786442385496]
["Ungarn",77157.884911313609,68446.665038441293,68432.65152618337,70059.066260448511,70843.033171418836,76143.307544888288,110827.15845233812,120327.55336619529,103060.37640075962,112942.82636925988,123632.78234711201,137857.01569819258,141368.52770761069,154946.9444695409,143552.95652856134,142924,138623,133481.15575136108,131243.46939812839,132700.6678131446,134249.07023020936,134291.45619624676,126468.40979877766]
["Irland",743.03674458894398,778.44927290011128,851.97600482357655,875.13979095793968,902.45155396839891,901.43868385188762,914.87312318938098,927.72541651741017,871.74897976813986,833.94353931901128,741.99434022361618,802.55024780687722,774.96080183001197,802.01462362835457,803.72469815094325,852.2,826.7999881568021,799.71499910166153,783.72742057493338,770.40417380104668,753.45922266373464,741.60308239829953,737.45265939567912]
["Niederlande",2347.2702450632364,2460.7544503006302,2463.0682767701182,2563.3288579140853,2576.5475714056925,2734.7853510981217,2872.8947515944596,2837.2535761047538,2861.0234080447026,3207.4880704705747,3172.2174585660332,3137.1829284011474,3111.0919193492418,3062.670255234857,2901.7887690591297,2715,2462,2164.7127784290738,1914.4464065769362,1807.9951396613185,1548.4964780098007,1447.944758658515,1438.4277508551256]
["Portugal",293.07495910463808,300.24499335528679,313.75180615378639,335.33473294653095,361.2686703733653,397.20371333793724,404.49066611681081,411.39871808763309,414.65709024868517,439.63923091487891,446.33425913991516,465.77964979288987,504.6678564029566,512.38482012120198,486.54500741986647,515.1,490.20002323388474,452.8043403312796,433.00096941291264,426.56370664844053,424.63711509351162,393.95123422711254,425.54750569882486]
["Rumänien",895.81460954404224,1132.1338540096231,1070.0045820319215,1055.2551050818197,1091.4572875189331,1092.5597696275379,1129.2145151749235,1133.4611338644702,1036.7869556236155,1191.3644863280133,1362.3258998215524,1422.4704623486316,1433.3619853606738,1837.4058736194452,1801.7258679955685,1628,1676.3,1638.7708465756621,1752.2796895391866,1742.7945573933494,1561.7854765799761,2080.158647108949,1847.1567802758079]
["Slowenien",150.52153286120333,159.05311280686286,181.40181913918855,181.14739088207938,189.18215030737252,195.6341639416562,173.6201341334295,181.9985831648211,183.99543502364165,179.75532058922605,178.94613265088228,197.74001667345217,197.94525075448828,209.83016560491745,205.73191711730195,202.5,212.5,199.99999710459417,181.48710184329224,179.33584797133969,171.7959216785537,168.44199385884409,157.26748942603646]
["Slowakei",244.69289398576493,303.63851461937207,351.96104632957935,374.2641433813975,402.46401101161763,308.64555353348959,307.24805183383415,278.03009025681587,306.55439272974672,262.45646136915747,368.7429760505521,376.92012154456017,378.55824806831691,341.67158587291067,288.47187866827454,266.8,258.90001184557923,269.69966793490579,268.03243362403549,286.03169194039407,300.0923829901231,315.5857114044353,335.90194999840202]
["Großbritannien",6872.9981980081866,7240.5916981381506,8073.0000023484299,8973.3532736383804,9153.246753285126,10350.17018980863,10876.139328882011,11358.5371906658,13658.211773027562,14957.622394450553,14804.125527643011,13663.029556392012,12841.421988412982,10956.930711003053,9257.7143929912381,10641,10994,10358.967509025269,10520.268184001208,10442.27865016706,10711.769317150578,10608.628496024417]
[]
["Produktionswert (preisbereinigt)"]
[null,1995,{"$f":"B24+1","v":1996},{"$f":"C24+1","v":1997},1998,1999,2000,2001,2002,2003,2004,2005,2006,2007,2008,2009,2010,2011,2012,2013,2014,2015,2016,2017]
["Österreich",911.55946432456471,1121.8110893712731,1238.1711806629492,1448.7753115364405,1671.7914770690247,1933.0501140458966,1822.2324522815645,1789.4537567307354,1822.159564038315,1804.9916254764123,2191.207052422194,2382.6222028334109,2525.5050430012175,2528.9997997080059,2461.550792707239,2487.1999999999998,2388.1110468828338,2402.8130950382465,2400.7660628291819,2397.594973164928,2325.4302180885938,2447.5076829534078,2504.6735109628971]
["Belgien",3025.9,3062.2,3411.8,3799.7,3730.2,3881.1,3640.3,3575.7,3563.6,3645.8,3713.2,3790.7,3929.8,3903,3639,3643,3686.8,3651.8,3458.1,3396.8,3431.7,3440.6]
["Tschechien",18557.81474521066,18743.658383574715,14791.584612596242,16315.454696080276,16038.781285044492,16617.950053093231,17968.593624923753,19187.751566343413,20084.444404506965,21689.180891300912,23513.592862641817,25593.718978202814,26790.020020815275,26109.37926825391,29060.615994236312,30965,31462,30956.53530142946,29141.167917323899,28574.793222386688,29738.900461133235,30706.975138728241,30050.47403865416]
["Dänemark",15865.714951020867,16642.22981540619,17773.151559433241,18343.153690646726,19316.056917197253,19383.035555685954,19177.673320784637,18853.012480209512,17686.496761668852,17977.924230019664,20863.983011167293,21570.476714803845,21689.644164563364,19559.704140476126,18345.226657288553,17656,18533,18070.495727831614,15855.333480292718,15560.986981434682,15250.142229126233,14437.530577106698,16316.105154885627]
["Estland",33.680533123900553,37.36818325625574,37.977447901045061,46.01771682114326,49.723842938828682,52.334020517123577,58.829811239773953,62.545378265443887,63.52264885428022,67.376042942725846,76.967358063871913,83.483765813466775,99.689438000786794,94.790692341790916,76.605931449129258,74.400000000000006,75.299998455662916,72.759757543905621,79.665196089051264,79.497123495973426,95.458839238638305,108.45522710862444,110.31616330924059]
["Frankreich",9186.2938498447584,9496.1699836237713,10558.983541056008,12044.692020345194,14289.555579952856,14425.255314942824,14522.169174939854,14379.324129209928,13932.354994033578,14015.135119431368,13932.719353471584,13962.944513609276,13956.613069603709,13597.640316593946,12947.098447280709,12499,12346,12109.157969527118,11419.298237972263,11240.82790301991,10513.213376932585,10641.615310897685]
["Griechenland",377.19500389489497,405.51228277967306,492.2287536336699,544.8647981839722,681.47352341515079,738.60752949269624,829.79876811242025,971.61702105052541,955.38733807083952,978.8200899407301,1070.5419792846917,1286.5803023577319,1415.5308604225709,1416.2999049930936,1371.1834778643411,1111.5999999999999,1026.100022536227,828.56309375424689,688.03212758650784,742.62470242045379,719.12275062500225,707.48144564935012,724.14645929705478]
["Italien",7447.1942933708251,7443.9012602983639,8071.3119753590718,8196.6185847184206,9184.3907178932386,9475.4918087949809,10692.7272267236,9600.4194419227879,9371.3039189142619,8551.8588079332203,8658.963546734265,8500.4890574069359,9236.4260275428551,8512.2409309471805,8071.3782570723379,8067.6,7394.6,6805.8775406785699,6623.9218356449037,6286.8585243319239,6604.3531942265226]
["Spanien"]
["Finnland",1337.1765767622906,1390.228343286939,1483.5148677199861,1537.1043915759503,1561.5232740508191,1616.4255641441839,1600.2985247475037,1629.4833002748139,1658.0081720520534,1663.9508536723115,1726.012356307521,1734.1869750451076,1711.2631551502614,1686.8956539118756,1510.2133160956691,1525,1569,1528.8207426376441,1435.9303684014328,1299.3932752988078,1112.9332537312659,1076.155287013135,1073.0739547668554]
["Ungarn",101262.97325116809,91801.805992107315,91554.763008930342,94639.127274715749,97650.092813447409,103418.16567133191,150790.22025491815,170075.04329885766,142909.42557088297,162042.57640038044,178921.8642722425,196703.94462516528,202202.29929967807,218184.45047298333,204163.30430757283,205422,201249,193705.74028339985,188751.13871870225,193834.48297028849,199080.70540765146,203705.00490337983,200322.05353079981]
["Irland"]
["Niederlande",4226.535213770333,4434.0613504441835,4538.547628203838,4782.6434733645692,4845.1768262850746,5107.5759513190405,5229.8925642982567,5290.7445786210546,5348.9954187837257,5719.3446040809404,5693.0437283388546,5808.5015901531569,5814.8589432251965,5720.2415002155194,5455.843694493783,5148,5047,4853.8180419311402,4624.068153934013,4662.0499935938333,4430.9225826981592,4442.1971948678747,4486.7442110725669]
["Portugal",498.97911123036209,525.15359587211958,561.61268530953487,605.34424617807872,638.03308515289268,708.70590534258599,728.53253281616946,740.68724125292943,755.14085499322471,794.69813849163086,821.39221581080506,848.30866863976621,922.29949408845209,942.71749043598402,902.94038113488762,957.8,909.30001158890536,890.5250593058621,879.71531930246681,883.0660452338293,865.09294607849904,831.84696912232118]
["Rumänien",1210.7132878107302,1520.3021002166349,1450.134310975867,1474.4382170274721,1540.0043926189371,1486.9812302231521,1562.6949550180138,1561.9797628189208,1447.765348583828,1667.4440888273298,1868.0768674581298,1991.8840828454609,2077.7771732954848,2728.0820450523538,2718.4407036720936,2704.2,2727.7000492524508,2793.3421943931276,3093.9789402865454,3053.8354969892898,3146.0757260883674,3932.6601456340395,3771.2329894066143]
["Slowenien",null,null,null,null,null,244.16344908019698,217.75642047751344,228.85527607974132,233.12496406630368,237.52354829396978,238.46656982565798,264.24958377415146,265.19936262956975,289.53727882025811,277.77837259100647,285,306.89999999999998,293.08199021207179,274.677786910436,277.3697638210038,278.02859936452165,287.47527395985185]
["Slowakei",355.57949715686459,432.11175390285888,499.68852106142424,512.34456118380535,558.95612302545669,435.35314444769756,451.30653984179088,385.87161262490019,418.55925072225614,416.50616142410649,470.08716193697495,521.71995040792297,563.53068413311837,564.8011868236697,496.56620480133142,494.95699999999999,526.077,545.76362824405351,553.98231036105983,611.95770798637216,648.39025989650736]
["Großbritannien"]
[]
["Erwerbstätige"]
[null,1995,{"$f":"B45+1","v":1996},{"$f":"C45+1","v":1997},1998,1999,2000,2001,2002,2003,2004,2005,2006,2007,2008,2009,2010,2011,2012,2013,2014,2015,2016,2017]
["Österreich",37.380000000000003,37.479999999999997,37.97,38.93,40.799999999999997,41.46,39.229999999999997,37.590000000000003,34.659999999999997,32.909999999999997,31.52,30.79,30.74,29.92,28.41,27.02,26.12,26.05,25.3,24.62,24.23,24.12,24.16]
["Belgien",52.927499999999995,53.496000000000002,53.91825,52.750999999999998,52.008000000000003,52.732999999999997,53.243499999999997,52.512750000000004,51.709000000000003,50.373375000000003,49.657749999999993,48.116,46.126624999999997,44.091374999999999,41.590624999999996,40.041249999999998,38.660625000000003,36.907750000000007,35.510374999999996,34.160375000000002,33.340125,33.236624999999997,33.485124999999996]
["Tschechien",51.81,50.01,40.770000000000003,43.58,42.28,41.61,39.950000000000003,41.18,36.270000000000003,37.86,39.770000000000003,36.79,39.39,43.57,42.85,44.56,42.89,40.340000000000003,40.51,39.54,39.53,39.880000000000003,40.08]
["Dänemark",33,33,34,35,36,35,34,34,32,33,34,36,36,33,30,31,34,32,31,31,29,28,27]
["Estland",7.12,6.78,6.36,6.29,6.95,6.68,6.55,6.01,5.71,4.95,4.4000000000000004,4.78,4.84,4.67,4.0999999999999996,4.1500000000000004,3.91,3.77,3.8,4.13,4.29,4.29,4.34]
["Frankreich",258,257,252,251,250,275,288,292,291,285,278,286,276,269,254,249,250,245,237,236,230,226,231.52339473366737]
["Griechenland",15.9,17.03,17.059999999999999,18.14,17.329999999999998,18.25,18.14,19.920000000000002,20.29,20.100000000000001,21.37,23.78,22.26,21.86,21.76,19.66,17.559999999999999,15.95,13.83,14.93,15.28,15.29,15.93]
["Italien",167.6,166,161.9,156.30000000000001,153.19999999999999,152.1,148,141.1,133.19999999999999,124.4,120.5,116.8,118.3,116.5,113.4,109.7,105.5,104.3,102,100.2,98.7,97.2,101.42241668701172]
["Spanien",86.1,86,88.6,89.9,92.6,96.6,97.9,98.1,98.6,99.1,100.2,100.4,102,104.4,98.7,96.1,90.8,86.6,82,79.400000000000006,81.3,81.099999999999994,79.400000000000006]
["Finnland",28.4,28.4,28.3,28.7,26.5,26.2,26.1,26.4,26.2,25.2,26.1,26.5,26.2,25.7,24.9,23.7,22.3,20.7,20.399999999999999,19.8,19.7,19.100000000000001,19]
["Ungarn",51.47,51.02,52.39,50.67,50.18,55.89,55.1,48.73,45.4,42.16,43.43,48.28,46.3,44.17,48.37,48.91,48.08,47.35,43.8,42.34,41.71,44.13,45.73]
["Irland",11.19,11.7,12.29,14.86,14.84,15.35,16.63,17.989999999999998,16.62,13.67,15.12,17.46,16.809999999999999,17.559999999999999,17.920000000000002,15.6,15.24,14.4,14.52,15.39,15.8,16.66,16.27]
["Niederlande",71,71,72,73,74,77,78,76,74,72,71,71,70,70,71,69,69,70,70,67,64,60,58]
["Portugal",12.3,12.17,12.5,12.92,13.3,13.86,14.41,14.59,14.93,15.13,15.12,15.36,15.47,15.63,15.49,15.86,15.25,15.31,14.56,14.14,14.28,14.5,15.211429880708456]
["Rumänien",23.8,23.4,21.2,21,21.1,22.1,21.4,21.7,20.100000000000001,22.7,24.1,25.6,27.3,28.2,33,44.8,44.3,43.5,45.3,37.1,40.6,36.799999999999997,40.584882831573488]
["Slowenien",5.29,5.5,6.02,6.27,6.42,6.52,6.69,6.79,6.85,7.04,7.31,7.58,7.64,7.74,7.81,7.67,7.7,7.63,7.39,7.08,7.01,6.83,6.78]
["Slowakei",19.37,19.899999999999999,20.190000000000001,19.89,19.760000000000002,19.47,19.34,18.920000000000002,19.079999999999998,18.37,18.25,18.239999999999998,17.77,18,17.5,17.09,16.75,16.559999999999999,16.809999999999999,17.2,17.260000000000002,17.29,17.45]
["Großbritannien",264.04000000000002,271.64999999999998,278.41000000000003,298.10000000000002,303.77,305.73,313.23,319.92,315.54000000000002,299.81,295.14999999999998,292.83999999999997,290.19,285.25,295.60000000000002,297.19,293.08,257.86,265.10000000000002,248.11,272.72000000000003,270.95999999999998,272.32]
[]
["Angestellte"]
[null,1995,{"$f":"B66+1","v":1996},{"$f":"C66+1","v":1997},1998,1999,2000,2001,2002,2003,2004,2005,2006,2007,2008,2009,2010,2011,2012,2013,2014,2015,2016,2017]
["Österreich",37.18,37.21,37.69,38.619999999999997,40.47,41.11,38.86,37.18,34.299999999999997,32.520000000000003,31.12,30.33,30.21,29.4,27.91,26.52,25.59,25.51,24.77,24.13,23.77,23.64,23.67]
["Belgien",51.054749999999999,51.535499999999999,51.804250000000003,50.502499999999998,49.696750000000002,50.358499999999999,50.798499999999997,50.055750000000003,49.225000000000001,47.857500000000002,47.037999999999997,45.673499999999997,43.71275,41.689500000000002,39.200249999999997,37.750250000000001,36.461500000000001,34.747750000000003,33.381749999999997,32.071750000000002,31.268750000000001,31.18375,31.431249999999999]
["Tschechien",51.7,49.89,40.65,43.45,42.14,41.49,39.83,41.06,36.06,37.630000000000003,39.57,36.56,39.130000000000003,43.26,42.56,44.34,42.73,40.21,40.4,39.479999999999997,39.42,39.78,39.97]
["Dänemark",33,33,34,35,36,35,34,34,32,32,33,35,34,32,29,30,33,31,30,29,28,26,25]
["Estland",7.12,6.78,6.36,6.29,6.95,6.68,6.53,5.93,5.58,4.7699999999999996,4.26,4.5999999999999996,4.7300000000000004,4.57,3.99,3.94,3.66,3.45,3.39,3.75,4.0199999999999996,4.1100000000000003,3.99]
["Frankreich",257,256,251,250,249,274,288,292,291,284,277,285,276,268,253,248,249,244,236,235,229,224,230.07886835932732]
["Griechenland",14.99,16.059999999999999,16.09,17.100000000000001,16.329999999999998,17.21,16.88,18.72,19.100000000000001,18.98,20.440000000000001,22.74,21.2,20.5,20.399999999999999,18.16,16.350000000000001,14.85,12.98,14.01,14.33,14.34,14.94]
["Italien",161,159.30000000000001,154.9,149.80000000000001,146.5,145.1,141.80000000000001,135.30000000000001,127.3,118.9,115.3,111.4,112.2,110.8,108.7,105.4,101.6,101.1,99.5,97.5,96.1,94.8,99.64630064368248]
["Spanien",85.8,85.4,87.4,88.5,90.6,93.8,94.9,94.6,94.9,95.2,96.1,95.8,97.2,97.9,95.8,92.9,87.7,82.9,78.099999999999994,75.599999999999994,77.5,77.400000000000006,74.900000000000006]
["Finnland",28.3,28.1,28,28.4,26.2,25.9,25.8,26.1,25.9,24.9,25.8,26.2,26,25.5,24.7,23.5,22.1,20.5,20.2,19.600000000000001,19.5,18.899999999999999,18.8]
["Ungarn",51.35,50.85,52.16,50.38,49.92,55.6,54.72,47.87,44.8,41.81,43.25,47.91,46.01,43.62,47.68,48.81,47.7,46.93,43.43,41.97,41.34,43.76,45.34]
["Irland",9.65,10.09,10.59,12.85,12.71,13.67,14.68,15.53,14.94,12.52,13.37,15.54,15.08,15.58,15.66,13.56,13.65,13.17,13.12,13.62,13.9,14.16,14.03]
["Niederlande",69,69,70,71,72,74,75,73,71,69,68,66,66,65,67,64,64,65,64,61,57,54,51]
["Portugal",12.23,12.1,12.42,12.84,13.22,13.78,14.33,14.53,14.87,15.06,15.06,15.29,15.4,15.56,15.43,15.79,15.17,15.21,14.46,14.04,14.19,14.4,15.078414392396809]
["Rumänien",23.8,23.4,21.2,21,21.1,22.1,21.4,21.7,20.100000000000001,22.7,24.1,25.6,27.3,28.2,33,44.8,44.1,43.3,45,37.1,40.5,36.799999999999997,40.624711413681503]
["Slowenien",5.27,5.46,5.76,6.01,6.13,6.2,6.33,6.43,6.46,6.62,6.86,7.09,7.13,7.21,7.29,7.15,7.17,7.12,6.87,6.61,6.58,6.44,6.39]
["Slowakei",19.28,19.809999999999999,20.100000000000001,19.79,19.66,19.37,19.239999999999998,18.82,18.97,18.22,18.09,18.07,17.600000000000001,17.8,17.260000000000002,16.809999999999999,16.45,16.21,16.399999999999999,16.739999999999998,16.670000000000002,16.61,16.75]
["Großbritannien",233.34,239.09,243.06,264.05,271.62,275.05,282.05,283.25,281.91000000000003,263.39,259.26,255.49,254.95,250.93,262.05,261.54000000000002,260.79000000000002,224.26,223.25,217.35,227.06,220.59,216.06]
[]
[]
["Arbeitsstunden Erwerbstätige (H_EMP)"]
[]
[null,1995,{"$f":"B89+1","v":1996},{"$f":"C89+1","v":1997},{"$f":"D89+1","v":1998},{"$f":"E89+1","v":1999},{"$f":"F89+1","v":2000},{"$f":"G89+1","v":2001},{"$f":"H89+1","v":2002},{"$f":"I89+1","v":2003},{"$f":"J89+1","v":2004},{"$f":"K89+1","v":2005},{"$f":"L89+1","v":2006},{"$f":"M89+1","v":2007},{"$f":"N89+1","v":2008},{"$f":"O89+1","v":2009},{"$f":"P89+1","v":2010},{"$f":"Q89+1","v":2011},{"$f":"R89+1","v":2012},{"$f":"S89+1","v":2013},{"$f":"T89+1","v":2014},{"$f":"U89+1","v":2015},{"$f":"V89+1","v":2016},{"$f":"W89+1","v":2017}]
["Österreich",62844,64610,67358,66859,69796,70752,67133,64414,60174,57217,54052,50384,52114,49478,47443,46157,44051,42697,40932,38357,37673,39408,38397]
["Belgien",null,null,null,null,82358.695999999996,83214.421999999991,84225.968999999997,80538.404999999999,79615.157999999996,77151.074999999997,75549.308000000005,73455.138000000006,69387.239000000001,66558.929999999993,62512.881000000001,60390.375,58280.812999999995,56672.119999999995,54653.088000000003,52500.038,51196.292999999998,50467.676000000007,50926.404999999999]
["Tschechien",80435,77528,63539,68482,67194,66176,60468,62071,54332,57381,60543,55480,59172,65558,66407,70146,67684,63509,62251,61378,60862,61989,63228]
["Dänemark",43734,45492,45644,46045,46383,45450,47181,46843,43308,45444,44247,48159,47073,44232,39987,37428,35928,33319,32442,31406,30272,29430,27721]
["Estland",null,null,null,null,null,14610,10090,11855,11634,8879,8473,8955,11032,8356,7692,6311,8018,5870,6000,8928,8293,7590,8169.589884519577]
["Frankreich"]
["Griechenland",32106,34386,34449,36630,34980,36847,36774,40257,40978,40555,44674,49422,45952,46249,46448,41660,35894,32551,27733,30127,32221,33600,33697]
["Italien"]
["Spanien",149919,152467,156020,157605,161410,164964,168360,167407,167738,166385,163367,161978,164207,169186,161124,158351,153371,145120,139139,131133,138467,135984,129580]
["Finnland",42700,43400,43200,43700,40300,39700,37600,36400,35300,35500,35800,36300,36800,36000,35000,32800,30900,28400,28000,27100,26600,25900,25400]
["Ungarn",null,null,null,null,null,null,null,null,null,null,null,null,null,null,null,82600,81730,79657,73080,71312,70498,75500,75950]
["Irland",25697,26495,27530,30363,29963,31064,33590,35958,32508,25600,28682,33894,32388,32852,33425,28602,28410,26301,25783,27722,29973,31457,31895]
["Niederlande",85336,89216,90640,88251,92141,93332,94205,92451,89718,91844,88453,87801,86429,83997,82192,78412,78629,79226,74593,72227,68488,66753,67165]
["Portugal",null,null,null,null,null,null,null,null,null,null,null,null,null,null,null,30787,29742,30046,28779,27729,28502,27286,29577.572419077158]
["Rumänien",46134,45283,41102,41061,41243,42546,40954,42324,38737,43175,45461,47952,51978,51356,65700,84031,87333,82096,86664,71019,77224,69469,76828.796144038439]
["Slowenien",8494,8861,9836,10388,10683,10661,10795,11175,11270,11841,11851,12135,12176,12121,12463,12436,12235,11785,11389,11016,10962,10677,10545]
["Slowakei",30410,31046,30576,29852,29533,29190,28956,28945,28576,28787,27531,28160,27658,29130,27705,27154,26366,26054,26816,27357,27871,27762,27821]
["Großbritannien"]