{"text_format":"1","workbook":"xlsx","n_sheets":21,"sheets":["Legende","OUT_Produktivitätsentwicklung","IN_Definition Index","ABB_Tabellen","ABB_Gesamt","ABB_Gesamt_TFP","ABB_Gesamt_Arbeit","ABB_Prozesse_Gesamt_TFP ","ABB_Prozesse_Gesamt_Arbeit","ABB_Annahme","ABB_Sortierung","ABB_Transport","ABB_Zustellung","ABB_Übrige_Prozesse","NR_Mittelwertberechnung","NR_Synthetische_Indizes","NR_Reihen_Veränderungsraten","NR_Indexreihen","NR_Berechnungen_Post_direkt","RD_Rohdaten","HI_Hilfstabelle"],"not_rendered":{"charts":10,"images":1,"macros":0,"external_links":3,"defined_names":248,"comments":0,"pivot_tables":0},"unopened":[],"bounds":{"document_bytes":16777216,"sheet_cells":100000,"rows_first":2000,"rows_last":500,"rows_between":2000,"halvings":0,"cell_chars":16384,"cell_head_chars":4096},"cells_cut":0,"cells_raw":0,"read":"whole","date_system":"1900"}

{"sheet":"Legende","index":0,"n_rows":28,"n_cols":3,"rows_kept":28,"cut":false,"hidden":false,"merged":[[4,0,4,2],[6,0,6,2],[16,0,16,1],[21,0,21,1]]}
[]
[]
[]
[]
["Gutachten zur Ermittlung von Produktivitätsfortschrittsraten \nim Auftrag der Bundesnetzagentur"]
[]
["Tool 3\nEntwicklung der Totalen Faktorproduktivität und der Arbeitsproduktivität auf Basis eines synthetischen Branchenindex für die Deutsche Post"]
[]
[null,"Version","2.0"]
[null,"Datum","2020-12-16"]
[null,"Letzte Aktualisierung","2021-06-16"]
[]
[]
[null,"Datenbasis:","Destatis \nVGR nach Wirtschaftszweigen"]
[]
[]
["Legende - Zellen"]
[null,null,"Inputzellen"]
[null,null,"Outputzellen"]
[]
[]
["Legende - Arbeitsblätter"]
[null,"OUT_","Ergebnisse"]
[null,"IN_","Dateneingabe und Parameterwahl"]
[null,"ABB_","Abbildungen"]
[null,"NR_","Nebenrechnung"]
[null,"RD_","Rohdaten"]
[null,"HI_","Hilfstabelle"]

{"sheet":"OUT_Produktivitätsentwicklung","index":1,"n_rows":25,"n_cols":6,"rows_kept":25,"cut":false,"hidden":false,"merged":[[15,1,19,1],[20,1,24,1],[1,1,1,2]]}
[]
[null,"Berechnungsperiode",null,null,null,"Verfügbare Jahre"]
[null,null,"Startjahr",2015,null,"1992 bis 2019"]
[null,null,"Endjahr",2018]
[]
[null,null,null,"Arithmetisches Mittel","Geometrisches Mittel"]
[null,"Synthetischer Index"]
[null,null,"Totale Faktorproduktivität \n(auf Basis Bruttowertschöpfung)",{"$f":"IF(D4>D3,NR_Mittelwertberechnung!B35,\"Das Startjahr muss vor dem Endjahr liegen.\")","v":-9.696214628427402E-4},{"$f":"IF(D4>D3,NR_Mittelwertberechnung!B36,\"Das Startjahr muss vor dem Endjahr liegen.\")","v":-9.9101433786596971E-4}]
[null,null,"Arbeitsproduktivität (Bruttowertschöpfung/Erwerbstätige)",{"$f":"IF(D4>D3,NR_Mittelwertberechnung!C35,\"Das Startjahr muss vor dem Endjahr liegen.\")","v":-1.5365539651923665E-3},{"$f":"IF(D4>D3,NR_Mittelwertberechnung!C36,\"Das Startjahr muss vor dem Endjahr liegen.\")","v":-1.5545311490499092E-3}]
[]
[null,"Post-, Kurier- und Expressdienste"]
[null,null,"Totale Faktorproduktivität \n(auf Basis Bruttowertschöpfung)",{"$f":"IF(D4>D3,NR_Mittelwertberechnung!E35,\"Das Startjahr muss vor dem Endjahr liegen.\")","v":-1.0673165756281078E-2},{"$f":"IF(D4>D3,NR_Mittelwertberechnung!E36,\"Das Startjahr muss vor dem Endjahr liegen.\")","v":-1.0816850151760371E-2}]
[null,null,"Arbeitsproduktivität (Bruttowertschöpfung/Erwerbstätige)",{"$f":"IF(D4>D3,NR_Mittelwertberechnung!F35,\"Das Startjahr muss vor dem Endjahr liegen.\")","v":-1.3379120637523445E-2},{"$f":"IF(D4>D3,NR_Mittelwertberechnung!F36,\"Das Startjahr muss vor dem Endjahr liegen.\")","v":-1.3524416143005702E-2}]
[]
[null,"Einzelprozesse des synthetischen Index"]
[null,"TFP",{"$f":"\"Annahme (\"&TEXT('IN_Definition Index'!E5,\"0%\")&\")\"","v":"Annahme (10%)"},{"$f":"IF(D4>D3,NR_Mittelwertberechnung!H35,\"Das Startjahr muss vor dem Endjahr liegen.\")","v":2.9036970399251683E-2},{"$f":"IF(D4>D3,NR_Mittelwertberechnung!H36,\"Das Startjahr muss vor dem Endjahr liegen.\")","v":2.8630565913454697E-2}]
[null,null,{"$f":"\"Sortierung (\"&TEXT('IN_Definition Index'!F5,\"0%\")&\")\"","v":"Sortierung (20%)"},{"$f":"IF(D4>D3,NR_Mittelwertberechnung!J35,\"Das Startjahr muss vor dem Endjahr liegen.\")","v":-1.4898642176323307E-2},{"$f":"IF(D4>D3,NR_Mittelwertberechnung!J36,\"Das Startjahr muss vor dem Endjahr liegen.\")","v":-1.49576651402058E-2}]
[null,null,{"$f":"\"Transport (\"&TEXT('IN_Definition Index'!G5,\"0%\")&\")\"","v":"Transport (10%)"},{"$f":"IF(D4>D3,NR_Mittelwertberechnung!L35,\"Das Startjahr muss vor dem Endjahr liegen.\")","v":-6.5016276884031221E-3},{"$f":"IF(D4>D3,NR_Mittelwertberechnung!L36,\"Das Startjahr muss vor dem Endjahr liegen.\")","v":-6.8342495662965241E-3}]
[null,null,{"$f":"\"Zustellung (\"&TEXT('IN_Definition Index'!H5,\"0%\")&\")\"","v":"Zustellung (45%)"},{"$f":"IF(D4>D3,NR_Mittelwertberechnung!N35,\"Das Startjahr muss vor dem Endjahr liegen.\")","v":-2.1394155622453948E-3},{"$f":"IF(D4>D3,NR_Mittelwertberechnung!N36,\"Das Startjahr muss vor dem Endjahr liegen.\")","v":-2.2349326359780708E-3}]
[null,null,{"$f":"\"Übrige Prozesse (\"&TEXT('IN_Definition Index'!I5,\"0%\")&\")\"","v":"Übrige Prozesse (15%)"},{"$f":"IF(D4>D3,NR_Mittelwertberechnung!P35,\"Das Startjahr muss vor dem Endjahr liegen.\")","v":4.7953980289827669E-3},{"$f":"IF(D4>D3,NR_Mittelwertberechnung!P36,\"Das Startjahr muss vor dem Endjahr liegen.\")","v":4.5054548687808449E-3}]
[null,"Arbeitsproduktivität",{"$f":"\"Annahme (\"&TEXT('IN_Definition Index'!E5,\"0%\")&\")\"","v":"Annahme (10%)"},{"$f":"IF(D4>D3,NR_Mittelwertberechnung!I35,\"Das Startjahr muss vor dem Endjahr liegen.\")","v":3.110734041551777E-2},{"$f":"IF(D4>D3,NR_Mittelwertberechnung!I36,\"Das Startjahr muss vor dem Endjahr liegen.\")","v":3.0705183946854842E-2}]
[null,null,{"$f":"\"Sortierung (\"&TEXT('IN_Definition Index'!F5,\"0%\")&\")\"","v":"Sortierung (20%)"},{"$f":"IF(D4>D3,NR_Mittelwertberechnung!K35,\"Das Startjahr muss vor dem Endjahr liegen.\")","v":-1.5951366037473491E-2},{"$f":"IF(D4>D3,NR_Mittelwertberechnung!K36,\"Das Startjahr muss vor dem Endjahr liegen.\")","v":-1.6012953241512751E-2}]
[null,null,{"$f":"\"Transport (\"&TEXT('IN_Definition Index'!G5,\"0%\")&\")\"","v":"Transport (10%)"},{"$f":"IF(D4>D3,NR_Mittelwertberechnung!M35,\"Das Startjahr muss vor dem Endjahr liegen.\")","v":-9.7577388049117086E-3},{"$f":"IF(D4>D3,NR_Mittelwertberechnung!M36,\"Das Startjahr muss vor dem Endjahr liegen.\")","v":-1.0099652416410199E-2}]
[null,null,{"$f":"\"Zustellung (\"&TEXT('IN_Definition Index'!H5,\"0%\")&\")\"","v":"Zustellung (45%)"},{"$f":"IF(D4>D3,NR_Mittelwertberechnung!O35,\"Das Startjahr muss vor dem Endjahr liegen.\")","v":-4.3831011458332902E-3},{"$f":"IF(D4>D3,NR_Mittelwertberechnung!O36,\"Das Startjahr muss vor dem Endjahr liegen.\")","v":-4.4687035988321133E-3}]
[null,null,{"$f":"\"Übrige Prozesse (\"&TEXT('IN_Definition Index'!I5,\"0%\")&\")\"","v":"Übrige Prozesse (15%)"},{"$f":"IF(D4>D3,NR_Mittelwertberechnung!Q35,\"Das Startjahr muss vor dem Endjahr liegen.\")","v":9.9410306457783371E-3},{"$f":"IF(D4>D3,NR_Mittelwertberechnung!Q36,\"Das Startjahr muss vor dem Endjahr liegen.\")","v":9.638492196350823E-3}]

{"sheet":"IN_Definition Index","index":2,"n_rows":21,"n_cols":12,"rows_kept":21,"cut":false,"hidden":false,"merged":[[2,4,2,8],[3,1,3,2],[5,1,5,2],[17,10,18,10],[5,4,5,10]]}
["Definition des synthetischen Index"]
[]
[null,null,null,null,"Prozesse"]
[null,null,null,null,"Annahme","Sortierung","Transport","Zustellung","Sonstiges","Beschreibung","Gewicht am synthetischen Index"]
[null,"Gewichtung der Prozesse am Index",null,null,0.1,0.2,0.1,0.45,0.15,{"$f":"IF(SUM(E5:I5)=1,\"100 %✔\",\"Die Summe der Einzelprozesse muss 100 % ergeben.\")","v":"100 %✔"}]
[null,"WZ 2008",null,"Branche"]
[null,"C",33,"Reparatur und Installation von Maschinen und Ausrüstungen",0,1,0,0,0,"Diese Abteilung umfasst die Instandsetzung von hergestellten Waren zur Wiederherstellung der Funktionstüchtigkeit dieser Maschinen, Ausrüstungsgegenständen und anderen Erzeugnissen. ",{"$f":"E7*$E$19*$E$5+F7*$F$19*$F$5+G7*$G$19*$G$5+H7*$H$19*$H$5+I7*$I$19*$I$5","v":0.1}," "]
[null,"G",45,"Handel mit Kraftfahrzeugen; Instandhaltung und Reparatur von Kraftfahrzeugen",0,0,0,1,0,"Diese Abteilung umfasst alle Tätigkeiten, die sich auf Kraftfahrzeuge einschließlich Lastkraftwagen, Anhänger und Krafträder beziehen, außer deren Herstellung und Vermietung: Groß- und Einzelhandel mit Neu- und Gebrauchtfahrzeugen, Reparatur und Instandhaltung von Kraftfahrzeugen, Groß- und Einzelhandel mit Teilen und Zubehör für Kraftfahrzeuge.",{"$f":"E8*$E$19*$E$5+F8*$F$19*$F$5+G8*$G$19*$G$5+H8*$H$19*$H$5+I8*$I$19*$I$5","v":0.15}]
[null,"G",47,"Einzelhandel (ohne Handel mit Kraftfahrzeugen)",1,0,0,0,0,"Diese Abteilung umfasst den Wiederverkauf von Neu- und Gebrauchtwaren vor allem an private Haushalte für den privaten Ge- oder Verbrauch, in Verkaufsräumen, einschließlich Warenhäusern, an Marktständen, durch Versandhäuser, im Straßenhandel und durch Haustürverkauf, Verbrauchergenossenschaften usw.",0.1]
[null,"H",49,"Landverkehr und Transport in Rohrfernleitungen",0,0,1,1,0,"Diese Abteilung umfasst die Beförderung von Personen und Gütern auf Straßen und Schienen sowie von Gütern in Rohrfernleitungen.",0.25]
[null,"H",52,"Lagerei sowie Erbringung von sonstigen Dienstleistungen für den Verkehr",0,1,0,1,0,"Diese Abteilung umfasst die Lagerei sowie die Erbringung von anderen Dienstleistungen für den Verkehr, wie den Betrieb von Verkehrsinfrastrukturen (z. B. Flughäfen, Häfen, Tunnel, Brücken usw.), die Verkehrsvermittlung und den Frachtumschlag.",0.25]
[null,"J",61,"Telekommunikation",0,0,0,0,0,"Diese Abteilung umfasst die Erbringung von Telekommunikationsdienstleistungen, d. h. die Übertragung von Sprache, Daten, Text, Ton und Bild. Die Übertragungseinrichtungen können auf einer einzigen oder auf mehreren Technologien beruhen. Den in dieser Abteilung aufgeführten Tätigkeiten ist gemeinsam, dass zwar Inhalte übertragen, aber keine Inhalte hergestellt werden.",0]
[null,"J","62-01","IT- und Informationsdienstleister",0,0,0,0,1,"Erbringung von Dienstleistungen der Informationstechnologie (62) und Informationsdienstleistungen (63). Hierunter fallen z.B. Entwicklung, Anpassung, Testen und Pflege von Software, Planung und Entwurf von Computersystemen, die Hardware-, Software- und Kommunikationstechnologie umfassen, Verwaltung und Betrieb der Computersysteme und/oder Datenverarbeitungsanlagen eines Kunden vor Ort sowie Tätigkeiten von Suchmaschinen-Portalen, Datenverarbeitung und\nHosting.\n",0.03]
[null,"M","69-01","Unternehmensnahe Beratungsleistungen ",0,0,0,0,1,"Hierunter fallen Rechts- und Steuerberatung, Wirtschaftsprüfung, Public-Relations- und Unternehmensberatung.",0.03]
[null,"M",73,"Werbung und Marktforschung",0,0,0,0,1,"Diese Abteilung umfasst die Planung von Werbekampagnen und die Platzierung solcher Werbung in Zeitschriften, Zeitungen, Hörfunk und Fernsehen oder anderen Medien sowie der Entwurf von Displaysystemen und -einrichtungen.",0.03]
[null,"M","74-01","Freiberufl.,wiss.,techn.DL a.n.g., Veterinärwesen ",0,0,0,0,1,"Dieser Bereich umfasst u.a. die Erbringung einer Vielzahl von Dienstleistungen, im Allgemeinen für kommerzielle Kunden. Sie beinhaltet Tätigkeiten, für die fortgeschrittene berufliche, wissenschaftliche und technische Kenntnisse erforderlich sind.",0.03]
[null,"L",68,"Grundstücks- und Wohnungswesen",0,0,0,0,1,"Diese Tätigkeit umfasst den Kauf und Verkauf von Grundstücken, Gebäuden und Wohnungen, die Vermietung von Grundstücken, Gebäuden und Wohnungen, die Erbringung sonstiger Dienstleistungen im Zusammenhang mit Grundstücken, Gebäuden und Wohnungen, z. B. Schätzung von Grundstücken, Gebäuden und Wohnungen oder die Tätigkeit als Treuhänder von Grundstücken, Gebäuden und Wohnungen.",0.03]
[null,"Anzahl Vergleichsbranchen",null,null,{"$f":"SUM(E7:E17)","v":1},{"$f":"SUM(F7:F17)","v":2},{"$f":"SUM(G7:G17)","v":1},{"$f":"SUM(H7:H17)","v":3},{"$f":"SUM(I7:I17)","v":5},null,{"$f":"SUM(Gewicht)","v":1}]
[null,"Gewichtung der Branchen am Prozess",null,null,{"$f":"IFERROR(1/E18,0)","v":1},{"$f":"IFERROR(1/F18,0)","v":0.5},1,0.33333333333333331,0.2]
[]
[null,null,null,null,{"$f":"IF(OR(E18=0,F18=0,G18=0,H18=0,I18=0),\"Bitte wählen Sie mindestens eine Branche für jeden Prozess aus.\",\"\")","v":""}]

{"sheet":"ABB_Tabellen","index":3,"n_rows":29,"n_cols":42,"rows_kept":29,"cut":false,"hidden":false,"merged":[[3,4,3,8],[6,2,16,2]]}
[]
["1. Zusammensetzung des synthetischen Index"]
[null,null,null,null,null,null,null,null,null,null,null,null,"2. Veränderungsraten"]
[]
[null,null,"Prozesse",null,"Annahme","Sortierung","Transport","Zustellung","Übrige","Gewicht der Branche am Mischindex"]
[null,null,"Gewichtung der Prozesse am Mischindex",null,{"$f":"'IN_Definition Index'!E5","v":0.1},{"$f":"'IN_Definition Index'!F5","v":0.2},{"$f":"'IN_Definition Index'!G5","v":0.1},{"$f":"'IN_Definition Index'!H5","v":0.45},{"$f":"'IN_Definition Index'!I5","v":0.15}]
[null,null,"Vergleichsbranchen","C33 Reparatur und Installation von Maschinen und Ausrüstungen",{"$f":"IF('IN_Definition Index'!E7>0,\"Ja\",\"\")","v":""},{"$f":"IF('IN_Definition Index'!F7>0,\"Ja\",\"\")","v":"Ja"},{"$f":"IF('IN_Definition Index'!G7>0,\"Ja\",\"\")","v":""},{"$f":"IF('IN_Definition Index'!H7>0,\"Ja\",\"\")","v":""},{"$f":"IF('IN_Definition Index'!I7>0,\"Ja\",\"\")","v":""},{"$f":"'IN_Definition Index'!K7","v":0.1},null,null,null,null,1992,{"$f":"O7+1","v":1993},{"$f":"P7+1","v":1994},1995,1996,1997,1998,1999,2000,2001,2002,2003,2004,2005,2006,2007,2008,2009,2010,{"$f":"AG7+1","v":2011},2012,2013,2014,2015,2016,{"$f":"AM7+1","v":2017},{"$f":"AN7+1","v":2018},2019]
[null,null,null,"G45 Handel mit Kraftfahrzeugen; Instandhaltung und Reparatur von Kraftfahrzeugen",{"$f":"IF('IN_Definition Index'!E8>0,\"Ja\",\"\")","v":""},{"$f":"IF('IN_Definition Index'!F8>0,\"Ja\",\"\")","v":""},{"$f":"IF('IN_Definition Index'!G8>0,\"Ja\",\"\")","v":""},{"$f":"IF('IN_Definition Index'!H8>0,\"Ja\",\"\")","v":"Ja"},{"$f":"IF('IN_Definition Index'!I8>0,\"Ja\",\"\")","v":""},{"$f":"'IN_Definition Index'!K8","v":0.15},null,null,"Synthetischer Index"]
[null,null,null,"G47 Einzelhandel (ohne Handel mit Kraftfahrzeugen)",{"$f":"IF('IN_Definition Index'!E9>0,\"Ja\",\"\")","v":"Ja"},{"$f":"IF('IN_Definition Index'!F9>0,\"Ja\",\"\")","v":""},{"$f":"IF('IN_Definition Index'!G9>0,\"Ja\",\"\")","v":""},{"$f":"IF('IN_Definition Index'!H9>0,\"Ja\",\"\")","v":""},{"$f":"IF('IN_Definition Index'!I9>0,\"Ja\",\"\")","v":""},{"$f":"'IN_Definition Index'!K9","v":0.1},null,null,null,"∆ TFP",{"$f":"TRANSPOSE(NR_Mittelwertberechnung!S4:S31)","v":-1.0749503319826825E-3},-2.3686491579273938E-2,3.6977960642962993E-2,3.9993852751948999E-2,2.420437940261988E-2,3.2099100886211929E-2,7.2948561460535188E-3,1.2616103754932162E-2,-8.0269481840198331E-3,1.8448593854006434E-2,2.1789568551989991E-2,2.225525803668571E-2,4.3089857746404503E-2,3.5509333957499001E-2,5.9976065901428344E-2,4.8246143676000663E-3,-1.9281537783452207E-2,-7.3175067042949626E-2,8.9188019575545674E-3,2.4668008570940314E-2,-6.0953218572986634E-3,-2.1257056206932523E-3,1.1651495014242563E-2,-7.8462019777149061E-3,6.8655372381760671E-3,-7.0114114082493462E-3,4.1135902964173354E-3,{"$error":"#VALUE!"}]
[null,null,null,"H49 Landverkehr und Transport in Rohrfernleitungen",{"$f":"IF('IN_Definition Index'!E10>0,\"Ja\",\"\")","v":""},{"$f":"IF('IN_Definition Index'!F10>0,\"Ja\",\"\")","v":""},{"$f":"IF('IN_Definition Index'!G10>0,\"Ja\",\"\")","v":"Ja"},{"$f":"IF('IN_Definition Index'!H10>0,\"Ja\",\"\")","v":"Ja"},{"$f":"IF('IN_Definition Index'!I10>0,\"Ja\",\"\")","v":""},{"$f":"'IN_Definition Index'!K10","v":0.25},null,null,null,"∆ Arbeitsproduktivität",{"$f":"TRANSPOSE(NR_Mittelwertberechnung!T4:T31)","v":3.9648246253489727E-3},-2.126170933240934E-2,3.7738269364104182E-2,4.2987331424050979E-2,2.7105337479516711E-2,3.3748935157352999E-2,4.7461418079621787E-3,-2.2298915921368234E-3,-9.06134927334179E-3,2.4668834796373273E-2,2.693258547995292E-2,2.7127213642105907E-2,4.4951423933315082E-2,4.0149956556461364E-2,5.9999587206182259E-2,3.376205944038313E-3,-1.7952364885687744E-2,-6.5662537325743897E-2,1.3945810510316958E-2,2.2747323428117472E-2,-8.0625232942231895E-3,-2.7172294649970841E-3,1.1598618366049473E-2,-7.4609596468755424E-3,6.4771317230700731E-3,-7.1751661942230927E-3,2.0127782572589847E-3,{"$error":"#VALUE!"}]
[null,null,null,"H52 Lagerei sowie Erbringung von sonstigen Dienstleistungen für den Verkehr",{"$f":"IF('IN_Definition Index'!E11>0,\"Ja\",\"\")","v":""},{"$f":"IF('IN_Definition Index'!F11>0,\"Ja\",\"\")","v":"Ja"},{"$f":"IF('IN_Definition Index'!G11>0,\"Ja\",\"\")","v":""},{"$f":"IF('IN_Definition Index'!H11>0,\"Ja\",\"\")","v":"Ja"},{"$f":"IF('IN_Definition Index'!I11>0,\"Ja\",\"\")","v":""},{"$f":"'IN_Definition Index'!K11","v":0.25},null,null,"Post-, Express-, und Kurierdienste"]
[null,null,null,"J61Telekommunikation",{"$f":"IF('IN_Definition Index'!E12>0,\"Ja\",\"\")","v":""},{"$f":"IF('IN_Definition Index'!F12>0,\"Ja\",\"\")","v":""},{"$f":"IF('IN_Definition Index'!G12>0,\"Ja\",\"\")","v":""},{"$f":"IF('IN_Definition Index'!H12>0,\"Ja\",\"\")","v":""},{"$f":"IF('IN_Definition Index'!I12>0,\"Ja\",\"\")","v":""},{"$f":"'IN_Definition Index'!K12","v":0},null,null,null,"∆ TFP",{"$f":"TRANSPOSE(NR_Mittelwertberechnung!V4:V31)","v":-2.922588380587321E-2},-8.633254709844651E-2,3.1929733892934076E-2,3.5095268702376892E-2,4.6163601775522922E-2,4.3241593816962798E-2,-2.0733894451749668E-2,9.9140676275848438E-3,3.784727508228336E-3,-5.6994383905024315E-2,2.3508593848574177E-2,3.8039378097327825E-2,-5.8617504321813896E-2,-5.3526428090656109E-2,-1.8231333211657819E-2,4.4740191583435784E-2,3.7272758792102234E-2,5.7125577514478998E-2,-0.11988650446545224,1.4273863773595963E-2,-1.0753792457086631E-3,3.3447123135853296E-2,2.6676357749279678E-2,-1.6588454597254998E-3,9.2893772375328698E-3,-1.4383080442051832E-2,-3.5940114360879738E-2,{"$error":"#VALUE!"}]
[null,null,null,"J62-01 IT- und Informationsdienstleister",{"$f":"IF('IN_Definition Index'!E13>0,\"Ja\",\"\")","v":""},{"$f":"IF('IN_Definition Index'!F13>0,\"Ja\",\"\")","v":""},{"$f":"IF('IN_Definition Index'!G13>0,\"Ja\",\"\")","v":""},{"$f":"IF('IN_Definition Index'!H13>0,\"Ja\",\"\")","v":""},{"$f":"IF('IN_Definition Index'!I13>0,\"Ja\",\"\")","v":"Ja"},{"$f":"'IN_Definition Index'!K13","v":0.03},null,null,null,"∆ Arbeitsproduktivität",{"$f":"TRANSPOSE(NR_Mittelwertberechnung!W4:W29)","v":-2.1230187409511991E-2},-8.4908924653737894E-2,3.5150648396884865E-2,3.8083111471234998E-2,4.6163601775522922E-2,4.6841607399362495E-2,-1.6572006260071048E-2,1.5725435517841779E-2,7.1860418169451545E-3,-5.4768756170150423E-2,3.2321911377482193E-2,5.0599778892880254E-2,-5.0540883737253739E-2,-3.8436307100789158E-2,-9.6739984063929363E-3,4.4589802848394644E-2,3.4836073478954788E-2,5.6471545703006054E-2,-0.11595273399350059,1.497277349465409E-2,-2.9264013795251564E-3,3.1416078620631671E-2,2.5107729383516464E-2,-6.1123029250519378E-3,8.395876288659565E-3,-1.8018849681611382E-2,{"$f":"TRANSPOSE(NR_Mittelwertberechnung!W4:W29)","v":-2.1230187409511991E-2},{"$f":"TRANSPOSE(NR_Mittelwertberechnung!W4:W31)","v":-5.4768756170150423E-2}]
[null,null,null,"M69-01 Unternehmensnahe Beratungsleistungen ",{"$f":"IF('IN_Definition Index'!E14>0,\"Ja\",\"\")","v":""},{"$f":"IF('IN_Definition Index'!F14>0,\"Ja\",\"\")","v":""},{"$f":"IF('IN_Definition Index'!G14>0,\"Ja\",\"\")","v":""},{"$f":"IF('IN_Definition Index'!H14>0,\"Ja\",\"\")","v":""},{"$f":"IF('IN_Definition Index'!I14>0,\"Ja\",\"\")","v":"Ja"},{"$f":"'IN_Definition Index'!K14","v":0.03}]
[null,null,null,"M73 Werbung und Marktforschung",{"$f":"IF('IN_Definition Index'!E15>0,\"Ja\",\"\")","v":""},{"$f":"IF('IN_Definition Index'!F15>0,\"Ja\",\"\")","v":""},{"$f":"IF('IN_Definition Index'!G15>0,\"Ja\",\"\")","v":""},{"$f":"IF('IN_Definition Index'!H15>0,\"Ja\",\"\")","v":""},{"$f":"IF('IN_Definition Index'!I15>0,\"Ja\",\"\")","v":"Ja"},{"$f":"'IN_Definition Index'!K15","v":0.03}]
[null,null,null,"M74-01 Freiberufl.,wiss.,techn.DL a.n.g., Veterinärwesen ",{"$f":"IF('IN_Definition Index'!E16>0,\"Ja\",\"\")","v":""},{"$f":"IF('IN_Definition Index'!F16>0,\"Ja\",\"\")","v":""},{"$f":"IF('IN_Definition Index'!G16>0,\"Ja\",\"\")","v":""},{"$f":"IF('IN_Definition Index'!H16>0,\"Ja\",\"\")","v":""},{"$f":"IF('IN_Definition Index'!I16>0,\"Ja\",\"\")","v":"Ja"},{"$f":"'IN_Definition Index'!K16","v":0.03}]
[null,null,null,"N Sonstige wirtschaftliche Dienstleistungen",{"$f":"IF('IN_Definition Index'!E17>0,\"Ja\",\"\")","v":""},{"$f":"IF('IN_Definition Index'!F17>0,\"Ja\",\"\")","v":""},{"$f":"IF('IN_Definition Index'!G17>0,\"Ja\",\"\")","v":""},{"$f":"IF('IN_Definition Index'!H17>0,\"Ja\",\"\")","v":""},{"$f":"IF('IN_Definition Index'!I17>0,\"Ja\",\"\")","v":"Ja"},{"$f":"'IN_Definition Index'!K17","v":0.03},null,null,null,null,1992,{"$f":"O17+1","v":1993},{"$f":"P17+1","v":1994},1995,1996,1997,1998,1999,2000,2001,2002,2003,2004,2005,2006,2007,2008,2009,2010,{"$f":"AG17+1","v":2011},{"$f":"AH17+1","v":2012},2013,2014,2015,2016,{"$f":"AM17+1","v":2017},{"$f":"AN17+1","v":2018},{"$f":"AO17+1","v":2019}]
[null,null,"Anzahl an Branchen am Prozess",null,{"$f":"COUNTIF(E7:E17,\"Ja\")","v":1},{"$f":"COUNTIF(F7:F17,\"Ja\")","v":2},{"$f":"COUNTIF(G7:G17,\"Ja\")","v":1},{"$f":"COUNTIF(H7:H17,\"Ja\")","v":3},{"$f":"COUNTIF(I7:I17,\"Ja\")","v":5},null,null,null,"Synthetischer Index ∆ TFP"]
[null,null,"Gewichtung der Branchen am Prozess",null,{"$f":"1/E18","v":1},{"$f":"1/F18","v":0.5},1,0.33333333333333331,0.2,null,null,null,null,{"$f":"OUT_Produktivitätsentwicklung!C16","v":"Annahme (10%)"},{"$f":"TRANSPOSE(NR_Mittelwertberechnung!Y4:Y31)","v":2.8109110912304391E-3},-5.875637385721455E-2,7.7644672149430605E-3,6.0430623282012874E-3,-2.6632921829307987E-2,-1.973882489927381E-2,-7.9722033834421779E-3,-2.9292656342756462E-3,-1.2999022437008345E-2,1.5169015732169777E-2,-4.16181911033221E-2,7.5147345992181425E-3,-1.6961417653972632E-2,-2.1977620424335931E-2,5.8462295245014673E-2,-1.2346633576211241E-3,-2.2236791645144471E-2,1.0251332342224417E-2,2.4177345615769452E-2,-2.2279185466282048E-2,-1.4242178521400861E-3,-4.4475301928912359E-3,2.541075923324132E-2,7.3427744319234822E-2,2.5809588889298407E-2,2.4875249818081313E-2,-7.9647014296082563E-3,{"$error":"#VALUE!"}]
[null,null,null,null,null,null,null,null,null,null,null,null,null,{"$f":"OUT_Produktivitätsentwicklung!C17","v":"Sortierung (20%)"},{"$f":"TRANSPOSE(NR_Mittelwertberechnung!AA4:AA31)","v":2.8975902964724298E-2},-6.3502524511953595E-3,8.0530855048479122E-2,8.3779175036138298E-3,2.7545373037924481E-2,0.10515045426095826,3.6287464956754611E-2,-7.0635210363206302E-2,4.7452105507126863E-2,5.294158785362435E-2,7.1844915651432029E-2,5.5992687879069525E-2,0.11233617627781856,9.7432215575259384E-2,3.9709301224114757E-2,3.0973603832278318E-2,-8.6552128400993356E-2,-0.12199238302515847,3.7805164329478558E-2,2.6831939257847548E-3,-1.5245332087540864E-2,-1.4305223098894038E-2,3.1954148101471791E-3,-2.2008815015910344E-3,-1.8676651691095336E-2,-3.0512126547523E-2,-8.2049089650839679E-3,{"$error":"#VALUE!"}]
[null,null,null,null,"Ja","Verwendung als Vergleichsbranche",null,null,null,null,null,null,null,{"$f":"OUT_Produktivitätsentwicklung!C18","v":"Transport (10%)"},{"$f":"TRANSPOSE(NR_Mittelwertberechnung!AC4:AC31)","v":-4.941913563494027E-2},1.0644575072893847E-2,6.0184634807926018E-2,0.14476214099313967,7.0174865308661794E-2,-2.4478659859512697E-2,-1.8923743711525498E-2,0.25007447474743949,-5.7991573095345528E-2,-1.9201030306993827E-2,-2.4232820594617954E-2,-4.7962529217801975E-2,-1.9175176218892975E-3,5.1807856446813849E-2,9.0203565097173533E-2,8.9513129025895477E-3,1.4955450589852592E-2,-8.1746322247884473E-2,1.6134583591439933E-2,4.46497373950967E-2,6.732573679103071E-3,-6.84932249306347E-3,1.9348530718739765E-2,-3.5758010673754503E-2,-2.8324669356172505E-2,1.7409460352036499E-2,2.0666708924277799E-2,{"$error":"#VALUE!"}]
[null,null,null,null,null,"Keine Verwendung als Vergleichsbranche",null,null,null,null,null,null,null,{"$f":"OUT_Produktivitätsentwicklung!C19","v":"Zustellung (45%)"},{"$f":"TRANSPOSE(NR_Mittelwertberechnung!AE4:AE31)","v":-2.1474538076895699E-2},-5.5050235497359656E-2,3.8724390323470637E-2,4.3881946600040411E-2,3.1145752202324406E-2,2.9193060939219029E-2,8.2815268072335968E-3,1.7976213813939657E-2,-1.9965414738048692E-2,2.5061073233719977E-2,4.0849057190605942E-2,4.574644627080704E-2,5.9815427098419693E-2,3.2097320990879474E-2,7.202421669605874E-2,-1.6512050395377731E-2,5.6740269840394042E-4,-6.5034016851438281E-2,-3.3866081929467828E-3,3.9548095445877784E-2,-1.0116523070355488E-2,-4.9441566744210519E-3,1.9718150863453854E-2,-2.4293215111410582E-2,1.0041361137285154E-2,-2.9965397450334441E-3,8.6907314701776262E-3,{"$error":"#VALUE!"}]
[null,null,null,null,null,null,null,null,null,null,null,null,null,{"$f":"OUT_Produktivitätsentwicklung!C20","v":"Übrige Prozesse (15%)"},{"$f":"TRANSPOSE(NR_Mittelwertberechnung!AG4:AG31)","v":4.9694891093643223E-2},4.7782298421394032E-2,-2.2327308097210841E-2,2.3272486327159836E-2,2.1701463736907289E-3,1.5692540581667247E-2,-6.6648613270391399E-3,-4.0404475333437939E-2,-9.5591540005863784E-3,-2.0093368096068209E-2,-2.9175927628500964E-2,-3.6562672660886197E-2,-2.9376174505746366E-2,-9.35951470464369E-3,3.1711480727733665E-2,3.5257675497116114E-2,-9.9887280800411427E-3,-8.2411892428031042E-2,-7.6630009482396844E-3,2.7317810948380039E-2,6.5022957278204618E-3,2.7265965141137549E-2,-1.5577898876929175E-2,-1.6070149454010529E-3,4.2225087408694018E-2,-2.5260094869943517E-2,3.8236145225813978E-3,{"$error":"#VALUE!"}]
[null,null,null,null,null,null,null,null,null,null,null,null,"Synthetischer Index ∆ Arbeitsproduktivität"]
[null,null,null,null,null,null,null,null,null,null,null,null,null,{"$f":"OUT_Produktivitätsentwicklung!C21","v":"Annahme (10%)"},{"$f":"TRANSPOSE(NR_Mittelwertberechnung!Z4:Z31)","v":1.9531407414215662E-2},-4.598439713498581E-2,1.608853006384936E-2,1.5231870511368983E-2,-1.8315340387935586E-2,-1.0954830273960381E-2,9.8443255014424302E-4,5.371133604034517E-3,-8.0158363441821257E-3,2.5336375051417059E-2,-3.6913149683061142E-2,1.65298404855867E-2,-1.7674224266562844E-2,-1.7927696873838328E-2,6.0737419068012777E-2,-1.1117811916050435E-4,-2.1175232104264308E-2,1.1977926693252705E-2,2.5428563737606602E-2,-2.1350412570948163E-2,1.2905694663722933E-4,-2.6629730109716254E-3,2.6767056828291835E-2,7.500245066964939E-2,2.8050403225806209E-2,2.7519329972277129E-2,-6.1428222056616466E-3,{"$error":"#VALUE!"}]
[null,null,null,null,null,null,null,null,null,null,null,null,null,{"$f":"OUT_Produktivitätsentwicklung!C22","v":"Sortierung (20%)"},{"$f":"TRANSPOSE(NR_Mittelwertberechnung!AB4:AB31)","v":4.319284707881188E-2},3.1811572413187328E-3,8.8915927540736739E-2,1.6071136312814094E-2,3.2251307206350832E-2,0.10905130498882754,3.5623445994475089E-2,-2.8510289707360803E-2,4.705338302826112E-2,5.6123855620742624E-2,7.6501920735581042E-2,5.9794589997019365E-2,0.11884077211206767,0.10397927700601706,4.1178256375510314E-2,3.0345600348848256E-2,-8.8395896427793663E-2,-0.11316825889145021,4.7414392711427444E-2,8.5613946061169344E-4,-1.5971770632725368E-2,-1.2353879911250809E-2,1.5604366413235482E-3,-1.1805542698273275E-3,-1.7722815533980585E-2,-3.1896656846222671E-2,-1.3005437499863604E-2,{"$error":"#VALUE!"}]
[null,null,null,null,null,null,null,null,null,null,null,null,null,{"$f":"OUT_Produktivitätsentwicklung!C23","v":"Transport (10%)"},{"$f":"TRANSPOSE(NR_Mittelwertberechnung!AD4:AD31)","v":-3.0119667422067398E-2},2.5431687498552513E-2,7.3276619924720565E-2,0.15815687485153873,8.3417861134773341E-2,-1.0757582988554892E-2,-1.4248605098048261E-2,0.12166639199764306,-4.4212068716334318E-2,-7.8672728596292929E-3,-1.4627790747377745E-2,-4.1097358774353054E-2,-2.0653880451177997E-3,5.7207952068544454E-2,8.9834489072171841E-2,3.9022972959432689E-3,1.3843703787965067E-2,-8.4110077644587888E-2,1.148031836518637E-2,3.8238595752213111E-2,4.6074597631462488E-4,-1.5767510551097041E-2,1.99791631605577E-2,-3.849843590686941E-2,-3.2877631578947408E-2,1.5150192914395788E-2,1.7194919351774196E-2,{"$error":"#VALUE!"}]
[null,null,null,null,null,null,null,null,null,null,null,null,null,{"$f":"OUT_Produktivitätsentwicklung!C24","v":"Zustellung (45%)"},{"$f":"TRANSPOSE(NR_Mittelwertberechnung!AF4:AF31)","v":-9.688624158104342E-3},-4.6342977045926714E-2,4.6757947524783239E-2,5.3640144600654693E-2,3.8194505198587914E-2,3.5379757390859856E-2,9.0616455667089646E-3,1.1684462699119713E-3,-1.8159843936315312E-2,3.213156787680238E-2,4.5780965763122072E-2,5.0697925390266185E-2,6.3377023742331007E-2,3.8540246569226388E-2,7.284586131662607E-2,-1.9594098656995684E-2,1.69297331376983E-3,-5.6198910378769229E-2,2.0698888069954346E-3,3.542279014060945E-2,-1.3721071453139499E-2,-6.7635658677436261E-3,1.8219461836337603E-2,-2.5623140997092619E-2,7.2200235621415754E-3,-4.2940918326350719E-3,5.1648046842529549E-3,{"$error":"#VALUE!"}]
[null,null,null,null,null,null,null,null,null,null,null,null,null,{"$f":"OUT_Produktivitätsentwicklung!C25","v":"Übrige Prozesse (15%)"},{"$f":"TRANSPOSE(NR_Mittelwertberechnung!AH4:AH31)","v":4.9664138767906429E-3},6.7444656909150247E-3,-6.6816716860350289E-2,-1.1358902967314566E-2,-2.028468917201165E-2,-1.2073168933653733E-2,-3.4199137607744401E-2,-6.5049246881951239E-2,-3.3848704010669972E-2,-1.8413680610100291E-2,-2.5434261450161921E-2,-3.4593459693608608E-2,-3.5749532946529605E-2,-1.2780235469096457E-2,2.6174050163866536E-2,3.8302122348256251E-2,-2.0124717313043661E-3,-7.0174405212495738E-2,-1.0627080359707497E-3,3.298014436396457E-2,8.3155512929300457E-3,3.0934663426297693E-2,-1.0578991916348146E-2,4.3677545300246923E-3,4.8369380414777341E-2,-2.0869638593066675E-2,7.8966262313775459E-3,{"$error":"#VALUE!"}]

{"sheet":"ABB_Gesamt","index":4,"n_rows":0,"n_cols":0,"rows_kept":0,"cut":false,"hidden":false,"merged":[]}

{"sheet":"ABB_Gesamt_TFP","index":5,"n_rows":0,"n_cols":0,"rows_kept":0,"cut":false,"hidden":false,"merged":[]}

{"sheet":"ABB_Gesamt_Arbeit","index":6,"n_rows":0,"n_cols":0,"rows_kept":0,"cut":false,"hidden":false,"merged":[]}

{"sheet":"ABB_Prozesse_Gesamt_TFP ","index":7,"n_rows":0,"n_cols":0,"rows_kept":0,"cut":false,"hidden":false,"merged":[]}

{"sheet":"ABB_Prozesse_Gesamt_Arbeit","index":8,"n_rows":0,"n_cols":0,"rows_kept":0,"cut":false,"hidden":false,"merged":[]}

{"sheet":"ABB_Annahme","index":9,"n_rows":0,"n_cols":0,"rows_kept":0,"cut":false,"hidden":false,"merged":[]}

{"sheet":"ABB_Sortierung","index":10,"n_rows":0,"n_cols":0,"rows_kept":0,"cut":false,"hidden":false,"merged":[]}

{"sheet":"ABB_Transport","index":11,"n_rows":0,"n_cols":0,"rows_kept":0,"cut":false,"hidden":false,"merged":[]}

{"sheet":"ABB_Zustellung","index":12,"n_rows":0,"n_cols":0,"rows_kept":0,"cut":false,"hidden":false,"merged":[]}

{"sheet":"ABB_Übrige_Prozesse","index":13,"n_rows":0,"n_cols":0,"rows_kept":0,"cut":false,"hidden":false,"merged":[]}

{"sheet":"NR_Mittelwertberechnung","index":14,"n_rows":40,"n_cols":34,"rows_kept":40,"cut":false,"hidden":false,"merged":[[0,18,1,19],[0,21,1,22],[0,24,0,33],[1,24,1,25],[1,26,1,27],[1,28,1,29],[1,30,1,31],[1,32,1,33],[0,1,1,2],[0,4,1,5],[0,7,0,16],[1,7,1,8],[1,9,1,10],[1,11,1,12],[1,13,1,14],[1,15,1,16]]}
[null,"Synthetischer Index",null,null,"Post-, Kurier-, und Expressdienste",null,null,"Prozesse synthetischer Index",null,null,null,null,null,null,null,null,null,null,"Synthetischer Index",null,null,"Post-, Kurier-, und Expressdienste",null,null,"Prozesse synthetischer Index"]
[null,null,null,null,null,null,null,"Annahme",null,"Sortierung",null,"Transport",null,"Zustellung",null,"Übrige Prozesse",null,null,null,null,null,null,null,null,"Annahme",null,"Sortierung",null,"Transport",null,"Zustellung",null,"Übrige Prozesse"]
[null,"TFP","Arbeitsproduktivität",null,"TFP","Arbeitsproduktivität",null,"TFP","Arbeitsproduktivität","TFP","Arbeitsproduktivität","TFP","Arbeitsproduktivität","TFP","Arbeitsproduktivität","TFP","Arbeitsproduktivität",null,"TFP","Arbeitsproduktivität",null,"TFP","Arbeitsproduktivität",null,"TFP","Arbeitsproduktivität","TFP","Arbeitsproduktivität","TFP","Arbeitsproduktivität","TFP","Arbeitsproduktivität","TFP","Arbeitsproduktivität"]
[1992,{"$f":"TRANSPOSE(NR_Synthetische_Indizes!D18:AE18)","v":0.99892504966801732},{"$f":"TRANSPOSE(NR_Synthetische_Indizes!D34:AE34)","v":1.003964824625349},null,{"$f":"TRANSPOSE(NR_Berechnungen_Post_direkt!C22:AD22)","v":0.97077411619412679},{"$f":"TRANSPOSE(NR_Berechnungen_Post_direkt!C23:AD23)","v":0.97876981259048801},null,{"$f":"TRANSPOSE(NR_Synthetische_Indizes!D54:AE54)","v":1.0028109110912304},{"$f":"TRANSPOSE(NR_Synthetische_Indizes!D136:AE136)","v":1.0195314074142157},{"$f":"TRANSPOSE(NR_Synthetische_Indizes!D70:AE70)","v":1.0289759029647243},{"$f":"TRANSPOSE(NR_Synthetische_Indizes!D152:AE152)","v":1.0431928470788119},{"$f":"TRANSPOSE(NR_Synthetische_Indizes!D86:AE86)","v":0.95058086436505973},{"$f":"TRANSPOSE(NR_Synthetische_Indizes!D168:AE168)","v":0.9698803325779326},{"$f":"TRANSPOSE(NR_Synthetische_Indizes!D102:AE102)","v":0.9785254619231043},{"$f":"TRANSPOSE(NR_Synthetische_Indizes!D184:AE184)","v":0.99031137584189566},{"$f":"TRANSPOSE(NR_Synthetische_Indizes!D118:AE118)","v":1.0496948910936432},{"$f":"TRANSPOSE(NR_Synthetische_Indizes!D200:AE200)","v":1.0049664138767906},null,{"$f":"B4-1","v":-1.0749503319826825E-3},{"$f":"C4-1","v":3.9648246253489727E-3},null,-2.922588380587321E-2,-2.1230187409511991E-2,null,2.8109110912304391E-3,1.9531407414215662E-2,2.8975902964724298E-2,4.319284707881188E-2,-4.941913563494027E-2,-3.0119667422067398E-2,-2.1474538076895699E-2,-9.688624158104342E-3,4.9694891093643223E-2,4.9664138767906429E-3]
[{"$f":"A4+1","v":1993},0.97631350842072606,0.97873829066759066,null,0.91366745290155349,0.91509107534626211,null,0.94124362614278545,0.95401560286501419,0.99364974754880464,1.0031811572413187,1.0106445750728938,1.0254316874985525,0.94494976450264034,0.95365702295407329,1.047782298421394,1.006744465690915,null,{"$f":"B5-1","v":-2.3686491579273938E-2},-2.126170933240934E-2,null,-8.633254709844651E-2,-8.4908924653737894E-2,null,-5.875637385721455E-2,-4.598439713498581E-2,-6.3502524511953595E-3,3.1811572413187328E-3,1.0644575072893847E-2,2.5431687498552513E-2,-5.5050235497359656E-2,-4.6342977045926714E-2,4.7782298421394032E-2,6.7444656909150247E-3]
[1994,1.036977960642963,1.0377382693641042,null,1.0319297338929341,1.0351506483968849,null,1.0077644672149431,1.0160885300638494,1.0805308550484791,1.0889159275407367,1.060184634807926,1.0732766199247206,1.0387243903234706,1.0467579475247832,0.97767269190278916,0.93318328313964971,null,3.6977960642962993E-2,3.7738269364104182E-2,null,3.1929733892934076E-2,3.5150648396884865E-2,null,7.7644672149430605E-3,1.608853006384936E-2,8.0530855048479122E-2,8.8915927540736739E-2,6.0184634807926018E-2,7.3276619924720565E-2,3.8724390323470637E-2,4.6757947524783239E-2,-2.2327308097210841E-2,-6.6816716860350289E-2]
[1995,1.039993852751949,1.042987331424051,null,1.0350952687023769,1.038083111471235,null,1.0060430623282013,1.015231870511369,1.0083779175036138,1.0160711363128141,1.1447621409931397,1.1581568748515387,1.0438819466000404,1.0536401446006547,1.0232724863271598,0.98864109703268543,null,3.9993852751948999E-2,4.2987331424050979E-2,null,3.5095268702376892E-2,3.8083111471234998E-2,null,6.0430623282012874E-3,1.5231870511368983E-2,8.3779175036138298E-3,1.6071136312814094E-2,0.14476214099313967,0.15815687485153873,4.3881946600040411E-2,5.3640144600654693E-2,2.3272486327159836E-2,-1.1358902967314566E-2]
[1996,1.0242043794026199,1.0271053374795167,null,1.0461636017755229,1.0461636017755229,null,0.97336707817069201,0.98168465961206441,1.0275453730379245,1.0322513072063508,1.0701748653086618,1.0834178611347733,1.0311457522023244,1.0381945051985879,1.0021701463736907,0.97971531082798835,null,2.420437940261988E-2,2.7105337479516711E-2,null,4.6163601775522922E-2,4.6163601775522922E-2,null,-2.6632921829307987E-2,-1.8315340387935586E-2,2.7545373037924481E-2,3.2251307206350832E-2,7.0174865308661794E-2,8.3417861134773341E-2,3.1145752202324406E-2,3.8194505198587914E-2,2.1701463736907289E-3,-2.028468917201165E-2]
[1997,1.0320991008862119,1.033748935157353,null,1.0432415938169628,1.0468416073993625,null,0.98026117510072619,0.98904516972603962,1.1051504542609583,1.1090513049888275,0.9755213401404873,0.98924241701144511,1.029193060939219,1.0353797573908599,1.0156925405816672,0.98792683106634627,null,3.2099100886211929E-2,3.3748935157352999E-2,null,4.3241593816962798E-2,4.6841607399362495E-2,null,-1.973882489927381E-2,-1.0954830273960381E-2,0.10515045426095826,0.10905130498882754,-2.4478659859512697E-2,-1.0757582988554892E-2,2.9193060939219029E-2,3.5379757390859856E-2,1.5692540581667247E-2,-1.2073168933653733E-2]
[1998,1.0072948561460535,1.0047461418079622,null,0.97926610554825033,0.98342799373992895,null,0.99202779661655782,1.0009844325501442,1.0362874649567546,1.0356234459944751,0.9810762562884745,0.98575139490195174,1.0082815268072336,1.009061645566709,0.99333513867296086,0.9658008623922556,null,7.2948561460535188E-3,4.7461418079621787E-3,null,-2.0733894451749668E-2,-1.6572006260071048E-2,null,-7.9722033834421779E-3,9.8443255014424302E-4,3.6287464956754611E-2,3.5623445994475089E-2,-1.8923743711525498E-2,-1.4248605098048261E-2,8.2815268072335968E-3,9.0616455667089646E-3,-6.6648613270391399E-3,-3.4199137607744401E-2]
[1999,1.0126161037549322,0.99777010840786318,null,1.0099140676275848,1.0157254355178418,null,0.99707073436572435,1.0053711336040345,0.9293647896367937,0.9714897102926392,1.2500744747474395,1.1216663919976431,1.0179762138139397,1.001168446269912,0.95959552466656206,0.93495075311804876,null,1.2616103754932162E-2,-2.2298915921368234E-3,null,9.9140676275848438E-3,1.5725435517841779E-2,null,-2.9292656342756462E-3,5.371133604034517E-3,-7.0635210363206302E-2,-2.8510289707360803E-2,0.25007447474743949,0.12166639199764306,1.7976213813939657E-2,1.1684462699119713E-3,-4.0404475333437939E-2,-6.5049246881951239E-2]
[2000,0.99197305181598017,0.99093865072665821,null,1.0037847275082283,1.0071860418169452,null,0.98700097756299165,0.99198416365581787,1.0474521055071269,1.0470533830282611,0.94200842690465447,0.95578793128366568,0.98003458526195131,0.98184015606368469,0.99044084599941362,0.96615129598933003,null,-8.0269481840198331E-3,-9.06134927334179E-3,null,3.784727508228336E-3,7.1860418169451545E-3,null,-1.2999022437008345E-2,-8.0158363441821257E-3,4.7452105507126863E-2,4.705338302826112E-2,-5.7991573095345528E-2,-4.4212068716334318E-2,-1.9965414738048692E-2,-1.8159843936315312E-2,-9.5591540005863784E-3,-3.3848704010669972E-2]
[2001,1.0184485938540064,1.0246688347963733,null,0.94300561609497568,0.94523124382984958,null,1.0151690157321698,1.0253363750514171,1.0529415878536244,1.0561238556207426,0.98079896969300617,0.99213272714037071,1.02506107323372,1.0321315678768024,0.97990663190393179,0.98158631938989971,null,1.8448593854006434E-2,2.4668834796373273E-2,null,-5.6994383905024315E-2,-5.4768756170150423E-2,null,1.5169015732169777E-2,2.5336375051417059E-2,5.294158785362435E-2,5.6123855620742624E-2,-1.9201030306993827E-2,-7.8672728596292929E-3,2.5061073233719977E-2,3.213156787680238E-2,-2.0093368096068209E-2,-1.8413680610100291E-2]
[2002,1.02178956855199,1.0269325854799529,null,1.0235085938485742,1.0323219113774822,null,0.9583818088966779,0.96308685031693886,1.071844915651432,1.076501920735581,0.97576717940538205,0.98537220925262226,1.0408490571906059,1.0457809657631221,0.97082407237149904,0.97456573854983808,null,2.1789568551989991E-2,2.693258547995292E-2,null,2.3508593848574177E-2,3.2321911377482193E-2,null,-4.16181911033221E-2,-3.6913149683061142E-2,7.1844915651432029E-2,7.6501920735581042E-2,-2.4232820594617954E-2,-1.4627790747377745E-2,4.0849057190605942E-2,4.5780965763122072E-2,-2.9175927628500964E-2,-2.5434261450161921E-2]
[2003,1.0222552580366857,1.0271272136421059,null,1.0380393780973278,1.0505997788928803,null,1.0075147345992181,1.0165298404855867,1.0559926878790695,1.0597945899970194,0.95203747078219803,0.95890264122564695,1.045746446270807,1.0506979253902662,0.9634373273391138,0.96540654030639139,null,2.225525803668571E-2,2.7127213642105907E-2,null,3.8039378097327825E-2,5.0599778892880254E-2,null,7.5147345992181425E-3,1.65298404855867E-2,5.5992687879069525E-2,5.9794589997019365E-2,-4.7962529217801975E-2,-4.1097358774353054E-2,4.574644627080704E-2,5.0697925390266185E-2,-3.6562672660886197E-2,-3.4593459693608608E-2]
[2004,1.0430898577464045,1.0449514239333151,null,0.9413824956781861,0.94945911626274626,null,0.98303858234602737,0.98232577573343716,1.1123361762778186,1.1188407721120677,0.9980824823781107,0.9979346119548822,1.0598154270984197,1.063377023742331,0.97062382549425363,0.96425046705347039,null,4.3089857746404503E-2,4.4951423933315082E-2,null,-5.8617504321813896E-2,-5.0540883737253739E-2,null,-1.6961417653972632E-2,-1.7674224266562844E-2,0.11233617627781856,0.11884077211206767,-1.9175176218892975E-3,-2.0653880451177997E-3,5.9815427098419693E-2,6.3377023742331007E-2,-2.9376174505746366E-2,-3.5749532946529605E-2]
[2005,1.035509333957499,1.0401499565564614,null,0.94647357190934389,0.96156369289921084,null,0.97802237957566407,0.98207230312616167,1.0974322155752594,1.1039792770060171,1.0518078564468138,1.0572079520685445,1.0320973209908795,1.0385402465692264,0.99064048529535631,0.98721976453090354,null,3.5509333957499001E-2,4.0149956556461364E-2,null,-5.3526428090656109E-2,-3.8436307100789158E-2,null,-2.1977620424335931E-2,-1.7927696873838328E-2,9.7432215575259384E-2,0.10397927700601706,5.1807856446813849E-2,5.7207952068544454E-2,3.2097320990879474E-2,3.8540246569226388E-2,-9.35951470464369E-3,-1.2780235469096457E-2]
[2006,1.0599760659014283,1.0599995872061823,null,0.98176866678834218,0.99032600159360706,null,1.0584622952450147,1.0607374190680128,1.0397093012241148,1.0411782563755103,1.0902035650971735,1.0898344890721718,1.0720242166960587,1.0728458613166261,1.0317114807277337,1.0261740501638665,null,5.9976065901428344E-2,5.9999587206182259E-2,null,-1.8231333211657819E-2,-9.6739984063929363E-3,null,5.8462295245014673E-2,6.0737419068012777E-2,3.9709301224114757E-2,4.1178256375510314E-2,9.0203565097173533E-2,8.9834489072171841E-2,7.202421669605874E-2,7.284586131662607E-2,3.1711480727733665E-2,2.6174050163866536E-2]
[2007,1.0048246143676001,1.0033762059440383,null,1.0447401915834358,1.0445898028483946,null,0.99876533664237888,0.9998888218808395,1.0309736038322783,1.0303456003488483,1.0089513129025895,1.0039022972959433,0.98348794960462227,0.98040590134300432,1.0352576754971161,1.0383021223482563,null,4.8246143676000663E-3,3.376205944038313E-3,null,4.4740191583435784E-2,4.4589802848394644E-2,null,-1.2346633576211241E-3,-1.1117811916050435E-4,3.0973603832278318E-2,3.0345600348848256E-2,8.9513129025895477E-3,3.9022972959432689E-3,-1.6512050395377731E-2,-1.9594098656995684E-2,3.5257675497116114E-2,3.8302122348256251E-2]
[2008,0.98071846221654779,0.98204763511431226,null,1.0372727587921022,1.0348360734789548,null,0.97776320835485553,0.97882476789573569,0.91344787159900664,0.91160410357220634,1.0149554505898526,1.0138437037879651,1.0005674026984039,1.0016929733137698,0.99001127191995886,0.99798752826869563,null,-1.9281537783452207E-2,{"$f":"C20-1","v":-1.7952364885687744E-2},null,{"$f":"E20-1","v":3.7272758792102234E-2},{"$f":"F20-1","v":3.4836073478954788E-2},null,{"$f":"H20-1","v":-2.2236791645144471E-2},{"$f":"I20-1","v":-2.1175232104264308E-2},{"$f":"J20-1","v":-8.6552128400993356E-2},{"$f":"K20-1","v":-8.8395896427793663E-2},{"$f":"L20-1","v":1.4955450589852592E-2},{"$f":"M20-1","v":1.3843703787965067E-2},{"$f":"N20-1","v":5.6740269840394042E-4},{"$f":"O20-1","v":1.69297331376983E-3},{"$f":"P20-1","v":-9.9887280800411427E-3},{"$f":"Q20-1","v":-2.0124717313043661E-3}]
[{"$f":"A20+1","v":2009},0.92682493295705037,0.9343374626742561,null,1.057125577514479,1.0564715457030061,null,1.0102513323422244,1.0119779266932527,0.87800761697484153,0.88683174110854979,0.91825367775211553,0.91588992235541211,0.93496598314856172,0.94380108962123077,0.91758810757196896,0.92982559478750426,null,-7.3175067042949626E-2,-6.5662537325743897E-2,null,5.7125577514478998E-2,5.6471545703006054E-2,null,1.0251332342224417E-2,1.1977926693252705E-2,-0.12199238302515847,-0.11316825889145021,-8.1746322247884473E-2,-8.4110077644587888E-2,-6.5034016851438281E-2,-5.6198910378769229E-2,-8.2411892428031042E-2,-7.0174405212495738E-2]
[2010,1.0089188019575546,1.013945810510317,null,0.88011349553454776,0.88404726600649941,null,1.0241773456157695,1.0254285637376066,1.0378051643294786,1.0474143927114274,1.0161345835914399,1.0114803183651864,0.99661339180705322,1.0020698888069954,0.99233699905176032,0.99893729196402925,null,8.9188019575545674E-3,1.3945810510316958E-2,null,-0.11988650446545224,-0.11595273399350059,null,2.4177345615769452E-2,2.5428563737606602E-2,3.7805164329478558E-2,4.7414392711427444E-2,1.6134583591439933E-2,1.148031836518637E-2,-3.3866081929467828E-3,2.0698888069954346E-3,-7.6630009482396844E-3,-1.0627080359707497E-3]
[2011,1.0246680085709403,1.0227473234281175,null,1.014273863773596,1.0149727734946541,null,0.97772081453371795,0.97864958742905184,1.0026831939257848,1.0008561394606117,1.0446497373950967,1.0382385957522131,1.0395480954458778,1.0354227901406095,1.02731781094838,1.0329801443639646,null,2.4668008570940314E-2,2.2747323428117472E-2,null,1.4273863773595963E-2,1.497277349465409E-2,null,-2.2279185466282048E-2,-2.1350412570948163E-2,2.6831939257847548E-3,8.5613946061169344E-4,4.46497373950967E-2,3.8238595752213111E-2,3.9548095445877784E-2,3.542279014060945E-2,2.7317810948380039E-2,3.298014436396457E-2]
[2012,0.99390467814270134,0.99193747670577681,null,0.99892462075429134,0.99707359862047484,null,0.99857578214785991,1.0001290569466372,0.98475466791245914,0.98402822936727463,1.0067325736791031,1.0004607459763146,0.98988347692964451,0.9862789285468605,1.0065022957278205,1.00831555129293,null,-6.0953218572986634E-3,-8.0625232942231895E-3,null,-1.0753792457086631E-3,-2.9264013795251564E-3,null,-1.4242178521400861E-3,1.2905694663722933E-4,-1.5245332087540864E-2,-1.5971770632725368E-2,6.732573679103071E-3,4.6074597631462488E-4,-1.0116523070355488E-2,-1.3721071453139499E-2,6.5022957278204618E-3,8.3155512929300457E-3]
[2013,0.99787429437930675,0.99728277053500292,null,1.0334471231358533,1.0314160786206317,null,0.99555246980710876,0.99733702698902837,0.98569477690110596,0.98764612008874919,0.99315067750693653,0.98423248944890296,0.99505584332557895,0.99323643413225637,1.0272659651411375,1.0309346634262977,null,-2.1257056206932523E-3,-2.7172294649970841E-3,null,3.3447123135853296E-2,3.1416078620631671E-2,null,-4.4475301928912359E-3,-2.6629730109716254E-3,-1.4305223098894038E-2,-1.2353879911250809E-2,-6.84932249306347E-3,-1.5767510551097041E-2,-4.9441566744210519E-3,-6.7635658677436261E-3,2.7265965141137549E-2,3.0934663426297693E-2]
[2014,1.0116514950142426,1.0115986183660495,null,1.0266763577492797,1.0251077293835165,null,1.0254107592332413,1.0267670568282918,1.0031954148101472,1.0015604366413235,1.0193485307187398,1.0199791631605577,1.0197181508634539,1.0182194618363376,0.98442210112307083,0.98942100808365185,null,1.1651495014242563E-2,1.1598618366049473E-2,null,2.6676357749279678E-2,2.5107729383516464E-2,null,2.541075923324132E-2,2.6767056828291835E-2,3.1954148101471791E-3,1.5604366413235482E-3,1.9348530718739765E-2,1.99791631605577E-2,1.9718150863453854E-2,1.8219461836337603E-2,-1.5577898876929175E-2,-1.0578991916348146E-2]
[{"$f":"A26+1","v":2015},0.99215379802228509,0.99253904035312446,null,0.9983411545402745,0.99388769707494806,null,1.0734277443192348,1.0750024506696494,0.99779911849840897,0.99881944573017267,0.9642419893262455,0.96150156409313059,0.97570678488858942,0.97437685900290738,0.99839298505459895,1.0043677545300247,null,-7.8462019777149061E-3,-7.4609596468755424E-3,null,-1.6588454597254998E-3,-6.1123029250519378E-3,null,7.3427744319234822E-2,7.500245066964939E-2,-2.2008815015910344E-3,-1.1805542698273275E-3,-3.5758010673754503E-2,-3.849843590686941E-2,-2.4293215111410582E-2,-2.5623140997092619E-2,-1.6070149454010529E-3,4.3677545300246923E-3]
[2016,1.0068655372381761,1.0064771317230701,null,1.0092893772375329,1.0083958762886596,null,1.0258095888892984,1.0280504032258062,0.98132334830890466,0.98227718446601942,0.9716753306438275,0.96712236842105259,1.0100413611372852,1.0072200235621416,1.042225087408694,1.0483693804147773,null,6.8655372381760671E-3,6.4771317230700731E-3,null,9.2893772375328698E-3,8.395876288659565E-3,null,2.5809588889298407E-2,2.8050403225806209E-2,-1.8676651691095336E-2,-1.7722815533980585E-2,-2.8324669356172505E-2,-3.2877631578947408E-2,1.0041361137285154E-2,7.2200235621415754E-3,4.2225087408694018E-2,4.8369380414777341E-2]
[2017,0.99298858859175065,0.99282483380577691,null,0.98561691955794817,0.98198115031838862,null,1.0248752498180813,1.0275193299722771,0.969487873452477,0.96810334315377733,1.0174094603520365,1.0151501929143958,0.99700346025496656,0.99570590816736493,0.97473990513005648,0.97913036140693332,null,-7.0114114082493462E-3,-7.1751661942230927E-3,null,-1.4383080442051832E-2,-1.8018849681611382E-2,null,2.4875249818081313E-2,2.7519329972277129E-2,-3.0512126547523E-2,-3.1896656846222671E-2,1.7409460352036499E-2,1.5150192914395788E-2,-2.9965397450334441E-3,-4.2940918326350719E-3,-2.5260094869943517E-2,-2.0869638593066675E-2]
[2018,1.0041135902964173,1.002012778257259,null,0.96405988563912026,0.96221879376791009,null,0.99203529857039174,0.99385717779433835,0.99179509103491603,0.9869945625001364,1.0206667089242778,1.0171949193517742,1.0086907314701776,1.005164804684253,1.0038236145225814,1.0078966262313775,null,4.1135902964173354E-3,2.0127782572589847E-3,null,-3.5940114360879738E-2,-3.7781206232089914E-2,null,-7.9647014296082563E-3,-6.1428222056616466E-3,-8.2049089650839679E-3,-1.3005437499863604E-2,2.0666708924277799E-2,1.7194919351774196E-2,8.6907314701776262E-3,5.1648046842529549E-3,3.8236145225813978E-3,7.8966262313775459E-3]
[2019,{"$error":"#VALUE!"},{"$error":"#VALUE!"},null,{"$error":"#VALUE!"},{"$error":"#VALUE!"},null,{"$error":"#VALUE!"},{"$error":"#VALUE!"},{"$error":"#VALUE!"},{"$error":"#VALUE!"},{"$error":"#VALUE!"},{"$error":"#VALUE!"},{"$error":"#VALUE!"},{"$error":"#VALUE!"},{"$error":"#VALUE!"},{"$error":"#VALUE!"},null,{"$error":"#VALUE!"},{"$error":"#VALUE!"},null,{"$error":"#VALUE!"},{"$error":"#VALUE!"},null,{"$error":"#VALUE!"},{"$error":"#VALUE!"},{"$error":"#VALUE!"},{"$error":"#VALUE!"},{"$error":"#VALUE!"},{"$error":"#VALUE!"},{"$error":"#VALUE!"},{"$error":"#VALUE!"},{"$error":"#VALUE!"},{"$error":"#VALUE!"}]
[]
["Arithmetisches Mittel",{"$f":"AVERAGE(INDIRECT(B37):INDIRECT(B39))","v":0.99903037853715726},{"$f":"AVERAGE(INDIRECT(C37):INDIRECT(C39))","v":0.99846344603480763},{"$f":"AVERAGE(INDIRECT(D37):INDIRECT(D39))","v":{"$error":"#REF!"}},{"$f":"AVERAGE(INDIRECT(E37):INDIRECT(E39))","v":0.98932683424371892},{"$f":"AVERAGE(INDIRECT(F37):INDIRECT(F39))","v":0.98662087936247655},null,{"$f":"AVERAGE(INDIRECT(H37):INDIRECT(H39))","v":1.0290369703992517},{"$f":"AVERAGE(INDIRECT(I37):INDIRECT(I39))","v":1.0311073404155178},{"$f":"AVERAGE(INDIRECT(J37):INDIRECT(J39))","v":0.98510135782367669},{"$f":"AVERAGE(INDIRECT(K37):INDIRECT(K39))","v":0.98404863396252651},{"$f":"AVERAGE(INDIRECT(L37):INDIRECT(L39))","v":0.99349837231159688},{"$f":"AVERAGE(INDIRECT(M37):INDIRECT(M39))","v":0.99024226119508829},{"$f":"AVERAGE(INDIRECT(N37):INDIRECT(N39))","v":0.99786058443775461},{"$f":"AVERAGE(INDIRECT(O37):INDIRECT(O39))","v":0.99561689885416671},{"$f":"AVERAGE(INDIRECT(P37):INDIRECT(P39))","v":1.0047953980289828},{"$f":"AVERAGE(INDIRECT(Q37):INDIRECT(Q39))","v":1.0099410306457783}]
["Geometrisches Mittel",{"$f":"GEOMEAN(INDIRECT(B37):INDIRECT(B39))","v":0.99900898566213403},{"$f":"GEOMEAN(INDIRECT(C37):INDIRECT(C39))","v":0.99844546885095009},{"$f":"GEOMEAN(INDIRECT(D37):INDIRECT(D39))","v":{"$error":"#REF!"}},{"$f":"GEOMEAN(INDIRECT(E37):INDIRECT(E39))","v":0.98918314984823963},{"$f":"GEOMEAN(INDIRECT(F37):INDIRECT(F39))","v":0.9864755838569943},null,{"$f":"GEOMEAN(INDIRECT(H37):INDIRECT(H39))","v":1.0286305659134547},{"$f":"GEOMEAN(INDIRECT(I37):INDIRECT(I39))","v":1.0307051839468548},{"$f":"GEOMEAN(INDIRECT(J37):INDIRECT(J39))","v":0.9850423348597942},{"$f":"GEOMEAN(INDIRECT(K37):INDIRECT(K39))","v":0.98398704675848725},{"$f":"GEOMEAN(INDIRECT(L37):INDIRECT(L39))","v":0.99316575043370348},{"$f":"GEOMEAN(INDIRECT(M37):INDIRECT(M39))","v":0.9899003475835898},{"$f":"GEOMEAN(INDIRECT(N37):INDIRECT(N39))","v":0.99776506736402193},{"$f":"GEOMEAN(INDIRECT(O37):INDIRECT(O39))","v":0.99553129640116789},{"$f":"GEOMEAN(INDIRECT(P37):INDIRECT(P39))","v":1.0045054548687808},{"$f":"GEOMEAN(INDIRECT(Q37):INDIRECT(Q39))","v":1.0096384921963508}]
["Arithmetisches Mittel in % ",{"$f":"B33-1","v":-9.696214628427402E-4},{"$f":"C33-1","v":-1.5365539651923665E-3},{"$f":"D33-1","v":{"$error":"#REF!"}},-1.0673165756281078E-2,-1.3379120637523445E-2,null,{"$f":"H33-1","v":2.9036970399251683E-2},3.110734041551777E-2,-1.4898642176323307E-2,-1.5951366037473491E-2,-6.5016276884031221E-3,-9.7577388049117086E-3,-2.1394155622453948E-3,-4.3831011458332902E-3,4.7953980289827669E-3,9.9410306457783371E-3]
["Geometrisches Mittel in %",{"$f":"B34-1","v":-9.9101433786596971E-4},{"$f":"C34-1","v":-1.5545311490499092E-3},{"$f":"D34-1","v":{"$error":"#REF!"}},-1.0816850151760371E-2,-1.3524416143005702E-2,null,{"$f":"H34-1","v":2.8630565913454697E-2},3.0705183946854842E-2,-1.49576651402058E-2,-1.6012953241512751E-2,-6.8342495662965241E-3,-1.0099652416410199E-2,-2.2349326359780708E-3,-4.4687035988321133E-3,4.5054548687808449E-3,9.638492196350823E-3]
["Zelle Beginn",{"$f":"CONCATENATE(\"B\",$B$38)","v":"B27"},{"$f":"CONCATENATE(\"C\",$B$38)","v":"C27"},null,{"$f":"CONCATENATE(\"E\",$B$38)","v":"E27"},{"$f":"CONCATENATE(\"F\",$B$38)","v":"F27"},null,{"$f":"CONCATENATE(\"H\",$B$38)","v":"H27"},{"$f":"CONCATENATE(\"I\",$B$38)","v":"I27"},{"$f":"CONCATENATE(\"J\",$B$38)","v":"J27"},{"$f":"CONCATENATE(\"K\",$B$38)","v":"K27"},{"$f":"CONCATENATE(\"L\",$B$38)","v":"L27"},{"$f":"CONCATENATE(\"M\",$B$38)","v":"M27"},{"$f":"CONCATENATE(\"N\",$B$38)","v":"N27"},{"$f":"CONCATENATE(\"O\",$B$38)","v":"O27"},{"$f":"CONCATENATE(\"P\",$B$38)","v":"P27"},{"$f":"CONCATENATE(\"Q\",$B$38)","v":"Q27"}]
[null,{"$f":"ROW(INDEX(A4:A31,MATCH(OUT_Produktivitätsentwicklung!D3,A4:A31)))","v":27}]
["Zelle Ende",{"$f":"CONCATENATE(\"B\",$B$40)","v":"B30"},{"$f":"CONCATENATE(\"C\",$B$40)","v":"C30"},null,{"$f":"CONCATENATE(\"E\",$B$40)","v":"E30"},{"$f":"CONCATENATE(\"F\",$B$40)","v":"F30"},null,{"$f":"CONCATENATE(\"H\",$B$40)","v":"H30"},{"$f":"CONCATENATE(\"I\",$B$40)","v":"I30"},{"$f":"CONCATENATE(\"J\",$B$40)","v":"J30"},{"$f":"CONCATENATE(\"K\",$B$40)","v":"K30"},{"$f":"CONCATENATE(\"L\",$B$40)","v":"L30"},{"$f":"CONCATENATE(\"M\",$B$40)","v":"M30"},{"$f":"CONCATENATE(\"N\",$B$40)","v":"N30"},{"$f":"CONCATENATE(\"O\",$B$40)","v":"O30"},{"$f":"CONCATENATE(\"P\",$B$40)","v":"P30"},{"$f":"CONCATENATE(\"Q\",$B$40)","v":"Q30"}]
[null,{"$f":"ROW(INDEX(A4:A31,MATCH(OUT_Produktivitätsentwicklung!D4,A4:A31)))","v":30}]

{"sheet":"NR_Synthetische_Indizes","index":15,"n_rows":200,"n_cols":32,"rows_kept":200,"cut":false,"hidden":false,"merged":[]}
[]
["Synthetischer Index Gesamt"]
[]
["∆ TFP"]
[]
["Nr. (WZ 2008)","Branche","Gewicht",1992,{"$f":"D6+1","v":1993},1994,1995,1996,1997,1998,1999,2000,2001,2002,2003,2004,2005,2006,2007,2008,2009,2010,2011,2012,2013,2014,2015,2016,2017,{"$f":"AC6+1","v":2018},{"$f":"AD6+1","v":2019},{"$f":"AE6+1","v":2020}]
["C33","Reparatur und Installation von Maschinen und Ausrüstungen",{"$f":"'IN_Definition Index'!K7","v":0.1},{"$f":"$C7*NR_Reihen_Veränderungsraten!D4","v":0.10855772449189288},{"$f":"$C7*NR_Reihen_Veränderungsraten!E4","v":9.894188408151916E-2},{"$f":"$C7*NR_Reihen_Veränderungsraten!F4","v":0.11148111583155385},{"$f":"$C7*NR_Reihen_Veränderungsraten!G4","v":0.10333151560696981},{"$f":"$C7*NR_Reihen_Veränderungsraten!H4","v":0.10210792306605979},{"$f":"$C7*NR_Reihen_Veränderungsraten!I4","v":0.11193360368605361},{"$f":"$C7*NR_Reihen_Veränderungsraten!J4","v":0.10448458274330824},{"$f":"$C7*NR_Reihen_Veränderungsraten!K4","v":0.10771027787847509},{"$f":"$C7*NR_Reihen_Veränderungsraten!L4","v":0.1074511521524036},{"$f":"$C7*NR_Reihen_Veränderungsraten!M4","v":0.10032624772305931},{"$f":"$C7*NR_Reihen_Veränderungsraten!N4","v":0.10472794477563951},{"$f":"$C7*NR_Reihen_Veränderungsraten!O4","v":0.10906613728878428},{"$f":"$C7*NR_Reihen_Veränderungsraten!P4","v":0.11064509744555728},{"$f":"$C7*NR_Reihen_Veränderungsraten!Q4","v":0.11553444446942363},{"$f":"$C7*NR_Reihen_Veränderungsraten!R4","v":0.10177236025196346},{"$f":"$C7*NR_Reihen_Veränderungsraten!S4","v":0.10701580942343972},{"$f":"$C7*NR_Reihen_Veränderungsraten!T4","v":8.7219389878516865E-2},{"$f":"$C7*NR_Reihen_Veränderungsraten!U4","v":8.7790060728234087E-2},{"$f":"$C7*NR_Reihen_Veränderungsraten!V4","v":0.1016608964868434},{"$f":"$C7*NR_Reihen_Veränderungsraten!W4","v":0.10251983219016095},{"$f":"$C7*NR_Reihen_Veränderungsraten!X4","v":9.7690852718853805E-2},{"$f":"$C7*NR_Reihen_Veränderungsraten!Y4","v":9.5773836745984026E-2},{"$f":"$C7*NR_Reihen_Veränderungsraten!Z4","v":0.10092906573148215},{"$f":"$C7*NR_Reihen_Veränderungsraten!AA4","v":0.1043869047057797},{"$f":"$C7*NR_Reihen_Veränderungsraten!AB4","v":9.6266494868658667E-2},{"$f":"$C7*NR_Reihen_Veränderungsraten!AC4","v":9.3208010651485873E-2},{"$f":"$C7*NR_Reihen_Veränderungsraten!AD4","v":9.6202744717657482E-2},{"$f":"$C7*NR_Reihen_Veränderungsraten!AE4","v":{"$error":"#VALUE!"}},{"$f":"$C7*NR_Reihen_Veränderungsraten!AF4","v":{"$error":"#VALUE!"}}]
["G45","Handel mit Kraftfahrzeugen; Instandhaltung und Reparatur von Kraftfahrzeugen",{"$f":"'IN_Definition Index'!K8","v":0.15},{"$f":"$C8*NR_Reihen_Veränderungsraten!D5","v":0.15189314405906001},{"$f":"$C8*NR_Reihen_Veränderungsraten!E5","v":0.12394860962289149},{"$f":"$C8*NR_Reihen_Veränderungsraten!F5","v":0.15146069765715997},{"$f":"$C8*NR_Reihen_Veränderungsraten!G5","v":0.1505164529804178},{"$f":"$C8*NR_Reihen_Veränderungsraten!H5","v":0.148387631382459},{"$f":"$C8*NR_Reihen_Veränderungsraten!I5","v":0.15316394565236838},{"$f":"$C8*NR_Reihen_Veränderungsraten!J5","v":0.15240588324792004},{"$f":"$C8*NR_Reihen_Veränderungsraten!K5","v":0.15333410493083147},{"$f":"$C8*NR_Reihen_Veränderungsraten!L5","v":0.14665539590864726},{"$f":"$C8*NR_Reihen_Veränderungsraten!M5","v":0.14876453272972479},{"$f":"$C8*NR_Reihen_Veränderungsraten!N5","v":0.15755544129299501},{"$f":"$C8*NR_Reihen_Veränderungsraten!O5","v":0.17458167977398906},{"$f":"$C8*NR_Reihen_Veränderungsraten!P5","v":0.1594713631225626},{"$f":"$C8*NR_Reihen_Veränderungsraten!Q5","v":0.15074461801043129},{"$f":"$C8*NR_Reihen_Veränderungsraten!R5","v":0.15962611275936112},{"$f":"$C8*NR_Reihen_Veränderungsraten!S5","v":0.14245851337216764},{"$f":"$C8*NR_Reihen_Veränderungsraten!T5","v":0.15480673696387723},{"$f":"$C8*NR_Reihen_Veränderungsraten!U5","v":0.15127944675393412},{"$f":"$C8*NR_Reihen_Veränderungsraten!V5","v":0.13720563420587947},{"$f":"$C8*NR_Reihen_Veränderungsraten!W5","v":0.16407397244888644},{"$f":"$C8*NR_Reihen_Veränderungsraten!X5","v":0.14554755727101754},{"$f":"$C8*NR_Reihen_Veränderungsraten!Y5","v":0.14675484991911431},{"$f":"$C8*NR_Reihen_Veränderungsraten!Z5","v":0.1564058624349223},{"$f":"$C8*NR_Reihen_Veränderungsraten!AA5","v":0.1516723763100753},{"$f":"$C8*NR_Reihen_Veränderungsraten!AB5","v":0.15877005072552083},{"$f":"$C8*NR_Reihen_Veränderungsraten!AC5","v":0.14500579200341521},{"$f":"$C8*NR_Reihen_Veränderungsraten!AD5","v":0.14757641258894971},{"$f":"$C8*NR_Reihen_Veränderungsraten!AE5","v":{"$error":"#VALUE!"}},{"$f":"$C8*NR_Reihen_Veränderungsraten!AF5","v":{"$error":"#VALUE!"}}]
["G47","Einzelhandel (ohne Handel mit Kraftfahrzeugen)",{"$f":"'IN_Definition Index'!K9","v":0.1},{"$f":"$C9*NR_Reihen_Veränderungsraten!D6","v":0.10028109110912305},{"$f":"$C9*NR_Reihen_Veränderungsraten!E6","v":9.4124362614278548E-2},{"$f":"$C9*NR_Reihen_Veränderungsraten!F6","v":0.10077644672149431},{"$f":"$C9*NR_Reihen_Veränderungsraten!G6","v":0.10060430623282013},{"$f":"$C9*NR_Reihen_Veränderungsraten!H6","v":9.7336707817069212E-2},{"$f":"$C9*NR_Reihen_Veränderungsraten!I6","v":9.8026117510072619E-2},{"$f":"$C9*NR_Reihen_Veränderungsraten!J6","v":9.9202779661655791E-2},{"$f":"$C9*NR_Reihen_Veränderungsraten!K6","v":9.9707073436572438E-2},{"$f":"$C9*NR_Reihen_Veränderungsraten!L6","v":9.8700097756299177E-2},{"$f":"$C9*NR_Reihen_Veränderungsraten!M6","v":0.10151690157321698},{"$f":"$C9*NR_Reihen_Veränderungsraten!N6","v":9.5838180889667793E-2},{"$f":"$C9*NR_Reihen_Veränderungsraten!O6","v":0.10075147345992182},{"$f":"$C9*NR_Reihen_Veränderungsraten!P6","v":9.8303858234602748E-2},{"$f":"$C9*NR_Reihen_Veränderungsraten!Q6","v":9.7802237957566415E-2},{"$f":"$C9*NR_Reihen_Veränderungsraten!R6","v":0.10584622952450147},{"$f":"$C9*NR_Reihen_Veränderungsraten!S6","v":9.987653366423789E-2},{"$f":"$C9*NR_Reihen_Veränderungsraten!T6","v":9.7776320835485556E-2},{"$f":"$C9*NR_Reihen_Veränderungsraten!U6","v":0.10102513323422245},{"$f":"$C9*NR_Reihen_Veränderungsraten!V6","v":0.10241773456157695},{"$f":"$C9*NR_Reihen_Veränderungsraten!W6","v":9.7772081453371795E-2},{"$f":"$C9*NR_Reihen_Veränderungsraten!X6","v":9.9857578214785997E-2},{"$f":"$C9*NR_Reihen_Veränderungsraten!Y6","v":9.9555246980710888E-2},{"$f":"$C9*NR_Reihen_Veränderungsraten!Z6","v":0.10254107592332413},{"$f":"$C9*NR_Reihen_Veränderungsraten!AA6","v":0.10734277443192349},{"$f":"$C9*NR_Reihen_Veränderungsraten!AB6","v":0.10258095888892985},{"$f":"$C9*NR_Reihen_Veränderungsraten!AC6","v":0.10248752498180813},{"$f":"$C9*NR_Reihen_Veränderungsraten!AD6","v":9.9203529857039174E-2},{"$f":"$C9*NR_Reihen_Veränderungsraten!AE6","v":{"$error":"#VALUE!"}},{"$f":"$C9*NR_Reihen_Veränderungsraten!AF6","v":{"$error":"#VALUE!"}}]
["H49","Landverkehr und Transport in Rohrfernleitungen",{"$f":"'IN_Definition Index'!K10","v":0.25},{"$f":"$C10*NR_Reihen_Veränderungsraten!D7","v":0.23764521609126493},{"$f":"$C10*NR_Reihen_Veränderungsraten!E7","v":0.25266114376822346},{"$f":"$C10*NR_Reihen_Veränderungsraten!F7","v":0.2650461587019815},{"$f":"$C10*NR_Reihen_Veränderungsraten!G7","v":0.28619053524828492},{"$f":"$C10*NR_Reihen_Veränderungsraten!H7","v":0.26754371632716545},{"$f":"$C10*NR_Reihen_Veränderungsraten!I7","v":0.24388033503512183},{"$f":"$C10*NR_Reihen_Veränderungsraten!J7","v":0.24526906407211863},{"$f":"$C10*NR_Reihen_Veränderungsraten!K7","v":0.31251861868685987},{"$f":"$C10*NR_Reihen_Veränderungsraten!L7","v":0.23550210672616362},{"$f":"$C10*NR_Reihen_Veränderungsraten!M7","v":0.24519974242325154},{"$f":"$C10*NR_Reihen_Veränderungsraten!N7","v":0.24394179485134551},{"$f":"$C10*NR_Reihen_Veränderungsraten!O7","v":0.23800936769554951},{"$f":"$C10*NR_Reihen_Veränderungsraten!P7","v":0.24952062059452768},{"$f":"$C10*NR_Reihen_Veränderungsraten!Q7","v":0.26295196411170346},{"$f":"$C10*NR_Reihen_Veränderungsraten!R7","v":0.27255089127429338},{"$f":"$C10*NR_Reihen_Veränderungsraten!S7","v":0.25223782822564739},{"$f":"$C10*NR_Reihen_Veränderungsraten!T7","v":0.25373886264746315},{"$f":"$C10*NR_Reihen_Veränderungsraten!U7","v":0.22956341943802888},{"$f":"$C10*NR_Reihen_Veränderungsraten!V7","v":0.25403364589785998},{"$f":"$C10*NR_Reihen_Veränderungsraten!W7","v":0.26116243434877418},{"$f":"$C10*NR_Reihen_Veränderungsraten!X7","v":0.25168314341977577},{"$f":"$C10*NR_Reihen_Veränderungsraten!Y7","v":0.24828766937673413},{"$f":"$C10*NR_Reihen_Veränderungsraten!Z7","v":0.25483713267968494},{"$f":"$C10*NR_Reihen_Veränderungsraten!AA7","v":0.24106049733156137},{"$f":"$C10*NR_Reihen_Veränderungsraten!AB7","v":0.24291883266095687},{"$f":"$C10*NR_Reihen_Veränderungsraten!AC7","v":0.25435236508800912},{"$f":"$C10*NR_Reihen_Veränderungsraten!AD7","v":0.25516667723106945},{"$f":"$C10*NR_Reihen_Veränderungsraten!AE7","v":{"$error":"#VALUE!"}},{"$f":"$C10*NR_Reihen_Veränderungsraten!AF7","v":{"$error":"#VALUE!"}}]
["H52","Lagerei sowie Erbringung von sonstigen Dienstleistungen für den Verkehr",{"$f":"'IN_Definition Index'!K11","v":0.25},{"$f":"$C11*NR_Reihen_Veränderungsraten!D8","v":0.24309364025263003},{"$f":"$C11*NR_Reihen_Veränderungsraten!E8","v":0.24947016357060442},{"$f":"$C11*NR_Reihen_Veränderungsraten!F8","v":0.261562637945355},{"$f":"$C11*NR_Reihen_Veränderungsraten!G8","v":0.24586016973438235},{"$f":"$C11*NR_Reihen_Veränderungsraten!H8","v":0.25850287885381285},{"$f":"$C11*NR_Reihen_Veränderungsraten!I8","v":0.27274121791534517},{"$f":"$C11*NR_Reihen_Veränderungsraten!J8","v":0.25693227562010668},{"$f":"$C11*NR_Reihen_Veränderungsraten!K8","v":0.19540670012220912},{"$f":"$C11*NR_Reihen_Veränderungsraten!L8","v":0.25509817237255444},{"$f":"$C11*NR_Reihen_Veränderungsraten!M8","v":0.27565517461916389},{"$f":"$C11*NR_Reihen_Veränderungsraten!N8","v":0.27410259588661728},{"$f":"$C11*NR_Reihen_Veränderungsraten!O8","v":0.25533100071757403},{"$f":"$C11*NR_Reihen_Veränderungsraten!P8","v":0.27955534452501601},{"$f":"$C11*NR_Reihen_Veränderungsraten!Q8","v":0.25987999661407069},{"$f":"$C11*NR_Reihen_Veränderungsraten!R8","v":0.26542374998214879},{"$f":"$C11*NR_Reihen_Veränderungsraten!S8","v":0.24794727835753991},{"$f":"$C11*NR_Reihen_Veränderungsraten!T8","v":0.23867546110321117},{"$f":"$C11*NR_Reihen_Veränderungsraten!U8","v":0.21952865666683555},{"$f":"$C11*NR_Reihen_Veränderungsraten!V8","v":0.26475034094763084},{"$f":"$C11*NR_Reihen_Veränderungsraten!W8","v":0.24504201648748999},{"$f":"$C11*NR_Reihen_Veränderungsraten!X8","v":0.24815020215909508},{"$f":"$C11*NR_Reihen_Veränderungsraten!Y8","v":0.2534127965855929},{"$f":"$C11*NR_Reihen_Veränderungsraten!Z8","v":0.24927504307636825},{"$f":"$C11*NR_Reihen_Veränderungsraten!AA8","v":0.23793229748475525},{"$f":"$C11*NR_Reihen_Veränderungsraten!AB8","v":0.24999543698280569},{"$f":"$C11*NR_Reihen_Veränderungsraten!AC8","v":0.25172391009752382},{"$f":"$C11*NR_Reihen_Veränderungsraten!AD8","v":0.2553906837233143},{"$f":"$C11*NR_Reihen_Veränderungsraten!AE8","v":{"$error":"#VALUE!"}},{"$f":"$C11*NR_Reihen_Veränderungsraten!AF8","v":{"$error":"#VALUE!"}}]
["J61","Telekommunikation",{"$f":"'IN_Definition Index'!K12","v":0},{"$f":"$C12*NR_Reihen_Veränderungsraten!D9","v":0},{"$f":"$C12*NR_Reihen_Veränderungsraten!E9","v":0},{"$f":"$C12*NR_Reihen_Veränderungsraten!F9","v":0},{"$f":"$C12*NR_Reihen_Veränderungsraten!G9","v":0},{"$f":"$C12*NR_Reihen_Veränderungsraten!H9","v":0},{"$f":"$C12*NR_Reihen_Veränderungsraten!I9","v":0},{"$f":"$C12*NR_Reihen_Veränderungsraten!J9","v":0},{"$f":"$C12*NR_Reihen_Veränderungsraten!K9","v":0},{"$f":"$C12*NR_Reihen_Veränderungsraten!L9","v":0},{"$f":"$C12*NR_Reihen_Veränderungsraten!M9","v":0},{"$f":"$C12*NR_Reihen_Veränderungsraten!N9","v":0},{"$f":"$C12*NR_Reihen_Veränderungsraten!O9","v":0},{"$f":"$C12*NR_Reihen_Veränderungsraten!P9","v":0},{"$f":"$C12*NR_Reihen_Veränderungsraten!Q9","v":0},{"$f":"$C12*NR_Reihen_Veränderungsraten!R9","v":0},{"$f":"$C12*NR_Reihen_Veränderungsraten!S9","v":0},{"$f":"$C12*NR_Reihen_Veränderungsraten!T9","v":0},{"$f":"$C12*NR_Reihen_Veränderungsraten!U9","v":0},{"$f":"$C12*NR_Reihen_Veränderungsraten!V9","v":0},{"$f":"$C12*NR_Reihen_Veränderungsraten!W9","v":0},{"$f":"$C12*NR_Reihen_Veränderungsraten!X9","v":0},{"$f":"$C12*NR_Reihen_Veränderungsraten!Y9","v":0},{"$f":"$C12*NR_Reihen_Veränderungsraten!Z9","v":0},{"$f":"$C12*NR_Reihen_Veränderungsraten!AA9","v":0},{"$f":"$C12*NR_Reihen_Veränderungsraten!AB9","v":0},{"$f":"$C12*NR_Reihen_Veränderungsraten!AC9","v":0},{"$f":"$C12*NR_Reihen_Veränderungsraten!AD9","v":0},{"$f":"$C12*NR_Reihen_Veränderungsraten!AE9","v":{"$error":"#VALUE!"}},{"$f":"$C12*NR_Reihen_Veränderungsraten!AF9","v":{"$error":"#VALUE!"}}]
["J62-01","IT- und Informationsdienstleister",{"$f":"'IN_Definition Index'!K13","v":0.03},{"$f":"$C13*NR_Reihen_Veränderungsraten!D10","v":2.9880786326740485E-2},{"$f":"$C13*NR_Reihen_Veränderungsraten!E10","v":3.1492154490344974E-2},{"$f":"$C13*NR_Reihen_Veränderungsraten!F10","v":2.6814522877796152E-2},{"$f":"$C13*NR_Reihen_Veränderungsraten!G10","v":3.0427588934838427E-2},{"$f":"$C13*NR_Reihen_Veränderungsraten!H10","v":3.2308310670850028E-2},{"$f":"$C13*NR_Reihen_Veränderungsraten!I10","v":3.1926842720401923E-2},{"$f":"$C13*NR_Reihen_Veränderungsraten!J10","v":3.35587465502016E-2},{"$f":"$C13*NR_Reihen_Veränderungsraten!K10","v":2.7583994703693406E-2},{"$f":"$C13*NR_Reihen_Veränderungsraten!L10","v":2.9229064453617299E-2},{"$f":"$C13*NR_Reihen_Veränderungsraten!M10","v":3.0944355548609487E-2},{"$f":"$C13*NR_Reihen_Veränderungsraten!N10","v":2.9914752314399062E-2},{"$f":"$C13*NR_Reihen_Veränderungsraten!O10","v":2.8265495633953839E-2},{"$f":"$C13*NR_Reihen_Veränderungsraten!P10","v":3.005917996960818E-2},{"$f":"$C13*NR_Reihen_Veränderungsraten!Q10","v":3.063462152710416E-2},{"$f":"$C13*NR_Reihen_Veränderungsraten!R10","v":3.2044473459984978E-2},{"$f":"$C13*NR_Reihen_Veränderungsraten!S10","v":3.5183628801852981E-2},{"$f":"$C13*NR_Reihen_Veränderungsraten!T10","v":3.0284369823638548E-2},{"$f":"$C13*NR_Reihen_Veränderungsraten!U10","v":2.9141069863966314E-2},{"$f":"$C13*NR_Reihen_Veränderungsraten!V10","v":3.0243725936189111E-2},{"$f":"$C13*NR_Reihen_Veränderungsraten!W10","v":3.410184110904415E-2},{"$f":"$C13*NR_Reihen_Veränderungsraten!X10","v":3.0867253086102445E-2},{"$f":"$C13*NR_Reihen_Veränderungsraten!Y10","v":3.1952795634688599E-2},{"$f":"$C13*NR_Reihen_Veränderungsraten!Z10","v":3.0937238855989729E-2},{"$f":"$C13*NR_Reihen_Veränderungsraten!AA10","v":2.9588938671217275E-2},{"$f":"$C13*NR_Reihen_Veränderungsraten!AB10","v":3.0565036551065985E-2},{"$f":"$C13*NR_Reihen_Veränderungsraten!AC10","v":3.0201621926903441E-2},{"$f":"$C13*NR_Reihen_Veränderungsraten!AD10","v":3.1663665494344136E-2},{"$f":"$C13*NR_Reihen_Veränderungsraten!AE10","v":{"$error":"#VALUE!"}},{"$f":"$C13*NR_Reihen_Veränderungsraten!AF10","v":{"$error":"#VALUE!"}}]
["M69-01","Unternehmensnahe Beratungsleistungen ",{"$f":"'IN_Definition Index'!K14","v":0.03},{"$f":"$C14*NR_Reihen_Veränderungsraten!D11","v":3.1729561439849972E-2},{"$f":"$C14*NR_Reihen_Veränderungsraten!E11","v":3.269538995697114E-2},{"$f":"$C14*NR_Reihen_Veränderungsraten!F11","v":3.000144335871352E-2},{"$f":"$C14*NR_Reihen_Veränderungsraten!G11","v":3.0342515955448766E-2},{"$f":"$C14*NR_Reihen_Veränderungsraten!H11","v":2.9830109070873346E-2},{"$f":"$C14*NR_Reihen_Veränderungsraten!I11","v":2.8209860271890375E-2},{"$f":"$C14*NR_Reihen_Veränderungsraten!J11","v":3.0436783881661014E-2},{"$f":"$C14*NR_Reihen_Veränderungsraten!K11","v":3.0232458239212768E-2},{"$f":"$C14*NR_Reihen_Veränderungsraten!L11","v":2.8890270129504913E-2},{"$f":"$C14*NR_Reihen_Veränderungsraten!M11","v":3.1257906643427757E-2},{"$f":"$C14*NR_Reihen_Veränderungsraten!N11","v":2.9906252878689029E-2},{"$f":"$C14*NR_Reihen_Veränderungsraten!O11","v":2.9346612771188163E-2},{"$f":"$C14*NR_Reihen_Veränderungsraten!P11","v":2.790360204939156E-2},{"$f":"$C14*NR_Reihen_Veränderungsraten!Q11","v":2.9778639307842504E-2},{"$f":"$C14*NR_Reihen_Veränderungsraten!R11","v":3.0118115928349867E-2},{"$f":"$C14*NR_Reihen_Veränderungsraten!S11","v":2.9833142776642167E-2},{"$f":"$C14*NR_Reihen_Veränderungsraten!T11","v":2.9591187240838947E-2},{"$f":"$C14*NR_Reihen_Veränderungsraten!U11","v":2.5509056522733664E-2},{"$f":"$C14*NR_Reihen_Veränderungsraten!V11","v":2.9884425985711126E-2},{"$f":"$C14*NR_Reihen_Veränderungsraten!W11","v":2.9585616590882498E-2},{"$f":"$C14*NR_Reihen_Veränderungsraten!X11","v":3.019617130215509E-2},{"$f":"$C14*NR_Reihen_Veränderungsraten!Y11","v":2.8919630139502321E-2},{"$f":"$C14*NR_Reihen_Veränderungsraten!Z11","v":2.9308721540340647E-2},{"$f":"$C14*NR_Reihen_Veränderungsraten!AA11","v":3.0018532948539237E-2},{"$f":"$C14*NR_Reihen_Veränderungsraten!AB11","v":2.966379888580804E-2},{"$f":"$C14*NR_Reihen_Veränderungsraten!AC11","v":3.2269170484226083E-2},{"$f":"$C14*NR_Reihen_Veränderungsraten!AD11","v":2.9475374345940959E-2},{"$f":"$C14*NR_Reihen_Veränderungsraten!AE11","v":{"$error":"#VALUE!"}},{"$f":"$C14*NR_Reihen_Veränderungsraten!AF11","v":{"$error":"#VALUE!"}}]
["M73","Werbung und Marktforschung",{"$f":"'IN_Definition Index'!K15","v":0.03},{"$f":"$C15*NR_Reihen_Veränderungsraten!D12","v":3.0538855602005803E-2},{"$f":"$C15*NR_Reihen_Veränderungsraten!E12","v":3.2938246693360582E-2},{"$f":"$C15*NR_Reihen_Veränderungsraten!F12","v":3.0780696758287231E-2},{"$f":"$C15*NR_Reihen_Veränderungsraten!G12","v":3.0256545182556525E-2},{"$f":"$C15*NR_Reihen_Veränderungsraten!H12","v":2.7957956273484283E-2},{"$f":"$C15*NR_Reihen_Veränderungsraten!I12","v":3.0420006397275816E-2},{"$f":"$C15*NR_Reihen_Veränderungsraten!J12","v":2.6824351860534713E-2},{"$f":"$C15*NR_Reihen_Veränderungsraten!K12","v":2.9769265846839064E-2},{"$f":"$C15*NR_Reihen_Veränderungsraten!L12","v":2.924194609735066E-2},{"$f":"$C15*NR_Reihen_Veränderungsraten!M12","v":2.5599237522289642E-2},{"$f":"$C15*NR_Reihen_Veränderungsraten!N12","v":2.5651969098897959E-2},{"$f":"$C15*NR_Reihen_Veränderungsraten!O12","v":3.0514461238972938E-2},{"$f":"$C15*NR_Reihen_Veränderungsraten!P12","v":3.0345370216808436E-2},{"$f":"$C15*NR_Reihen_Veränderungsraten!Q12","v":2.8007455071936131E-2},{"$f":"$C15*NR_Reihen_Veränderungsraten!R12","v":3.21555720647837E-2},{"$f":"$C15*NR_Reihen_Veränderungsraten!S12","v":3.0052073136691462E-2},{"$f":"$C15*NR_Reihen_Veränderungsraten!T12","v":3.0091838151140273E-2},{"$f":"$C15*NR_Reihen_Veränderungsraten!U12","v":2.5464971684781932E-2},{"$f":"$C15*NR_Reihen_Veränderungsraten!V12","v":3.0628216212516133E-2},{"$f":"$C15*NR_Reihen_Veränderungsraten!W12","v":3.0192215391503383E-2},{"$f":"$C15*NR_Reihen_Veränderungsraten!X12","v":2.9457744049136605E-2},{"$f":"$C15*NR_Reihen_Veränderungsraten!Y12","v":3.2940457350047962E-2},{"$f":"$C15*NR_Reihen_Veränderungsraten!Z12","v":2.9213953267069097E-2},{"$f":"$C15*NR_Reihen_Veränderungsraten!AA12","v":2.9593583350596905E-2},{"$f":"$C15*NR_Reihen_Veränderungsraten!AB12","v":2.9445935566919764E-2},{"$f":"$C15*NR_Reihen_Veränderungsraten!AC12","v":2.9151069796372046E-2},{"$f":"$C15*NR_Reihen_Veränderungsraten!AD12","v":2.7882006268741263E-2},{"$f":"$C15*NR_Reihen_Veränderungsraten!AE12","v":{"$error":"#VALUE!"}},{"$f":"$C15*NR_Reihen_Veränderungsraten!AF12","v":{"$error":"#VALUE!"}}]
["M74-01","Freiberufl.,wiss.,techn.DL a.n.g., Veterinärwesen",{"$f":"'IN_Definition Index'!K16","v":0.03},{"$f":"$C16*NR_Reihen_Veränderungsraten!D13","v":3.482929605906801E-2},{"$f":"$C16*NR_Reihen_Veränderungsraten!E13","v":2.9636964764307779E-2},{"$f":"$C16*NR_Reihen_Veränderungsraten!F13","v":2.8478584389314915E-2},{"$f":"$C16*NR_Reihen_Veränderungsraten!G13","v":3.0770448249741546E-2},{"$f":"$C16*NR_Reihen_Veränderungsraten!H13","v":2.8605532748297743E-2},{"$f":"$C16*NR_Reihen_Veränderungsraten!I13","v":3.1826963261204336E-2},{"$f":"$C16*NR_Reihen_Veränderungsraten!J13","v":2.8095945955499729E-2},{"$f":"$C16*NR_Reihen_Veränderungsraten!K13","v":2.7451053164335472E-2},{"$f":"$C16*NR_Reihen_Veränderungsraten!L13","v":3.0899270433077119E-2},{"$f":"$C16*NR_Reihen_Veränderungsraten!M13","v":2.8640657502703028E-2},{"$f":"$C16*NR_Reihen_Veränderungsraten!N13","v":2.9889995658953367E-2},{"$f":"$C16*NR_Reihen_Veränderungsraten!O13","v":2.6360062491534681E-2},{"$f":"$C16*NR_Reihen_Veränderungsraten!P13","v":2.7683442403584436E-2},{"$f":"$C16*NR_Reihen_Veränderungsraten!Q13","v":3.0035841161736791E-2},{"$f":"$C16*NR_Reihen_Veränderungsraten!R13","v":3.0235950171893851E-2},{"$f":"$C16*NR_Reihen_Veränderungsraten!S13","v":2.988073091421652E-2},{"$f":"$C16*NR_Reihen_Veränderungsraten!T13","v":2.8561858201722568E-2},{"$f":"$C16*NR_Reihen_Veränderungsraten!U13","v":2.733158433854686E-2},{"$f":"$C16*NR_Reihen_Veränderungsraten!V13","v":2.8855032270928241E-2},{"$f":"$C16*NR_Reihen_Veränderungsraten!W13","v":2.9392702339651116E-2},{"$f":"$C16*NR_Reihen_Veränderungsraten!X13","v":3.1676647019712699E-2},{"$f":"$C16*NR_Reihen_Veränderungsraten!Y13","v":2.9957421852479425E-2},{"$f":"$C16*NR_Reihen_Veränderungsraten!Z13","v":2.8507925791653652E-2},{"$f":"$C16*NR_Reihen_Veränderungsraten!AA13","v":3.0577821591526767E-2},{"$f":"$C16*NR_Reihen_Veränderungsraten!AB13","v":3.6927959604112104E-2},{"$f":"$C16*NR_Reihen_Veränderungsraten!AC13","v":2.5082989204210648E-2},{"$f":"$C16*NR_Reihen_Veränderungsraten!AD13","v":3.1899854472863219E-2},{"$f":"$C16*NR_Reihen_Veränderungsraten!AE13","v":{"$error":"#VALUE!"}},{"$f":"$C16*NR_Reihen_Veränderungsraten!AF13","v":{"$error":"#VALUE!"}}]
["L","Grundstücks- und Wohnungswesen",{"$f":"'IN_Definition Index'!K17","v":0.03},{"$f":"$C17*NR_Reihen_Veränderungsraten!D14","v":3.0475734236382206E-2},{"$f":"$C17*NR_Reihen_Veränderungsraten!E14","v":3.0404588858224602E-2},{"$f":"$C17*NR_Reihen_Veränderungsraten!F14","v":3.0575656401306533E-2},{"$f":"$C17*NR_Reihen_Veränderungsraten!G14","v":3.1693774626488695E-2},{"$f":"$C17*NR_Reihen_Veränderungsraten!H14","v":3.1623613192548201E-2},{"$f":"$C17*NR_Reihen_Veränderungsraten!I14","v":2.9970208436477627E-2},{"$f":"$C17*NR_Reihen_Veränderungsraten!J14","v":3.0084442553047073E-2},{"$f":"$C17*NR_Reihen_Veränderungsraten!K14","v":2.8902556745903585E-2},{"$f":"$C17*NR_Reihen_Veränderungsraten!L14","v":3.0305575786362043E-2},{"$f":"$C17*NR_Reihen_Veränderungsraten!M14","v":3.0543837568559846E-2},{"$f":"$C17*NR_Reihen_Veränderungsraten!N14","v":3.0260640904785432E-2},{"$f":"$C17*NR_Reihen_Veränderungsraten!O14","v":3.0028966965217421E-2},{"$f":"$C17*NR_Reihen_Veränderungsraten!P14","v":2.9601979184745421E-2},{"$f":"$C17*NR_Reihen_Veränderungsraten!Q14","v":3.0139515725683862E-2},{"$f":"$C17*NR_Reihen_Veränderungsraten!R14","v":3.0202610484147657E-2},{"$f":"$C17*NR_Reihen_Veränderungsraten!S14","v":3.033907569516427E-2},{"$f":"$C17*NR_Reihen_Veränderungsraten!T14","v":2.9972437370653485E-2},{"$f":"$C17*NR_Reihen_Veränderungsraten!U14","v":3.0191533725766561E-2},{"$f":"$C17*NR_Reihen_Veränderungsraten!V14","v":2.923914945241941E-2},{"$f":"$C17*NR_Reihen_Veränderungsraten!W14","v":3.082529621117585E-2},{"$f":"$C17*NR_Reihen_Veränderungsraten!X14","v":2.8777528902066207E-2},{"$f":"$C17*NR_Reihen_Veränderungsraten!Y14","v":3.03195897944523E-2},{"$f":"$C17*NR_Reihen_Veränderungsraten!Z14","v":2.9695475713407495E-2},{"$f":"$C17*NR_Reihen_Veränderungsraten!AA14","v":2.9980071196309646E-2},{"$f":"$C17*NR_Reihen_Veränderungsraten!AB14","v":2.9731032503398196E-2},{"$f":"$C17*NR_Reihen_Veränderungsraten!AC14","v":2.950613435779624E-2},{"$f":"$C17*NR_Reihen_Veränderungsraten!AD14","v":2.9652641596497623E-2},{"$f":"$C17*NR_Reihen_Veränderungsraten!AE14","v":2.9843016684448984E-2},{"$f":"$C17*NR_Reihen_Veränderungsraten!AF14","v":{"$error":"#DIV/0!"}}]
[null,"Summe",{"$f":"SUM(C7:C17)","v":1},{"$f":"SUM(D7:D17)","v":0.99892504966801732},{"$f":"SUM(E7:E17)","v":0.97631350842072606},1.036977960642963,1.039993852751949,1.0242043794026199,1.0320991008862119,1.0072948561460535,1.0126161037549322,0.99197305181598017,1.0184485938540064,1.02178956855199,1.0222552580366857,1.0430898577464045,1.035509333957499,1.0599760659014283,1.0048246143676001,0.98071846221654779,0.92682493295705037,1.0089188019575546,1.0246680085709403,0.99390467814270134,0.99787429437930675,1.0116514950142426,0.99215379802228509,1.0068655372381761,0.99298858859175065,1.0041135902964173,{"$error":"#VALUE!"},{"$error":"#VALUE!"}]
[]
["∆ Arbeitsproduktivität"]
[]
["Nr. (WZ 2008)","Branche","Gewicht",1992,{"$f":"D22+1","v":1993},1994,1995,1996,1997,1998,1999,2000,2001,2002,2003,2004,2005,2006,2007,2008,2009,2010,2011,2012,2013,2014,2015,2016,2017,{"$f":"AC22+1","v":2018},{"$f":"AD22+1","v":2019},{"$f":"AE22+1","v":2020}]
["C33","Reparatur und Installation von Maschinen und Ausrüstungen",{"$f":"'IN_Definition Index'!K7","v":0.1},{"$f":"$C23*NR_Reihen_Veränderungsraten!D19","v":0.11119280888495371},{"$f":"$C23*NR_Reihen_Veränderungsraten!E19","v":0.10033990095260503},{"$f":"$C23*NR_Reihen_Veränderungsraten!F19","v":0.11271257936103535},{"$f":"$C23*NR_Reihen_Veränderungsraten!G19","v":0.10395430344035655},{"$f":"$C23*NR_Reihen_Veränderungsraten!H19","v":0.10238244952141412},{"$f":"$C23*NR_Reihen_Veränderungsraten!I19","v":0.11213672351520082},{"$f":"$C23*NR_Reihen_Veränderungsraten!J19","v":0.10447302745248609},{"$f":"$C23*NR_Reihen_Veränderungsraten!K19","v":0.10754313601486463},{"$f":"$C23*NR_Reihen_Veränderungsraten!L19","v":0.10731743227326268},{"$f":"$C23*NR_Reihen_Veränderungsraten!M19","v":0.10030964486410031},{"$f":"$C23*NR_Reihen_Veränderungsraten!N19","v":0.10477288125153982},{"$f":"$C23*NR_Reihen_Veränderungsraten!O19","v":0.10910448613283702},{"$f":"$C23*NR_Reihen_Veränderungsraten!P19","v":0.11062393991309959},{"$f":"$C23*NR_Reihen_Veränderungsraten!Q19","v":0.11569648885422},{"$f":"$C23*NR_Reihen_Veränderungsraten!R19","v":0.10162457357370219},{"$f":"$C23*NR_Reihen_Veränderungsraten!S19","v":0.10681087652920213},{"$f":"$C23*NR_Reihen_Veränderungsraten!T19","v":8.648566334868521E-2},{"$f":"$C23*NR_Reihen_Veränderungsraten!U19","v":8.7397726357117234E-2},{"$f":"$C23*NR_Reihen_Veränderungsraten!V19","v":0.10170687243376948},{"$f":"$C23*NR_Reihen_Veränderungsraten!W19","v":0.10252706213466117},{"$f":"$C23*NR_Reihen_Veränderungsraten!X19","v":9.7574336067247316E-2},{"$f":"$C23*NR_Reihen_Veränderungsraten!Y19","v":9.5764499336531583E-2},{"$f":"$C23*NR_Reihen_Veränderungsraten!Z19","v":0.10102148272957037},{"$f":"$C23*NR_Reihen_Veränderungsraten!AA19","v":0.10508334370155657},{"$f":"$C23*NR_Reihen_Veränderungsraten!AB19","v":9.6710000000000004E-2},{"$f":"$C23*NR_Reihen_Veränderungsraten!AC19","v":9.2945455693106416E-2},{"$f":"$C23*NR_Reihen_Veränderungsraten!AD19","v":9.6002260387811664E-2},{"$f":"$C23*NR_Reihen_Veränderungsraten!AE19","v":{"$error":"#VALUE!"}},{"$f":"$C23*NR_Reihen_Veränderungsraten!AF19","v":{"$error":"#VALUE!"}}]
["G45","Handel mit Kraftfahrzeugen; Instandhaltung und Reparatur von Kraftfahrzeugen",{"$f":"'IN_Definition Index'!K8","v":0.15},{"$f":"$C24*NR_Reihen_Veränderungsraten!D20","v":0.15398942844595018},{"$f":"$C24*NR_Reihen_Veränderungsraten!E20","v":0.12488641146106211},{"$f":"$C24*NR_Reihen_Veränderungsraten!F20","v":0.15244367417677643},{"$f":"$C24*NR_Reihen_Veränderungsraten!G20","v":0.1515246481092544},{"$f":"$C24*NR_Reihen_Veränderungsraten!H20","v":0.14857313028936453},{"$f":"$C24*NR_Reihen_Veränderungsraten!I20","v":0.15302422205032321},{"$f":"$C24*NR_Reihen_Veränderungsraten!J20","v":0.15223753865011297},{"$f":"$C24*NR_Reihen_Veränderungsraten!K20","v":0.15214363295631911},{"$f":"$C24*NR_Reihen_Veränderungsraten!L20","v":0.14532001403752395},{"$f":"$C24*NR_Reihen_Veränderungsraten!M20","v":0.14926660708343312},{"$f":"$C24*NR_Reihen_Veränderungsraten!N20","v":0.15700434886214701},{"$f":"$C24*NR_Reihen_Veränderungsraten!O20","v":0.17469702244192253},{"$f":"$C24*NR_Reihen_Veränderungsraten!P20","v":0.15911314712684574},{"$f":"$C24*NR_Reihen_Veränderungsraten!Q20","v":0.15111286832539517},{"$f":"$C24*NR_Reihen_Veränderungsraten!R20","v":0.15938884767955622},{"$f":"$C24*NR_Reihen_Veränderungsraten!S20","v":0.14170994569910916},{"$f":"$C24*NR_Reihen_Veränderungsraten!T20","v":0.15493254637436762},{"$f":"$C24*NR_Reihen_Veränderungsraten!U20","v":0.15237406917935295},{"$f":"$C24*NR_Reihen_Veränderungsraten!V20","v":0.13754539304559601},{"$f":"$C24*NR_Reihen_Veränderungsraten!W20","v":0.16373821756425053},{"$f":"$C24*NR_Reihen_Veränderungsraten!X20","v":0.14490944124032859},{"$f":"$C24*NR_Reihen_Veränderungsraten!Y20","v":0.14667443492035256},{"$f":"$C24*NR_Reihen_Veränderungsraten!Z20","v":0.15626597645422677},{"$f":"$C24*NR_Reihen_Veränderungsraten!AA20","v":0.15222353377062181},{"$f":"$C24*NR_Reihen_Veränderungsraten!AB20","v":0.1585625},{"$f":"$C24*NR_Reihen_Veränderungsraten!AC20","v":0.14478231033168126},{"$f":"$C24*NR_Reihen_Veränderungsraten!AD20","v":0.1476499460368243},{"$f":"$C24*NR_Reihen_Veränderungsraten!AE20","v":{"$error":"#VALUE!"}},{"$f":"$C24*NR_Reihen_Veränderungsraten!AF20","v":{"$error":"#VALUE!"}}]
["G47","Einzelhandel (ohne Handel mit Kraftfahrzeugen)",{"$f":"'IN_Definition Index'!K9","v":0.1},{"$f":"$C25*NR_Reihen_Veränderungsraten!D21","v":0.10195314074142157},{"$f":"$C25*NR_Reihen_Veränderungsraten!E21","v":9.540156028650143E-2},{"$f":"$C25*NR_Reihen_Veränderungsraten!F21","v":0.10160885300638495},{"$f":"$C25*NR_Reihen_Veränderungsraten!G21","v":0.1015231870511369},{"$f":"$C25*NR_Reihen_Veränderungsraten!H21","v":9.8168465961206444E-2},{"$f":"$C25*NR_Reihen_Veränderungsraten!I21","v":9.8904516972603967E-2},{"$f":"$C25*NR_Reihen_Veränderungsraten!J21","v":0.10009844325501444},{"$f":"$C25*NR_Reihen_Veränderungsraten!K21","v":0.10053711336040345},{"$f":"$C25*NR_Reihen_Veränderungsraten!L21","v":9.9198416365581799E-2},{"$f":"$C25*NR_Reihen_Veränderungsraten!M21","v":0.10253363750514172},{"$f":"$C25*NR_Reihen_Veränderungsraten!N21","v":9.6308685031693889E-2},{"$f":"$C25*NR_Reihen_Veränderungsraten!O21","v":0.10165298404855867},{"$f":"$C25*NR_Reihen_Veränderungsraten!P21","v":9.8232577573343721E-2},{"$f":"$C25*NR_Reihen_Veränderungsraten!Q21","v":9.8207230312616176E-2},{"$f":"$C25*NR_Reihen_Veränderungsraten!R21","v":0.10607374190680129},{"$f":"$C25*NR_Reihen_Veränderungsraten!S21","v":9.9988882188083952E-2},{"$f":"$C25*NR_Reihen_Veränderungsraten!T21","v":9.7882476789573569E-2},{"$f":"$C25*NR_Reihen_Veränderungsraten!U21","v":0.10119779266932527},{"$f":"$C25*NR_Reihen_Veränderungsraten!V21","v":0.10254285637376066},{"$f":"$C25*NR_Reihen_Veränderungsraten!W21","v":9.7864958742905184E-2},{"$f":"$C25*NR_Reihen_Veränderungsraten!X21","v":0.10001290569466373},{"$f":"$C25*NR_Reihen_Veränderungsraten!Y21","v":9.9733702698902846E-2},{"$f":"$C25*NR_Reihen_Veränderungsraten!Z21","v":0.10267670568282919},{"$f":"$C25*NR_Reihen_Veränderungsraten!AA21","v":0.10750024506696494},{"$f":"$C25*NR_Reihen_Veränderungsraten!AB21","v":0.10280504032258063},{"$f":"$C25*NR_Reihen_Veränderungsraten!AC21","v":0.10275193299722772},{"$f":"$C25*NR_Reihen_Veränderungsraten!AD21","v":9.9385717779433835E-2},{"$f":"$C25*NR_Reihen_Veränderungsraten!AE21","v":{"$error":"#VALUE!"}},{"$f":"$C25*NR_Reihen_Veränderungsraten!AF21","v":{"$error":"#VALUE!"}}]
["H49","Landverkehr und Transport in Rohrfernleitungen",{"$f":"'IN_Definition Index'!K10","v":0.25},{"$f":"$C26*NR_Reihen_Veränderungsraten!D22","v":0.24247008314448315},{"$f":"$C26*NR_Reihen_Veränderungsraten!E22","v":0.25635792187463813},{"$f":"$C26*NR_Reihen_Veränderungsraten!F22","v":0.26831915498118014},{"$f":"$C26*NR_Reihen_Veränderungsraten!G22","v":0.28953921871288468},{"$f":"$C26*NR_Reihen_Veränderungsraten!H22","v":0.27085446528369334},{"$f":"$C26*NR_Reihen_Veränderungsraten!I22","v":0.24731060425286128},{"$f":"$C26*NR_Reihen_Veränderungsraten!J22","v":0.24643784872548793},{"$f":"$C26*NR_Reihen_Veränderungsraten!K22","v":0.28041659799941077},{"$f":"$C26*NR_Reihen_Veränderungsraten!L22","v":0.23894698282091642},{"$f":"$C26*NR_Reihen_Veränderungsraten!M22","v":0.24803318178509268},{"$f":"$C26*NR_Reihen_Veränderungsraten!N22","v":0.24634305231315556},{"$f":"$C26*NR_Reihen_Veränderungsraten!O22","v":0.23972566030641174},{"$f":"$C26*NR_Reihen_Veränderungsraten!P22","v":0.24948365298872055},{"$f":"$C26*NR_Reihen_Veränderungsraten!Q22","v":0.26430198801713611},{"$f":"$C26*NR_Reihen_Veränderungsraten!R22","v":0.27245862226804296},{"$f":"$C26*NR_Reihen_Veränderungsraten!S22","v":0.25097557432398582},{"$f":"$C26*NR_Reihen_Veränderungsraten!T22","v":0.25346092594699127},{"$f":"$C26*NR_Reihen_Veränderungsraten!U22","v":0.22897248058885303},{"$f":"$C26*NR_Reihen_Veränderungsraten!V22","v":0.25287007959129659},{"$f":"$C26*NR_Reihen_Veränderungsraten!W22","v":0.25955964893805328},{"$f":"$C26*NR_Reihen_Veränderungsraten!X22","v":0.25011518649407866},{"$f":"$C26*NR_Reihen_Veränderungsraten!Y22","v":0.24605812236222574},{"$f":"$C26*NR_Reihen_Veränderungsraten!Z22","v":0.25499479079013943},{"$f":"$C26*NR_Reihen_Veränderungsraten!AA22","v":0.24037539102328265},{"$f":"$C26*NR_Reihen_Veränderungsraten!AB22","v":0.24178059210526315},{"$f":"$C26*NR_Reihen_Veränderungsraten!AC22","v":0.25378754822859895},{"$f":"$C26*NR_Reihen_Veränderungsraten!AD22","v":0.25429872983794355},{"$f":"$C26*NR_Reihen_Veränderungsraten!AE22","v":{"$error":"#VALUE!"}},{"$f":"$C26*NR_Reihen_Veränderungsraten!AF22","v":{"$error":"#VALUE!"}}]
["H52","Lagerei sowie Erbringung von sonstigen Dienstleistungen für den Verkehr",{"$f":"'IN_Definition Index'!K11","v":0.25},{"$f":"$C27*NR_Reihen_Veränderungsraten!D23","v":0.24361440132702167},{"$f":"$C27*NR_Reihen_Veränderungsraten!E23","v":0.25074082623914673},{"$f":"$C27*NR_Reihen_Veränderungsraten!F23","v":0.26267651536777997},{"$f":"$C27*NR_Reihen_Veränderungsraten!G23","v":0.24814980955551566},{"$f":"$C27*NR_Reihen_Veränderungsraten!H23","v":0.26016952979964014},{"$f":"$C27*NR_Reihen_Veränderungsraten!I23","v":0.27418384370641169},{"$f":"$C27*NR_Reihen_Veränderungsraten!J23","v":0.25662915436602235},{"$f":"$C27*NR_Reihen_Veränderungsraten!K23","v":0.21688701510915803},{"$f":"$C27*NR_Reihen_Veränderungsraten!L23","v":0.25523311083097394},{"$f":"$C27*NR_Reihen_Veränderungsraten!M23","v":0.27728781565012062},{"$f":"$C27*NR_Reihen_Veränderungsraten!N23","v":0.27631875723894095},{"$f":"$C27*NR_Reihen_Veränderungsraten!O23","v":0.25713607966641711},{"$f":"$C27*NR_Reihen_Veränderungsraten!P23","v":0.28286053627328489},{"$f":"$C27*NR_Reihen_Veränderungsraten!Q23","v":0.26274841636745849},{"$f":"$C27*NR_Reihen_Veränderungsraten!R23","v":0.2665276942534997},{"$f":"$C27*NR_Reihen_Veränderungsraten!S23","v":0.24814560885141881},{"$f":"$C27*NR_Reihen_Veränderungsraten!T23","v":0.23958789341439016},{"$f":"$C27*NR_Reihen_Veränderungsraten!U23","v":0.22492155466148187},{"$f":"$C27*NR_Reihen_Veränderungsraten!V23","v":0.26944001527129002},{"$f":"$C27*NR_Reihen_Veränderungsraten!W23","v":0.24411041439365289},{"$f":"$C27*NR_Reihen_Veränderungsraten!X23","v":0.24807827451551903},{"$f":"$C27*NR_Reihen_Veränderungsraten!Y23","v":0.25441181170304561},{"$f":"$C27*NR_Reihen_Veränderungsraten!Z23","v":0.2482265114967358},{"$f":"$C27*NR_Reihen_Veränderungsraten!AA23","v":0.2367013636111949},{"$f":"$C27*NR_Reihen_Veränderungsraten!AB23","v":0.24936359223300972},{"$f":"$C27*NR_Reihen_Veränderungsraten!AC23","v":0.25168803234412263},{"$f":"$C27*NR_Reihen_Veränderungsraten!AD23","v":0.25349163028053906},{"$f":"$C27*NR_Reihen_Veränderungsraten!AE23","v":{"$error":"#VALUE!"}},{"$f":"$C27*NR_Reihen_Veränderungsraten!AF23","v":{"$error":"#VALUE!"}}]
["J61","Telekommunikation",{"$f":"'IN_Definition Index'!K12","v":0},{"$f":"$C28*NR_Reihen_Veränderungsraten!D24","v":0},{"$f":"$C28*NR_Reihen_Veränderungsraten!E24","v":0},{"$f":"$C28*NR_Reihen_Veränderungsraten!F24","v":0},{"$f":"$C28*NR_Reihen_Veränderungsraten!G24","v":0},{"$f":"$C28*NR_Reihen_Veränderungsraten!H24","v":0},{"$f":"$C28*NR_Reihen_Veränderungsraten!I24","v":0},{"$f":"$C28*NR_Reihen_Veränderungsraten!J24","v":0},{"$f":"$C28*NR_Reihen_Veränderungsraten!K24","v":0},{"$f":"$C28*NR_Reihen_Veränderungsraten!L24","v":0},{"$f":"$C28*NR_Reihen_Veränderungsraten!M24","v":0},{"$f":"$C28*NR_Reihen_Veränderungsraten!N24","v":0},{"$f":"$C28*NR_Reihen_Veränderungsraten!O24","v":0},{"$f":"$C28*NR_Reihen_Veränderungsraten!P24","v":0},{"$f":"$C28*NR_Reihen_Veränderungsraten!Q24","v":0},{"$f":"$C28*NR_Reihen_Veränderungsraten!R24","v":0},{"$f":"$C28*NR_Reihen_Veränderungsraten!S24","v":0},{"$f":"$C28*NR_Reihen_Veränderungsraten!T24","v":0},{"$f":"$C28*NR_Reihen_Veränderungsraten!U24","v":0},{"$f":"$C28*NR_Reihen_Veränderungsraten!V24","v":0},{"$f":"$C28*NR_Reihen_Veränderungsraten!W24","v":0},{"$f":"$C28*NR_Reihen_Veränderungsraten!X24","v":0},{"$f":"$C28*NR_Reihen_Veränderungsraten!Y24","v":0},{"$f":"$C28*NR_Reihen_Veränderungsraten!Z24","v":0},{"$f":"$C28*NR_Reihen_Veränderungsraten!AA24","v":0},{"$f":"$C28*NR_Reihen_Veränderungsraten!AB24","v":0},{"$f":"$C28*NR_Reihen_Veränderungsraten!AC24","v":0},{"$f":"$C28*NR_Reihen_Veränderungsraten!AD24","v":0},{"$f":"$C28*NR_Reihen_Veränderungsraten!AE24","v":{"$error":"#VALUE!"}},{"$f":"$C28*NR_Reihen_Veränderungsraten!AF24","v":{"$error":"#VALUE!"}}]
["J62-01","IT- und Informationsdienstleister",{"$f":"'IN_Definition Index'!K13","v":0.03},{"$f":"$C29*NR_Reihen_Veränderungsraten!D25","v":3.0340442731003614E-2},{"$f":"$C29*NR_Reihen_Veränderungsraten!E25","v":3.1979341510652022E-2},{"$f":"$C29*NR_Reihen_Veränderungsraten!F25","v":2.7180232558139533E-2},{"$f":"$C29*NR_Reihen_Veränderungsraten!G25","v":3.0674223177643151E-2},{"$f":"$C29*NR_Reihen_Veränderungsraten!H25","v":3.2786917079461853E-2},{"$f":"$C29*NR_Reihen_Veränderungsraten!I25","v":3.2783290353926076E-2},{"$f":"$C29*NR_Reihen_Veränderungsraten!J25","v":3.4182608586397954E-2},{"$f":"$C29*NR_Reihen_Veränderungsraten!K25","v":2.8066070272622125E-2},{"$f":"$C29*NR_Reihen_Veränderungsraten!L25","v":2.9454195699568243E-2},{"$f":"$C29*NR_Reihen_Veränderungsraten!M25","v":3.1868308187569402E-2},{"$f":"$C29*NR_Reihen_Veränderungsraten!N25","v":3.0370239241433044E-2},{"$f":"$C29*NR_Reihen_Veränderungsraten!O25","v":2.8686947151344719E-2},{"$f":"$C29*NR_Reihen_Veränderungsraten!P25","v":3.0278212407652355E-2},{"$f":"$C29*NR_Reihen_Veränderungsraten!Q25","v":3.0811549034370458E-2},{"$f":"$C29*NR_Reihen_Veränderungsraten!R25","v":3.2149344576709087E-2},{"$f":"$C29*NR_Reihen_Veränderungsraten!S25","v":3.5298128054650567E-2},{"$f":"$C29*NR_Reihen_Veränderungsraten!T25","v":3.0497307442916968E-2},{"$f":"$C29*NR_Reihen_Veränderungsraten!U25","v":2.9368572897006548E-2},{"$f":"$C29*NR_Reihen_Veränderungsraten!V25","v":3.0495496547255616E-2},{"$f":"$C29*NR_Reihen_Veränderungsraten!W25","v":3.4225072129653915E-2},{"$f":"$C29*NR_Reihen_Veränderungsraten!X25","v":3.0944999790171634E-2},{"$f":"$C29*NR_Reihen_Veränderungsraten!Y25","v":3.2121909358675531E-2},{"$f":"$C29*NR_Reihen_Veränderungsraten!Z25","v":3.1110694724953435E-2},{"$f":"$C29*NR_Reihen_Veränderungsraten!AA25","v":2.9741088601903425E-2},{"$f":"$C29*NR_Reihen_Veränderungsraten!AB25","v":3.0711304773561807E-2},{"$f":"$C29*NR_Reihen_Veränderungsraten!AC25","v":3.03471495695905E-2},{"$f":"$C29*NR_Reihen_Veränderungsraten!AD25","v":3.1717537910778887E-2},{"$f":"$C29*NR_Reihen_Veränderungsraten!AE25","v":{"$error":"#VALUE!"}},{"$f":"$C29*NR_Reihen_Veränderungsraten!AF25","v":{"$error":"#VALUE!"}}]
["M69-01","Unternehmensnahe Beratungsleistungen ",{"$f":"'IN_Definition Index'!K14","v":0.03},{"$f":"$C30*NR_Reihen_Veränderungsraten!D26","v":3.0503889342120942E-2},{"$f":"$C30*NR_Reihen_Veränderungsraten!E26","v":3.1415579711100317E-2},{"$f":"$C30*NR_Reihen_Veränderungsraten!F26","v":2.8792008139857554E-2},{"$f":"$C30*NR_Reihen_Veränderungsraten!G26","v":2.9600119529812317E-2},{"$f":"$C30*NR_Reihen_Veränderungsraten!H26","v":2.9271997571042655E-2},{"$f":"$C30*NR_Reihen_Veränderungsraten!I26","v":2.789732804165929E-2},{"$f":"$C30*NR_Reihen_Veränderungsraten!J26","v":2.9933319941583009E-2},{"$f":"$C30*NR_Reihen_Veränderungsraten!K26","v":2.9521759032372238E-2},{"$f":"$C30*NR_Reihen_Veränderungsraten!L26","v":2.906530539354334E-2},{"$f":"$C30*NR_Reihen_Veränderungsraten!M26","v":3.1241692575613142E-2},{"$f":"$C30*NR_Reihen_Veränderungsraten!N26","v":2.9935330874942188E-2},{"$f":"$C30*NR_Reihen_Veränderungsraten!O26","v":2.9349979196439873E-2},{"$f":"$C30*NR_Reihen_Veränderungsraten!P26","v":2.7689878105840487E-2},{"$f":"$C30*NR_Reihen_Veränderungsraten!Q26","v":2.9711503773187507E-2},{"$f":"$C30*NR_Reihen_Veränderungsraten!R26","v":3.0027450755395486E-2},{"$f":"$C30*NR_Reihen_Veränderungsraten!S26","v":2.9729211913626107E-2},{"$f":"$C30*NR_Reihen_Veränderungsraten!T26","v":2.9558492325212883E-2},{"$f":"$C30*NR_Reihen_Veränderungsraten!U26","v":2.5566135191951344E-2},{"$f":"$C30*NR_Reihen_Veränderungsraten!V26","v":2.9892652801743708E-2},{"$f":"$C30*NR_Reihen_Veränderungsraten!W26","v":2.9561313619284633E-2},{"$f":"$C30*NR_Reihen_Veränderungsraten!X26","v":3.0155259667821052E-2},{"$f":"$C30*NR_Reihen_Veränderungsraten!Y26","v":2.8871409433742022E-2},{"$f":"$C30*NR_Reihen_Veränderungsraten!Z26","v":2.9305668653611269E-2},{"$f":"$C30*NR_Reihen_Veränderungsraten!AA26","v":3.0010703420192013E-2},{"$f":"$C30*NR_Reihen_Veränderungsraten!AB26","v":2.9698337470167063E-2},{"$f":"$C30*NR_Reihen_Veränderungsraten!AC26","v":3.2299845782388308E-2},{"$f":"$C30*NR_Reihen_Veränderungsraten!AD26","v":2.9477811767237579E-2},{"$f":"$C30*NR_Reihen_Veränderungsraten!AE26","v":{"$error":"#VALUE!"}},{"$f":"$C30*NR_Reihen_Veränderungsraten!AF26","v":{"$error":"#VALUE!"}}]
["M73","Werbung und Marktforschung",{"$f":"'IN_Definition Index'!K15","v":0.03},{"$f":"$C31*NR_Reihen_Veränderungsraten!D27","v":2.8216801171682213E-2},{"$f":"$C31*NR_Reihen_Veränderungsraten!E27","v":3.0685716377160381E-2},{"$f":"$C31*NR_Reihen_Veränderungsraten!F27","v":2.7753323732082197E-2},{"$f":"$C31*NR_Reihen_Veränderungsraten!G27","v":2.8320824857964513E-2},{"$f":"$C31*NR_Reihen_Veränderungsraten!H27","v":2.616034479061689E-2},{"$f":"$C31*NR_Reihen_Veränderungsraten!I27","v":2.8907494836234879E-2},{"$f":"$C31*NR_Reihen_Veränderungsraten!J27","v":2.5364974798832783E-2},{"$f":"$C31*NR_Reihen_Veränderungsraten!K27","v":2.7791277336606631E-2},{"$f":"$C31*NR_Reihen_Veränderungsraten!L27","v":2.6085304347680045E-2},{"$f":"$C31*NR_Reihen_Veränderungsraten!M27","v":2.4309869395634051E-2},{"$f":"$C31*NR_Reihen_Veränderungsraten!N27","v":2.5502801673640163E-2},{"$f":"$C31*NR_Reihen_Veränderungsraten!O27","v":3.0453705504765602E-2},{"$f":"$C31*NR_Reihen_Veränderungsraten!P27","v":2.9590474223965858E-2},{"$f":"$C31*NR_Reihen_Veränderungsraten!Q27","v":2.7550092623966141E-2},{"$f":"$C31*NR_Reihen_Veränderungsraten!R27","v":3.1487969553879773E-2},{"$f":"$C31*NR_Reihen_Veränderungsraten!S27","v":3.01525813814724E-2},{"$f":"$C31*NR_Reihen_Veränderungsraten!T27","v":3.0922121334472613E-2},{"$f":"$C31*NR_Reihen_Veränderungsraten!U27","v":2.6550164763838497E-2},{"$f":"$C31*NR_Reihen_Veränderungsraten!V27","v":3.1152091470530909E-2},{"$f":"$C31*NR_Reihen_Veränderungsraten!W27","v":3.042009884678748E-2},{"$f":"$C31*NR_Reihen_Veränderungsraten!X27","v":2.9497359870024369E-2},{"$f":"$C31*NR_Reihen_Veränderungsraten!Y27","v":3.3121100955629409E-2},{"$f":"$C31*NR_Reihen_Veränderungsraten!Z27","v":2.9384925883694415E-2},{"$f":"$C31*NR_Reihen_Veränderungsraten!AA27","v":2.9809908177533501E-2},{"$f":"$C31*NR_Reihen_Veränderungsraten!AB27","v":2.9441411999999997E-2},{"$f":"$C31*NR_Reihen_Veränderungsraten!AC27","v":2.9249398388558178E-2},{"$f":"$C31*NR_Reihen_Veränderungsraten!AD27","v":2.8129386947867513E-2},{"$f":"$C31*NR_Reihen_Veränderungsraten!AE27","v":{"$error":"#VALUE!"}},{"$f":"$C31*NR_Reihen_Veränderungsraten!AF27","v":{"$error":"#VALUE!"}}]
["M74-01","Freiberufl.,wiss.,techn.DL a.n.g., Veterinärwesen",{"$f":"'IN_Definition Index'!K16","v":0.03},{"$f":"$C32*NR_Reihen_Veränderungsraten!D28","v":3.2311922801197622E-2},{"$f":"$C32*NR_Reihen_Veränderungsraten!E28","v":2.7760468331393666E-2},{"$f":"$C32*NR_Reihen_Veränderungsraten!F28","v":2.6593247620599642E-2},{"$f":"$C32*NR_Reihen_Veränderungsraten!G28","v":2.8954202305330842E-2},{"$f":"$C32*NR_Reihen_Veränderungsraten!H28","v":2.7273761969904237E-2},{"$f":"$C32*NR_Reihen_Veränderungsraten!I28","v":3.0063081662078911E-2},{"$f":"$C32*NR_Reihen_Veränderungsraten!J28","v":2.679631535059273E-2},{"$f":"$C32*NR_Reihen_Veränderungsraten!K28","v":2.6781409897665486E-2},{"$f":"$C32*NR_Reihen_Veränderungsraten!L28","v":2.9868067637987879E-2},{"$f":"$C32*NR_Reihen_Veränderungsraten!M28","v":2.8172787625665108E-2},{"$f":"$C32*NR_Reihen_Veränderungsraten!N28","v":2.955306892670331E-2},{"$f":"$C32*NR_Reihen_Veränderungsraten!O28","v":2.5686750351989258E-2},{"$f":"$C32*NR_Reihen_Veränderungsraten!P28","v":2.7119665022621954E-2},{"$f":"$C32*NR_Reihen_Veränderungsraten!Q28","v":2.955937909284765E-2},{"$f":"$C32*NR_Reihen_Veränderungsraten!R28","v":3.0010641297929897E-2},{"$f":"$C32*NR_Reihen_Veränderungsraten!S28","v":2.9889027540730306E-2},{"$f":"$C32*NR_Reihen_Veränderungsraten!T28","v":2.8460352465393197E-2},{"$f":"$C32*NR_Reihen_Veränderungsraten!U28","v":2.6562114907867834E-2},{"$f":"$C32*NR_Reihen_Veränderungsraten!V28","v":2.8577815757497092E-2},{"$f":"$C32*NR_Reihen_Veränderungsraten!W28","v":2.9264342606824013E-2},{"$f":"$C32*NR_Reihen_Veränderungsraten!X28","v":3.1573771583292637E-2},{"$f":"$C32*NR_Reihen_Veränderungsraten!Y28","v":2.9804168415162959E-2},{"$f":"$C32*NR_Reihen_Veränderungsraten!Z28","v":2.8640073874973197E-2},{"$f":"$C32*NR_Reihen_Veränderungsraten!AA28","v":3.067675406777905E-2},{"$f":"$C32*NR_Reihen_Veränderungsraten!AB28","v":3.7171753246753245E-2},{"$f":"$C32*NR_Reihen_Veränderungsraten!AC28","v":2.539494646050237E-2},{"$f":"$C32*NR_Reihen_Veränderungsraten!AD28","v":3.2013570413280762E-2},{"$f":"$C32*NR_Reihen_Veränderungsraten!AE28","v":{"$error":"#VALUE!"}},{"$f":"$C32*NR_Reihen_Veränderungsraten!AF28","v":{"$error":"#VALUE!"}}]
["L","Grundstücks- und Wohnungswesen",{"$f":"'IN_Definition Index'!K17","v":0.03},{"$f":"$C33*NR_Reihen_Veränderungsraten!D29","v":2.9371906035514182E-2},{"$f":"$C33*NR_Reihen_Veränderungsraten!E29","v":2.9170563923330835E-2},{"$f":"$C33*NR_Reihen_Veränderungsraten!F29","v":2.9658680420268507E-2},{"$f":"$C33*NR_Reihen_Veränderungsraten!G29","v":3.0746794684151979E-2},{"$f":"$C33*NR_Reihen_Veränderungsraten!H29","v":3.1464275213172604E-2},{"$f":"$C33*NR_Reihen_Veränderungsraten!I29","v":2.853782976605276E-2},{"$f":"$C33*NR_Reihen_Veränderungsraten!J29","v":2.8592910681431861E-2},{"$f":"$C33*NR_Reihen_Veränderungsraten!K29","v":2.8082096428440805E-2},{"$f":"$C33*NR_Reihen_Veränderungsraten!L29","v":3.0449821319619978E-2},{"$f":"$C33*NR_Reihen_Veränderungsraten!M29","v":3.1645290124003238E-2},{"$f":"$C33*NR_Reihen_Veränderungsraten!N29","v":3.0823420065757001E-2},{"$f":"$C33*NR_Reihen_Veränderungsraten!O29","v":3.0633598841419262E-2},{"$f":"$C33*NR_Reihen_Veränderungsraten!P29","v":2.9959340297939906E-2},{"$f":"$C33*NR_Reihen_Veränderungsraten!Q29","v":3.0450440155263766E-2},{"$f":"$C33*NR_Reihen_Veränderungsraten!R29","v":3.025070134066574E-2},{"$f":"$C33*NR_Reihen_Veränderungsraten!S29","v":3.0676369461759032E-2},{"$f":"$C33*NR_Reihen_Veränderungsraten!T29","v":3.0259855672308666E-2},{"$f":"$C33*NR_Reihen_Veränderungsraten!U29","v":3.1426851457461387E-2},{"$f":"$C33*NR_Reihen_Veränderungsraten!V29","v":2.9722537217577037E-2},{"$f":"$C33*NR_Reihen_Veränderungsraten!W29","v":3.1476194452044637E-2},{"$f":"$C33*NR_Reihen_Veränderungsraten!X29","v":2.9075941782629809E-2},{"$f":"$C33*NR_Reihen_Veränderungsraten!Y29","v":3.0721611350734729E-2},{"$f":"$C33*NR_Reihen_Veränderungsraten!Z29","v":2.9971788075315451E-2},{"$f":"$C33*NR_Reihen_Veränderungsraten!AA29","v":3.0416708912095712E-2},{"$f":"$C33*NR_Reihen_Veränderungsraten!AB29","v":3.0232599571734475E-2},{"$f":"$C33*NR_Reihen_Veränderungsraten!AC29","v":2.9578214010000652E-2},{"$f":"$C33*NR_Reihen_Veränderungsraten!AD29","v":2.9846186895541874E-2},{"$f":"$C33*NR_Reihen_Veränderungsraten!AE29","v":3.0051716079507643E-2},{"$f":"$C33*NR_Reihen_Veränderungsraten!AF29","v":3.0042934617932053E-2}]
[null,"Summe",{"$f":"SUM(C23:C33)","v":1},{"$f":"SUM(D23:D33)","v":1.003964824625349},{"$f":"SUM(E23:E33)","v":0.97873829066759066},{"$f":"SUM(F23:F33)","v":1.0377382693641042},{"$f":"SUM(G23:G33)","v":1.042987331424051},{"$f":"SUM(H23:H33)","v":1.0271053374795167},{"$f":"SUM(I23:I33)","v":1.033748935157353},{"$f":"SUM(J23:J33)","v":1.0047461418079622},{"$f":"SUM(K23:K33)","v":0.99777010840786318},{"$f":"SUM(L23:L33)","v":0.99093865072665821},{"$f":"SUM(M23:M33)","v":1.0246688347963733},{"$f":"SUM(N23:N33)","v":1.0269325854799529},{"$f":"SUM(O23:O33)","v":1.0271272136421059},{"$f":"SUM(P23:P33)","v":1.0449514239333151},{"$f":"SUM(Q23:Q33)","v":1.0401499565564614},{"$f":"SUM(R23:R33)","v":1.0599995872061823},{"$f":"SUM(S23:S33)","v":1.0033762059440383},{"$f":"SUM(T23:T33)","v":0.98204763511431226},{"$f":"SUM(U23:U33)","v":0.9343374626742561},{"$f":"SUM(V23:V33)","v":1.013945810510317},{"$f":"SUM(W23:W33)","v":1.0227473234281175},{"$f":"SUM(X23:X33)","v":0.99193747670577681},{"$f":"SUM(Y23:Y33)","v":0.99728277053500292},{"$f":"SUM(Z23:Z33)","v":1.0115986183660495},{"$f":"SUM(AA23:AA33)","v":0.99253904035312446},{"$f":"SUM(AB23:AB33)","v":1.0064771317230701},{"$f":"SUM(AC23:AC33)","v":0.99282483380577691},1.002012778257259,{"$error":"#VALUE!"},{"$error":"#VALUE!"}]
[]
["Synthetischer Index Einzelprozesse"]
[]
["∆ TFP"]
[]
["Annahme"]
[]
["Nr. (WZ 2008)","Branche","Verwendung",1992,{"$f":"D42+1","v":1993},{"$f":"E42+1","v":1994},{"$f":"F42+1","v":1995},{"$f":"G42+1","v":1996},{"$f":"H42+1","v":1997},{"$f":"I42+1","v":1998},{"$f":"J42+1","v":1999},{"$f":"K42+1","v":2000},{"$f":"L42+1","v":2001},{"$f":"M42+1","v":2002},{"$f":"N42+1","v":2003},{"$f":"O42+1","v":2004},{"$f":"P42+1","v":2005},{"$f":"Q42+1","v":2006},{"$f":"R42+1","v":2007},{"$f":"S42+1","v":2008},{"$f":"T42+1","v":2009},{"$f":"U42+1","v":2010},{"$f":"V42+1","v":2011},{"$f":"W42+1","v":2012},{"$f":"X42+1","v":2013},{"$f":"Y42+1","v":2014},{"$f":"Z42+1","v":2015},{"$f":"AA42+1","v":2016},{"$f":"AB42+1","v":2017},{"$f":"AC42+1","v":2018},{"$f":"AD42+1","v":2019},{"$f":"AE42+1","v":2020}]
["C33","Reparatur und Installation von Maschinen und Ausrüstungen",{"$f":"'IN_Definition Index'!E7","v":0},{"$f":"IF($C43=1,'IN_Definition Index'!$E$19*NR_Reihen_Veränderungsraten!D4,)","v":0},{"$f":"IF($C43=1,'IN_Definition Index'!$E$19*NR_Reihen_Veränderungsraten!E4,)","v":0},{"$f":"IF($C43=1,'IN_Definition Index'!$E$19*NR_Reihen_Veränderungsraten!F4,)","v":0},{"$f":"IF($C43=1,'IN_Definition Index'!$E$19*NR_Reihen_Veränderungsraten!G4,)","v":0},{"$f":"IF($C43=1,'IN_Definition Index'!$E$19*NR_Reihen_Veränderungsraten!H4,)","v":0},{"$f":"IF($C43=1,'IN_Definition Index'!$E$19*NR_Reihen_Veränderungsraten!I4,)","v":0},{"$f":"IF($C43=1,'IN_Definition Index'!$E$19*NR_Reihen_Veränderungsraten!J4,)","v":0},{"$f":"IF($C43=1,'IN_Definition Index'!$E$19*NR_Reihen_Veränderungsraten!K4,)","v":0},{"$f":"IF($C43=1,'IN_Definition Index'!$E$19*NR_Reihen_Veränderungsraten!L4,)","v":0},{"$f":"IF($C43=1,'IN_Definition Index'!$E$19*NR_Reihen_Veränderungsraten!M4,)","v":0},{"$f":"IF($C43=1,'IN_Definition Index'!$E$19*NR_Reihen_Veränderungsraten!N4,)","v":0},{"$f":"IF($C43=1,'IN_Definition Index'!$E$19*NR_Reihen_Veränderungsraten!O4,)","v":0},{"$f":"IF($C43=1,'IN_Definition Index'!$E$19*NR_Reihen_Veränderungsraten!P4,)","v":0},{"$f":"IF($C43=1,'IN_Definition Index'!$E$19*NR_Reihen_Veränderungsraten!Q4,)","v":0},{"$f":"IF($C43=1,'IN_Definition Index'!$E$19*NR_Reihen_Veränderungsraten!R4,)","v":0},{"$f":"IF($C43=1,'IN_Definition Index'!$E$19*NR_Reihen_Veränderungsraten!S4,)","v":0},{"$f":"IF($C43=1,'IN_Definition Index'!$E$19*NR_Reihen_Veränderungsraten!T4,)","v":0},{"$f":"IF($C43=1,'IN_Definition Index'!$E$19*NR_Reihen_Veränderungsraten!U4,)","v":0},{"$f":"IF($C43=1,'IN_Definition Index'!$E$19*NR_Reihen_Veränderungsraten!V4,)","v":0},{"$f":"IF($C43=1,'IN_Definition Index'!$E$19*NR_Reihen_Veränderungsraten!W4,)","v":0},{"$f":"IF($C43=1,'IN_Definition Index'!$E$19*NR_Reihen_Veränderungsraten!X4,)","v":0},{"$f":"IF($C43=1,'IN_Definition Index'!$E$19*NR_Reihen_Veränderungsraten!Y4,)","v":0},{"$f":"IF($C43=1,'IN_Definition Index'!$E$19*NR_Reihen_Veränderungsraten!Z4,)","v":0},{"$f":"IF($C43=1,'IN_Definition Index'!$E$19*NR_Reihen_Veränderungsraten!AA4,)","v":0},{"$f":"IF($C43=1,'IN_Definition Index'!$E$19*NR_Reihen_Veränderungsraten!AB4,)","v":0},{"$f":"IF($C43=1,'IN_Definition Index'!$E$19*NR_Reihen_Veränderungsraten!AC4,)","v":0},{"$f":"IF($C43=1,'IN_Definition Index'!$E$19*NR_Reihen_Veränderungsraten!AD4,)","v":0},{"$f":"IF($C43=1,'IN_Definition Index'!$E$19*NR_Reihen_Veränderungsraten!AE4,)","v":0},{"$f":"IF($C43=1,'IN_Definition Index'!$E$19*NR_Reihen_Veränderungsraten!AF4,)","v":0}]
["G45","Handel mit Kraftfahrzeugen; Instandhaltung und Reparatur von Kraftfahrzeugen",{"$f":"'IN_Definition Index'!E8","v":0},{"$f":"IF($C44=1,'IN_Definition Index'!$E$19*NR_Reihen_Veränderungsraten!D5,)","v":0},{"$f":"IF($C44=1,'IN_Definition Index'!$E$19*NR_Reihen_Veränderungsraten!E5,)","v":0},{"$f":"IF($C44=1,'IN_Definition Index'!$E$19*NR_Reihen_Veränderungsraten!F5,)","v":0},{"$f":"IF($C44=1,'IN_Definition Index'!$E$19*NR_Reihen_Veränderungsraten!G5,)","v":0},{"$f":"IF($C44=1,'IN_Definition Index'!$E$19*NR_Reihen_Veränderungsraten!H5,)","v":0},{"$f":"IF($C44=1,'IN_Definition Index'!$E$19*NR_Reihen_Veränderungsraten!I5,)","v":0},{"$f":"IF($C44=1,'IN_Definition Index'!$E$19*NR_Reihen_Veränderungsraten!J5,)","v":0},{"$f":"IF($C44=1,'IN_Definition Index'!$E$19*NR_Reihen_Veränderungsraten!K5,)","v":0},{"$f":"IF($C44=1,'IN_Definition Index'!$E$19*NR_Reihen_Veränderungsraten!L5,)","v":0},{"$f":"IF($C44=1,'IN_Definition Index'!$E$19*NR_Reihen_Veränderungsraten!M5,)","v":0},{"$f":"IF($C44=1,'IN_Definition Index'!$E$19*NR_Reihen_Veränderungsraten!N5,)","v":0},{"$f":"IF($C44=1,'IN_Definition Index'!$E$19*NR_Reihen_Veränderungsraten!O5,)","v":0},{"$f":"IF($C44=1,'IN_Definition Index'!$E$19*NR_Reihen_Veränderungsraten!P5,)","v":0},{"$f":"IF($C44=1,'IN_Definition Index'!$E$19*NR_Reihen_Veränderungsraten!Q5,)","v":0},{"$f":"IF($C44=1,'IN_Definition Index'!$E$19*NR_Reihen_Veränderungsraten!R5,)","v":0},{"$f":"IF($C44=1,'IN_Definition Index'!$E$19*NR_Reihen_Veränderungsraten!S5,)","v":0},{"$f":"IF($C44=1,'IN_Definition Index'!$E$19*NR_Reihen_Veränderungsraten!T5,)","v":0},{"$f":"IF($C44=1,'IN_Definition Index'!$E$19*NR_Reihen_Veränderungsraten!U5,)","v":0},{"$f":"IF($C44=1,'IN_Definition Index'!$E$19*NR_Reihen_Veränderungsraten!V5,)","v":0},{"$f":"IF($C44=1,'IN_Definition Index'!$E$19*NR_Reihen_Veränderungsraten!W5,)","v":0},{"$f":"IF($C44=1,'IN_Definition Index'!$E$19*NR_Reihen_Veränderungsraten!X5,)","v":0},{"$f":"IF($C44=1,'IN_Definition Index'!$E$19*NR_Reihen_Veränderungsraten!Y5,)","v":0},{"$f":"IF($C44=1,'IN_Definition Index'!$E$19*NR_Reihen_Veränderungsraten!Z5,)","v":0},{"$f":"IF($C44=1,'IN_Definition Index'!$E$19*NR_Reihen_Veränderungsraten!AA5,)","v":0},{"$f":"IF($C44=1,'IN_Definition Index'!$E$19*NR_Reihen_Veränderungsraten!AB5,)","v":0},{"$f":"IF($C44=1,'IN_Definition Index'!$E$19*NR_Reihen_Veränderungsraten!AC5,)","v":0},{"$f":"IF($C44=1,'IN_Definition Index'!$E$19*NR_Reihen_Veränderungsraten!AD5,)","v":0},{"$f":"IF($C44=1,'IN_Definition Index'!$E$19*NR_Reihen_Veränderungsraten!AE5,)","v":0},{"$f":"IF($C44=1,'IN_Definition Index'!$E$19*NR_Reihen_Veränderungsraten!AF5,)","v":0}]
["G47","Einzelhandel (ohne Handel mit Kraftfahrzeugen)",{"$f":"'IN_Definition Index'!E9","v":1},{"$f":"IF($C45=1,'IN_Definition Index'!$E$19*NR_Reihen_Veränderungsraten!D6,)","v":1.0028109110912304},{"$f":"IF($C45=1,'IN_Definition Index'!$E$19*NR_Reihen_Veränderungsraten!E6,)","v":0.94124362614278545},{"$f":"IF($C45=1,'IN_Definition Index'!$E$19*NR_Reihen_Veränderungsraten!F6,)","v":1.0077644672149431},{"$f":"IF($C45=1,'IN_Definition Index'!$E$19*NR_Reihen_Veränderungsraten!G6,)","v":1.0060430623282013},{"$f":"IF($C45=1,'IN_Definition Index'!$E$19*NR_Reihen_Veränderungsraten!H6,)","v":0.97336707817069201},{"$f":"IF($C45=1,'IN_Definition Index'!$E$19*NR_Reihen_Veränderungsraten!I6,)","v":0.98026117510072619},{"$f":"IF($C45=1,'IN_Definition Index'!$E$19*NR_Reihen_Veränderungsraten!J6,)","v":0.99202779661655782},{"$f":"IF($C45=1,'IN_Definition Index'!$E$19*NR_Reihen_Veränderungsraten!K6,)","v":0.99707073436572435},{"$f":"IF($C45=1,'IN_Definition Index'!$E$19*NR_Reihen_Veränderungsraten!L6,)","v":0.98700097756299165},{"$f":"IF($C45=1,'IN_Definition Index'!$E$19*NR_Reihen_Veränderungsraten!M6,)","v":1.0151690157321698},{"$f":"IF($C45=1,'IN_Definition Index'!$E$19*NR_Reihen_Veränderungsraten!N6,)","v":0.9583818088966779},{"$f":"IF($C45=1,'IN_Definition Index'!$E$19*NR_Reihen_Veränderungsraten!O6,)","v":1.0075147345992181},{"$f":"IF($C45=1,'IN_Definition Index'!$E$19*NR_Reihen_Veränderungsraten!P6,)","v":0.98303858234602737},{"$f":"IF($C45=1,'IN_Definition Index'!$E$19*NR_Reihen_Veränderungsraten!Q6,)","v":0.97802237957566407},{"$f":"IF($C45=1,'IN_Definition Index'!$E$19*NR_Reihen_Veränderungsraten!R6,)","v":1.0584622952450147},{"$f":"IF($C45=1,'IN_Definition Index'!$E$19*NR_Reihen_Veränderungsraten!S6,)","v":0.99876533664237888},{"$f":"IF($C45=1,'IN_Definition Index'!$E$19*NR_Reihen_Veränderungsraten!T6,)","v":0.97776320835485553},{"$f":"IF($C45=1,'IN_Definition Index'!$E$19*NR_Reihen_Veränderungsraten!U6,)","v":1.0102513323422244},{"$f":"IF($C45=1,'IN_Definition Index'!$E$19*NR_Reihen_Veränderungsraten!V6,)","v":1.0241773456157695},{"$f":"IF($C45=1,'IN_Definition Index'!$E$19*NR_Reihen_Veränderungsraten!W6,)","v":0.97772081453371795},{"$f":"IF($C45=1,'IN_Definition Index'!$E$19*NR_Reihen_Veränderungsraten!X6,)","v":0.99857578214785991},{"$f":"IF($C45=1,'IN_Definition Index'!$E$19*NR_Reihen_Veränderungsraten!Y6,)","v":0.99555246980710876},{"$f":"IF($C45=1,'IN_Definition Index'!$E$19*NR_Reihen_Veränderungsraten!Z6,)","v":1.0254107592332413},{"$f":"IF($C45=1,'IN_Definition Index'!$E$19*NR_Reihen_Veränderungsraten!AA6,)","v":1.0734277443192348},{"$f":"IF($C45=1,'IN_Definition Index'!$E$19*NR_Reihen_Veränderungsraten!AB6,)","v":1.0258095888892984},{"$f":"IF($C45=1,'IN_Definition Index'!$E$19*NR_Reihen_Veränderungsraten!AC6,)","v":1.0248752498180813},{"$f":"IF($C45=1,'IN_Definition Index'!$E$19*NR_Reihen_Veränderungsraten!AD6,)","v":0.99203529857039174},{"$f":"IF($C45=1,'IN_Definition Index'!$E$19*NR_Reihen_Veränderungsraten!AE6,)","v":{"$error":"#VALUE!"}},{"$f":"IF($C45=1,'IN_Definition Index'!$E$19*NR_Reihen_Veränderungsraten!AF6,)","v":{"$error":"#VALUE!"}}]
["H49","Landverkehr und Transport in Rohrfernleitungen",{"$f":"'IN_Definition Index'!E10","v":0},{"$f":"IF($C46=1,'IN_Definition Index'!$E$19*NR_Reihen_Veränderungsraten!D7,)","v":0},{"$f":"IF($C46=1,'IN_Definition Index'!$E$19*NR_Reihen_Veränderungsraten!E7,)","v":0},{"$f":"IF($C46=1,'IN_Definition Index'!$E$19*NR_Reihen_Veränderungsraten!F7,)","v":0},{"$f":"IF($C46=1,'IN_Definition Index'!$E$19*NR_Reihen_Veränderungsraten!G7,)","v":0},{"$f":"IF($C46=1,'IN_Definition Index'!$E$19*NR_Reihen_Veränderungsraten!H7,)","v":0},{"$f":"IF($C46=1,'IN_Definition Index'!$E$19*NR_Reihen_Veränderungsraten!I7,)","v":0},{"$f":"IF($C46=1,'IN_Definition Index'!$E$19*NR_Reihen_Veränderungsraten!J7,)","v":0},{"$f":"IF($C46=1,'IN_Definition Index'!$E$19*NR_Reihen_Veränderungsraten!K7,)","v":0},{"$f":"IF($C46=1,'IN_Definition Index'!$E$19*NR_Reihen_Veränderungsraten!L7,)","v":0},{"$f":"IF($C46=1,'IN_Definition Index'!$E$19*NR_Reihen_Veränderungsraten!M7,)","v":0},{"$f":"IF($C46=1,'IN_Definition Index'!$E$19*NR_Reihen_Veränderungsraten!N7,)","v":0},{"$f":"IF($C46=1,'IN_Definition Index'!$E$19*NR_Reihen_Veränderungsraten!O7,)","v":0},{"$f":"IF($C46=1,'IN_Definition Index'!$E$19*NR_Reihen_Veränderungsraten!P7,)","v":0},{"$f":"IF($C46=1,'IN_Definition Index'!$E$19*NR_Reihen_Veränderungsraten!Q7,)","v":0},{"$f":"IF($C46=1,'IN_Definition Index'!$E$19*NR_Reihen_Veränderungsraten!R7,)","v":0},{"$f":"IF($C46=1,'IN_Definition Index'!$E$19*NR_Reihen_Veränderungsraten!S7,)","v":0},{"$f":"IF($C46=1,'IN_Definition Index'!$E$19*NR_Reihen_Veränderungsraten!T7,)","v":0},{"$f":"IF($C46=1,'IN_Definition Index'!$E$19*NR_Reihen_Veränderungsraten!U7,)","v":0},{"$f":"IF($C46=1,'IN_Definition Index'!$E$19*NR_Reihen_Veränderungsraten!V7,)","v":0},{"$f":"IF($C46=1,'IN_Definition Index'!$E$19*NR_Reihen_Veränderungsraten!W7,)","v":0},{"$f":"IF($C46=1,'IN_Definition Index'!$E$19*NR_Reihen_Veränderungsraten!X7,)","v":0},{"$f":"IF($C46=1,'IN_Definition Index'!$E$19*NR_Reihen_Veränderungsraten!Y7,)","v":0},{"$f":"IF($C46=1,'IN_Definition Index'!$E$19*NR_Reihen_Veränderungsraten!Z7,)","v":0},{"$f":"IF($C46=1,'IN_Definition Index'!$E$19*NR_Reihen_Veränderungsraten!AA7,)","v":0},{"$f":"IF($C46=1,'IN_Definition Index'!$E$19*NR_Reihen_Veränderungsraten!AB7,)","v":0},{"$f":"IF($C46=1,'IN_Definition Index'!$E$19*NR_Reihen_Veränderungsraten!AC7,)","v":0},{"$f":"IF($C46=1,'IN_Definition Index'!$E$19*NR_Reihen_Veränderungsraten!AD7,)","v":0},{"$f":"IF($C46=1,'IN_Definition Index'!$E$19*NR_Reihen_Veränderungsraten!AE7,)","v":0},{"$f":"IF($C46=1,'IN_Definition Index'!$E$19*NR_Reihen_Veränderungsraten!AF7,)","v":0}]
["H52","Lagerei sowie Erbringung von sonstigen Dienstleistungen für den Verkehr",{"$f":"'IN_Definition Index'!E11","v":0},{"$f":"IF($C47=1,'IN_Definition Index'!$E$19*NR_Reihen_Veränderungsraten!D8,)","v":0},{"$f":"IF($C47=1,'IN_Definition Index'!$E$19*NR_Reihen_Veränderungsraten!E8,)","v":0},{"$f":"IF($C47=1,'IN_Definition Index'!$E$19*NR_Reihen_Veränderungsraten!F8,)","v":0},{"$f":"IF($C47=1,'IN_Definition Index'!$E$19*NR_Reihen_Veränderungsraten!G8,)","v":0},{"$f":"IF($C47=1,'IN_Definition Index'!$E$19*NR_Reihen_Veränderungsraten!H8,)","v":0},{"$f":"IF($C47=1,'IN_Definition Index'!$E$19*NR_Reihen_Veränderungsraten!I8,)","v":0},{"$f":"IF($C47=1,'IN_Definition Index'!$E$19*NR_Reihen_Veränderungsraten!J8,)","v":0},{"$f":"IF($C47=1,'IN_Definition Index'!$E$19*NR_Reihen_Veränderungsraten!K8,)","v":0},{"$f":"IF($C47=1,'IN_Definition Index'!$E$19*NR_Reihen_Veränderungsraten!L8,)","v":0},{"$f":"IF($C47=1,'IN_Definition Index'!$E$19*NR_Reihen_Veränderungsraten!M8,)","v":0},{"$f":"IF($C47=1,'IN_Definition Index'!$E$19*NR_Reihen_Veränderungsraten!N8,)","v":0},{"$f":"IF($C47=1,'IN_Definition Index'!$E$19*NR_Reihen_Veränderungsraten!O8,)","v":0},{"$f":"IF($C47=1,'IN_Definition Index'!$E$19*NR_Reihen_Veränderungsraten!P8,)","v":0},{"$f":"IF($C47=1,'IN_Definition Index'!$E$19*NR_Reihen_Veränderungsraten!Q8,)","v":0},{"$f":"IF($C47=1,'IN_Definition Index'!$E$19*NR_Reihen_Veränderungsraten!R8,)","v":0},{"$f":"IF($C47=1,'IN_Definition Index'!$E$19*NR_Reihen_Veränderungsraten!S8,)","v":0},{"$f":"IF($C47=1,'IN_Definition Index'!$E$19*NR_Reihen_Veränderungsraten!T8,)","v":0},{"$f":"IF($C47=1,'IN_Definition Index'!$E$19*NR_Reihen_Veränderungsraten!U8,)","v":0},{"$f":"IF($C47=1,'IN_Definition Index'!$E$19*NR_Reihen_Veränderungsraten!V8,)","v":0},{"$f":"IF($C47=1,'IN_Definition Index'!$E$19*NR_Reihen_Veränderungsraten!W8,)","v":0},{"$f":"IF($C47=1,'IN_Definition Index'!$E$19*NR_Reihen_Veränderungsraten!X8,)","v":0},{"$f":"IF($C47=1,'IN_Definition Index'!$E$19*NR_Reihen_Veränderungsraten!Y8,)","v":0},{"$f":"IF($C47=1,'IN_Definition Index'!$E$19*NR_Reihen_Veränderungsraten!Z8,)","v":0},{"$f":"IF($C47=1,'IN_Definition Index'!$E$19*NR_Reihen_Veränderungsraten!AA8,)","v":0},{"$f":"IF($C47=1,'IN_Definition Index'!$E$19*NR_Reihen_Veränderungsraten!AB8,)","v":0},{"$f":"IF($C47=1,'IN_Definition Index'!$E$19*NR_Reihen_Veränderungsraten!AC8,)","v":0},{"$f":"IF($C47=1,'IN_Definition Index'!$E$19*NR_Reihen_Veränderungsraten!AD8,)","v":0},{"$f":"IF($C47=1,'IN_Definition Index'!$E$19*NR_Reihen_Veränderungsraten!AE8,)","v":0},{"$f":"IF($C47=1,'IN_Definition Index'!$E$19*NR_Reihen_Veränderungsraten!AF8,)","v":0}]
["J61","Telekommunikation",{"$f":"'IN_Definition Index'!E12","v":0},{"$f":"IF($C48=1,'IN_Definition Index'!$E$19*NR_Reihen_Veränderungsraten!D9,)","v":0},{"$f":"IF($C48=1,'IN_Definition Index'!$E$19*NR_Reihen_Veränderungsraten!E9,)","v":0},{"$f":"IF($C48=1,'IN_Definition Index'!$E$19*NR_Reihen_Veränderungsraten!F9,)","v":0},{"$f":"IF($C48=1,'IN_Definition Index'!$E$19*NR_Reihen_Veränderungsraten!G9,)","v":0},{"$f":"IF($C48=1,'IN_Definition Index'!$E$19*NR_Reihen_Veränderungsraten!H9,)","v":0},{"$f":"IF($C48=1,'IN_Definition Index'!$E$19*NR_Reihen_Veränderungsraten!I9,)","v":0},{"$f":"IF($C48=1,'IN_Definition Index'!$E$19*NR_Reihen_Veränderungsraten!J9,)","v":0},{"$f":"IF($C48=1,'IN_Definition Index'!$E$19*NR_Reihen_Veränderungsraten!K9,)","v":0},{"$f":"IF($C48=1,'IN_Definition Index'!$E$19*NR_Reihen_Veränderungsraten!L9,)","v":0},{"$f":"IF($C48=1,'IN_Definition Index'!$E$19*NR_Reihen_Veränderungsraten!M9,)","v":0},{"$f":"IF($C48=1,'IN_Definition Index'!$E$19*NR_Reihen_Veränderungsraten!N9,)","v":0},{"$f":"IF($C48=1,'IN_Definition Index'!$E$19*NR_Reihen_Veränderungsraten!O9,)","v":0},{"$f":"IF($C48=1,'IN_Definition Index'!$E$19*NR_Reihen_Veränderungsraten!P9,)","v":0},{"$f":"IF($C48=1,'IN_Definition Index'!$E$19*NR_Reihen_Veränderungsraten!Q9,)","v":0},{"$f":"IF($C48=1,'IN_Definition Index'!$E$19*NR_Reihen_Veränderungsraten!R9,)","v":0},{"$f":"IF($C48=1,'IN_Definition Index'!$E$19*NR_Reihen_Veränderungsraten!S9,)","v":0},{"$f":"IF($C48=1,'IN_Definition Index'!$E$19*NR_Reihen_Veränderungsraten!T9,)","v":0},{"$f":"IF($C48=1,'IN_Definition Index'!$E$19*NR_Reihen_Veränderungsraten!U9,)","v":0},{"$f":"IF($C48=1,'IN_Definition Index'!$E$19*NR_Reihen_Veränderungsraten!V9,)","v":0},{"$f":"IF($C48=1,'IN_Definition Index'!$E$19*NR_Reihen_Veränderungsraten!W9,)","v":0},{"$f":"IF($C48=1,'IN_Definition Index'!$E$19*NR_Reihen_Veränderungsraten!X9,)","v":0},{"$f":"IF($C48=1,'IN_Definition Index'!$E$19*NR_Reihen_Veränderungsraten!Y9,)","v":0},{"$f":"IF($C48=1,'IN_Definition Index'!$E$19*NR_Reihen_Veränderungsraten!Z9,)","v":0},{"$f":"IF($C48=1,'IN_Definition Index'!$E$19*NR_Reihen_Veränderungsraten!AA9,)","v":0},{"$f":"IF($C48=1,'IN_Definition Index'!$E$19*NR_Reihen_Veränderungsraten!AB9,)","v":0},{"$f":"IF($C48=1,'IN_Definition Index'!$E$19*NR_Reihen_Veränderungsraten!AC9,)","v":0},{"$f":"IF($C48=1,'IN_Definition Index'!$E$19*NR_Reihen_Veränderungsraten!AD9,)","v":0},{"$f":"IF($C48=1,'IN_Definition Index'!$E$19*NR_Reihen_Veränderungsraten!AE9,)","v":0},{"$f":"IF($C48=1,'IN_Definition Index'!$E$19*NR_Reihen_Veränderungsraten!AF9,)","v":0}]
["J62-01","IT- und Informationsdienstleister",{"$f":"'IN_Definition Index'!E13","v":0},{"$f":"IF($C49=1,'IN_Definition Index'!$E$19*NR_Reihen_Veränderungsraten!D10,)","v":0},{"$f":"IF($C49=1,'IN_Definition Index'!$E$19*NR_Reihen_Veränderungsraten!E10,)","v":0},{"$f":"IF($C49=1,'IN_Definition Index'!$E$19*NR_Reihen_Veränderungsraten!F10,)","v":0},{"$f":"IF($C49=1,'IN_Definition Index'!$E$19*NR_Reihen_Veränderungsraten!G10,)","v":0},{"$f":"IF($C49=1,'IN_Definition Index'!$E$19*NR_Reihen_Veränderungsraten!H10,)","v":0},{"$f":"IF($C49=1,'IN_Definition Index'!$E$19*NR_Reihen_Veränderungsraten!I10,)","v":0},{"$f":"IF($C49=1,'IN_Definition Index'!$E$19*NR_Reihen_Veränderungsraten!J10,)","v":0},{"$f":"IF($C49=1,'IN_Definition Index'!$E$19*NR_Reihen_Veränderungsraten!K10,)","v":0},{"$f":"IF($C49=1,'IN_Definition Index'!$E$19*NR_Reihen_Veränderungsraten!L10,)","v":0},{"$f":"IF($C49=1,'IN_Definition Index'!$E$19*NR_Reihen_Veränderungsraten!M10,)","v":0},{"$f":"IF($C49=1,'IN_Definition Index'!$E$19*NR_Reihen_Veränderungsraten!N10,)","v":0},{"$f":"IF($C49=1,'IN_Definition Index'!$E$19*NR_Reihen_Veränderungsraten!O10,)","v":0},{"$f":"IF($C49=1,'IN_Definition Index'!$E$19*NR_Reihen_Veränderungsraten!P10,)","v":0},{"$f":"IF($C49=1,'IN_Definition Index'!$E$19*NR_Reihen_Veränderungsraten!Q10,)","v":0},{"$f":"IF($C49=1,'IN_Definition Index'!$E$19*NR_Reihen_Veränderungsraten!R10,)","v":0},{"$f":"IF($C49=1,'IN_Definition Index'!$E$19*NR_Reihen_Veränderungsraten!S10,)","v":0},{"$f":"IF($C49=1,'IN_Definition Index'!$E$19*NR_Reihen_Veränderungsraten!T10,)","v":0},{"$f":"IF($C49=1,'IN_Definition Index'!$E$19*NR_Reihen_Veränderungsraten!U10,)","v":0},{"$f":"IF($C49=1,'IN_Definition Index'!$E$19*NR_Reihen_Veränderungsraten!V10,)","v":0},{"$f":"IF($C49=1,'IN_Definition Index'!$E$19*NR_Reihen_Veränderungsraten!W10,)","v":0},{"$f":"IF($C49=1,'IN_Definition Index'!$E$19*NR_Reihen_Veränderungsraten!X10,)","v":0},{"$f":"IF($C49=1,'IN_Definition Index'!$E$19*NR_Reihen_Veränderungsraten!Y10,)","v":0},{"$f":"IF($C49=1,'IN_Definition Index'!$E$19*NR_Reihen_Veränderungsraten!Z10,)","v":0},{"$f":"IF($C49=1,'IN_Definition Index'!$E$19*NR_Reihen_Veränderungsraten!AA10,)","v":0},{"$f":"IF($C49=1,'IN_Definition Index'!$E$19*NR_Reihen_Veränderungsraten!AB10,)","v":0},{"$f":"IF($C49=1,'IN_Definition Index'!$E$19*NR_Reihen_Veränderungsraten!AC10,)","v":0},{"$f":"IF($C49=1,'IN_Definition Index'!$E$19*NR_Reihen_Veränderungsraten!AD10,)","v":0},{"$f":"IF($C49=1,'IN_Definition Index'!$E$19*NR_Reihen_Veränderungsraten!AE10,)","v":0},{"$f":"IF($C49=1,'IN_Definition Index'!$E$19*NR_Reihen_Veränderungsraten!AF10,)","v":0}]
["M69-01","Unternehmensnahe Beratungsleistungen ",{"$f":"'IN_Definition Index'!E14","v":0},{"$f":"IF($C50=1,'IN_Definition Index'!$E$19*NR_Reihen_Veränderungsraten!D11,)","v":0},{"$f":"IF($C50=1,'IN_Definition Index'!$E$19*NR_Reihen_Veränderungsraten!E11,)","v":0},{"$f":"IF($C50=1,'IN_Definition Index'!$E$19*NR_Reihen_Veränderungsraten!F11,)","v":0},{"$f":"IF($C50=1,'IN_Definition Index'!$E$19*NR_Reihen_Veränderungsraten!G11,)","v":0},{"$f":"IF($C50=1,'IN_Definition Index'!$E$19*NR_Reihen_Veränderungsraten!H11,)","v":0},{"$f":"IF($C50=1,'IN_Definition Index'!$E$19*NR_Reihen_Veränderungsraten!I11,)","v":0},{"$f":"IF($C50=1,'IN_Definition Index'!$E$19*NR_Reihen_Veränderungsraten!J11,)","v":0},{"$f":"IF($C50=1,'IN_Definition Index'!$E$19*NR_Reihen_Veränderungsraten!K11,)","v":0},{"$f":"IF($C50=1,'IN_Definition Index'!$E$19*NR_Reihen_Veränderungsraten!L11,)","v":0},{"$f":"IF($C50=1,'IN_Definition Index'!$E$19*NR_Reihen_Veränderungsraten!M11,)","v":0},{"$f":"IF($C50=1,'IN_Definition Index'!$E$19*NR_Reihen_Veränderungsraten!N11,)","v":0},{"$f":"IF($C50=1,'IN_Definition Index'!$E$19*NR_Reihen_Veränderungsraten!O11,)","v":0},{"$f":"IF($C50=1,'IN_Definition Index'!$E$19*NR_Reihen_Veränderungsraten!P11,)","v":0},{"$f":"IF($C50=1,'IN_Definition Index'!$E$19*NR_Reihen_Veränderungsraten!Q11,)","v":0},{"$f":"IF($C50=1,'IN_Definition Index'!$E$19*NR_Reihen_Veränderungsraten!R11,)","v":0},{"$f":"IF($C50=1,'IN_Definition Index'!$E$19*NR_Reihen_Veränderungsraten!S11,)","v":0},{"$f":"IF($C50=1,'IN_Definition Index'!$E$19*NR_Reihen_Veränderungsraten!T11,)","v":0},{"$f":"IF($C50=1,'IN_Definition Index'!$E$19*NR_Reihen_Veränderungsraten!U11,)","v":0},{"$f":"IF($C50=1,'IN_Definition Index'!$E$19*NR_Reihen_Veränderungsraten!V11,)","v":0},{"$f":"IF($C50=1,'IN_Definition Index'!$E$19*NR_Reihen_Veränderungsraten!W11,)","v":0},{"$f":"IF($C50=1,'IN_Definition Index'!$E$19*NR_Reihen_Veränderungsraten!X11,)","v":0},{"$f":"IF($C50=1,'IN_Definition Index'!$E$19*NR_Reihen_Veränderungsraten!Y11,)","v":0},{"$f":"IF($C50=1,'IN_Definition Index'!$E$19*NR_Reihen_Veränderungsraten!Z11,)","v":0},{"$f":"IF($C50=1,'IN_Definition Index'!$E$19*NR_Reihen_Veränderungsraten!AA11,)","v":0},{"$f":"IF($C50=1,'IN_Definition Index'!$E$19*NR_Reihen_Veränderungsraten!AB11,)","v":0},{"$f":"IF($C50=1,'IN_Definition Index'!$E$19*NR_Reihen_Veränderungsraten!AC11,)","v":0},{"$f":"IF($C50=1,'IN_Definition Index'!$E$19*NR_Reihen_Veränderungsraten!AD11,)","v":0},{"$f":"IF($C50=1,'IN_Definition Index'!$E$19*NR_Reihen_Veränderungsraten!AE11,)","v":0},{"$f":"IF($C50=1,'IN_Definition Index'!$E$19*NR_Reihen_Veränderungsraten!AF11,)","v":0}]
["M73","Werbung und Marktforschung",{"$f":"'IN_Definition Index'!E15","v":0},{"$f":"IF($C51=1,'IN_Definition Index'!$E$19*NR_Reihen_Veränderungsraten!D12,)","v":0},{"$f":"IF($C51=1,'IN_Definition Index'!$E$19*NR_Reihen_Veränderungsraten!E12,)","v":0},{"$f":"IF($C51=1,'IN_Definition Index'!$E$19*NR_Reihen_Veränderungsraten!F12,)","v":0},{"$f":"IF($C51=1,'IN_Definition Index'!$E$19*NR_Reihen_Veränderungsraten!G12,)","v":0},{"$f":"IF($C51=1,'IN_Definition Index'!$E$19*NR_Reihen_Veränderungsraten!H12,)","v":0},{"$f":"IF($C51=1,'IN_Definition Index'!$E$19*NR_Reihen_Veränderungsraten!I12,)","v":0},{"$f":"IF($C51=1,'IN_Definition Index'!$E$19*NR_Reihen_Veränderungsraten!J12,)","v":0},{"$f":"IF($C51=1,'IN_Definition Index'!$E$19*NR_Reihen_Veränderungsraten!K12,)","v":0},{"$f":"IF($C51=1,'IN_Definition Index'!$E$19*NR_Reihen_Veränderungsraten!L12,)","v":0},{"$f":"IF($C51=1,'IN_Definition Index'!$E$19*NR_Reihen_Veränderungsraten!M12,)","v":0},{"$f":"IF($C51=1,'IN_Definition Index'!$E$19*NR_Reihen_Veränderungsraten!N12,)","v":0},{"$f":"IF($C51=1,'IN_Definition Index'!$E$19*NR_Reihen_Veränderungsraten!O12,)","v":0},{"$f":"IF($C51=1,'IN_Definition Index'!$E$19*NR_Reihen_Veränderungsraten!P12,)","v":0},{"$f":"IF($C51=1,'IN_Definition Index'!$E$19*NR_Reihen_Veränderungsraten!Q12,)","v":0},{"$f":"IF($C51=1,'IN_Definition Index'!$E$19*NR_Reihen_Veränderungsraten!R12,)","v":0},{"$f":"IF($C51=1,'IN_Definition Index'!$E$19*NR_Reihen_Veränderungsraten!S12,)","v":0},{"$f":"IF($C51=1,'IN_Definition Index'!$E$19*NR_Reihen_Veränderungsraten!T12,)","v":0},{"$f":"IF($C51=1,'IN_Definition Index'!$E$19*NR_Reihen_Veränderungsraten!U12,)","v":0},{"$f":"IF($C51=1,'IN_Definition Index'!$E$19*NR_Reihen_Veränderungsraten!V12,)","v":0},{"$f":"IF($C51=1,'IN_Definition Index'!$E$19*NR_Reihen_Veränderungsraten!W12,)","v":0},{"$f":"IF($C51=1,'IN_Definition Index'!$E$19*NR_Reihen_Veränderungsraten!X12,)","v":0},{"$f":"IF($C51=1,'IN_Definition Index'!$E$19*NR_Reihen_Veränderungsraten!Y12,)","v":0},{"$f":"IF($C51=1,'IN_Definition Index'!$E$19*NR_Reihen_Veränderungsraten!Z12,)","v":0},{"$f":"IF($C51=1,'IN_Definition Index'!$E$19*NR_Reihen_Veränderungsraten!AA12,)","v":0},{"$f":"IF($C51=1,'IN_Definition Index'!$E$19*NR_Reihen_Veränderungsraten!AB12,)","v":0},{"$f":"IF($C51=1,'IN_Definition Index'!$E$19*NR_Reihen_Veränderungsraten!AC12,)","v":0},{"$f":"IF($C51=1,'IN_Definition Index'!$E$19*NR_Reihen_Veränderungsraten!AD12,)","v":0},{"$f":"IF($C51=1,'IN_Definition Index'!$E$19*NR_Reihen_Veränderungsraten!AE12,)","v":0},{"$f":"IF($C51=1,'IN_Definition Index'!$E$19*NR_Reihen_Veränderungsraten!AF12,)","v":0}]
["M74-01","Freiberufl.,wiss.,techn.DL a.n.g., Veterinärwesen",{"$f":"'IN_Definition Index'!E16","v":0},{"$f":"IF($C52=1,'IN_Definition Index'!$E$19*NR_Reihen_Veränderungsraten!D13,)","v":0},{"$f":"IF($C52=1,'IN_Definition Index'!$E$19*NR_Reihen_Veränderungsraten!E13,)","v":0},{"$f":"IF($C52=1,'IN_Definition Index'!$E$19*NR_Reihen_Veränderungsraten!F13,)","v":0},{"$f":"IF($C52=1,'IN_Definition Index'!$E$19*NR_Reihen_Veränderungsraten!G13,)","v":0},{"$f":"IF($C52=1,'IN_Definition Index'!$E$19*NR_Reihen_Veränderungsraten!H13,)","v":0},{"$f":"IF($C52=1,'IN_Definition Index'!$E$19*NR_Reihen_Veränderungsraten!I13,)","v":0},{"$f":"IF($C52=1,'IN_Definition Index'!$E$19*NR_Reihen_Veränderungsraten!J13,)","v":0},{"$f":"IF($C52=1,'IN_Definition Index'!$E$19*NR_Reihen_Veränderungsraten!K13,)","v":0},{"$f":"IF($C52=1,'IN_Definition Index'!$E$19*NR_Reihen_Veränderungsraten!L13,)","v":0},{"$f":"IF($C52=1,'IN_Definition Index'!$E$19*NR_Reihen_Veränderungsraten!M13,)","v":0},{"$f":"IF($C52=1,'IN_Definition Index'!$E$19*NR_Reihen_Veränderungsraten!N13,)","v":0},{"$f":"IF($C52=1,'IN_Definition Index'!$E$19*NR_Reihen_Veränderungsraten!O13,)","v":0},{"$f":"IF($C52=1,'IN_Definition Index'!$E$19*NR_Reihen_Veränderungsraten!P13,)","v":0},{"$f":"IF($C52=1,'IN_Definition Index'!$E$19*NR_Reihen_Veränderungsraten!Q13,)","v":0},{"$f":"IF($C52=1,'IN_Definition Index'!$E$19*NR_Reihen_Veränderungsraten!R13,)","v":0},{"$f":"IF($C52=1,'IN_Definition Index'!$E$19*NR_Reihen_Veränderungsraten!S13,)","v":0},{"$f":"IF($C52=1,'IN_Definition Index'!$E$19*NR_Reihen_Veränderungsraten!T13,)","v":0},{"$f":"IF($C52=1,'IN_Definition Index'!$E$19*NR_Reihen_Veränderungsraten!U13,)","v":0},{"$f":"IF($C52=1,'IN_Definition Index'!$E$19*NR_Reihen_Veränderungsraten!V13,)","v":0},{"$f":"IF($C52=1,'IN_Definition Index'!$E$19*NR_Reihen_Veränderungsraten!W13,)","v":0},{"$f":"IF($C52=1,'IN_Definition Index'!$E$19*NR_Reihen_Veränderungsraten!X13,)","v":0},{"$f":"IF($C52=1,'IN_Definition Index'!$E$19*NR_Reihen_Veränderungsraten!Y13,)","v":0},{"$f":"IF($C52=1,'IN_Definition Index'!$E$19*NR_Reihen_Veränderungsraten!Z13,)","v":0},{"$f":"IF($C52=1,'IN_Definition Index'!$E$19*NR_Reihen_Veränderungsraten!AA13,)","v":0},{"$f":"IF($C52=1,'IN_Definition Index'!$E$19*NR_Reihen_Veränderungsraten!AB13,)","v":0},{"$f":"IF($C52=1,'IN_Definition Index'!$E$19*NR_Reihen_Veränderungsraten!AC13,)","v":0},{"$f":"IF($C52=1,'IN_Definition Index'!$E$19*NR_Reihen_Veränderungsraten!AD13,)","v":0},{"$f":"IF($C52=1,'IN_Definition Index'!$E$19*NR_Reihen_Veränderungsraten!AE13,)","v":0},{"$f":"IF($C52=1,'IN_Definition Index'!$E$19*NR_Reihen_Veränderungsraten!AF13,)","v":0}]
["L","Grundstücks- und Wohnungswesen",{"$f":"'IN_Definition Index'!E17","v":0},{"$f":"IF($C53=1,'IN_Definition Index'!$E$19*NR_Reihen_Veränderungsraten!D14,)","v":0},{"$f":"IF($C53=1,'IN_Definition Index'!$E$19*NR_Reihen_Veränderungsraten!E14,)","v":0},{"$f":"IF($C53=1,'IN_Definition Index'!$E$19*NR_Reihen_Veränderungsraten!F14,)","v":0},{"$f":"IF($C53=1,'IN_Definition Index'!$E$19*NR_Reihen_Veränderungsraten!G14,)","v":0},{"$f":"IF($C53=1,'IN_Definition Index'!$E$19*NR_Reihen_Veränderungsraten!H14,)","v":0},{"$f":"IF($C53=1,'IN_Definition Index'!$E$19*NR_Reihen_Veränderungsraten!I14,)","v":0},{"$f":"IF($C53=1,'IN_Definition Index'!$E$19*NR_Reihen_Veränderungsraten!J14,)","v":0},{"$f":"IF($C53=1,'IN_Definition Index'!$E$19*NR_Reihen_Veränderungsraten!K14,)","v":0},{"$f":"IF($C53=1,'IN_Definition Index'!$E$19*NR_Reihen_Veränderungsraten!L14,)","v":0},{"$f":"IF($C53=1,'IN_Definition Index'!$E$19*NR_Reihen_Veränderungsraten!M14,)","v":0},{"$f":"IF($C53=1,'IN_Definition Index'!$E$19*NR_Reihen_Veränderungsraten!N14,)","v":0},{"$f":"IF($C53=1,'IN_Definition Index'!$E$19*NR_Reihen_Veränderungsraten!O14,)","v":0},{"$f":"IF($C53=1,'IN_Definition Index'!$E$19*NR_Reihen_Veränderungsraten!P14,)","v":0},{"$f":"IF($C53=1,'IN_Definition Index'!$E$19*NR_Reihen_Veränderungsraten!Q14,)","v":0},{"$f":"IF($C53=1,'IN_Definition Index'!$E$19*NR_Reihen_Veränderungsraten!R14,)","v":0},{"$f":"IF($C53=1,'IN_Definition Index'!$E$19*NR_Reihen_Veränderungsraten!S14,)","v":0},{"$f":"IF($C53=1,'IN_Definition Index'!$E$19*NR_Reihen_Veränderungsraten!T14,)","v":0},{"$f":"IF($C53=1,'IN_Definition Index'!$E$19*NR_Reihen_Veränderungsraten!U14,)","v":0},{"$f":"IF($C53=1,'IN_Definition Index'!$E$19*NR_Reihen_Veränderungsraten!V14,)","v":0},{"$f":"IF($C53=1,'IN_Definition Index'!$E$19*NR_Reihen_Veränderungsraten!W14,)","v":0},{"$f":"IF($C53=1,'IN_Definition Index'!$E$19*NR_Reihen_Veränderungsraten!X14,)","v":0},{"$f":"IF($C53=1,'IN_Definition Index'!$E$19*NR_Reihen_Veränderungsraten!Y14,)","v":0},{"$f":"IF($C53=1,'IN_Definition Index'!$E$19*NR_Reihen_Veränderungsraten!Z14,)","v":0},{"$f":"IF($C53=1,'IN_Definition Index'!$E$19*NR_Reihen_Veränderungsraten!AA14,)","v":0},{"$f":"IF($C53=1,'IN_Definition Index'!$E$19*NR_Reihen_Veränderungsraten!AB14,)","v":0},{"$f":"IF($C53=1,'IN_Definition Index'!$E$19*NR_Reihen_Veränderungsraten!AC14,)","v":0},{"$f":"IF($C53=1,'IN_Definition Index'!$E$19*NR_Reihen_Veränderungsraten!AD14,)","v":0},{"$f":"IF($C53=1,'IN_Definition Index'!$E$19*NR_Reihen_Veränderungsraten!AE14,)","v":0},{"$f":"IF($C53=1,'IN_Definition Index'!$E$19*NR_Reihen_Veränderungsraten!AF14,)","v":0}]
[null,"Summe",null,{"$f":"SUM(D43:D53)","v":1.0028109110912304},{"$f":"SUM(E43:E53)","v":0.94124362614278545},{"$f":"SUM(F43:F53)","v":1.0077644672149431},{"$f":"SUM(G43:G53)","v":1.0060430623282013},{"$f":"SUM(H43:H53)","v":0.97336707817069201},{"$f":"SUM(I43:I53)","v":0.98026117510072619},{"$f":"SUM(J43:J53)","v":0.99202779661655782},{"$f":"SUM(K43:K53)","v":0.99707073436572435},{"$f":"SUM(L43:L53)","v":0.98700097756299165},{"$f":"SUM(M43:M53)","v":1.0151690157321698},{"$f":"SUM(N43:N53)","v":0.9583818088966779},{"$f":"SUM(O43:O53)","v":1.0075147345992181},{"$f":"SUM(P43:P53)","v":0.98303858234602737},{"$f":"SUM(Q43:Q53)","v":0.97802237957566407},{"$f":"SUM(R43:R53)","v":1.0584622952450147},{"$f":"SUM(S43:S53)","v":0.99876533664237888},{"$f":"SUM(T43:T53)","v":0.97776320835485553},{"$f":"SUM(U43:U53)","v":1.0102513323422244},{"$f":"SUM(V43:V53)","v":1.0241773456157695},{"$f":"SUM(W43:W53)","v":0.97772081453371795},{"$f":"SUM(X43:X53)","v":0.99857578214785991},{"$f":"SUM(Y43:Y53)","v":0.99555246980710876},{"$f":"SUM(Z43:Z53)","v":1.0254107592332413},{"$f":"SUM(AA43:AA53)","v":1.0734277443192348},{"$f":"SUM(AB43:AB53)","v":1.0258095888892984},{"$f":"SUM(AC43:AC53)","v":1.0248752498180813},0.99203529857039174,{"$error":"#VALUE!"},{"$error":"#VALUE!"}]
[]
["Sortierung"]
[]
["Nr. (WZ 2008)","Branche","Verwendung",1992,{"$f":"D58+1","v":1993},{"$f":"E58+1","v":1994},{"$f":"F58+1","v":1995},{"$f":"G58+1","v":1996},{"$f":"H58+1","v":1997},{"$f":"I58+1","v":1998},{"$f":"J58+1","v":1999},{"$f":"K58+1","v":2000},{"$f":"L58+1","v":2001},{"$f":"M58+1","v":2002},{"$f":"N58+1","v":2003},{"$f":"O58+1","v":2004},{"$f":"P58+1","v":2005},{"$f":"Q58+1","v":2006},{"$f":"R58+1","v":2007},{"$f":"S58+1","v":2008},{"$f":"T58+1","v":2009},{"$f":"U58+1","v":2010},{"$f":"V58+1","v":2011},{"$f":"W58+1","v":2012},{"$f":"X58+1","v":2013},{"$f":"Y58+1","v":2014},{"$f":"Z58+1","v":2015},{"$f":"AA58+1","v":2016},{"$f":"AB58+1","v":2017},{"$f":"AC58+1","v":2018},{"$f":"AD58+1","v":2019},{"$f":"AE58+1","v":2020}]
["C33","Reparatur und Installation von Maschinen und Ausrüstungen",{"$f":"'IN_Definition Index'!F7","v":1},{"$f":"IF($C59=1,'IN_Definition Index'!$F$19*NR_Reihen_Veränderungsraten!D4,)","v":0.54278862245946435},{"$f":"IF($C59=1,'IN_Definition Index'!$F$19*NR_Reihen_Veränderungsraten!E4,)","v":0.49470942040759575},{"$f":"IF($C59=1,'IN_Definition Index'!$F$19*NR_Reihen_Veränderungsraten!F4,)","v":0.55740557915776923},{"$f":"IF($C59=1,'IN_Definition Index'!$F$19*NR_Reihen_Veränderungsraten!G4,)","v":0.51665757803484902},{"$f":"IF($C59=1,'IN_Definition Index'!$F$19*NR_Reihen_Veränderungsraten!H4,)","v":0.5105396153302989},{"$f":"IF($C59=1,'IN_Definition Index'!$F$19*NR_Reihen_Veränderungsraten!I4,)","v":0.55966801843026803},{"$f":"IF($C59=1,'IN_Definition Index'!$F$19*NR_Reihen_Veränderungsraten!J4,)","v":0.52242291371654115},{"$f":"IF($C59=1,'IN_Definition Index'!$F$19*NR_Reihen_Veränderungsraten!K4,)","v":0.53855138939237546},{"$f":"IF($C59=1,'IN_Definition Index'!$F$19*NR_Reihen_Veränderungsraten!L4,)","v":0.53725576076201798},{"$f":"IF($C59=1,'IN_Definition Index'!$F$19*NR_Reihen_Veränderungsraten!M4,)","v":0.50163123861529657},{"$f":"IF($C59=1,'IN_Definition Index'!$F$19*NR_Reihen_Veränderungsraten!N4,)","v":0.52363972387819757},{"$f":"IF($C59=1,'IN_Definition Index'!$F$19*NR_Reihen_Veränderungsraten!O4,)","v":0.54533068644392135},{"$f":"IF($C59=1,'IN_Definition Index'!$F$19*NR_Reihen_Veränderungsraten!P4,)","v":0.55322548722778642},{"$f":"IF($C59=1,'IN_Definition Index'!$F$19*NR_Reihen_Veränderungsraten!Q4,)","v":0.57767222234711813},{"$f":"IF($C59=1,'IN_Definition Index'!$F$19*NR_Reihen_Veränderungsraten!R4,)","v":0.50886180125981728},{"$f":"IF($C59=1,'IN_Definition Index'!$F$19*NR_Reihen_Veränderungsraten!S4,)","v":0.53507904711719856},{"$f":"IF($C59=1,'IN_Definition Index'!$F$19*NR_Reihen_Veränderungsraten!T4,)","v":0.43609694939258431},{"$f":"IF($C59=1,'IN_Definition Index'!$F$19*NR_Reihen_Veränderungsraten!U4,)","v":0.43895030364117044},{"$f":"IF($C59=1,'IN_Definition Index'!$F$19*NR_Reihen_Veränderungsraten!V4,)","v":0.508304482434217},{"$f":"IF($C59=1,'IN_Definition Index'!$F$19*NR_Reihen_Veränderungsraten!W4,)","v":0.51259916095080471},{"$f":"IF($C59=1,'IN_Definition Index'!$F$19*NR_Reihen_Veränderungsraten!X4,)","v":0.48845426359426897},{"$f":"IF($C59=1,'IN_Definition Index'!$F$19*NR_Reihen_Veränderungsraten!Y4,)","v":0.4788691837299201},{"$f":"IF($C59=1,'IN_Definition Index'!$F$19*NR_Reihen_Veränderungsraten!Z4,)","v":0.50464532865741074},{"$f":"IF($C59=1,'IN_Definition Index'!$F$19*NR_Reihen_Veränderungsraten!AA4,)","v":0.52193452352889846},{"$f":"IF($C59=1,'IN_Definition Index'!$F$19*NR_Reihen_Veränderungsraten!AB4,)","v":0.48133247434329329},{"$f":"IF($C59=1,'IN_Definition Index'!$F$19*NR_Reihen_Veränderungsraten!AC4,)","v":0.46604005325742931},{"$f":"IF($C59=1,'IN_Definition Index'!$F$19*NR_Reihen_Veränderungsraten!AD4,)","v":0.48101372358828737},{"$f":"IF($C59=1,'IN_Definition Index'!$F$19*NR_Reihen_Veränderungsraten!AE4,)","v":{"$error":"#VALUE!"}},{"$f":"IF($C59=1,'IN_Definition Index'!$F$19*NR_Reihen_Veränderungsraten!AF4,)","v":{"$error":"#VALUE!"}}]
["G45","Handel mit Kraftfahrzeugen; Instandhaltung und Reparatur von Kraftfahrzeugen",{"$f":"'IN_Definition Index'!F8","v":0},{"$f":"IF($C60=1,'IN_Definition Index'!$F$19*NR_Reihen_Veränderungsraten!D5,)","v":0},{"$f":"IF($C60=1,'IN_Definition Index'!$F$19*NR_Reihen_Veränderungsraten!E5,)","v":0},{"$f":"IF($C60=1,'IN_Definition Index'!$F$19*NR_Reihen_Veränderungsraten!F5,)","v":0},{"$f":"IF($C60=1,'IN_Definition Index'!$F$19*NR_Reihen_Veränderungsraten!G5,)","v":0},{"$f":"IF($C60=1,'IN_Definition Index'!$F$19*NR_Reihen_Veränderungsraten!H5,)","v":0},{"$f":"IF($C60=1,'IN_Definition Index'!$F$19*NR_Reihen_Veränderungsraten!I5,)","v":0},{"$f":"IF($C60=1,'IN_Definition Index'!$F$19*NR_Reihen_Veränderungsraten!J5,)","v":0},{"$f":"IF($C60=1,'IN_Definition Index'!$F$19*NR_Reihen_Veränderungsraten!K5,)","v":0},{"$f":"IF($C60=1,'IN_Definition Index'!$F$19*NR_Reihen_Veränderungsraten!L5,)","v":0},{"$f":"IF($C60=1,'IN_Definition Index'!$F$19*NR_Reihen_Veränderungsraten!M5,)","v":0},{"$f":"IF($C60=1,'IN_Definition Index'!$F$19*NR_Reihen_Veränderungsraten!N5,)","v":0},{"$f":"IF($C60=1,'IN_Definition Index'!$F$19*NR_Reihen_Veränderungsraten!O5,)","v":0},{"$f":"IF($C60=1,'IN_Definition Index'!$F$19*NR_Reihen_Veränderungsraten!P5,)","v":0},{"$f":"IF($C60=1,'IN_Definition Index'!$F$19*NR_Reihen_Veränderungsraten!Q5,)","v":0},{"$f":"IF($C60=1,'IN_Definition Index'!$F$19*NR_Reihen_Veränderungsraten!R5,)","v":0},{"$f":"IF($C60=1,'IN_Definition Index'!$F$19*NR_Reihen_Veränderungsraten!S5,)","v":0},{"$f":"IF($C60=1,'IN_Definition Index'!$F$19*NR_Reihen_Veränderungsraten!T5,)","v":0},{"$f":"IF($C60=1,'IN_Definition Index'!$F$19*NR_Reihen_Veränderungsraten!U5,)","v":0},{"$f":"IF($C60=1,'IN_Definition Index'!$F$19*NR_Reihen_Veränderungsraten!V5,)","v":0},{"$f":"IF($C60=1,'IN_Definition Index'!$F$19*NR_Reihen_Veränderungsraten!W5,)","v":0},{"$f":"IF($C60=1,'IN_Definition Index'!$F$19*NR_Reihen_Veränderungsraten!X5,)","v":0},{"$f":"IF($C60=1,'IN_Definition Index'!$F$19*NR_Reihen_Veränderungsraten!Y5,)","v":0},{"$f":"IF($C60=1,'IN_Definition Index'!$F$19*NR_Reihen_Veränderungsraten!Z5,)","v":0},{"$f":"IF($C60=1,'IN_Definition Index'!$F$19*NR_Reihen_Veränderungsraten!AA5,)","v":0},{"$f":"IF($C60=1,'IN_Definition Index'!$F$19*NR_Reihen_Veränderungsraten!AB5,)","v":0},{"$f":"IF($C60=1,'IN_Definition Index'!$F$19*NR_Reihen_Veränderungsraten!AC5,)","v":0},{"$f":"IF($C60=1,'IN_Definition Index'!$F$19*NR_Reihen_Veränderungsraten!AD5,)","v":0},{"$f":"IF($C60=1,'IN_Definition Index'!$F$19*NR_Reihen_Veränderungsraten!AE5,)","v":0},{"$f":"IF($C60=1,'IN_Definition Index'!$F$19*NR_Reihen_Veränderungsraten!AF5,)","v":0}]
["G47","Einzelhandel (ohne Handel mit Kraftfahrzeugen)",{"$f":"'IN_Definition Index'!F9","v":0},{"$f":"IF($C61=1,'IN_Definition Index'!$F$19*NR_Reihen_Veränderungsraten!D6,)","v":0},{"$f":"IF($C61=1,'IN_Definition Index'!$F$19*NR_Reihen_Veränderungsraten!E6,)","v":0},{"$f":"IF($C61=1,'IN_Definition Index'!$F$19*NR_Reihen_Veränderungsraten!F6,)","v":0},{"$f":"IF($C61=1,'IN_Definition Index'!$F$19*NR_Reihen_Veränderungsraten!G6,)","v":0},{"$f":"IF($C61=1,'IN_Definition Index'!$F$19*NR_Reihen_Veränderungsraten!H6,)","v":0},{"$f":"IF($C61=1,'IN_Definition Index'!$F$19*NR_Reihen_Veränderungsraten!I6,)","v":0},{"$f":"IF($C61=1,'IN_Definition Index'!$F$19*NR_Reihen_Veränderungsraten!J6,)","v":0},{"$f":"IF($C61=1,'IN_Definition Index'!$F$19*NR_Reihen_Veränderungsraten!K6,)","v":0},{"$f":"IF($C61=1,'IN_Definition Index'!$F$19*NR_Reihen_Veränderungsraten!L6,)","v":0},{"$f":"IF($C61=1,'IN_Definition Index'!$F$19*NR_Reihen_Veränderungsraten!M6,)","v":0},{"$f":"IF($C61=1,'IN_Definition Index'!$F$19*NR_Reihen_Veränderungsraten!N6,)","v":0},{"$f":"IF($C61=1,'IN_Definition Index'!$F$19*NR_Reihen_Veränderungsraten!O6,)","v":0},{"$f":"IF($C61=1,'IN_Definition Index'!$F$19*NR_Reihen_Veränderungsraten!P6,)","v":0},{"$f":"IF($C61=1,'IN_Definition Index'!$F$19*NR_Reihen_Veränderungsraten!Q6,)","v":0},{"$f":"IF($C61=1,'IN_Definition Index'!$F$19*NR_Reihen_Veränderungsraten!R6,)","v":0},{"$f":"IF($C61=1,'IN_Definition Index'!$F$19*NR_Reihen_Veränderungsraten!S6,)","v":0},{"$f":"IF($C61=1,'IN_Definition Index'!$F$19*NR_Reihen_Veränderungsraten!T6,)","v":0},{"$f":"IF($C61=1,'IN_Definition Index'!$F$19*NR_Reihen_Veränderungsraten!U6,)","v":0},{"$f":"IF($C61=1,'IN_Definition Index'!$F$19*NR_Reihen_Veränderungsraten!V6,)","v":0},{"$f":"IF($C61=1,'IN_Definition Index'!$F$19*NR_Reihen_Veränderungsraten!W6,)","v":0},{"$f":"IF($C61=1,'IN_Definition Index'!$F$19*NR_Reihen_Veränderungsraten!X6,)","v":0},{"$f":"IF($C61=1,'IN_Definition Index'!$F$19*NR_Reihen_Veränderungsraten!Y6,)","v":0},{"$f":"IF($C61=1,'IN_Definition Index'!$F$19*NR_Reihen_Veränderungsraten!Z6,)","v":0},{"$f":"IF($C61=1,'IN_Definition Index'!$F$19*NR_Reihen_Veränderungsraten!AA6,)","v":0},{"$f":"IF($C61=1,'IN_Definition Index'!$F$19*NR_Reihen_Veränderungsraten!AB6,)","v":0},{"$f":"IF($C61=1,'IN_Definition Index'!$F$19*NR_Reihen_Veränderungsraten!AC6,)","v":0},{"$f":"IF($C61=1,'IN_Definition Index'!$F$19*NR_Reihen_Veränderungsraten!AD6,)","v":0},{"$f":"IF($C61=1,'IN_Definition Index'!$F$19*NR_Reihen_Veränderungsraten!AE6,)","v":0},{"$f":"IF($C61=1,'IN_Definition Index'!$F$19*NR_Reihen_Veränderungsraten!AF6,)","v":0}]
["H49","Landverkehr und Transport in Rohrfernleitungen",{"$f":"'IN_Definition Index'!F10","v":0},{"$f":"IF($C62=1,'IN_Definition Index'!$F$19*NR_Reihen_Veränderungsraten!D7,)","v":0},{"$f":"IF($C62=1,'IN_Definition Index'!$F$19*NR_Reihen_Veränderungsraten!E7,)","v":0},{"$f":"IF($C62=1,'IN_Definition Index'!$F$19*NR_Reihen_Veränderungsraten!F7,)","v":0},{"$f":"IF($C62=1,'IN_Definition Index'!$F$19*NR_Reihen_Veränderungsraten!G7,)","v":0},{"$f":"IF($C62=1,'IN_Definition Index'!$F$19*NR_Reihen_Veränderungsraten!H7,)","v":0},{"$f":"IF($C62=1,'IN_Definition Index'!$F$19*NR_Reihen_Veränderungsraten!I7,)","v":0},{"$f":"IF($C62=1,'IN_Definition Index'!$F$19*NR_Reihen_Veränderungsraten!J7,)","v":0},{"$f":"IF($C62=1,'IN_Definition Index'!$F$19*NR_Reihen_Veränderungsraten!K7,)","v":0},{"$f":"IF($C62=1,'IN_Definition Index'!$F$19*NR_Reihen_Veränderungsraten!L7,)","v":0},{"$f":"IF($C62=1,'IN_Definition Index'!$F$19*NR_Reihen_Veränderungsraten!M7,)","v":0},{"$f":"IF($C62=1,'IN_Definition Index'!$F$19*NR_Reihen_Veränderungsraten!N7,)","v":0},{"$f":"IF($C62=1,'IN_Definition Index'!$F$19*NR_Reihen_Veränderungsraten!O7,)","v":0},{"$f":"IF($C62=1,'IN_Definition Index'!$F$19*NR_Reihen_Veränderungsraten!P7,)","v":0},{"$f":"IF($C62=1,'IN_Definition Index'!$F$19*NR_Reihen_Veränderungsraten!Q7,)","v":0},{"$f":"IF($C62=1,'IN_Definition Index'!$F$19*NR_Reihen_Veränderungsraten!R7,)","v":0},{"$f":"IF($C62=1,'IN_Definition Index'!$F$19*NR_Reihen_Veränderungsraten!S7,)","v":0},{"$f":"IF($C62=1,'IN_Definition Index'!$F$19*NR_Reihen_Veränderungsraten!T7,)","v":0},{"$f":"IF($C62=1,'IN_Definition Index'!$F$19*NR_Reihen_Veränderungsraten!U7,)","v":0},{"$f":"IF($C62=1,'IN_Definition Index'!$F$19*NR_Reihen_Veränderungsraten!V7,)","v":0},{"$f":"IF($C62=1,'IN_Definition Index'!$F$19*NR_Reihen_Veränderungsraten!W7,)","v":0},{"$f":"IF($C62=1,'IN_Definition Index'!$F$19*NR_Reihen_Veränderungsraten!X7,)","v":0},{"$f":"IF($C62=1,'IN_Definition Index'!$F$19*NR_Reihen_Veränderungsraten!Y7,)","v":0},{"$f":"IF($C62=1,'IN_Definition Index'!$F$19*NR_Reihen_Veränderungsraten!Z7,)","v":0},{"$f":"IF($C62=1,'IN_Definition Index'!$F$19*NR_Reihen_Veränderungsraten!AA7,)","v":0},{"$f":"IF($C62=1,'IN_Definition Index'!$F$19*NR_Reihen_Veränderungsraten!AB7,)","v":0},{"$f":"IF($C62=1,'IN_Definition Index'!$F$19*NR_Reihen_Veränderungsraten!AC7,)","v":0},{"$f":"IF($C62=1,'IN_Definition Index'!$F$19*NR_Reihen_Veränderungsraten!AD7,)","v":0},{"$f":"IF($C62=1,'IN_Definition Index'!$F$19*NR_Reihen_Veränderungsraten!AE7,)","v":0},{"$f":"IF($C62=1,'IN_Definition Index'!$F$19*NR_Reihen_Veränderungsraten!AF7,)","v":0}]
["H52","Lagerei sowie Erbringung von sonstigen Dienstleistungen für den Verkehr",{"$f":"'IN_Definition Index'!F11","v":1},{"$f":"IF($C63=1,'IN_Definition Index'!$F$19*NR_Reihen_Veränderungsraten!D8,)","v":0.48618728050526006},{"$f":"IF($C63=1,'IN_Definition Index'!$F$19*NR_Reihen_Veränderungsraten!E8,)","v":0.49894032714120884},{"$f":"IF($C63=1,'IN_Definition Index'!$F$19*NR_Reihen_Veränderungsraten!F8,)","v":0.52312527589071001},{"$f":"IF($C63=1,'IN_Definition Index'!$F$19*NR_Reihen_Veränderungsraten!G8,)","v":0.4917203394687647},{"$f":"IF($C63=1,'IN_Definition Index'!$F$19*NR_Reihen_Veränderungsraten!H8,)","v":0.51700575770762569},{"$f":"IF($C63=1,'IN_Definition Index'!$F$19*NR_Reihen_Veränderungsraten!I8,)","v":0.54548243583069034},{"$f":"IF($C63=1,'IN_Definition Index'!$F$19*NR_Reihen_Veränderungsraten!J8,)","v":0.51386455124021335},{"$f":"IF($C63=1,'IN_Definition Index'!$F$19*NR_Reihen_Veränderungsraten!K8,)","v":0.39081340024441824},{"$f":"IF($C63=1,'IN_Definition Index'!$F$19*NR_Reihen_Veränderungsraten!L8,)","v":0.51019634474510889},{"$f":"IF($C63=1,'IN_Definition Index'!$F$19*NR_Reihen_Veränderungsraten!M8,)","v":0.55131034923832778},{"$f":"IF($C63=1,'IN_Definition Index'!$F$19*NR_Reihen_Veränderungsraten!N8,)","v":0.54820519177323457},{"$f":"IF($C63=1,'IN_Definition Index'!$F$19*NR_Reihen_Veränderungsraten!O8,)","v":0.51066200143514806},{"$f":"IF($C63=1,'IN_Definition Index'!$F$19*NR_Reihen_Veränderungsraten!P8,)","v":0.55911068905003203},{"$f":"IF($C63=1,'IN_Definition Index'!$F$19*NR_Reihen_Veränderungsraten!Q8,)","v":0.51975999322814137},{"$f":"IF($C63=1,'IN_Definition Index'!$F$19*NR_Reihen_Veränderungsraten!R8,)","v":0.53084749996429759},{"$f":"IF($C63=1,'IN_Definition Index'!$F$19*NR_Reihen_Veränderungsraten!S8,)","v":0.49589455671507982},{"$f":"IF($C63=1,'IN_Definition Index'!$F$19*NR_Reihen_Veränderungsraten!T8,)","v":0.47735092220642233},{"$f":"IF($C63=1,'IN_Definition Index'!$F$19*NR_Reihen_Veränderungsraten!U8,)","v":0.4390573133336711},{"$f":"IF($C63=1,'IN_Definition Index'!$F$19*NR_Reihen_Veränderungsraten!V8,)","v":0.52950068189526167},{"$f":"IF($C63=1,'IN_Definition Index'!$F$19*NR_Reihen_Veränderungsraten!W8,)","v":0.49008403297497999},{"$f":"IF($C63=1,'IN_Definition Index'!$F$19*NR_Reihen_Veränderungsraten!X8,)","v":0.49630040431819017},{"$f":"IF($C63=1,'IN_Definition Index'!$F$19*NR_Reihen_Veränderungsraten!Y8,)","v":0.50682559317118581},{"$f":"IF($C63=1,'IN_Definition Index'!$F$19*NR_Reihen_Veränderungsraten!Z8,)","v":0.49855008615273649},{"$f":"IF($C63=1,'IN_Definition Index'!$F$19*NR_Reihen_Veränderungsraten!AA8,)","v":0.4758645949695105},{"$f":"IF($C63=1,'IN_Definition Index'!$F$19*NR_Reihen_Veränderungsraten!AB8,)","v":0.49999087396561137},{"$f":"IF($C63=1,'IN_Definition Index'!$F$19*NR_Reihen_Veränderungsraten!AC8,)","v":0.50344782019504764},{"$f":"IF($C63=1,'IN_Definition Index'!$F$19*NR_Reihen_Veränderungsraten!AD8,)","v":0.51078136744662861},{"$f":"IF($C63=1,'IN_Definition Index'!$F$19*NR_Reihen_Veränderungsraten!AE8,)","v":{"$error":"#VALUE!"}},{"$f":"IF($C63=1,'IN_Definition Index'!$F$19*NR_Reihen_Veränderungsraten!AF8,)","v":{"$error":"#VALUE!"}}]
["J61","Telekommunikation",{"$f":"'IN_Definition Index'!F12","v":0},{"$f":"IF($C64=1,'IN_Definition Index'!$F$19*NR_Reihen_Veränderungsraten!D9,)","v":0},{"$f":"IF($C64=1,'IN_Definition Index'!$F$19*NR_Reihen_Veränderungsraten!E9,)","v":0},{"$f":"IF($C64=1,'IN_Definition Index'!$F$19*NR_Reihen_Veränderungsraten!F9,)","v":0},{"$f":"IF($C64=1,'IN_Definition Index'!$F$19*NR_Reihen_Veränderungsraten!G9,)","v":0},{"$f":"IF($C64=1,'IN_Definition Index'!$F$19*NR_Reihen_Veränderungsraten!H9,)","v":0},{"$f":"IF($C64=1,'IN_Definition Index'!$F$19*NR_Reihen_Veränderungsraten!I9,)","v":0},{"$f":"IF($C64=1,'IN_Definition Index'!$F$19*NR_Reihen_Veränderungsraten!J9,)","v":0},{"$f":"IF($C64=1,'IN_Definition Index'!$F$19*NR_Reihen_Veränderungsraten!K9,)","v":0},{"$f":"IF($C64=1,'IN_Definition Index'!$F$19*NR_Reihen_Veränderungsraten!L9,)","v":0},{"$f":"IF($C64=1,'IN_Definition Index'!$F$19*NR_Reihen_Veränderungsraten!M9,)","v":0},{"$f":"IF($C64=1,'IN_Definition Index'!$F$19*NR_Reihen_Veränderungsraten!N9,)","v":0},{"$f":"IF($C64=1,'IN_Definition Index'!$F$19*NR_Reihen_Veränderungsraten!O9,)","v":0},{"$f":"IF($C64=1,'IN_Definition Index'!$F$19*NR_Reihen_Veränderungsraten!P9,)","v":0},{"$f":"IF($C64=1,'IN_Definition Index'!$F$19*NR_Reihen_Veränderungsraten!Q9,)","v":0},{"$f":"IF($C64=1,'IN_Definition Index'!$F$19*NR_Reihen_Veränderungsraten!R9,)","v":0},{"$f":"IF($C64=1,'IN_Definition Index'!$F$19*NR_Reihen_Veränderungsraten!S9,)","v":0},{"$f":"IF($C64=1,'IN_Definition Index'!$F$19*NR_Reihen_Veränderungsraten!T9,)","v":0},{"$f":"IF($C64=1,'IN_Definition Index'!$F$19*NR_Reihen_Veränderungsraten!U9,)","v":0},{"$f":"IF($C64=1,'IN_Definition Index'!$F$19*NR_Reihen_Veränderungsraten!V9,)","v":0},{"$f":"IF($C64=1,'IN_Definition Index'!$F$19*NR_Reihen_Veränderungsraten!W9,)","v":0},{"$f":"IF($C64=1,'IN_Definition Index'!$F$19*NR_Reihen_Veränderungsraten!X9,)","v":0},{"$f":"IF($C64=1,'IN_Definition Index'!$F$19*NR_Reihen_Veränderungsraten!Y9,)","v":0},{"$f":"IF($C64=1,'IN_Definition Index'!$F$19*NR_Reihen_Veränderungsraten!Z9,)","v":0},{"$f":"IF($C64=1,'IN_Definition Index'!$F$19*NR_Reihen_Veränderungsraten!AA9,)","v":0},{"$f":"IF($C64=1,'IN_Definition Index'!$F$19*NR_Reihen_Veränderungsraten!AB9,)","v":0},{"$f":"IF($C64=1,'IN_Definition Index'!$F$19*NR_Reihen_Veränderungsraten!AC9,)","v":0},{"$f":"IF($C64=1,'IN_Definition Index'!$F$19*NR_Reihen_Veränderungsraten!AD9,)","v":0},{"$f":"IF($C64=1,'IN_Definition Index'!$F$19*NR_Reihen_Veränderungsraten!AE9,)","v":0},{"$f":"IF($C64=1,'IN_Definition Index'!$F$19*NR_Reihen_Veränderungsraten!AF9,)","v":0}]
["J62-01","IT- und Informationsdienstleister",{"$f":"'IN_Definition Index'!F13","v":0},{"$f":"IF($C65=1,'IN_Definition Index'!$F$19*NR_Reihen_Veränderungsraten!D10,)","v":0},{"$f":"IF($C65=1,'IN_Definition Index'!$F$19*NR_Reihen_Veränderungsraten!E10,)","v":0},{"$f":"IF($C65=1,'IN_Definition Index'!$F$19*NR_Reihen_Veränderungsraten!F10,)","v":0},{"$f":"IF($C65=1,'IN_Definition Index'!$F$19*NR_Reihen_Veränderungsraten!G10,)","v":0},{"$f":"IF($C65=1,'IN_Definition Index'!$F$19*NR_Reihen_Veränderungsraten!H10,)","v":0},{"$f":"IF($C65=1,'IN_Definition Index'!$F$19*NR_Reihen_Veränderungsraten!I10,)","v":0},{"$f":"IF($C65=1,'IN_Definition Index'!$F$19*NR_Reihen_Veränderungsraten!J10,)","v":0},{"$f":"IF($C65=1,'IN_Definition Index'!$F$19*NR_Reihen_Veränderungsraten!K10,)","v":0},{"$f":"IF($C65=1,'IN_Definition Index'!$F$19*NR_Reihen_Veränderungsraten!L10,)","v":0},{"$f":"IF($C65=1,'IN_Definition Index'!$F$19*NR_Reihen_Veränderungsraten!M10,)","v":0},{"$f":"IF($C65=1,'IN_Definition Index'!$F$19*NR_Reihen_Veränderungsraten!N10,)","v":0},{"$f":"IF($C65=1,'IN_Definition Index'!$F$19*NR_Reihen_Veränderungsraten!O10,)","v":0},{"$f":"IF($C65=1,'IN_Definition Index'!$F$19*NR_Reihen_Veränderungsraten!P10,)","v":0},{"$f":"IF($C65=1,'IN_Definition Index'!$F$19*NR_Reihen_Veränderungsraten!Q10,)","v":0},{"$f":"IF($C65=1,'IN_Definition Index'!$F$19*NR_Reihen_Veränderungsraten!R10,)","v":0},{"$f":"IF($C65=1,'IN_Definition Index'!$F$19*NR_Reihen_Veränderungsraten!S10,)","v":0},{"$f":"IF($C65=1,'IN_Definition Index'!$F$19*NR_Reihen_Veränderungsraten!T10,)","v":0},{"$f":"IF($C65=1,'IN_Definition Index'!$F$19*NR_Reihen_Veränderungsraten!U10,)","v":0},{"$f":"IF($C65=1,'IN_Definition Index'!$F$19*NR_Reihen_Veränderungsraten!V10,)","v":0},{"$f":"IF($C65=1,'IN_Definition Index'!$F$19*NR_Reihen_Veränderungsraten!W10,)","v":0},{"$f":"IF($C65=1,'IN_Definition Index'!$F$19*NR_Reihen_Veränderungsraten!X10,)","v":0},{"$f":"IF($C65=1,'IN_Definition Index'!$F$19*NR_Reihen_Veränderungsraten!Y10,)","v":0},{"$f":"IF($C65=1,'IN_Definition Index'!$F$19*NR_Reihen_Veränderungsraten!Z10,)","v":0},{"$f":"IF($C65=1,'IN_Definition Index'!$F$19*NR_Reihen_Veränderungsraten!AA10,)","v":0},{"$f":"IF($C65=1,'IN_Definition Index'!$F$19*NR_Reihen_Veränderungsraten!AB10,)","v":0},{"$f":"IF($C65=1,'IN_Definition Index'!$F$19*NR_Reihen_Veränderungsraten!AC10,)","v":0},{"$f":"IF($C65=1,'IN_Definition Index'!$F$19*NR_Reihen_Veränderungsraten!AD10,)","v":0},{"$f":"IF($C65=1,'IN_Definition Index'!$F$19*NR_Reihen_Veränderungsraten!AE10,)","v":0},{"$f":"IF($C65=1,'IN_Definition Index'!$F$19*NR_Reihen_Veränderungsraten!AF10,)","v":0}]
["M69-01","Unternehmensnahe Beratungsleistungen ",{"$f":"'IN_Definition Index'!F14","v":0},{"$f":"IF($C66=1,'IN_Definition Index'!$F$19*NR_Reihen_Veränderungsraten!D11,)","v":0},{"$f":"IF($C66=1,'IN_Definition Index'!$F$19*NR_Reihen_Veränderungsraten!E11,)","v":0},{"$f":"IF($C66=1,'IN_Definition Index'!$F$19*NR_Reihen_Veränderungsraten!F11,)","v":0},{"$f":"IF($C66=1,'IN_Definition Index'!$F$19*NR_Reihen_Veränderungsraten!G11,)","v":0},{"$f":"IF($C66=1,'IN_Definition Index'!$F$19*NR_Reihen_Veränderungsraten!H11,)","v":0},{"$f":"IF($C66=1,'IN_Definition Index'!$F$19*NR_Reihen_Veränderungsraten!I11,)","v":0},{"$f":"IF($C66=1,'IN_Definition Index'!$F$19*NR_Reihen_Veränderungsraten!J11,)","v":0},{"$f":"IF($C66=1,'IN_Definition Index'!$F$19*NR_Reihen_Veränderungsraten!K11,)","v":0},{"$f":"IF($C66=1,'IN_Definition Index'!$F$19*NR_Reihen_Veränderungsraten!L11,)","v":0},{"$f":"IF($C66=1,'IN_Definition Index'!$F$19*NR_Reihen_Veränderungsraten!M11,)","v":0},{"$f":"IF($C66=1,'IN_Definition Index'!$F$19*NR_Reihen_Veränderungsraten!N11,)","v":0},{"$f":"IF($C66=1,'IN_Definition Index'!$F$19*NR_Reihen_Veränderungsraten!O11,)","v":0},{"$f":"IF($C66=1,'IN_Definition Index'!$F$19*NR_Reihen_Veränderungsraten!P11,)","v":0},{"$f":"IF($C66=1,'IN_Definition Index'!$F$19*NR_Reihen_Veränderungsraten!Q11,)","v":0},{"$f":"IF($C66=1,'IN_Definition Index'!$F$19*NR_Reihen_Veränderungsraten!R11,)","v":0},{"$f":"IF($C66=1,'IN_Definition Index'!$F$19*NR_Reihen_Veränderungsraten!S11,)","v":0},{"$f":"IF($C66=1,'IN_Definition Index'!$F$19*NR_Reihen_Veränderungsraten!T11,)","v":0},{"$f":"IF($C66=1,'IN_Definition Index'!$F$19*NR_Reihen_Veränderungsraten!U11,)","v":0},{"$f":"IF($C66=1,'IN_Definition Index'!$F$19*NR_Reihen_Veränderungsraten!V11,)","v":0},{"$f":"IF($C66=1,'IN_Definition Index'!$F$19*NR_Reihen_Veränderungsraten!W11,)","v":0},{"$f":"IF($C66=1,'IN_Definition Index'!$F$19*NR_Reihen_Veränderungsraten!X11,)","v":0},{"$f":"IF($C66=1,'IN_Definition Index'!$F$19*NR_Reihen_Veränderungsraten!Y11,)","v":0},{"$f":"IF($C66=1,'IN_Definition Index'!$F$19*NR_Reihen_Veränderungsraten!Z11,)","v":0},{"$f":"IF($C66=1,'IN_Definition Index'!$F$19*NR_Reihen_Veränderungsraten!AA11,)","v":0},{"$f":"IF($C66=1,'IN_Definition Index'!$F$19*NR_Reihen_Veränderungsraten!AB11,)","v":0},{"$f":"IF($C66=1,'IN_Definition Index'!$F$19*NR_Reihen_Veränderungsraten!AC11,)","v":0},{"$f":"IF($C66=1,'IN_Definition Index'!$F$19*NR_Reihen_Veränderungsraten!AD11,)","v":0},{"$f":"IF($C66=1,'IN_Definition Index'!$F$19*NR_Reihen_Veränderungsraten!AE11,)","v":0},{"$f":"IF($C66=1,'IN_Definition Index'!$F$19*NR_Reihen_Veränderungsraten!AF11,)","v":0}]
["M73","Werbung und Marktforschung",{"$f":"'IN_Definition Index'!F15","v":0},{"$f":"IF($C67=1,'IN_Definition Index'!$F$19*NR_Reihen_Veränderungsraten!D12,)","v":0},{"$f":"IF($C67=1,'IN_Definition Index'!$F$19*NR_Reihen_Veränderungsraten!E12,)","v":0},{"$f":"IF($C67=1,'IN_Definition Index'!$F$19*NR_Reihen_Veränderungsraten!F12,)","v":0},{"$f":"IF($C67=1,'IN_Definition Index'!$F$19*NR_Reihen_Veränderungsraten!G12,)","v":0},{"$f":"IF($C67=1,'IN_Definition Index'!$F$19*NR_Reihen_Veränderungsraten!H12,)","v":0},{"$f":"IF($C67=1,'IN_Definition Index'!$F$19*NR_Reihen_Veränderungsraten!I12,)","v":0},{"$f":"IF($C67=1,'IN_Definition Index'!$F$19*NR_Reihen_Veränderungsraten!J12,)","v":0},{"$f":"IF($C67=1,'IN_Definition Index'!$F$19*NR_Reihen_Veränderungsraten!K12,)","v":0},{"$f":"IF($C67=1,'IN_Definition Index'!$F$19*NR_Reihen_Veränderungsraten!L12,)","v":0},{"$f":"IF($C67=1,'IN_Definition Index'!$F$19*NR_Reihen_Veränderungsraten!M12,)","v":0},{"$f":"IF($C67=1,'IN_Definition Index'!$F$19*NR_Reihen_Veränderungsraten!N12,)","v":0},{"$f":"IF($C67=1,'IN_Definition Index'!$F$19*NR_Reihen_Veränderungsraten!O12,)","v":0},{"$f":"IF($C67=1,'IN_Definition Index'!$F$19*NR_Reihen_Veränderungsraten!P12,)","v":0},{"$f":"IF($C67=1,'IN_Definition Index'!$F$19*NR_Reihen_Veränderungsraten!Q12,)","v":0},{"$f":"IF($C67=1,'IN_Definition Index'!$F$19*NR_Reihen_Veränderungsraten!R12,)","v":0},{"$f":"IF($C67=1,'IN_Definition Index'!$F$19*NR_Reihen_Veränderungsraten!S12,)","v":0},{"$f":"IF($C67=1,'IN_Definition Index'!$F$19*NR_Reihen_Veränderungsraten!T12,)","v":0},{"$f":"IF($C67=1,'IN_Definition Index'!$F$19*NR_Reihen_Veränderungsraten!U12,)","v":0},{"$f":"IF($C67=1,'IN_Definition Index'!$F$19*NR_Reihen_Veränderungsraten!V12,)","v":0},{"$f":"IF($C67=1,'IN_Definition Index'!$F$19*NR_Reihen_Veränderungsraten!W12,)","v":0},{"$f":"IF($C67=1,'IN_Definition Index'!$F$19*NR_Reihen_Veränderungsraten!X12,)","v":0},{"$f":"IF($C67=1,'IN_Definition Index'!$F$19*NR_Reihen_Veränderungsraten!Y12,)","v":0},{"$f":"IF($C67=1,'IN_Definition Index'!$F$19*NR_Reihen_Veränderungsraten!Z12,)","v":0},{"$f":"IF($C67=1,'IN_Definition Index'!$F$19*NR_Reihen_Veränderungsraten!AA12,)","v":0},{"$f":"IF($C67=1,'IN_Definition Index'!$F$19*NR_Reihen_Veränderungsraten!AB12,)","v":0},{"$f":"IF($C67=1,'IN_Definition Index'!$F$19*NR_Reihen_Veränderungsraten!AC12,)","v":0},{"$f":"IF($C67=1,'IN_Definition Index'!$F$19*NR_Reihen_Veränderungsraten!AD12,)","v":0},{"$f":"IF($C67=1,'IN_Definition Index'!$F$19*NR_Reihen_Veränderungsraten!AE12,)","v":0},{"$f":"IF($C67=1,'IN_Definition Index'!$F$19*NR_Reihen_Veränderungsraten!AF12,)","v":0}]
["M74-01","Freiberufl.,wiss.,techn.DL a.n.g., Veterinärwesen",{"$f":"'IN_Definition Index'!F16","v":0},{"$f":"IF($C68=1,'IN_Definition Index'!$F$19*NR_Reihen_Veränderungsraten!D13,)","v":0},{"$f":"IF($C68=1,'IN_Definition Index'!$F$19*NR_Reihen_Veränderungsraten!E13,)","v":0},{"$f":"IF($C68=1,'IN_Definition Index'!$F$19*NR_Reihen_Veränderungsraten!F13,)","v":0},{"$f":"IF($C68=1,'IN_Definition Index'!$F$19*NR_Reihen_Veränderungsraten!G13,)","v":0},{"$f":"IF($C68=1,'IN_Definition Index'!$F$19*NR_Reihen_Veränderungsraten!H13,)","v":0},{"$f":"IF($C68=1,'IN_Definition Index'!$F$19*NR_Reihen_Veränderungsraten!I13,)","v":0},{"$f":"IF($C68=1,'IN_Definition Index'!$F$19*NR_Reihen_Veränderungsraten!J13,)","v":0},{"$f":"IF($C68=1,'IN_Definition Index'!$F$19*NR_Reihen_Veränderungsraten!K13,)","v":0},{"$f":"IF($C68=1,'IN_Definition Index'!$F$19*NR_Reihen_Veränderungsraten!L13,)","v":0},{"$f":"IF($C68=1,'IN_Definition Index'!$F$19*NR_Reihen_Veränderungsraten!M13,)","v":0},{"$f":"IF($C68=1,'IN_Definition Index'!$F$19*NR_Reihen_Veränderungsraten!N13,)","v":0},{"$f":"IF($C68=1,'IN_Definition Index'!$F$19*NR_Reihen_Veränderungsraten!O13,)","v":0},{"$f":"IF($C68=1,'IN_Definition Index'!$F$19*NR_Reihen_Veränderungsraten!P13,)","v":0},{"$f":"IF($C68=1,'IN_Definition Index'!$F$19*NR_Reihen_Veränderungsraten!Q13,)","v":0},{"$f":"IF($C68=1,'IN_Definition Index'!$F$19*NR_Reihen_Veränderungsraten!R13,)","v":0},{"$f":"IF($C68=1,'IN_Definition Index'!$F$19*NR_Reihen_Veränderungsraten!S13,)","v":0},{"$f":"IF($C68=1,'IN_Definition Index'!$F$19*NR_Reihen_Veränderungsraten!T13,)","v":0},{"$f":"IF($C68=1,'IN_Definition Index'!$F$19*NR_Reihen_Veränderungsraten!U13,)","v":0},{"$f":"IF($C68=1,'IN_Definition Index'!$F$19*NR_Reihen_Veränderungsraten!V13,)","v":0},{"$f":"IF($C68=1,'IN_Definition Index'!$F$19*NR_Reihen_Veränderungsraten!W13,)","v":0},{"$f":"IF($C68=1,'IN_Definition Index'!$F$19*NR_Reihen_Veränderungsraten!X13,)","v":0},{"$f":"IF($C68=1,'IN_Definition Index'!$F$19*NR_Reihen_Veränderungsraten!Y13,)","v":0},{"$f":"IF($C68=1,'IN_Definition Index'!$F$19*NR_Reihen_Veränderungsraten!Z13,)","v":0},{"$f":"IF($C68=1,'IN_Definition Index'!$F$19*NR_Reihen_Veränderungsraten!AA13,)","v":0},{"$f":"IF($C68=1,'IN_Definition Index'!$F$19*NR_Reihen_Veränderungsraten!AB13,)","v":0},{"$f":"IF($C68=1,'IN_Definition Index'!$F$19*NR_Reihen_Veränderungsraten!AC13,)","v":0},{"$f":"IF($C68=1,'IN_Definition Index'!$F$19*NR_Reihen_Veränderungsraten!AD13,)","v":0},{"$f":"IF($C68=1,'IN_Definition Index'!$F$19*NR_Reihen_Veränderungsraten!AE13,)","v":0},{"$f":"IF($C68=1,'IN_Definition Index'!$F$19*NR_Reihen_Veränderungsraten!AF13,)","v":0}]
["L","Grundstücks- und Wohnungswesen",{"$f":"'IN_Definition Index'!F17","v":0},{"$f":"IF($C69=1,'IN_Definition Index'!$F$19*NR_Reihen_Veränderungsraten!D14,)","v":0},{"$f":"IF($C69=1,'IN_Definition Index'!$F$19*NR_Reihen_Veränderungsraten!E14,)","v":0},{"$f":"IF($C69=1,'IN_Definition Index'!$F$19*NR_Reihen_Veränderungsraten!F14,)","v":0},{"$f":"IF($C69=1,'IN_Definition Index'!$F$19*NR_Reihen_Veränderungsraten!G14,)","v":0},{"$f":"IF($C69=1,'IN_Definition Index'!$F$19*NR_Reihen_Veränderungsraten!H14,)","v":0},{"$f":"IF($C69=1,'IN_Definition Index'!$F$19*NR_Reihen_Veränderungsraten!I14,)","v":0},{"$f":"IF($C69=1,'IN_Definition Index'!$F$19*NR_Reihen_Veränderungsraten!J14,)","v":0},{"$f":"IF($C69=1,'IN_Definition Index'!$F$19*NR_Reihen_Veränderungsraten!K14,)","v":0},{"$f":"IF($C69=1,'IN_Definition Index'!$F$19*NR_Reihen_Veränderungsraten!L14,)","v":0},{"$f":"IF($C69=1,'IN_Definition Index'!$F$19*NR_Reihen_Veränderungsraten!M14,)","v":0},{"$f":"IF($C69=1,'IN_Definition Index'!$F$19*NR_Reihen_Veränderungsraten!N14,)","v":0},{"$f":"IF($C69=1,'IN_Definition Index'!$F$19*NR_Reihen_Veränderungsraten!O14,)","v":0},{"$f":"IF($C69=1,'IN_Definition Index'!$F$19*NR_Reihen_Veränderungsraten!P14,)","v":0},{"$f":"IF($C69=1,'IN_Definition Index'!$F$19*NR_Reihen_Veränderungsraten!Q14,)","v":0},{"$f":"IF($C69=1,'IN_Definition Index'!$F$19*NR_Reihen_Veränderungsraten!R14,)","v":0},{"$f":"IF($C69=1,'IN_Definition Index'!$F$19*NR_Reihen_Veränderungsraten!S14,)","v":0},{"$f":"IF($C69=1,'IN_Definition Index'!$F$19*NR_Reihen_Veränderungsraten!T14,)","v":0},{"$f":"IF($C69=1,'IN_Definition Index'!$F$19*NR_Reihen_Veränderungsraten!U14,)","v":0},{"$f":"IF($C69=1,'IN_Definition Index'!$F$19*NR_Reihen_Veränderungsraten!V14,)","v":0},{"$f":"IF($C69=1,'IN_Definition Index'!$F$19*NR_Reihen_Veränderungsraten!W14,)","v":0},{"$f":"IF($C69=1,'IN_Definition Index'!$F$19*NR_Reihen_Veränderungsraten!X14,)","v":0},{"$f":"IF($C69=1,'IN_Definition Index'!$F$19*NR_Reihen_Veränderungsraten!Y14,)","v":0},{"$f":"IF($C69=1,'IN_Definition Index'!$F$19*NR_Reihen_Veränderungsraten!Z14,)","v":0},{"$f":"IF($C69=1,'IN_Definition Index'!$F$19*NR_Reihen_Veränderungsraten!AA14,)","v":0},{"$f":"IF($C69=1,'IN_Definition Index'!$F$19*NR_Reihen_Veränderungsraten!AB14,)","v":0},{"$f":"IF($C69=1,'IN_Definition Index'!$F$19*NR_Reihen_Veränderungsraten!AC14,)","v":0},{"$f":"IF($C69=1,'IN_Definition Index'!$F$19*NR_Reihen_Veränderungsraten!AD14,)","v":0},{"$f":"IF($C69=1,'IN_Definition Index'!$F$19*NR_Reihen_Veränderungsraten!AE14,)","v":0},{"$f":"IF($C69=1,'IN_Definition Index'!$F$19*NR_Reihen_Veränderungsraten!AF14,)","v":0}]
[null,"Summe",null,{"$f":"SUM(D59:D69)","v":1.0289759029647243},{"$f":"SUM(E59:E69)","v":0.99364974754880464},{"$f":"SUM(F59:F69)","v":1.0805308550484791},{"$f":"SUM(G59:G69)","v":1.0083779175036138},{"$f":"SUM(H59:H69)","v":1.0275453730379245},{"$f":"SUM(I59:I69)","v":1.1051504542609583},{"$f":"SUM(J59:J69)","v":1.0362874649567546},{"$f":"SUM(K59:K69)","v":0.9293647896367937},{"$f":"SUM(L59:L69)","v":1.0474521055071269},{"$f":"SUM(M59:M69)","v":1.0529415878536244},{"$f":"SUM(N59:N69)","v":1.071844915651432},{"$f":"SUM(O59:O69)","v":1.0559926878790695},{"$f":"SUM(P59:P69)","v":1.1123361762778186},{"$f":"SUM(Q59:Q69)","v":1.0974322155752594},{"$f":"SUM(R59:R69)","v":1.0397093012241148},{"$f":"SUM(S59:S69)","v":1.0309736038322783},{"$f":"SUM(T59:T69)","v":0.91344787159900664},{"$f":"SUM(U59:U69)","v":0.87800761697484153},{"$f":"SUM(V59:V69)","v":1.0378051643294786},{"$f":"SUM(W59:W69)","v":1.0026831939257848},{"$f":"SUM(X59:X69)","v":0.98475466791245914},{"$f":"SUM(Y59:Y69)","v":0.98569477690110596},{"$f":"SUM(Z59:Z69)","v":1.0031954148101472},{"$f":"SUM(AA59:AA69)","v":0.99779911849840897},{"$f":"SUM(AB59:AB69)","v":0.98132334830890466},{"$f":"SUM(AC59:AC69)","v":0.969487873452477},0.99179509103491603,{"$error":"#VALUE!"},{"$error":"#VALUE!"}]
[]
["Transport"]
[]
["Nr. (WZ 2008)","Branche","Verwendung",1992,{"$f":"D74+1","v":1993},{"$f":"E74+1","v":1994},{"$f":"F74+1","v":1995},{"$f":"G74+1","v":1996},{"$f":"H74+1","v":1997},{"$f":"I74+1","v":1998},{"$f":"J74+1","v":1999},{"$f":"K74+1","v":2000},{"$f":"L74+1","v":2001},{"$f":"M74+1","v":2002},{"$f":"N74+1","v":2003},{"$f":"O74+1","v":2004},{"$f":"P74+1","v":2005},{"$f":"Q74+1","v":2006},{"$f":"R74+1","v":2007},{"$f":"S74+1","v":2008},{"$f":"T74+1","v":2009},{"$f":"U74+1","v":2010},{"$f":"V74+1","v":2011},{"$f":"W74+1","v":2012},{"$f":"X74+1","v":2013},{"$f":"Y74+1","v":2014},{"$f":"Z74+1","v":2015},{"$f":"AA74+1","v":2016},{"$f":"AB74+1","v":2017},{"$f":"AC74+1","v":2018},{"$f":"AD74+1","v":2019},{"$f":"AE74+1","v":2020}]
["C33","Reparatur und Installation von Maschinen und Ausrüstungen",{"$f":"'IN_Definition Index'!G7","v":0},{"$f":"IF($C75=1,'IN_Definition Index'!$G$19*NR_Reihen_Veränderungsraten!D4,)","v":0},{"$f":"IF($C75=1,'IN_Definition Index'!$G$19*NR_Reihen_Veränderungsraten!E4,)","v":0},{"$f":"IF($C75=1,'IN_Definition Index'!$G$19*NR_Reihen_Veränderungsraten!F4,)","v":0},{"$f":"IF($C75=1,'IN_Definition Index'!$G$19*NR_Reihen_Veränderungsraten!G4,)","v":0},{"$f":"IF($C75=1,'IN_Definition Index'!$G$19*NR_Reihen_Veränderungsraten!H4,)","v":0},{"$f":"IF($C75=1,'IN_Definition Index'!$G$19*NR_Reihen_Veränderungsraten!I4,)","v":0},{"$f":"IF($C75=1,'IN_Definition Index'!$G$19*NR_Reihen_Veränderungsraten!J4,)","v":0},{"$f":"IF($C75=1,'IN_Definition Index'!$G$19*NR_Reihen_Veränderungsraten!K4,)","v":0},{"$f":"IF($C75=1,'IN_Definition Index'!$G$19*NR_Reihen_Veränderungsraten!L4,)","v":0},{"$f":"IF($C75=1,'IN_Definition Index'!$G$19*NR_Reihen_Veränderungsraten!M4,)","v":0},{"$f":"IF($C75=1,'IN_Definition Index'!$G$19*NR_Reihen_Veränderungsraten!N4,)","v":0},{"$f":"IF($C75=1,'IN_Definition Index'!$G$19*NR_Reihen_Veränderungsraten!O4,)","v":0},{"$f":"IF($C75=1,'IN_Definition Index'!$G$19*NR_Reihen_Veränderungsraten!P4,)","v":0},{"$f":"IF($C75=1,'IN_Definition Index'!$G$19*NR_Reihen_Veränderungsraten!Q4,)","v":0},{"$f":"IF($C75=1,'IN_Definition Index'!$G$19*NR_Reihen_Veränderungsraten!R4,)","v":0},{"$f":"IF($C75=1,'IN_Definition Index'!$G$19*NR_Reihen_Veränderungsraten!S4,)","v":0},{"$f":"IF($C75=1,'IN_Definition Index'!$G$19*NR_Reihen_Veränderungsraten!T4,)","v":0},{"$f":"IF($C75=1,'IN_Definition Index'!$G$19*NR_Reihen_Veränderungsraten!U4,)","v":0},{"$f":"IF($C75=1,'IN_Definition Index'!$G$19*NR_Reihen_Veränderungsraten!V4,)","v":0},{"$f":"IF($C75=1,'IN_Definition Index'!$G$19*NR_Reihen_Veränderungsraten!W4,)","v":0},{"$f":"IF($C75=1,'IN_Definition Index'!$G$19*NR_Reihen_Veränderungsraten!X4,)","v":0},{"$f":"IF($C75=1,'IN_Definition Index'!$G$19*NR_Reihen_Veränderungsraten!Y4,)","v":0},{"$f":"IF($C75=1,'IN_Definition Index'!$G$19*NR_Reihen_Veränderungsraten!Z4,)","v":0},{"$f":"IF($C75=1,'IN_Definition Index'!$G$19*NR_Reihen_Veränderungsraten!AA4,)","v":0},{"$f":"IF($C75=1,'IN_Definition Index'!$G$19*NR_Reihen_Veränderungsraten!AB4,)","v":0},{"$f":"IF($C75=1,'IN_Definition Index'!$G$19*NR_Reihen_Veränderungsraten!AC4,)","v":0},{"$f":"IF($C75=1,'IN_Definition Index'!$G$19*NR_Reihen_Veränderungsraten!AD4,)","v":0},{"$f":"IF($C75=1,'IN_Definition Index'!$G$19*NR_Reihen_Veränderungsraten!AE4,)","v":0},{"$f":"IF($C75=1,'IN_Definition Index'!$G$19*NR_Reihen_Veränderungsraten!AF4,)","v":0}]
["G45","Handel mit Kraftfahrzeugen; Instandhaltung und Reparatur von Kraftfahrzeugen",{"$f":"'IN_Definition Index'!G8","v":0},{"$f":"IF($C76=1,'IN_Definition Index'!$G$19*NR_Reihen_Veränderungsraten!D5,)","v":0},{"$f":"IF($C76=1,'IN_Definition Index'!$G$19*NR_Reihen_Veränderungsraten!E5,)","v":0},{"$f":"IF($C76=1,'IN_Definition Index'!$G$19*NR_Reihen_Veränderungsraten!F5,)","v":0},{"$f":"IF($C76=1,'IN_Definition Index'!$G$19*NR_Reihen_Veränderungsraten!G5,)","v":0},{"$f":"IF($C76=1,'IN_Definition Index'!$G$19*NR_Reihen_Veränderungsraten!H5,)","v":0},{"$f":"IF($C76=1,'IN_Definition Index'!$G$19*NR_Reihen_Veränderungsraten!I5,)","v":0},{"$f":"IF($C76=1,'IN_Definition Index'!$G$19*NR_Reihen_Veränderungsraten!J5,)","v":0},{"$f":"IF($C76=1,'IN_Definition Index'!$G$19*NR_Reihen_Veränderungsraten!K5,)","v":0},{"$f":"IF($C76=1,'IN_Definition Index'!$G$19*NR_Reihen_Veränderungsraten!L5,)","v":0},{"$f":"IF($C76=1,'IN_Definition Index'!$G$19*NR_Reihen_Veränderungsraten!M5,)","v":0},{"$f":"IF($C76=1,'IN_Definition Index'!$G$19*NR_Reihen_Veränderungsraten!N5,)","v":0},{"$f":"IF($C76=1,'IN_Definition Index'!$G$19*NR_Reihen_Veränderungsraten!O5,)","v":0},{"$f":"IF($C76=1,'IN_Definition Index'!$G$19*NR_Reihen_Veränderungsraten!P5,)","v":0},{"$f":"IF($C76=1,'IN_Definition Index'!$G$19*NR_Reihen_Veränderungsraten!Q5,)","v":0},{"$f":"IF($C76=1,'IN_Definition Index'!$G$19*NR_Reihen_Veränderungsraten!R5,)","v":0},{"$f":"IF($C76=1,'IN_Definition Index'!$G$19*NR_Reihen_Veränderungsraten!S5,)","v":0},{"$f":"IF($C76=1,'IN_Definition Index'!$G$19*NR_Reihen_Veränderungsraten!T5,)","v":0},{"$f":"IF($C76=1,'IN_Definition Index'!$G$19*NR_Reihen_Veränderungsraten!U5,)","v":0},{"$f":"IF($C76=1,'IN_Definition Index'!$G$19*NR_Reihen_Veränderungsraten!V5,)","v":0},{"$f":"IF($C76=1,'IN_Definition Index'!$G$19*NR_Reihen_Veränderungsraten!W5,)","v":0},{"$f":"IF($C76=1,'IN_Definition Index'!$G$19*NR_Reihen_Veränderungsraten!X5,)","v":0},{"$f":"IF($C76=1,'IN_Definition Index'!$G$19*NR_Reihen_Veränderungsraten!Y5,)","v":0},{"$f":"IF($C76=1,'IN_Definition Index'!$G$19*NR_Reihen_Veränderungsraten!Z5,)","v":0},{"$f":"IF($C76=1,'IN_Definition Index'!$G$19*NR_Reihen_Veränderungsraten!AA5,)","v":0},{"$f":"IF($C76=1,'IN_Definition Index'!$G$19*NR_Reihen_Veränderungsraten!AB5,)","v":0},{"$f":"IF($C76=1,'IN_Definition Index'!$G$19*NR_Reihen_Veränderungsraten!AC5,)","v":0},{"$f":"IF($C76=1,'IN_Definition Index'!$G$19*NR_Reihen_Veränderungsraten!AD5,)","v":0},{"$f":"IF($C76=1,'IN_Definition Index'!$G$19*NR_Reihen_Veränderungsraten!AE5,)","v":0},{"$f":"IF($C76=1,'IN_Definition Index'!$G$19*NR_Reihen_Veränderungsraten!AF5,)","v":0}]
["G47","Einzelhandel (ohne Handel mit Kraftfahrzeugen)",{"$f":"'IN_Definition Index'!G9","v":0},{"$f":"IF($C77=1,'IN_Definition Index'!$G$19*NR_Reihen_Veränderungsraten!D6,)","v":0},{"$f":"IF($C77=1,'IN_Definition Index'!$G$19*NR_Reihen_Veränderungsraten!E6,)","v":0},{"$f":"IF($C77=1,'IN_Definition Index'!$G$19*NR_Reihen_Veränderungsraten!F6,)","v":0},{"$f":"IF($C77=1,'IN_Definition Index'!$G$19*NR_Reihen_Veränderungsraten!G6,)","v":0},{"$f":"IF($C77=1,'IN_Definition Index'!$G$19*NR_Reihen_Veränderungsraten!H6,)","v":0},{"$f":"IF($C77=1,'IN_Definition Index'!$G$19*NR_Reihen_Veränderungsraten!I6,)","v":0},{"$f":"IF($C77=1,'IN_Definition Index'!$G$19*NR_Reihen_Veränderungsraten!J6,)","v":0},{"$f":"IF($C77=1,'IN_Definition Index'!$G$19*NR_Reihen_Veränderungsraten!K6,)","v":0},{"$f":"IF($C77=1,'IN_Definition Index'!$G$19*NR_Reihen_Veränderungsraten!L6,)","v":0},{"$f":"IF($C77=1,'IN_Definition Index'!$G$19*NR_Reihen_Veränderungsraten!M6,)","v":0},{"$f":"IF($C77=1,'IN_Definition Index'!$G$19*NR_Reihen_Veränderungsraten!N6,)","v":0},{"$f":"IF($C77=1,'IN_Definition Index'!$G$19*NR_Reihen_Veränderungsraten!O6,)","v":0},{"$f":"IF($C77=1,'IN_Definition Index'!$G$19*NR_Reihen_Veränderungsraten!P6,)","v":0},{"$f":"IF($C77=1,'IN_Definition Index'!$G$19*NR_Reihen_Veränderungsraten!Q6,)","v":0},{"$f":"IF($C77=1,'IN_Definition Index'!$G$19*NR_Reihen_Veränderungsraten!R6,)","v":0},{"$f":"IF($C77=1,'IN_Definition Index'!$G$19*NR_Reihen_Veränderungsraten!S6,)","v":0},{"$f":"IF($C77=1,'IN_Definition Index'!$G$19*NR_Reihen_Veränderungsraten!T6,)","v":0},{"$f":"IF($C77=1,'IN_Definition Index'!$G$19*NR_Reihen_Veränderungsraten!U6,)","v":0},{"$f":"IF($C77=1,'IN_Definition Index'!$G$19*NR_Reihen_Veränderungsraten!V6,)","v":0},{"$f":"IF($C77=1,'IN_Definition Index'!$G$19*NR_Reihen_Veränderungsraten!W6,)","v":0},{"$f":"IF($C77=1,'IN_Definition Index'!$G$19*NR_Reihen_Veränderungsraten!X6,)","v":0},{"$f":"IF($C77=1,'IN_Definition Index'!$G$19*NR_Reihen_Veränderungsraten!Y6,)","v":0},{"$f":"IF($C77=1,'IN_Definition Index'!$G$19*NR_Reihen_Veränderungsraten!Z6,)","v":0},{"$f":"IF($C77=1,'IN_Definition Index'!$G$19*NR_Reihen_Veränderungsraten!AA6,)","v":0},{"$f":"IF($C77=1,'IN_Definition Index'!$G$19*NR_Reihen_Veränderungsraten!AB6,)","v":0},{"$f":"IF($C77=1,'IN_Definition Index'!$G$19*NR_Reihen_Veränderungsraten!AC6,)","v":0},{"$f":"IF($C77=1,'IN_Definition Index'!$G$19*NR_Reihen_Veränderungsraten!AD6,)","v":0},{"$f":"IF($C77=1,'IN_Definition Index'!$G$19*NR_Reihen_Veränderungsraten!AE6,)","v":0},{"$f":"IF($C77=1,'IN_Definition Index'!$G$19*NR_Reihen_Veränderungsraten!AF6,)","v":0}]
["H49","Landverkehr und Transport in Rohrfernleitungen",{"$f":"'IN_Definition Index'!G10","v":1},{"$f":"IF($C78=1,'IN_Definition Index'!$G$19*NR_Reihen_Veränderungsraten!D7,)","v":0.95058086436505973},{"$f":"IF($C78=1,'IN_Definition Index'!$G$19*NR_Reihen_Veränderungsraten!E7,)","v":1.0106445750728938},{"$f":"IF($C78=1,'IN_Definition Index'!$G$19*NR_Reihen_Veränderungsraten!F7,)","v":1.060184634807926},{"$f":"IF($C78=1,'IN_Definition Index'!$G$19*NR_Reihen_Veränderungsraten!G7,)","v":1.1447621409931397},{"$f":"IF($C78=1,'IN_Definition Index'!$G$19*NR_Reihen_Veränderungsraten!H7,)","v":1.0701748653086618},{"$f":"IF($C78=1,'IN_Definition Index'!$G$19*NR_Reihen_Veränderungsraten!I7,)","v":0.9755213401404873},{"$f":"IF($C78=1,'IN_Definition Index'!$G$19*NR_Reihen_Veränderungsraten!J7,)","v":0.9810762562884745},{"$f":"IF($C78=1,'IN_Definition Index'!$G$19*NR_Reihen_Veränderungsraten!K7,)","v":1.2500744747474395},{"$f":"IF($C78=1,'IN_Definition Index'!$G$19*NR_Reihen_Veränderungsraten!L7,)","v":0.94200842690465447},{"$f":"IF($C78=1,'IN_Definition Index'!$G$19*NR_Reihen_Veränderungsraten!M7,)","v":0.98079896969300617},{"$f":"IF($C78=1,'IN_Definition Index'!$G$19*NR_Reihen_Veränderungsraten!N7,)","v":0.97576717940538205},{"$f":"IF($C78=1,'IN_Definition Index'!$G$19*NR_Reihen_Veränderungsraten!O7,)","v":0.95203747078219803},{"$f":"IF($C78=1,'IN_Definition Index'!$G$19*NR_Reihen_Veränderungsraten!P7,)","v":0.9980824823781107},{"$f":"IF($C78=1,'IN_Definition Index'!$G$19*NR_Reihen_Veränderungsraten!Q7,)","v":1.0518078564468138},{"$f":"IF($C78=1,'IN_Definition Index'!$G$19*NR_Reihen_Veränderungsraten!R7,)","v":1.0902035650971735},{"$f":"IF($C78=1,'IN_Definition Index'!$G$19*NR_Reihen_Veränderungsraten!S7,)","v":1.0089513129025895},{"$f":"IF($C78=1,'IN_Definition Index'!$G$19*NR_Reihen_Veränderungsraten!T7,)","v":1.0149554505898526},{"$f":"IF($C78=1,'IN_Definition Index'!$G$19*NR_Reihen_Veränderungsraten!U7,)","v":0.91825367775211553},{"$f":"IF($C78=1,'IN_Definition Index'!$G$19*NR_Reihen_Veränderungsraten!V7,)","v":1.0161345835914399},{"$f":"IF($C78=1,'IN_Definition Index'!$G$19*NR_Reihen_Veränderungsraten!W7,)","v":1.0446497373950967},{"$f":"IF($C78=1,'IN_Definition Index'!$G$19*NR_Reihen_Veränderungsraten!X7,)","v":1.0067325736791031},{"$f":"IF($C78=1,'IN_Definition Index'!$G$19*NR_Reihen_Veränderungsraten!Y7,)","v":0.99315067750693653},{"$f":"IF($C78=1,'IN_Definition Index'!$G$19*NR_Reihen_Veränderungsraten!Z7,)","v":1.0193485307187398},{"$f":"IF($C78=1,'IN_Definition Index'!$G$19*NR_Reihen_Veränderungsraten!AA7,)","v":0.9642419893262455},{"$f":"IF($C78=1,'IN_Definition Index'!$G$19*NR_Reihen_Veränderungsraten!AB7,)","v":0.9716753306438275},{"$f":"IF($C78=1,'IN_Definition Index'!$G$19*NR_Reihen_Veränderungsraten!AC7,)","v":1.0174094603520365},{"$f":"IF($C78=1,'IN_Definition Index'!$G$19*NR_Reihen_Veränderungsraten!AD7,)","v":1.0206667089242778},{"$f":"IF($C78=1,'IN_Definition Index'!$G$19*NR_Reihen_Veränderungsraten!AE7,)","v":{"$error":"#VALUE!"}},{"$f":"IF($C78=1,'IN_Definition Index'!$G$19*NR_Reihen_Veränderungsraten!AF7,)","v":{"$error":"#VALUE!"}}]
["H52","Lagerei sowie Erbringung von sonstigen Dienstleistungen für den Verkehr",{"$f":"'IN_Definition Index'!G11","v":0},{"$f":"IF($C79=1,'IN_Definition Index'!$G$19*NR_Reihen_Veränderungsraten!D8,)","v":0},{"$f":"IF($C79=1,'IN_Definition Index'!$G$19*NR_Reihen_Veränderungsraten!E8,)","v":0},{"$f":"IF($C79=1,'IN_Definition Index'!$G$19*NR_Reihen_Veränderungsraten!F8,)","v":0},{"$f":"IF($C79=1,'IN_Definition Index'!$G$19*NR_Reihen_Veränderungsraten!G8,)","v":0},{"$f":"IF($C79=1,'IN_Definition Index'!$G$19*NR_Reihen_Veränderungsraten!H8,)","v":0},{"$f":"IF($C79=1,'IN_Definition Index'!$G$19*NR_Reihen_Veränderungsraten!I8,)","v":0},{"$f":"IF($C79=1,'IN_Definition Index'!$G$19*NR_Reihen_Veränderungsraten!J8,)","v":0},{"$f":"IF($C79=1,'IN_Definition Index'!$G$19*NR_Reihen_Veränderungsraten!K8,)","v":0},{"$f":"IF($C79=1,'IN_Definition Index'!$G$19*NR_Reihen_Veränderungsraten!L8,)","v":0},{"$f":"IF($C79=1,'IN_Definition Index'!$G$19*NR_Reihen_Veränderungsraten!M8,)","v":0},{"$f":"IF($C79=1,'IN_Definition Index'!$G$19*NR_Reihen_Veränderungsraten!N8,)","v":0},{"$f":"IF($C79=1,'IN_Definition Index'!$G$19*NR_Reihen_Veränderungsraten!O8,)","v":0},{"$f":"IF($C79=1,'IN_Definition Index'!$G$19*NR_Reihen_Veränderungsraten!P8,)","v":0},{"$f":"IF($C79=1,'IN_Definition Index'!$G$19*NR_Reihen_Veränderungsraten!Q8,)","v":0},{"$f":"IF($C79=1,'IN_Definition Index'!$G$19*NR_Reihen_Veränderungsraten!R8,)","v":0},{"$f":"IF($C79=1,'IN_Definition Index'!$G$19*NR_Reihen_Veränderungsraten!S8,)","v":0},{"$f":"IF($C79=1,'IN_Definition Index'!$G$19*NR_Reihen_Veränderungsraten!T8,)","v":0},{"$f":"IF($C79=1,'IN_Definition Index'!$G$19*NR_Reihen_Veränderungsraten!U8,)","v":0},{"$f":"IF($C79=1,'IN_Definition Index'!$G$19*NR_Reihen_Veränderungsraten!V8,)","v":0},{"$f":"IF($C79=1,'IN_Definition Index'!$G$19*NR_Reihen_Veränderungsraten!W8,)","v":0},{"$f":"IF($C79=1,'IN_Definition Index'!$G$19*NR_Reihen_Veränderungsraten!X8,)","v":0},{"$f":"IF($C79=1,'IN_Definition Index'!$G$19*NR_Reihen_Veränderungsraten!Y8,)","v":0},{"$f":"IF($C79=1,'IN_Definition Index'!$G$19*NR_Reihen_Veränderungsraten!Z8,)","v":0},{"$f":"IF($C79=1,'IN_Definition Index'!$G$19*NR_Reihen_Veränderungsraten!AA8,)","v":0},{"$f":"IF($C79=1,'IN_Definition Index'!$G$19*NR_Reihen_Veränderungsraten!AB8,)","v":0},{"$f":"IF($C79=1,'IN_Definition Index'!$G$19*NR_Reihen_Veränderungsraten!AC8,)","v":0},{"$f":"IF($C79=1,'IN_Definition Index'!$G$19*NR_Reihen_Veränderungsraten!AD8,)","v":0},{"$f":"IF($C79=1,'IN_Definition Index'!$G$19*NR_Reihen_Veränderungsraten!AE8,)","v":0},{"$f":"IF($C79=1,'IN_Definition Index'!$G$19*NR_Reihen_Veränderungsraten!AF8,)","v":0}]
["J61","Telekommunikation",{"$f":"'IN_Definition Index'!G12","v":0},{"$f":"IF($C80=1,'IN_Definition Index'!$G$19*NR_Reihen_Veränderungsraten!D9,)","v":0},{"$f":"IF($C80=1,'IN_Definition Index'!$G$19*NR_Reihen_Veränderungsraten!E9,)","v":0},{"$f":"IF($C80=1,'IN_Definition Index'!$G$19*NR_Reihen_Veränderungsraten!F9,)","v":0},{"$f":"IF($C80=1,'IN_Definition Index'!$G$19*NR_Reihen_Veränderungsraten!G9,)","v":0},{"$f":"IF($C80=1,'IN_Definition Index'!$G$19*NR_Reihen_Veränderungsraten!H9,)","v":0},{"$f":"IF($C80=1,'IN_Definition Index'!$G$19*NR_Reihen_Veränderungsraten!I9,)","v":0},{"$f":"IF($C80=1,'IN_Definition Index'!$G$19*NR_Reihen_Veränderungsraten!J9,)","v":0},{"$f":"IF($C80=1,'IN_Definition Index'!$G$19*NR_Reihen_Veränderungsraten!K9,)","v":0},{"$f":"IF($C80=1,'IN_Definition Index'!$G$19*NR_Reihen_Veränderungsraten!L9,)","v":0},{"$f":"IF($C80=1,'IN_Definition Index'!$G$19*NR_Reihen_Veränderungsraten!M9,)","v":0},{"$f":"IF($C80=1,'IN_Definition Index'!$G$19*NR_Reihen_Veränderungsraten!N9,)","v":0},{"$f":"IF($C80=1,'IN_Definition Index'!$G$19*NR_Reihen_Veränderungsraten!O9,)","v":0},{"$f":"IF($C80=1,'IN_Definition Index'!$G$19*NR_Reihen_Veränderungsraten!P9,)","v":0},{"$f":"IF($C80=1,'IN_Definition Index'!$G$19*NR_Reihen_Veränderungsraten!Q9,)","v":0},{"$f":"IF($C80=1,'IN_Definition Index'!$G$19*NR_Reihen_Veränderungsraten!R9,)","v":0},{"$f":"IF($C80=1,'IN_Definition Index'!$G$19*NR_Reihen_Veränderungsraten!S9,)","v":0},{"$f":"IF($C80=1,'IN_Definition Index'!$G$19*NR_Reihen_Veränderungsraten!T9,)","v":0},{"$f":"IF($C80=1,'IN_Definition Index'!$G$19*NR_Reihen_Veränderungsraten!U9,)","v":0},{"$f":"IF($C80=1,'IN_Definition Index'!$G$19*NR_Reihen_Veränderungsraten!V9,)","v":0},{"$f":"IF($C80=1,'IN_Definition Index'!$G$19*NR_Reihen_Veränderungsraten!W9,)","v":0},{"$f":"IF($C80=1,'IN_Definition Index'!$G$19*NR_Reihen_Veränderungsraten!X9,)","v":0},{"$f":"IF($C80=1,'IN_Definition Index'!$G$19*NR_Reihen_Veränderungsraten!Y9,)","v":0},{"$f":"IF($C80=1,'IN_Definition Index'!$G$19*NR_Reihen_Veränderungsraten!Z9,)","v":0},{"$f":"IF($C80=1,'IN_Definition Index'!$G$19*NR_Reihen_Veränderungsraten!AA9,)","v":0},{"$f":"IF($C80=1,'IN_Definition Index'!$G$19*NR_Reihen_Veränderungsraten!AB9,)","v":0},{"$f":"IF($C80=1,'IN_Definition Index'!$G$19*NR_Reihen_Veränderungsraten!AC9,)","v":0},{"$f":"IF($C80=1,'IN_Definition Index'!$G$19*NR_Reihen_Veränderungsraten!AD9,)","v":0},{"$f":"IF($C80=1,'IN_Definition Index'!$G$19*NR_Reihen_Veränderungsraten!AE9,)","v":0},{"$f":"IF($C80=1,'IN_Definition Index'!$G$19*NR_Reihen_Veränderungsraten!AF9,)","v":0}]
["J62-01","IT- und Informationsdienstleister",{"$f":"'IN_Definition Index'!G13","v":0},{"$f":"IF($C81=1,'IN_Definition Index'!$G$19*NR_Reihen_Veränderungsraten!D10,)","v":0},{"$f":"IF($C81=1,'IN_Definition Index'!$G$19*NR_Reihen_Veränderungsraten!E10,)","v":0},{"$f":"IF($C81=1,'IN_Definition Index'!$G$19*NR_Reihen_Veränderungsraten!F10,)","v":0},{"$f":"IF($C81=1,'IN_Definition Index'!$G$19*NR_Reihen_Veränderungsraten!G10,)","v":0},{"$f":"IF($C81=1,'IN_Definition Index'!$G$19*NR_Reihen_Veränderungsraten!H10,)","v":0},{"$f":"IF($C81=1,'IN_Definition Index'!$G$19*NR_Reihen_Veränderungsraten!I10,)","v":0},{"$f":"IF($C81=1,'IN_Definition Index'!$G$19*NR_Reihen_Veränderungsraten!J10,)","v":0},{"$f":"IF($C81=1,'IN_Definition Index'!$G$19*NR_Reihen_Veränderungsraten!K10,)","v":0},{"$f":"IF($C81=1,'IN_Definition Index'!$G$19*NR_Reihen_Veränderungsraten!L10,)","v":0},{"$f":"IF($C81=1,'IN_Definition Index'!$G$19*NR_Reihen_Veränderungsraten!M10,)","v":0},{"$f":"IF($C81=1,'IN_Definition Index'!$G$19*NR_Reihen_Veränderungsraten!N10,)","v":0},{"$f":"IF($C81=1,'IN_Definition Index'!$G$19*NR_Reihen_Veränderungsraten!O10,)","v":0},{"$f":"IF($C81=1,'IN_Definition Index'!$G$19*NR_Reihen_Veränderungsraten!P10,)","v":0},{"$f":"IF($C81=1,'IN_Definition Index'!$G$19*NR_Reihen_Veränderungsraten!Q10,)","v":0},{"$f":"IF($C81=1,'IN_Definition Index'!$G$19*NR_Reihen_Veränderungsraten!R10,)","v":0},{"$f":"IF($C81=1,'IN_Definition Index'!$G$19*NR_Reihen_Veränderungsraten!S10,)","v":0},{"$f":"IF($C81=1,'IN_Definition Index'!$G$19*NR_Reihen_Veränderungsraten!T10,)","v":0},{"$f":"IF($C81=1,'IN_Definition Index'!$G$19*NR_Reihen_Veränderungsraten!U10,)","v":0},{"$f":"IF($C81=1,'IN_Definition Index'!$G$19*NR_Reihen_Veränderungsraten!V10,)","v":0},{"$f":"IF($C81=1,'IN_Definition Index'!$G$19*NR_Reihen_Veränderungsraten!W10,)","v":0},{"$f":"IF($C81=1,'IN_Definition Index'!$G$19*NR_Reihen_Veränderungsraten!X10,)","v":0},{"$f":"IF($C81=1,'IN_Definition Index'!$G$19*NR_Reihen_Veränderungsraten!Y10,)","v":0},{"$f":"IF($C81=1,'IN_Definition Index'!$G$19*NR_Reihen_Veränderungsraten!Z10,)","v":0},{"$f":"IF($C81=1,'IN_Definition Index'!$G$19*NR_Reihen_Veränderungsraten!AA10,)","v":0},{"$f":"IF($C81=1,'IN_Definition Index'!$G$19*NR_Reihen_Veränderungsraten!AB10,)","v":0},{"$f":"IF($C81=1,'IN_Definition Index'!$G$19*NR_Reihen_Veränderungsraten!AC10,)","v":0},{"$f":"IF($C81=1,'IN_Definition Index'!$G$19*NR_Reihen_Veränderungsraten!AD10,)","v":0},{"$f":"IF($C81=1,'IN_Definition Index'!$G$19*NR_Reihen_Veränderungsraten!AE10,)","v":0},{"$f":"IF($C81=1,'IN_Definition Index'!$G$19*NR_Reihen_Veränderungsraten!AF10,)","v":0}]
["M69-01","Unternehmensnahe Beratungsleistungen ",{"$f":"'IN_Definition Index'!G14","v":0},{"$f":"IF($C82=1,'IN_Definition Index'!$G$19*NR_Reihen_Veränderungsraten!D11,)","v":0},{"$f":"IF($C82=1,'IN_Definition Index'!$G$19*NR_Reihen_Veränderungsraten!E11,)","v":0},{"$f":"IF($C82=1,'IN_Definition Index'!$G$19*NR_Reihen_Veränderungsraten!F11,)","v":0},{"$f":"IF($C82=1,'IN_Definition Index'!$G$19*NR_Reihen_Veränderungsraten!G11,)","v":0},{"$f":"IF($C82=1,'IN_Definition Index'!$G$19*NR_Reihen_Veränderungsraten!H11,)","v":0},{"$f":"IF($C82=1,'IN_Definition Index'!$G$19*NR_Reihen_Veränderungsraten!I11,)","v":0},{"$f":"IF($C82=1,'IN_Definition Index'!$G$19*NR_Reihen_Veränderungsraten!J11,)","v":0},{"$f":"IF($C82=1,'IN_Definition Index'!$G$19*NR_Reihen_Veränderungsraten!K11,)","v":0},{"$f":"IF($C82=1,'IN_Definition Index'!$G$19*NR_Reihen_Veränderungsraten!L11,)","v":0},{"$f":"IF($C82=1,'IN_Definition Index'!$G$19*NR_Reihen_Veränderungsraten!M11,)","v":0},{"$f":"IF($C82=1,'IN_Definition Index'!$G$19*NR_Reihen_Veränderungsraten!N11,)","v":0},{"$f":"IF($C82=1,'IN_Definition Index'!$G$19*NR_Reihen_Veränderungsraten!O11,)","v":0},{"$f":"IF($C82=1,'IN_Definition Index'!$G$19*NR_Reihen_Veränderungsraten!P11,)","v":0},{"$f":"IF($C82=1,'IN_Definition Index'!$G$19*NR_Reihen_Veränderungsraten!Q11,)","v":0},{"$f":"IF($C82=1,'IN_Definition Index'!$G$19*NR_Reihen_Veränderungsraten!R11,)","v":0},{"$f":"IF($C82=1,'IN_Definition Index'!$G$19*NR_Reihen_Veränderungsraten!S11,)","v":0},{"$f":"IF($C82=1,'IN_Definition Index'!$G$19*NR_Reihen_Veränderungsraten!T11,)","v":0},{"$f":"IF($C82=1,'IN_Definition Index'!$G$19*NR_Reihen_Veränderungsraten!U11,)","v":0},{"$f":"IF($C82=1,'IN_Definition Index'!$G$19*NR_Reihen_Veränderungsraten!V11,)","v":0},{"$f":"IF($C82=1,'IN_Definition Index'!$G$19*NR_Reihen_Veränderungsraten!W11,)","v":0},{"$f":"IF($C82=1,'IN_Definition Index'!$G$19*NR_Reihen_Veränderungsraten!X11,)","v":0},{"$f":"IF($C82=1,'IN_Definition Index'!$G$19*NR_Reihen_Veränderungsraten!Y11,)","v":0},{"$f":"IF($C82=1,'IN_Definition Index'!$G$19*NR_Reihen_Veränderungsraten!Z11,)","v":0},{"$f":"IF($C82=1,'IN_Definition Index'!$G$19*NR_Reihen_Veränderungsraten!AA11,)","v":0},{"$f":"IF($C82=1,'IN_Definition Index'!$G$19*NR_Reihen_Veränderungsraten!AB11,)","v":0},{"$f":"IF($C82=1,'IN_Definition Index'!$G$19*NR_Reihen_Veränderungsraten!AC11,)","v":0},{"$f":"IF($C82=1,'IN_Definition Index'!$G$19*NR_Reihen_Veränderungsraten!AD11,)","v":0},{"$f":"IF($C82=1,'IN_Definition Index'!$G$19*NR_Reihen_Veränderungsraten!AE11,)","v":0},{"$f":"IF($C82=1,'IN_Definition Index'!$G$19*NR_Reihen_Veränderungsraten!AF11,)","v":0}]
["M73","Werbung und Marktforschung",{"$f":"'IN_Definition Index'!G15","v":0},{"$f":"IF($C83=1,'IN_Definition Index'!$G$19*NR_Reihen_Veränderungsraten!D12,)","v":0},{"$f":"IF($C83=1,'IN_Definition Index'!$G$19*NR_Reihen_Veränderungsraten!E12,)","v":0},{"$f":"IF($C83=1,'IN_Definition Index'!$G$19*NR_Reihen_Veränderungsraten!F12,)","v":0},{"$f":"IF($C83=1,'IN_Definition Index'!$G$19*NR_Reihen_Veränderungsraten!G12,)","v":0},{"$f":"IF($C83=1,'IN_Definition Index'!$G$19*NR_Reihen_Veränderungsraten!H12,)","v":0},{"$f":"IF($C83=1,'IN_Definition Index'!$G$19*NR_Reihen_Veränderungsraten!I12,)","v":0},{"$f":"IF($C83=1,'IN_Definition Index'!$G$19*NR_Reihen_Veränderungsraten!J12,)","v":0},{"$f":"IF($C83=1,'IN_Definition Index'!$G$19*NR_Reihen_Veränderungsraten!K12,)","v":0},{"$f":"IF($C83=1,'IN_Definition Index'!$G$19*NR_Reihen_Veränderungsraten!L12,)","v":0},{"$f":"IF($C83=1,'IN_Definition Index'!$G$19*NR_Reihen_Veränderungsraten!M12,)","v":0},{"$f":"IF($C83=1,'IN_Definition Index'!$G$19*NR_Reihen_Veränderungsraten!N12,)","v":0},{"$f":"IF($C83=1,'IN_Definition Index'!$G$19*NR_Reihen_Veränderungsraten!O12,)","v":0},{"$f":"IF($C83=1,'IN_Definition Index'!$G$19*NR_Reihen_Veränderungsraten!P12,)","v":0},{"$f":"IF($C83=1,'IN_Definition Index'!$G$19*NR_Reihen_Veränderungsraten!Q12,)","v":0},{"$f":"IF($C83=1,'IN_Definition Index'!$G$19*NR_Reihen_Veränderungsraten!R12,)","v":0},{"$f":"IF($C83=1,'IN_Definition Index'!$G$19*NR_Reihen_Veränderungsraten!S12,)","v":0},{"$f":"IF($C83=1,'IN_Definition Index'!$G$19*NR_Reihen_Veränderungsraten!T12,)","v":0},{"$f":"IF($C83=1,'IN_Definition Index'!$G$19*NR_Reihen_Veränderungsraten!U12,)","v":0},{"$f":"IF($C83=1,'IN_Definition Index'!$G$19*NR_Reihen_Veränderungsraten!V12,)","v":0},{"$f":"IF($C83=1,'IN_Definition Index'!$G$19*NR_Reihen_Veränderungsraten!W12,)","v":0},{"$f":"IF($C83=1,'IN_Definition Index'!$G$19*NR_Reihen_Veränderungsraten!X12,)","v":0},{"$f":"IF($C83=1,'IN_Definition Index'!$G$19*NR_Reihen_Veränderungsraten!Y12,)","v":0},{"$f":"IF($C83=1,'IN_Definition Index'!$G$19*NR_Reihen_Veränderungsraten!Z12,)","v":0},{"$f":"IF($C83=1,'IN_Definition Index'!$G$19*NR_Reihen_Veränderungsraten!AA12,)","v":0},{"$f":"IF($C83=1,'IN_Definition Index'!$G$19*NR_Reihen_Veränderungsraten!AB12,)","v":0},{"$f":"IF($C83=1,'IN_Definition Index'!$G$19*NR_Reihen_Veränderungsraten!AC12,)","v":0},{"$f":"IF($C83=1,'IN_Definition Index'!$G$19*NR_Reihen_Veränderungsraten!AD12,)","v":0},{"$f":"IF($C83=1,'IN_Definition Index'!$G$19*NR_Reihen_Veränderungsraten!AE12,)","v":0},{"$f":"IF($C83=1,'IN_Definition Index'!$G$19*NR_Reihen_Veränderungsraten!AF12,)","v":0}]
["M74-01","Freiberufl.,wiss.,techn.DL a.n.g., Veterinärwesen",{"$f":"'IN_Definition Index'!G16","v":0},{"$f":"IF($C84=1,'IN_Definition Index'!$G$19*NR_Reihen_Veränderungsraten!D13,)","v":0},{"$f":"IF($C84=1,'IN_Definition Index'!$G$19*NR_Reihen_Veränderungsraten!E13,)","v":0},{"$f":"IF($C84=1,'IN_Definition Index'!$G$19*NR_Reihen_Veränderungsraten!F13,)","v":0},{"$f":"IF($C84=1,'IN_Definition Index'!$G$19*NR_Reihen_Veränderungsraten!G13,)","v":0},{"$f":"IF($C84=1,'IN_Definition Index'!$G$19*NR_Reihen_Veränderungsraten!H13,)","v":0},{"$f":"IF($C84=1,'IN_Definition Index'!$G$19*NR_Reihen_Veränderungsraten!I13,)","v":0},{"$f":"IF($C84=1,'IN_Definition Index'!$G$19*NR_Reihen_Veränderungsraten!J13,)","v":0},{"$f":"IF($C84=1,'IN_Definition Index'!$G$19*NR_Reihen_Veränderungsraten!K13,)","v":0},{"$f":"IF($C84=1,'IN_Definition Index'!$G$19*NR_Reihen_Veränderungsraten!L13,)","v":0},{"$f":"IF($C84=1,'IN_Definition Index'!$G$19*NR_Reihen_Veränderungsraten!M13,)","v":0},{"$f":"IF($C84=1,'IN_Definition Index'!$G$19*NR_Reihen_Veränderungsraten!N13,)","v":0},{"$f":"IF($C84=1,'IN_Definition Index'!$G$19*NR_Reihen_Veränderungsraten!O13,)","v":0},{"$f":"IF($C84=1,'IN_Definition Index'!$G$19*NR_Reihen_Veränderungsraten!P13,)","v":0},{"$f":"IF($C84=1,'IN_Definition Index'!$G$19*NR_Reihen_Veränderungsraten!Q13,)","v":0},{"$f":"IF($C84=1,'IN_Definition Index'!$G$19*NR_Reihen_Veränderungsraten!R13,)","v":0},{"$f":"IF($C84=1,'IN_Definition Index'!$G$19*NR_Reihen_Veränderungsraten!S13,)","v":0},{"$f":"IF($C84=1,'IN_Definition Index'!$G$19*NR_Reihen_Veränderungsraten!T13,)","v":0},{"$f":"IF($C84=1,'IN_Definition Index'!$G$19*NR_Reihen_Veränderungsraten!U13,)","v":0},{"$f":"IF($C84=1,'IN_Definition Index'!$G$19*NR_Reihen_Veränderungsraten!V13,)","v":0},{"$f":"IF($C84=1,'IN_Definition Index'!$G$19*NR_Reihen_Veränderungsraten!W13,)","v":0},{"$f":"IF($C84=1,'IN_Definition Index'!$G$19*NR_Reihen_Veränderungsraten!X13,)","v":0},{"$f":"IF($C84=1,'IN_Definition Index'!$G$19*NR_Reihen_Veränderungsraten!Y13,)","v":0},{"$f":"IF($C84=1,'IN_Definition Index'!$G$19*NR_Reihen_Veränderungsraten!Z13,)","v":0},{"$f":"IF($C84=1,'IN_Definition Index'!$G$19*NR_Reihen_Veränderungsraten!AA13,)","v":0},{"$f":"IF($C84=1,'IN_Definition Index'!$G$19*NR_Reihen_Veränderungsraten!AB13,)","v":0},{"$f":"IF($C84=1,'IN_Definition Index'!$G$19*NR_Reihen_Veränderungsraten!AC13,)","v":0},{"$f":"IF($C84=1,'IN_Definition Index'!$G$19*NR_Reihen_Veränderungsraten!AD13,)","v":0},{"$f":"IF($C84=1,'IN_Definition Index'!$G$19*NR_Reihen_Veränderungsraten!AE13,)","v":0},{"$f":"IF($C84=1,'IN_Definition Index'!$G$19*NR_Reihen_Veränderungsraten!AF13,)","v":0}]
["L","Grundstücks- und Wohnungswesen",{"$f":"'IN_Definition Index'!G17","v":0},{"$f":"IF($C85=1,'IN_Definition Index'!$G$19*NR_Reihen_Veränderungsraten!D14,)","v":0},{"$f":"IF($C85=1,'IN_Definition Index'!$G$19*NR_Reihen_Veränderungsraten!E14,)","v":0},{"$f":"IF($C85=1,'IN_Definition Index'!$G$19*NR_Reihen_Veränderungsraten!F14,)","v":0},{"$f":"IF($C85=1,'IN_Definition Index'!$G$19*NR_Reihen_Veränderungsraten!G14,)","v":0},{"$f":"IF($C85=1,'IN_Definition Index'!$G$19*NR_Reihen_Veränderungsraten!H14,)","v":0},{"$f":"IF($C85=1,'IN_Definition Index'!$G$19*NR_Reihen_Veränderungsraten!I14,)","v":0},{"$f":"IF($C85=1,'IN_Definition Index'!$G$19*NR_Reihen_Veränderungsraten!J14,)","v":0},{"$f":"IF($C85=1,'IN_Definition Index'!$G$19*NR_Reihen_Veränderungsraten!K14,)","v":0},{"$f":"IF($C85=1,'IN_Definition Index'!$G$19*NR_Reihen_Veränderungsraten!L14,)","v":0},{"$f":"IF($C85=1,'IN_Definition Index'!$G$19*NR_Reihen_Veränderungsraten!M14,)","v":0},{"$f":"IF($C85=1,'IN_Definition Index'!$G$19*NR_Reihen_Veränderungsraten!N14,)","v":0},{"$f":"IF($C85=1,'IN_Definition Index'!$G$19*NR_Reihen_Veränderungsraten!O14,)","v":0},{"$f":"IF($C85=1,'IN_Definition Index'!$G$19*NR_Reihen_Veränderungsraten!P14,)","v":0},{"$f":"IF($C85=1,'IN_Definition Index'!$G$19*NR_Reihen_Veränderungsraten!Q14,)","v":0},{"$f":"IF($C85=1,'IN_Definition Index'!$G$19*NR_Reihen_Veränderungsraten!R14,)","v":0},{"$f":"IF($C85=1,'IN_Definition Index'!$G$19*NR_Reihen_Veränderungsraten!S14,)","v":0},{"$f":"IF($C85=1,'IN_Definition Index'!$G$19*NR_Reihen_Veränderungsraten!T14,)","v":0},{"$f":"IF($C85=1,'IN_Definition Index'!$G$19*NR_Reihen_Veränderungsraten!U14,)","v":0},{"$f":"IF($C85=1,'IN_Definition Index'!$G$19*NR_Reihen_Veränderungsraten!V14,)","v":0},{"$f":"IF($C85=1,'IN_Definition Index'!$G$19*NR_Reihen_Veränderungsraten!W14,)","v":0},{"$f":"IF($C85=1,'IN_Definition Index'!$G$19*NR_Reihen_Veränderungsraten!X14,)","v":0},{"$f":"IF($C85=1,'IN_Definition Index'!$G$19*NR_Reihen_Veränderungsraten!Y14,)","v":0},{"$f":"IF($C85=1,'IN_Definition Index'!$G$19*NR_Reihen_Veränderungsraten!Z14,)","v":0},{"$f":"IF($C85=1,'IN_Definition Index'!$G$19*NR_Reihen_Veränderungsraten!AA14,)","v":0},{"$f":"IF($C85=1,'IN_Definition Index'!$G$19*NR_Reihen_Veränderungsraten!AB14,)","v":0},{"$f":"IF($C85=1,'IN_Definition Index'!$G$19*NR_Reihen_Veränderungsraten!AC14,)","v":0},{"$f":"IF($C85=1,'IN_Definition Index'!$G$19*NR_Reihen_Veränderungsraten!AD14,)","v":0},{"$f":"IF($C85=1,'IN_Definition Index'!$G$19*NR_Reihen_Veränderungsraten!AE14,)","v":0},{"$f":"IF($C85=1,'IN_Definition Index'!$G$19*NR_Reihen_Veränderungsraten!AF14,)","v":0}]
[null,"Summe",null,{"$f":"SUM(D75:D85)","v":0.95058086436505973},{"$f":"SUM(E75:E85)","v":1.0106445750728938},{"$f":"SUM(F75:F85)","v":1.060184634807926},{"$f":"SUM(G75:G85)","v":1.1447621409931397},{"$f":"SUM(H75:H85)","v":1.0701748653086618},{"$f":"SUM(I75:I85)","v":0.9755213401404873},{"$f":"SUM(J75:J85)","v":0.9810762562884745},{"$f":"SUM(K75:K85)","v":1.2500744747474395},{"$f":"SUM(L75:L85)","v":0.94200842690465447},{"$f":"SUM(M75:M85)","v":0.98079896969300617},{"$f":"SUM(N75:N85)","v":0.97576717940538205},{"$f":"SUM(O75:O85)","v":0.95203747078219803},{"$f":"SUM(P75:P85)","v":0.9980824823781107},{"$f":"SUM(Q75:Q85)","v":1.0518078564468138},{"$f":"SUM(R75:R85)","v":1.0902035650971735},{"$f":"SUM(S75:S85)","v":1.0089513129025895},{"$f":"SUM(T75:T85)","v":1.0149554505898526},{"$f":"SUM(U75:U85)","v":0.91825367775211553},{"$f":"SUM(V75:V85)","v":1.0161345835914399},{"$f":"SUM(W75:W85)","v":1.0446497373950967},{"$f":"SUM(X75:X85)","v":1.0067325736791031},{"$f":"SUM(Y75:Y85)","v":0.99315067750693653},{"$f":"SUM(Z75:Z85)","v":1.0193485307187398},{"$f":"SUM(AA75:AA85)","v":0.9642419893262455},{"$f":"SUM(AB75:AB85)","v":0.9716753306438275},{"$f":"SUM(AC75:AC85)","v":1.0174094603520365},1.0206667089242778,{"$error":"#VALUE!"},{"$error":"#VALUE!"}]
[]
["Zustellung"]
[]
["Nr. (WZ 2008)","Branche","Verwendung",1992,{"$f":"D90+1","v":1993},{"$f":"E90+1","v":1994},{"$f":"F90+1","v":1995},{"$f":"G90+1","v":1996},{"$f":"H90+1","v":1997},{"$f":"I90+1","v":1998},{"$f":"J90+1","v":1999},{"$f":"K90+1","v":2000},{"$f":"L90+1","v":2001},{"$f":"M90+1","v":2002},{"$f":"N90+1","v":2003},{"$f":"O90+1","v":2004},{"$f":"P90+1","v":2005},{"$f":"Q90+1","v":2006},{"$f":"R90+1","v":2007},{"$f":"S90+1","v":2008},{"$f":"T90+1","v":2009},{"$f":"U90+1","v":2010},{"$f":"V90+1","v":2011},{"$f":"W90+1","v":2012},{"$f":"X90+1","v":2013},{"$f":"Y90+1","v":2014},{"$f":"Z90+1","v":2015},{"$f":"AA90+1","v":2016},{"$f":"AB90+1","v":2017},{"$f":"AC90+1","v":2018},{"$f":"AD90+1","v":2019},{"$f":"AE90+1","v":2020}]
["C33","Reparatur und Installation von Maschinen und Ausrüstungen",{"$f":"'IN_Definition Index'!H7","v":0},{"$f":"IF($C91=1,'IN_Definition Index'!$H$19*NR_Reihen_Veränderungsraten!D4,)","v":0},{"$f":"IF($C91=1,'IN_Definition Index'!$H$19*NR_Reihen_Veränderungsraten!E4,)","v":0},{"$f":"IF($C91=1,'IN_Definition Index'!$H$19*NR_Reihen_Veränderungsraten!F4,)","v":0},{"$f":"IF($C91=1,'IN_Definition Index'!$H$19*NR_Reihen_Veränderungsraten!G4,)","v":0},{"$f":"IF($C91=1,'IN_Definition Index'!$H$19*NR_Reihen_Veränderungsraten!H4,)","v":0},{"$f":"IF($C91=1,'IN_Definition Index'!$H$19*NR_Reihen_Veränderungsraten!I4,)","v":0},{"$f":"IF($C91=1,'IN_Definition Index'!$H$19*NR_Reihen_Veränderungsraten!J4,)","v":0},{"$f":"IF($C91=1,'IN_Definition Index'!$H$19*NR_Reihen_Veränderungsraten!K4,)","v":0},{"$f":"IF($C91=1,'IN_Definition Index'!$H$19*NR_Reihen_Veränderungsraten!L4,)","v":0},{"$f":"IF($C91=1,'IN_Definition Index'!$H$19*NR_Reihen_Veränderungsraten!M4,)","v":0},{"$f":"IF($C91=1,'IN_Definition Index'!$H$19*NR_Reihen_Veränderungsraten!N4,)","v":0},{"$f":"IF($C91=1,'IN_Definition Index'!$H$19*NR_Reihen_Veränderungsraten!O4,)","v":0},{"$f":"IF($C91=1,'IN_Definition Index'!$H$19*NR_Reihen_Veränderungsraten!P4,)","v":0},{"$f":"IF($C91=1,'IN_Definition Index'!$H$19*NR_Reihen_Veränderungsraten!Q4,)","v":0},{"$f":"IF($C91=1,'IN_Definition Index'!$H$19*NR_Reihen_Veränderungsraten!R4,)","v":0},{"$f":"IF($C91=1,'IN_Definition Index'!$H$19*NR_Reihen_Veränderungsraten!S4,)","v":0},{"$f":"IF($C91=1,'IN_Definition Index'!$H$19*NR_Reihen_Veränderungsraten!T4,)","v":0},{"$f":"IF($C91=1,'IN_Definition Index'!$H$19*NR_Reihen_Veränderungsraten!U4,)","v":0},{"$f":"IF($C91=1,'IN_Definition Index'!$H$19*NR_Reihen_Veränderungsraten!V4,)","v":0},{"$f":"IF($C91=1,'IN_Definition Index'!$H$19*NR_Reihen_Veränderungsraten!W4,)","v":0},{"$f":"IF($C91=1,'IN_Definition Index'!$H$19*NR_Reihen_Veränderungsraten!X4,)","v":0},{"$f":"IF($C91=1,'IN_Definition Index'!$H$19*NR_Reihen_Veränderungsraten!Y4,)","v":0},{"$f":"IF($C91=1,'IN_Definition Index'!$H$19*NR_Reihen_Veränderungsraten!Z4,)","v":0},{"$f":"IF($C91=1,'IN_Definition Index'!$H$19*NR_Reihen_Veränderungsraten!AA4,)","v":0},{"$f":"IF($C91=1,'IN_Definition Index'!$H$19*NR_Reihen_Veränderungsraten!AB4,)","v":0},{"$f":"IF($C91=1,'IN_Definition Index'!$H$19*NR_Reihen_Veränderungsraten!AC4,)","v":0},{"$f":"IF($C91=1,'IN_Definition Index'!$H$19*NR_Reihen_Veränderungsraten!AD4,)","v":0},{"$f":"IF($C91=1,'IN_Definition Index'!$H$19*NR_Reihen_Veränderungsraten!AE4,)","v":0},{"$f":"IF($C91=1,'IN_Definition Index'!$H$19*NR_Reihen_Veränderungsraten!AF4,)","v":0}]
["G45","Handel mit Kraftfahrzeugen; Instandhaltung und Reparatur von Kraftfahrzeugen",{"$f":"'IN_Definition Index'!H8","v":1},{"$f":"IF($C92=1,'IN_Definition Index'!$H$19*NR_Reihen_Veränderungsraten!D5,)","v":0.33754032013124446},{"$f":"IF($C92=1,'IN_Definition Index'!$H$19*NR_Reihen_Veränderungsraten!E5,)","v":0.27544135471753661},{"$f":"IF($C92=1,'IN_Definition Index'!$H$19*NR_Reihen_Veränderungsraten!F5,)","v":0.33657932812702218},{"$f":"IF($C92=1,'IN_Definition Index'!$H$19*NR_Reihen_Veränderungsraten!G5,)","v":0.33448100662315061},{"$f":"IF($C92=1,'IN_Definition Index'!$H$19*NR_Reihen_Veränderungsraten!H5,)","v":0.32975029196102001},{"$f":"IF($C92=1,'IN_Definition Index'!$H$19*NR_Reihen_Veränderungsraten!I5,)","v":0.3403643236719297},{"$f":"IF($C92=1,'IN_Definition Index'!$H$19*NR_Reihen_Veränderungsraten!J5,)","v":0.33867974055093342},{"$f":"IF($C92=1,'IN_Definition Index'!$H$19*NR_Reihen_Veränderungsraten!K5,)","v":0.34074245540184772},{"$f":"IF($C92=1,'IN_Definition Index'!$H$19*NR_Reihen_Veränderungsraten!L5,)","v":0.32590087979699389},{"$f":"IF($C92=1,'IN_Definition Index'!$H$19*NR_Reihen_Veränderungsraten!M5,)","v":0.33058785051049955},{"$f":"IF($C92=1,'IN_Definition Index'!$H$19*NR_Reihen_Veränderungsraten!N5,)","v":0.35012320287332221},{"$f":"IF($C92=1,'IN_Definition Index'!$H$19*NR_Reihen_Veränderungsraten!O5,)","v":0.38795928838664234},{"$f":"IF($C92=1,'IN_Definition Index'!$H$19*NR_Reihen_Veränderungsraten!P5,)","v":0.35438080693902801},{"$f":"IF($C92=1,'IN_Definition Index'!$H$19*NR_Reihen_Veränderungsraten!Q5,)","v":0.33498804002318067},{"$f":"IF($C92=1,'IN_Definition Index'!$H$19*NR_Reihen_Veränderungsraten!R5,)","v":0.35472469502080251},{"$f":"IF($C92=1,'IN_Definition Index'!$H$19*NR_Reihen_Veränderungsraten!S5,)","v":0.31657447416037254},{"$f":"IF($C92=1,'IN_Definition Index'!$H$19*NR_Reihen_Veränderungsraten!T5,)","v":0.34401497103083828},{"$f":"IF($C92=1,'IN_Definition Index'!$H$19*NR_Reihen_Veränderungsraten!U5,)","v":0.33617654834207583},{"$f":"IF($C92=1,'IN_Definition Index'!$H$19*NR_Reihen_Veränderungsraten!V5,)","v":0.30490140934639887},{"$f":"IF($C92=1,'IN_Definition Index'!$H$19*NR_Reihen_Veränderungsraten!W5,)","v":0.36460882766419211},{"$f":"IF($C92=1,'IN_Definition Index'!$H$19*NR_Reihen_Veränderungsraten!X5,)","v":0.32343901615781678},{"$f":"IF($C92=1,'IN_Definition Index'!$H$19*NR_Reihen_Veränderungsraten!Y5,)","v":0.32612188870914294},{"$f":"IF($C92=1,'IN_Definition Index'!$H$19*NR_Reihen_Veränderungsraten!Z5,)","v":0.3475685831887162},{"$f":"IF($C92=1,'IN_Definition Index'!$H$19*NR_Reihen_Veränderungsraten!AA5,)","v":0.33704972513350062},{"$f":"IF($C92=1,'IN_Definition Index'!$H$19*NR_Reihen_Veränderungsraten!AB5,)","v":0.35282233494560189},{"$f":"IF($C92=1,'IN_Definition Index'!$H$19*NR_Reihen_Veränderungsraten!AC5,)","v":0.32223509334092265},{"$f":"IF($C92=1,'IN_Definition Index'!$H$19*NR_Reihen_Veränderungsraten!AD5,)","v":0.3279475835309994},{"$f":"IF($C92=1,'IN_Definition Index'!$H$19*NR_Reihen_Veränderungsraten!AE5,)","v":{"$error":"#VALUE!"}},{"$f":"IF($C92=1,'IN_Definition Index'!$H$19*NR_Reihen_Veränderungsraten!AF5,)","v":{"$error":"#VALUE!"}}]
["G47","Einzelhandel (ohne Handel mit Kraftfahrzeugen)",{"$f":"'IN_Definition Index'!H9","v":0},{"$f":"IF($C93=1,'IN_Definition Index'!$H$19*NR_Reihen_Veränderungsraten!D6,)","v":0},{"$f":"IF($C93=1,'IN_Definition Index'!$H$19*NR_Reihen_Veränderungsraten!E6,)","v":0},{"$f":"IF($C93=1,'IN_Definition Index'!$H$19*NR_Reihen_Veränderungsraten!F6,)","v":0},{"$f":"IF($C93=1,'IN_Definition Index'!$H$19*NR_Reihen_Veränderungsraten!G6,)","v":0},{"$f":"IF($C93=1,'IN_Definition Index'!$H$19*NR_Reihen_Veränderungsraten!H6,)","v":0},{"$f":"IF($C93=1,'IN_Definition Index'!$H$19*NR_Reihen_Veränderungsraten!I6,)","v":0},{"$f":"IF($C93=1,'IN_Definition Index'!$H$19*NR_Reihen_Veränderungsraten!J6,)","v":0},{"$f":"IF($C93=1,'IN_Definition Index'!$H$19*NR_Reihen_Veränderungsraten!K6,)","v":0},{"$f":"IF($C93=1,'IN_Definition Index'!$H$19*NR_Reihen_Veränderungsraten!L6,)","v":0},{"$f":"IF($C93=1,'IN_Definition Index'!$H$19*NR_Reihen_Veränderungsraten!M6,)","v":0},{"$f":"IF($C93=1,'IN_Definition Index'!$H$19*NR_Reihen_Veränderungsraten!N6,)","v":0},{"$f":"IF($C93=1,'IN_Definition Index'!$H$19*NR_Reihen_Veränderungsraten!O6,)","v":0},{"$f":"IF($C93=1,'IN_Definition Index'!$H$19*NR_Reihen_Veränderungsraten!P6,)","v":0},{"$f":"IF($C93=1,'IN_Definition Index'!$H$19*NR_Reihen_Veränderungsraten!Q6,)","v":0},{"$f":"IF($C93=1,'IN_Definition Index'!$H$19*NR_Reihen_Veränderungsraten!R6,)","v":0},{"$f":"IF($C93=1,'IN_Definition Index'!$H$19*NR_Reihen_Veränderungsraten!S6,)","v":0},{"$f":"IF($C93=1,'IN_Definition Index'!$H$19*NR_Reihen_Veränderungsraten!T6,)","v":0},{"$f":"IF($C93=1,'IN_Definition Index'!$H$19*NR_Reihen_Veränderungsraten!U6,)","v":0},{"$f":"IF($C93=1,'IN_Definition Index'!$H$19*NR_Reihen_Veränderungsraten!V6,)","v":0},{"$f":"IF($C93=1,'IN_Definition Index'!$H$19*NR_Reihen_Veränderungsraten!W6,)","v":0},{"$f":"IF($C93=1,'IN_Definition Index'!$H$19*NR_Reihen_Veränderungsraten!X6,)","v":0},{"$f":"IF($C93=1,'IN_Definition Index'!$H$19*NR_Reihen_Veränderungsraten!Y6,)","v":0},{"$f":"IF($C93=1,'IN_Definition Index'!$H$19*NR_Reihen_Veränderungsraten!Z6,)","v":0},{"$f":"IF($C93=1,'IN_Definition Index'!$H$19*NR_Reihen_Veränderungsraten!AA6,)","v":0},{"$f":"IF($C93=1,'IN_Definition Index'!$H$19*NR_Reihen_Veränderungsraten!AB6,)","v":0},{"$f":"IF($C93=1,'IN_Definition Index'!$H$19*NR_Reihen_Veränderungsraten!AC6,)","v":0},{"$f":"IF($C93=1,'IN_Definition Index'!$H$19*NR_Reihen_Veränderungsraten!AD6,)","v":0},{"$f":"IF($C93=1,'IN_Definition Index'!$H$19*NR_Reihen_Veränderungsraten!AE6,)","v":0},{"$f":"IF($C93=1,'IN_Definition Index'!$H$19*NR_Reihen_Veränderungsraten!AF6,)","v":0}]
["H49","Landverkehr und Transport in Rohrfernleitungen",{"$f":"'IN_Definition Index'!H10","v":1},{"$f":"IF($C94=1,'IN_Definition Index'!$H$19*NR_Reihen_Veränderungsraten!D7,)","v":0.31686028812168654},{"$f":"IF($C94=1,'IN_Definition Index'!$H$19*NR_Reihen_Veränderungsraten!E7,)","v":0.33688152502429791},{"$f":"IF($C94=1,'IN_Definition Index'!$H$19*NR_Reihen_Veränderungsraten!F7,)","v":0.35339487826930865},{"$f":"IF($C94=1,'IN_Definition Index'!$H$19*NR_Reihen_Veränderungsraten!G7,)","v":0.38158738033104656},{"$f":"IF($C94=1,'IN_Definition Index'!$H$19*NR_Reihen_Veränderungsraten!H7,)","v":0.35672495510288726},{"$f":"IF($C94=1,'IN_Definition Index'!$H$19*NR_Reihen_Veränderungsraten!I7,)","v":0.32517378004682906},{"$f":"IF($C94=1,'IN_Definition Index'!$H$19*NR_Reihen_Veränderungsraten!J7,)","v":0.32702541876282482},{"$f":"IF($C94=1,'IN_Definition Index'!$H$19*NR_Reihen_Veränderungsraten!K7,)","v":0.41669149158247981},{"$f":"IF($C94=1,'IN_Definition Index'!$H$19*NR_Reihen_Veränderungsraten!L7,)","v":0.31400280896821814},{"$f":"IF($C94=1,'IN_Definition Index'!$H$19*NR_Reihen_Veränderungsraten!M7,)","v":0.32693298989766872},{"$f":"IF($C94=1,'IN_Definition Index'!$H$19*NR_Reihen_Veränderungsraten!N7,)","v":0.32525572646846068},{"$f":"IF($C94=1,'IN_Definition Index'!$H$19*NR_Reihen_Veränderungsraten!O7,)","v":0.31734582359406599},{"$f":"IF($C94=1,'IN_Definition Index'!$H$19*NR_Reihen_Veränderungsraten!P7,)","v":0.33269416079270353},{"$f":"IF($C94=1,'IN_Definition Index'!$H$19*NR_Reihen_Veränderungsraten!Q7,)","v":0.35060261881560462},{"$f":"IF($C94=1,'IN_Definition Index'!$H$19*NR_Reihen_Veränderungsraten!R7,)","v":0.36340118836572449},{"$f":"IF($C94=1,'IN_Definition Index'!$H$19*NR_Reihen_Veränderungsraten!S7,)","v":0.33631710430086315},{"$f":"IF($C94=1,'IN_Definition Index'!$H$19*NR_Reihen_Veränderungsraten!T7,)","v":0.33831848352995086},{"$f":"IF($C94=1,'IN_Definition Index'!$H$19*NR_Reihen_Veränderungsraten!U7,)","v":0.30608455925070516},{"$f":"IF($C94=1,'IN_Definition Index'!$H$19*NR_Reihen_Veränderungsraten!V7,)","v":0.33871152786381331},{"$f":"IF($C94=1,'IN_Definition Index'!$H$19*NR_Reihen_Veränderungsraten!W7,)","v":0.3482165791316989},{"$f":"IF($C94=1,'IN_Definition Index'!$H$19*NR_Reihen_Veränderungsraten!X7,)","v":0.33557752455970102},{"$f":"IF($C94=1,'IN_Definition Index'!$H$19*NR_Reihen_Veränderungsraten!Y7,)","v":0.33105022583564547},{"$f":"IF($C94=1,'IN_Definition Index'!$H$19*NR_Reihen_Veränderungsraten!Z7,)","v":0.33978284357291322},{"$f":"IF($C94=1,'IN_Definition Index'!$H$19*NR_Reihen_Veränderungsraten!AA7,)","v":0.3214139964420818},{"$f":"IF($C94=1,'IN_Definition Index'!$H$19*NR_Reihen_Veränderungsraten!AB7,)","v":0.32389177688127579},{"$f":"IF($C94=1,'IN_Definition Index'!$H$19*NR_Reihen_Veränderungsraten!AC7,)","v":0.33913648678401215},{"$f":"IF($C94=1,'IN_Definition Index'!$H$19*NR_Reihen_Veränderungsraten!AD7,)","v":0.34022223630809256},{"$f":"IF($C94=1,'IN_Definition Index'!$H$19*NR_Reihen_Veränderungsraten!AE7,)","v":{"$error":"#VALUE!"}},{"$f":"IF($C94=1,'IN_Definition Index'!$H$19*NR_Reihen_Veränderungsraten!AF7,)","v":{"$error":"#VALUE!"}}]
["H52","Lagerei sowie Erbringung von sonstigen Dienstleistungen für den Verkehr",{"$f":"'IN_Definition Index'!H11","v":1},{"$f":"IF($C95=1,'IN_Definition Index'!$H$19*NR_Reihen_Veränderungsraten!D8,)","v":0.32412485367017335},{"$f":"IF($C95=1,'IN_Definition Index'!$H$19*NR_Reihen_Veränderungsraten!E8,)","v":0.33262688476080587},{"$f":"IF($C95=1,'IN_Definition Index'!$H$19*NR_Reihen_Veränderungsraten!F8,)","v":0.34875018392713997},{"$f":"IF($C95=1,'IN_Definition Index'!$H$19*NR_Reihen_Veränderungsraten!G8,)","v":0.32781355964584313},{"$f":"IF($C95=1,'IN_Definition Index'!$H$19*NR_Reihen_Veränderungsraten!H8,)","v":0.34467050513841713},{"$f":"IF($C95=1,'IN_Definition Index'!$H$19*NR_Reihen_Veränderungsraten!I8,)","v":0.36365495722046021},{"$f":"IF($C95=1,'IN_Definition Index'!$H$19*NR_Reihen_Veränderungsraten!J8,)","v":0.34257636749347553},{"$f":"IF($C95=1,'IN_Definition Index'!$H$19*NR_Reihen_Veränderungsraten!K8,)","v":0.26054226682961212},{"$f":"IF($C95=1,'IN_Definition Index'!$H$19*NR_Reihen_Veränderungsraten!L8,)","v":0.34013089649673922},{"$f":"IF($C95=1,'IN_Definition Index'!$H$19*NR_Reihen_Veränderungsraten!M8,)","v":0.36754023282555182},{"$f":"IF($C95=1,'IN_Definition Index'!$H$19*NR_Reihen_Veränderungsraten!N8,)","v":0.36547012784882305},{"$f":"IF($C95=1,'IN_Definition Index'!$H$19*NR_Reihen_Veränderungsraten!O8,)","v":0.34044133429009871},{"$f":"IF($C95=1,'IN_Definition Index'!$H$19*NR_Reihen_Veränderungsraten!P8,)","v":0.37274045936668798},{"$f":"IF($C95=1,'IN_Definition Index'!$H$19*NR_Reihen_Veränderungsraten!Q8,)","v":0.34650666215209425},{"$f":"IF($C95=1,'IN_Definition Index'!$H$19*NR_Reihen_Veränderungsraten!R8,)","v":0.35389833330953169},{"$f":"IF($C95=1,'IN_Definition Index'!$H$19*NR_Reihen_Veränderungsraten!S8,)","v":0.33059637114338652},{"$f":"IF($C95=1,'IN_Definition Index'!$H$19*NR_Reihen_Veränderungsraten!T8,)","v":0.31823394813761485},{"$f":"IF($C95=1,'IN_Definition Index'!$H$19*NR_Reihen_Veränderungsraten!U8,)","v":0.29270487555578073},{"$f":"IF($C95=1,'IN_Definition Index'!$H$19*NR_Reihen_Veränderungsraten!V8,)","v":0.3530004545968411},{"$f":"IF($C95=1,'IN_Definition Index'!$H$19*NR_Reihen_Veränderungsraten!W8,)","v":0.32672268864998666},{"$f":"IF($C95=1,'IN_Definition Index'!$H$19*NR_Reihen_Veränderungsraten!X8,)","v":0.33086693621212676},{"$f":"IF($C95=1,'IN_Definition Index'!$H$19*NR_Reihen_Veränderungsraten!Y8,)","v":0.33788372878079054},{"$f":"IF($C95=1,'IN_Definition Index'!$H$19*NR_Reihen_Veränderungsraten!Z8,)","v":0.33236672410182433},{"$f":"IF($C95=1,'IN_Definition Index'!$H$19*NR_Reihen_Veränderungsraten!AA8,)","v":0.317243063313007},{"$f":"IF($C95=1,'IN_Definition Index'!$H$19*NR_Reihen_Veränderungsraten!AB8,)","v":0.33332724931040758},{"$f":"IF($C95=1,'IN_Definition Index'!$H$19*NR_Reihen_Veränderungsraten!AC8,)","v":0.33563188013003176},{"$f":"IF($C95=1,'IN_Definition Index'!$H$19*NR_Reihen_Veränderungsraten!AD8,)","v":0.34052091163108572},{"$f":"IF($C95=1,'IN_Definition Index'!$H$19*NR_Reihen_Veränderungsraten!AE8,)","v":{"$error":"#VALUE!"}},{"$f":"IF($C95=1,'IN_Definition Index'!$H$19*NR_Reihen_Veränderungsraten!AF8,)","v":{"$error":"#VALUE!"}}]
["J61","Telekommunikation",{"$f":"'IN_Definition Index'!H12","v":0},{"$f":"IF($C96=1,'IN_Definition Index'!$H$19*NR_Reihen_Veränderungsraten!D9,)","v":0},{"$f":"IF($C96=1,'IN_Definition Index'!$H$19*NR_Reihen_Veränderungsraten!E9,)","v":0},{"$f":"IF($C96=1,'IN_Definition Index'!$H$19*NR_Reihen_Veränderungsraten!F9,)","v":0},{"$f":"IF($C96=1,'IN_Definition Index'!$H$19*NR_Reihen_Veränderungsraten!G9,)","v":0},{"$f":"IF($C96=1,'IN_Definition Index'!$H$19*NR_Reihen_Veränderungsraten!H9,)","v":0},{"$f":"IF($C96=1,'IN_Definition Index'!$H$19*NR_Reihen_Veränderungsraten!I9,)","v":0},{"$f":"IF($C96=1,'IN_Definition Index'!$H$19*NR_Reihen_Veränderungsraten!J9,)","v":0},{"$f":"IF($C96=1,'IN_Definition Index'!$H$19*NR_Reihen_Veränderungsraten!K9,)","v":0},{"$f":"IF($C96=1,'IN_Definition Index'!$H$19*NR_Reihen_Veränderungsraten!L9,)","v":0},{"$f":"IF($C96=1,'IN_Definition Index'!$H$19*NR_Reihen_Veränderungsraten!M9,)","v":0},{"$f":"IF($C96=1,'IN_Definition Index'!$H$19*NR_Reihen_Veränderungsraten!N9,)","v":0},{"$f":"IF($C96=1,'IN_Definition Index'!$H$19*NR_Reihen_Veränderungsraten!O9,)","v":0},{"$f":"IF($C96=1,'IN_Definition Index'!$H$19*NR_Reihen_Veränderungsraten!P9,)","v":0},{"$f":"IF($C96=1,'IN_Definition Index'!$H$19*NR_Reihen_Veränderungsraten!Q9,)","v":0},{"$f":"IF($C96=1,'IN_Definition Index'!$H$19*NR_Reihen_Veränderungsraten!R9,)","v":0},{"$f":"IF($C96=1,'IN_Definition Index'!$H$19*NR_Reihen_Veränderungsraten!S9,)","v":0},{"$f":"IF($C96=1,'IN_Definition Index'!$H$19*NR_Reihen_Veränderungsraten!T9,)","v":0},{"$f":"IF($C96=1,'IN_Definition Index'!$H$19*NR_Reihen_Veränderungsraten!U9,)","v":0},{"$f":"IF($C96=1,'IN_Definition Index'!$H$19*NR_Reihen_Veränderungsraten!V9,)","v":0},{"$f":"IF($C96=1,'IN_Definition Index'!$H$19*NR_Reihen_Veränderungsraten!W9,)","v":0},{"$f":"IF($C96=1,'IN_Definition Index'!$H$19*NR_Reihen_Veränderungsraten!X9,)","v":0},{"$f":"IF($C96=1,'IN_Definition Index'!$H$19*NR_Reihen_Veränderungsraten!Y9,)","v":0},{"$f":"IF($C96=1,'IN_Definition Index'!$H$19*NR_Reihen_Veränderungsraten!Z9,)","v":0},{"$f":"IF($C96=1,'IN_Definition Index'!$H$19*NR_Reihen_Veränderungsraten!AA9,)","v":0},{"$f":"IF($C96=1,'IN_Definition Index'!$H$19*NR_Reihen_Veränderungsraten!AB9,)","v":0},{"$f":"IF($C96=1,'IN_Definition Index'!$H$19*NR_Reihen_Veränderungsraten!AC9,)","v":0},{"$f":"IF($C96=1,'IN_Definition Index'!$H$19*NR_Reihen_Veränderungsraten!AD9,)","v":0},{"$f":"IF($C96=1,'IN_Definition Index'!$H$19*NR_Reihen_Veränderungsraten!AE9,)","v":0},{"$f":"IF($C96=1,'IN_Definition Index'!$H$19*NR_Reihen_Veränderungsraten!AF9,)","v":0}]
["J62-01","IT- und Informationsdienstleister",{"$f":"'IN_Definition Index'!H13","v":0},{"$f":"IF($C97=1,'IN_Definition Index'!$H$19*NR_Reihen_Veränderungsraten!D10,)","v":0},{"$f":"IF($C97=1,'IN_Definition Index'!$H$19*NR_Reihen_Veränderungsraten!E10,)","v":0},{"$f":"IF($C97=1,'IN_Definition Index'!$H$19*NR_Reihen_Veränderungsraten!F10,)","v":0},{"$f":"IF($C97=1,'IN_Definition Index'!$H$19*NR_Reihen_Veränderungsraten!G10,)","v":0},{"$f":"IF($C97=1,'IN_Definition Index'!$H$19*NR_Reihen_Veränderungsraten!H10,)","v":0},{"$f":"IF($C97=1,'IN_Definition Index'!$H$19*NR_Reihen_Veränderungsraten!I10,)","v":0},{"$f":"IF($C97=1,'IN_Definition Index'!$H$19*NR_Reihen_Veränderungsraten!J10,)","v":0},{"$f":"IF($C97=1,'IN_Definition Index'!$H$19*NR_Reihen_Veränderungsraten!K10,)","v":0},{"$f":"IF($C97=1,'IN_Definition Index'!$H$19*NR_Reihen_Veränderungsraten!L10,)","v":0},{"$f":"IF($C97=1,'IN_Definition Index'!$H$19*NR_Reihen_Veränderungsraten!M10,)","v":0},{"$f":"IF($C97=1,'IN_Definition Index'!$H$19*NR_Reihen_Veränderungsraten!N10,)","v":0},{"$f":"IF($C97=1,'IN_Definition Index'!$H$19*NR_Reihen_Veränderungsraten!O10,)","v":0},{"$f":"IF($C97=1,'IN_Definition Index'!$H$19*NR_Reihen_Veränderungsraten!P10,)","v":0},{"$f":"IF($C97=1,'IN_Definition Index'!$H$19*NR_Reihen_Veränderungsraten!Q10,)","v":0},{"$f":"IF($C97=1,'IN_Definition Index'!$H$19*NR_Reihen_Veränderungsraten!R10,)","v":0},{"$f":"IF($C97=1,'IN_Definition Index'!$H$19*NR_Reihen_Veränderungsraten!S10,)","v":0},{"$f":"IF($C97=1,'IN_Definition Index'!$H$19*NR_Reihen_Veränderungsraten!T10,)","v":0},{"$f":"IF($C97=1,'IN_Definition Index'!$H$19*NR_Reihen_Veränderungsraten!U10,)","v":0},{"$f":"IF($C97=1,'IN_Definition Index'!$H$19*NR_Reihen_Veränderungsraten!V10,)","v":0},{"$f":"IF($C97=1,'IN_Definition Index'!$H$19*NR_Reihen_Veränderungsraten!W10,)","v":0},{"$f":"IF($C97=1,'IN_Definition Index'!$H$19*NR_Reihen_Veränderungsraten!X10,)","v":0},{"$f":"IF($C97=1,'IN_Definition Index'!$H$19*NR_Reihen_Veränderungsraten!Y10,)","v":0},{"$f":"IF($C97=1,'IN_Definition Index'!$H$19*NR_Reihen_Veränderungsraten!Z10,)","v":0},{"$f":"IF($C97=1,'IN_Definition Index'!$H$19*NR_Reihen_Veränderungsraten!AA10,)","v":0},{"$f":"IF($C97=1,'IN_Definition Index'!$H$19*NR_Reihen_Veränderungsraten!AB10,)","v":0},{"$f":"IF($C97=1,'IN_Definition Index'!$H$19*NR_Reihen_Veränderungsraten!AC10,)","v":0},{"$f":"IF($C97=1,'IN_Definition Index'!$H$19*NR_Reihen_Veränderungsraten!AD10,)","v":0},{"$f":"IF($C97=1,'IN_Definition Index'!$H$19*NR_Reihen_Veränderungsraten!AE10,)","v":0},{"$f":"IF($C97=1,'IN_Definition Index'!$H$19*NR_Reihen_Veränderungsraten!AF10,)","v":0}]
["M69-01","Unternehmensnahe Beratungsleistungen ",{"$f":"'IN_Definition Index'!H14","v":0},{"$f":"IF($C98=1,'IN_Definition Index'!$H$19*NR_Reihen_Veränderungsraten!D11,)","v":0},{"$f":"IF($C98=1,'IN_Definition Index'!$H$19*NR_Reihen_Veränderungsraten!E11,)","v":0},{"$f":"IF($C98=1,'IN_Definition Index'!$H$19*NR_Reihen_Veränderungsraten!F11,)","v":0},{"$f":"IF($C98=1,'IN_Definition Index'!$H$19*NR_Reihen_Veränderungsraten!G11,)","v":0},{"$f":"IF($C98=1,'IN_Definition Index'!$H$19*NR_Reihen_Veränderungsraten!H11,)","v":0},{"$f":"IF($C98=1,'IN_Definition Index'!$H$19*NR_Reihen_Veränderungsraten!I11,)","v":0},{"$f":"IF($C98=1,'IN_Definition Index'!$H$19*NR_Reihen_Veränderungsraten!J11,)","v":0},{"$f":"IF($C98=1,'IN_Definition Index'!$H$19*NR_Reihen_Veränderungsraten!K11,)","v":0},{"$f":"IF($C98=1,'IN_Definition Index'!$H$19*NR_Reihen_Veränderungsraten!L11,)","v":0},{"$f":"IF($C98=1,'IN_Definition Index'!$H$19*NR_Reihen_Veränderungsraten!M11,)","v":0},{"$f":"IF($C98=1,'IN_Definition Index'!$H$19*NR_Reihen_Veränderungsraten!N11,)","v":0},{"$f":"IF($C98=1,'IN_Definition Index'!$H$19*NR_Reihen_Veränderungsraten!O11,)","v":0},{"$f":"IF($C98=1,'IN_Definition Index'!$H$19*NR_Reihen_Veränderungsraten!P11,)","v":0},{"$f":"IF($C98=1,'IN_Definition Index'!$H$19*NR_Reihen_Veränderungsraten!Q11,)","v":0},{"$f":"IF($C98=1,'IN_Definition Index'!$H$19*NR_Reihen_Veränderungsraten!R11,)","v":0},{"$f":"IF($C98=1,'IN_Definition Index'!$H$19*NR_Reihen_Veränderungsraten!S11,)","v":0},{"$f":"IF($C98=1,'IN_Definition Index'!$H$19*NR_Reihen_Veränderungsraten!T11,)","v":0},{"$f":"IF($C98=1,'IN_Definition Index'!$H$19*NR_Reihen_Veränderungsraten!U11,)","v":0},{"$f":"IF($C98=1,'IN_Definition Index'!$H$19*NR_Reihen_Veränderungsraten!V11,)","v":0},{"$f":"IF($C98=1,'IN_Definition Index'!$H$19*NR_Reihen_Veränderungsraten!W11,)","v":0},{"$f":"IF($C98=1,'IN_Definition Index'!$H$19*NR_Reihen_Veränderungsraten!X11,)","v":0},{"$f":"IF($C98=1,'IN_Definition Index'!$H$19*NR_Reihen_Veränderungsraten!Y11,)","v":0},{"$f":"IF($C98=1,'IN_Definition Index'!$H$19*NR_Reihen_Veränderungsraten!Z11,)","v":0},{"$f":"IF($C98=1,'IN_Definition Index'!$H$19*NR_Reihen_Veränderungsraten!AA11,)","v":0},{"$f":"IF($C98=1,'IN_Definition Index'!$H$19*NR_Reihen_Veränderungsraten!AB11,)","v":0},{"$f":"IF($C98=1,'IN_Definition Index'!$H$19*NR_Reihen_Veränderungsraten!AC11,)","v":0},{"$f":"IF($C98=1,'IN_Definition Index'!$H$19*NR_Reihen_Veränderungsraten!AD11,)","v":0},{"$f":"IF($C98=1,'IN_Definition Index'!$H$19*NR_Reihen_Veränderungsraten!AE11,)","v":0},{"$f":"IF($C98=1,'IN_Definition Index'!$H$19*NR_Reihen_Veränderungsraten!AF11,)","v":0}]
["M73","Werbung und Marktforschung",{"$f":"'IN_Definition Index'!H15","v":0},{"$f":"IF($C99=1,'IN_Definition Index'!$H$19*NR_Reihen_Veränderungsraten!D12,)","v":0},{"$f":"IF($C99=1,'IN_Definition Index'!$H$19*NR_Reihen_Veränderungsraten!E12,)","v":0},{"$f":"IF($C99=1,'IN_Definition Index'!$H$19*NR_Reihen_Veränderungsraten!F12,)","v":0},{"$f":"IF($C99=1,'IN_Definition Index'!$H$19*NR_Reihen_Veränderungsraten!G12,)","v":0},{"$f":"IF($C99=1,'IN_Definition Index'!$H$19*NR_Reihen_Veränderungsraten!H12,)","v":0},{"$f":"IF($C99=1,'IN_Definition Index'!$H$19*NR_Reihen_Veränderungsraten!I12,)","v":0},{"$f":"IF($C99=1,'IN_Definition Index'!$H$19*NR_Reihen_Veränderungsraten!J12,)","v":0},{"$f":"IF($C99=1,'IN_Definition Index'!$H$19*NR_Reihen_Veränderungsraten!K12,)","v":0},{"$f":"IF($C99=1,'IN_Definition Index'!$H$19*NR_Reihen_Veränderungsraten!L12,)","v":0},{"$f":"IF($C99=1,'IN_Definition Index'!$H$19*NR_Reihen_Veränderungsraten!M12,)","v":0},{"$f":"IF($C99=1,'IN_Definition Index'!$H$19*NR_Reihen_Veränderungsraten!N12,)","v":0},{"$f":"IF($C99=1,'IN_Definition Index'!$H$19*NR_Reihen_Veränderungsraten!O12,)","v":0},{"$f":"IF($C99=1,'IN_Definition Index'!$H$19*NR_Reihen_Veränderungsraten!P12,)","v":0},{"$f":"IF($C99=1,'IN_Definition Index'!$H$19*NR_Reihen_Veränderungsraten!Q12,)","v":0},{"$f":"IF($C99=1,'IN_Definition Index'!$H$19*NR_Reihen_Veränderungsraten!R12,)","v":0},{"$f":"IF($C99=1,'IN_Definition Index'!$H$19*NR_Reihen_Veränderungsraten!S12,)","v":0},{"$f":"IF($C99=1,'IN_Definition Index'!$H$19*NR_Reihen_Veränderungsraten!T12,)","v":0},{"$f":"IF($C99=1,'IN_Definition Index'!$H$19*NR_Reihen_Veränderungsraten!U12,)","v":0},{"$f":"IF($C99=1,'IN_Definition Index'!$H$19*NR_Reihen_Veränderungsraten!V12,)","v":0},{"$f":"IF($C99=1,'IN_Definition Index'!$H$19*NR_Reihen_Veränderungsraten!W12,)","v":0},{"$f":"IF($C99=1,'IN_Definition Index'!$H$19*NR_Reihen_Veränderungsraten!X12,)","v":0},{"$f":"IF($C99=1,'IN_Definition Index'!$H$19*NR_Reihen_Veränderungsraten!Y12,)","v":0},{"$f":"IF($C99=1,'IN_Definition Index'!$H$19*NR_Reihen_Veränderungsraten!Z12,)","v":0},{"$f":"IF($C99=1,'IN_Definition Index'!$H$19*NR_Reihen_Veränderungsraten!AA12,)","v":0},{"$f":"IF($C99=1,'IN_Definition Index'!$H$19*NR_Reihen_Veränderungsraten!AB12,)","v":0},{"$f":"IF($C99=1,'IN_Definition Index'!$H$19*NR_Reihen_Veränderungsraten!AC12,)","v":0},{"$f":"IF($C99=1,'IN_Definition Index'!$H$19*NR_Reihen_Veränderungsraten!AD12,)","v":0},{"$f":"IF($C99=1,'IN_Definition Index'!$H$19*NR_Reihen_Veränderungsraten!AE12,)","v":0},{"$f":"IF($C99=1,'IN_Definition Index'!$H$19*NR_Reihen_Veränderungsraten!AF12,)","v":0}]
["M74-01","Freiberufl.,wiss.,techn.DL a.n.g., Veterinärwesen",{"$f":"'IN_Definition Index'!H16","v":0},{"$f":"IF($C100=1,'IN_Definition Index'!$H$19*NR_Reihen_Veränderungsraten!D13,)","v":0},{"$f":"IF($C100=1,'IN_Definition Index'!$H$19*NR_Reihen_Veränderungsraten!E13,)","v":0},{"$f":"IF($C100=1,'IN_Definition Index'!$H$19*NR_Reihen_Veränderungsraten!F13,)","v":0},{"$f":"IF($C100=1,'IN_Definition Index'!$H$19*NR_Reihen_Veränderungsraten!G13,)","v":0},{"$f":"IF($C100=1,'IN_Definition Index'!$H$19*NR_Reihen_Veränderungsraten!H13,)","v":0},{"$f":"IF($C100=1,'IN_Definition Index'!$H$19*NR_Reihen_Veränderungsraten!I13,)","v":0},{"$f":"IF($C100=1,'IN_Definition Index'!$H$19*NR_Reihen_Veränderungsraten!J13,)","v":0},{"$f":"IF($C100=1,'IN_Definition Index'!$H$19*NR_Reihen_Veränderungsraten!K13,)","v":0},{"$f":"IF($C100=1,'IN_Definition Index'!$H$19*NR_Reihen_Veränderungsraten!L13,)","v":0},{"$f":"IF($C100=1,'IN_Definition Index'!$H$19*NR_Reihen_Veränderungsraten!M13,)","v":0},{"$f":"IF($C100=1,'IN_Definition Index'!$H$19*NR_Reihen_Veränderungsraten!N13,)","v":0},{"$f":"IF($C100=1,'IN_Definition Index'!$H$19*NR_Reihen_Veränderungsraten!O13,)","v":0},{"$f":"IF($C100=1,'IN_Definition Index'!$H$19*NR_Reihen_Veränderungsraten!P13,)","v":0},{"$f":"IF($C100=1,'IN_Definition Index'!$H$19*NR_Reihen_Veränderungsraten!Q13,)","v":0},{"$f":"IF($C100=1,'IN_Definition Index'!$H$19*NR_Reihen_Veränderungsraten!R13,)","v":0},{"$f":"IF($C100=1,'IN_Definition Index'!$H$19*NR_Reihen_Veränderungsraten!S13,)","v":0},{"$f":"IF($C100=1,'IN_Definition Index'!$H$19*NR_Reihen_Veränderungsraten!T13,)","v":0},{"$f":"IF($C100=1,'IN_Definition Index'!$H$19*NR_Reihen_Veränderungsraten!U13,)","v":0},{"$f":"IF($C100=1,'IN_Definition Index'!$H$19*NR_Reihen_Veränderungsraten!V13,)","v":0},{"$f":"IF($C100=1,'IN_Definition Index'!$H$19*NR_Reihen_Veränderungsraten!W13,)","v":0},{"$f":"IF($C100=1,'IN_Definition Index'!$H$19*NR_Reihen_Veränderungsraten!X13,)","v":0},{"$f":"IF($C100=1,'IN_Definition Index'!$H$19*NR_Reihen_Veränderungsraten!Y13,)","v":0},{"$f":"IF($C100=1,'IN_Definition Index'!$H$19*NR_Reihen_Veränderungsraten!Z13,)","v":0},{"$f":"IF($C100=1,'IN_Definition Index'!$H$19*NR_Reihen_Veränderungsraten!AA13,)","v":0},{"$f":"IF($C100=1,'IN_Definition Index'!$H$19*NR_Reihen_Veränderungsraten!AB13,)","v":0},{"$f":"IF($C100=1,'IN_Definition Index'!$H$19*NR_Reihen_Veränderungsraten!AC13,)","v":0},{"$f":"IF($C100=1,'IN_Definition Index'!$H$19*NR_Reihen_Veränderungsraten!AD13,)","v":0},{"$f":"IF($C100=1,'IN_Definition Index'!$H$19*NR_Reihen_Veränderungsraten!AE13,)","v":0},{"$f":"IF($C100=1,'IN_Definition Index'!$H$19*NR_Reihen_Veränderungsraten!AF13,)","v":0}]
["L","Grundstücks- und Wohnungswesen",{"$f":"'IN_Definition Index'!H17","v":0},{"$f":"IF($C101=1,'IN_Definition Index'!$H$19*NR_Reihen_Veränderungsraten!D14,)","v":0},{"$f":"IF($C101=1,'IN_Definition Index'!$H$19*NR_Reihen_Veränderungsraten!E14,)","v":0},{"$f":"IF($C101=1,'IN_Definition Index'!$H$19*NR_Reihen_Veränderungsraten!F14,)","v":0},{"$f":"IF($C101=1,'IN_Definition Index'!$H$19*NR_Reihen_Veränderungsraten!G14,)","v":0},{"$f":"IF($C101=1,'IN_Definition Index'!$H$19*NR_Reihen_Veränderungsraten!H14,)","v":0},{"$f":"IF($C101=1,'IN_Definition Index'!$H$19*NR_Reihen_Veränderungsraten!I14,)","v":0},{"$f":"IF($C101=1,'IN_Definition Index'!$H$19*NR_Reihen_Veränderungsraten!J14,)","v":0},{"$f":"IF($C101=1,'IN_Definition Index'!$H$19*NR_Reihen_Veränderungsraten!K14,)","v":0},{"$f":"IF($C101=1,'IN_Definition Index'!$H$19*NR_Reihen_Veränderungsraten!L14,)","v":0},{"$f":"IF($C101=1,'IN_Definition Index'!$H$19*NR_Reihen_Veränderungsraten!M14,)","v":0},{"$f":"IF($C101=1,'IN_Definition Index'!$H$19*NR_Reihen_Veränderungsraten!N14,)","v":0},{"$f":"IF($C101=1,'IN_Definition Index'!$H$19*NR_Reihen_Veränderungsraten!O14,)","v":0},{"$f":"IF($C101=1,'IN_Definition Index'!$H$19*NR_Reihen_Veränderungsraten!P14,)","v":0},{"$f":"IF($C101=1,'IN_Definition Index'!$H$19*NR_Reihen_Veränderungsraten!Q14,)","v":0},{"$f":"IF($C101=1,'IN_Definition Index'!$H$19*NR_Reihen_Veränderungsraten!R14,)","v":0},{"$f":"IF($C101=1,'IN_Definition Index'!$H$19*NR_Reihen_Veränderungsraten!S14,)","v":0},{"$f":"IF($C101=1,'IN_Definition Index'!$H$19*NR_Reihen_Veränderungsraten!T14,)","v":0},{"$f":"IF($C101=1,'IN_Definition Index'!$H$19*NR_Reihen_Veränderungsraten!U14,)","v":0},{"$f":"IF($C101=1,'IN_Definition Index'!$H$19*NR_Reihen_Veränderungsraten!V14,)","v":0},{"$f":"IF($C101=1,'IN_Definition Index'!$H$19*NR_Reihen_Veränderungsraten!W14,)","v":0},{"$f":"IF($C101=1,'IN_Definition Index'!$H$19*NR_Reihen_Veränderungsraten!X14,)","v":0},{"$f":"IF($C101=1,'IN_Definition Index'!$H$19*NR_Reihen_Veränderungsraten!Y14,)","v":0},{"$f":"IF($C101=1,'IN_Definition Index'!$H$19*NR_Reihen_Veränderungsraten!Z14,)","v":0},{"$f":"IF($C101=1,'IN_Definition Index'!$H$19*NR_Reihen_Veränderungsraten!AA14,)","v":0},{"$f":"IF($C101=1,'IN_Definition Index'!$H$19*NR_Reihen_Veränderungsraten!AB14,)","v":0},{"$f":"IF($C101=1,'IN_Definition Index'!$H$19*NR_Reihen_Veränderungsraten!AC14,)","v":0},{"$f":"IF($C101=1,'IN_Definition Index'!$H$19*NR_Reihen_Veränderungsraten!AD14,)","v":0},{"$f":"IF($C101=1,'IN_Definition Index'!$H$19*NR_Reihen_Veränderungsraten!AE14,)","v":0},{"$f":"IF($C101=1,'IN_Definition Index'!$H$19*NR_Reihen_Veränderungsraten!AF14,)","v":0}]
[null,"Summe",null,{"$f":"SUM(D91:D101)","v":0.9785254619231043},{"$f":"SUM(E91:E101)","v":0.94494976450264034},{"$f":"SUM(F91:F101)","v":1.0387243903234706},{"$f":"SUM(G91:G101)","v":1.0438819466000404},{"$f":"SUM(H91:H101)","v":1.0311457522023244},{"$f":"SUM(I91:I101)","v":1.029193060939219},{"$f":"SUM(J91:J101)","v":1.0082815268072336},{"$f":"SUM(K91:K101)","v":1.0179762138139397},{"$f":"SUM(L91:L101)","v":0.98003458526195131},{"$f":"SUM(M91:M101)","v":1.02506107323372},{"$f":"SUM(N91:N101)","v":1.0408490571906059},{"$f":"SUM(O91:O101)","v":1.045746446270807},{"$f":"SUM(P91:P101)","v":1.0598154270984197},{"$f":"SUM(Q91:Q101)","v":1.0320973209908795},{"$f":"SUM(R91:R101)","v":1.0720242166960587},{"$f":"SUM(S91:S101)","v":0.98348794960462227},{"$f":"SUM(T91:T101)","v":1.0005674026984039},{"$f":"SUM(U91:U101)","v":0.93496598314856172},{"$f":"SUM(V91:V101)","v":0.99661339180705322},{"$f":"SUM(W91:W101)","v":1.0395480954458778},{"$f":"SUM(X91:X101)","v":0.98988347692964451},{"$f":"SUM(Y91:Y101)","v":0.99505584332557895},{"$f":"SUM(Z91:Z101)","v":1.0197181508634539},{"$f":"SUM(AA91:AA101)","v":0.97570678488858942},{"$f":"SUM(AB91:AB101)","v":1.0100413611372852},{"$f":"SUM(AC91:AC101)","v":0.99700346025496656},1.0086907314701776,{"$error":"#VALUE!"},{"$error":"#VALUE!"}]
[]
["Übrige Prozesse"]
[]
["Nr. (WZ 2008)","Branche","Verwendung",1992,{"$f":"D106+1","v":1993},{"$f":"E106+1","v":1994},{"$f":"F106+1","v":1995},{"$f":"G106+1","v":1996},{"$f":"H106+1","v":1997},{"$f":"I106+1","v":1998},{"$f":"J106+1","v":1999},{"$f":"K106+1","v":2000},{"$f":"L106+1","v":2001},{"$f":"M106+1","v":2002},{"$f":"N106+1","v":2003},{"$f":"O106+1","v":2004},{"$f":"P106+1","v":2005},{"$f":"Q106+1","v":2006},{"$f":"R106+1","v":2007},{"$f":"S106+1","v":2008},{"$f":"T106+1","v":2009},{"$f":"U106+1","v":2010},{"$f":"V106+1","v":2011},{"$f":"W106+1","v":2012},{"$f":"X106+1","v":2013},{"$f":"Y106+1","v":2014},{"$f":"Z106+1","v":2015},{"$f":"AA106+1","v":2016},{"$f":"AB106+1","v":2017},{"$f":"AC106+1","v":2018},{"$f":"AD106+1","v":2019},{"$f":"AE106+1","v":2020}]
["C33","Reparatur und Installation von Maschinen und Ausrüstungen",{"$f":"'IN_Definition Index'!I7","v":0},{"$f":"IF($C107=1,'IN_Definition Index'!$I$19*NR_Reihen_Veränderungsraten!D4,)","v":0},{"$f":"IF($C107=1,'IN_Definition Index'!$I$19*NR_Reihen_Veränderungsraten!E4,)","v":0},{"$f":"IF($C107=1,'IN_Definition Index'!$I$19*NR_Reihen_Veränderungsraten!F4,)","v":0},{"$f":"IF($C107=1,'IN_Definition Index'!$I$19*NR_Reihen_Veränderungsraten!G4,)","v":0},{"$f":"IF($C107=1,'IN_Definition Index'!$I$19*NR_Reihen_Veränderungsraten!H4,)","v":0},{"$f":"IF($C107=1,'IN_Definition Index'!$I$19*NR_Reihen_Veränderungsraten!I4,)","v":0},{"$f":"IF($C107=1,'IN_Definition Index'!$I$19*NR_Reihen_Veränderungsraten!J4,)","v":0},{"$f":"IF($C107=1,'IN_Definition Index'!$I$19*NR_Reihen_Veränderungsraten!K4,)","v":0},{"$f":"IF($C107=1,'IN_Definition Index'!$I$19*NR_Reihen_Veränderungsraten!L4,)","v":0},{"$f":"IF($C107=1,'IN_Definition Index'!$I$19*NR_Reihen_Veränderungsraten!M4,)","v":0},{"$f":"IF($C107=1,'IN_Definition Index'!$I$19*NR_Reihen_Veränderungsraten!N4,)","v":0},{"$f":"IF($C107=1,'IN_Definition Index'!$I$19*NR_Reihen_Veränderungsraten!O4,)","v":0},{"$f":"IF($C107=1,'IN_Definition Index'!$I$19*NR_Reihen_Veränderungsraten!P4,)","v":0},{"$f":"IF($C107=1,'IN_Definition Index'!$I$19*NR_Reihen_Veränderungsraten!Q4,)","v":0},{"$f":"IF($C107=1,'IN_Definition Index'!$I$19*NR_Reihen_Veränderungsraten!R4,)","v":0},{"$f":"IF($C107=1,'IN_Definition Index'!$I$19*NR_Reihen_Veränderungsraten!S4,)","v":0},{"$f":"IF($C107=1,'IN_Definition Index'!$I$19*NR_Reihen_Veränderungsraten!T4,)","v":0},{"$f":"IF($C107=1,'IN_Definition Index'!$I$19*NR_Reihen_Veränderungsraten!U4,)","v":0},{"$f":"IF($C107=1,'IN_Definition Index'!$I$19*NR_Reihen_Veränderungsraten!V4,)","v":0},{"$f":"IF($C107=1,'IN_Definition Index'!$I$19*NR_Reihen_Veränderungsraten!W4,)","v":0},{"$f":"IF($C107=1,'IN_Definition Index'!$I$19*NR_Reihen_Veränderungsraten!X4,)","v":0},{"$f":"IF($C107=1,'IN_Definition Index'!$I$19*NR_Reihen_Veränderungsraten!Y4,)","v":0},{"$f":"IF($C107=1,'IN_Definition Index'!$I$19*NR_Reihen_Veränderungsraten!Z4,)","v":0},{"$f":"IF($C107=1,'IN_Definition Index'!$I$19*NR_Reihen_Veränderungsraten!AA4,)","v":0},{"$f":"IF($C107=1,'IN_Definition Index'!$I$19*NR_Reihen_Veränderungsraten!AB4,)","v":0},{"$f":"IF($C107=1,'IN_Definition Index'!$I$19*NR_Reihen_Veränderungsraten!AC4,)","v":0},{"$f":"IF($C107=1,'IN_Definition Index'!$I$19*NR_Reihen_Veränderungsraten!AD4,)","v":0},{"$f":"IF($C107=1,'IN_Definition Index'!$I$19*NR_Reihen_Veränderungsraten!AE4,)","v":0},{"$f":"IF($C107=1,'IN_Definition Index'!$I$19*NR_Reihen_Veränderungsraten!AF4,)","v":0}]
["G45","Handel mit Kraftfahrzeugen; Instandhaltung und Reparatur von Kraftfahrzeugen",{"$f":"'IN_Definition Index'!I8","v":0},{"$f":"IF($C108=1,'IN_Definition Index'!$I$19*NR_Reihen_Veränderungsraten!D5,)","v":0},{"$f":"IF($C108=1,'IN_Definition Index'!$I$19*NR_Reihen_Veränderungsraten!E5,)","v":0},{"$f":"IF($C108=1,'IN_Definition Index'!$I$19*NR_Reihen_Veränderungsraten!F5,)","v":0},{"$f":"IF($C108=1,'IN_Definition Index'!$I$19*NR_Reihen_Veränderungsraten!G5,)","v":0},{"$f":"IF($C108=1,'IN_Definition Index'!$I$19*NR_Reihen_Veränderungsraten!H5,)","v":0},{"$f":"IF($C108=1,'IN_Definition Index'!$I$19*NR_Reihen_Veränderungsraten!I5,)","v":0},{"$f":"IF($C108=1,'IN_Definition Index'!$I$19*NR_Reihen_Veränderungsraten!J5,)","v":0},{"$f":"IF($C108=1,'IN_Definition Index'!$I$19*NR_Reihen_Veränderungsraten!K5,)","v":0},{"$f":"IF($C108=1,'IN_Definition Index'!$I$19*NR_Reihen_Veränderungsraten!L5,)","v":0},{"$f":"IF($C108=1,'IN_Definition Index'!$I$19*NR_Reihen_Veränderungsraten!M5,)","v":0},{"$f":"IF($C108=1,'IN_Definition Index'!$I$19*NR_Reihen_Veränderungsraten!N5,)","v":0},{"$f":"IF($C108=1,'IN_Definition Index'!$I$19*NR_Reihen_Veränderungsraten!O5,)","v":0},{"$f":"IF($C108=1,'IN_Definition Index'!$I$19*NR_Reihen_Veränderungsraten!P5,)","v":0},{"$f":"IF($C108=1,'IN_Definition Index'!$I$19*NR_Reihen_Veränderungsraten!Q5,)","v":0},{"$f":"IF($C108=1,'IN_Definition Index'!$I$19*NR_Reihen_Veränderungsraten!R5,)","v":0},{"$f":"IF($C108=1,'IN_Definition Index'!$I$19*NR_Reihen_Veränderungsraten!S5,)","v":0},{"$f":"IF($C108=1,'IN_Definition Index'!$I$19*NR_Reihen_Veränderungsraten!T5,)","v":0},{"$f":"IF($C108=1,'IN_Definition Index'!$I$19*NR_Reihen_Veränderungsraten!U5,)","v":0},{"$f":"IF($C108=1,'IN_Definition Index'!$I$19*NR_Reihen_Veränderungsraten!V5,)","v":0},{"$f":"IF($C108=1,'IN_Definition Index'!$I$19*NR_Reihen_Veränderungsraten!W5,)","v":0},{"$f":"IF($C108=1,'IN_Definition Index'!$I$19*NR_Reihen_Veränderungsraten!X5,)","v":0},{"$f":"IF($C108=1,'IN_Definition Index'!$I$19*NR_Reihen_Veränderungsraten!Y5,)","v":0},{"$f":"IF($C108=1,'IN_Definition Index'!$I$19*NR_Reihen_Veränderungsraten!Z5,)","v":0},{"$f":"IF($C108=1,'IN_Definition Index'!$I$19*NR_Reihen_Veränderungsraten!AA5,)","v":0},{"$f":"IF($C108=1,'IN_Definition Index'!$I$19*NR_Reihen_Veränderungsraten!AB5,)","v":0},{"$f":"IF($C108=1,'IN_Definition Index'!$I$19*NR_Reihen_Veränderungsraten!AC5,)","v":0},{"$f":"IF($C108=1,'IN_Definition Index'!$I$19*NR_Reihen_Veränderungsraten!AD5,)","v":0},{"$f":"IF($C108=1,'IN_Definition Index'!$I$19*NR_Reihen_Veränderungsraten!AE5,)","v":0},{"$f":"IF($C108=1,'IN_Definition Index'!$I$19*NR_Reihen_Veränderungsraten!AF5,)","v":0}]
["G47","Einzelhandel (ohne Handel mit Kraftfahrzeugen)",{"$f":"'IN_Definition Index'!I9","v":0},{"$f":"IF($C109=1,'IN_Definition Index'!$I$19*NR_Reihen_Veränderungsraten!D6,)","v":0},{"$f":"IF($C109=1,'IN_Definition Index'!$I$19*NR_Reihen_Veränderungsraten!E6,)","v":0},{"$f":"IF($C109=1,'IN_Definition Index'!$I$19*NR_Reihen_Veränderungsraten!F6,)","v":0},{"$f":"IF($C109=1,'IN_Definition Index'!$I$19*NR_Reihen_Veränderungsraten!G6,)","v":0},{"$f":"IF($C109=1,'IN_Definition Index'!$I$19*NR_Reihen_Veränderungsraten!H6,)","v":0},{"$f":"IF($C109=1,'IN_Definition Index'!$I$19*NR_Reihen_Veränderungsraten!I6,)","v":0},{"$f":"IF($C109=1,'IN_Definition Index'!$I$19*NR_Reihen_Veränderungsraten!J6,)","v":0},{"$f":"IF($C109=1,'IN_Definition Index'!$I$19*NR_Reihen_Veränderungsraten!K6,)","v":0},{"$f":"IF($C109=1,'IN_Definition Index'!$I$19*NR_Reihen_Veränderungsraten!L6,)","v":0},{"$f":"IF($C109=1,'IN_Definition Index'!$I$19*NR_Reihen_Veränderungsraten!M6,)","v":0},{"$f":"IF($C109=1,'IN_Definition Index'!$I$19*NR_Reihen_Veränderungsraten!N6,)","v":0},{"$f":"IF($C109=1,'IN_Definition Index'!$I$19*NR_Reihen_Veränderungsraten!O6,)","v":0},{"$f":"IF($C109=1,'IN_Definition Index'!$I$19*NR_Reihen_Veränderungsraten!P6,)","v":0},{"$f":"IF($C109=1,'IN_Definition Index'!$I$19*NR_Reihen_Veränderungsraten!Q6,)","v":0},{"$f":"IF($C109=1,'IN_Definition Index'!$I$19*NR_Reihen_Veränderungsraten!R6,)","v":0},{"$f":"IF($C109=1,'IN_Definition Index'!$I$19*NR_Reihen_Veränderungsraten!S6,)","v":0},{"$f":"IF($C109=1,'IN_Definition Index'!$I$19*NR_Reihen_Veränderungsraten!T6,)","v":0},{"$f":"IF($C109=1,'IN_Definition Index'!$I$19*NR_Reihen_Veränderungsraten!U6,)","v":0},{"$f":"IF($C109=1,'IN_Definition Index'!$I$19*NR_Reihen_Veränderungsraten!V6,)","v":0},{"$f":"IF($C109=1,'IN_Definition Index'!$I$19*NR_Reihen_Veränderungsraten!W6,)","v":0},{"$f":"IF($C109=1,'IN_Definition Index'!$I$19*NR_Reihen_Veränderungsraten!X6,)","v":0},{"$f":"IF($C109=1,'IN_Definition Index'!$I$19*NR_Reihen_Veränderungsraten!Y6,)","v":0},{"$f":"IF($C109=1,'IN_Definition Index'!$I$19*NR_Reihen_Veränderungsraten!Z6,)","v":0},{"$f":"IF($C109=1,'IN_Definition Index'!$I$19*NR_Reihen_Veränderungsraten!AA6,)","v":0},{"$f":"IF($C109=1,'IN_Definition Index'!$I$19*NR_Reihen_Veränderungsraten!AB6,)","v":0},{"$f":"IF($C109=1,'IN_Definition Index'!$I$19*NR_Reihen_Veränderungsraten!AC6,)","v":0},{"$f":"IF($C109=1,'IN_Definition Index'!$I$19*NR_Reihen_Veränderungsraten!AD6,)","v":0},{"$f":"IF($C109=1,'IN_Definition Index'!$I$19*NR_Reihen_Veränderungsraten!AE6,)","v":0},{"$f":"IF($C109=1,'IN_Definition Index'!$I$19*NR_Reihen_Veränderungsraten!AF6,)","v":0}]
["H49","Landverkehr und Transport in Rohrfernleitungen",{"$f":"'IN_Definition Index'!I10","v":0},{"$f":"IF($C110=1,'IN_Definition Index'!$I$19*NR_Reihen_Veränderungsraten!D7,)","v":0},{"$f":"IF($C110=1,'IN_Definition Index'!$I$19*NR_Reihen_Veränderungsraten!E7,)","v":0},{"$f":"IF($C110=1,'IN_Definition Index'!$I$19*NR_Reihen_Veränderungsraten!F7,)","v":0},{"$f":"IF($C110=1,'IN_Definition Index'!$I$19*NR_Reihen_Veränderungsraten!G7,)","v":0},{"$f":"IF($C110=1,'IN_Definition Index'!$I$19*NR_Reihen_Veränderungsraten!H7,)","v":0},{"$f":"IF($C110=1,'IN_Definition Index'!$I$19*NR_Reihen_Veränderungsraten!I7,)","v":0},{"$f":"IF($C110=1,'IN_Definition Index'!$I$19*NR_Reihen_Veränderungsraten!J7,)","v":0},{"$f":"IF($C110=1,'IN_Definition Index'!$I$19*NR_Reihen_Veränderungsraten!K7,)","v":0},{"$f":"IF($C110=1,'IN_Definition Index'!$I$19*NR_Reihen_Veränderungsraten!L7,)","v":0},{"$f":"IF($C110=1,'IN_Definition Index'!$I$19*NR_Reihen_Veränderungsraten!M7,)","v":0},{"$f":"IF($C110=1,'IN_Definition Index'!$I$19*NR_Reihen_Veränderungsraten!N7,)","v":0},{"$f":"IF($C110=1,'IN_Definition Index'!$I$19*NR_Reihen_Veränderungsraten!O7,)","v":0},{"$f":"IF($C110=1,'IN_Definition Index'!$I$19*NR_Reihen_Veränderungsraten!P7,)","v":0},{"$f":"IF($C110=1,'IN_Definition Index'!$I$19*NR_Reihen_Veränderungsraten!Q7,)","v":0},{"$f":"IF($C110=1,'IN_Definition Index'!$I$19*NR_Reihen_Veränderungsraten!R7,)","v":0},{"$f":"IF($C110=1,'IN_Definition Index'!$I$19*NR_Reihen_Veränderungsraten!S7,)","v":0},{"$f":"IF($C110=1,'IN_Definition Index'!$I$19*NR_Reihen_Veränderungsraten!T7,)","v":0},{"$f":"IF($C110=1,'IN_Definition Index'!$I$19*NR_Reihen_Veränderungsraten!U7,)","v":0},{"$f":"IF($C110=1,'IN_Definition Index'!$I$19*NR_Reihen_Veränderungsraten!V7,)","v":0},{"$f":"IF($C110=1,'IN_Definition Index'!$I$19*NR_Reihen_Veränderungsraten!W7,)","v":0},{"$f":"IF($C110=1,'IN_Definition Index'!$I$19*NR_Reihen_Veränderungsraten!X7,)","v":0},{"$f":"IF($C110=1,'IN_Definition Index'!$I$19*NR_Reihen_Veränderungsraten!Y7,)","v":0},{"$f":"IF($C110=1,'IN_Definition Index'!$I$19*NR_Reihen_Veränderungsraten!Z7,)","v":0},{"$f":"IF($C110=1,'IN_Definition Index'!$I$19*NR_Reihen_Veränderungsraten!AA7,)","v":0},{"$f":"IF($C110=1,'IN_Definition Index'!$I$19*NR_Reihen_Veränderungsraten!AB7,)","v":0},{"$f":"IF($C110=1,'IN_Definition Index'!$I$19*NR_Reihen_Veränderungsraten!AC7,)","v":0},{"$f":"IF($C110=1,'IN_Definition Index'!$I$19*NR_Reihen_Veränderungsraten!AD7,)","v":0},{"$f":"IF($C110=1,'IN_Definition Index'!$I$19*NR_Reihen_Veränderungsraten!AE7,)","v":0},{"$f":"IF($C110=1,'IN_Definition Index'!$I$19*NR_Reihen_Veränderungsraten!AF7,)","v":0}]
["H52","Lagerei sowie Erbringung von sonstigen Dienstleistungen für den Verkehr",{"$f":"'IN_Definition Index'!I11","v":0},{"$f":"IF($C111=1,'IN_Definition Index'!$I$19*NR_Reihen_Veränderungsraten!D8,)","v":0},{"$f":"IF($C111=1,'IN_Definition Index'!$I$19*NR_Reihen_Veränderungsraten!E8,)","v":0},{"$f":"IF($C111=1,'IN_Definition Index'!$I$19*NR_Reihen_Veränderungsraten!F8,)","v":0},{"$f":"IF($C111=1,'IN_Definition Index'!$I$19*NR_Reihen_Veränderungsraten!G8,)","v":0},{"$f":"IF($C111=1,'IN_Definition Index'!$I$19*NR_Reihen_Veränderungsraten!H8,)","v":0},{"$f":"IF($C111=1,'IN_Definition Index'!$I$19*NR_Reihen_Veränderungsraten!I8,)","v":0},{"$f":"IF($C111=1,'IN_Definition Index'!$I$19*NR_Reihen_Veränderungsraten!J8,)","v":0},{"$f":"IF($C111=1,'IN_Definition Index'!$I$19*NR_Reihen_Veränderungsraten!K8,)","v":0},{"$f":"IF($C111=1,'IN_Definition Index'!$I$19*NR_Reihen_Veränderungsraten!L8,)","v":0},{"$f":"IF($C111=1,'IN_Definition Index'!$I$19*NR_Reihen_Veränderungsraten!M8,)","v":0},{"$f":"IF($C111=1,'IN_Definition Index'!$I$19*NR_Reihen_Veränderungsraten!N8,)","v":0},{"$f":"IF($C111=1,'IN_Definition Index'!$I$19*NR_Reihen_Veränderungsraten!O8,)","v":0},{"$f":"IF($C111=1,'IN_Definition Index'!$I$19*NR_Reihen_Veränderungsraten!P8,)","v":0},{"$f":"IF($C111=1,'IN_Definition Index'!$I$19*NR_Reihen_Veränderungsraten!Q8,)","v":0},{"$f":"IF($C111=1,'IN_Definition Index'!$I$19*NR_Reihen_Veränderungsraten!R8,)","v":0},{"$f":"IF($C111=1,'IN_Definition Index'!$I$19*NR_Reihen_Veränderungsraten!S8,)","v":0},{"$f":"IF($C111=1,'IN_Definition Index'!$I$19*NR_Reihen_Veränderungsraten!T8,)","v":0},{"$f":"IF($C111=1,'IN_Definition Index'!$I$19*NR_Reihen_Veränderungsraten!U8,)","v":0},{"$f":"IF($C111=1,'IN_Definition Index'!$I$19*NR_Reihen_Veränderungsraten!V8,)","v":0},{"$f":"IF($C111=1,'IN_Definition Index'!$I$19*NR_Reihen_Veränderungsraten!W8,)","v":0},{"$f":"IF($C111=1,'IN_Definition Index'!$I$19*NR_Reihen_Veränderungsraten!X8,)","v":0},{"$f":"IF($C111=1,'IN_Definition Index'!$I$19*NR_Reihen_Veränderungsraten!Y8,)","v":0},{"$f":"IF($C111=1,'IN_Definition Index'!$I$19*NR_Reihen_Veränderungsraten!Z8,)","v":0},{"$f":"IF($C111=1,'IN_Definition Index'!$I$19*NR_Reihen_Veränderungsraten!AA8,)","v":0},{"$f":"IF($C111=1,'IN_Definition Index'!$I$19*NR_Reihen_Veränderungsraten!AB8,)","v":0},{"$f":"IF($C111=1,'IN_Definition Index'!$I$19*NR_Reihen_Veränderungsraten!AC8,)","v":0},{"$f":"IF($C111=1,'IN_Definition Index'!$I$19*NR_Reihen_Veränderungsraten!AD8,)","v":0},{"$f":"IF($C111=1,'IN_Definition Index'!$I$19*NR_Reihen_Veränderungsraten!AE8,)","v":0},{"$f":"IF($C111=1,'IN_Definition Index'!$I$19*NR_Reihen_Veränderungsraten!AF8,)","v":0}]
["J61","Telekommunikation",{"$f":"'IN_Definition Index'!I12","v":0},{"$f":"IF($C112=1,'IN_Definition Index'!$I$19*NR_Reihen_Veränderungsraten!D9,)","v":0},{"$f":"IF($C112=1,'IN_Definition Index'!$I$19*NR_Reihen_Veränderungsraten!E9,)","v":0},{"$f":"IF($C112=1,'IN_Definition Index'!$I$19*NR_Reihen_Veränderungsraten!F9,)","v":0},{"$f":"IF($C112=1,'IN_Definition Index'!$I$19*NR_Reihen_Veränderungsraten!G9,)","v":0},{"$f":"IF($C112=1,'IN_Definition Index'!$I$19*NR_Reihen_Veränderungsraten!H9,)","v":0},{"$f":"IF($C112=1,'IN_Definition Index'!$I$19*NR_Reihen_Veränderungsraten!I9,)","v":0},{"$f":"IF($C112=1,'IN_Definition Index'!$I$19*NR_Reihen_Veränderungsraten!J9,)","v":0},{"$f":"IF($C112=1,'IN_Definition Index'!$I$19*NR_Reihen_Veränderungsraten!K9,)","v":0},{"$f":"IF($C112=1,'IN_Definition Index'!$I$19*NR_Reihen_Veränderungsraten!L9,)","v":0},{"$f":"IF($C112=1,'IN_Definition Index'!$I$19*NR_Reihen_Veränderungsraten!M9,)","v":0},{"$f":"IF($C112=1,'IN_Definition Index'!$I$19*NR_Reihen_Veränderungsraten!N9,)","v":0},{"$f":"IF($C112=1,'IN_Definition Index'!$I$19*NR_Reihen_Veränderungsraten!O9,)","v":0},{"$f":"IF($C112=1,'IN_Definition Index'!$I$19*NR_Reihen_Veränderungsraten!P9,)","v":0},{"$f":"IF($C112=1,'IN_Definition Index'!$I$19*NR_Reihen_Veränderungsraten!Q9,)","v":0},{"$f":"IF($C112=1,'IN_Definition Index'!$I$19*NR_Reihen_Veränderungsraten!R9,)","v":0},{"$f":"IF($C112=1,'IN_Definition Index'!$I$19*NR_Reihen_Veränderungsraten!S9,)","v":0},{"$f":"IF($C112=1,'IN_Definition Index'!$I$19*NR_Reihen_Veränderungsraten!T9,)","v":0},{"$f":"IF($C112=1,'IN_Definition Index'!$I$19*NR_Reihen_Veränderungsraten!U9,)","v":0},{"$f":"IF($C112=1,'IN_Definition Index'!$I$19*NR_Reihen_Veränderungsraten!V9,)","v":0},{"$f":"IF($C112=1,'IN_Definition Index'!$I$19*NR_Reihen_Veränderungsraten!W9,)","v":0},{"$f":"IF($C112=1,'IN_Definition Index'!$I$19*NR_Reihen_Veränderungsraten!X9,)","v":0},{"$f":"IF($C112=1,'IN_Definition Index'!$I$19*NR_Reihen_Veränderungsraten!Y9,)","v":0},{"$f":"IF($C112=1,'IN_Definition Index'!$I$19*NR_Reihen_Veränderungsraten!Z9,)","v":0},{"$f":"IF($C112=1,'IN_Definition Index'!$I$19*NR_Reihen_Veränderungsraten!AA9,)","v":0},{"$f":"IF($C112=1,'IN_Definition Index'!$I$19*NR_Reihen_Veränderungsraten!AB9,)","v":0},{"$f":"IF($C112=1,'IN_Definition Index'!$I$19*NR_Reihen_Veränderungsraten!AC9,)","v":0},{"$f":"IF($C112=1,'IN_Definition Index'!$I$19*NR_Reihen_Veränderungsraten!AD9,)","v":0},{"$f":"IF($C112=1,'IN_Definition Index'!$I$19*NR_Reihen_Veränderungsraten!AE9,)","v":0},{"$f":"IF($C112=1,'IN_Definition Index'!$I$19*NR_Reihen_Veränderungsraten!AF9,)","v":0}]
["J62-01","IT- und Informationsdienstleister",{"$f":"'IN_Definition Index'!I13","v":1},{"$f":"IF($C113=1,'IN_Definition Index'!$I$19*NR_Reihen_Veränderungsraten!D10,)","v":0.19920524217826993},{"$f":"IF($C113=1,'IN_Definition Index'!$I$19*NR_Reihen_Veränderungsraten!E10,)","v":0.20994769660229984},{"$f":"IF($C113=1,'IN_Definition Index'!$I$19*NR_Reihen_Veränderungsraten!F10,)","v":0.17876348585197435},{"$f":"IF($C113=1,'IN_Definition Index'!$I$19*NR_Reihen_Veränderungsraten!G10,)","v":0.20285059289892288},{"$f":"IF($C113=1,'IN_Definition Index'!$I$19*NR_Reihen_Veränderungsraten!H10,)","v":0.21538873780566689},{"$f":"IF($C113=1,'IN_Definition Index'!$I$19*NR_Reihen_Veränderungsraten!I10,)","v":0.21284561813601283},{"$f":"IF($C113=1,'IN_Definition Index'!$I$19*NR_Reihen_Veränderungsraten!J10,)","v":0.223724977001344},{"$f":"IF($C113=1,'IN_Definition Index'!$I$19*NR_Reihen_Veränderungsraten!K10,)","v":0.18389329802462273},{"$f":"IF($C113=1,'IN_Definition Index'!$I$19*NR_Reihen_Veränderungsraten!L10,)","v":0.19486042969078202},{"$f":"IF($C113=1,'IN_Definition Index'!$I$19*NR_Reihen_Veränderungsraten!M10,)","v":0.20629570365739661},{"$f":"IF($C113=1,'IN_Definition Index'!$I$19*NR_Reihen_Veränderungsraten!N10,)","v":0.19943168209599377},{"$f":"IF($C113=1,'IN_Definition Index'!$I$19*NR_Reihen_Veränderungsraten!O10,)","v":0.18843663755969228},{"$f":"IF($C113=1,'IN_Definition Index'!$I$19*NR_Reihen_Veränderungsraten!P10,)","v":0.20039453313072123},{"$f":"IF($C113=1,'IN_Definition Index'!$I$19*NR_Reihen_Veränderungsraten!Q10,)","v":0.20423081018069442},{"$f":"IF($C113=1,'IN_Definition Index'!$I$19*NR_Reihen_Veränderungsraten!R10,)","v":0.21362982306656653},{"$f":"IF($C113=1,'IN_Definition Index'!$I$19*NR_Reihen_Veränderungsraten!S10,)","v":0.23455752534568655},{"$f":"IF($C113=1,'IN_Definition Index'!$I$19*NR_Reihen_Veränderungsraten!T10,)","v":0.20189579882425701},{"$f":"IF($C113=1,'IN_Definition Index'!$I$19*NR_Reihen_Veränderungsraten!U10,)","v":0.19427379909310877},{"$f":"IF($C113=1,'IN_Definition Index'!$I$19*NR_Reihen_Veränderungsraten!V10,)","v":0.20162483957459409},{"$f":"IF($C113=1,'IN_Definition Index'!$I$19*NR_Reihen_Veränderungsraten!W10,)","v":0.22734560739362766},{"$f":"IF($C113=1,'IN_Definition Index'!$I$19*NR_Reihen_Veränderungsraten!X10,)","v":0.20578168724068299},{"$f":"IF($C113=1,'IN_Definition Index'!$I$19*NR_Reihen_Veränderungsraten!Y10,)","v":0.21301863756459066},{"$f":"IF($C113=1,'IN_Definition Index'!$I$19*NR_Reihen_Veränderungsraten!Z10,)","v":0.20624825903993155},{"$f":"IF($C113=1,'IN_Definition Index'!$I$19*NR_Reihen_Veränderungsraten!AA10,)","v":0.19725959114144853},{"$f":"IF($C113=1,'IN_Definition Index'!$I$19*NR_Reihen_Veränderungsraten!AB10,)","v":0.20376691034043992},{"$f":"IF($C113=1,'IN_Definition Index'!$I$19*NR_Reihen_Veränderungsraten!AC10,)","v":0.20134414617935628},{"$f":"IF($C113=1,'IN_Definition Index'!$I$19*NR_Reihen_Veränderungsraten!AD10,)","v":0.21109110329562758},{"$f":"IF($C113=1,'IN_Definition Index'!$I$19*NR_Reihen_Veränderungsraten!AE10,)","v":{"$error":"#VALUE!"}},{"$f":"IF($C113=1,'IN_Definition Index'!$I$19*NR_Reihen_Veränderungsraten!AF10,)","v":{"$error":"#VALUE!"}}]
["M69-01","Unternehmensnahe Beratungsleistungen ",{"$f":"'IN_Definition Index'!I14","v":1},{"$f":"IF($C114=1,'IN_Definition Index'!$I$19*NR_Reihen_Veränderungsraten!D11,)","v":0.21153040959899982},{"$f":"IF($C114=1,'IN_Definition Index'!$I$19*NR_Reihen_Veränderungsraten!E11,)","v":0.21796926637980762},{"$f":"IF($C114=1,'IN_Definition Index'!$I$19*NR_Reihen_Veränderungsraten!F11,)","v":0.2000096223914235},{"$f":"IF($C114=1,'IN_Definition Index'!$I$19*NR_Reihen_Veränderungsraten!G11,)","v":0.20228343970299179},{"$f":"IF($C114=1,'IN_Definition Index'!$I$19*NR_Reihen_Veränderungsraten!H11,)","v":0.19886739380582233},{"$f":"IF($C114=1,'IN_Definition Index'!$I$19*NR_Reihen_Veränderungsraten!I11,)","v":0.18806573514593583},{"$f":"IF($C114=1,'IN_Definition Index'!$I$19*NR_Reihen_Veränderungsraten!J11,)","v":0.20291189254440678},{"$f":"IF($C114=1,'IN_Definition Index'!$I$19*NR_Reihen_Veränderungsraten!K11,)","v":0.20154972159475182},{"$f":"IF($C114=1,'IN_Definition Index'!$I$19*NR_Reihen_Veränderungsraten!L11,)","v":0.19260180086336609},{"$f":"IF($C114=1,'IN_Definition Index'!$I$19*NR_Reihen_Veränderungsraten!M11,)","v":0.20838604428951843},{"$f":"IF($C114=1,'IN_Definition Index'!$I$19*NR_Reihen_Veränderungsraten!N11,)","v":0.19937501919126022},{"$f":"IF($C114=1,'IN_Definition Index'!$I$19*NR_Reihen_Veränderungsraten!O11,)","v":0.19564408514125442},{"$f":"IF($C114=1,'IN_Definition Index'!$I$19*NR_Reihen_Veränderungsraten!P11,)","v":0.18602401366261043},{"$f":"IF($C114=1,'IN_Definition Index'!$I$19*NR_Reihen_Veränderungsraten!Q11,)","v":0.19852426205228338},{"$f":"IF($C114=1,'IN_Definition Index'!$I$19*NR_Reihen_Veränderungsraten!R11,)","v":0.20078743952233247},{"$f":"IF($C114=1,'IN_Definition Index'!$I$19*NR_Reihen_Veränderungsraten!S11,)","v":0.1988876185109478},{"$f":"IF($C114=1,'IN_Definition Index'!$I$19*NR_Reihen_Veränderungsraten!T11,)","v":0.197274581605593},{"$f":"IF($C114=1,'IN_Definition Index'!$I$19*NR_Reihen_Veränderungsraten!U11,)","v":0.17006037681822445},{"$f":"IF($C114=1,'IN_Definition Index'!$I$19*NR_Reihen_Veränderungsraten!V11,)","v":0.19922950657140753},{"$f":"IF($C114=1,'IN_Definition Index'!$I$19*NR_Reihen_Veränderungsraten!W11,)","v":0.19723744393921666},{"$f":"IF($C114=1,'IN_Definition Index'!$I$19*NR_Reihen_Veränderungsraten!X11,)","v":0.20130780868103396},{"$f":"IF($C114=1,'IN_Definition Index'!$I$19*NR_Reihen_Veränderungsraten!Y11,)","v":0.19279753426334884},{"$f":"IF($C114=1,'IN_Definition Index'!$I$19*NR_Reihen_Veränderungsraten!Z11,)","v":0.19539147693560432},{"$f":"IF($C114=1,'IN_Definition Index'!$I$19*NR_Reihen_Veränderungsraten!AA11,)","v":0.20012355299026161},{"$f":"IF($C114=1,'IN_Definition Index'!$I$19*NR_Reihen_Veränderungsraten!AB11,)","v":0.19775865923872027},{"$f":"IF($C114=1,'IN_Definition Index'!$I$19*NR_Reihen_Veränderungsraten!AC11,)","v":0.21512780322817393},{"$f":"IF($C114=1,'IN_Definition Index'!$I$19*NR_Reihen_Veränderungsraten!AD11,)","v":0.19650249563960642},{"$f":"IF($C114=1,'IN_Definition Index'!$I$19*NR_Reihen_Veränderungsraten!AE11,)","v":{"$error":"#VALUE!"}},{"$f":"IF($C114=1,'IN_Definition Index'!$I$19*NR_Reihen_Veränderungsraten!AF11,)","v":{"$error":"#VALUE!"}}]
["M73","Werbung und Marktforschung",{"$f":"'IN_Definition Index'!I15","v":1},{"$f":"IF($C115=1,'IN_Definition Index'!$I$19*NR_Reihen_Veränderungsraten!D12,)","v":0.20359237068003871},{"$f":"IF($C115=1,'IN_Definition Index'!$I$19*NR_Reihen_Veränderungsraten!E12,)","v":0.21958831128907055},{"$f":"IF($C115=1,'IN_Definition Index'!$I$19*NR_Reihen_Veränderungsraten!F12,)","v":0.20520464505524824},{"$f":"IF($C115=1,'IN_Definition Index'!$I$19*NR_Reihen_Veränderungsraten!G12,)","v":0.2017103012170435},{"$f":"IF($C115=1,'IN_Definition Index'!$I$19*NR_Reihen_Veränderungsraten!H12,)","v":0.1863863751565619},{"$f":"IF($C115=1,'IN_Definition Index'!$I$19*NR_Reihen_Veränderungsraten!I12,)","v":0.20280004264850546},{"$f":"IF($C115=1,'IN_Definition Index'!$I$19*NR_Reihen_Veränderungsraten!J12,)","v":0.17882901240356477},{"$f":"IF($C115=1,'IN_Definition Index'!$I$19*NR_Reihen_Veränderungsraten!K12,)","v":0.19846177231226045},{"$f":"IF($C115=1,'IN_Definition Index'!$I$19*NR_Reihen_Veränderungsraten!L12,)","v":0.19494630731567109},{"$f":"IF($C115=1,'IN_Definition Index'!$I$19*NR_Reihen_Veränderungsraten!M12,)","v":0.17066158348193097},{"$f":"IF($C115=1,'IN_Definition Index'!$I$19*NR_Reihen_Veränderungsraten!N12,)","v":0.17101312732598639},{"$f":"IF($C115=1,'IN_Definition Index'!$I$19*NR_Reihen_Veränderungsraten!O12,)","v":0.20342974159315294},{"$f":"IF($C115=1,'IN_Definition Index'!$I$19*NR_Reihen_Veränderungsraten!P12,)","v":0.20230246811205627},{"$f":"IF($C115=1,'IN_Definition Index'!$I$19*NR_Reihen_Veränderungsraten!Q12,)","v":0.1867163671462409},{"$f":"IF($C115=1,'IN_Definition Index'!$I$19*NR_Reihen_Veränderungsraten!R12,)","v":0.21437048043189133},{"$f":"IF($C115=1,'IN_Definition Index'!$I$19*NR_Reihen_Veränderungsraten!S12,)","v":0.20034715424460978},{"$f":"IF($C115=1,'IN_Definition Index'!$I$19*NR_Reihen_Veränderungsraten!T12,)","v":0.20061225434093519},{"$f":"IF($C115=1,'IN_Definition Index'!$I$19*NR_Reihen_Veränderungsraten!U12,)","v":0.16976647789854624},{"$f":"IF($C115=1,'IN_Definition Index'!$I$19*NR_Reihen_Veränderungsraten!V12,)","v":0.2041881080834409},{"$f":"IF($C115=1,'IN_Definition Index'!$I$19*NR_Reihen_Veränderungsraten!W12,)","v":0.2012814359433559},{"$f":"IF($C115=1,'IN_Definition Index'!$I$19*NR_Reihen_Veränderungsraten!X12,)","v":0.19638496032757738},{"$f":"IF($C115=1,'IN_Definition Index'!$I$19*NR_Reihen_Veränderungsraten!Y12,)","v":0.21960304900031977},{"$f":"IF($C115=1,'IN_Definition Index'!$I$19*NR_Reihen_Veränderungsraten!Z12,)","v":0.19475968844712732},{"$f":"IF($C115=1,'IN_Definition Index'!$I$19*NR_Reihen_Veränderungsraten!AA12,)","v":0.19729055567064605},{"$f":"IF($C115=1,'IN_Definition Index'!$I$19*NR_Reihen_Veränderungsraten!AB12,)","v":0.19630623711279846},{"$f":"IF($C115=1,'IN_Definition Index'!$I$19*NR_Reihen_Veränderungsraten!AC12,)","v":0.194340465309147},{"$f":"IF($C115=1,'IN_Definition Index'!$I$19*NR_Reihen_Veränderungsraten!AD12,)","v":0.18588004179160844},{"$f":"IF($C115=1,'IN_Definition Index'!$I$19*NR_Reihen_Veränderungsraten!AE12,)","v":{"$error":"#VALUE!"}},{"$f":"IF($C115=1,'IN_Definition Index'!$I$19*NR_Reihen_Veränderungsraten!AF12,)","v":{"$error":"#VALUE!"}}]
["M74-01","Freiberufl.,wiss.,techn.DL a.n.g., Veterinärwesen",{"$f":"'IN_Definition Index'!I16","v":1},{"$f":"IF($C116=1,'IN_Definition Index'!$I$19*NR_Reihen_Veränderungsraten!D13,)","v":0.23219530706045341},{"$f":"IF($C116=1,'IN_Definition Index'!$I$19*NR_Reihen_Veränderungsraten!E13,)","v":0.19757976509538522},{"$f":"IF($C116=1,'IN_Definition Index'!$I$19*NR_Reihen_Veränderungsraten!F13,)","v":0.18985722926209947},{"$f":"IF($C116=1,'IN_Definition Index'!$I$19*NR_Reihen_Veränderungsraten!G13,)","v":0.20513632166494367},{"$f":"IF($C116=1,'IN_Definition Index'!$I$19*NR_Reihen_Veränderungsraten!H13,)","v":0.1907035516553183},{"$f":"IF($C116=1,'IN_Definition Index'!$I$19*NR_Reihen_Veränderungsraten!I13,)","v":0.21217975507469561},{"$f":"IF($C116=1,'IN_Definition Index'!$I$19*NR_Reihen_Veränderungsraten!J13,)","v":0.1873063063699982},{"$f":"IF($C116=1,'IN_Definition Index'!$I$19*NR_Reihen_Veränderungsraten!K13,)","v":0.18300702109556982},{"$f":"IF($C116=1,'IN_Definition Index'!$I$19*NR_Reihen_Veränderungsraten!L13,)","v":0.20599513622051413},{"$f":"IF($C116=1,'IN_Definition Index'!$I$19*NR_Reihen_Veränderungsraten!M13,)","v":0.19093771668468687},{"$f":"IF($C116=1,'IN_Definition Index'!$I$19*NR_Reihen_Veränderungsraten!N13,)","v":0.19926663772635578},{"$f":"IF($C116=1,'IN_Definition Index'!$I$19*NR_Reihen_Veränderungsraten!O13,)","v":0.17573374994356455},{"$f":"IF($C116=1,'IN_Definition Index'!$I$19*NR_Reihen_Veränderungsraten!P13,)","v":0.18455628269056293},{"$f":"IF($C116=1,'IN_Definition Index'!$I$19*NR_Reihen_Veränderungsraten!Q13,)","v":0.2002389410782453},{"$f":"IF($C116=1,'IN_Definition Index'!$I$19*NR_Reihen_Veränderungsraten!R13,)","v":0.20157300114595902},{"$f":"IF($C116=1,'IN_Definition Index'!$I$19*NR_Reihen_Veränderungsraten!S13,)","v":0.1992048727614435},{"$f":"IF($C116=1,'IN_Definition Index'!$I$19*NR_Reihen_Veränderungsraten!T13,)","v":0.1904123880114838},{"$f":"IF($C116=1,'IN_Definition Index'!$I$19*NR_Reihen_Veränderungsraten!U13,)","v":0.18221056225697907},{"$f":"IF($C116=1,'IN_Definition Index'!$I$19*NR_Reihen_Veränderungsraten!V13,)","v":0.1923668818061883},{"$f":"IF($C116=1,'IN_Definition Index'!$I$19*NR_Reihen_Veränderungsraten!W13,)","v":0.19595134893100746},{"$f":"IF($C116=1,'IN_Definition Index'!$I$19*NR_Reihen_Veränderungsraten!X13,)","v":0.21117764679808471},{"$f":"IF($C116=1,'IN_Definition Index'!$I$19*NR_Reihen_Veränderungsraten!Y13,)","v":0.19971614568319618},{"$f":"IF($C116=1,'IN_Definition Index'!$I$19*NR_Reihen_Veränderungsraten!Z13,)","v":0.19005283861102437},{"$f":"IF($C116=1,'IN_Definition Index'!$I$19*NR_Reihen_Veränderungsraten!AA13,)","v":0.20385214394351181},{"$f":"IF($C116=1,'IN_Definition Index'!$I$19*NR_Reihen_Veränderungsraten!AB13,)","v":0.24618639736074741},{"$f":"IF($C116=1,'IN_Definition Index'!$I$19*NR_Reihen_Veränderungsraten!AC13,)","v":0.16721992802807101},{"$f":"IF($C116=1,'IN_Definition Index'!$I$19*NR_Reihen_Veränderungsraten!AD13,)","v":0.21266569648575484},{"$f":"IF($C116=1,'IN_Definition Index'!$I$19*NR_Reihen_Veränderungsraten!AE13,)","v":{"$error":"#VALUE!"}},{"$f":"IF($C116=1,'IN_Definition Index'!$I$19*NR_Reihen_Veränderungsraten!AF13,)","v":{"$error":"#VALUE!"}}]
["L","Grundstücks- und Wohnungswesen",{"$f":"'IN_Definition Index'!I17","v":1},{"$f":"IF($C117=1,'IN_Definition Index'!$I$19*NR_Reihen_Veränderungsraten!D14,)","v":0.2031715615758814},{"$f":"IF($C117=1,'IN_Definition Index'!$I$19*NR_Reihen_Veränderungsraten!E14,)","v":0.20269725905483071},{"$f":"IF($C117=1,'IN_Definition Index'!$I$19*NR_Reihen_Veränderungsraten!F14,)","v":0.20383770934204357},{"$f":"IF($C117=1,'IN_Definition Index'!$I$19*NR_Reihen_Veränderungsraten!G14,)","v":0.21129183084325798},{"$f":"IF($C117=1,'IN_Definition Index'!$I$19*NR_Reihen_Veränderungsraten!H14,)","v":0.21082408795032137},{"$f":"IF($C117=1,'IN_Definition Index'!$I$19*NR_Reihen_Veränderungsraten!I14,)","v":0.19980138957651752},{"$f":"IF($C117=1,'IN_Definition Index'!$I$19*NR_Reihen_Veränderungsraten!J14,)","v":0.20056295035364716},{"$f":"IF($C117=1,'IN_Definition Index'!$I$19*NR_Reihen_Veränderungsraten!K14,)","v":0.19268371163935727},{"$f":"IF($C117=1,'IN_Definition Index'!$I$19*NR_Reihen_Veränderungsraten!L14,)","v":0.2020371719090803},{"$f":"IF($C117=1,'IN_Definition Index'!$I$19*NR_Reihen_Veränderungsraten!M14,)","v":0.203625583790399},{"$f":"IF($C117=1,'IN_Definition Index'!$I$19*NR_Reihen_Veränderungsraten!N14,)","v":0.20173760603190291},{"$f":"IF($C117=1,'IN_Definition Index'!$I$19*NR_Reihen_Veränderungsraten!O14,)","v":0.20019311310144949},{"$f":"IF($C117=1,'IN_Definition Index'!$I$19*NR_Reihen_Veränderungsraten!P14,)","v":0.19734652789830281},{"$f":"IF($C117=1,'IN_Definition Index'!$I$19*NR_Reihen_Veränderungsraten!Q14,)","v":0.20093010483789242},{"$f":"IF($C117=1,'IN_Definition Index'!$I$19*NR_Reihen_Veränderungsraten!R14,)","v":0.2013507365609844},{"$f":"IF($C117=1,'IN_Definition Index'!$I$19*NR_Reihen_Veränderungsraten!S14,)","v":0.20226050463442849},{"$f":"IF($C117=1,'IN_Definition Index'!$I$19*NR_Reihen_Veränderungsraten!T14,)","v":0.19981624913768992},{"$f":"IF($C117=1,'IN_Definition Index'!$I$19*NR_Reihen_Veränderungsraten!U14,)","v":0.20127689150511041},{"$f":"IF($C117=1,'IN_Definition Index'!$I$19*NR_Reihen_Veränderungsraten!V14,)","v":0.1949276630161294},{"$f":"IF($C117=1,'IN_Definition Index'!$I$19*NR_Reihen_Veränderungsraten!W14,)","v":0.20550197474117235},{"$f":"IF($C117=1,'IN_Definition Index'!$I$19*NR_Reihen_Veränderungsraten!X14,)","v":0.1918501926804414},{"$f":"IF($C117=1,'IN_Definition Index'!$I$19*NR_Reihen_Veränderungsraten!Y14,)","v":0.20213059862968202},{"$f":"IF($C117=1,'IN_Definition Index'!$I$19*NR_Reihen_Veränderungsraten!Z14,)","v":0.19796983808938332},{"$f":"IF($C117=1,'IN_Definition Index'!$I$19*NR_Reihen_Veränderungsraten!AA14,)","v":0.19986714130873098},{"$f":"IF($C117=1,'IN_Definition Index'!$I$19*NR_Reihen_Veränderungsraten!AB14,)","v":0.19820688335598799},{"$f":"IF($C117=1,'IN_Definition Index'!$I$19*NR_Reihen_Veränderungsraten!AC14,)","v":0.19670756238530829},{"$f":"IF($C117=1,'IN_Definition Index'!$I$19*NR_Reihen_Veränderungsraten!AD14,)","v":0.19768427730998417},{"$f":"IF($C117=1,'IN_Definition Index'!$I$19*NR_Reihen_Veränderungsraten!AE14,)","v":0.19895344456299324},{"$f":"IF($C117=1,'IN_Definition Index'!$I$19*NR_Reihen_Veränderungsraten!AF14,)","v":{"$error":"#DIV/0!"}}]
[null,"Summe",null,{"$f":"SUM(D107:D117)","v":1.0496948910936432},{"$f":"SUM(E107:E117)","v":1.047782298421394},{"$f":"SUM(F107:F117)","v":0.97767269190278916},{"$f":"SUM(G107:G117)","v":1.0232724863271598},{"$f":"SUM(H107:H117)","v":1.0021701463736907},{"$f":"SUM(I107:I117)","v":1.0156925405816672},{"$f":"SUM(J107:J117)","v":0.99333513867296086},{"$f":"SUM(K107:K117)","v":0.95959552466656206},{"$f":"SUM(L107:L117)","v":0.99044084599941362},{"$f":"SUM(M107:M117)","v":0.97990663190393179},{"$f":"SUM(N107:N117)","v":0.97082407237149904},{"$f":"SUM(O107:O117)","v":0.9634373273391138},{"$f":"SUM(P107:P117)","v":0.97062382549425363},{"$f":"SUM(Q107:Q117)","v":0.99064048529535631},{"$f":"SUM(R107:R117)","v":1.0317114807277337},{"$f":"SUM(S107:S117)","v":1.0352576754971161},{"$f":"SUM(T107:T117)","v":0.99001127191995886},{"$f":"SUM(U107:U117)","v":0.91758810757196896},{"$f":"SUM(V107:V117)","v":0.99233699905176032},{"$f":"SUM(W107:W117)","v":1.02731781094838},{"$f":"SUM(X107:X117)","v":1.0065022957278205},{"$f":"SUM(Y107:Y117)","v":1.0272659651411375},{"$f":"SUM(Z107:Z117)","v":0.98442210112307083},{"$f":"SUM(AA107:AA117)","v":0.99839298505459895},{"$f":"SUM(AB107:AB117)","v":1.042225087408694},{"$f":"SUM(AC107:AC117)","v":0.97473990513005648},1.0038236145225814,{"$error":"#VALUE!"},{"$error":"#VALUE!"}]
[]
["∆ Arbeitsproduktivität"]
[]
["Annahme"]
[]
["Nr. (WZ 2008)","Branche","Verwendung",1992,{"$f":"D124+1","v":1993},{"$f":"E124+1","v":1994},{"$f":"F124+1","v":1995},{"$f":"G124+1","v":1996},{"$f":"H124+1","v":1997},{"$f":"I124+1","v":1998},{"$f":"J124+1","v":1999},{"$f":"K124+1","v":2000},{"$f":"L124+1","v":2001},{"$f":"M124+1","v":2002},{"$f":"N124+1","v":2003},{"$f":"O124+1","v":2004},{"$f":"P124+1","v":2005},{"$f":"Q124+1","v":2006},{"$f":"R124+1","v":2007},{"$f":"S124+1","v":2008},{"$f":"T124+1","v":2009},{"$f":"U124+1","v":2010},{"$f":"V124+1","v":2011},{"$f":"W124+1","v":2012},{"$f":"X124+1","v":2013},{"$f":"Y124+1","v":2014},{"$f":"Z124+1","v":2015},{"$f":"AA124+1","v":2016},{"$f":"AB124+1","v":2017},{"$f":"AC124+1","v":2018},{"$f":"AD124+1","v":2019},{"$f":"AE124+1","v":2020}]
["C33","Reparatur und Installation von Maschinen und Ausrüstungen",{"$f":"'IN_Definition Index'!E7","v":0},{"$f":"IF($C125=1,'IN_Definition Index'!$E$19*NR_Reihen_Veränderungsraten!D19,)","v":0},{"$f":"IF($C125=1,'IN_Definition Index'!$E$19*NR_Reihen_Veränderungsraten!E19,)","v":0},{"$f":"IF($C125=1,'IN_Definition Index'!$E$19*NR_Reihen_Veränderungsraten!F19,)","v":0},{"$f":"IF($C125=1,'IN_Definition Index'!$E$19*NR_Reihen_Veränderungsraten!G19,)","v":0},{"$f":"IF($C125=1,'IN_Definition Index'!$E$19*NR_Reihen_Veränderungsraten!H19,)","v":0},{"$f":"IF($C125=1,'IN_Definition Index'!$E$19*NR_Reihen_Veränderungsraten!I19,)","v":0},{"$f":"IF($C125=1,'IN_Definition Index'!$E$19*NR_Reihen_Veränderungsraten!J19,)","v":0},{"$f":"IF($C125=1,'IN_Definition Index'!$E$19*NR_Reihen_Veränderungsraten!K19,)","v":0},{"$f":"IF($C125=1,'IN_Definition Index'!$E$19*NR_Reihen_Veränderungsraten!L19,)","v":0},{"$f":"IF($C125=1,'IN_Definition Index'!$E$19*NR_Reihen_Veränderungsraten!M19,)","v":0},{"$f":"IF($C125=1,'IN_Definition Index'!$E$19*NR_Reihen_Veränderungsraten!N19,)","v":0},{"$f":"IF($C125=1,'IN_Definition Index'!$E$19*NR_Reihen_Veränderungsraten!O19,)","v":0},{"$f":"IF($C125=1,'IN_Definition Index'!$E$19*NR_Reihen_Veränderungsraten!P19,)","v":0},{"$f":"IF($C125=1,'IN_Definition Index'!$E$19*NR_Reihen_Veränderungsraten!Q19,)","v":0},{"$f":"IF($C125=1,'IN_Definition Index'!$E$19*NR_Reihen_Veränderungsraten!R19,)","v":0},{"$f":"IF($C125=1,'IN_Definition Index'!$E$19*NR_Reihen_Veränderungsraten!S19,)","v":0},{"$f":"IF($C125=1,'IN_Definition Index'!$E$19*NR_Reihen_Veränderungsraten!T19,)","v":0},{"$f":"IF($C125=1,'IN_Definition Index'!$E$19*NR_Reihen_Veränderungsraten!U19,)","v":0},{"$f":"IF($C125=1,'IN_Definition Index'!$E$19*NR_Reihen_Veränderungsraten!V19,)","v":0},{"$f":"IF($C125=1,'IN_Definition Index'!$E$19*NR_Reihen_Veränderungsraten!W19,)","v":0},{"$f":"IF($C125=1,'IN_Definition Index'!$E$19*NR_Reihen_Veränderungsraten!X19,)","v":0},{"$f":"IF($C125=1,'IN_Definition Index'!$E$19*NR_Reihen_Veränderungsraten!Y19,)","v":0},{"$f":"IF($C125=1,'IN_Definition Index'!$E$19*NR_Reihen_Veränderungsraten!Z19,)","v":0},{"$f":"IF($C125=1,'IN_Definition Index'!$E$19*NR_Reihen_Veränderungsraten!AA19,)","v":0},{"$f":"IF($C125=1,'IN_Definition Index'!$E$19*NR_Reihen_Veränderungsraten!AB19,)","v":0},{"$f":"IF($C125=1,'IN_Definition Index'!$E$19*NR_Reihen_Veränderungsraten!AC19,)","v":0},{"$f":"IF($C125=1,'IN_Definition Index'!$E$19*NR_Reihen_Veränderungsraten!AD19,)","v":0},{"$f":"IF($C125=1,'IN_Definition Index'!$E$19*NR_Reihen_Veränderungsraten!AE19,)","v":0},{"$f":"IF($C125=1,'IN_Definition Index'!$E$19*NR_Reihen_Veränderungsraten!AF19,)","v":0}]
["G45","Handel mit Kraftfahrzeugen; Instandhaltung und Reparatur von Kraftfahrzeugen",{"$f":"'IN_Definition Index'!E8","v":0},{"$f":"IF($C126=1,'IN_Definition Index'!$E$19*NR_Reihen_Veränderungsraten!D20,)","v":0},{"$f":"IF($C126=1,'IN_Definition Index'!$E$19*NR_Reihen_Veränderungsraten!E20,)","v":0},{"$f":"IF($C126=1,'IN_Definition Index'!$E$19*NR_Reihen_Veränderungsraten!F20,)","v":0},{"$f":"IF($C126=1,'IN_Definition Index'!$E$19*NR_Reihen_Veränderungsraten!G20,)","v":0},{"$f":"IF($C126=1,'IN_Definition Index'!$E$19*NR_Reihen_Veränderungsraten!H20,)","v":0},{"$f":"IF($C126=1,'IN_Definition Index'!$E$19*NR_Reihen_Veränderungsraten!I20,)","v":0},{"$f":"IF($C126=1,'IN_Definition Index'!$E$19*NR_Reihen_Veränderungsraten!J20,)","v":0},{"$f":"IF($C126=1,'IN_Definition Index'!$E$19*NR_Reihen_Veränderungsraten!K20,)","v":0},{"$f":"IF($C126=1,'IN_Definition Index'!$E$19*NR_Reihen_Veränderungsraten!L20,)","v":0},{"$f":"IF($C126=1,'IN_Definition Index'!$E$19*NR_Reihen_Veränderungsraten!M20,)","v":0},{"$f":"IF($C126=1,'IN_Definition Index'!$E$19*NR_Reihen_Veränderungsraten!N20,)","v":0},{"$f":"IF($C126=1,'IN_Definition Index'!$E$19*NR_Reihen_Veränderungsraten!O20,)","v":0},{"$f":"IF($C126=1,'IN_Definition Index'!$E$19*NR_Reihen_Veränderungsraten!P20,)","v":0},{"$f":"IF($C126=1,'IN_Definition Index'!$E$19*NR_Reihen_Veränderungsraten!Q20,)","v":0},{"$f":"IF($C126=1,'IN_Definition Index'!$E$19*NR_Reihen_Veränderungsraten!R20,)","v":0},{"$f":"IF($C126=1,'IN_Definition Index'!$E$19*NR_Reihen_Veränderungsraten!S20,)","v":0},{"$f":"IF($C126=1,'IN_Definition Index'!$E$19*NR_Reihen_Veränderungsraten!T20,)","v":0},{"$f":"IF($C126=1,'IN_Definition Index'!$E$19*NR_Reihen_Veränderungsraten!U20,)","v":0},{"$f":"IF($C126=1,'IN_Definition Index'!$E$19*NR_Reihen_Veränderungsraten!V20,)","v":0},{"$f":"IF($C126=1,'IN_Definition Index'!$E$19*NR_Reihen_Veränderungsraten!W20,)","v":0},{"$f":"IF($C126=1,'IN_Definition Index'!$E$19*NR_Reihen_Veränderungsraten!X20,)","v":0},{"$f":"IF($C126=1,'IN_Definition Index'!$E$19*NR_Reihen_Veränderungsraten!Y20,)","v":0},{"$f":"IF($C126=1,'IN_Definition Index'!$E$19*NR_Reihen_Veränderungsraten!Z20,)","v":0},{"$f":"IF($C126=1,'IN_Definition Index'!$E$19*NR_Reihen_Veränderungsraten!AA20,)","v":0},{"$f":"IF($C126=1,'IN_Definition Index'!$E$19*NR_Reihen_Veränderungsraten!AB20,)","v":0},{"$f":"IF($C126=1,'IN_Definition Index'!$E$19*NR_Reihen_Veränderungsraten!AC20,)","v":0},{"$f":"IF($C126=1,'IN_Definition Index'!$E$19*NR_Reihen_Veränderungsraten!AD20,)","v":0},{"$f":"IF($C126=1,'IN_Definition Index'!$E$19*NR_Reihen_Veränderungsraten!AE20,)","v":0},{"$f":"IF($C126=1,'IN_Definition Index'!$E$19*NR_Reihen_Veränderungsraten!AF20,)","v":0}]
["G47","Einzelhandel (ohne Handel mit Kraftfahrzeugen)",{"$f":"'IN_Definition Index'!E9","v":1},{"$f":"IF($C127=1,'IN_Definition Index'!$E$19*NR_Reihen_Veränderungsraten!D21,)","v":1.0195314074142157},{"$f":"IF($C127=1,'IN_Definition Index'!$E$19*NR_Reihen_Veränderungsraten!E21,)","v":0.95401560286501419},{"$f":"IF($C127=1,'IN_Definition Index'!$E$19*NR_Reihen_Veränderungsraten!F21,)","v":1.0160885300638494},{"$f":"IF($C127=1,'IN_Definition Index'!$E$19*NR_Reihen_Veränderungsraten!G21,)","v":1.015231870511369},{"$f":"IF($C127=1,'IN_Definition Index'!$E$19*NR_Reihen_Veränderungsraten!H21,)","v":0.98168465961206441},{"$f":"IF($C127=1,'IN_Definition Index'!$E$19*NR_Reihen_Veränderungsraten!I21,)","v":0.98904516972603962},{"$f":"IF($C127=1,'IN_Definition Index'!$E$19*NR_Reihen_Veränderungsraten!J21,)","v":1.0009844325501442},{"$f":"IF($C127=1,'IN_Definition Index'!$E$19*NR_Reihen_Veränderungsraten!K21,)","v":1.0053711336040345},{"$f":"IF($C127=1,'IN_Definition Index'!$E$19*NR_Reihen_Veränderungsraten!L21,)","v":0.99198416365581787},{"$f":"IF($C127=1,'IN_Definition Index'!$E$19*NR_Reihen_Veränderungsraten!M21,)","v":1.0253363750514171},{"$f":"IF($C127=1,'IN_Definition Index'!$E$19*NR_Reihen_Veränderungsraten!N21,)","v":0.96308685031693886},{"$f":"IF($C127=1,'IN_Definition Index'!$E$19*NR_Reihen_Veränderungsraten!O21,)","v":1.0165298404855867},{"$f":"IF($C127=1,'IN_Definition Index'!$E$19*NR_Reihen_Veränderungsraten!P21,)","v":0.98232577573343716},{"$f":"IF($C127=1,'IN_Definition Index'!$E$19*NR_Reihen_Veränderungsraten!Q21,)","v":0.98207230312616167},{"$f":"IF($C127=1,'IN_Definition Index'!$E$19*NR_Reihen_Veränderungsraten!R21,)","v":1.0607374190680128},{"$f":"IF($C127=1,'IN_Definition Index'!$E$19*NR_Reihen_Veränderungsraten!S21,)","v":0.9998888218808395},{"$f":"IF($C127=1,'IN_Definition Index'!$E$19*NR_Reihen_Veränderungsraten!T21,)","v":0.97882476789573569},{"$f":"IF($C127=1,'IN_Definition Index'!$E$19*NR_Reihen_Veränderungsraten!U21,)","v":1.0119779266932527},{"$f":"IF($C127=1,'IN_Definition Index'!$E$19*NR_Reihen_Veränderungsraten!V21,)","v":1.0254285637376066},{"$f":"IF($C127=1,'IN_Definition Index'!$E$19*NR_Reihen_Veränderungsraten!W21,)","v":0.97864958742905184},{"$f":"IF($C127=1,'IN_Definition Index'!$E$19*NR_Reihen_Veränderungsraten!X21,)","v":1.0001290569466372},{"$f":"IF($C127=1,'IN_Definition Index'!$E$19*NR_Reihen_Veränderungsraten!Y21,)","v":0.99733702698902837},{"$f":"IF($C127=1,'IN_Definition Index'!$E$19*NR_Reihen_Veränderungsraten!Z21,)","v":1.0267670568282918},{"$f":"IF($C127=1,'IN_Definition Index'!$E$19*NR_Reihen_Veränderungsraten!AA21,)","v":1.0750024506696494},{"$f":"IF($C127=1,'IN_Definition Index'!$E$19*NR_Reihen_Veränderungsraten!AB21,)","v":1.0280504032258062},{"$f":"IF($C127=1,'IN_Definition Index'!$E$19*NR_Reihen_Veränderungsraten!AC21,)","v":1.0275193299722771},{"$f":"IF($C127=1,'IN_Definition Index'!$E$19*NR_Reihen_Veränderungsraten!AD21,)","v":0.99385717779433835},{"$f":"IF($C127=1,'IN_Definition Index'!$E$19*NR_Reihen_Veränderungsraten!AE21,)","v":{"$error":"#VALUE!"}},{"$f":"IF($C127=1,'IN_Definition Index'!$E$19*NR_Reihen_Veränderungsraten!AF21,)","v":{"$error":"#VALUE!"}}]
["H49","Landverkehr und Transport in Rohrfernleitungen",{"$f":"'IN_Definition Index'!E10","v":0},{"$f":"IF($C128=1,'IN_Definition Index'!$E$19*NR_Reihen_Veränderungsraten!D22,)","v":0},{"$f":"IF($C128=1,'IN_Definition Index'!$E$19*NR_Reihen_Veränderungsraten!E22,)","v":0},{"$f":"IF($C128=1,'IN_Definition Index'!$E$19*NR_Reihen_Veränderungsraten!F22,)","v":0},{"$f":"IF($C128=1,'IN_Definition Index'!$E$19*NR_Reihen_Veränderungsraten!G22,)","v":0},{"$f":"IF($C128=1,'IN_Definition Index'!$E$19*NR_Reihen_Veränderungsraten!H22,)","v":0},{"$f":"IF($C128=1,'IN_Definition Index'!$E$19*NR_Reihen_Veränderungsraten!I22,)","v":0},{"$f":"IF($C128=1,'IN_Definition Index'!$E$19*NR_Reihen_Veränderungsraten!J22,)","v":0},{"$f":"IF($C128=1,'IN_Definition Index'!$E$19*NR_Reihen_Veränderungsraten!K22,)","v":0},{"$f":"IF($C128=1,'IN_Definition Index'!$E$19*NR_Reihen_Veränderungsraten!L22,)","v":0},{"$f":"IF($C128=1,'IN_Definition Index'!$E$19*NR_Reihen_Veränderungsraten!M22,)","v":0},{"$f":"IF($C128=1,'IN_Definition Index'!$E$19*NR_Reihen_Veränderungsraten!N22,)","v":0},{"$f":"IF($C128=1,'IN_Definition Index'!$E$19*NR_Reihen_Veränderungsraten!O22,)","v":0},{"$f":"IF($C128=1,'IN_Definition Index'!$E$19*NR_Reihen_Veränderungsraten!P22,)","v":0},{"$f":"IF($C128=1,'IN_Definition Index'!$E$19*NR_Reihen_Veränderungsraten!Q22,)","v":0},{"$f":"IF($C128=1,'IN_Definition Index'!$E$19*NR_Reihen_Veränderungsraten!R22,)","v":0},{"$f":"IF($C128=1,'IN_Definition Index'!$E$19*NR_Reihen_Veränderungsraten!S22,)","v":0},{"$f":"IF($C128=1,'IN_Definition Index'!$E$19*NR_Reihen_Veränderungsraten!T22,)","v":0},{"$f":"IF($C128=1,'IN_Definition Index'!$E$19*NR_Reihen_Veränderungsraten!U22,)","v":0},{"$f":"IF($C128=1,'IN_Definition Index'!$E$19*NR_Reihen_Veränderungsraten!V22,)","v":0},{"$f":"IF($C128=1,'IN_Definition Index'!$E$19*NR_Reihen_Veränderungsraten!W22,)","v":0},{"$f":"IF($C128=1,'IN_Definition Index'!$E$19*NR_Reihen_Veränderungsraten!X22,)","v":0},{"$f":"IF($C128=1,'IN_Definition Index'!$E$19*NR_Reihen_Veränderungsraten!Y22,)","v":0},{"$f":"IF($C128=1,'IN_Definition Index'!$E$19*NR_Reihen_Veränderungsraten!Z22,)","v":0},{"$f":"IF($C128=1,'IN_Definition Index'!$E$19*NR_Reihen_Veränderungsraten!AA22,)","v":0},{"$f":"IF($C128=1,'IN_Definition Index'!$E$19*NR_Reihen_Veränderungsraten!AB22,)","v":0},{"$f":"IF($C128=1,'IN_Definition Index'!$E$19*NR_Reihen_Veränderungsraten!AC22,)","v":0},{"$f":"IF($C128=1,'IN_Definition Index'!$E$19*NR_Reihen_Veränderungsraten!AD22,)","v":0},{"$f":"IF($C128=1,'IN_Definition Index'!$E$19*NR_Reihen_Veränderungsraten!AE22,)","v":0},{"$f":"IF($C128=1,'IN_Definition Index'!$E$19*NR_Reihen_Veränderungsraten!AF22,)","v":0}]
["H52","Lagerei sowie Erbringung von sonstigen Dienstleistungen für den Verkehr",{"$f":"'IN_Definition Index'!E11","v":0},{"$f":"IF($C129=1,'IN_Definition Index'!$E$19*NR_Reihen_Veränderungsraten!D23,)","v":0},{"$f":"IF($C129=1,'IN_Definition Index'!$E$19*NR_Reihen_Veränderungsraten!E23,)","v":0},{"$f":"IF($C129=1,'IN_Definition Index'!$E$19*NR_Reihen_Veränderungsraten!F23,)","v":0},{"$f":"IF($C129=1,'IN_Definition Index'!$E$19*NR_Reihen_Veränderungsraten!G23,)","v":0},{"$f":"IF($C129=1,'IN_Definition Index'!$E$19*NR_Reihen_Veränderungsraten!H23,)","v":0},{"$f":"IF($C129=1,'IN_Definition Index'!$E$19*NR_Reihen_Veränderungsraten!I23,)","v":0},{"$f":"IF($C129=1,'IN_Definition Index'!$E$19*NR_Reihen_Veränderungsraten!J23,)","v":0},{"$f":"IF($C129=1,'IN_Definition Index'!$E$19*NR_Reihen_Veränderungsraten!K23,)","v":0},{"$f":"IF($C129=1,'IN_Definition Index'!$E$19*NR_Reihen_Veränderungsraten!L23,)","v":0},{"$f":"IF($C129=1,'IN_Definition Index'!$E$19*NR_Reihen_Veränderungsraten!M23,)","v":0},{"$f":"IF($C129=1,'IN_Definition Index'!$E$19*NR_Reihen_Veränderungsraten!N23,)","v":0},{"$f":"IF($C129=1,'IN_Definition Index'!$E$19*NR_Reihen_Veränderungsraten!O23,)","v":0},{"$f":"IF($C129=1,'IN_Definition Index'!$E$19*NR_Reihen_Veränderungsraten!P23,)","v":0},{"$f":"IF($C129=1,'IN_Definition Index'!$E$19*NR_Reihen_Veränderungsraten!Q23,)","v":0},{"$f":"IF($C129=1,'IN_Definition Index'!$E$19*NR_Reihen_Veränderungsraten!R23,)","v":0},{"$f":"IF($C129=1,'IN_Definition Index'!$E$19*NR_Reihen_Veränderungsraten!S23,)","v":0},{"$f":"IF($C129=1,'IN_Definition Index'!$E$19*NR_Reihen_Veränderungsraten!T23,)","v":0},{"$f":"IF($C129=1,'IN_Definition Index'!$E$19*NR_Reihen_Veränderungsraten!U23,)","v":0},{"$f":"IF($C129=1,'IN_Definition Index'!$E$19*NR_Reihen_Veränderungsraten!V23,)","v":0},{"$f":"IF($C129=1,'IN_Definition Index'!$E$19*NR_Reihen_Veränderungsraten!W23,)","v":0},{"$f":"IF($C129=1,'IN_Definition Index'!$E$19*NR_Reihen_Veränderungsraten!X23,)","v":0},{"$f":"IF($C129=1,'IN_Definition Index'!$E$19*NR_Reihen_Veränderungsraten!Y23,)","v":0},{"$f":"IF($C129=1,'IN_Definition Index'!$E$19*NR_Reihen_Veränderungsraten!Z23,)","v":0},{"$f":"IF($C129=1,'IN_Definition Index'!$E$19*NR_Reihen_Veränderungsraten!AA23,)","v":0},{"$f":"IF($C129=1,'IN_Definition Index'!$E$19*NR_Reihen_Veränderungsraten!AB23,)","v":0},{"$f":"IF($C129=1,'IN_Definition Index'!$E$19*NR_Reihen_Veränderungsraten!AC23,)","v":0},{"$f":"IF($C129=1,'IN_Definition Index'!$E$19*NR_Reihen_Veränderungsraten!AD23,)","v":0},{"$f":"IF($C129=1,'IN_Definition Index'!$E$19*NR_Reihen_Veränderungsraten!AE23,)","v":0},{"$f":"IF($C129=1,'IN_Definition Index'!$E$19*NR_Reihen_Veränderungsraten!AF23,)","v":0}]
["J61","Telekommunikation",{"$f":"'IN_Definition Index'!E12","v":0},{"$f":"IF($C130=1,'IN_Definition Index'!$E$19*NR_Reihen_Veränderungsraten!D24,)","v":0},{"$f":"IF($C130=1,'IN_Definition Index'!$E$19*NR_Reihen_Veränderungsraten!E24,)","v":0},{"$f":"IF($C130=1,'IN_Definition Index'!$E$19*NR_Reihen_Veränderungsraten!F24,)","v":0},{"$f":"IF($C130=1,'IN_Definition Index'!$E$19*NR_Reihen_Veränderungsraten!G24,)","v":0},{"$f":"IF($C130=1,'IN_Definition Index'!$E$19*NR_Reihen_Veränderungsraten!H24,)","v":0},{"$f":"IF($C130=1,'IN_Definition Index'!$E$19*NR_Reihen_Veränderungsraten!I24,)","v":0},{"$f":"IF($C130=1,'IN_Definition Index'!$E$19*NR_Reihen_Veränderungsraten!J24,)","v":0},{"$f":"IF($C130=1,'IN_Definition Index'!$E$19*NR_Reihen_Veränderungsraten!K24,)","v":0},{"$f":"IF($C130=1,'IN_Definition Index'!$E$19*NR_Reihen_Veränderungsraten!L24,)","v":0},{"$f":"IF($C130=1,'IN_Definition Index'!$E$19*NR_Reihen_Veränderungsraten!M24,)","v":0},{"$f":"IF($C130=1,'IN_Definition Index'!$E$19*NR_Reihen_Veränderungsraten!N24,)","v":0},{"$f":"IF($C130=1,'IN_Definition Index'!$E$19*NR_Reihen_Veränderungsraten!O24,)","v":0},{"$f":"IF($C130=1,'IN_Definition Index'!$E$19*NR_Reihen_Veränderungsraten!P24,)","v":0},{"$f":"IF($C130=1,'IN_Definition Index'!$E$19*NR_Reihen_Veränderungsraten!Q24,)","v":0},{"$f":"IF($C130=1,'IN_Definition Index'!$E$19*NR_Reihen_Veränderungsraten!R24,)","v":0},{"$f":"IF($C130=1,'IN_Definition Index'!$E$19*NR_Reihen_Veränderungsraten!S24,)","v":0},{"$f":"IF($C130=1,'IN_Definition Index'!$E$19*NR_Reihen_Veränderungsraten!T24,)","v":0},{"$f":"IF($C130=1,'IN_Definition Index'!$E$19*NR_Reihen_Veränderungsraten!U24,)","v":0},{"$f":"IF($C130=1,'IN_Definition Index'!$E$19*NR_Reihen_Veränderungsraten!V24,)","v":0},{"$f":"IF($C130=1,'IN_Definition Index'!$E$19*NR_Reihen_Veränderungsraten!W24,)","v":0},{"$f":"IF($C130=1,'IN_Definition Index'!$E$19*NR_Reihen_Veränderungsraten!X24,)","v":0},{"$f":"IF($C130=1,'IN_Definition Index'!$E$19*NR_Reihen_Veränderungsraten!Y24,)","v":0},{"$f":"IF($C130=1,'IN_Definition Index'!$E$19*NR_Reihen_Veränderungsraten!Z24,)","v":0},{"$f":"IF($C130=1,'IN_Definition Index'!$E$19*NR_Reihen_Veränderungsraten!AA24,)","v":0},{"$f":"IF($C130=1,'IN_Definition Index'!$E$19*NR_Reihen_Veränderungsraten!AB24,)","v":0},{"$f":"IF($C130=1,'IN_Definition Index'!$E$19*NR_Reihen_Veränderungsraten!AC24,)","v":0},{"$f":"IF($C130=1,'IN_Definition Index'!$E$19*NR_Reihen_Veränderungsraten!AD24,)","v":0},{"$f":"IF($C130=1,'IN_Definition Index'!$E$19*NR_Reihen_Veränderungsraten!AE24,)","v":0},{"$f":"IF($C130=1,'IN_Definition Index'!$E$19*NR_Reihen_Veränderungsraten!AF24,)","v":0}]
["J62-01","IT- und Informationsdienstleister",{"$f":"'IN_Definition Index'!E13","v":0},{"$f":"IF($C131=1,'IN_Definition Index'!$E$19*NR_Reihen_Veränderungsraten!D25,)","v":0},{"$f":"IF($C131=1,'IN_Definition Index'!$E$19*NR_Reihen_Veränderungsraten!E25,)","v":0},{"$f":"IF($C131=1,'IN_Definition Index'!$E$19*NR_Reihen_Veränderungsraten!F25,)","v":0},{"$f":"IF($C131=1,'IN_Definition Index'!$E$19*NR_Reihen_Veränderungsraten!G25,)","v":0},{"$f":"IF($C131=1,'IN_Definition Index'!$E$19*NR_Reihen_Veränderungsraten!H25,)","v":0},{"$f":"IF($C131=1,'IN_Definition Index'!$E$19*NR_Reihen_Veränderungsraten!I25,)","v":0},{"$f":"IF($C131=1,'IN_Definition Index'!$E$19*NR_Reihen_Veränderungsraten!J25,)","v":0},{"$f":"IF($C131=1,'IN_Definition Index'!$E$19*NR_Reihen_Veränderungsraten!K25,)","v":0},{"$f":"IF($C131=1,'IN_Definition Index'!$E$19*NR_Reihen_Veränderungsraten!L25,)","v":0},{"$f":"IF($C131=1,'IN_Definition Index'!$E$19*NR_Reihen_Veränderungsraten!M25,)","v":0},{"$f":"IF($C131=1,'IN_Definition Index'!$E$19*NR_Reihen_Veränderungsraten!N25,)","v":0},{"$f":"IF($C131=1,'IN_Definition Index'!$E$19*NR_Reihen_Veränderungsraten!O25,)","v":0},{"$f":"IF($C131=1,'IN_Definition Index'!$E$19*NR_Reihen_Veränderungsraten!P25,)","v":0},{"$f":"IF($C131=1,'IN_Definition Index'!$E$19*NR_Reihen_Veränderungsraten!Q25,)","v":0},{"$f":"IF($C131=1,'IN_Definition Index'!$E$19*NR_Reihen_Veränderungsraten!R25,)","v":0},{"$f":"IF($C131=1,'IN_Definition Index'!$E$19*NR_Reihen_Veränderungsraten!S25,)","v":0},{"$f":"IF($C131=1,'IN_Definition Index'!$E$19*NR_Reihen_Veränderungsraten!T25,)","v":0},{"$f":"IF($C131=1,'IN_Definition Index'!$E$19*NR_Reihen_Veränderungsraten!U25,)","v":0},{"$f":"IF($C131=1,'IN_Definition Index'!$E$19*NR_Reihen_Veränderungsraten!V25,)","v":0},{"$f":"IF($C131=1,'IN_Definition Index'!$E$19*NR_Reihen_Veränderungsraten!W25,)","v":0},{"$f":"IF($C131=1,'IN_Definition Index'!$E$19*NR_Reihen_Veränderungsraten!X25,)","v":0},{"$f":"IF($C131=1,'IN_Definition Index'!$E$19*NR_Reihen_Veränderungsraten!Y25,)","v":0},{"$f":"IF($C131=1,'IN_Definition Index'!$E$19*NR_Reihen_Veränderungsraten!Z25,)","v":0},{"$f":"IF($C131=1,'IN_Definition Index'!$E$19*NR_Reihen_Veränderungsraten!AA25,)","v":0},{"$f":"IF($C131=1,'IN_Definition Index'!$E$19*NR_Reihen_Veränderungsraten!AB25,)","v":0},{"$f":"IF($C131=1,'IN_Definition Index'!$E$19*NR_Reihen_Veränderungsraten!AC25,)","v":0},{"$f":"IF($C131=1,'IN_Definition Index'!$E$19*NR_Reihen_Veränderungsraten!AD25,)","v":0},{"$f":"IF($C131=1,'IN_Definition Index'!$E$19*NR_Reihen_Veränderungsraten!AE25,)","v":0},{"$f":"IF($C131=1,'IN_Definition Index'!$E$19*NR_Reihen_Veränderungsraten!AF25,)","v":0}]
["M69-01","Unternehmensnahe Beratungsleistungen ",{"$f":"'IN_Definition Index'!E14","v":0},{"$f":"IF($C132=1,'IN_Definition Index'!$E$19*NR_Reihen_Veränderungsraten!D26,)","v":0},{"$f":"IF($C132=1,'IN_Definition Index'!$E$19*NR_Reihen_Veränderungsraten!E26,)","v":0},{"$f":"IF($C132=1,'IN_Definition Index'!$E$19*NR_Reihen_Veränderungsraten!F26,)","v":0},{"$f":"IF($C132=1,'IN_Definition Index'!$E$19*NR_Reihen_Veränderungsraten!G26,)","v":0},{"$f":"IF($C132=1,'IN_Definition Index'!$E$19*NR_Reihen_Veränderungsraten!H26,)","v":0},{"$f":"IF($C132=1,'IN_Definition Index'!$E$19*NR_Reihen_Veränderungsraten!I26,)","v":0},{"$f":"IF($C132=1,'IN_Definition Index'!$E$19*NR_Reihen_Veränderungsraten!J26,)","v":0},{"$f":"IF($C132=1,'IN_Definition Index'!$E$19*NR_Reihen_Veränderungsraten!K26,)","v":0},{"$f":"IF($C132=1,'IN_Definition Index'!$E$19*NR_Reihen_Veränderungsraten!L26,)","v":0},{"$f":"IF($C132=1,'IN_Definition Index'!$E$19*NR_Reihen_Veränderungsraten!M26,)","v":0},{"$f":"IF($C132=1,'IN_Definition Index'!$E$19*NR_Reihen_Veränderungsraten!N26,)","v":0},{"$f":"IF($C132=1,'IN_Definition Index'!$E$19*NR_Reihen_Veränderungsraten!O26,)","v":0},{"$f":"IF($C132=1,'IN_Definition Index'!$E$19*NR_Reihen_Veränderungsraten!P26,)","v":0},{"$f":"IF($C132=1,'IN_Definition Index'!$E$19*NR_Reihen_Veränderungsraten!Q26,)","v":0},{"$f":"IF($C132=1,'IN_Definition Index'!$E$19*NR_Reihen_Veränderungsraten!R26,)","v":0},{"$f":"IF($C132=1,'IN_Definition Index'!$E$19*NR_Reihen_Veränderungsraten!S26,)","v":0},{"$f":"IF($C132=1,'IN_Definition Index'!$E$19*NR_Reihen_Veränderungsraten!T26,)","v":0},{"$f":"IF($C132=1,'IN_Definition Index'!$E$19*NR_Reihen_Veränderungsraten!U26,)","v":0},{"$f":"IF($C132=1,'IN_Definition Index'!$E$19*NR_Reihen_Veränderungsraten!V26,)","v":0},{"$f":"IF($C132=1,'IN_Definition Index'!$E$19*NR_Reihen_Veränderungsraten!W26,)","v":0},{"$f":"IF($C132=1,'IN_Definition Index'!$E$19*NR_Reihen_Veränderungsraten!X26,)","v":0},{"$f":"IF($C132=1,'IN_Definition Index'!$E$19*NR_Reihen_Veränderungsraten!Y26,)","v":0},{"$f":"IF($C132=1,'IN_Definition Index'!$E$19*NR_Reihen_Veränderungsraten!Z26,)","v":0},{"$f":"IF($C132=1,'IN_Definition Index'!$E$19*NR_Reihen_Veränderungsraten!AA26,)","v":0},{"$f":"IF($C132=1,'IN_Definition Index'!$E$19*NR_Reihen_Veränderungsraten!AB26,)","v":0},{"$f":"IF($C132=1,'IN_Definition Index'!$E$19*NR_Reihen_Veränderungsraten!AC26,)","v":0},{"$f":"IF($C132=1,'IN_Definition Index'!$E$19*NR_Reihen_Veränderungsraten!AD26,)","v":0},{"$f":"IF($C132=1,'IN_Definition Index'!$E$19*NR_Reihen_Veränderungsraten!AE26,)","v":0},{"$f":"IF($C132=1,'IN_Definition Index'!$E$19*NR_Reihen_Veränderungsraten!AF26,)","v":0}]
["M73","Werbung und Marktforschung",{"$f":"'IN_Definition Index'!E15","v":0},{"$f":"IF($C133=1,'IN_Definition Index'!$E$19*NR_Reihen_Veränderungsraten!D27,)","v":0},{"$f":"IF($C133=1,'IN_Definition Index'!$E$19*NR_Reihen_Veränderungsraten!E27,)","v":0},{"$f":"IF($C133=1,'IN_Definition Index'!$E$19*NR_Reihen_Veränderungsraten!F27,)","v":0},{"$f":"IF($C133=1,'IN_Definition Index'!$E$19*NR_Reihen_Veränderungsraten!G27,)","v":0},{"$f":"IF($C133=1,'IN_Definition Index'!$E$19*NR_Reihen_Veränderungsraten!H27,)","v":0},{"$f":"IF($C133=1,'IN_Definition Index'!$E$19*NR_Reihen_Veränderungsraten!I27,)","v":0},{"$f":"IF($C133=1,'IN_Definition Index'!$E$19*NR_Reihen_Veränderungsraten!J27,)","v":0},{"$f":"IF($C133=1,'IN_Definition Index'!$E$19*NR_Reihen_Veränderungsraten!K27,)","v":0},{"$f":"IF($C133=1,'IN_Definition Index'!$E$19*NR_Reihen_Veränderungsraten!L27,)","v":0},{"$f":"IF($C133=1,'IN_Definition Index'!$E$19*NR_Reihen_Veränderungsraten!M27,)","v":0},{"$f":"IF($C133=1,'IN_Definition Index'!$E$19*NR_Reihen_Veränderungsraten!N27,)","v":0},{"$f":"IF($C133=1,'IN_Definition Index'!$E$19*NR_Reihen_Veränderungsraten!O27,)","v":0},{"$f":"IF($C133=1,'IN_Definition Index'!$E$19*NR_Reihen_Veränderungsraten!P27,)","v":0},{"$f":"IF($C133=1,'IN_Definition Index'!$E$19*NR_Reihen_Veränderungsraten!Q27,)","v":0},{"$f":"IF($C133=1,'IN_Definition Index'!$E$19*NR_Reihen_Veränderungsraten!R27,)","v":0},{"$f":"IF($C133=1,'IN_Definition Index'!$E$19*NR_Reihen_Veränderungsraten!S27,)","v":0},{"$f":"IF($C133=1,'IN_Definition Index'!$E$19*NR_Reihen_Veränderungsraten!T27,)","v":0},{"$f":"IF($C133=1,'IN_Definition Index'!$E$19*NR_Reihen_Veränderungsraten!U27,)","v":0},{"$f":"IF($C133=1,'IN_Definition Index'!$E$19*NR_Reihen_Veränderungsraten!V27,)","v":0},{"$f":"IF($C133=1,'IN_Definition Index'!$E$19*NR_Reihen_Veränderungsraten!W27,)","v":0},{"$f":"IF($C133=1,'IN_Definition Index'!$E$19*NR_Reihen_Veränderungsraten!X27,)","v":0},{"$f":"IF($C133=1,'IN_Definition Index'!$E$19*NR_Reihen_Veränderungsraten!Y27,)","v":0},{"$f":"IF($C133=1,'IN_Definition Index'!$E$19*NR_Reihen_Veränderungsraten!Z27,)","v":0},{"$f":"IF($C133=1,'IN_Definition Index'!$E$19*NR_Reihen_Veränderungsraten!AA27,)","v":0},{"$f":"IF($C133=1,'IN_Definition Index'!$E$19*NR_Reihen_Veränderungsraten!AB27,)","v":0},{"$f":"IF($C133=1,'IN_Definition Index'!$E$19*NR_Reihen_Veränderungsraten!AC27,)","v":0},{"$f":"IF($C133=1,'IN_Definition Index'!$E$19*NR_Reihen_Veränderungsraten!AD27,)","v":0},{"$f":"IF($C133=1,'IN_Definition Index'!$E$19*NR_Reihen_Veränderungsraten!AE27,)","v":0},{"$f":"IF($C133=1,'IN_Definition Index'!$E$19*NR_Reihen_Veränderungsraten!AF27,)","v":0}]
["M74-01","Freiberufl.,wiss.,techn.DL a.n.g., Veterinärwesen",{"$f":"'IN_Definition Index'!E16","v":0},{"$f":"IF($C134=1,'IN_Definition Index'!$E$19*NR_Reihen_Veränderungsraten!D28,)","v":0},{"$f":"IF($C134=1,'IN_Definition Index'!$E$19*NR_Reihen_Veränderungsraten!E28,)","v":0},{"$f":"IF($C134=1,'IN_Definition Index'!$E$19*NR_Reihen_Veränderungsraten!F28,)","v":0},{"$f":"IF($C134=1,'IN_Definition Index'!$E$19*NR_Reihen_Veränderungsraten!G28,)","v":0},{"$f":"IF($C134=1,'IN_Definition Index'!$E$19*NR_Reihen_Veränderungsraten!H28,)","v":0},{"$f":"IF($C134=1,'IN_Definition Index'!$E$19*NR_Reihen_Veränderungsraten!I28,)","v":0},{"$f":"IF($C134=1,'IN_Definition Index'!$E$19*NR_Reihen_Veränderungsraten!J28,)","v":0},{"$f":"IF($C134=1,'IN_Definition Index'!$E$19*NR_Reihen_Veränderungsraten!K28,)","v":0},{"$f":"IF($C134=1,'IN_Definition Index'!$E$19*NR_Reihen_Veränderungsraten!L28,)","v":0},{"$f":"IF($C134=1,'IN_Definition Index'!$E$19*NR_Reihen_Veränderungsraten!M28,)","v":0},{"$f":"IF($C134=1,'IN_Definition Index'!$E$19*NR_Reihen_Veränderungsraten!N28,)","v":0},{"$f":"IF($C134=1,'IN_Definition Index'!$E$19*NR_Reihen_Veränderungsraten!O28,)","v":0},{"$f":"IF($C134=1,'IN_Definition Index'!$E$19*NR_Reihen_Veränderungsraten!P28,)","v":0},{"$f":"IF($C134=1,'IN_Definition Index'!$E$19*NR_Reihen_Veränderungsraten!Q28,)","v":0},{"$f":"IF($C134=1,'IN_Definition Index'!$E$19*NR_Reihen_Veränderungsraten!R28,)","v":0},{"$f":"IF($C134=1,'IN_Definition Index'!$E$19*NR_Reihen_Veränderungsraten!S28,)","v":0},{"$f":"IF($C134=1,'IN_Definition Index'!$E$19*NR_Reihen_Veränderungsraten!T28,)","v":0},{"$f":"IF($C134=1,'IN_Definition Index'!$E$19*NR_Reihen_Veränderungsraten!U28,)","v":0},{"$f":"IF($C134=1,'IN_Definition Index'!$E$19*NR_Reihen_Veränderungsraten!V28,)","v":0},{"$f":"IF($C134=1,'IN_Definition Index'!$E$19*NR_Reihen_Veränderungsraten!W28,)","v":0},{"$f":"IF($C134=1,'IN_Definition Index'!$E$19*NR_Reihen_Veränderungsraten!X28,)","v":0},{"$f":"IF($C134=1,'IN_Definition Index'!$E$19*NR_Reihen_Veränderungsraten!Y28,)","v":0},{"$f":"IF($C134=1,'IN_Definition Index'!$E$19*NR_Reihen_Veränderungsraten!Z28,)","v":0},{"$f":"IF($C134=1,'IN_Definition Index'!$E$19*NR_Reihen_Veränderungsraten!AA28,)","v":0},{"$f":"IF($C134=1,'IN_Definition Index'!$E$19*NR_Reihen_Veränderungsraten!AB28,)","v":0},{"$f":"IF($C134=1,'IN_Definition Index'!$E$19*NR_Reihen_Veränderungsraten!AC28,)","v":0},{"$f":"IF($C134=1,'IN_Definition Index'!$E$19*NR_Reihen_Veränderungsraten!AD28,)","v":0},{"$f":"IF($C134=1,'IN_Definition Index'!$E$19*NR_Reihen_Veränderungsraten!AE28,)","v":0},{"$f":"IF($C134=1,'IN_Definition Index'!$E$19*NR_Reihen_Veränderungsraten!AF28,)","v":0}]
["L","Grundstücks- und Wohnungswesen",{"$f":"'IN_Definition Index'!E17","v":0},{"$f":"IF($C135=1,'IN_Definition Index'!$E$19*NR_Reihen_Veränderungsraten!D29,)","v":0},{"$f":"IF($C135=1,'IN_Definition Index'!$E$19*NR_Reihen_Veränderungsraten!E29,)","v":0},{"$f":"IF($C135=1,'IN_Definition Index'!$E$19*NR_Reihen_Veränderungsraten!F29,)","v":0},{"$f":"IF($C135=1,'IN_Definition Index'!$E$19*NR_Reihen_Veränderungsraten!G29,)","v":0},{"$f":"IF($C135=1,'IN_Definition Index'!$E$19*NR_Reihen_Veränderungsraten!H29,)","v":0},{"$f":"IF($C135=1,'IN_Definition Index'!$E$19*NR_Reihen_Veränderungsraten!I29,)","v":0},{"$f":"IF($C135=1,'IN_Definition Index'!$E$19*NR_Reihen_Veränderungsraten!J29,)","v":0},{"$f":"IF($C135=1,'IN_Definition Index'!$E$19*NR_Reihen_Veränderungsraten!K29,)","v":0},{"$f":"IF($C135=1,'IN_Definition Index'!$E$19*NR_Reihen_Veränderungsraten!L29,)","v":0},{"$f":"IF($C135=1,'IN_Definition Index'!$E$19*NR_Reihen_Veränderungsraten!M29,)","v":0},{"$f":"IF($C135=1,'IN_Definition Index'!$E$19*NR_Reihen_Veränderungsraten!N29,)","v":0},{"$f":"IF($C135=1,'IN_Definition Index'!$E$19*NR_Reihen_Veränderungsraten!O29,)","v":0},{"$f":"IF($C135=1,'IN_Definition Index'!$E$19*NR_Reihen_Veränderungsraten!P29,)","v":0},{"$f":"IF($C135=1,'IN_Definition Index'!$E$19*NR_Reihen_Veränderungsraten!Q29,)","v":0},{"$f":"IF($C135=1,'IN_Definition Index'!$E$19*NR_Reihen_Veränderungsraten!R29,)","v":0},{"$f":"IF($C135=1,'IN_Definition Index'!$E$19*NR_Reihen_Veränderungsraten!S29,)","v":0},{"$f":"IF($C135=1,'IN_Definition Index'!$E$19*NR_Reihen_Veränderungsraten!T29,)","v":0},{"$f":"IF($C135=1,'IN_Definition Index'!$E$19*NR_Reihen_Veränderungsraten!U29,)","v":0},{"$f":"IF($C135=1,'IN_Definition Index'!$E$19*NR_Reihen_Veränderungsraten!V29,)","v":0},{"$f":"IF($C135=1,'IN_Definition Index'!$E$19*NR_Reihen_Veränderungsraten!W29,)","v":0},{"$f":"IF($C135=1,'IN_Definition Index'!$E$19*NR_Reihen_Veränderungsraten!X29,)","v":0},{"$f":"IF($C135=1,'IN_Definition Index'!$E$19*NR_Reihen_Veränderungsraten!Y29,)","v":0},{"$f":"IF($C135=1,'IN_Definition Index'!$E$19*NR_Reihen_Veränderungsraten!Z29,)","v":0},{"$f":"IF($C135=1,'IN_Definition Index'!$E$19*NR_Reihen_Veränderungsraten!AA29,)","v":0},{"$f":"IF($C135=1,'IN_Definition Index'!$E$19*NR_Reihen_Veränderungsraten!AB29,)","v":0},{"$f":"IF($C135=1,'IN_Definition Index'!$E$19*NR_Reihen_Veränderungsraten!AC29,)","v":0},{"$f":"IF($C135=1,'IN_Definition Index'!$E$19*NR_Reihen_Veränderungsraten!AD29,)","v":0},{"$f":"IF($C135=1,'IN_Definition Index'!$E$19*NR_Reihen_Veränderungsraten!AE29,)","v":0},{"$f":"IF($C135=1,'IN_Definition Index'!$E$19*NR_Reihen_Veränderungsraten!AF29,)","v":0}]
[null,"Summe",null,{"$f":"SUM(D125:D135)","v":1.0195314074142157},{"$f":"SUM(E125:E135)","v":0.95401560286501419},{"$f":"SUM(F125:F135)","v":1.0160885300638494},{"$f":"SUM(G125:G135)","v":1.015231870511369},{"$f":"SUM(H125:H135)","v":0.98168465961206441},{"$f":"SUM(I125:I135)","v":0.98904516972603962},{"$f":"SUM(J125:J135)","v":1.0009844325501442},{"$f":"SUM(K125:K135)","v":1.0053711336040345},{"$f":"SUM(L125:L135)","v":0.99198416365581787},{"$f":"SUM(M125:M135)","v":1.0253363750514171},{"$f":"SUM(N125:N135)","v":0.96308685031693886},{"$f":"SUM(O125:O135)","v":1.0165298404855867},{"$f":"SUM(P125:P135)","v":0.98232577573343716},{"$f":"SUM(Q125:Q135)","v":0.98207230312616167},{"$f":"SUM(R125:R135)","v":1.0607374190680128},{"$f":"SUM(S125:S135)","v":0.9998888218808395},{"$f":"SUM(T125:T135)","v":0.97882476789573569},{"$f":"SUM(U125:U135)","v":1.0119779266932527},{"$f":"SUM(V125:V135)","v":1.0254285637376066},{"$f":"SUM(W125:W135)","v":0.97864958742905184},{"$f":"SUM(X125:X135)","v":1.0001290569466372},{"$f":"SUM(Y125:Y135)","v":0.99733702698902837},{"$f":"SUM(Z125:Z135)","v":1.0267670568282918},{"$f":"SUM(AA125:AA135)","v":1.0750024506696494},{"$f":"SUM(AB125:AB135)","v":1.0280504032258062},{"$f":"SUM(AC125:AC135)","v":1.0275193299722771},0.99385717779433835,{"$error":"#VALUE!"},{"$error":"#VALUE!"}]
[]
["Sortierung"]
[]
["Nr. (WZ 2008)","Branche","Verwendung",1992,{"$f":"D140+1","v":1993},{"$f":"E140+1","v":1994},{"$f":"F140+1","v":1995},{"$f":"G140+1","v":1996},{"$f":"H140+1","v":1997},{"$f":"I140+1","v":1998},{"$f":"J140+1","v":1999},{"$f":"K140+1","v":2000},{"$f":"L140+1","v":2001},{"$f":"M140+1","v":2002},{"$f":"N140+1","v":2003},{"$f":"O140+1","v":2004},{"$f":"P140+1","v":2005},{"$f":"Q140+1","v":2006},{"$f":"R140+1","v":2007},{"$f":"S140+1","v":2008},{"$f":"T140+1","v":2009},{"$f":"U140+1","v":2010},{"$f":"V140+1","v":2011},{"$f":"W140+1","v":2012},{"$f":"X140+1","v":2013},{"$f":"Y140+1","v":2014},{"$f":"Z140+1","v":2015},{"$f":"AA140+1","v":2016},{"$f":"AB140+1","v":2017},{"$f":"AC140+1","v":2018},{"$f":"AD140+1","v":2019},{"$f":"AE140+1","v":2020}]
["C33","Reparatur und Installation von Maschinen und Ausrüstungen",{"$f":"'IN_Definition Index'!F7","v":1},{"$f":"IF($C141=1,'IN_Definition Index'!$F$19*NR_Reihen_Veränderungsraten!D19,)","v":0.55596404442476854},{"$f":"IF($C141=1,'IN_Definition Index'!$F$19*NR_Reihen_Veränderungsraten!E19,)","v":0.50169950476302516},{"$f":"IF($C141=1,'IN_Definition Index'!$F$19*NR_Reihen_Veränderungsraten!F19,)","v":0.56356289680517668},{"$f":"IF($C141=1,'IN_Definition Index'!$F$19*NR_Reihen_Veränderungsraten!G19,)","v":0.51977151720178272},{"$f":"IF($C141=1,'IN_Definition Index'!$F$19*NR_Reihen_Veränderungsraten!H19,)","v":0.51191224760707055},{"$f":"IF($C141=1,'IN_Definition Index'!$F$19*NR_Reihen_Veränderungsraten!I19,)","v":0.56068361757600405},{"$f":"IF($C141=1,'IN_Definition Index'!$F$19*NR_Reihen_Veränderungsraten!J19,)","v":0.52236513726243039},{"$f":"IF($C141=1,'IN_Definition Index'!$F$19*NR_Reihen_Veränderungsraten!K19,)","v":0.53771568007432313},{"$f":"IF($C141=1,'IN_Definition Index'!$F$19*NR_Reihen_Veränderungsraten!L19,)","v":0.53658716136631335},{"$f":"IF($C141=1,'IN_Definition Index'!$F$19*NR_Reihen_Veränderungsraten!M19,)","v":0.5015482243205015},{"$f":"IF($C141=1,'IN_Definition Index'!$F$19*NR_Reihen_Veränderungsraten!N19,)","v":0.52386440625769903},{"$f":"IF($C141=1,'IN_Definition Index'!$F$19*NR_Reihen_Veränderungsraten!O19,)","v":0.54552243066418504},{"$f":"IF($C141=1,'IN_Definition Index'!$F$19*NR_Reihen_Veränderungsraten!P19,)","v":0.55311969956549789},{"$f":"IF($C141=1,'IN_Definition Index'!$F$19*NR_Reihen_Veränderungsraten!Q19,)","v":0.57848244427109996},{"$f":"IF($C141=1,'IN_Definition Index'!$F$19*NR_Reihen_Veränderungsraten!R19,)","v":0.50812286786851091},{"$f":"IF($C141=1,'IN_Definition Index'!$F$19*NR_Reihen_Veränderungsraten!S19,)","v":0.53405438264601057},{"$f":"IF($C141=1,'IN_Definition Index'!$F$19*NR_Reihen_Veränderungsraten!T19,)","v":0.43242831674342602},{"$f":"IF($C141=1,'IN_Definition Index'!$F$19*NR_Reihen_Veränderungsraten!U19,)","v":0.43698863178558611},{"$f":"IF($C141=1,'IN_Definition Index'!$F$19*NR_Reihen_Veränderungsraten!V19,)","v":0.5085343621688474},{"$f":"IF($C141=1,'IN_Definition Index'!$F$19*NR_Reihen_Veränderungsraten!W19,)","v":0.51263531067330581},{"$f":"IF($C141=1,'IN_Definition Index'!$F$19*NR_Reihen_Veränderungsraten!X19,)","v":0.48787168033623657},{"$f":"IF($C141=1,'IN_Definition Index'!$F$19*NR_Reihen_Veränderungsraten!Y19,)","v":0.47882249668265792},{"$f":"IF($C141=1,'IN_Definition Index'!$F$19*NR_Reihen_Veränderungsraten!Z19,)","v":0.50510741364785183},{"$f":"IF($C141=1,'IN_Definition Index'!$F$19*NR_Reihen_Veränderungsraten!AA19,)","v":0.52541671850778282},{"$f":"IF($C141=1,'IN_Definition Index'!$F$19*NR_Reihen_Veränderungsraten!AB19,)","v":0.48354999999999998},{"$f":"IF($C141=1,'IN_Definition Index'!$F$19*NR_Reihen_Veränderungsraten!AC19,)","v":0.46472727846553202},{"$f":"IF($C141=1,'IN_Definition Index'!$F$19*NR_Reihen_Veränderungsraten!AD19,)","v":0.48001130193905828},{"$f":"IF($C141=1,'IN_Definition Index'!$F$19*NR_Reihen_Veränderungsraten!AE19,)","v":{"$error":"#VALUE!"}},{"$f":"IF($C141=1,'IN_Definition Index'!$F$19*NR_Reihen_Veränderungsraten!AF19,)","v":{"$error":"#VALUE!"}}]
["G45","Handel mit Kraftfahrzeugen; Instandhaltung und Reparatur von Kraftfahrzeugen",{"$f":"'IN_Definition Index'!F8","v":0},{"$f":"IF($C142=1,'IN_Definition Index'!$F$19*NR_Reihen_Veränderungsraten!D20,)","v":0},{"$f":"IF($C142=1,'IN_Definition Index'!$F$19*NR_Reihen_Veränderungsraten!E20,)","v":0},{"$f":"IF($C142=1,'IN_Definition Index'!$F$19*NR_Reihen_Veränderungsraten!F20,)","v":0},{"$f":"IF($C142=1,'IN_Definition Index'!$F$19*NR_Reihen_Veränderungsraten!G20,)","v":0},{"$f":"IF($C142=1,'IN_Definition Index'!$F$19*NR_Reihen_Veränderungsraten!H20,)","v":0},{"$f":"IF($C142=1,'IN_Definition Index'!$F$19*NR_Reihen_Veränderungsraten!I20,)","v":0},{"$f":"IF($C142=1,'IN_Definition Index'!$F$19*NR_Reihen_Veränderungsraten!J20,)","v":0},{"$f":"IF($C142=1,'IN_Definition Index'!$F$19*NR_Reihen_Veränderungsraten!K20,)","v":0},{"$f":"IF($C142=1,'IN_Definition Index'!$F$19*NR_Reihen_Veränderungsraten!L20,)","v":0},{"$f":"IF($C142=1,'IN_Definition Index'!$F$19*NR_Reihen_Veränderungsraten!M20,)","v":0},{"$f":"IF($C142=1,'IN_Definition Index'!$F$19*NR_Reihen_Veränderungsraten!N20,)","v":0},{"$f":"IF($C142=1,'IN_Definition Index'!$F$19*NR_Reihen_Veränderungsraten!O20,)","v":0},{"$f":"IF($C142=1,'IN_Definition Index'!$F$19*NR_Reihen_Veränderungsraten!P20,)","v":0},{"$f":"IF($C142=1,'IN_Definition Index'!$F$19*NR_Reihen_Veränderungsraten!Q20,)","v":0},{"$f":"IF($C142=1,'IN_Definition Index'!$F$19*NR_Reihen_Veränderungsraten!R20,)","v":0},{"$f":"IF($C142=1,'IN_Definition Index'!$F$19*NR_Reihen_Veränderungsraten!S20,)","v":0},{"$f":"IF($C142=1,'IN_Definition Index'!$F$19*NR_Reihen_Veränderungsraten!T20,)","v":0},{"$f":"IF($C142=1,'IN_Definition Index'!$F$19*NR_Reihen_Veränderungsraten!U20,)","v":0},{"$f":"IF($C142=1,'IN_Definition Index'!$F$19*NR_Reihen_Veränderungsraten!V20,)","v":0},{"$f":"IF($C142=1,'IN_Definition Index'!$F$19*NR_Reihen_Veränderungsraten!W20,)","v":0},{"$f":"IF($C142=1,'IN_Definition Index'!$F$19*NR_Reihen_Veränderungsraten!X20,)","v":0},{"$f":"IF($C142=1,'IN_Definition Index'!$F$19*NR_Reihen_Veränderungsraten!Y20,)","v":0},{"$f":"IF($C142=1,'IN_Definition Index'!$F$19*NR_Reihen_Veränderungsraten!Z20,)","v":0},{"$f":"IF($C142=1,'IN_Definition Index'!$F$19*NR_Reihen_Veränderungsraten!AA20,)","v":0},{"$f":"IF($C142=1,'IN_Definition Index'!$F$19*NR_Reihen_Veränderungsraten!AB20,)","v":0},{"$f":"IF($C142=1,'IN_Definition Index'!$F$19*NR_Reihen_Veränderungsraten!AC20,)","v":0},{"$f":"IF($C142=1,'IN_Definition Index'!$F$19*NR_Reihen_Veränderungsraten!AD20,)","v":0},{"$f":"IF($C142=1,'IN_Definition Index'!$F$19*NR_Reihen_Veränderungsraten!AE20,)","v":0},{"$f":"IF($C142=1,'IN_Definition Index'!$F$19*NR_Reihen_Veränderungsraten!AF20,)","v":0}]
["G47","Einzelhandel (ohne Handel mit Kraftfahrzeugen)",{"$f":"'IN_Definition Index'!F9","v":0},{"$f":"IF($C143=1,'IN_Definition Index'!$F$19*NR_Reihen_Veränderungsraten!D21,)","v":0},{"$f":"IF($C143=1,'IN_Definition Index'!$F$19*NR_Reihen_Veränderungsraten!E21,)","v":0},{"$f":"IF($C143=1,'IN_Definition Index'!$F$19*NR_Reihen_Veränderungsraten!F21,)","v":0},{"$f":"IF($C143=1,'IN_Definition Index'!$F$19*NR_Reihen_Veränderungsraten!G21,)","v":0},{"$f":"IF($C143=1,'IN_Definition Index'!$F$19*NR_Reihen_Veränderungsraten!H21,)","v":0},{"$f":"IF($C143=1,'IN_Definition Index'!$F$19*NR_Reihen_Veränderungsraten!I21,)","v":0},{"$f":"IF($C143=1,'IN_Definition Index'!$F$19*NR_Reihen_Veränderungsraten!J21,)","v":0},{"$f":"IF($C143=1,'IN_Definition Index'!$F$19*NR_Reihen_Veränderungsraten!K21,)","v":0},{"$f":"IF($C143=1,'IN_Definition Index'!$F$19*NR_Reihen_Veränderungsraten!L21,)","v":0},{"$f":"IF($C143=1,'IN_Definition Index'!$F$19*NR_Reihen_Veränderungsraten!M21,)","v":0},{"$f":"IF($C143=1,'IN_Definition Index'!$F$19*NR_Reihen_Veränderungsraten!N21,)","v":0},{"$f":"IF($C143=1,'IN_Definition Index'!$F$19*NR_Reihen_Veränderungsraten!O21,)","v":0},{"$f":"IF($C143=1,'IN_Definition Index'!$F$19*NR_Reihen_Veränderungsraten!P21,)","v":0},{"$f":"IF($C143=1,'IN_Definition Index'!$F$19*NR_Reihen_Veränderungsraten!Q21,)","v":0},{"$f":"IF($C143=1,'IN_Definition Index'!$F$19*NR_Reihen_Veränderungsraten!R21,)","v":0},{"$f":"IF($C143=1,'IN_Definition Index'!$F$19*NR_Reihen_Veränderungsraten!S21,)","v":0},{"$f":"IF($C143=1,'IN_Definition Index'!$F$19*NR_Reihen_Veränderungsraten!T21,)","v":0},{"$f":"IF($C143=1,'IN_Definition Index'!$F$19*NR_Reihen_Veränderungsraten!U21,)","v":0},{"$f":"IF($C143=1,'IN_Definition Index'!$F$19*NR_Reihen_Veränderungsraten!V21,)","v":0},{"$f":"IF($C143=1,'IN_Definition Index'!$F$19*NR_Reihen_Veränderungsraten!W21,)","v":0},{"$f":"IF($C143=1,'IN_Definition Index'!$F$19*NR_Reihen_Veränderungsraten!X21,)","v":0},{"$f":"IF($C143=1,'IN_Definition Index'!$F$19*NR_Reihen_Veränderungsraten!Y21,)","v":0},{"$f":"IF($C143=1,'IN_Definition Index'!$F$19*NR_Reihen_Veränderungsraten!Z21,)","v":0},{"$f":"IF($C143=1,'IN_Definition Index'!$F$19*NR_Reihen_Veränderungsraten!AA21,)","v":0},{"$f":"IF($C143=1,'IN_Definition Index'!$F$19*NR_Reihen_Veränderungsraten!AB21,)","v":0},{"$f":"IF($C143=1,'IN_Definition Index'!$F$19*NR_Reihen_Veränderungsraten!AC21,)","v":0},{"$f":"IF($C143=1,'IN_Definition Index'!$F$19*NR_Reihen_Veränderungsraten!AD21,)","v":0},{"$f":"IF($C143=1,'IN_Definition Index'!$F$19*NR_Reihen_Veränderungsraten!AE21,)","v":0},{"$f":"IF($C143=1,'IN_Definition Index'!$F$19*NR_Reihen_Veränderungsraten!AF21,)","v":0}]
["H49","Landverkehr und Transport in Rohrfernleitungen",{"$f":"'IN_Definition Index'!F10","v":0},{"$f":"IF($C144=1,'IN_Definition Index'!$F$19*NR_Reihen_Veränderungsraten!D22,)","v":0},{"$f":"IF($C144=1,'IN_Definition Index'!$F$19*NR_Reihen_Veränderungsraten!E22,)","v":0},{"$f":"IF($C144=1,'IN_Definition Index'!$F$19*NR_Reihen_Veränderungsraten!F22,)","v":0},{"$f":"IF($C144=1,'IN_Definition Index'!$F$19*NR_Reihen_Veränderungsraten!G22,)","v":0},{"$f":"IF($C144=1,'IN_Definition Index'!$F$19*NR_Reihen_Veränderungsraten!H22,)","v":0},{"$f":"IF($C144=1,'IN_Definition Index'!$F$19*NR_Reihen_Veränderungsraten!I22,)","v":0},{"$f":"IF($C144=1,'IN_Definition Index'!$F$19*NR_Reihen_Veränderungsraten!J22,)","v":0},{"$f":"IF($C144=1,'IN_Definition Index'!$F$19*NR_Reihen_Veränderungsraten!K22,)","v":0},{"$f":"IF($C144=1,'IN_Definition Index'!$F$19*NR_Reihen_Veränderungsraten!L22,)","v":0},{"$f":"IF($C144=1,'IN_Definition Index'!$F$19*NR_Reihen_Veränderungsraten!M22,)","v":0},{"$f":"IF($C144=1,'IN_Definition Index'!$F$19*NR_Reihen_Veränderungsraten!N22,)","v":0},{"$f":"IF($C144=1,'IN_Definition Index'!$F$19*NR_Reihen_Veränderungsraten!O22,)","v":0},{"$f":"IF($C144=1,'IN_Definition Index'!$F$19*NR_Reihen_Veränderungsraten!P22,)","v":0},{"$f":"IF($C144=1,'IN_Definition Index'!$F$19*NR_Reihen_Veränderungsraten!Q22,)","v":0},{"$f":"IF($C144=1,'IN_Definition Index'!$F$19*NR_Reihen_Veränderungsraten!R22,)","v":0},{"$f":"IF($C144=1,'IN_Definition Index'!$F$19*NR_Reihen_Veränderungsraten!S22,)","v":0},{"$f":"IF($C144=1,'IN_Definition Index'!$F$19*NR_Reihen_Veränderungsraten!T22,)","v":0},{"$f":"IF($C144=1,'IN_Definition Index'!$F$19*NR_Reihen_Veränderungsraten!U22,)","v":0},{"$f":"IF($C144=1,'IN_Definition Index'!$F$19*NR_Reihen_Veränderungsraten!V22,)","v":0},{"$f":"IF($C144=1,'IN_Definition Index'!$F$19*NR_Reihen_Veränderungsraten!W22,)","v":0},{"$f":"IF($C144=1,'IN_Definition Index'!$F$19*NR_Reihen_Veränderungsraten!X22,)","v":0},{"$f":"IF($C144=1,'IN_Definition Index'!$F$19*NR_Reihen_Veränderungsraten!Y22,)","v":0},{"$f":"IF($C144=1,'IN_Definition Index'!$F$19*NR_Reihen_Veränderungsraten!Z22,)","v":0},{"$f":"IF($C144=1,'IN_Definition Index'!$F$19*NR_Reihen_Veränderungsraten!AA22,)","v":0},{"$f":"IF($C144=1,'IN_Definition Index'!$F$19*NR_Reihen_Veränderungsraten!AB22,)","v":0},{"$f":"IF($C144=1,'IN_Definition Index'!$F$19*NR_Reihen_Veränderungsraten!AC22,)","v":0},{"$f":"IF($C144=1,'IN_Definition Index'!$F$19*NR_Reihen_Veränderungsraten!AD22,)","v":0},{"$f":"IF($C144=1,'IN_Definition Index'!$F$19*NR_Reihen_Veränderungsraten!AE22,)","v":0},{"$f":"IF($C144=1,'IN_Definition Index'!$F$19*NR_Reihen_Veränderungsraten!AF22,)","v":0}]
["H52","Lagerei sowie Erbringung von sonstigen Dienstleistungen für den Verkehr",{"$f":"'IN_Definition Index'!F11","v":1},{"$f":"IF($C145=1,'IN_Definition Index'!$F$19*NR_Reihen_Veränderungsraten!D23,)","v":0.48722880265404334},{"$f":"IF($C145=1,'IN_Definition Index'!$F$19*NR_Reihen_Veränderungsraten!E23,)","v":0.50148165247829346},{"$f":"IF($C145=1,'IN_Definition Index'!$F$19*NR_Reihen_Veränderungsraten!F23,)","v":0.52535303073555994},{"$f":"IF($C145=1,'IN_Definition Index'!$F$19*NR_Reihen_Veränderungsraten!G23,)","v":0.49629961911103132},{"$f":"IF($C145=1,'IN_Definition Index'!$F$19*NR_Reihen_Veränderungsraten!H23,)","v":0.52033905959928028},{"$f":"IF($C145=1,'IN_Definition Index'!$F$19*NR_Reihen_Veränderungsraten!I23,)","v":0.54836768741282338},{"$f":"IF($C145=1,'IN_Definition Index'!$F$19*NR_Reihen_Veränderungsraten!J23,)","v":0.5132583087320447},{"$f":"IF($C145=1,'IN_Definition Index'!$F$19*NR_Reihen_Veränderungsraten!K23,)","v":0.43377403021831606},{"$f":"IF($C145=1,'IN_Definition Index'!$F$19*NR_Reihen_Veränderungsraten!L23,)","v":0.51046622166194788},{"$f":"IF($C145=1,'IN_Definition Index'!$F$19*NR_Reihen_Veränderungsraten!M23,)","v":0.55457563130024123},{"$f":"IF($C145=1,'IN_Definition Index'!$F$19*NR_Reihen_Veränderungsraten!N23,)","v":0.5526375144778819},{"$f":"IF($C145=1,'IN_Definition Index'!$F$19*NR_Reihen_Veränderungsraten!O23,)","v":0.51427215933283421},{"$f":"IF($C145=1,'IN_Definition Index'!$F$19*NR_Reihen_Veränderungsraten!P23,)","v":0.56572107254656978},{"$f":"IF($C145=1,'IN_Definition Index'!$F$19*NR_Reihen_Veränderungsraten!Q23,)","v":0.52549683273491699},{"$f":"IF($C145=1,'IN_Definition Index'!$F$19*NR_Reihen_Veränderungsraten!R23,)","v":0.53305538850699941},{"$f":"IF($C145=1,'IN_Definition Index'!$F$19*NR_Reihen_Veränderungsraten!S23,)","v":0.49629121770283763},{"$f":"IF($C145=1,'IN_Definition Index'!$F$19*NR_Reihen_Veränderungsraten!T23,)","v":0.47917578682878031},{"$f":"IF($C145=1,'IN_Definition Index'!$F$19*NR_Reihen_Veränderungsraten!U23,)","v":0.44984310932296373},{"$f":"IF($C145=1,'IN_Definition Index'!$F$19*NR_Reihen_Veränderungsraten!V23,)","v":0.53888003054258005},{"$f":"IF($C145=1,'IN_Definition Index'!$F$19*NR_Reihen_Veränderungsraten!W23,)","v":0.48822082878730577},{"$f":"IF($C145=1,'IN_Definition Index'!$F$19*NR_Reihen_Veränderungsraten!X23,)","v":0.49615654903103806},{"$f":"IF($C145=1,'IN_Definition Index'!$F$19*NR_Reihen_Veränderungsraten!Y23,)","v":0.50882362340609122},{"$f":"IF($C145=1,'IN_Definition Index'!$F$19*NR_Reihen_Veränderungsraten!Z23,)","v":0.4964530229934716},{"$f":"IF($C145=1,'IN_Definition Index'!$F$19*NR_Reihen_Veränderungsraten!AA23,)","v":0.4734027272223898},{"$f":"IF($C145=1,'IN_Definition Index'!$F$19*NR_Reihen_Veränderungsraten!AB23,)","v":0.49872718446601944},{"$f":"IF($C145=1,'IN_Definition Index'!$F$19*NR_Reihen_Veränderungsraten!AC23,)","v":0.50337606468824525},{"$f":"IF($C145=1,'IN_Definition Index'!$F$19*NR_Reihen_Veränderungsraten!AD23,)","v":0.50698326056107812},{"$f":"IF($C145=1,'IN_Definition Index'!$F$19*NR_Reihen_Veränderungsraten!AE23,)","v":{"$error":"#VALUE!"}},{"$f":"IF($C145=1,'IN_Definition Index'!$F$19*NR_Reihen_Veränderungsraten!AF23,)","v":{"$error":"#VALUE!"}}]
["J61","Telekommunikation",{"$f":"'IN_Definition Index'!F12","v":0},{"$f":"IF($C146=1,'IN_Definition Index'!$F$19*NR_Reihen_Veränderungsraten!D24,)","v":0},{"$f":"IF($C146=1,'IN_Definition Index'!$F$19*NR_Reihen_Veränderungsraten!E24,)","v":0},{"$f":"IF($C146=1,'IN_Definition Index'!$F$19*NR_Reihen_Veränderungsraten!F24,)","v":0},{"$f":"IF($C146=1,'IN_Definition Index'!$F$19*NR_Reihen_Veränderungsraten!G24,)","v":0},{"$f":"IF($C146=1,'IN_Definition Index'!$F$19*NR_Reihen_Veränderungsraten!H24,)","v":0},{"$f":"IF($C146=1,'IN_Definition Index'!$F$19*NR_Reihen_Veränderungsraten!I24,)","v":0},{"$f":"IF($C146=1,'IN_Definition Index'!$F$19*NR_Reihen_Veränderungsraten!J24,)","v":0},{"$f":"IF($C146=1,'IN_Definition Index'!$F$19*NR_Reihen_Veränderungsraten!K24,)","v":0},{"$f":"IF($C146=1,'IN_Definition Index'!$F$19*NR_Reihen_Veränderungsraten!L24,)","v":0},{"$f":"IF($C146=1,'IN_Definition Index'!$F$19*NR_Reihen_Veränderungsraten!M24,)","v":0},{"$f":"IF($C146=1,'IN_Definition Index'!$F$19*NR_Reihen_Veränderungsraten!N24,)","v":0},{"$f":"IF($C146=1,'IN_Definition Index'!$F$19*NR_Reihen_Veränderungsraten!O24,)","v":0},{"$f":"IF($C146=1,'IN_Definition Index'!$F$19*NR_Reihen_Veränderungsraten!P24,)","v":0},{"$f":"IF($C146=1,'IN_Definition Index'!$F$19*NR_Reihen_Veränderungsraten!Q24,)","v":0},{"$f":"IF($C146=1,'IN_Definition Index'!$F$19*NR_Reihen_Veränderungsraten!R24,)","v":0},{"$f":"IF($C146=1,'IN_Definition Index'!$F$19*NR_Reihen_Veränderungsraten!S24,)","v":0},{"$f":"IF($C146=1,'IN_Definition Index'!$F$19*NR_Reihen_Veränderungsraten!T24,)","v":0},{"$f":"IF($C146=1,'IN_Definition Index'!$F$19*NR_Reihen_Veränderungsraten!U24,)","v":0},{"$f":"IF($C146=1,'IN_Definition Index'!$F$19*NR_Reihen_Veränderungsraten!V24,)","v":0},{"$f":"IF($C146=1,'IN_Definition Index'!$F$19*NR_Reihen_Veränderungsraten!W24,)","v":0},{"$f":"IF($C146=1,'IN_Definition Index'!$F$19*NR_Reihen_Veränderungsraten!X24,)","v":0},{"$f":"IF($C146=1,'IN_Definition Index'!$F$19*NR_Reihen_Veränderungsraten!Y24,)","v":0},{"$f":"IF($C146=1,'IN_Definition Index'!$F$19*NR_Reihen_Veränderungsraten!Z24,)","v":0},{"$f":"IF($C146=1,'IN_Definition Index'!$F$19*NR_Reihen_Veränderungsraten!AA24,)","v":0},{"$f":"IF($C146=1,'IN_Definition Index'!$F$19*NR_Reihen_Veränderungsraten!AB24,)","v":0},{"$f":"IF($C146=1,'IN_Definition Index'!$F$19*NR_Reihen_Veränderungsraten!AC24,)","v":0},{"$f":"IF($C146=1,'IN_Definition Index'!$F$19*NR_Reihen_Veränderungsraten!AD24,)","v":0},{"$f":"IF($C146=1,'IN_Definition Index'!$F$19*NR_Reihen_Veränderungsraten!AE24,)","v":0},{"$f":"IF($C146=1,'IN_Definition Index'!$F$19*NR_Reihen_Veränderungsraten!AF24,)","v":0}]
["J62-01","IT- und Informationsdienstleister",{"$f":"'IN_Definition Index'!F13","v":0},{"$f":"IF($C147=1,'IN_Definition Index'!$F$19*NR_Reihen_Veränderungsraten!D25,)","v":0},{"$f":"IF($C147=1,'IN_Definition Index'!$F$19*NR_Reihen_Veränderungsraten!E25,)","v":0},{"$f":"IF($C147=1,'IN_Definition Index'!$F$19*NR_Reihen_Veränderungsraten!F25,)","v":0},{"$f":"IF($C147=1,'IN_Definition Index'!$F$19*NR_Reihen_Veränderungsraten!G25,)","v":0},{"$f":"IF($C147=1,'IN_Definition Index'!$F$19*NR_Reihen_Veränderungsraten!H25,)","v":0},{"$f":"IF($C147=1,'IN_Definition Index'!$F$19*NR_Reihen_Veränderungsraten!I25,)","v":0},{"$f":"IF($C147=1,'IN_Definition Index'!$F$19*NR_Reihen_Veränderungsraten!J25,)","v":0},{"$f":"IF($C147=1,'IN_Definition Index'!$F$19*NR_Reihen_Veränderungsraten!K25,)","v":0},{"$f":"IF($C147=1,'IN_Definition Index'!$F$19*NR_Reihen_Veränderungsraten!L25,)","v":0},{"$f":"IF($C147=1,'IN_Definition Index'!$F$19*NR_Reihen_Veränderungsraten!M25,)","v":0},{"$f":"IF($C147=1,'IN_Definition Index'!$F$19*NR_Reihen_Veränderungsraten!N25,)","v":0},{"$f":"IF($C147=1,'IN_Definition Index'!$F$19*NR_Reihen_Veränderungsraten!O25,)","v":0},{"$f":"IF($C147=1,'IN_Definition Index'!$F$19*NR_Reihen_Veränderungsraten!P25,)","v":0},{"$f":"IF($C147=1,'IN_Definition Index'!$F$19*NR_Reihen_Veränderungsraten!Q25,)","v":0},{"$f":"IF($C147=1,'IN_Definition Index'!$F$19*NR_Reihen_Veränderungsraten!R25,)","v":0},{"$f":"IF($C147=1,'IN_Definition Index'!$F$19*NR_Reihen_Veränderungsraten!S25,)","v":0},{"$f":"IF($C147=1,'IN_Definition Index'!$F$19*NR_Reihen_Veränderungsraten!T25,)","v":0},{"$f":"IF($C147=1,'IN_Definition Index'!$F$19*NR_Reihen_Veränderungsraten!U25,)","v":0},{"$f":"IF($C147=1,'IN_Definition Index'!$F$19*NR_Reihen_Veränderungsraten!V25,)","v":0},{"$f":"IF($C147=1,'IN_Definition Index'!$F$19*NR_Reihen_Veränderungsraten!W25,)","v":0},{"$f":"IF($C147=1,'IN_Definition Index'!$F$19*NR_Reihen_Veränderungsraten!X25,)","v":0},{"$f":"IF($C147=1,'IN_Definition Index'!$F$19*NR_Reihen_Veränderungsraten!Y25,)","v":0},{"$f":"IF($C147=1,'IN_Definition Index'!$F$19*NR_Reihen_Veränderungsraten!Z25,)","v":0},{"$f":"IF($C147=1,'IN_Definition Index'!$F$19*NR_Reihen_Veränderungsraten!AA25,)","v":0},{"$f":"IF($C147=1,'IN_Definition Index'!$F$19*NR_Reihen_Veränderungsraten!AB25,)","v":0},{"$f":"IF($C147=1,'IN_Definition Index'!$F$19*NR_Reihen_Veränderungsraten!AC25,)","v":0},{"$f":"IF($C147=1,'IN_Definition Index'!$F$19*NR_Reihen_Veränderungsraten!AD25,)","v":0},{"$f":"IF($C147=1,'IN_Definition Index'!$F$19*NR_Reihen_Veränderungsraten!AE25,)","v":0},{"$f":"IF($C147=1,'IN_Definition Index'!$F$19*NR_Reihen_Veränderungsraten!AF25,)","v":0}]
["M69-01","Unternehmensnahe Beratungsleistungen ",{"$f":"'IN_Definition Index'!F14","v":0},{"$f":"IF($C148=1,'IN_Definition Index'!$F$19*NR_Reihen_Veränderungsraten!D26,)","v":0},{"$f":"IF($C148=1,'IN_Definition Index'!$F$19*NR_Reihen_Veränderungsraten!E26,)","v":0},{"$f":"IF($C148=1,'IN_Definition Index'!$F$19*NR_Reihen_Veränderungsraten!F26,)","v":0},{"$f":"IF($C148=1,'IN_Definition Index'!$F$19*NR_Reihen_Veränderungsraten!G26,)","v":0},{"$f":"IF($C148=1,'IN_Definition Index'!$F$19*NR_Reihen_Veränderungsraten!H26,)","v":0},{"$f":"IF($C148=1,'IN_Definition Index'!$F$19*NR_Reihen_Veränderungsraten!I26,)","v":0},{"$f":"IF($C148=1,'IN_Definition Index'!$F$19*NR_Reihen_Veränderungsraten!J26,)","v":0},{"$f":"IF($C148=1,'IN_Definition Index'!$F$19*NR_Reihen_Veränderungsraten!K26,)","v":0},{"$f":"IF($C148=1,'IN_Definition Index'!$F$19*NR_Reihen_Veränderungsraten!L26,)","v":0},{"$f":"IF($C148=1,'IN_Definition Index'!$F$19*NR_Reihen_Veränderungsraten!M26,)","v":0},{"$f":"IF($C148=1,'IN_Definition Index'!$F$19*NR_Reihen_Veränderungsraten!N26,)","v":0},{"$f":"IF($C148=1,'IN_Definition Index'!$F$19*NR_Reihen_Veränderungsraten!O26,)","v":0},{"$f":"IF($C148=1,'IN_Definition Index'!$F$19*NR_Reihen_Veränderungsraten!P26,)","v":0},{"$f":"IF($C148=1,'IN_Definition Index'!$F$19*NR_Reihen_Veränderungsraten!Q26,)","v":0},{"$f":"IF($C148=1,'IN_Definition Index'!$F$19*NR_Reihen_Veränderungsraten!R26,)","v":0},{"$f":"IF($C148=1,'IN_Definition Index'!$F$19*NR_Reihen_Veränderungsraten!S26,)","v":0},{"$f":"IF($C148=1,'IN_Definition Index'!$F$19*NR_Reihen_Veränderungsraten!T26,)","v":0},{"$f":"IF($C148=1,'IN_Definition Index'!$F$19*NR_Reihen_Veränderungsraten!U26,)","v":0},{"$f":"IF($C148=1,'IN_Definition Index'!$F$19*NR_Reihen_Veränderungsraten!V26,)","v":0},{"$f":"IF($C148=1,'IN_Definition Index'!$F$19*NR_Reihen_Veränderungsraten!W26,)","v":0},{"$f":"IF($C148=1,'IN_Definition Index'!$F$19*NR_Reihen_Veränderungsraten!X26,)","v":0},{"$f":"IF($C148=1,'IN_Definition Index'!$F$19*NR_Reihen_Veränderungsraten!Y26,)","v":0},{"$f":"IF($C148=1,'IN_Definition Index'!$F$19*NR_Reihen_Veränderungsraten!Z26,)","v":0},{"$f":"IF($C148=1,'IN_Definition Index'!$F$19*NR_Reihen_Veränderungsraten!AA26,)","v":0},{"$f":"IF($C148=1,'IN_Definition Index'!$F$19*NR_Reihen_Veränderungsraten!AB26,)","v":0},{"$f":"IF($C148=1,'IN_Definition Index'!$F$19*NR_Reihen_Veränderungsraten!AC26,)","v":0},{"$f":"IF($C148=1,'IN_Definition Index'!$F$19*NR_Reihen_Veränderungsraten!AD26,)","v":0},{"$f":"IF($C148=1,'IN_Definition Index'!$F$19*NR_Reihen_Veränderungsraten!AE26,)","v":0},{"$f":"IF($C148=1,'IN_Definition Index'!$F$19*NR_Reihen_Veränderungsraten!AF26,)","v":0}]
["M73","Werbung und Marktforschung",{"$f":"'IN_Definition Index'!F15","v":0},{"$f":"IF($C149=1,'IN_Definition Index'!$F$19*NR_Reihen_Veränderungsraten!D27,)","v":0},{"$f":"IF($C149=1,'IN_Definition Index'!$F$19*NR_Reihen_Veränderungsraten!E27,)","v":0},{"$f":"IF($C149=1,'IN_Definition Index'!$F$19*NR_Reihen_Veränderungsraten!F27,)","v":0},{"$f":"IF($C149=1,'IN_Definition Index'!$F$19*NR_Reihen_Veränderungsraten!G27,)","v":0},{"$f":"IF($C149=1,'IN_Definition Index'!$F$19*NR_Reihen_Veränderungsraten!H27,)","v":0},{"$f":"IF($C149=1,'IN_Definition Index'!$F$19*NR_Reihen_Veränderungsraten!I27,)","v":0},{"$f":"IF($C149=1,'IN_Definition Index'!$F$19*NR_Reihen_Veränderungsraten!J27,)","v":0},{"$f":"IF($C149=1,'IN_Definition Index'!$F$19*NR_Reihen_Veränderungsraten!K27,)","v":0},{"$f":"IF($C149=1,'IN_Definition Index'!$F$19*NR_Reihen_Veränderungsraten!L27,)","v":0},{"$f":"IF($C149=1,'IN_Definition Index'!$F$19*NR_Reihen_Veränderungsraten!M27,)","v":0},{"$f":"IF($C149=1,'IN_Definition Index'!$F$19*NR_Reihen_Veränderungsraten!N27,)","v":0},{"$f":"IF($C149=1,'IN_Definition Index'!$F$19*NR_Reihen_Veränderungsraten!O27,)","v":0},{"$f":"IF($C149=1,'IN_Definition Index'!$F$19*NR_Reihen_Veränderungsraten!P27,)","v":0},{"$f":"IF($C149=1,'IN_Definition Index'!$F$19*NR_Reihen_Veränderungsraten!Q27,)","v":0},{"$f":"IF($C149=1,'IN_Definition Index'!$F$19*NR_Reihen_Veränderungsraten!R27,)","v":0},{"$f":"IF($C149=1,'IN_Definition Index'!$F$19*NR_Reihen_Veränderungsraten!S27,)","v":0},{"$f":"IF($C149=1,'IN_Definition Index'!$F$19*NR_Reihen_Veränderungsraten!T27,)","v":0},{"$f":"IF($C149=1,'IN_Definition Index'!$F$19*NR_Reihen_Veränderungsraten!U27,)","v":0},{"$f":"IF($C149=1,'IN_Definition Index'!$F$19*NR_Reihen_Veränderungsraten!V27,)","v":0},{"$f":"IF($C149=1,'IN_Definition Index'!$F$19*NR_Reihen_Veränderungsraten!W27,)","v":0},{"$f":"IF($C149=1,'IN_Definition Index'!$F$19*NR_Reihen_Veränderungsraten!X27,)","v":0},{"$f":"IF($C149=1,'IN_Definition Index'!$F$19*NR_Reihen_Veränderungsraten!Y27,)","v":0},{"$f":"IF($C149=1,'IN_Definition Index'!$F$19*NR_Reihen_Veränderungsraten!Z27,)","v":0},{"$f":"IF($C149=1,'IN_Definition Index'!$F$19*NR_Reihen_Veränderungsraten!AA27,)","v":0},{"$f":"IF($C149=1,'IN_Definition Index'!$F$19*NR_Reihen_Veränderungsraten!AB27,)","v":0},{"$f":"IF($C149=1,'IN_Definition Index'!$F$19*NR_Reihen_Veränderungsraten!AC27,)","v":0},{"$f":"IF($C149=1,'IN_Definition Index'!$F$19*NR_Reihen_Veränderungsraten!AD27,)","v":0},{"$f":"IF($C149=1,'IN_Definition Index'!$F$19*NR_Reihen_Veränderungsraten!AE27,)","v":0},{"$f":"IF($C149=1,'IN_Definition Index'!$F$19*NR_Reihen_Veränderungsraten!AF27,)","v":0}]
["M74-01","Freiberufl.,wiss.,techn.DL a.n.g., Veterinärwesen",{"$f":"'IN_Definition Index'!F16","v":0},{"$f":"IF($C150=1,'IN_Definition Index'!$F$19*NR_Reihen_Veränderungsraten!D28,)","v":0},{"$f":"IF($C150=1,'IN_Definition Index'!$F$19*NR_Reihen_Veränderungsraten!E28,)","v":0},{"$f":"IF($C150=1,'IN_Definition Index'!$F$19*NR_Reihen_Veränderungsraten!F28,)","v":0},{"$f":"IF($C150=1,'IN_Definition Index'!$F$19*NR_Reihen_Veränderungsraten!G28,)","v":0},{"$f":"IF($C150=1,'IN_Definition Index'!$F$19*NR_Reihen_Veränderungsraten!H28,)","v":0},{"$f":"IF($C150=1,'IN_Definition Index'!$F$19*NR_Reihen_Veränderungsraten!I28,)","v":0},{"$f":"IF($C150=1,'IN_Definition Index'!$F$19*NR_Reihen_Veränderungsraten!J28,)","v":0},{"$f":"IF($C150=1,'IN_Definition Index'!$F$19*NR_Reihen_Veränderungsraten!K28,)","v":0},{"$f":"IF($C150=1,'IN_Definition Index'!$F$19*NR_Reihen_Veränderungsraten!L28,)","v":0},{"$f":"IF($C150=1,'IN_Definition Index'!$F$19*NR_Reihen_Veränderungsraten!M28,)","v":0},{"$f":"IF($C150=1,'IN_Definition Index'!$F$19*NR_Reihen_Veränderungsraten!N28,)","v":0},{"$f":"IF($C150=1,'IN_Definition Index'!$F$19*NR_Reihen_Veränderungsraten!O28,)","v":0},{"$f":"IF($C150=1,'IN_Definition Index'!$F$19*NR_Reihen_Veränderungsraten!P28,)","v":0},{"$f":"IF($C150=1,'IN_Definition Index'!$F$19*NR_Reihen_Veränderungsraten!Q28,)","v":0},{"$f":"IF($C150=1,'IN_Definition Index'!$F$19*NR_Reihen_Veränderungsraten!R28,)","v":0},{"$f":"IF($C150=1,'IN_Definition Index'!$F$19*NR_Reihen_Veränderungsraten!S28,)","v":0},{"$f":"IF($C150=1,'IN_Definition Index'!$F$19*NR_Reihen_Veränderungsraten!T28,)","v":0},{"$f":"IF($C150=1,'IN_Definition Index'!$F$19*NR_Reihen_Veränderungsraten!U28,)","v":0},{"$f":"IF($C150=1,'IN_Definition Index'!$F$19*NR_Reihen_Veränderungsraten!V28,)","v":0},{"$f":"IF($C150=1,'IN_Definition Index'!$F$19*NR_Reihen_Veränderungsraten!W28,)","v":0},{"$f":"IF($C150=1,'IN_Definition Index'!$F$19*NR_Reihen_Veränderungsraten!X28,)","v":0},{"$f":"IF($C150=1,'IN_Definition Index'!$F$19*NR_Reihen_Veränderungsraten!Y28,)","v":0},{"$f":"IF($C150=1,'IN_Definition Index'!$F$19*NR_Reihen_Veränderungsraten!Z28,)","v":0},{"$f":"IF($C150=1,'IN_Definition Index'!$F$19*NR_Reihen_Veränderungsraten!AA28,)","v":0},{"$f":"IF($C150=1,'IN_Definition Index'!$F$19*NR_Reihen_Veränderungsraten!AB28,)","v":0},{"$f":"IF($C150=1,'IN_Definition Index'!$F$19*NR_Reihen_Veränderungsraten!AC28,)","v":0},{"$f":"IF($C150=1,'IN_Definition Index'!$F$19*NR_Reihen_Veränderungsraten!AD28,)","v":0},{"$f":"IF($C150=1,'IN_Definition Index'!$F$19*NR_Reihen_Veränderungsraten!AE28,)","v":0},{"$f":"IF($C150=1,'IN_Definition Index'!$F$19*NR_Reihen_Veränderungsraten!AF28,)","v":0}]
["L","Grundstücks- und Wohnungswesen",{"$f":"'IN_Definition Index'!F17","v":0},{"$f":"IF($C151=1,'IN_Definition Index'!$F$19*NR_Reihen_Veränderungsraten!D29,)","v":0},{"$f":"IF($C151=1,'IN_Definition Index'!$F$19*NR_Reihen_Veränderungsraten!E29,)","v":0},{"$f":"IF($C151=1,'IN_Definition Index'!$F$19*NR_Reihen_Veränderungsraten!F29,)","v":0},{"$f":"IF($C151=1,'IN_Definition Index'!$F$19*NR_Reihen_Veränderungsraten!G29,)","v":0},{"$f":"IF($C151=1,'IN_Definition Index'!$F$19*NR_Reihen_Veränderungsraten!H29,)","v":0},{"$f":"IF($C151=1,'IN_Definition Index'!$F$19*NR_Reihen_Veränderungsraten!I29,)","v":0},{"$f":"IF($C151=1,'IN_Definition Index'!$F$19*NR_Reihen_Veränderungsraten!J29,)","v":0},{"$f":"IF($C151=1,'IN_Definition Index'!$F$19*NR_Reihen_Veränderungsraten!K29,)","v":0},{"$f":"IF($C151=1,'IN_Definition Index'!$F$19*NR_Reihen_Veränderungsraten!L29,)","v":0},{"$f":"IF($C151=1,'IN_Definition Index'!$F$19*NR_Reihen_Veränderungsraten!M29,)","v":0},{"$f":"IF($C151=1,'IN_Definition Index'!$F$19*NR_Reihen_Veränderungsraten!N29,)","v":0},{"$f":"IF($C151=1,'IN_Definition Index'!$F$19*NR_Reihen_Veränderungsraten!O29,)","v":0},{"$f":"IF($C151=1,'IN_Definition Index'!$F$19*NR_Reihen_Veränderungsraten!P29,)","v":0},{"$f":"IF($C151=1,'IN_Definition Index'!$F$19*NR_Reihen_Veränderungsraten!Q29,)","v":0},{"$f":"IF($C151=1,'IN_Definition Index'!$F$19*NR_Reihen_Veränderungsraten!R29,)","v":0},{"$f":"IF($C151=1,'IN_Definition Index'!$F$19*NR_Reihen_Veränderungsraten!S29,)","v":0},{"$f":"IF($C151=1,'IN_Definition Index'!$F$19*NR_Reihen_Veränderungsraten!T29,)","v":0},{"$f":"IF($C151=1,'IN_Definition Index'!$F$19*NR_Reihen_Veränderungsraten!U29,)","v":0},{"$f":"IF($C151=1,'IN_Definition Index'!$F$19*NR_Reihen_Veränderungsraten!V29,)","v":0},{"$f":"IF($C151=1,'IN_Definition Index'!$F$19*NR_Reihen_Veränderungsraten!W29,)","v":0},{"$f":"IF($C151=1,'IN_Definition Index'!$F$19*NR_Reihen_Veränderungsraten!X29,)","v":0},{"$f":"IF($C151=1,'IN_Definition Index'!$F$19*NR_Reihen_Veränderungsraten!Y29,)","v":0},{"$f":"IF($C151=1,'IN_Definition Index'!$F$19*NR_Reihen_Veränderungsraten!Z29,)","v":0},{"$f":"IF($C151=1,'IN_Definition Index'!$F$19*NR_Reihen_Veränderungsraten!AA29,)","v":0},{"$f":"IF($C151=1,'IN_Definition Index'!$F$19*NR_Reihen_Veränderungsraten!AB29,)","v":0},{"$f":"IF($C151=1,'IN_Definition Index'!$F$19*NR_Reihen_Veränderungsraten!AC29,)","v":0},{"$f":"IF($C151=1,'IN_Definition Index'!$F$19*NR_Reihen_Veränderungsraten!AD29,)","v":0},{"$f":"IF($C151=1,'IN_Definition Index'!$F$19*NR_Reihen_Veränderungsraten!AE29,)","v":0},{"$f":"IF($C151=1,'IN_Definition Index'!$F$19*NR_Reihen_Veränderungsraten!AF29,)","v":0}]
[null,"Summe",null,{"$f":"SUM(D141:D151)","v":1.0431928470788119},{"$f":"SUM(E141:E151)","v":1.0031811572413187},{"$f":"SUM(F141:F151)","v":1.0889159275407367},{"$f":"SUM(G141:G151)","v":1.0160711363128141},{"$f":"SUM(H141:H151)","v":1.0322513072063508},{"$f":"SUM(I141:I151)","v":1.1090513049888275},{"$f":"SUM(J141:J151)","v":1.0356234459944751},{"$f":"SUM(K141:K151)","v":0.9714897102926392},{"$f":"SUM(L141:L151)","v":1.0470533830282611},{"$f":"SUM(M141:M151)","v":1.0561238556207426},{"$f":"SUM(N141:N151)","v":1.076501920735581},{"$f":"SUM(O141:O151)","v":1.0597945899970194},{"$f":"SUM(P141:P151)","v":1.1188407721120677},{"$f":"SUM(Q141:Q151)","v":1.1039792770060171},{"$f":"SUM(R141:R151)","v":1.0411782563755103},{"$f":"SUM(S141:S151)","v":1.0303456003488483},{"$f":"SUM(T141:T151)","v":0.91160410357220634},{"$f":"SUM(U141:U151)","v":0.88683174110854979},{"$f":"SUM(V141:V151)","v":1.0474143927114274},{"$f":"SUM(W141:W151)","v":1.0008561394606117},{"$f":"SUM(X141:X151)","v":0.98402822936727463},{"$f":"SUM(Y141:Y151)","v":0.98764612008874919},{"$f":"SUM(Z141:Z151)","v":1.0015604366413235},{"$f":"SUM(AA141:AA151)","v":0.99881944573017267},{"$f":"SUM(AB141:AB151)","v":0.98227718446601942},{"$f":"SUM(AC141:AC151)","v":0.96810334315377733},0.9869945625001364,{"$error":"#VALUE!"},{"$error":"#VALUE!"}]
[]
["Transport"]
[]
["Nr. (WZ 2008)","Branche","Verwendung",1992,{"$f":"D156+1","v":1993},{"$f":"E156+1","v":1994},{"$f":"F156+1","v":1995},{"$f":"G156+1","v":1996},{"$f":"H156+1","v":1997},{"$f":"I156+1","v":1998},{"$f":"J156+1","v":1999},{"$f":"K156+1","v":2000},{"$f":"L156+1","v":2001},{"$f":"M156+1","v":2002},{"$f":"N156+1","v":2003},{"$f":"O156+1","v":2004},{"$f":"P156+1","v":2005},{"$f":"Q156+1","v":2006},{"$f":"R156+1","v":2007},{"$f":"S156+1","v":2008},{"$f":"T156+1","v":2009},{"$f":"U156+1","v":2010},{"$f":"V156+1","v":2011},{"$f":"W156+1","v":2012},{"$f":"X156+1","v":2013},{"$f":"Y156+1","v":2014},{"$f":"Z156+1","v":2015},{"$f":"AA156+1","v":2016},{"$f":"AB156+1","v":2017},{"$f":"AC156+1","v":2018},{"$f":"AD156+1","v":2019},{"$f":"AE156+1","v":2020}]
["C33","Reparatur und Installation von Maschinen und Ausrüstungen",{"$f":"'IN_Definition Index'!G7","v":0},{"$f":"IF($C157=1,'IN_Definition Index'!$G$19*NR_Reihen_Veränderungsraten!D19,)","v":0},{"$f":"IF($C157=1,'IN_Definition Index'!$G$19*NR_Reihen_Veränderungsraten!E19,)","v":0},{"$f":"IF($C157=1,'IN_Definition Index'!$G$19*NR_Reihen_Veränderungsraten!F19,)","v":0},{"$f":"IF($C157=1,'IN_Definition Index'!$G$19*NR_Reihen_Veränderungsraten!G19,)","v":0},{"$f":"IF($C157=1,'IN_Definition Index'!$G$19*NR_Reihen_Veränderungsraten!H19,)","v":0},{"$f":"IF($C157=1,'IN_Definition Index'!$G$19*NR_Reihen_Veränderungsraten!I19,)","v":0},{"$f":"IF($C157=1,'IN_Definition Index'!$G$19*NR_Reihen_Veränderungsraten!J19,)","v":0},{"$f":"IF($C157=1,'IN_Definition Index'!$G$19*NR_Reihen_Veränderungsraten!K19,)","v":0},{"$f":"IF($C157=1,'IN_Definition Index'!$G$19*NR_Reihen_Veränderungsraten!L19,)","v":0},{"$f":"IF($C157=1,'IN_Definition Index'!$G$19*NR_Reihen_Veränderungsraten!M19,)","v":0},{"$f":"IF($C157=1,'IN_Definition Index'!$G$19*NR_Reihen_Veränderungsraten!N19,)","v":0},{"$f":"IF($C157=1,'IN_Definition Index'!$G$19*NR_Reihen_Veränderungsraten!O19,)","v":0},{"$f":"IF($C157=1,'IN_Definition Index'!$G$19*NR_Reihen_Veränderungsraten!P19,)","v":0},{"$f":"IF($C157=1,'IN_Definition Index'!$G$19*NR_Reihen_Veränderungsraten!Q19,)","v":0},{"$f":"IF($C157=1,'IN_Definition Index'!$G$19*NR_Reihen_Veränderungsraten!R19,)","v":0},{"$f":"IF($C157=1,'IN_Definition Index'!$G$19*NR_Reihen_Veränderungsraten!S19,)","v":0},{"$f":"IF($C157=1,'IN_Definition Index'!$G$19*NR_Reihen_Veränderungsraten!T19,)","v":0},{"$f":"IF($C157=1,'IN_Definition Index'!$G$19*NR_Reihen_Veränderungsraten!U19,)","v":0},{"$f":"IF($C157=1,'IN_Definition Index'!$G$19*NR_Reihen_Veränderungsraten!V19,)","v":0},{"$f":"IF($C157=1,'IN_Definition Index'!$G$19*NR_Reihen_Veränderungsraten!W19,)","v":0},{"$f":"IF($C157=1,'IN_Definition Index'!$G$19*NR_Reihen_Veränderungsraten!X19,)","v":0},{"$f":"IF($C157=1,'IN_Definition Index'!$G$19*NR_Reihen_Veränderungsraten!Y19,)","v":0},{"$f":"IF($C157=1,'IN_Definition Index'!$G$19*NR_Reihen_Veränderungsraten!Z19,)","v":0},{"$f":"IF($C157=1,'IN_Definition Index'!$G$19*NR_Reihen_Veränderungsraten!AA19,)","v":0},{"$f":"IF($C157=1,'IN_Definition Index'!$G$19*NR_Reihen_Veränderungsraten!AB19,)","v":0},{"$f":"IF($C157=1,'IN_Definition Index'!$G$19*NR_Reihen_Veränderungsraten!AC19,)","v":0},{"$f":"IF($C157=1,'IN_Definition Index'!$G$19*NR_Reihen_Veränderungsraten!AD19,)","v":0},{"$f":"IF($C157=1,'IN_Definition Index'!$G$19*NR_Reihen_Veränderungsraten!AE19,)","v":0},{"$f":"IF($C157=1,'IN_Definition Index'!$G$19*NR_Reihen_Veränderungsraten!AF19,)","v":0}]
["G45","Handel mit Kraftfahrzeugen; Instandhaltung und Reparatur von Kraftfahrzeugen",{"$f":"'IN_Definition Index'!G8","v":0},{"$f":"IF($C158=1,'IN_Definition Index'!$G$19*NR_Reihen_Veränderungsraten!D20,)","v":0},{"$f":"IF($C158=1,'IN_Definition Index'!$G$19*NR_Reihen_Veränderungsraten!E20,)","v":0},{"$f":"IF($C158=1,'IN_Definition Index'!$G$19*NR_Reihen_Veränderungsraten!F20,)","v":0},{"$f":"IF($C158=1,'IN_Definition Index'!$G$19*NR_Reihen_Veränderungsraten!G20,)","v":0},{"$f":"IF($C158=1,'IN_Definition Index'!$G$19*NR_Reihen_Veränderungsraten!H20,)","v":0},{"$f":"IF($C158=1,'IN_Definition Index'!$G$19*NR_Reihen_Veränderungsraten!I20,)","v":0},{"$f":"IF($C158=1,'IN_Definition Index'!$G$19*NR_Reihen_Veränderungsraten!J20,)","v":0},{"$f":"IF($C158=1,'IN_Definition Index'!$G$19*NR_Reihen_Veränderungsraten!K20,)","v":0},{"$f":"IF($C158=1,'IN_Definition Index'!$G$19*NR_Reihen_Veränderungsraten!L20,)","v":0},{"$f":"IF($C158=1,'IN_Definition Index'!$G$19*NR_Reihen_Veränderungsraten!M20,)","v":0},{"$f":"IF($C158=1,'IN_Definition Index'!$G$19*NR_Reihen_Veränderungsraten!N20,)","v":0},{"$f":"IF($C158=1,'IN_Definition Index'!$G$19*NR_Reihen_Veränderungsraten!O20,)","v":0},{"$f":"IF($C158=1,'IN_Definition Index'!$G$19*NR_Reihen_Veränderungsraten!P20,)","v":0},{"$f":"IF($C158=1,'IN_Definition Index'!$G$19*NR_Reihen_Veränderungsraten!Q20,)","v":0},{"$f":"IF($C158=1,'IN_Definition Index'!$G$19*NR_Reihen_Veränderungsraten!R20,)","v":0},{"$f":"IF($C158=1,'IN_Definition Index'!$G$19*NR_Reihen_Veränderungsraten!S20,)","v":0},{"$f":"IF($C158=1,'IN_Definition Index'!$G$19*NR_Reihen_Veränderungsraten!T20,)","v":0},{"$f":"IF($C158=1,'IN_Definition Index'!$G$19*NR_Reihen_Veränderungsraten!U20,)","v":0},{"$f":"IF($C158=1,'IN_Definition Index'!$G$19*NR_Reihen_Veränderungsraten!V20,)","v":0},{"$f":"IF($C158=1,'IN_Definition Index'!$G$19*NR_Reihen_Veränderungsraten!W20,)","v":0},{"$f":"IF($C158=1,'IN_Definition Index'!$G$19*NR_Reihen_Veränderungsraten!X20,)","v":0},{"$f":"IF($C158=1,'IN_Definition Index'!$G$19*NR_Reihen_Veränderungsraten!Y20,)","v":0},{"$f":"IF($C158=1,'IN_Definition Index'!$G$19*NR_Reihen_Veränderungsraten!Z20,)","v":0},{"$f":"IF($C158=1,'IN_Definition Index'!$G$19*NR_Reihen_Veränderungsraten!AA20,)","v":0},{"$f":"IF($C158=1,'IN_Definition Index'!$G$19*NR_Reihen_Veränderungsraten!AB20,)","v":0},{"$f":"IF($C158=1,'IN_Definition Index'!$G$19*NR_Reihen_Veränderungsraten!AC20,)","v":0},{"$f":"IF($C158=1,'IN_Definition Index'!$G$19*NR_Reihen_Veränderungsraten!AD20,)","v":0},{"$f":"IF($C158=1,'IN_Definition Index'!$G$19*NR_Reihen_Veränderungsraten!AE20,)","v":0},{"$f":"IF($C158=1,'IN_Definition Index'!$G$19*NR_Reihen_Veränderungsraten!AF20,)","v":0}]
["G47","Einzelhandel (ohne Handel mit Kraftfahrzeugen)",{"$f":"'IN_Definition Index'!G9","v":0},{"$f":"IF($C159=1,'IN_Definition Index'!$G$19*NR_Reihen_Veränderungsraten!D21,)","v":0},{"$f":"IF($C159=1,'IN_Definition Index'!$G$19*NR_Reihen_Veränderungsraten!E21,)","v":0},{"$f":"IF($C159=1,'IN_Definition Index'!$G$19*NR_Reihen_Veränderungsraten!F21,)","v":0},{"$f":"IF($C159=1,'IN_Definition Index'!$G$19*NR_Reihen_Veränderungsraten!G21,)","v":0},{"$f":"IF($C159=1,'IN_Definition Index'!$G$19*NR_Reihen_Veränderungsraten!H21,)","v":0},{"$f":"IF($C159=1,'IN_Definition Index'!$G$19*NR_Reihen_Veränderungsraten!I21,)","v":0},{"$f":"IF($C159=1,'IN_Definition Index'!$G$19*NR_Reihen_Veränderungsraten!J21,)","v":0},{"$f":"IF($C159=1,'IN_Definition Index'!$G$19*NR_Reihen_Veränderungsraten!K21,)","v":0},{"$f":"IF($C159=1,'IN_Definition Index'!$G$19*NR_Reihen_Veränderungsraten!L21,)","v":0},{"$f":"IF($C159=1,'IN_Definition Index'!$G$19*NR_Reihen_Veränderungsraten!M21,)","v":0},{"$f":"IF($C159=1,'IN_Definition Index'!$G$19*NR_Reihen_Veränderungsraten!N21,)","v":0},{"$f":"IF($C159=1,'IN_Definition Index'!$G$19*NR_Reihen_Veränderungsraten!O21,)","v":0},{"$f":"IF($C159=1,'IN_Definition Index'!$G$19*NR_Reihen_Veränderungsraten!P21,)","v":0},{"$f":"IF($C159=1,'IN_Definition Index'!$G$19*NR_Reihen_Veränderungsraten!Q21,)","v":0},{"$f":"IF($C159=1,'IN_Definition Index'!$G$19*NR_Reihen_Veränderungsraten!R21,)","v":0},{"$f":"IF($C159=1,'IN_Definition Index'!$G$19*NR_Reihen_Veränderungsraten!S21,)","v":0},{"$f":"IF($C159=1,'IN_Definition Index'!$G$19*NR_Reihen_Veränderungsraten!T21,)","v":0},{"$f":"IF($C159=1,'IN_Definition Index'!$G$19*NR_Reihen_Veränderungsraten!U21,)","v":0},{"$f":"IF($C159=1,'IN_Definition Index'!$G$19*NR_Reihen_Veränderungsraten!V21,)","v":0},{"$f":"IF($C159=1,'IN_Definition Index'!$G$19*NR_Reihen_Veränderungsraten!W21,)","v":0},{"$f":"IF($C159=1,'IN_Definition Index'!$G$19*NR_Reihen_Veränderungsraten!X21,)","v":0},{"$f":"IF($C159=1,'IN_Definition Index'!$G$19*NR_Reihen_Veränderungsraten!Y21,)","v":0},{"$f":"IF($C159=1,'IN_Definition Index'!$G$19*NR_Reihen_Veränderungsraten!Z21,)","v":0},{"$f":"IF($C159=1,'IN_Definition Index'!$G$19*NR_Reihen_Veränderungsraten!AA21,)","v":0},{"$f":"IF($C159=1,'IN_Definition Index'!$G$19*NR_Reihen_Veränderungsraten!AB21,)","v":0},{"$f":"IF($C159=1,'IN_Definition Index'!$G$19*NR_Reihen_Veränderungsraten!AC21,)","v":0},{"$f":"IF($C159=1,'IN_Definition Index'!$G$19*NR_Reihen_Veränderungsraten!AD21,)","v":0},{"$f":"IF($C159=1,'IN_Definition Index'!$G$19*NR_Reihen_Veränderungsraten!AE21,)","v":0},{"$f":"IF($C159=1,'IN_Definition Index'!$G$19*NR_Reihen_Veränderungsraten!AF21,)","v":0}]
["H49","Landverkehr und Transport in Rohrfernleitungen",{"$f":"'IN_Definition Index'!G10","v":1},{"$f":"IF($C160=1,'IN_Definition Index'!$G$19*NR_Reihen_Veränderungsraten!D22,)","v":0.9698803325779326},{"$f":"IF($C160=1,'IN_Definition Index'!$G$19*NR_Reihen_Veränderungsraten!E22,)","v":1.0254316874985525},{"$f":"IF($C160=1,'IN_Definition Index'!$G$19*NR_Reihen_Veränderungsraten!F22,)","v":1.0732766199247206},{"$f":"IF($C160=1,'IN_Definition Index'!$G$19*NR_Reihen_Veränderungsraten!G22,)","v":1.1581568748515387},{"$f":"IF($C160=1,'IN_Definition Index'!$G$19*NR_Reihen_Veränderungsraten!H22,)","v":1.0834178611347733},{"$f":"IF($C160=1,'IN_Definition Index'!$G$19*NR_Reihen_Veränderungsraten!I22,)","v":0.98924241701144511},{"$f":"IF($C160=1,'IN_Definition Index'!$G$19*NR_Reihen_Veränderungsraten!J22,)","v":0.98575139490195174},{"$f":"IF($C160=1,'IN_Definition Index'!$G$19*NR_Reihen_Veränderungsraten!K22,)","v":1.1216663919976431},{"$f":"IF($C160=1,'IN_Definition Index'!$G$19*NR_Reihen_Veränderungsraten!L22,)","v":0.95578793128366568},{"$f":"IF($C160=1,'IN_Definition Index'!$G$19*NR_Reihen_Veränderungsraten!M22,)","v":0.99213272714037071},{"$f":"IF($C160=1,'IN_Definition Index'!$G$19*NR_Reihen_Veränderungsraten!N22,)","v":0.98537220925262226},{"$f":"IF($C160=1,'IN_Definition Index'!$G$19*NR_Reihen_Veränderungsraten!O22,)","v":0.95890264122564695},{"$f":"IF($C160=1,'IN_Definition Index'!$G$19*NR_Reihen_Veränderungsraten!P22,)","v":0.9979346119548822},{"$f":"IF($C160=1,'IN_Definition Index'!$G$19*NR_Reihen_Veränderungsraten!Q22,)","v":1.0572079520685445},{"$f":"IF($C160=1,'IN_Definition Index'!$G$19*NR_Reihen_Veränderungsraten!R22,)","v":1.0898344890721718},{"$f":"IF($C160=1,'IN_Definition Index'!$G$19*NR_Reihen_Veränderungsraten!S22,)","v":1.0039022972959433},{"$f":"IF($C160=1,'IN_Definition Index'!$G$19*NR_Reihen_Veränderungsraten!T22,)","v":1.0138437037879651},{"$f":"IF($C160=1,'IN_Definition Index'!$G$19*NR_Reihen_Veränderungsraten!U22,)","v":0.91588992235541211},{"$f":"IF($C160=1,'IN_Definition Index'!$G$19*NR_Reihen_Veränderungsraten!V22,)","v":1.0114803183651864},{"$f":"IF($C160=1,'IN_Definition Index'!$G$19*NR_Reihen_Veränderungsraten!W22,)","v":1.0382385957522131},{"$f":"IF($C160=1,'IN_Definition Index'!$G$19*NR_Reihen_Veränderungsraten!X22,)","v":1.0004607459763146},{"$f":"IF($C160=1,'IN_Definition Index'!$G$19*NR_Reihen_Veränderungsraten!Y22,)","v":0.98423248944890296},{"$f":"IF($C160=1,'IN_Definition Index'!$G$19*NR_Reihen_Veränderungsraten!Z22,)","v":1.0199791631605577},{"$f":"IF($C160=1,'IN_Definition Index'!$G$19*NR_Reihen_Veränderungsraten!AA22,)","v":0.96150156409313059},{"$f":"IF($C160=1,'IN_Definition Index'!$G$19*NR_Reihen_Veränderungsraten!AB22,)","v":0.96712236842105259},{"$f":"IF($C160=1,'IN_Definition Index'!$G$19*NR_Reihen_Veränderungsraten!AC22,)","v":1.0151501929143958},{"$f":"IF($C160=1,'IN_Definition Index'!$G$19*NR_Reihen_Veränderungsraten!AD22,)","v":1.0171949193517742},{"$f":"IF($C160=1,'IN_Definition Index'!$G$19*NR_Reihen_Veränderungsraten!AE22,)","v":{"$error":"#VALUE!"}},{"$f":"IF($C160=1,'IN_Definition Index'!$G$19*NR_Reihen_Veränderungsraten!AF22,)","v":{"$error":"#VALUE!"}}]
["H52","Lagerei sowie Erbringung von sonstigen Dienstleistungen für den Verkehr",{"$f":"'IN_Definition Index'!G11","v":0},{"$f":"IF($C161=1,'IN_Definition Index'!$G$19*NR_Reihen_Veränderungsraten!D23,)","v":0},{"$f":"IF($C161=1,'IN_Definition Index'!$G$19*NR_Reihen_Veränderungsraten!E23,)","v":0},{"$f":"IF($C161=1,'IN_Definition Index'!$G$19*NR_Reihen_Veränderungsraten!F23,)","v":0},{"$f":"IF($C161=1,'IN_Definition Index'!$G$19*NR_Reihen_Veränderungsraten!G23,)","v":0},{"$f":"IF($C161=1,'IN_Definition Index'!$G$19*NR_Reihen_Veränderungsraten!H23,)","v":0},{"$f":"IF($C161=1,'IN_Definition Index'!$G$19*NR_Reihen_Veränderungsraten!I23,)","v":0},{"$f":"IF($C161=1,'IN_Definition Index'!$G$19*NR_Reihen_Veränderungsraten!J23,)","v":0},{"$f":"IF($C161=1,'IN_Definition Index'!$G$19*NR_Reihen_Veränderungsraten!K23,)","v":0},{"$f":"IF($C161=1,'IN_Definition Index'!$G$19*NR_Reihen_Veränderungsraten!L23,)","v":0},{"$f":"IF($C161=1,'IN_Definition Index'!$G$19*NR_Reihen_Veränderungsraten!M23,)","v":0},{"$f":"IF($C161=1,'IN_Definition Index'!$G$19*NR_Reihen_Veränderungsraten!N23,)","v":0},{"$f":"IF($C161=1,'IN_Definition Index'!$G$19*NR_Reihen_Veränderungsraten!O23,)","v":0},{"$f":"IF($C161=1,'IN_Definition Index'!$G$19*NR_Reihen_Veränderungsraten!P23,)","v":0},{"$f":"IF($C161=1,'IN_Definition Index'!$G$19*NR_Reihen_Veränderungsraten!Q23,)","v":0},{"$f":"IF($C161=1,'IN_Definition Index'!$G$19*NR_Reihen_Veränderungsraten!R23,)","v":0},{"$f":"IF($C161=1,'IN_Definition Index'!$G$19*NR_Reihen_Veränderungsraten!S23,)","v":0},{"$f":"IF($C161=1,'IN_Definition Index'!$G$19*NR_Reihen_Veränderungsraten!T23,)","v":0},{"$f":"IF($C161=1,'IN_Definition Index'!$G$19*NR_Reihen_Veränderungsraten!U23,)","v":0},{"$f":"IF($C161=1,'IN_Definition Index'!$G$19*NR_Reihen_Veränderungsraten!V23,)","v":0},{"$f":"IF($C161=1,'IN_Definition Index'!$G$19*NR_Reihen_Veränderungsraten!W23,)","v":0},{"$f":"IF($C161=1,'IN_Definition Index'!$G$19*NR_Reihen_Veränderungsraten!X23,)","v":0},{"$f":"IF($C161=1,'IN_Definition Index'!$G$19*NR_Reihen_Veränderungsraten!Y23,)","v":0},{"$f":"IF($C161=1,'IN_Definition Index'!$G$19*NR_Reihen_Veränderungsraten!Z23,)","v":0},{"$f":"IF($C161=1,'IN_Definition Index'!$G$19*NR_Reihen_Veränderungsraten!AA23,)","v":0},{"$f":"IF($C161=1,'IN_Definition Index'!$G$19*NR_Reihen_Veränderungsraten!AB23,)","v":0},{"$f":"IF($C161=1,'IN_Definition Index'!$G$19*NR_Reihen_Veränderungsraten!AC23,)","v":0},{"$f":"IF($C161=1,'IN_Definition Index'!$G$19*NR_Reihen_Veränderungsraten!AD23,)","v":0},{"$f":"IF($C161=1,'IN_Definition Index'!$G$19*NR_Reihen_Veränderungsraten!AE23,)","v":0},{"$f":"IF($C161=1,'IN_Definition Index'!$G$19*NR_Reihen_Veränderungsraten!AF23,)","v":0}]
["J61","Telekommunikation",{"$f":"'IN_Definition Index'!G12","v":0},{"$f":"IF($C162=1,'IN_Definition Index'!$G$19*NR_Reihen_Veränderungsraten!D24,)","v":0},{"$f":"IF($C162=1,'IN_Definition Index'!$G$19*NR_Reihen_Veränderungsraten!E24,)","v":0},{"$f":"IF($C162=1,'IN_Definition Index'!$G$19*NR_Reihen_Veränderungsraten!F24,)","v":0},{"$f":"IF($C162=1,'IN_Definition Index'!$G$19*NR_Reihen_Veränderungsraten!G24,)","v":0},{"$f":"IF($C162=1,'IN_Definition Index'!$G$19*NR_Reihen_Veränderungsraten!H24,)","v":0},{"$f":"IF($C162=1,'IN_Definition Index'!$G$19*NR_Reihen_Veränderungsraten!I24,)","v":0},{"$f":"IF($C162=1,'IN_Definition Index'!$G$19*NR_Reihen_Veränderungsraten!J24,)","v":0},{"$f":"IF($C162=1,'IN_Definition Index'!$G$19*NR_Reihen_Veränderungsraten!K24,)","v":0},{"$f":"IF($C162=1,'IN_Definition Index'!$G$19*NR_Reihen_Veränderungsraten!L24,)","v":0},{"$f":"IF($C162=1,'IN_Definition Index'!$G$19*NR_Reihen_Veränderungsraten!M24,)","v":0},{"$f":"IF($C162=1,'IN_Definition Index'!$G$19*NR_Reihen_Veränderungsraten!N24,)","v":0},{"$f":"IF($C162=1,'IN_Definition Index'!$G$19*NR_Reihen_Veränderungsraten!O24,)","v":0},{"$f":"IF($C162=1,'IN_Definition Index'!$G$19*NR_Reihen_Veränderungsraten!P24,)","v":0},{"$f":"IF($C162=1,'IN_Definition Index'!$G$19*NR_Reihen_Veränderungsraten!Q24,)","v":0},{"$f":"IF($C162=1,'IN_Definition Index'!$G$19*NR_Reihen_Veränderungsraten!R24,)","v":0},{"$f":"IF($C162=1,'IN_Definition Index'!$G$19*NR_Reihen_Veränderungsraten!S24,)","v":0},{"$f":"IF($C162=1,'IN_Definition Index'!$G$19*NR_Reihen_Veränderungsraten!T24,)","v":0},{"$f":"IF($C162=1,'IN_Definition Index'!$G$19*NR_Reihen_Veränderungsraten!U24,)","v":0},{"$f":"IF($C162=1,'IN_Definition Index'!$G$19*NR_Reihen_Veränderungsraten!V24,)","v":0},{"$f":"IF($C162=1,'IN_Definition Index'!$G$19*NR_Reihen_Veränderungsraten!W24,)","v":0},{"$f":"IF($C162=1,'IN_Definition Index'!$G$19*NR_Reihen_Veränderungsraten!X24,)","v":0},{"$f":"IF($C162=1,'IN_Definition Index'!$G$19*NR_Reihen_Veränderungsraten!Y24,)","v":0},{"$f":"IF($C162=1,'IN_Definition Index'!$G$19*NR_Reihen_Veränderungsraten!Z24,)","v":0},{"$f":"IF($C162=1,'IN_Definition Index'!$G$19*NR_Reihen_Veränderungsraten!AA24,)","v":0},{"$f":"IF($C162=1,'IN_Definition Index'!$G$19*NR_Reihen_Veränderungsraten!AB24,)","v":0},{"$f":"IF($C162=1,'IN_Definition Index'!$G$19*NR_Reihen_Veränderungsraten!AC24,)","v":0},{"$f":"IF($C162=1,'IN_Definition Index'!$G$19*NR_Reihen_Veränderungsraten!AD24,)","v":0},{"$f":"IF($C162=1,'IN_Definition Index'!$G$19*NR_Reihen_Veränderungsraten!AE24,)","v":0},{"$f":"IF($C162=1,'IN_Definition Index'!$G$19*NR_Reihen_Veränderungsraten!AF24,)","v":0}]
["J62-01","IT- und Informationsdienstleister",{"$f":"'IN_Definition Index'!G13","v":0},{"$f":"IF($C163=1,'IN_Definition Index'!$G$19*NR_Reihen_Veränderungsraten!D25,)","v":0},{"$f":"IF($C163=1,'IN_Definition Index'!$G$19*NR_Reihen_Veränderungsraten!E25,)","v":0},{"$f":"IF($C163=1,'IN_Definition Index'!$G$19*NR_Reihen_Veränderungsraten!F25,)","v":0},{"$f":"IF($C163=1,'IN_Definition Index'!$G$19*NR_Reihen_Veränderungsraten!G25,)","v":0},{"$f":"IF($C163=1,'IN_Definition Index'!$G$19*NR_Reihen_Veränderungsraten!H25,)","v":0},{"$f":"IF($C163=1,'IN_Definition Index'!$G$19*NR_Reihen_Veränderungsraten!I25,)","v":0},{"$f":"IF($C163=1,'IN_Definition Index'!$G$19*NR_Reihen_Veränderungsraten!J25,)","v":0},{"$f":"IF($C163=1,'IN_Definition Index'!$G$19*NR_Reihen_Veränderungsraten!K25,)","v":0},{"$f":"IF($C163=1,'IN_Definition Index'!$G$19*NR_Reihen_Veränderungsraten!L25,)","v":0},{"$f":"IF($C163=1,'IN_Definition Index'!$G$19*NR_Reihen_Veränderungsraten!M25,)","v":0},{"$f":"IF($C163=1,'IN_Definition Index'!$G$19*NR_Reihen_Veränderungsraten!N25,)","v":0},{"$f":"IF($C163=1,'IN_Definition Index'!$G$19*NR_Reihen_Veränderungsraten!O25,)","v":0},{"$f":"IF($C163=1,'IN_Definition Index'!$G$19*NR_Reihen_Veränderungsraten!P25,)","v":0},{"$f":"IF($C163=1,'IN_Definition Index'!$G$19*NR_Reihen_Veränderungsraten!Q25,)","v":0},{"$f":"IF($C163=1,'IN_Definition Index'!$G$19*NR_Reihen_Veränderungsraten!R25,)","v":0},{"$f":"IF($C163=1,'IN_Definition Index'!$G$19*NR_Reihen_Veränderungsraten!S25,)","v":0},{"$f":"IF($C163=1,'IN_Definition Index'!$G$19*NR_Reihen_Veränderungsraten!T25,)","v":0},{"$f":"IF($C163=1,'IN_Definition Index'!$G$19*NR_Reihen_Veränderungsraten!U25,)","v":0},{"$f":"IF($C163=1,'IN_Definition Index'!$G$19*NR_Reihen_Veränderungsraten!V25,)","v":0},{"$f":"IF($C163=1,'IN_Definition Index'!$G$19*NR_Reihen_Veränderungsraten!W25,)","v":0},{"$f":"IF($C163=1,'IN_Definition Index'!$G$19*NR_Reihen_Veränderungsraten!X25,)","v":0},{"$f":"IF($C163=1,'IN_Definition Index'!$G$19*NR_Reihen_Veränderungsraten!Y25,)","v":0},{"$f":"IF($C163=1,'IN_Definition Index'!$G$19*NR_Reihen_Veränderungsraten!Z25,)","v":0},{"$f":"IF($C163=1,'IN_Definition Index'!$G$19*NR_Reihen_Veränderungsraten!AA25,)","v":0},{"$f":"IF($C163=1,'IN_Definition Index'!$G$19*NR_Reihen_Veränderungsraten!AB25,)","v":0},{"$f":"IF($C163=1,'IN_Definition Index'!$G$19*NR_Reihen_Veränderungsraten!AC25,)","v":0},{"$f":"IF($C163=1,'IN_Definition Index'!$G$19*NR_Reihen_Veränderungsraten!AD25,)","v":0},{"$f":"IF($C163=1,'IN_Definition Index'!$G$19*NR_Reihen_Veränderungsraten!AE25,)","v":0},{"$f":"IF($C163=1,'IN_Definition Index'!$G$19*NR_Reihen_Veränderungsraten!AF25,)","v":0}]
["M69-01","Unternehmensnahe Beratungsleistungen ",{"$f":"'IN_Definition Index'!G14","v":0},{"$f":"IF($C164=1,'IN_Definition Index'!$G$19*NR_Reihen_Veränderungsraten!D26,)","v":0},{"$f":"IF($C164=1,'IN_Definition Index'!$G$19*NR_Reihen_Veränderungsraten!E26,)","v":0},{"$f":"IF($C164=1,'IN_Definition Index'!$G$19*NR_Reihen_Veränderungsraten!F26,)","v":0},{"$f":"IF($C164=1,'IN_Definition Index'!$G$19*NR_Reihen_Veränderungsraten!G26,)","v":0},{"$f":"IF($C164=1,'IN_Definition Index'!$G$19*NR_Reihen_Veränderungsraten!H26,)","v":0},{"$f":"IF($C164=1,'IN_Definition Index'!$G$19*NR_Reihen_Veränderungsraten!I26,)","v":0},{"$f":"IF($C164=1,'IN_Definition Index'!$G$19*NR_Reihen_Veränderungsraten!J26,)","v":0},{"$f":"IF($C164=1,'IN_Definition Index'!$G$19*NR_Reihen_Veränderungsraten!K26,)","v":0},{"$f":"IF($C164=1,'IN_Definition Index'!$G$19*NR_Reihen_Veränderungsraten!L26,)","v":0},{"$f":"IF($C164=1,'IN_Definition Index'!$G$19*NR_Reihen_Veränderungsraten!M26,)","v":0},{"$f":"IF($C164=1,'IN_Definition Index'!$G$19*NR_Reihen_Veränderungsraten!N26,)","v":0},{"$f":"IF($C164=1,'IN_Definition Index'!$G$19*NR_Reihen_Veränderungsraten!O26,)","v":0},{"$f":"IF($C164=1,'IN_Definition Index'!$G$19*NR_Reihen_Veränderungsraten!P26,)","v":0},{"$f":"IF($C164=1,'IN_Definition Index'!$G$19*NR_Reihen_Veränderungsraten!Q26,)","v":0},{"$f":"IF($C164=1,'IN_Definition Index'!$G$19*NR_Reihen_Veränderungsraten!R26,)","v":0},{"$f":"IF($C164=1,'IN_Definition Index'!$G$19*NR_Reihen_Veränderungsraten!S26,)","v":0},{"$f":"IF($C164=1,'IN_Definition Index'!$G$19*NR_Reihen_Veränderungsraten!T26,)","v":0},{"$f":"IF($C164=1,'IN_Definition Index'!$G$19*NR_Reihen_Veränderungsraten!U26,)","v":0},{"$f":"IF($C164=1,'IN_Definition Index'!$G$19*NR_Reihen_Veränderungsraten!V26,)","v":0},{"$f":"IF($C164=1,'IN_Definition Index'!$G$19*NR_Reihen_Veränderungsraten!W26,)","v":0},{"$f":"IF($C164=1,'IN_Definition Index'!$G$19*NR_Reihen_Veränderungsraten!X26,)","v":0},{"$f":"IF($C164=1,'IN_Definition Index'!$G$19*NR_Reihen_Veränderungsraten!Y26,)","v":0},{"$f":"IF($C164=1,'IN_Definition Index'!$G$19*NR_Reihen_Veränderungsraten!Z26,)","v":0},{"$f":"IF($C164=1,'IN_Definition Index'!$G$19*NR_Reihen_Veränderungsraten!AA26,)","v":0},{"$f":"IF($C164=1,'IN_Definition Index'!$G$19*NR_Reihen_Veränderungsraten!AB26,)","v":0},{"$f":"IF($C164=1,'IN_Definition Index'!$G$19*NR_Reihen_Veränderungsraten!AC26,)","v":0},{"$f":"IF($C164=1,'IN_Definition Index'!$G$19*NR_Reihen_Veränderungsraten!AD26,)","v":0},{"$f":"IF($C164=1,'IN_Definition Index'!$G$19*NR_Reihen_Veränderungsraten!AE26,)","v":0},{"$f":"IF($C164=1,'IN_Definition Index'!$G$19*NR_Reihen_Veränderungsraten!AF26,)","v":0}]
["M73","Werbung und Marktforschung",{"$f":"'IN_Definition Index'!G15","v":0},{"$f":"IF($C165=1,'IN_Definition Index'!$G$19*NR_Reihen_Veränderungsraten!D27,)","v":0},{"$f":"IF($C165=1,'IN_Definition Index'!$G$19*NR_Reihen_Veränderungsraten!E27,)","v":0},{"$f":"IF($C165=1,'IN_Definition Index'!$G$19*NR_Reihen_Veränderungsraten!F27,)","v":0},{"$f":"IF($C165=1,'IN_Definition Index'!$G$19*NR_Reihen_Veränderungsraten!G27,)","v":0},{"$f":"IF($C165=1,'IN_Definition Index'!$G$19*NR_Reihen_Veränderungsraten!H27,)","v":0},{"$f":"IF($C165=1,'IN_Definition Index'!$G$19*NR_Reihen_Veränderungsraten!I27,)","v":0},{"$f":"IF($C165=1,'IN_Definition Index'!$G$19*NR_Reihen_Veränderungsraten!J27,)","v":0},{"$f":"IF($C165=1,'IN_Definition Index'!$G$19*NR_Reihen_Veränderungsraten!K27,)","v":0},{"$f":"IF($C165=1,'IN_Definition Index'!$G$19*NR_Reihen_Veränderungsraten!L27,)","v":0},{"$f":"IF($C165=1,'IN_Definition Index'!$G$19*NR_Reihen_Veränderungsraten!M27,)","v":0},{"$f":"IF($C165=1,'IN_Definition Index'!$G$19*NR_Reihen_Veränderungsraten!N27,)","v":0},{"$f":"IF($C165=1,'IN_Definition Index'!$G$19*NR_Reihen_Veränderungsraten!O27,)","v":0},{"$f":"IF($C165=1,'IN_Definition Index'!$G$19*NR_Reihen_Veränderungsraten!P27,)","v":0},{"$f":"IF($C165=1,'IN_Definition Index'!$G$19*NR_Reihen_Veränderungsraten!Q27,)","v":0},{"$f":"IF($C165=1,'IN_Definition Index'!$G$19*NR_Reihen_Veränderungsraten!R27,)","v":0},{"$f":"IF($C165=1,'IN_Definition Index'!$G$19*NR_Reihen_Veränderungsraten!S27,)","v":0},{"$f":"IF($C165=1,'IN_Definition Index'!$G$19*NR_Reihen_Veränderungsraten!T27,)","v":0},{"$f":"IF($C165=1,'IN_Definition Index'!$G$19*NR_Reihen_Veränderungsraten!U27,)","v":0},{"$f":"IF($C165=1,'IN_Definition Index'!$G$19*NR_Reihen_Veränderungsraten!V27,)","v":0},{"$f":"IF($C165=1,'IN_Definition Index'!$G$19*NR_Reihen_Veränderungsraten!W27,)","v":0},{"$f":"IF($C165=1,'IN_Definition Index'!$G$19*NR_Reihen_Veränderungsraten!X27,)","v":0},{"$f":"IF($C165=1,'IN_Definition Index'!$G$19*NR_Reihen_Veränderungsraten!Y27,)","v":0},{"$f":"IF($C165=1,'IN_Definition Index'!$G$19*NR_Reihen_Veränderungsraten!Z27,)","v":0},{"$f":"IF($C165=1,'IN_Definition Index'!$G$19*NR_Reihen_Veränderungsraten!AA27,)","v":0},{"$f":"IF($C165=1,'IN_Definition Index'!$G$19*NR_Reihen_Veränderungsraten!AB27,)","v":0},{"$f":"IF($C165=1,'IN_Definition Index'!$G$19*NR_Reihen_Veränderungsraten!AC27,)","v":0},{"$f":"IF($C165=1,'IN_Definition Index'!$G$19*NR_Reihen_Veränderungsraten!AD27,)","v":0},{"$f":"IF($C165=1,'IN_Definition Index'!$G$19*NR_Reihen_Veränderungsraten!AE27,)","v":0},{"$f":"IF($C165=1,'IN_Definition Index'!$G$19*NR_Reihen_Veränderungsraten!AF27,)","v":0}]
["M74-01","Freiberufl.,wiss.,techn.DL a.n.g., Veterinärwesen",{"$f":"'IN_Definition Index'!G16","v":0},{"$f":"IF($C166=1,'IN_Definition Index'!$G$19*NR_Reihen_Veränderungsraten!D28,)","v":0},{"$f":"IF($C166=1,'IN_Definition Index'!$G$19*NR_Reihen_Veränderungsraten!E28,)","v":0},{"$f":"IF($C166=1,'IN_Definition Index'!$G$19*NR_Reihen_Veränderungsraten!F28,)","v":0},{"$f":"IF($C166=1,'IN_Definition Index'!$G$19*NR_Reihen_Veränderungsraten!G28,)","v":0},{"$f":"IF($C166=1,'IN_Definition Index'!$G$19*NR_Reihen_Veränderungsraten!H28,)","v":0},{"$f":"IF($C166=1,'IN_Definition Index'!$G$19*NR_Reihen_Veränderungsraten!I28,)","v":0},{"$f":"IF($C166=1,'IN_Definition Index'!$G$19*NR_Reihen_Veränderungsraten!J28,)","v":0},{"$f":"IF($C166=1,'IN_Definition Index'!$G$19*NR_Reihen_Veränderungsraten!K28,)","v":0},{"$f":"IF($C166=1,'IN_Definition Index'!$G$19*NR_Reihen_Veränderungsraten!L28,)","v":0},{"$f":"IF($C166=1,'IN_Definition Index'!$G$19*NR_Reihen_Veränderungsraten!M28,)","v":0},{"$f":"IF($C166=1,'IN_Definition Index'!$G$19*NR_Reihen_Veränderungsraten!N28,)","v":0},{"$f":"IF($C166=1,'IN_Definition Index'!$G$19*NR_Reihen_Veränderungsraten!O28,)","v":0},{"$f":"IF($C166=1,'IN_Definition Index'!$G$19*NR_Reihen_Veränderungsraten!P28,)","v":0},{"$f":"IF($C166=1,'IN_Definition Index'!$G$19*NR_Reihen_Veränderungsraten!Q28,)","v":0},{"$f":"IF($C166=1,'IN_Definition Index'!$G$19*NR_Reihen_Veränderungsraten!R28,)","v":0},{"$f":"IF($C166=1,'IN_Definition Index'!$G$19*NR_Reihen_Veränderungsraten!S28,)","v":0},{"$f":"IF($C166=1,'IN_Definition Index'!$G$19*NR_Reihen_Veränderungsraten!T28,)","v":0},{"$f":"IF($C166=1,'IN_Definition Index'!$G$19*NR_Reihen_Veränderungsraten!U28,)","v":0},{"$f":"IF($C166=1,'IN_Definition Index'!$G$19*NR_Reihen_Veränderungsraten!V28,)","v":0},{"$f":"IF($C166=1,'IN_Definition Index'!$G$19*NR_Reihen_Veränderungsraten!W28,)","v":0},{"$f":"IF($C166=1,'IN_Definition Index'!$G$19*NR_Reihen_Veränderungsraten!X28,)","v":0},{"$f":"IF($C166=1,'IN_Definition Index'!$G$19*NR_Reihen_Veränderungsraten!Y28,)","v":0},{"$f":"IF($C166=1,'IN_Definition Index'!$G$19*NR_Reihen_Veränderungsraten!Z28,)","v":0},{"$f":"IF($C166=1,'IN_Definition Index'!$G$19*NR_Reihen_Veränderungsraten!AA28,)","v":0},{"$f":"IF($C166=1,'IN_Definition Index'!$G$19*NR_Reihen_Veränderungsraten!AB28,)","v":0},{"$f":"IF($C166=1,'IN_Definition Index'!$G$19*NR_Reihen_Veränderungsraten!AC28,)","v":0},{"$f":"IF($C166=1,'IN_Definition Index'!$G$19*NR_Reihen_Veränderungsraten!AD28,)","v":0},{"$f":"IF($C166=1,'IN_Definition Index'!$G$19*NR_Reihen_Veränderungsraten!AE28,)","v":0},{"$f":"IF($C166=1,'IN_Definition Index'!$G$19*NR_Reihen_Veränderungsraten!AF28,)","v":0}]
["L","Grundstücks- und Wohnungswesen",{"$f":"'IN_Definition Index'!G17","v":0},{"$f":"IF($C167=1,'IN_Definition Index'!$G$19*NR_Reihen_Veränderungsraten!D29,)","v":0},{"$f":"IF($C167=1,'IN_Definition Index'!$G$19*NR_Reihen_Veränderungsraten!E29,)","v":0},{"$f":"IF($C167=1,'IN_Definition Index'!$G$19*NR_Reihen_Veränderungsraten!F29,)","v":0},{"$f":"IF($C167=1,'IN_Definition Index'!$G$19*NR_Reihen_Veränderungsraten!G29,)","v":0},{"$f":"IF($C167=1,'IN_Definition Index'!$G$19*NR_Reihen_Veränderungsraten!H29,)","v":0},{"$f":"IF($C167=1,'IN_Definition Index'!$G$19*NR_Reihen_Veränderungsraten!I29,)","v":0},{"$f":"IF($C167=1,'IN_Definition Index'!$G$19*NR_Reihen_Veränderungsraten!J29,)","v":0},{"$f":"IF($C167=1,'IN_Definition Index'!$G$19*NR_Reihen_Veränderungsraten!K29,)","v":0},{"$f":"IF($C167=1,'IN_Definition Index'!$G$19*NR_Reihen_Veränderungsraten!L29,)","v":0},{"$f":"IF($C167=1,'IN_Definition Index'!$G$19*NR_Reihen_Veränderungsraten!M29,)","v":0},{"$f":"IF($C167=1,'IN_Definition Index'!$G$19*NR_Reihen_Veränderungsraten!N29,)","v":0},{"$f":"IF($C167=1,'IN_Definition Index'!$G$19*NR_Reihen_Veränderungsraten!O29,)","v":0},{"$f":"IF($C167=1,'IN_Definition Index'!$G$19*NR_Reihen_Veränderungsraten!P29,)","v":0},{"$f":"IF($C167=1,'IN_Definition Index'!$G$19*NR_Reihen_Veränderungsraten!Q29,)","v":0},{"$f":"IF($C167=1,'IN_Definition Index'!$G$19*NR_Reihen_Veränderungsraten!R29,)","v":0},{"$f":"IF($C167=1,'IN_Definition Index'!$G$19*NR_Reihen_Veränderungsraten!S29,)","v":0},{"$f":"IF($C167=1,'IN_Definition Index'!$G$19*NR_Reihen_Veränderungsraten!T29,)","v":0},{"$f":"IF($C167=1,'IN_Definition Index'!$G$19*NR_Reihen_Veränderungsraten!U29,)","v":0},{"$f":"IF($C167=1,'IN_Definition Index'!$G$19*NR_Reihen_Veränderungsraten!V29,)","v":0},{"$f":"IF($C167=1,'IN_Definition Index'!$G$19*NR_Reihen_Veränderungsraten!W29,)","v":0},{"$f":"IF($C167=1,'IN_Definition Index'!$G$19*NR_Reihen_Veränderungsraten!X29,)","v":0},{"$f":"IF($C167=1,'IN_Definition Index'!$G$19*NR_Reihen_Veränderungsraten!Y29,)","v":0},{"$f":"IF($C167=1,'IN_Definition Index'!$G$19*NR_Reihen_Veränderungsraten!Z29,)","v":0},{"$f":"IF($C167=1,'IN_Definition Index'!$G$19*NR_Reihen_Veränderungsraten!AA29,)","v":0},{"$f":"IF($C167=1,'IN_Definition Index'!$G$19*NR_Reihen_Veränderungsraten!AB29,)","v":0},{"$f":"IF($C167=1,'IN_Definition Index'!$G$19*NR_Reihen_Veränderungsraten!AC29,)","v":0},{"$f":"IF($C167=1,'IN_Definition Index'!$G$19*NR_Reihen_Veränderungsraten!AD29,)","v":0},{"$f":"IF($C167=1,'IN_Definition Index'!$G$19*NR_Reihen_Veränderungsraten!AE29,)","v":0},{"$f":"IF($C167=1,'IN_Definition Index'!$G$19*NR_Reihen_Veränderungsraten!AF29,)","v":0}]
[null,"Summe",null,{"$f":"SUM(D157:D167)","v":0.9698803325779326},{"$f":"SUM(E157:E167)","v":1.0254316874985525},{"$f":"SUM(F157:F167)","v":1.0732766199247206},{"$f":"SUM(G157:G167)","v":1.1581568748515387},{"$f":"SUM(H157:H167)","v":1.0834178611347733},{"$f":"SUM(I157:I167)","v":0.98924241701144511},{"$f":"SUM(J157:J167)","v":0.98575139490195174},{"$f":"SUM(K157:K167)","v":1.1216663919976431},{"$f":"SUM(L157:L167)","v":0.95578793128366568},{"$f":"SUM(M157:M167)","v":0.99213272714037071},{"$f":"SUM(N157:N167)","v":0.98537220925262226},{"$f":"SUM(O157:O167)","v":0.95890264122564695},{"$f":"SUM(P157:P167)","v":0.9979346119548822},{"$f":"SUM(Q157:Q167)","v":1.0572079520685445},{"$f":"SUM(R157:R167)","v":1.0898344890721718},{"$f":"SUM(S157:S167)","v":1.0039022972959433},{"$f":"SUM(T157:T167)","v":1.0138437037879651},{"$f":"SUM(U157:U167)","v":0.91588992235541211},{"$f":"SUM(V157:V167)","v":1.0114803183651864},{"$f":"SUM(W157:W167)","v":1.0382385957522131},{"$f":"SUM(X157:X167)","v":1.0004607459763146},{"$f":"SUM(Y157:Y167)","v":0.98423248944890296},{"$f":"SUM(Z157:Z167)","v":1.0199791631605577},{"$f":"SUM(AA157:AA167)","v":0.96150156409313059},{"$f":"SUM(AB157:AB167)","v":0.96712236842105259},{"$f":"SUM(AC157:AC167)","v":1.0151501929143958},1.0171949193517742,{"$error":"#VALUE!"},{"$error":"#VALUE!"}]
[]
["Zustellung"]
[]
["Nr. (WZ 2008)","Branche","Verwendung",1992,{"$f":"D172+1","v":1993},{"$f":"E172+1","v":1994},{"$f":"F172+1","v":1995},{"$f":"G172+1","v":1996},{"$f":"H172+1","v":1997},{"$f":"I172+1","v":1998},{"$f":"J172+1","v":1999},{"$f":"K172+1","v":2000},{"$f":"L172+1","v":2001},{"$f":"M172+1","v":2002},{"$f":"N172+1","v":2003},{"$f":"O172+1","v":2004},{"$f":"P172+1","v":2005},{"$f":"Q172+1","v":2006},{"$f":"R172+1","v":2007},{"$f":"S172+1","v":2008},{"$f":"T172+1","v":2009},{"$f":"U172+1","v":2010},{"$f":"V172+1","v":2011},{"$f":"W172+1","v":2012},{"$f":"X172+1","v":2013},{"$f":"Y172+1","v":2014},{"$f":"Z172+1","v":2015},{"$f":"AA172+1","v":2016},{"$f":"AB172+1","v":2017},{"$f":"AC172+1","v":2018},{"$f":"AD172+1","v":2019},{"$f":"AE172+1","v":2020}]
["C33","Reparatur und Installation von Maschinen und Ausrüstungen",{"$f":"'IN_Definition Index'!H7","v":0},{"$f":"IF($C173=1,'IN_Definition Index'!$H$19*NR_Reihen_Veränderungsraten!D19,)","v":0},{"$f":"IF($C173=1,'IN_Definition Index'!$H$19*NR_Reihen_Veränderungsraten!E19,)","v":0},{"$f":"IF($C173=1,'IN_Definition Index'!$H$19*NR_Reihen_Veränderungsraten!F19,)","v":0},{"$f":"IF($C173=1,'IN_Definition Index'!$H$19*NR_Reihen_Veränderungsraten!G19,)","v":0},{"$f":"IF($C173=1,'IN_Definition Index'!$H$19*NR_Reihen_Veränderungsraten!H19,)","v":0},{"$f":"IF($C173=1,'IN_Definition Index'!$H$19*NR_Reihen_Veränderungsraten!I19,)","v":0},{"$f":"IF($C173=1,'IN_Definition Index'!$H$19*NR_Reihen_Veränderungsraten!J19,)","v":0},{"$f":"IF($C173=1,'IN_Definition Index'!$H$19*NR_Reihen_Veränderungsraten!K19,)","v":0},{"$f":"IF($C173=1,'IN_Definition Index'!$H$19*NR_Reihen_Veränderungsraten!L19,)","v":0},{"$f":"IF($C173=1,'IN_Definition Index'!$H$19*NR_Reihen_Veränderungsraten!M19,)","v":0},{"$f":"IF($C173=1,'IN_Definition Index'!$H$19*NR_Reihen_Veränderungsraten!N19,)","v":0},{"$f":"IF($C173=1,'IN_Definition Index'!$H$19*NR_Reihen_Veränderungsraten!O19,)","v":0},{"$f":"IF($C173=1,'IN_Definition Index'!$H$19*NR_Reihen_Veränderungsraten!P19,)","v":0},{"$f":"IF($C173=1,'IN_Definition Index'!$H$19*NR_Reihen_Veränderungsraten!Q19,)","v":0},{"$f":"IF($C173=1,'IN_Definition Index'!$H$19*NR_Reihen_Veränderungsraten!R19,)","v":0},{"$f":"IF($C173=1,'IN_Definition Index'!$H$19*NR_Reihen_Veränderungsraten!S19,)","v":0},{"$f":"IF($C173=1,'IN_Definition Index'!$H$19*NR_Reihen_Veränderungsraten!T19,)","v":0},{"$f":"IF($C173=1,'IN_Definition Index'!$H$19*NR_Reihen_Veränderungsraten!U19,)","v":0},{"$f":"IF($C173=1,'IN_Definition Index'!$H$19*NR_Reihen_Veränderungsraten!V19,)","v":0},{"$f":"IF($C173=1,'IN_Definition Index'!$H$19*NR_Reihen_Veränderungsraten!W19,)","v":0},{"$f":"IF($C173=1,'IN_Definition Index'!$H$19*NR_Reihen_Veränderungsraten!X19,)","v":0},{"$f":"IF($C173=1,'IN_Definition Index'!$H$19*NR_Reihen_Veränderungsraten!Y19,)","v":0},{"$f":"IF($C173=1,'IN_Definition Index'!$H$19*NR_Reihen_Veränderungsraten!Z19,)","v":0},{"$f":"IF($C173=1,'IN_Definition Index'!$H$19*NR_Reihen_Veränderungsraten!AA19,)","v":0},{"$f":"IF($C173=1,'IN_Definition Index'!$H$19*NR_Reihen_Veränderungsraten!AB19,)","v":0},{"$f":"IF($C173=1,'IN_Definition Index'!$H$19*NR_Reihen_Veränderungsraten!AC19,)","v":0},{"$f":"IF($C173=1,'IN_Definition Index'!$H$19*NR_Reihen_Veränderungsraten!AD19,)","v":0},{"$f":"IF($C173=1,'IN_Definition Index'!$H$19*NR_Reihen_Veränderungsraten!AE19,)","v":0},{"$f":"IF($C173=1,'IN_Definition Index'!$H$19*NR_Reihen_Veränderungsraten!AF19,)","v":0}]
["G45","Handel mit Kraftfahrzeugen; Instandhaltung und Reparatur von Kraftfahrzeugen",{"$f":"'IN_Definition Index'!H8","v":1},{"$f":"IF($C174=1,'IN_Definition Index'!$H$19*NR_Reihen_Veränderungsraten!D20,)","v":0.34219872987988925},{"$f":"IF($C174=1,'IN_Definition Index'!$H$19*NR_Reihen_Veränderungsraten!E20,)","v":0.27752535880236023},{"$f":"IF($C174=1,'IN_Definition Index'!$H$19*NR_Reihen_Veränderungsraten!F20,)","v":0.33876372039283648},{"$f":"IF($C174=1,'IN_Definition Index'!$H$19*NR_Reihen_Veränderungsraten!G20,)","v":0.3367214402427875},{"$f":"IF($C174=1,'IN_Definition Index'!$H$19*NR_Reihen_Veränderungsraten!H20,)","v":0.33016251175414335},{"$f":"IF($C174=1,'IN_Definition Index'!$H$19*NR_Reihen_Veränderungsraten!I20,)","v":0.34005382677849605},{"$f":"IF($C174=1,'IN_Definition Index'!$H$19*NR_Reihen_Veränderungsraten!J20,)","v":0.33830564144469549},{"$f":"IF($C174=1,'IN_Definition Index'!$H$19*NR_Reihen_Veränderungsraten!K20,)","v":0.33809696212515356},{"$f":"IF($C174=1,'IN_Definition Index'!$H$19*NR_Reihen_Veränderungsraten!L20,)","v":0.322933364527831},{"$f":"IF($C174=1,'IN_Definition Index'!$H$19*NR_Reihen_Veränderungsraten!M20,)","v":0.33170357129651806},{"$f":"IF($C174=1,'IN_Definition Index'!$H$19*NR_Reihen_Veränderungsraten!N20,)","v":0.34889855302699335},{"$f":"IF($C174=1,'IN_Definition Index'!$H$19*NR_Reihen_Veränderungsraten!O20,)","v":0.38821560542649453},{"$f":"IF($C174=1,'IN_Definition Index'!$H$19*NR_Reihen_Veränderungsraten!P20,)","v":0.35358477139299055},{"$f":"IF($C174=1,'IN_Definition Index'!$H$19*NR_Reihen_Veränderungsraten!Q20,)","v":0.33580637405643371},{"$f":"IF($C174=1,'IN_Definition Index'!$H$19*NR_Reihen_Veränderungsraten!R20,)","v":0.3541974392879027},{"$f":"IF($C174=1,'IN_Definition Index'!$H$19*NR_Reihen_Veränderungsraten!S20,)","v":0.31491099044246484},{"$f":"IF($C174=1,'IN_Definition Index'!$H$19*NR_Reihen_Veränderungsraten!T20,)","v":0.34429454749859467},{"$f":"IF($C174=1,'IN_Definition Index'!$H$19*NR_Reihen_Veränderungsraten!U20,)","v":0.33860904262078428},{"$f":"IF($C174=1,'IN_Definition Index'!$H$19*NR_Reihen_Veränderungsraten!V20,)","v":0.30565642899021334},{"$f":"IF($C174=1,'IN_Definition Index'!$H$19*NR_Reihen_Veränderungsraten!W20,)","v":0.36386270569833445},{"$f":"IF($C174=1,'IN_Definition Index'!$H$19*NR_Reihen_Veränderungsraten!X20,)","v":0.32202098053406353},{"$f":"IF($C174=1,'IN_Definition Index'!$H$19*NR_Reihen_Veränderungsraten!Y20,)","v":0.32594318871189459},{"$f":"IF($C174=1,'IN_Definition Index'!$H$19*NR_Reihen_Veränderungsraten!Z20,)","v":0.34725772545383726},{"$f":"IF($C174=1,'IN_Definition Index'!$H$19*NR_Reihen_Veränderungsraten!AA20,)","v":0.33827451949027065},{"$f":"IF($C174=1,'IN_Definition Index'!$H$19*NR_Reihen_Veränderungsraten!AB20,)","v":0.35236111111111112},{"$f":"IF($C174=1,'IN_Definition Index'!$H$19*NR_Reihen_Veränderungsraten!AC20,)","v":0.32173846740373613},{"$f":"IF($C174=1,'IN_Definition Index'!$H$19*NR_Reihen_Veränderungsraten!AD20,)","v":0.32811099119294285},{"$f":"IF($C174=1,'IN_Definition Index'!$H$19*NR_Reihen_Veränderungsraten!AE20,)","v":{"$error":"#VALUE!"}},{"$f":"IF($C174=1,'IN_Definition Index'!$H$19*NR_Reihen_Veränderungsraten!AF20,)","v":{"$error":"#VALUE!"}}]
["G47","Einzelhandel (ohne Handel mit Kraftfahrzeugen)",{"$f":"'IN_Definition Index'!H9","v":0},{"$f":"IF($C175=1,'IN_Definition Index'!$H$19*NR_Reihen_Veränderungsraten!D21,)","v":0},{"$f":"IF($C175=1,'IN_Definition Index'!$H$19*NR_Reihen_Veränderungsraten!E21,)","v":0},{"$f":"IF($C175=1,'IN_Definition Index'!$H$19*NR_Reihen_Veränderungsraten!F21,)","v":0},{"$f":"IF($C175=1,'IN_Definition Index'!$H$19*NR_Reihen_Veränderungsraten!G21,)","v":0},{"$f":"IF($C175=1,'IN_Definition Index'!$H$19*NR_Reihen_Veränderungsraten!H21,)","v":0},{"$f":"IF($C175=1,'IN_Definition Index'!$H$19*NR_Reihen_Veränderungsraten!I21,)","v":0},{"$f":"IF($C175=1,'IN_Definition Index'!$H$19*NR_Reihen_Veränderungsraten!J21,)","v":0},{"$f":"IF($C175=1,'IN_Definition Index'!$H$19*NR_Reihen_Veränderungsraten!K21,)","v":0},{"$f":"IF($C175=1,'IN_Definition Index'!$H$19*NR_Reihen_Veränderungsraten!L21,)","v":0},{"$f":"IF($C175=1,'IN_Definition Index'!$H$19*NR_Reihen_Veränderungsraten!M21,)","v":0},{"$f":"IF($C175=1,'IN_Definition Index'!$H$19*NR_Reihen_Veränderungsraten!N21,)","v":0},{"$f":"IF($C175=1,'IN_Definition Index'!$H$19*NR_Reihen_Veränderungsraten!O21,)","v":0},{"$f":"IF($C175=1,'IN_Definition Index'!$H$19*NR_Reihen_Veränderungsraten!P21,)","v":0},{"$f":"IF($C175=1,'IN_Definition Index'!$H$19*NR_Reihen_Veränderungsraten!Q21,)","v":0},{"$f":"IF($C175=1,'IN_Definition Index'!$H$19*NR_Reihen_Veränderungsraten!R21,)","v":0},{"$f":"IF($C175=1,'IN_Definition Index'!$H$19*NR_Reihen_Veränderungsraten!S21,)","v":0},{"$f":"IF($C175=1,'IN_Definition Index'!$H$19*NR_Reihen_Veränderungsraten!T21,)","v":0},{"$f":"IF($C175=1,'IN_Definition Index'!$H$19*NR_Reihen_Veränderungsraten!U21,)","v":0},{"$f":"IF($C175=1,'IN_Definition Index'!$H$19*NR_Reihen_Veränderungsraten!V21,)","v":0},{"$f":"IF($C175=1,'IN_Definition Index'!$H$19*NR_Reihen_Veränderungsraten!W21,)","v":0},{"$f":"IF($C175=1,'IN_Definition Index'!$H$19*NR_Reihen_Veränderungsraten!X21,)","v":0},{"$f":"IF($C175=1,'IN_Definition Index'!$H$19*NR_Reihen_Veränderungsraten!Y21,)","v":0},{"$f":"IF($C175=1,'IN_Definition Index'!$H$19*NR_Reihen_Veränderungsraten!Z21,)","v":0},{"$f":"IF($C175=1,'IN_Definition Index'!$H$19*NR_Reihen_Veränderungsraten!AA21,)","v":0},{"$f":"IF($C175=1,'IN_Definition Index'!$H$19*NR_Reihen_Veränderungsraten!AB21,)","v":0},{"$f":"IF($C175=1,'IN_Definition Index'!$H$19*NR_Reihen_Veränderungsraten!AC21,)","v":0},{"$f":"IF($C175=1,'IN_Definition Index'!$H$19*NR_Reihen_Veränderungsraten!AD21,)","v":0},{"$f":"IF($C175=1,'IN_Definition Index'!$H$19*NR_Reihen_Veränderungsraten!AE21,)","v":0},{"$f":"IF($C175=1,'IN_Definition Index'!$H$19*NR_Reihen_Veränderungsraten!AF21,)","v":0}]
["H49","Landverkehr und Transport in Rohrfernleitungen",{"$f":"'IN_Definition Index'!H10","v":1},{"$f":"IF($C176=1,'IN_Definition Index'!$H$19*NR_Reihen_Veränderungsraten!D22,)","v":0.32329344419264416},{"$f":"IF($C176=1,'IN_Definition Index'!$H$19*NR_Reihen_Veränderungsraten!E22,)","v":0.34181056249951747},{"$f":"IF($C176=1,'IN_Definition Index'!$H$19*NR_Reihen_Veränderungsraten!F22,)","v":0.35775887330824019},{"$f":"IF($C176=1,'IN_Definition Index'!$H$19*NR_Reihen_Veränderungsraten!G22,)","v":0.38605229161717958},{"$f":"IF($C176=1,'IN_Definition Index'!$H$19*NR_Reihen_Veränderungsraten!H22,)","v":0.36113928704492443},{"$f":"IF($C176=1,'IN_Definition Index'!$H$19*NR_Reihen_Veränderungsraten!I22,)","v":0.32974747233714835},{"$f":"IF($C176=1,'IN_Definition Index'!$H$19*NR_Reihen_Veränderungsraten!J22,)","v":0.32858379830065054},{"$f":"IF($C176=1,'IN_Definition Index'!$H$19*NR_Reihen_Veränderungsraten!K22,)","v":0.37388879733254765},{"$f":"IF($C176=1,'IN_Definition Index'!$H$19*NR_Reihen_Veränderungsraten!L22,)","v":0.31859597709455523},{"$f":"IF($C176=1,'IN_Definition Index'!$H$19*NR_Reihen_Veränderungsraten!M22,)","v":0.33071090904679024},{"$f":"IF($C176=1,'IN_Definition Index'!$H$19*NR_Reihen_Veränderungsraten!N22,)","v":0.3284574030842074},{"$f":"IF($C176=1,'IN_Definition Index'!$H$19*NR_Reihen_Veränderungsraten!O22,)","v":0.31963421374188228},{"$f":"IF($C176=1,'IN_Definition Index'!$H$19*NR_Reihen_Veränderungsraten!P22,)","v":0.3326448706516274},{"$f":"IF($C176=1,'IN_Definition Index'!$H$19*NR_Reihen_Veränderungsraten!Q22,)","v":0.35240265068951482},{"$f":"IF($C176=1,'IN_Definition Index'!$H$19*NR_Reihen_Veränderungsraten!R22,)","v":0.36327816302405724},{"$f":"IF($C176=1,'IN_Definition Index'!$H$19*NR_Reihen_Veränderungsraten!S22,)","v":0.33463409909864772},{"$f":"IF($C176=1,'IN_Definition Index'!$H$19*NR_Reihen_Veränderungsraten!T22,)","v":0.337947901262655},{"$f":"IF($C176=1,'IN_Definition Index'!$H$19*NR_Reihen_Veränderungsraten!U22,)","v":0.30529664078513735},{"$f":"IF($C176=1,'IN_Definition Index'!$H$19*NR_Reihen_Veränderungsraten!V22,)","v":0.33716010612172875},{"$f":"IF($C176=1,'IN_Definition Index'!$H$19*NR_Reihen_Veränderungsraten!W22,)","v":0.34607953191740437},{"$f":"IF($C176=1,'IN_Definition Index'!$H$19*NR_Reihen_Veränderungsraten!X22,)","v":0.33348691532543817},{"$f":"IF($C176=1,'IN_Definition Index'!$H$19*NR_Reihen_Veränderungsraten!Y22,)","v":0.32807749648296763},{"$f":"IF($C176=1,'IN_Definition Index'!$H$19*NR_Reihen_Veränderungsraten!Z22,)","v":0.33999305438685257},{"$f":"IF($C176=1,'IN_Definition Index'!$H$19*NR_Reihen_Veränderungsraten!AA22,)","v":0.32050052136437684},{"$f":"IF($C176=1,'IN_Definition Index'!$H$19*NR_Reihen_Veränderungsraten!AB22,)","v":0.32237412280701749},{"$f":"IF($C176=1,'IN_Definition Index'!$H$19*NR_Reihen_Veränderungsraten!AC22,)","v":0.33838339763813191},{"$f":"IF($C176=1,'IN_Definition Index'!$H$19*NR_Reihen_Veränderungsraten!AD22,)","v":0.33906497311725803},{"$f":"IF($C176=1,'IN_Definition Index'!$H$19*NR_Reihen_Veränderungsraten!AE22,)","v":{"$error":"#VALUE!"}},{"$f":"IF($C176=1,'IN_Definition Index'!$H$19*NR_Reihen_Veränderungsraten!AF22,)","v":{"$error":"#VALUE!"}}]
["H52","Lagerei sowie Erbringung von sonstigen Dienstleistungen für den Verkehr",{"$f":"'IN_Definition Index'!H11","v":1},{"$f":"IF($C177=1,'IN_Definition Index'!$H$19*NR_Reihen_Veränderungsraten!D23,)","v":0.32481920176936219},{"$f":"IF($C177=1,'IN_Definition Index'!$H$19*NR_Reihen_Veränderungsraten!E23,)","v":0.33432110165219564},{"$f":"IF($C177=1,'IN_Definition Index'!$H$19*NR_Reihen_Veränderungsraten!F23,)","v":0.35023535382370663},{"$f":"IF($C177=1,'IN_Definition Index'!$H$19*NR_Reihen_Veränderungsraten!G23,)","v":0.33086641274068751},{"$f":"IF($C177=1,'IN_Definition Index'!$H$19*NR_Reihen_Veränderungsraten!H23,)","v":0.34689270639952019},{"$f":"IF($C177=1,'IN_Definition Index'!$H$19*NR_Reihen_Veränderungsraten!I23,)","v":0.36557845827521557},{"$f":"IF($C177=1,'IN_Definition Index'!$H$19*NR_Reihen_Veränderungsraten!J23,)","v":0.3421722058213631},{"$f":"IF($C177=1,'IN_Definition Index'!$H$19*NR_Reihen_Veränderungsraten!K23,)","v":0.28918268681221071},{"$f":"IF($C177=1,'IN_Definition Index'!$H$19*NR_Reihen_Veränderungsraten!L23,)","v":0.34031081444129857},{"$f":"IF($C177=1,'IN_Definition Index'!$H$19*NR_Reihen_Veränderungsraten!M23,)","v":0.36971708753349414},{"$f":"IF($C177=1,'IN_Definition Index'!$H$19*NR_Reihen_Veränderungsraten!N23,)","v":0.36842500965192126},{"$f":"IF($C177=1,'IN_Definition Index'!$H$19*NR_Reihen_Veränderungsraten!O23,)","v":0.34284810622188944},{"$f":"IF($C177=1,'IN_Definition Index'!$H$19*NR_Reihen_Veränderungsraten!P23,)","v":0.37714738169771317},{"$f":"IF($C177=1,'IN_Definition Index'!$H$19*NR_Reihen_Veränderungsraten!Q23,)","v":0.35033122182327797},{"$f":"IF($C177=1,'IN_Definition Index'!$H$19*NR_Reihen_Veränderungsraten!R23,)","v":0.35537025900466623},{"$f":"IF($C177=1,'IN_Definition Index'!$H$19*NR_Reihen_Veränderungsraten!S23,)","v":0.33086081180189175},{"$f":"IF($C177=1,'IN_Definition Index'!$H$19*NR_Reihen_Veränderungsraten!T23,)","v":0.31945052455252021},{"$f":"IF($C177=1,'IN_Definition Index'!$H$19*NR_Reihen_Veränderungsraten!U23,)","v":0.29989540621530913},{"$f":"IF($C177=1,'IN_Definition Index'!$H$19*NR_Reihen_Veränderungsraten!V23,)","v":0.35925335369505335},{"$f":"IF($C177=1,'IN_Definition Index'!$H$19*NR_Reihen_Veränderungsraten!W23,)","v":0.32548055252487051},{"$f":"IF($C177=1,'IN_Definition Index'!$H$19*NR_Reihen_Veränderungsraten!X23,)","v":0.33077103268735869},{"$f":"IF($C177=1,'IN_Definition Index'!$H$19*NR_Reihen_Veränderungsraten!Y23,)","v":0.33921574893739415},{"$f":"IF($C177=1,'IN_Definition Index'!$H$19*NR_Reihen_Veränderungsraten!Z23,)","v":0.33096868199564772},{"$f":"IF($C177=1,'IN_Definition Index'!$H$19*NR_Reihen_Veränderungsraten!AA23,)","v":0.31560181814825983},{"$f":"IF($C177=1,'IN_Definition Index'!$H$19*NR_Reihen_Veränderungsraten!AB23,)","v":0.33248478964401296},{"$f":"IF($C177=1,'IN_Definition Index'!$H$19*NR_Reihen_Veränderungsraten!AC23,)","v":0.33558404312549683},{"$f":"IF($C177=1,'IN_Definition Index'!$H$19*NR_Reihen_Veränderungsraten!AD23,)","v":0.33798884037405208},{"$f":"IF($C177=1,'IN_Definition Index'!$H$19*NR_Reihen_Veränderungsraten!AE23,)","v":{"$error":"#VALUE!"}},{"$f":"IF($C177=1,'IN_Definition Index'!$H$19*NR_Reihen_Veränderungsraten!AF23,)","v":{"$error":"#VALUE!"}}]
["J61","Telekommunikation",{"$f":"'IN_Definition Index'!H12","v":0},{"$f":"IF($C178=1,'IN_Definition Index'!$H$19*NR_Reihen_Veränderungsraten!D24,)","v":0},{"$f":"IF($C178=1,'IN_Definition Index'!$H$19*NR_Reihen_Veränderungsraten!E24,)","v":0},{"$f":"IF($C178=1,'IN_Definition Index'!$H$19*NR_Reihen_Veränderungsraten!F24,)","v":0},{"$f":"IF($C178=1,'IN_Definition Index'!$H$19*NR_Reihen_Veränderungsraten!G24,)","v":0},{"$f":"IF($C178=1,'IN_Definition Index'!$H$19*NR_Reihen_Veränderungsraten!H24,)","v":0},{"$f":"IF($C178=1,'IN_Definition Index'!$H$19*NR_Reihen_Veränderungsraten!I24,)","v":0},{"$f":"IF($C178=1,'IN_Definition Index'!$H$19*NR_Reihen_Veränderungsraten!J24,)","v":0},{"$f":"IF($C178=1,'IN_Definition Index'!$H$19*NR_Reihen_Veränderungsraten!K24,)","v":0},{"$f":"IF($C178=1,'IN_Definition Index'!$H$19*NR_Reihen_Veränderungsraten!L24,)","v":0},{"$f":"IF($C178=1,'IN_Definition Index'!$H$19*NR_Reihen_Veränderungsraten!M24,)","v":0},{"$f":"IF($C178=1,'IN_Definition Index'!$H$19*NR_Reihen_Veränderungsraten!N24,)","v":0},{"$f":"IF($C178=1,'IN_Definition Index'!$H$19*NR_Reihen_Veränderungsraten!O24,)","v":0},{"$f":"IF($C178=1,'IN_Definition Index'!$H$19*NR_Reihen_Veränderungsraten!P24,)","v":0},{"$f":"IF($C178=1,'IN_Definition Index'!$H$19*NR_Reihen_Veränderungsraten!Q24,)","v":0},{"$f":"IF($C178=1,'IN_Definition Index'!$H$19*NR_Reihen_Veränderungsraten!R24,)","v":0},{"$f":"IF($C178=1,'IN_Definition Index'!$H$19*NR_Reihen_Veränderungsraten!S24,)","v":0},{"$f":"IF($C178=1,'IN_Definition Index'!$H$19*NR_Reihen_Veränderungsraten!T24,)","v":0},{"$f":"IF($C178=1,'IN_Definition Index'!$H$19*NR_Reihen_Veränderungsraten!U24,)","v":0},{"$f":"IF($C178=1,'IN_Definition Index'!$H$19*NR_Reihen_Veränderungsraten!V24,)","v":0},{"$f":"IF($C178=1,'IN_Definition Index'!$H$19*NR_Reihen_Veränderungsraten!W24,)","v":0},{"$f":"IF($C178=1,'IN_Definition Index'!$H$19*NR_Reihen_Veränderungsraten!X24,)","v":0},{"$f":"IF($C178=1,'IN_Definition Index'!$H$19*NR_Reihen_Veränderungsraten!Y24,)","v":0},{"$f":"IF($C178=1,'IN_Definition Index'!$H$19*NR_Reihen_Veränderungsraten!Z24,)","v":0},{"$f":"IF($C178=1,'IN_Definition Index'!$H$19*NR_Reihen_Veränderungsraten!AA24,)","v":0},{"$f":"IF($C178=1,'IN_Definition Index'!$H$19*NR_Reihen_Veränderungsraten!AB24,)","v":0},{"$f":"IF($C178=1,'IN_Definition Index'!$H$19*NR_Reihen_Veränderungsraten!AC24,)","v":0},{"$f":"IF($C178=1,'IN_Definition Index'!$H$19*NR_Reihen_Veränderungsraten!AD24,)","v":0},{"$f":"IF($C178=1,'IN_Definition Index'!$H$19*NR_Reihen_Veränderungsraten!AE24,)","v":0},{"$f":"IF($C178=1,'IN_Definition Index'!$H$19*NR_Reihen_Veränderungsraten!AF24,)","v":0}]
["J62-01","IT- und Informationsdienstleister",{"$f":"'IN_Definition Index'!H13","v":0},{"$f":"IF($C179=1,'IN_Definition Index'!$H$19*NR_Reihen_Veränderungsraten!D25,)","v":0},{"$f":"IF($C179=1,'IN_Definition Index'!$H$19*NR_Reihen_Veränderungsraten!E25,)","v":0},{"$f":"IF($C179=1,'IN_Definition Index'!$H$19*NR_Reihen_Veränderungsraten!F25,)","v":0},{"$f":"IF($C179=1,'IN_Definition Index'!$H$19*NR_Reihen_Veränderungsraten!G25,)","v":0},{"$f":"IF($C179=1,'IN_Definition Index'!$H$19*NR_Reihen_Veränderungsraten!H25,)","v":0},{"$f":"IF($C179=1,'IN_Definition Index'!$H$19*NR_Reihen_Veränderungsraten!I25,)","v":0},{"$f":"IF($C179=1,'IN_Definition Index'!$H$19*NR_Reihen_Veränderungsraten!J25,)","v":0},{"$f":"IF($C179=1,'IN_Definition Index'!$H$19*NR_Reihen_Veränderungsraten!K25,)","v":0},{"$f":"IF($C179=1,'IN_Definition Index'!$H$19*NR_Reihen_Veränderungsraten!L25,)","v":0},{"$f":"IF($C179=1,'IN_Definition Index'!$H$19*NR_Reihen_Veränderungsraten!M25,)","v":0},{"$f":"IF($C179=1,'IN_Definition Index'!$H$19*NR_Reihen_Veränderungsraten!N25,)","v":0},{"$f":"IF($C179=1,'IN_Definition Index'!$H$19*NR_Reihen_Veränderungsraten!O25,)","v":0},{"$f":"IF($C179=1,'IN_Definition Index'!$H$19*NR_Reihen_Veränderungsraten!P25,)","v":0},{"$f":"IF($C179=1,'IN_Definition Index'!$H$19*NR_Reihen_Veränderungsraten!Q25,)","v":0},{"$f":"IF($C179=1,'IN_Definition Index'!$H$19*NR_Reihen_Veränderungsraten!R25,)","v":0},{"$f":"IF($C179=1,'IN_Definition Index'!$H$19*NR_Reihen_Veränderungsraten!S25,)","v":0},{"$f":"IF($C179=1,'IN_Definition Index'!$H$19*NR_Reihen_Veränderungsraten!T25,)","v":0},{"$f":"IF($C179=1,'IN_Definition Index'!$H$19*NR_Reihen_Veränderungsraten!U25,)","v":0},{"$f":"IF($C179=1,'IN_Definition Index'!$H$19*NR_Reihen_Veränderungsraten!V25,)","v":0},{"$f":"IF($C179=1,'IN_Definition Index'!$H$19*NR_Reihen_Veränderungsraten!W25,)","v":0},{"$f":"IF($C179=1,'IN_Definition Index'!$H$19*NR_Reihen_Veränderungsraten!X25,)","v":0},{"$f":"IF($C179=1,'IN_Definition Index'!$H$19*NR_Reihen_Veränderungsraten!Y25,)","v":0},{"$f":"IF($C179=1,'IN_Definition Index'!$H$19*NR_Reihen_Veränderungsraten!Z25,)","v":0},{"$f":"IF($C179=1,'IN_Definition Index'!$H$19*NR_Reihen_Veränderungsraten!AA25,)","v":0},{"$f":"IF($C179=1,'IN_Definition Index'!$H$19*NR_Reihen_Veränderungsraten!AB25,)","v":0},{"$f":"IF($C179=1,'IN_Definition Index'!$H$19*NR_Reihen_Veränderungsraten!AC25,)","v":0},{"$f":"IF($C179=1,'IN_Definition Index'!$H$19*NR_Reihen_Veränderungsraten!AD25,)","v":0},{"$f":"IF($C179=1,'IN_Definition Index'!$H$19*NR_Reihen_Veränderungsraten!AE25,)","v":0},{"$f":"IF($C179=1,'IN_Definition Index'!$H$19*NR_Reihen_Veränderungsraten!AF25,)","v":0}]
["M69-01","Unternehmensnahe Beratungsleistungen ",{"$f":"'IN_Definition Index'!H14","v":0},{"$f":"IF($C180=1,'IN_Definition Index'!$H$19*NR_Reihen_Veränderungsraten!D26,)","v":0},{"$f":"IF($C180=1,'IN_Definition Index'!$H$19*NR_Reihen_Veränderungsraten!E26,)","v":0},{"$f":"IF($C180=1,'IN_Definition Index'!$H$19*NR_Reihen_Veränderungsraten!F26,)","v":0},{"$f":"IF($C180=1,'IN_Definition Index'!$H$19*NR_Reihen_Veränderungsraten!G26,)","v":0},{"$f":"IF($C180=1,'IN_Definition Index'!$H$19*NR_Reihen_Veränderungsraten!H26,)","v":0},{"$f":"IF($C180=1,'IN_Definition Index'!$H$19*NR_Reihen_Veränderungsraten!I26,)","v":0},{"$f":"IF($C180=1,'IN_Definition Index'!$H$19*NR_Reihen_Veränderungsraten!J26,)","v":0},{"$f":"IF($C180=1,'IN_Definition Index'!$H$19*NR_Reihen_Veränderungsraten!K26,)","v":0},{"$f":"IF($C180=1,'IN_Definition Index'!$H$19*NR_Reihen_Veränderungsraten!L26,)","v":0},{"$f":"IF($C180=1,'IN_Definition Index'!$H$19*NR_Reihen_Veränderungsraten!M26,)","v":0},{"$f":"IF($C180=1,'IN_Definition Index'!$H$19*NR_Reihen_Veränderungsraten!N26,)","v":0},{"$f":"IF($C180=1,'IN_Definition Index'!$H$19*NR_Reihen_Veränderungsraten!O26,)","v":0},{"$f":"IF($C180=1,'IN_Definition Index'!$H$19*NR_Reihen_Veränderungsraten!P26,)","v":0},{"$f":"IF($C180=1,'IN_Definition Index'!$H$19*NR_Reihen_Veränderungsraten!Q26,)","v":0},{"$f":"IF($C180=1,'IN_Definition Index'!$H$19*NR_Reihen_Veränderungsraten!R26,)","v":0},{"$f":"IF($C180=1,'IN_Definition Index'!$H$19*NR_Reihen_Veränderungsraten!S26,)","v":0},{"$f":"IF($C180=1,'IN_Definition Index'!$H$19*NR_Reihen_Veränderungsraten!T26,)","v":0},{"$f":"IF($C180=1,'IN_Definition Index'!$H$19*NR_Reihen_Veränderungsraten!U26,)","v":0},{"$f":"IF($C180=1,'IN_Definition Index'!$H$19*NR_Reihen_Veränderungsraten!V26,)","v":0},{"$f":"IF($C180=1,'IN_Definition Index'!$H$19*NR_Reihen_Veränderungsraten!W26,)","v":0},{"$f":"IF($C180=1,'IN_Definition Index'!$H$19*NR_Reihen_Veränderungsraten!X26,)","v":0},{"$f":"IF($C180=1,'IN_Definition Index'!$H$19*NR_Reihen_Veränderungsraten!Y26,)","v":0},{"$f":"IF($C180=1,'IN_Definition Index'!$H$19*NR_Reihen_Veränderungsraten!Z26,)","v":0},{"$f":"IF($C180=1,'IN_Definition Index'!$H$19*NR_Reihen_Veränderungsraten!AA26,)","v":0},{"$f":"IF($C180=1,'IN_Definition Index'!$H$19*NR_Reihen_Veränderungsraten!AB26,)","v":0},{"$f":"IF($C180=1,'IN_Definition Index'!$H$19*NR_Reihen_Veränderungsraten!AC26,)","v":0},{"$f":"IF($C180=1,'IN_Definition Index'!$H$19*NR_Reihen_Veränderungsraten!AD26,)","v":0},{"$f":"IF($C180=1,'IN_Definition Index'!$H$19*NR_Reihen_Veränderungsraten!AE26,)","v":0},{"$f":"IF($C180=1,'IN_Definition Index'!$H$19*NR_Reihen_Veränderungsraten!AF26,)","v":0}]
["M73","Werbung und Marktforschung",{"$f":"'IN_Definition Index'!H15","v":0},{"$f":"IF($C181=1,'IN_Definition Index'!$H$19*NR_Reihen_Veränderungsraten!D27,)","v":0},{"$f":"IF($C181=1,'IN_Definition Index'!$H$19*NR_Reihen_Veränderungsraten!E27,)","v":0},{"$f":"IF($C181=1,'IN_Definition Index'!$H$19*NR_Reihen_Veränderungsraten!F27,)","v":0},{"$f":"IF($C181=1,'IN_Definition Index'!$H$19*NR_Reihen_Veränderungsraten!G27,)","v":0},{"$f":"IF($C181=1,'IN_Definition Index'!$H$19*NR_Reihen_Veränderungsraten!H27,)","v":0},{"$f":"IF($C181=1,'IN_Definition Index'!$H$19*NR_Reihen_Veränderungsraten!I27,)","v":0},{"$f":"IF($C181=1,'IN_Definition Index'!$H$19*NR_Reihen_Veränderungsraten!J27,)","v":0},{"$f":"IF($C181=1,'IN_Definition Index'!$H$19*NR_Reihen_Veränderungsraten!K27,)","v":0},{"$f":"IF($C181=1,'IN_Definition Index'!$H$19*NR_Reihen_Veränderungsraten!L27,)","v":0},{"$f":"IF($C181=1,'IN_Definition Index'!$H$19*NR_Reihen_Veränderungsraten!M27,)","v":0},{"$f":"IF($C181=1,'IN_Definition Index'!$H$19*NR_Reihen_Veränderungsraten!N27,)","v":0},{"$f":"IF($C181=1,'IN_Definition Index'!$H$19*NR_Reihen_Veränderungsraten!O27,)","v":0},{"$f":"IF($C181=1,'IN_Definition Index'!$H$19*NR_Reihen_Veränderungsraten!P27,)","v":0},{"$f":"IF($C181=1,'IN_Definition Index'!$H$19*NR_Reihen_Veränderungsraten!Q27,)","v":0},{"$f":"IF($C181=1,'IN_Definition Index'!$H$19*NR_Reihen_Veränderungsraten!R27,)","v":0},{"$f":"IF($C181=1,'IN_Definition Index'!$H$19*NR_Reihen_Veränderungsraten!S27,)","v":0},{"$f":"IF($C181=1,'IN_Definition Index'!$H$19*NR_Reihen_Veränderungsraten!T27,)","v":0},{"$f":"IF($C181=1,'IN_Definition Index'!$H$19*NR_Reihen_Veränderungsraten!U27,)","v":0},{"$f":"IF($C181=1,'IN_Definition Index'!$H$19*NR_Reihen_Veränderungsraten!V27,)","v":0},{"$f":"IF($C181=1,'IN_Definition Index'!$H$19*NR_Reihen_Veränderungsraten!W27,)","v":0},{"$f":"IF($C181=1,'IN_Definition Index'!$H$19*NR_Reihen_Veränderungsraten!X27,)","v":0},{"$f":"IF($C181=1,'IN_Definition Index'!$H$19*NR_Reihen_Veränderungsraten!Y27,)","v":0},{"$f":"IF($C181=1,'IN_Definition Index'!$H$19*NR_Reihen_Veränderungsraten!Z27,)","v":0},{"$f":"IF($C181=1,'IN_Definition Index'!$H$19*NR_Reihen_Veränderungsraten!AA27,)","v":0},{"$f":"IF($C181=1,'IN_Definition Index'!$H$19*NR_Reihen_Veränderungsraten!AB27,)","v":0},{"$f":"IF($C181=1,'IN_Definition Index'!$H$19*NR_Reihen_Veränderungsraten!AC27,)","v":0},{"$f":"IF($C181=1,'IN_Definition Index'!$H$19*NR_Reihen_Veränderungsraten!AD27,)","v":0},{"$f":"IF($C181=1,'IN_Definition Index'!$H$19*NR_Reihen_Veränderungsraten!AE27,)","v":0},{"$f":"IF($C181=1,'IN_Definition Index'!$H$19*NR_Reihen_Veränderungsraten!AF27,)","v":0}]
["M74-01","Freiberufl.,wiss.,techn.DL a.n.g., Veterinärwesen",{"$f":"'IN_Definition Index'!H16","v":0},{"$f":"IF($C182=1,'IN_Definition Index'!$H$19*NR_Reihen_Veränderungsraten!D28,)","v":0},{"$f":"IF($C182=1,'IN_Definition Index'!$H$19*NR_Reihen_Veränderungsraten!E28,)","v":0},{"$f":"IF($C182=1,'IN_Definition Index'!$H$19*NR_Reihen_Veränderungsraten!F28,)","v":0},{"$f":"IF($C182=1,'IN_Definition Index'!$H$19*NR_Reihen_Veränderungsraten!G28,)","v":0},{"$f":"IF($C182=1,'IN_Definition Index'!$H$19*NR_Reihen_Veränderungsraten!H28,)","v":0},{"$f":"IF($C182=1,'IN_Definition Index'!$H$19*NR_Reihen_Veränderungsraten!I28,)","v":0},{"$f":"IF($C182=1,'IN_Definition Index'!$H$19*NR_Reihen_Veränderungsraten!J28,)","v":0},{"$f":"IF($C182=1,'IN_Definition Index'!$H$19*NR_Reihen_Veränderungsraten!K28,)","v":0},{"$f":"IF($C182=1,'IN_Definition Index'!$H$19*NR_Reihen_Veränderungsraten!L28,)","v":0},{"$f":"IF($C182=1,'IN_Definition Index'!$H$19*NR_Reihen_Veränderungsraten!M28,)","v":0},{"$f":"IF($C182=1,'IN_Definition Index'!$H$19*NR_Reihen_Veränderungsraten!N28,)","v":0},{"$f":"IF($C182=1,'IN_Definition Index'!$H$19*NR_Reihen_Veränderungsraten!O28,)","v":0},{"$f":"IF($C182=1,'IN_Definition Index'!$H$19*NR_Reihen_Veränderungsraten!P28,)","v":0},{"$f":"IF($C182=1,'IN_Definition Index'!$H$19*NR_Reihen_Veränderungsraten!Q28,)","v":0},{"$f":"IF($C182=1,'IN_Definition Index'!$H$19*NR_Reihen_Veränderungsraten!R28,)","v":0},{"$f":"IF($C182=1,'IN_Definition Index'!$H$19*NR_Reihen_Veränderungsraten!S28,)","v":0},{"$f":"IF($C182=1,'IN_Definition Index'!$H$19*NR_Reihen_Veränderungsraten!T28,)","v":0},{"$f":"IF($C182=1,'IN_Definition Index'!$H$19*NR_Reihen_Veränderungsraten!U28,)","v":0},{"$f":"IF($C182=1,'IN_Definition Index'!$H$19*NR_Reihen_Veränderungsraten!V28,)","v":0},{"$f":"IF($C182=1,'IN_Definition Index'!$H$19*NR_Reihen_Veränderungsraten!W28,)","v":0},{"$f":"IF($C182=1,'IN_Definition Index'!$H$19*NR_Reihen_Veränderungsraten!X28,)","v":0},{"$f":"IF($C182=1,'IN_Definition Index'!$H$19*NR_Reihen_Veränderungsraten!Y28,)","v":0},{"$f":"IF($C182=1,'IN_Definition Index'!$H$19*NR_Reihen_Veränderungsraten!Z28,)","v":0},{"$f":"IF($C182=1,'IN_Definition Index'!$H$19*NR_Reihen_Veränderungsraten!AA28,)","v":0},{"$f":"IF($C182=1,'IN_Definition Index'!$H$19*NR_Reihen_Veränderungsraten!AB28,)","v":0},{"$f":"IF($C182=1,'IN_Definition Index'!$H$19*NR_Reihen_Veränderungsraten!AC28,)","v":0},{"$f":"IF($C182=1,'IN_Definition Index'!$H$19*NR_Reihen_Veränderungsraten!AD28,)","v":0},{"$f":"IF($C182=1,'IN_Definition Index'!$H$19*NR_Reihen_Veränderungsraten!AE28,)","v":0},{"$f":"IF($C182=1,'IN_Definition Index'!$H$19*NR_Reihen_Veränderungsraten!AF28,)","v":0}]
["L","Grundstücks- und Wohnungswesen",{"$f":"'IN_Definition Index'!H17","v":0},{"$f":"IF($C183=1,'IN_Definition Index'!$H$19*NR_Reihen_Veränderungsraten!D29,)","v":0},{"$f":"IF($C183=1,'IN_Definition Index'!$H$19*NR_Reihen_Veränderungsraten!E29,)","v":0},{"$f":"IF($C183=1,'IN_Definition Index'!$H$19*NR_Reihen_Veränderungsraten!F29,)","v":0},{"$f":"IF($C183=1,'IN_Definition Index'!$H$19*NR_Reihen_Veränderungsraten!G29,)","v":0},{"$f":"IF($C183=1,'IN_Definition Index'!$H$19*NR_Reihen_Veränderungsraten!H29,)","v":0},{"$f":"IF($C183=1,'IN_Definition Index'!$H$19*NR_Reihen_Veränderungsraten!I29,)","v":0},{"$f":"IF($C183=1,'IN_Definition Index'!$H$19*NR_Reihen_Veränderungsraten!J29,)","v":0},{"$f":"IF($C183=1,'IN_Definition Index'!$H$19*NR_Reihen_Veränderungsraten!K29,)","v":0},{"$f":"IF($C183=1,'IN_Definition Index'!$H$19*NR_Reihen_Veränderungsraten!L29,)","v":0},{"$f":"IF($C183=1,'IN_Definition Index'!$H$19*NR_Reihen_Veränderungsraten!M29,)","v":0},{"$f":"IF($C183=1,'IN_Definition Index'!$H$19*NR_Reihen_Veränderungsraten!N29,)","v":0},{"$f":"IF($C183=1,'IN_Definition Index'!$H$19*NR_Reihen_Veränderungsraten!O29,)","v":0},{"$f":"IF($C183=1,'IN_Definition Index'!$H$19*NR_Reihen_Veränderungsraten!P29,)","v":0},{"$f":"IF($C183=1,'IN_Definition Index'!$H$19*NR_Reihen_Veränderungsraten!Q29,)","v":0},{"$f":"IF($C183=1,'IN_Definition Index'!$H$19*NR_Reihen_Veränderungsraten!R29,)","v":0},{"$f":"IF($C183=1,'IN_Definition Index'!$H$19*NR_Reihen_Veränderungsraten!S29,)","v":0},{"$f":"IF($C183=1,'IN_Definition Index'!$H$19*NR_Reihen_Veränderungsraten!T29,)","v":0},{"$f":"IF($C183=1,'IN_Definition Index'!$H$19*NR_Reihen_Veränderungsraten!U29,)","v":0},{"$f":"IF($C183=1,'IN_Definition Index'!$H$19*NR_Reihen_Veränderungsraten!V29,)","v":0},{"$f":"IF($C183=1,'IN_Definition Index'!$H$19*NR_Reihen_Veränderungsraten!W29,)","v":0},{"$f":"IF($C183=1,'IN_Definition Index'!$H$19*NR_Reihen_Veränderungsraten!X29,)","v":0},{"$f":"IF($C183=1,'IN_Definition Index'!$H$19*NR_Reihen_Veränderungsraten!Y29,)","v":0},{"$f":"IF($C183=1,'IN_Definition Index'!$H$19*NR_Reihen_Veränderungsraten!Z29,)","v":0},{"$f":"IF($C183=1,'IN_Definition Index'!$H$19*NR_Reihen_Veränderungsraten!AA29,)","v":0},{"$f":"IF($C183=1,'IN_Definition Index'!$H$19*NR_Reihen_Veränderungsraten!AB29,)","v":0},{"$f":"IF($C183=1,'IN_Definition Index'!$H$19*NR_Reihen_Veränderungsraten!AC29,)","v":0},{"$f":"IF($C183=1,'IN_Definition Index'!$H$19*NR_Reihen_Veränderungsraten!AD29,)","v":0},{"$f":"IF($C183=1,'IN_Definition Index'!$H$19*NR_Reihen_Veränderungsraten!AE29,)","v":0},{"$f":"IF($C183=1,'IN_Definition Index'!$H$19*NR_Reihen_Veränderungsraten!AF29,)","v":0}]
[null,"Summe",null,{"$f":"SUM(D173:D183)","v":0.99031137584189566},{"$f":"SUM(E173:E183)","v":0.95365702295407329},{"$f":"SUM(F173:F183)","v":1.0467579475247832},{"$f":"SUM(G173:G183)","v":1.0536401446006547},{"$f":"SUM(H173:H183)","v":1.0381945051985879},{"$f":"SUM(I173:I183)","v":1.0353797573908599},{"$f":"SUM(J173:J183)","v":1.009061645566709},{"$f":"SUM(K173:K183)","v":1.001168446269912},{"$f":"SUM(L173:L183)","v":0.98184015606368469},{"$f":"SUM(M173:M183)","v":1.0321315678768024},{"$f":"SUM(N173:N183)","v":1.0457809657631221},{"$f":"SUM(O173:O183)","v":1.0506979253902662},{"$f":"SUM(P173:P183)","v":1.063377023742331},{"$f":"SUM(Q173:Q183)","v":1.0385402465692264},{"$f":"SUM(R173:R183)","v":1.0728458613166261},{"$f":"SUM(S173:S183)","v":0.98040590134300432},{"$f":"SUM(T173:T183)","v":1.0016929733137698},{"$f":"SUM(U173:U183)","v":0.94380108962123077},{"$f":"SUM(V173:V183)","v":1.0020698888069954},{"$f":"SUM(W173:W183)","v":1.0354227901406095},{"$f":"SUM(X173:X183)","v":0.9862789285468605},{"$f":"SUM(Y173:Y183)","v":0.99323643413225637},{"$f":"SUM(Z173:Z183)","v":1.0182194618363376},{"$f":"SUM(AA173:AA183)","v":0.97437685900290738},{"$f":"SUM(AB173:AB183)","v":1.0072200235621416},{"$f":"SUM(AC173:AC183)","v":0.99570590816736493},1.005164804684253,{"$error":"#VALUE!"},{"$error":"#VALUE!"}]
[]
["Übrige Prozesse"]
[]
["Nr. (WZ 2008)","Branche","Verwendung",1992,{"$f":"D188+1","v":1993},{"$f":"E188+1","v":1994},{"$f":"F188+1","v":1995},{"$f":"G188+1","v":1996},{"$f":"H188+1","v":1997},{"$f":"I188+1","v":1998},{"$f":"J188+1","v":1999},{"$f":"K188+1","v":2000},{"$f":"L188+1","v":2001},{"$f":"M188+1","v":2002},{"$f":"N188+1","v":2003},{"$f":"O188+1","v":2004},{"$f":"P188+1","v":2005},{"$f":"Q188+1","v":2006},{"$f":"R188+1","v":2007},{"$f":"S188+1","v":2008},{"$f":"T188+1","v":2009},{"$f":"U188+1","v":2010},{"$f":"V188+1","v":2011},{"$f":"W188+1","v":2012},{"$f":"X188+1","v":2013},{"$f":"Y188+1","v":2014},{"$f":"Z188+1","v":2015},{"$f":"AA188+1","v":2016},{"$f":"AB188+1","v":2017},{"$f":"AC188+1","v":2018},{"$f":"AD188+1","v":2019},{"$f":"AE188+1","v":2020}]
["C33","Reparatur und Installation von Maschinen und Ausrüstungen",{"$f":"'IN_Definition Index'!I7","v":0},{"$f":"IF($C189=1,'IN_Definition Index'!$I$19*NR_Reihen_Veränderungsraten!D19,)","v":0},{"$f":"IF($C189=1,'IN_Definition Index'!$I$19*NR_Reihen_Veränderungsraten!E19,)","v":0},{"$f":"IF($C189=1,'IN_Definition Index'!$I$19*NR_Reihen_Veränderungsraten!F19,)","v":0},{"$f":"IF($C189=1,'IN_Definition Index'!$I$19*NR_Reihen_Veränderungsraten!G19,)","v":0},{"$f":"IF($C189=1,'IN_Definition Index'!$I$19*NR_Reihen_Veränderungsraten!H19,)","v":0},{"$f":"IF($C189=1,'IN_Definition Index'!$I$19*NR_Reihen_Veränderungsraten!I19,)","v":0},{"$f":"IF($C189=1,'IN_Definition Index'!$I$19*NR_Reihen_Veränderungsraten!J19,)","v":0},{"$f":"IF($C189=1,'IN_Definition Index'!$I$19*NR_Reihen_Veränderungsraten!K19,)","v":0},{"$f":"IF($C189=1,'IN_Definition Index'!$I$19*NR_Reihen_Veränderungsraten!L19,)","v":0},{"$f":"IF($C189=1,'IN_Definition Index'!$I$19*NR_Reihen_Veränderungsraten!M19,)","v":0},{"$f":"IF($C189=1,'IN_Definition Index'!$I$19*NR_Reihen_Veränderungsraten!N19,)","v":0},{"$f":"IF($C189=1,'IN_Definition Index'!$I$19*NR_Reihen_Veränderungsraten!O19,)","v":0},{"$f":"IF($C189=1,'IN_Definition Index'!$I$19*NR_Reihen_Veränderungsraten!P19,)","v":0},{"$f":"IF($C189=1,'IN_Definition Index'!$I$19*NR_Reihen_Veränderungsraten!Q19,)","v":0},{"$f":"IF($C189=1,'IN_Definition Index'!$I$19*NR_Reihen_Veränderungsraten!R19,)","v":0},{"$f":"IF($C189=1,'IN_Definition Index'!$I$19*NR_Reihen_Veränderungsraten!S19,)","v":0},{"$f":"IF($C189=1,'IN_Definition Index'!$I$19*NR_Reihen_Veränderungsraten!T19,)","v":0},{"$f":"IF($C189=1,'IN_Definition Index'!$I$19*NR_Reihen_Veränderungsraten!U19,)","v":0},{"$f":"IF($C189=1,'IN_Definition Index'!$I$19*NR_Reihen_Veränderungsraten!V19,)","v":0},{"$f":"IF($C189=1,'IN_Definition Index'!$I$19*NR_Reihen_Veränderungsraten!W19,)","v":0},{"$f":"IF($C189=1,'IN_Definition Index'!$I$19*NR_Reihen_Veränderungsraten!X19,)","v":0},{"$f":"IF($C189=1,'IN_Definition Index'!$I$19*NR_Reihen_Veränderungsraten!Y19,)","v":0},{"$f":"IF($C189=1,'IN_Definition Index'!$I$19*NR_Reihen_Veränderungsraten!Z19,)","v":0},{"$f":"IF($C189=1,'IN_Definition Index'!$I$19*NR_Reihen_Veränderungsraten!AA19,)","v":0},{"$f":"IF($C189=1,'IN_Definition Index'!$I$19*NR_Reihen_Veränderungsraten!AB19,)","v":0},{"$f":"IF($C189=1,'IN_Definition Index'!$I$19*NR_Reihen_Veränderungsraten!AC19,)","v":0},{"$f":"IF($C189=1,'IN_Definition Index'!$I$19*NR_Reihen_Veränderungsraten!AD19,)","v":0},{"$f":"IF($C189=1,'IN_Definition Index'!$I$19*NR_Reihen_Veränderungsraten!AE19,)","v":0},{"$f":"IF($C189=1,'IN_Definition Index'!$I$19*NR_Reihen_Veränderungsraten!AF19,)","v":0}]
["G45","Handel mit Kraftfahrzeugen; Instandhaltung und Reparatur von Kraftfahrzeugen",{"$f":"'IN_Definition Index'!I8","v":0},{"$f":"IF($C190=1,'IN_Definition Index'!$I$19*NR_Reihen_Veränderungsraten!D20,)","v":0},{"$f":"IF($C190=1,'IN_Definition Index'!$I$19*NR_Reihen_Veränderungsraten!E20,)","v":0},{"$f":"IF($C190=1,'IN_Definition Index'!$I$19*NR_Reihen_Veränderungsraten!F20,)","v":0},{"$f":"IF($C190=1,'IN_Definition Index'!$I$19*NR_Reihen_Veränderungsraten!G20,)","v":0},{"$f":"IF($C190=1,'IN_Definition Index'!$I$19*NR_Reihen_Veränderungsraten!H20,)","v":0},{"$f":"IF($C190=1,'IN_Definition Index'!$I$19*NR_Reihen_Veränderungsraten!I20,)","v":0},{"$f":"IF($C190=1,'IN_Definition Index'!$I$19*NR_Reihen_Veränderungsraten!J20,)","v":0},{"$f":"IF($C190=1,'IN_Definition Index'!$I$19*NR_Reihen_Veränderungsraten!K20,)","v":0},{"$f":"IF($C190=1,'IN_Definition Index'!$I$19*NR_Reihen_Veränderungsraten!L20,)","v":0},{"$f":"IF($C190=1,'IN_Definition Index'!$I$19*NR_Reihen_Veränderungsraten!M20,)","v":0},{"$f":"IF($C190=1,'IN_Definition Index'!$I$19*NR_Reihen_Veränderungsraten!N20,)","v":0},{"$f":"IF($C190=1,'IN_Definition Index'!$I$19*NR_Reihen_Veränderungsraten!O20,)","v":0},{"$f":"IF($C190=1,'IN_Definition Index'!$I$19*NR_Reihen_Veränderungsraten!P20,)","v":0},{"$f":"IF($C190=1,'IN_Definition Index'!$I$19*NR_Reihen_Veränderungsraten!Q20,)","v":0},{"$f":"IF($C190=1,'IN_Definition Index'!$I$19*NR_Reihen_Veränderungsraten!R20,)","v":0},{"$f":"IF($C190=1,'IN_Definition Index'!$I$19*NR_Reihen_Veränderungsraten!S20,)","v":0},{"$f":"IF($C190=1,'IN_Definition Index'!$I$19*NR_Reihen_Veränderungsraten!T20,)","v":0},{"$f":"IF($C190=1,'IN_Definition Index'!$I$19*NR_Reihen_Veränderungsraten!U20,)","v":0},{"$f":"IF($C190=1,'IN_Definition Index'!$I$19*NR_Reihen_Veränderungsraten!V20,)","v":0},{"$f":"IF($C190=1,'IN_Definition Index'!$I$19*NR_Reihen_Veränderungsraten!W20,)","v":0},{"$f":"IF($C190=1,'IN_Definition Index'!$I$19*NR_Reihen_Veränderungsraten!X20,)","v":0},{"$f":"IF($C190=1,'IN_Definition Index'!$I$19*NR_Reihen_Veränderungsraten!Y20,)","v":0},{"$f":"IF($C190=1,'IN_Definition Index'!$I$19*NR_Reihen_Veränderungsraten!Z20,)","v":0},{"$f":"IF($C190=1,'IN_Definition Index'!$I$19*NR_Reihen_Veränderungsraten!AA20,)","v":0},{"$f":"IF($C190=1,'IN_Definition Index'!$I$19*NR_Reihen_Veränderungsraten!AB20,)","v":0},{"$f":"IF($C190=1,'IN_Definition Index'!$I$19*NR_Reihen_Veränderungsraten!AC20,)","v":0},{"$f":"IF($C190=1,'IN_Definition Index'!$I$19*NR_Reihen_Veränderungsraten!AD20,)","v":0},{"$f":"IF($C190=1,'IN_Definition Index'!$I$19*NR_Reihen_Veränderungsraten!AE20,)","v":0},{"$f":"IF($C190=1,'IN_Definition Index'!$I$19*NR_Reihen_Veränderungsraten!AF20,)","v":0}]
["G47","Einzelhandel (ohne Handel mit Kraftfahrzeugen)",{"$f":"'IN_Definition Index'!I9","v":0},{"$f":"IF($C191=1,'IN_Definition Index'!$I$19*NR_Reihen_Veränderungsraten!D21,)","v":0},{"$f":"IF($C191=1,'IN_Definition Index'!$I$19*NR_Reihen_Veränderungsraten!E21,)","v":0},{"$f":"IF($C191=1,'IN_Definition Index'!$I$19*NR_Reihen_Veränderungsraten!F21,)","v":0},{"$f":"IF($C191=1,'IN_Definition Index'!$I$19*NR_Reihen_Veränderungsraten!G21,)","v":0},{"$f":"IF($C191=1,'IN_Definition Index'!$I$19*NR_Reihen_Veränderungsraten!H21,)","v":0},{"$f":"IF($C191=1,'IN_Definition Index'!$I$19*NR_Reihen_Veränderungsraten!I21,)","v":0},{"$f":"IF($C191=1,'IN_Definition Index'!$I$19*NR_Reihen_Veränderungsraten!J21,)","v":0},{"$f":"IF($C191=1,'IN_Definition Index'!$I$19*NR_Reihen_Veränderungsraten!K21,)","v":0},{"$f":"IF($C191=1,'IN_Definition Index'!$I$19*NR_Reihen_Veränderungsraten!L21,)","v":0},{"$f":"IF($C191=1,'IN_Definition Index'!$I$19*NR_Reihen_Veränderungsraten!M21,)","v":0},{"$f":"IF($C191=1,'IN_Definition Index'!$I$19*NR_Reihen_Veränderungsraten!N21,)","v":0},{"$f":"IF($C191=1,'IN_Definition Index'!$I$19*NR_Reihen_Veränderungsraten!O21,)","v":0},{"$f":"IF($C191=1,'IN_Definition Index'!$I$19*NR_Reihen_Veränderungsraten!P21,)","v":0},{"$f":"IF($C191=1,'IN_Definition Index'!$I$19*NR_Reihen_Veränderungsraten!Q21,)","v":0},{"$f":"IF($C191=1,'IN_Definition Index'!$I$19*NR_Reihen_Veränderungsraten!R21,)","v":0},{"$f":"IF($C191=1,'IN_Definition Index'!$I$19*NR_Reihen_Veränderungsraten!S21,)","v":0},{"$f":"IF($C191=1,'IN_Definition Index'!$I$19*NR_Reihen_Veränderungsraten!T21,)","v":0},{"$f":"IF($C191=1,'IN_Definition Index'!$I$19*NR_Reihen_Veränderungsraten!U21,)","v":0},{"$f":"IF($C191=1,'IN_Definition Index'!$I$19*NR_Reihen_Veränderungsraten!V21,)","v":0},{"$f":"IF($C191=1,'IN_Definition Index'!$I$19*NR_Reihen_Veränderungsraten!W21,)","v":0},{"$f":"IF($C191=1,'IN_Definition Index'!$I$19*NR_Reihen_Veränderungsraten!X21,)","v":0},{"$f":"IF($C191=1,'IN_Definition Index'!$I$19*NR_Reihen_Veränderungsraten!Y21,)","v":0},{"$f":"IF($C191=1,'IN_Definition Index'!$I$19*NR_Reihen_Veränderungsraten!Z21,)","v":0},{"$f":"IF($C191=1,'IN_Definition Index'!$I$19*NR_Reihen_Veränderungsraten!AA21,)","v":0},{"$f":"IF($C191=1,'IN_Definition Index'!$I$19*NR_Reihen_Veränderungsraten!AB21,)","v":0},{"$f":"IF($C191=1,'IN_Definition Index'!$I$19*NR_Reihen_Veränderungsraten!AC21,)","v":0},{"$f":"IF($C191=1,'IN_Definition Index'!$I$19*NR_Reihen_Veränderungsraten!AD21,)","v":0},{"$f":"IF($C191=1,'IN_Definition Index'!$I$19*NR_Reihen_Veränderungsraten!AE21,)","v":0},{"$f":"IF($C191=1,'IN_Definition Index'!$I$19*NR_Reihen_Veränderungsraten!AF21,)","v":0}]
["H49","Landverkehr und Transport in Rohrfernleitungen",{"$f":"'IN_Definition Index'!I10","v":0},{"$f":"IF($C192=1,'IN_Definition Index'!$I$19*NR_Reihen_Veränderungsraten!D22,)","v":0},{"$f":"IF($C192=1,'IN_Definition Index'!$I$19*NR_Reihen_Veränderungsraten!E22,)","v":0},{"$f":"IF($C192=1,'IN_Definition Index'!$I$19*NR_Reihen_Veränderungsraten!F22,)","v":0},{"$f":"IF($C192=1,'IN_Definition Index'!$I$19*NR_Reihen_Veränderungsraten!G22,)","v":0},{"$f":"IF($C192=1,'IN_Definition Index'!$I$19*NR_Reihen_Veränderungsraten!H22,)","v":0},{"$f":"IF($C192=1,'IN_Definition Index'!$I$19*NR_Reihen_Veränderungsraten!I22,)","v":0},{"$f":"IF($C192=1,'IN_Definition Index'!$I$19*NR_Reihen_Veränderungsraten!J22,)","v":0},{"$f":"IF($C192=1,'IN_Definition Index'!$I$19*NR_Reihen_Veränderungsraten!K22,)","v":0},{"$f":"IF($C192=1,'IN_Definition Index'!$I$19*NR_Reihen_Veränderungsraten!L22,)","v":0},{"$f":"IF($C192=1,'IN_Definition Index'!$I$19*NR_Reihen_Veränderungsraten!M22,)","v":0},{"$f":"IF($C192=1,'IN_Definition Index'!$I$19*NR_Reihen_Veränderungsraten!N22,)","v":0},{"$f":"IF($C192=1,'IN_Definition Index'!$I$19*NR_Reihen_Veränderungsraten!O22,)","v":0},{"$f":"IF($C192=1,'IN_Definition Index'!$I$19*NR_Reihen_Veränderungsraten!P22,)","v":0},{"$f":"IF($C192=1,'IN_Definition Index'!$I$19*NR_Reihen_Veränderungsraten!Q22,)","v":0},{"$f":"IF($C192=1,'IN_Definition Index'!$I$19*NR_Reihen_Veränderungsraten!R22,)","v":0},{"$f":"IF($C192=1,'IN_Definition Index'!$I$19*NR_Reihen_Veränderungsraten!S22,)","v":0},{"$f":"IF($C192=1,'IN_Definition Index'!$I$19*NR_Reihen_Veränderungsraten!T22,)","v":0},{"$f":"IF($C192=1,'IN_Definition Index'!$I$19*NR_Reihen_Veränderungsraten!U22,)","v":0},{"$f":"IF($C192=1,'IN_Definition Index'!$I$19*NR_Reihen_Veränderungsraten!V22,)","v":0},{"$f":"IF($C192=1,'IN_Definition Index'!$I$19*NR_Reihen_Veränderungsraten!W22,)","v":0},{"$f":"IF($C192=1,'IN_Definition Index'!$I$19*NR_Reihen_Veränderungsraten!X22,)","v":0},{"$f":"IF($C192=1,'IN_Definition Index'!$I$19*NR_Reihen_Veränderungsraten!Y22,)","v":0},{"$f":"IF($C192=1,'IN_Definition Index'!$I$19*NR_Reihen_Veränderungsraten!Z22,)","v":0},{"$f":"IF($C192=1,'IN_Definition Index'!$I$19*NR_Reihen_Veränderungsraten!AA22,)","v":0},{"$f":"IF($C192=1,'IN_Definition Index'!$I$19*NR_Reihen_Veränderungsraten!AB22,)","v":0},{"$f":"IF($C192=1,'IN_Definition Index'!$I$19*NR_Reihen_Veränderungsraten!AC22,)","v":0},{"$f":"IF($C192=1,'IN_Definition Index'!$I$19*NR_Reihen_Veränderungsraten!AD22,)","v":0},{"$f":"IF($C192=1,'IN_Definition Index'!$I$19*NR_Reihen_Veränderungsraten!AE22,)","v":0},{"$f":"IF($C192=1,'IN_Definition Index'!$I$19*NR_Reihen_Veränderungsraten!AF22,)","v":0}]
["H52","Lagerei sowie Erbringung von sonstigen Dienstleistungen für den Verkehr",{"$f":"'IN_Definition Index'!I11","v":0},{"$f":"IF($C193=1,'IN_Definition Index'!$I$19*NR_Reihen_Veränderungsraten!D23,)","v":0},{"$f":"IF($C193=1,'IN_Definition Index'!$I$19*NR_Reihen_Veränderungsraten!E23,)","v":0},{"$f":"IF($C193=1,'IN_Definition Index'!$I$19*NR_Reihen_Veränderungsraten!F23,)","v":0},{"$f":"IF($C193=1,'IN_Definition Index'!$I$19*NR_Reihen_Veränderungsraten!G23,)","v":0},{"$f":"IF($C193=1,'IN_Definition Index'!$I$19*NR_Reihen_Veränderungsraten!H23,)","v":0},{"$f":"IF($C193=1,'IN_Definition Index'!$I$19*NR_Reihen_Veränderungsraten!I23,)","v":0},{"$f":"IF($C193=1,'IN_Definition Index'!$I$19*NR_Reihen_Veränderungsraten!J23,)","v":0},{"$f":"IF($C193=1,'IN_Definition Index'!$I$19*NR_Reihen_Veränderungsraten!K23,)","v":0},{"$f":"IF($C193=1,'IN_Definition Index'!$I$19*NR_Reihen_Veränderungsraten!L23,)","v":0},{"$f":"IF($C193=1,'IN_Definition Index'!$I$19*NR_Reihen_Veränderungsraten!M23,)","v":0},{"$f":"IF($C193=1,'IN_Definition Index'!$I$19*NR_Reihen_Veränderungsraten!N23,)","v":0},{"$f":"IF($C193=1,'IN_Definition Index'!$I$19*NR_Reihen_Veränderungsraten!O23,)","v":0},{"$f":"IF($C193=1,'IN_Definition Index'!$I$19*NR_Reihen_Veränderungsraten!P23,)","v":0},{"$f":"IF($C193=1,'IN_Definition Index'!$I$19*NR_Reihen_Veränderungsraten!Q23,)","v":0},{"$f":"IF($C193=1,'IN_Definition Index'!$I$19*NR_Reihen_Veränderungsraten!R23,)","v":0},{"$f":"IF($C193=1,'IN_Definition Index'!$I$19*NR_Reihen_Veränderungsraten!S23,)","v":0},{"$f":"IF($C193=1,'IN_Definition Index'!$I$19*NR_Reihen_Veränderungsraten!T23,)","v":0},{"$f":"IF($C193=1,'IN_Definition Index'!$I$19*NR_Reihen_Veränderungsraten!U23,)","v":0},{"$f":"IF($C193=1,'IN_Definition Index'!$I$19*NR_Reihen_Veränderungsraten!V23,)","v":0},{"$f":"IF($C193=1,'IN_Definition Index'!$I$19*NR_Reihen_Veränderungsraten!W23,)","v":0},{"$f":"IF($C193=1,'IN_Definition Index'!$I$19*NR_Reihen_Veränderungsraten!X23,)","v":0},{"$f":"IF($C193=1,'IN_Definition Index'!$I$19*NR_Reihen_Veränderungsraten!Y23,)","v":0},{"$f":"IF($C193=1,'IN_Definition Index'!$I$19*NR_Reihen_Veränderungsraten!Z23,)","v":0},{"$f":"IF($C193=1,'IN_Definition Index'!$I$19*NR_Reihen_Veränderungsraten!AA23,)","v":0},{"$f":"IF($C193=1,'IN_Definition Index'!$I$19*NR_Reihen_Veränderungsraten!AB23,)","v":0},{"$f":"IF($C193=1,'IN_Definition Index'!$I$19*NR_Reihen_Veränderungsraten!AC23,)","v":0},{"$f":"IF($C193=1,'IN_Definition Index'!$I$19*NR_Reihen_Veränderungsraten!AD23,)","v":0},{"$f":"IF($C193=1,'IN_Definition Index'!$I$19*NR_Reihen_Veränderungsraten!AE23,)","v":0},{"$f":"IF($C193=1,'IN_Definition Index'!$I$19*NR_Reihen_Veränderungsraten!AF23,)","v":0}]
["J61","Telekommunikation",{"$f":"'IN_Definition Index'!I12","v":0},{"$f":"IF($C194=1,'IN_Definition Index'!$I$19*NR_Reihen_Veränderungsraten!D24,)","v":0},{"$f":"IF($C194=1,'IN_Definition Index'!$I$19*NR_Reihen_Veränderungsraten!E24,)","v":0},{"$f":"IF($C194=1,'IN_Definition Index'!$I$19*NR_Reihen_Veränderungsraten!F24,)","v":0},{"$f":"IF($C194=1,'IN_Definition Index'!$I$19*NR_Reihen_Veränderungsraten!G24,)","v":0},{"$f":"IF($C194=1,'IN_Definition Index'!$I$19*NR_Reihen_Veränderungsraten!H24,)","v":0},{"$f":"IF($C194=1,'IN_Definition Index'!$I$19*NR_Reihen_Veränderungsraten!I24,)","v":0},{"$f":"IF($C194=1,'IN_Definition Index'!$I$19*NR_Reihen_Veränderungsraten!J24,)","v":0},{"$f":"IF($C194=1,'IN_Definition Index'!$I$19*NR_Reihen_Veränderungsraten!K24,)","v":0},{"$f":"IF($C194=1,'IN_Definition Index'!$I$19*NR_Reihen_Veränderungsraten!L24,)","v":0},{"$f":"IF($C194=1,'IN_Definition Index'!$I$19*NR_Reihen_Veränderungsraten!M24,)","v":0},{"$f":"IF($C194=1,'IN_Definition Index'!$I$19*NR_Reihen_Veränderungsraten!N24,)","v":0},{"$f":"IF($C194=1,'IN_Definition Index'!$I$19*NR_Reihen_Veränderungsraten!O24,)","v":0},{"$f":"IF($C194=1,'IN_Definition Index'!$I$19*NR_Reihen_Veränderungsraten!P24,)","v":0},{"$f":"IF($C194=1,'IN_Definition Index'!$I$19*NR_Reihen_Veränderungsraten!Q24,)","v":0},{"$f":"IF($C194=1,'IN_Definition Index'!$I$19*NR_Reihen_Veränderungsraten!R24,)","v":0},{"$f":"IF($C194=1,'IN_Definition Index'!$I$19*NR_Reihen_Veränderungsraten!S24,)","v":0},{"$f":"IF($C194=1,'IN_Definition Index'!$I$19*NR_Reihen_Veränderungsraten!T24,)","v":0},{"$f":"IF($C194=1,'IN_Definition Index'!$I$19*NR_Reihen_Veränderungsraten!U24,)","v":0},{"$f":"IF($C194=1,'IN_Definition Index'!$I$19*NR_Reihen_Veränderungsraten!V24,)","v":0},{"$f":"IF($C194=1,'IN_Definition Index'!$I$19*NR_Reihen_Veränderungsraten!W24,)","v":0},{"$f":"IF($C194=1,'IN_Definition Index'!$I$19*NR_Reihen_Veränderungsraten!X24,)","v":0},{"$f":"IF($C194=1,'IN_Definition Index'!$I$19*NR_Reihen_Veränderungsraten!Y24,)","v":0},{"$f":"IF($C194=1,'IN_Definition Index'!$I$19*NR_Reihen_Veränderungsraten!Z24,)","v":0},{"$f":"IF($C194=1,'IN_Definition Index'!$I$19*NR_Reihen_Veränderungsraten!AA24,)","v":0},{"$f":"IF($C194=1,'IN_Definition Index'!$I$19*NR_Reihen_Veränderungsraten!AB24,)","v":0},{"$f":"IF($C194=1,'IN_Definition Index'!$I$19*NR_Reihen_Veränderungsraten!AC24,)","v":0},{"$f":"IF($C194=1,'IN_Definition Index'!$I$19*NR_Reihen_Veränderungsraten!AD24,)","v":0},{"$f":"IF($C194=1,'IN_Definition Index'!$I$19*NR_Reihen_Veränderungsraten!AE24,)","v":0},{"$f":"IF($C194=1,'IN_Definition Index'!$I$19*NR_Reihen_Veränderungsraten!AF24,)","v":0}]
["J62-01","IT- und Informationsdienstleister",{"$f":"'IN_Definition Index'!I13","v":1},{"$f":"IF($C195=1,'IN_Definition Index'!$I$19*NR_Reihen_Veränderungsraten!D25,)","v":0.20226961820669076},{"$f":"IF($C195=1,'IN_Definition Index'!$I$19*NR_Reihen_Veränderungsraten!E25,)","v":0.21319561007101351},{"$f":"IF($C195=1,'IN_Definition Index'!$I$19*NR_Reihen_Veränderungsraten!F25,)","v":0.18120155038759689},{"$f":"IF($C195=1,'IN_Definition Index'!$I$19*NR_Reihen_Veränderungsraten!G25,)","v":0.20449482118428769},{"$f":"IF($C195=1,'IN_Definition Index'!$I$19*NR_Reihen_Veränderungsraten!H25,)","v":0.2185794471964124},{"$f":"IF($C195=1,'IN_Definition Index'!$I$19*NR_Reihen_Veränderungsraten!I25,)","v":0.21855526902617384},{"$f":"IF($C195=1,'IN_Definition Index'!$I$19*NR_Reihen_Veränderungsraten!J25,)","v":0.22788405724265304},{"$f":"IF($C195=1,'IN_Definition Index'!$I$19*NR_Reihen_Veränderungsraten!K25,)","v":0.18710713515081417},{"$f":"IF($C195=1,'IN_Definition Index'!$I$19*NR_Reihen_Veränderungsraten!L25,)","v":0.19636130466378832},{"$f":"IF($C195=1,'IN_Definition Index'!$I$19*NR_Reihen_Veränderungsraten!M25,)","v":0.21245538791712937},{"$f":"IF($C195=1,'IN_Definition Index'!$I$19*NR_Reihen_Veränderungsraten!N25,)","v":0.20246826160955364},{"$f":"IF($C195=1,'IN_Definition Index'!$I$19*NR_Reihen_Veränderungsraten!O25,)","v":0.19124631434229813},{"$f":"IF($C195=1,'IN_Definition Index'!$I$19*NR_Reihen_Veränderungsraten!P25,)","v":0.20185474938434905},{"$f":"IF($C195=1,'IN_Definition Index'!$I$19*NR_Reihen_Veränderungsraten!Q25,)","v":0.20541032689580307},{"$f":"IF($C195=1,'IN_Definition Index'!$I$19*NR_Reihen_Veränderungsraten!R25,)","v":0.21432896384472727},{"$f":"IF($C195=1,'IN_Definition Index'!$I$19*NR_Reihen_Veränderungsraten!S25,)","v":0.23532085369767045},{"$f":"IF($C195=1,'IN_Definition Index'!$I$19*NR_Reihen_Veränderungsraten!T25,)","v":0.20331538295277982},{"$f":"IF($C195=1,'IN_Definition Index'!$I$19*NR_Reihen_Veränderungsraten!U25,)","v":0.19579048598004367},{"$f":"IF($C195=1,'IN_Definition Index'!$I$19*NR_Reihen_Veränderungsraten!V25,)","v":0.20330331031503746},{"$f":"IF($C195=1,'IN_Definition Index'!$I$19*NR_Reihen_Veränderungsraten!W25,)","v":0.22816714753102613},{"$f":"IF($C195=1,'IN_Definition Index'!$I$19*NR_Reihen_Veränderungsraten!X25,)","v":0.20629999860114423},{"$f":"IF($C195=1,'IN_Definition Index'!$I$19*NR_Reihen_Veränderungsraten!Y25,)","v":0.21414606239117023},{"$f":"IF($C195=1,'IN_Definition Index'!$I$19*NR_Reihen_Veränderungsraten!Z25,)","v":0.20740463149968957},{"$f":"IF($C195=1,'IN_Definition Index'!$I$19*NR_Reihen_Veränderungsraten!AA25,)","v":0.19827392401268951},{"$f":"IF($C195=1,'IN_Definition Index'!$I$19*NR_Reihen_Veränderungsraten!AB25,)","v":0.2047420318237454},{"$f":"IF($C195=1,'IN_Definition Index'!$I$19*NR_Reihen_Veränderungsraten!AC25,)","v":0.20231433046393668},{"$f":"IF($C195=1,'IN_Definition Index'!$I$19*NR_Reihen_Veränderungsraten!AD25,)","v":0.21145025273852594},{"$f":"IF($C195=1,'IN_Definition Index'!$I$19*NR_Reihen_Veränderungsraten!AE25,)","v":{"$error":"#VALUE!"}},{"$f":"IF($C195=1,'IN_Definition Index'!$I$19*NR_Reihen_Veränderungsraten!AF25,)","v":{"$error":"#VALUE!"}}]
["M69-01","Unternehmensnahe Beratungsleistungen ",{"$f":"'IN_Definition Index'!I14","v":1},{"$f":"IF($C196=1,'IN_Definition Index'!$I$19*NR_Reihen_Veränderungsraten!D26,)","v":0.20335926228080631},{"$f":"IF($C196=1,'IN_Definition Index'!$I$19*NR_Reihen_Veränderungsraten!E26,)","v":0.20943719807400216},{"$f":"IF($C196=1,'IN_Definition Index'!$I$19*NR_Reihen_Veränderungsraten!F26,)","v":0.19194672093238371},{"$f":"IF($C196=1,'IN_Definition Index'!$I$19*NR_Reihen_Veränderungsraten!G26,)","v":0.19733413019874879},{"$f":"IF($C196=1,'IN_Definition Index'!$I$19*NR_Reihen_Veränderungsraten!H26,)","v":0.19514665047361771},{"$f":"IF($C196=1,'IN_Definition Index'!$I$19*NR_Reihen_Veränderungsraten!I26,)","v":0.18598218694439528},{"$f":"IF($C196=1,'IN_Definition Index'!$I$19*NR_Reihen_Veränderungsraten!J26,)","v":0.19955546627722009},{"$f":"IF($C196=1,'IN_Definition Index'!$I$19*NR_Reihen_Veränderungsraten!K26,)","v":0.19681172688248161},{"$f":"IF($C196=1,'IN_Definition Index'!$I$19*NR_Reihen_Veränderungsraten!L26,)","v":0.19376870262362228},{"$f":"IF($C196=1,'IN_Definition Index'!$I$19*NR_Reihen_Veränderungsraten!M26,)","v":0.20827795050408762},{"$f":"IF($C196=1,'IN_Definition Index'!$I$19*NR_Reihen_Veränderungsraten!N26,)","v":0.19956887249961461},{"$f":"IF($C196=1,'IN_Definition Index'!$I$19*NR_Reihen_Veränderungsraten!O26,)","v":0.19566652797626582},{"$f":"IF($C196=1,'IN_Definition Index'!$I$19*NR_Reihen_Veränderungsraten!P26,)","v":0.18459918737226994},{"$f":"IF($C196=1,'IN_Definition Index'!$I$19*NR_Reihen_Veränderungsraten!Q26,)","v":0.19807669182125007},{"$f":"IF($C196=1,'IN_Definition Index'!$I$19*NR_Reihen_Veränderungsraten!R26,)","v":0.20018300503596992},{"$f":"IF($C196=1,'IN_Definition Index'!$I$19*NR_Reihen_Veränderungsraten!S26,)","v":0.19819474609084073},{"$f":"IF($C196=1,'IN_Definition Index'!$I$19*NR_Reihen_Veränderungsraten!T26,)","v":0.19705661550141923},{"$f":"IF($C196=1,'IN_Definition Index'!$I$19*NR_Reihen_Veränderungsraten!U26,)","v":0.17044090127967565},{"$f":"IF($C196=1,'IN_Definition Index'!$I$19*NR_Reihen_Veränderungsraten!V26,)","v":0.19928435201162475},{"$f":"IF($C196=1,'IN_Definition Index'!$I$19*NR_Reihen_Veränderungsraten!W26,)","v":0.19707542412856424},{"$f":"IF($C196=1,'IN_Definition Index'!$I$19*NR_Reihen_Veränderungsraten!X26,)","v":0.20103506445214037},{"$f":"IF($C196=1,'IN_Definition Index'!$I$19*NR_Reihen_Veränderungsraten!Y26,)","v":0.19247606289161351},{"$f":"IF($C196=1,'IN_Definition Index'!$I$19*NR_Reihen_Veränderungsraten!Z26,)","v":0.19537112435740847},{"$f":"IF($C196=1,'IN_Definition Index'!$I$19*NR_Reihen_Veränderungsraten!AA26,)","v":0.20007135613461344},{"$f":"IF($C196=1,'IN_Definition Index'!$I$19*NR_Reihen_Veränderungsraten!AB26,)","v":0.19798891646778044},{"$f":"IF($C196=1,'IN_Definition Index'!$I$19*NR_Reihen_Veränderungsraten!AC26,)","v":0.21533230521592206},{"$f":"IF($C196=1,'IN_Definition Index'!$I$19*NR_Reihen_Veränderungsraten!AD26,)","v":0.19651874511491721},{"$f":"IF($C196=1,'IN_Definition Index'!$I$19*NR_Reihen_Veränderungsraten!AE26,)","v":{"$error":"#VALUE!"}},{"$f":"IF($C196=1,'IN_Definition Index'!$I$19*NR_Reihen_Veränderungsraten!AF26,)","v":{"$error":"#VALUE!"}}]
["M73","Werbung und Marktforschung",{"$f":"'IN_Definition Index'!I15","v":1},{"$f":"IF($C197=1,'IN_Definition Index'!$I$19*NR_Reihen_Veränderungsraten!D27,)","v":0.18811200781121476},{"$f":"IF($C197=1,'IN_Definition Index'!$I$19*NR_Reihen_Veränderungsraten!E27,)","v":0.20457144251440257},{"$f":"IF($C197=1,'IN_Definition Index'!$I$19*NR_Reihen_Veränderungsraten!F27,)","v":0.18502215821388135},{"$f":"IF($C197=1,'IN_Definition Index'!$I$19*NR_Reihen_Veränderungsraten!G27,)","v":0.18880549905309676},{"$f":"IF($C197=1,'IN_Definition Index'!$I$19*NR_Reihen_Veränderungsraten!H27,)","v":0.1744022986041126},{"$f":"IF($C197=1,'IN_Definition Index'!$I$19*NR_Reihen_Veränderungsraten!I27,)","v":0.19271663224156588},{"$f":"IF($C197=1,'IN_Definition Index'!$I$19*NR_Reihen_Veränderungsraten!J27,)","v":0.16909983199221856},{"$f":"IF($C197=1,'IN_Definition Index'!$I$19*NR_Reihen_Veränderungsraten!K27,)","v":0.18527518224404424},{"$f":"IF($C197=1,'IN_Definition Index'!$I$19*NR_Reihen_Veränderungsraten!L27,)","v":0.17390202898453366},{"$f":"IF($C197=1,'IN_Definition Index'!$I$19*NR_Reihen_Veränderungsraten!M27,)","v":0.16206579597089368},{"$f":"IF($C197=1,'IN_Definition Index'!$I$19*NR_Reihen_Veränderungsraten!N27,)","v":0.17001867782426777},{"$f":"IF($C197=1,'IN_Definition Index'!$I$19*NR_Reihen_Veränderungsraten!O27,)","v":0.20302470336510403},{"$f":"IF($C197=1,'IN_Definition Index'!$I$19*NR_Reihen_Veränderungsraten!P27,)","v":0.1972698281597724},{"$f":"IF($C197=1,'IN_Definition Index'!$I$19*NR_Reihen_Veränderungsraten!Q27,)","v":0.18366728415977429},{"$f":"IF($C197=1,'IN_Definition Index'!$I$19*NR_Reihen_Veränderungsraten!R27,)","v":0.20991979702586516},{"$f":"IF($C197=1,'IN_Definition Index'!$I$19*NR_Reihen_Veränderungsraten!S27,)","v":0.20101720920981603},{"$f":"IF($C197=1,'IN_Definition Index'!$I$19*NR_Reihen_Veränderungsraten!T27,)","v":0.20614747556315077},{"$f":"IF($C197=1,'IN_Definition Index'!$I$19*NR_Reihen_Veränderungsraten!U27,)","v":0.17700109842559},{"$f":"IF($C197=1,'IN_Definition Index'!$I$19*NR_Reihen_Veränderungsraten!V27,)","v":0.20768060980353942},{"$f":"IF($C197=1,'IN_Definition Index'!$I$19*NR_Reihen_Veränderungsraten!W27,)","v":0.20280065897858324},{"$f":"IF($C197=1,'IN_Definition Index'!$I$19*NR_Reihen_Veränderungsraten!X27,)","v":0.19664906580016248},{"$f":"IF($C197=1,'IN_Definition Index'!$I$19*NR_Reihen_Veränderungsraten!Y27,)","v":0.22080733970419608},{"$f":"IF($C197=1,'IN_Definition Index'!$I$19*NR_Reihen_Veränderungsraten!Z27,)","v":0.19589950589129612},{"$f":"IF($C197=1,'IN_Definition Index'!$I$19*NR_Reihen_Veränderungsraten!AA27,)","v":0.1987327211835567},{"$f":"IF($C197=1,'IN_Definition Index'!$I$19*NR_Reihen_Veränderungsraten!AB27,)","v":0.19627607999999999},{"$f":"IF($C197=1,'IN_Definition Index'!$I$19*NR_Reihen_Veränderungsraten!AC27,)","v":0.19499598925705453},{"$f":"IF($C197=1,'IN_Definition Index'!$I$19*NR_Reihen_Veränderungsraten!AD27,)","v":0.18752924631911677},{"$f":"IF($C197=1,'IN_Definition Index'!$I$19*NR_Reihen_Veränderungsraten!AE27,)","v":{"$error":"#VALUE!"}},{"$f":"IF($C197=1,'IN_Definition Index'!$I$19*NR_Reihen_Veränderungsraten!AF27,)","v":{"$error":"#VALUE!"}}]
["M74-01","Freiberufl.,wiss.,techn.DL a.n.g., Veterinärwesen",{"$f":"'IN_Definition Index'!I16","v":1},{"$f":"IF($C198=1,'IN_Definition Index'!$I$19*NR_Reihen_Veränderungsraten!D28,)","v":0.21541281867465081},{"$f":"IF($C198=1,'IN_Definition Index'!$I$19*NR_Reihen_Veränderungsraten!E28,)","v":0.18506978887595779},{"$f":"IF($C198=1,'IN_Definition Index'!$I$19*NR_Reihen_Veränderungsraten!F28,)","v":0.17728831747066431},{"$f":"IF($C198=1,'IN_Definition Index'!$I$19*NR_Reihen_Veränderungsraten!G28,)","v":0.19302801536887229},{"$f":"IF($C198=1,'IN_Definition Index'!$I$19*NR_Reihen_Veränderungsraten!H28,)","v":0.18182507979936161},{"$f":"IF($C198=1,'IN_Definition Index'!$I$19*NR_Reihen_Veränderungsraten!I28,)","v":0.20042054441385942},{"$f":"IF($C198=1,'IN_Definition Index'!$I$19*NR_Reihen_Veränderungsraten!J28,)","v":0.17864210233728489},{"$f":"IF($C198=1,'IN_Definition Index'!$I$19*NR_Reihen_Veränderungsraten!K28,)","v":0.17854273265110326},{"$f":"IF($C198=1,'IN_Definition Index'!$I$19*NR_Reihen_Veränderungsraten!L28,)","v":0.19912045091991923},{"$f":"IF($C198=1,'IN_Definition Index'!$I$19*NR_Reihen_Veränderungsraten!M28,)","v":0.18781858417110076},{"$f":"IF($C198=1,'IN_Definition Index'!$I$19*NR_Reihen_Veränderungsraten!N28,)","v":0.19702045951135541},{"$f":"IF($C198=1,'IN_Definition Index'!$I$19*NR_Reihen_Veränderungsraten!O28,)","v":0.17124500234659507},{"$f":"IF($C198=1,'IN_Definition Index'!$I$19*NR_Reihen_Veränderungsraten!P28,)","v":0.18079776681747972},{"$f":"IF($C198=1,'IN_Definition Index'!$I$19*NR_Reihen_Veränderungsraten!Q28,)","v":0.19706252728565102},{"$f":"IF($C198=1,'IN_Definition Index'!$I$19*NR_Reihen_Veränderungsraten!R28,)","v":0.20007094198619935},{"$f":"IF($C198=1,'IN_Definition Index'!$I$19*NR_Reihen_Veränderungsraten!S28,)","v":0.19926018360486875},{"$f":"IF($C198=1,'IN_Definition Index'!$I$19*NR_Reihen_Veränderungsraten!T28,)","v":0.18973568310262134},{"$f":"IF($C198=1,'IN_Definition Index'!$I$19*NR_Reihen_Veränderungsraten!U28,)","v":0.17708076605245227},{"$f":"IF($C198=1,'IN_Definition Index'!$I$19*NR_Reihen_Veränderungsraten!V28,)","v":0.1905187717166473},{"$f":"IF($C198=1,'IN_Definition Index'!$I$19*NR_Reihen_Veränderungsraten!W28,)","v":0.19509561737882677},{"$f":"IF($C198=1,'IN_Definition Index'!$I$19*NR_Reihen_Veränderungsraten!X28,)","v":0.21049181055528426},{"$f":"IF($C198=1,'IN_Definition Index'!$I$19*NR_Reihen_Veränderungsraten!Y28,)","v":0.19869445610108641},{"$f":"IF($C198=1,'IN_Definition Index'!$I$19*NR_Reihen_Veränderungsraten!Z28,)","v":0.19093382583315466},{"$f":"IF($C198=1,'IN_Definition Index'!$I$19*NR_Reihen_Veränderungsraten!AA28,)","v":0.20451169378519368},{"$f":"IF($C198=1,'IN_Definition Index'!$I$19*NR_Reihen_Veränderungsraten!AB28,)","v":0.24781168831168832},{"$f":"IF($C198=1,'IN_Definition Index'!$I$19*NR_Reihen_Veränderungsraten!AC28,)","v":0.16929964307001583},{"$f":"IF($C198=1,'IN_Definition Index'!$I$19*NR_Reihen_Veränderungsraten!AD28,)","v":0.21342380275520509},{"$f":"IF($C198=1,'IN_Definition Index'!$I$19*NR_Reihen_Veränderungsraten!AE28,)","v":{"$error":"#VALUE!"}},{"$f":"IF($C198=1,'IN_Definition Index'!$I$19*NR_Reihen_Veränderungsraten!AF28,)","v":{"$error":"#VALUE!"}}]
["L","Grundstücks- und Wohnungswesen",{"$f":"'IN_Definition Index'!I17","v":1},{"$f":"IF($C199=1,'IN_Definition Index'!$I$19*NR_Reihen_Veränderungsraten!D29,)","v":0.19581270690342789},{"$f":"IF($C199=1,'IN_Definition Index'!$I$19*NR_Reihen_Veränderungsraten!E29,)","v":0.19447042615553892},{"$f":"IF($C199=1,'IN_Definition Index'!$I$19*NR_Reihen_Veränderungsraten!F29,)","v":0.19772453613512342},{"$f":"IF($C199=1,'IN_Definition Index'!$I$19*NR_Reihen_Veränderungsraten!G29,)","v":0.2049786312276799},{"$f":"IF($C199=1,'IN_Definition Index'!$I$19*NR_Reihen_Veränderungsraten!H29,)","v":0.20976183475448404},{"$f":"IF($C199=1,'IN_Definition Index'!$I$19*NR_Reihen_Veränderungsraten!I29,)","v":0.19025219844035177},{"$f":"IF($C199=1,'IN_Definition Index'!$I$19*NR_Reihen_Veränderungsraten!J29,)","v":0.1906194045428791},{"$f":"IF($C199=1,'IN_Definition Index'!$I$19*NR_Reihen_Veränderungsraten!K29,)","v":0.18721397618960539},{"$f":"IF($C199=1,'IN_Definition Index'!$I$19*NR_Reihen_Veränderungsraten!L29,)","v":0.20299880879746654},{"$f":"IF($C199=1,'IN_Definition Index'!$I$19*NR_Reihen_Veränderungsraten!M29,)","v":0.21096860082668828},{"$f":"IF($C199=1,'IN_Definition Index'!$I$19*NR_Reihen_Veränderungsraten!N29,)","v":0.20548946710504667},{"$f":"IF($C199=1,'IN_Definition Index'!$I$19*NR_Reihen_Veränderungsraten!O29,)","v":0.20422399227612842},{"$f":"IF($C199=1,'IN_Definition Index'!$I$19*NR_Reihen_Veränderungsraten!P29,)","v":0.1997289353195994},{"$f":"IF($C199=1,'IN_Definition Index'!$I$19*NR_Reihen_Veränderungsraten!Q29,)","v":0.20300293436842512},{"$f":"IF($C199=1,'IN_Definition Index'!$I$19*NR_Reihen_Veränderungsraten!R29,)","v":0.20167134227110495},{"$f":"IF($C199=1,'IN_Definition Index'!$I$19*NR_Reihen_Veränderungsraten!S29,)","v":0.20450912974506022},{"$f":"IF($C199=1,'IN_Definition Index'!$I$19*NR_Reihen_Veränderungsraten!T29,)","v":0.20173237114872444},{"$f":"IF($C199=1,'IN_Definition Index'!$I$19*NR_Reihen_Veränderungsraten!U29,)","v":0.20951234304974259},{"$f":"IF($C199=1,'IN_Definition Index'!$I$19*NR_Reihen_Veränderungsraten!V29,)","v":0.19815024811718027},{"$f":"IF($C199=1,'IN_Definition Index'!$I$19*NR_Reihen_Veränderungsraten!W29,)","v":0.20984129634696425},{"$f":"IF($C199=1,'IN_Definition Index'!$I$19*NR_Reihen_Veränderungsraten!X29,)","v":0.19383961188419874},{"$f":"IF($C199=1,'IN_Definition Index'!$I$19*NR_Reihen_Veränderungsraten!Y29,)","v":0.20481074233823154},{"$f":"IF($C199=1,'IN_Definition Index'!$I$19*NR_Reihen_Veränderungsraten!Z29,)","v":0.19981192050210303},{"$f":"IF($C199=1,'IN_Definition Index'!$I$19*NR_Reihen_Veränderungsraten!AA29,)","v":0.20277805941397142},{"$f":"IF($C199=1,'IN_Definition Index'!$I$19*NR_Reihen_Veränderungsraten!AB29,)","v":0.20155066381156317},{"$f":"IF($C199=1,'IN_Definition Index'!$I$19*NR_Reihen_Veränderungsraten!AC29,)","v":0.19718809340000437},{"$f":"IF($C199=1,'IN_Definition Index'!$I$19*NR_Reihen_Veränderungsraten!AD29,)","v":0.19897457930361251},{"$f":"IF($C199=1,'IN_Definition Index'!$I$19*NR_Reihen_Veränderungsraten!AE29,)","v":0.20034477386338431},{"$f":"IF($C199=1,'IN_Definition Index'!$I$19*NR_Reihen_Veränderungsraten!AF29,)","v":0.20028623078621371}]
[null,"Summe",null,{"$f":"SUM(D189:D199)","v":1.0049664138767906},{"$f":"SUM(E189:E199)","v":1.006744465690915},{"$f":"SUM(F189:F199)","v":0.93318328313964971},{"$f":"SUM(G189:G199)","v":0.98864109703268543},{"$f":"SUM(H189:H199)","v":0.97971531082798835},{"$f":"SUM(I189:I199)","v":0.98792683106634627},{"$f":"SUM(J189:J199)","v":0.9658008623922556},{"$f":"SUM(K189:K199)","v":0.93495075311804876},{"$f":"SUM(L189:L199)","v":0.96615129598933003},{"$f":"SUM(M189:M199)","v":0.98158631938989971},{"$f":"SUM(N189:N199)","v":0.97456573854983808},{"$f":"SUM(O189:O199)","v":0.96540654030639139},{"$f":"SUM(P189:P199)","v":0.96425046705347039},{"$f":"SUM(Q189:Q199)","v":0.98721976453090354},{"$f":"SUM(R189:R199)","v":1.0261740501638665},{"$f":"SUM(S189:S199)","v":1.0383021223482563},{"$f":"SUM(T189:T199)","v":0.99798752826869563},{"$f":"SUM(U189:U199)","v":0.92982559478750426},{"$f":"SUM(V189:V199)","v":0.99893729196402925},{"$f":"SUM(W189:W199)","v":1.0329801443639646},{"$f":"SUM(X189:X199)","v":1.00831555129293},{"$f":"SUM(Y189:Y199)","v":1.0309346634262977},{"$f":"SUM(Z189:Z199)","v":0.98942100808365185},{"$f":"SUM(AA189:AA199)","v":1.0043677545300247},{"$f":"SUM(AB189:AB199)","v":1.0483693804147773},{"$f":"SUM(AC189:AC199)","v":0.97913036140693332},1.0078966262313775,{"$error":"#VALUE!"},{"$error":"#VALUE!"}]

{"sheet":"NR_Reihen_Veränderungsraten","index":16,"n_rows":113,"n_cols":32,"rows_kept":113,"cut":false,"hidden":false,"merged":[]}
["∆ TFP-Index"]
[]
["Nr. (WZ 2008)","Branche","Gewicht",1992,{"$f":"D3+1","v":1993},1994,1995,1996,1997,1998,1999,2000,2001,2002,2003,2004,2005,2006,2007,2008,2009,2010,2011,2012,2013,2014,2015,2016,2017,{"$f":"AC3+1","v":2018},{"$f":"AD3+1","v":2019},{"$f":"AE3+1","v":2020}]
["C33","Reparatur und Installation von Maschinen und Ausrüstungen",{"$f":"'IN_Definition Index'!K7","v":0.1},{"$f":"D34/D48","v":1.0855772449189287},{"$f":"E34/E48","v":0.98941884081519149},1.1148111583155385,1.033315156069698,1.0210792306605978,1.1193360368605361,1.0448458274330823,1.0771027787847509,1.074511521524036,1.0032624772305931,1.0472794477563951,1.0906613728878427,1.1064509744555728,1.1553444446942363,1.0177236025196346,1.0701580942343971,0.87219389878516862,0.87790060728234087,1.016608964868434,1.0251983219016094,0.97690852718853793,0.9577383674598402,1.0092906573148215,1.0438690470577969,0.96266494868658659,0.93208010651485862,0.96202744717657473,{"$error":"#VALUE!"},{"$error":"#VALUE!"}]
["G45","Handel mit Kraftfahrzeugen; Instandhaltung und Reparatur von Kraftfahrzeugen",{"$f":"'IN_Definition Index'!K8","v":0.15},{"$f":"D35/D49","v":1.0126209603937335},0.82632406415260995,1.0097379843810665,1.0034430198694519,0.98925087588306004,1.0210929710157892,1.0160392216528003,1.0222273662055432,0.97770263939098179,0.99176355153149864,1.0503696086199668,1.1638778651599271,1.0631424208170841,1.0049641200695421,1.0641740850624075,0.94972342248111763,1.0320449130925149,1.0085296450262276,0.9147042280391966,1.0938264829925763,0.97031704847345035,0.97836566612742881,1.0427057495661487,1.011149175400502,1.0584670048368057,0.96670528002276801,0.98384275059299819,{"$error":"#VALUE!"},{"$error":"#VALUE!"}]
["G47","Einzelhandel (ohne Handel mit Kraftfahrzeugen)",{"$f":"'IN_Definition Index'!K9","v":0.1},{"$f":"D36/D50","v":1.0028109110912304},0.94124362614278545,1.0077644672149431,1.0060430623282013,0.97336707817069201,0.98026117510072619,0.99202779661655782,0.99707073436572435,0.98700097756299165,1.0151690157321698,0.9583818088966779,1.0075147345992181,0.98303858234602737,0.97802237957566407,1.0584622952450147,0.99876533664237888,0.97776320835485553,1.0102513323422244,1.0241773456157695,0.97772081453371795,0.99857578214785991,0.99555246980710876,1.0254107592332413,1.0734277443192348,1.0258095888892984,1.0248752498180813,0.99203529857039174,{"$error":"#VALUE!"},{"$error":"#VALUE!"}]
["H49","Landverkehr und Transport in Rohrfernleitungen",{"$f":"'IN_Definition Index'!K10","v":0.25},{"$f":"D37/D51","v":0.95058086436505973},1.0106445750728938,1.060184634807926,1.1447621409931397,1.0701748653086618,0.9755213401404873,0.9810762562884745,1.2500744747474395,0.94200842690465447,0.98079896969300617,0.97576717940538205,0.95203747078219803,0.9980824823781107,1.0518078564468138,1.0902035650971735,1.0089513129025895,1.0149554505898526,0.91825367775211553,1.0161345835914399,1.0446497373950967,1.0067325736791031,0.99315067750693653,1.0193485307187398,0.9642419893262455,0.9716753306438275,1.0174094603520365,1.0206667089242778,{"$error":"#VALUE!"},{"$error":"#VALUE!"}]
["H52","Lagerei sowie Erbringung von sonstigen Dienstleistungen für den Verkehr",{"$f":"'IN_Definition Index'!K11","v":0.25},{"$f":"D38/D52","v":0.97237456101052011},0.99788065428241768,1.04625055178142,0.9834406789375294,1.0340115154152514,1.0909648716613807,1.0277291024804267,0.78162680048883648,1.0203926894902178,1.1026206984766556,1.0964103835464691,1.0213240028702961,1.1182213781000641,1.0395199864562827,1.0616949999285952,0.99178911343015963,0.95470184441284467,0.87811462666734219,1.0590013637905233,0.98016806594995998,0.99260080863638034,1.0136511863423716,0.99710017230547299,0.951729189939021,0.99998174793122274,1.0068956403900953,1.0215627348932572,{"$error":"#VALUE!"},{"$error":"#VALUE!"}]
["J61","Telekommunikation",{"$f":"'IN_Definition Index'!K12","v":0},{"$f":"D39/D53","v":1.0487805032878434},1.0697779216503605,1.0427543059307922,1.0891544453486106,1.0920749999475958,1.1613864150972895,1.1597071316191334,1.1553435025136347,1.0861202210650627,1.1444492690482726,1.144359202818624,0.85205945708115693,1.1771031763302637,0.89142360497812534,1.1341272686025983,1.0785949162601922,1.0999833180877892,1.059489214834519,1.045501349545485,1.0812857491755525,1.0323040327252904,0.970107817703869,1.0915316432312929,1.0621156314494902,0.99051527726887101,1.1147202806108425,1.0206096145092669,{"$error":"#VALUE!"},{"$error":"#VALUE!"}]
["J62-01","IT- und Informationsdienstleister",{"$f":"'IN_Definition Index'!K13","v":0.03},{"$f":"D40/D54","v":0.99602621089134957},1.0497384830114991,0.89381742925987173,1.0142529644946143,1.0769436890283344,1.0642280906800641,1.11862488500672,0.91946649012311354,0.97430214845391006,1.031478518286983,0.99715841047996878,0.94218318779846133,1.0019726656536061,1.021154050903472,1.0681491153328326,1.1727876267284327,1.0094789941212849,0.97136899546554378,1.0081241978729705,1.1367280369681383,1.0289084362034149,1.0650931878229533,1.0312412951996577,0.98629795570724255,1.0188345517021995,1.0067207308967814,1.0554555164781378,{"$error":"#VALUE!"},{"$error":"#VALUE!"}]
["M69-01","Unternehmensnahe Beratungsleistungen ",{"$f":"'IN_Definition Index'!K14","v":0.03},{"$f":"D41/D55","v":1.0576520479949991},1.0898463318990381,1.0000481119571174,1.0114171985149589,0.99433696902911162,0.94032867572967915,1.0145594627220338,1.007748607973759,0.96300900431683045,1.0419302214475921,0.99687509595630097,0.9782204257062721,0.93012006831305205,0.99262131026141687,1.0039371976116622,0.99443809255473892,0.98637290802796496,0.85030188409112217,0.99614753285703761,0.98618721969608325,1.0065390434051698,0.96398767131674412,0.97695738467802162,1.0006177649513079,0.98879329619360135,1.0756390161408695,0.982512478198032,{"$error":"#VALUE!"},{"$error":"#VALUE!"}]
["M73","Werbung und Marktforschung",{"$f":"'IN_Definition Index'!K15","v":0.03},{"$f":"D42/D56","v":1.0179618534001935},1.0979415564453527,1.0260232252762411,1.0085515060852175,0.93193187578280945,1.0140002132425272,0.89414506201782384,0.99230886156130216,0.97473153657835543,0.85330791740965484,0.85506563662993196,1.0171487079657646,1.0115123405602813,0.93358183573120446,1.0718524021594567,1.0017357712230488,1.0030612717046758,0.8488323894927311,1.0209405404172045,1.0064071797167795,0.98192480163788687,1.0980152450015987,0.97379844223563661,0.9864527783532302,0.98153118556399221,0.97170232654573496,0.9294002089580421,{"$error":"#VALUE!"},{"$error":"#VALUE!"}]
["M74-01","Freiberufl.,wiss.,techn.DL a.n.g., Veterinärwesen",{"$f":"'IN_Definition Index'!K16","v":0.03},{"$f":"D43/D57","v":1.160976535302267},0.98789882547692598,0.94928614631049724,1.0256816083247182,0.95351775827659147,1.060898775373478,0.93653153184999094,0.91503510547784905,1.0299756811025707,0.95468858342343432,0.99633318863177889,0.87866874971782272,0.92278141345281461,1.0011947053912265,1.0078650057297951,0.99602436380721737,0.95206194005741895,0.91105281128489535,0.96183440903094142,0.97975674465503726,1.0558882339904234,0.99858072841598089,0.95026419305512178,1.0192607197175589,1.2309319868037369,0.83609964014035498,1.0633284824287741,{"$error":"#VALUE!"},{"$error":"#VALUE!"}]
["L","Grundstücks- und Wohnungswesen",{"$f":"'IN_Definition Index'!K17","v":0.03},{"$f":"D44/D58","v":1.0158578078794069},1.0134862952741535,1.0191885467102177,1.0564591542162898,1.0541204397516069,0.99900694788258759,1.0028147517682358,0.96341855819678623,1.0101858595454014,1.0181279189519949,1.0086880301595145,1.0009655655072474,0.98673263949151402,1.0046505241894621,1.0067536828049219,1.0113025231721424,0.99908124568844947,1.0063844575255521,0.97463831508064702,1.0275098737058617,0.95925096340220695,1.0106529931484101,0.98984919044691655,0.99933570654365489,0.99103441677993986,0.98353781192654144,0.98842138654992084,0.9947672228149661,{"$error":"#DIV/0!"}]
[]
["∆ Arbeitsproduktivität"]
[]
["Nr. (WZ 2008)","Branche","Gewicht",1992,{"$f":"D18+1","v":1993},{"$f":"E18+1","v":1994},{"$f":"F18+1","v":1995},{"$f":"G18+1","v":1996},{"$f":"H18+1","v":1997},{"$f":"I18+1","v":1998},{"$f":"J18+1","v":1999},{"$f":"K18+1","v":2000},{"$f":"L18+1","v":2001},{"$f":"M18+1","v":2002},{"$f":"N18+1","v":2003},{"$f":"O18+1","v":2004},{"$f":"P18+1","v":2005},{"$f":"Q18+1","v":2006},{"$f":"R18+1","v":2007},{"$f":"S18+1","v":2008},{"$f":"T18+1","v":2009},{"$f":"U18+1","v":2010},{"$f":"V18+1","v":2011},{"$f":"W18+1","v":2012},{"$f":"X18+1","v":2013},{"$f":"Y18+1","v":2014},{"$f":"Z18+1","v":2015},{"$f":"AA18+1","v":2016},{"$f":"AB18+1","v":2017},{"$f":"AC18+1","v":2018},{"$f":"AD18+1","v":2019},2020]
["C33","Reparatur und Installation von Maschinen und Ausrüstungen",{"$f":"'IN_Definition Index'!K7","v":0.1},{"$f":"D34/D62","v":1.1119280888495371},{"$f":"E34/E62","v":1.0033990095260503},1.1271257936103534,1.0395430344035654,1.0238244952141411,1.1213672351520081,1.0447302745248608,1.0754313601486463,1.0731743227326267,1.003096448641003,1.0477288125153981,1.0910448613283701,1.1062393991309958,1.1569648885421999,1.0162457357370218,1.0681087652920211,0.86485663348685204,0.87397726357117222,1.0170687243376948,1.0252706213466116,0.97574336067247314,0.95764499336531583,1.0102148272957037,1.0508334370155656,0.96709999999999996,0.92945455693106405,0.96002260387811655,{"$error":"#VALUE!"},{"$error":"#VALUE!"}]
["G45","Handel mit Kraftfahrzeugen; Instandhaltung und Reparatur von Kraftfahrzeugen",{"$f":"'IN_Definition Index'!K8","v":0.15},{"$f":"D35/D63","v":1.0265961896396678},0.83257607640708076,1.0162911611785095,1.0101643207283626,0.99048753526243016,1.0201614803354881,1.0149169243340865,1.0142908863754607,0.96880009358349306,0.99511071388955419,1.0466956590809802,1.1646468162794836,1.0607543141789717,1.0074191221693012,1.0625923178637082,0.94473297132739453,1.0328836424957841,1.015827127862353,0.91696928697064006,1.0915881170950035,0.96606294160219064,0.97782956613568384,1.0417731763615119,1.0148235584708121,1.0570833333333334,0.9652154022112085,0.98433297357882865,{"$error":"#VALUE!"},{"$error":"#VALUE!"}]
["G47","Einzelhandel (ohne Handel mit Kraftfahrzeugen)",{"$f":"'IN_Definition Index'!K9","v":0.1},{"$f":"D36/D64","v":1.0195314074142157},0.95401560286501419,1.0160885300638494,1.015231870511369,0.98168465961206441,0.98904516972603962,1.0009844325501442,1.0053711336040345,0.99198416365581787,1.0253363750514171,0.96308685031693886,1.0165298404855867,0.98232577573343716,0.98207230312616167,1.0607374190680128,0.9998888218808395,0.97882476789573569,1.0119779266932527,1.0254285637376066,0.97864958742905184,1.0001290569466372,0.99733702698902837,1.0267670568282918,1.0750024506696494,1.0280504032258062,1.0275193299722771,0.99385717779433835,{"$error":"#VALUE!"},{"$error":"#VALUE!"}]
["H49","Landverkehr und Transport in Rohrfernleitungen",{"$f":"'IN_Definition Index'!K10","v":0.25},{"$f":"D37/D65","v":0.9698803325779326},1.0254316874985525,1.0732766199247206,1.1581568748515387,1.0834178611347733,0.98924241701144511,0.98575139490195174,1.1216663919976431,0.95578793128366568,0.99213272714037071,0.98537220925262226,0.95890264122564695,0.9979346119548822,1.0572079520685445,1.0898344890721718,1.0039022972959433,1.0138437037879651,0.91588992235541211,1.0114803183651864,1.0382385957522131,1.0004607459763146,0.98423248944890296,1.0199791631605577,0.96150156409313059,0.96712236842105259,1.0151501929143958,1.0171949193517742,{"$error":"#VALUE!"},{"$error":"#VALUE!"}]
["H52","Lagerei sowie Erbringung von sonstigen Dienstleistungen für den Verkehr",{"$f":"'IN_Definition Index'!K11","v":0.25},{"$f":"D38/D66","v":0.97445760530808667},1.0029633049565869,1.0507060614711199,0.99259923822206264,1.0406781191985606,1.0967353748256468,1.0265166174640894,0.86754806043663213,1.0209324433238958,1.1091512626004825,1.1052750289557638,1.0285443186656684,1.1314421450931396,1.050993665469834,1.0661107770139988,0.99258243540567526,0.95835157365756063,0.89968621864592746,1.0777600610851601,0.97644165757461154,0.99231309806207613,1.0176472468121824,0.99290604598694321,0.94680545444477959,0.99745436893203887,1.0067521293764905,1.0139665211221562,{"$error":"#VALUE!"},{"$error":"#VALUE!"}]
["J61","Telekommunikation",{"$f":"'IN_Definition Index'!K12","v":0},{"$f":"D39/D67","v":1.0992751518071606},1.1127072083597045,1.081809196915352,1.1321826657496261,1.1349683585566632,1.2152818819006799,1.1938963323859793,1.1889965993457532,1.0883245914608775,1.1428023391812863,1.1722463657849806,0.87853736771454438,1.211381282706584,0.89994905756495147,1.1283709250210192,1.0674532295507304,1.1227708264050549,1.1555682599315324,1.1800504362933861,1.1283435649595623,1.059492035635504,0.9716019049566238,1.088089198606272,1.067552648572083,1.002655462184874,1.1407742259534315,1.0413702411690382,{"$error":"#VALUE!"},{"$error":"#VALUE!"}]
["J62-01","IT- und Informationsdienstleister",{"$f":"'IN_Definition Index'!K13","v":0.03},{"$f":"D40/D68","v":1.0113480910334538},1.0659780503550675,0.90600775193798444,1.0224741059214384,1.0928972359820619,1.0927763451308692,1.1394202862132652,0.93553567575407082,0.98180652331894147,1.0622769395856468,1.0123413080477681,0.95623157171149065,1.0092737469217452,1.0270516344790153,1.0716448192236363,1.1766042684883522,1.016576914763899,0.97895242990021836,1.0165165515751873,1.1408357376551306,1.0314999930057211,1.0707303119558511,1.0370231574984479,0.99136962006344753,1.023710159118727,1.0115716523196834,1.0572512636926297,{"$error":"#VALUE!"},{"$error":"#VALUE!"}]
["M69-01","Unternehmensnahe Beratungsleistungen ",{"$f":"'IN_Definition Index'!K14","v":0.03},{"$f":"D41/D69","v":1.0167963114040315},1.0471859903700107,0.95973360466191848,0.98667065099374396,0.9757332523680885,0.92991093472197639,0.99777733138610036,0.98405863441240804,0.96884351311811134,1.0413897525204381,0.99784436249807296,0.97833263988132912,0.92299593686134962,0.99038345910625025,1.0009150251798495,0.99097373045420356,0.98528307750709609,0.85220450639837819,0.99642176005812366,0.98537712064282112,1.0051753222607018,0.96238031445806749,0.97685562178704233,1.0003567806730671,0.98994458233890215,1.0766615260796102,0.98259372557458602,{"$error":"#VALUE!"},{"$error":"#VALUE!"}]
["M73","Werbung und Marktforschung",{"$f":"'IN_Definition Index'!K15","v":0.03},{"$f":"D42/D70","v":0.94056003905607377},1.0228572125720128,0.92511079106940663,0.9440274952654838,0.87201149302056302,0.96358316120782928,0.84549915996109282,0.92637591122022112,0.8695101449226682,0.81032897985446839,0.8500933891213388,1.0151235168255202,0.98634914079886193,0.91833642079887134,1.0495989851293257,1.00508604604908,1.0307373778157538,0.88500549212794999,1.038403049017697,1.0140032948929161,0.9832453290008123,1.1040366985209804,0.9794975294564805,0.99366360591778347,0.98138039999999993,0.97497994628527263,0.9376462315955838,{"$error":"#VALUE!"},{"$error":"#VALUE!"}]
["M74-01","Freiberufl.,wiss.,techn.DL a.n.g., Veterinärwesen",{"$f":"'IN_Definition Index'!K16","v":0.03},{"$f":"D43/D71","v":1.077064093373254},0.92534894437978887,0.88644158735332146,0.96514007684436143,0.909125398996808,1.0021027220692971,0.8932105116864244,0.89271366325551627,0.99560225459959606,0.93909292085550367,0.98510229755677703,0.85622501173297527,0.9039888340873985,0.98531263642825506,1.0003547099309966,0.99630091802434362,0.94867841551310661,0.88540383026226122,0.95259385858323642,0.97547808689413384,1.0524590527764213,0.99347228050543201,0.95466912916577329,1.0225584689259684,1.2390584415584416,0.84649821535007908,1.0671190137760254,{"$error":"#VALUE!"},{"$error":"#VALUE!"}]
["L","Grundstücks- und Wohnungswesen",{"$f":"'IN_Definition Index'!K17","v":0.03},{"$f":"D44/D72","v":0.97906353451713946},0.97235213077769456,0.98862268067561698,1.0248931561383994,1.0488091737724201,0.95126099220175875,0.95309702271439545,0.9360698809480269,1.0149940439873326,1.0548430041334413,1.0274473355252334,1.0211199613806421,0.99864467659799694,1.0150146718421256,1.0083567113555247,1.0225456487253011,1.0086618557436222,1.0475617152487129,0.99075124058590125,1.0492064817348212,0.96919805942099369,1.0240537116911577,0.99905960251051507,1.0138902970698571,1.0077533190578158,0.9859404670000218,0.99487289651806243,1.0017238693169215,1.0014311539310685]
[]
["∆ Outputindex"]
["∆ Bruttowertschöpfung (preisbereinigt)"]
["Nr. (WZ 2008)","Branche",1991,{"$f":"C33+1","v":1992},{"$f":"D33+1","v":1993},1994,1995,1996,1997,1998,1999,2000,2001,2002,2003,2004,2005,2006,2007,2008,2009,2010,2011,2012,2013,2014,2015,2016,2017,{"$f":"AC33+1","v":2018},{"$f":"AD33+1","v":2019},{"$f":"AE33+1","v":2020}]
["C33","Reparatur und Installation von Maschinen und Ausrüstungen",null,{"$f":"NR_Indexreihen!D4/NR_Indexreihen!C4","v":1.0192674147787424},{"$f":"NR_Indexreihen!E4/NR_Indexreihen!D4","v":0.9370585791441628},{"$f":"NR_Indexreihen!F4/NR_Indexreihen!E4","v":1.0523165595211705},{"$f":"NR_Indexreihen!G4/NR_Indexreihen!F4","v":1.0050558247314094},{"$f":"NR_Indexreihen!H4/NR_Indexreihen!G4","v":0.9937120100607838},{"$f":"NR_Indexreihen!I4/NR_Indexreihen!H4","v":1.0987133516135839},{"$f":"NR_Indexreihen!J4/NR_Indexreihen!I4","v":1.0447302745248608},{"$f":"NR_Indexreihen!K4/NR_Indexreihen!J4","v":1.0920617420066152},{"$f":"NR_Indexreihen!L4/NR_Indexreihen!K4","v":1.0895170789163722},{"$f":"NR_Indexreihen!M4/NR_Indexreihen!L4","v":1.0131274131274131},{"$f":"NR_Indexreihen!N4/NR_Indexreihen!M4","v":1.0269817073170733},{"$f":"NR_Indexreihen!O4/NR_Indexreihen!N4","v":1.0745138785809707},{"$f":"NR_Indexreihen!P4/NR_Indexreihen!O4","v":1.1005663765713496},{"$f":"NR_Indexreihen!Q4/NR_Indexreihen!P4","v":1.139073678925568},{"$f":"NR_Indexreihen!R4/NR_Indexreihen!Q4","v":1.0268870523415978},{"$f":"NR_Indexreihen!S4/NR_Indexreihen!R4","v":1.0902457345208714},{"$f":"NR_Indexreihen!T4/NR_Indexreihen!S4","v":0.93070866141732289},{"$f":"NR_Indexreihen!U4/NR_Indexreihen!T4","v":0.95230541455160744},{"$f":"NR_Indexreihen!V4/NR_Indexreihen!U4","v":1.0258745141588006},{"$f":"NR_Indexreihen!W4/NR_Indexreihen!V4","v":1.0560727430179693},{"$f":"NR_Indexreihen!X4/NR_Indexreihen!W4","v":1.0042025420254201},{"$f":"NR_Indexreihen!Y4/NR_Indexreihen!X4","v":0.96927630907420637},{"$f":"NR_Indexreihen!Z4/NR_Indexreihen!Y4","v":1.0102148272957037},{"$f":"NR_Indexreihen!AA4/NR_Indexreihen!Z4","v":1.0424267695194411},{"$f":"NR_Indexreihen!AB4/NR_Indexreihen!AA4","v":0.96709999999999996},{"$f":"NR_Indexreihen!AC4/NR_Indexreihen!AB4","v":0.93320235756385073},{"$f":"NR_Indexreihen!AD4/NR_Indexreihen!AC4","v":0.9638781163434903},{"$f":"NR_Indexreihen!AE4/NR_Indexreihen!AD4","v":{"$error":"#VALUE!"}},{"$f":"NR_Indexreihen!AF4/NR_Indexreihen!AE4","v":{"$error":"#VALUE!"}}]
["G45","Handel mit Kraftfahrzeugen; Instandhaltung und Reparatur von Kraftfahrzeugen",null,{"$f":"NR_Indexreihen!D5/NR_Indexreihen!C5","v":1.0130288391157956},{"$f":"NR_Indexreihen!E5/NR_Indexreihen!D5","v":0.83381502890173409},{"$f":"NR_Indexreihen!F5/NR_Indexreihen!E5","v":1.0162911611785095},{"$f":"NR_Indexreihen!G5/NR_Indexreihen!F5","v":1.0071623465211461},{"$f":"NR_Indexreihen!H5/NR_Indexreihen!G5","v":1.0052488994243143},{"$f":"NR_Indexreihen!I5/NR_Indexreihen!H5","v":1.0441300320026949},{"$f":"NR_Indexreihen!J5/NR_Indexreihen!I5","v":1.0440393611872882},{"$f":"NR_Indexreihen!K5/NR_Indexreihen!J5","v":1.0553152039555005},{"$f":"NR_Indexreihen!L5/NR_Indexreihen!K5","v":1.0077598828696925},{"$f":"NR_Indexreihen!M5/NR_Indexreihen!L5","v":0.99767543222432087},{"$f":"NR_Indexreihen!N5/NR_Indexreihen!M5","v":1.0655307994757537},{"$f":"NR_Indexreihen!O5/NR_Indexreihen!N5","v":1.1690583572502393},{"$f":"NR_Indexreihen!P5/NR_Indexreihen!O5","v":1.0714285714285714},{"$f":"NR_Indexreihen!Q5/NR_Indexreihen!P5","v":1.0049099836333877},{"$f":"NR_Indexreihen!R5/NR_Indexreihen!Q5","v":1.0718783930510316},{"$f":"NR_Indexreihen!S5/NR_Indexreihen!R5","v":0.96110210696920584},{"$f":"NR_Indexreihen!T5/NR_Indexreihen!S5","v":1.0328836424957841},{"$f":"NR_Indexreihen!U5/NR_Indexreihen!T5","v":0.99234693877551017},{"$f":"NR_Indexreihen!V5/NR_Indexreihen!U5","v":0.91125964010282778},{"$f":"NR_Indexreihen!W5/NR_Indexreihen!V5","v":1.1066350710900472},{"$f":"NR_Indexreihen!X5/NR_Indexreihen!W5","v":0.97919853166105852},{"$f":"NR_Indexreihen!Y5/NR_Indexreihen!X5","v":0.98021451629699041},{"$f":"NR_Indexreihen!Z5/NR_Indexreihen!Y5","v":1.0455752682460429},{"$f":"NR_Indexreihen!AA5/NR_Indexreihen!Z5","v":1.016053647632595},{"$f":"NR_Indexreihen!AB5/NR_Indexreihen!AA5","v":1.075},{"$f":"NR_Indexreihen!AC5/NR_Indexreihen!AB5","v":0.9813023255813953},{"$f":"NR_Indexreihen!AD5/NR_Indexreihen!AC5","v":0.99355389136411043},{"$f":"NR_Indexreihen!AE5/NR_Indexreihen!AD5","v":{"$error":"#VALUE!"}},{"$f":"NR_Indexreihen!AF5/NR_Indexreihen!AE5","v":{"$error":"#VALUE!"}}]
["G47","Einzelhandel (ohne Handel mit Kraftfahrzeugen)",null,{"$f":"NR_Indexreihen!D6/NR_Indexreihen!C6","v":1.0276397139047158},{"$f":"NR_Indexreihen!E6/NR_Indexreihen!D6","v":0.96154299870237125},{"$f":"NR_Indexreihen!F6/NR_Indexreihen!E6","v":1.0354557722978777},{"$f":"NR_Indexreihen!G6/NR_Indexreihen!F6","v":1.0264218009478672},{"$f":"NR_Indexreihen!H6/NR_Indexreihen!G6","v":0.9907653237908346},{"$f":"NR_Indexreihen!I6/NR_Indexreihen!H6","v":0.99778632179890481},{"$f":"NR_Indexreihen!J6/NR_Indexreihen!I6","v":1.0120270901447921},{"$f":"NR_Indexreihen!K6/NR_Indexreihen!J6","v":1.0189223491404176},{"$f":"NR_Indexreihen!L6/NR_Indexreihen!K6","v":1.0186841807269844},{"$f":"NR_Indexreihen!M6/NR_Indexreihen!L6","v":1.0130057803468209},{"$f":"NR_Indexreihen!N6/NR_Indexreihen!M6","v":0.959179194557226},{"$f":"NR_Indexreihen!O6/NR_Indexreihen!N6","v":0.99359341036494675},{"$f":"NR_Indexreihen!P6/NR_Indexreihen!O6","v":0.98767990788716187},{"$f":"NR_Indexreihen!Q6/NR_Indexreihen!P6","v":0.97330380041967812},{"$f":"NR_Indexreihen!R6/NR_Indexreihen!Q6","v":1.0586896634327465},{"$f":"NR_Indexreihen!S6/NR_Indexreihen!R6","v":1.0063355583210771},{"$f":"NR_Indexreihen!T6/NR_Indexreihen!S6","v":0.98572231590781345},{"$f":"NR_Indexreihen!U6/NR_Indexreihen!T6","v":1.017449817518248},{"$f":"NR_Indexreihen!V6/NR_Indexreihen!U6","v":1.0280237641520009},{"$f":"NR_Indexreihen!W6/NR_Indexreihen!V6","v":0.98637007959873513},{"$f":"NR_Indexreihen!X6/NR_Indexreihen!W6","v":1.0004421843908911},{"$f":"NR_Indexreihen!Y6/NR_Indexreihen!X6","v":0.99359116022099447},{"$f":"NR_Indexreihen!Z6/NR_Indexreihen!Y6","v":1.0322508896797151},{"$f":"NR_Indexreihen!AA6/NR_Indexreihen!Z6","v":1.0773540185304893},{"$f":"NR_Indexreihen!AB6/NR_Indexreihen!AA6","v":1.0334999999999999},{"$f":"NR_Indexreihen!AC6/NR_Indexreihen!AB6","v":1.028156748911466},{"$f":"NR_Indexreihen!AD6/NR_Indexreihen!AC6","v":0.99416525503482023},{"$f":"NR_Indexreihen!AE6/NR_Indexreihen!AD6","v":{"$error":"#VALUE!"}},{"$f":"NR_Indexreihen!AF6/NR_Indexreihen!AE6","v":{"$error":"#VALUE!"}}]
["H49","Landverkehr und Transport in Rohrfernleitungen",null,{"$f":"NR_Indexreihen!D7/NR_Indexreihen!C7","v":0.93201455206912243},{"$f":"NR_Indexreihen!E7/NR_Indexreihen!D7","v":0.98755794096120997},{"$f":"NR_Indexreihen!F7/NR_Indexreihen!E7","v":1.0352025691699607},{"$f":"NR_Indexreihen!G7/NR_Indexreihen!F7","v":1.1270731416298769},{"$f":"NR_Indexreihen!H7/NR_Indexreihen!G7","v":1.0468981579504553},{"$f":"NR_Indexreihen!I7/NR_Indexreihen!H7","v":0.95055111740317522},{"$f":"NR_Indexreihen!J7/NR_Indexreihen!I7","v":0.9965957446808511},{"$f":"NR_Indexreihen!K7/NR_Indexreihen!J7","v":1.0435525192143467},{"$f":"NR_Indexreihen!L7/NR_Indexreihen!K7","v":0.93678396072013081},{"$f":"NR_Indexreihen!M7/NR_Indexreihen!L7","v":0.97674164664773977},{"$f":"NR_Indexreihen!N7/NR_Indexreihen!M7","v":0.97462269424259362},{"$f":"NR_Indexreihen!O7/NR_Indexreihen!N7","v":0.95067676072493679},{"$f":"NR_Indexreihen!P7/NR_Indexreihen!O7","v":1.0041023166023166},{"$f":"NR_Indexreihen!Q7/NR_Indexreihen!P7","v":1.0442201393895698},{"$f":"NR_Indexreihen!R7/NR_Indexreihen!Q7","v":1.0939010356731875},{"$f":"NR_Indexreihen!S7/NR_Indexreihen!R7","v":1.01883021249737},{"$f":"NR_Indexreihen!T7/NR_Indexreihen!S7","v":1.0225090345895715},{"$f":"NR_Indexreihen!U7/NR_Indexreihen!T7","v":0.91921639907098862},{"$f":"NR_Indexreihen!V7/NR_Indexreihen!U7","v":1.0285620125233439},{"$f":"NR_Indexreihen!W7/NR_Indexreihen!V7","v":1.056712592117911},{"$f":"NR_Indexreihen!X7/NR_Indexreihen!W7","v":1.0144532039619973},{"$f":"NR_Indexreihen!Y7/NR_Indexreihen!X7","v":0.99780810999302583},{"$f":"NR_Indexreihen!Z7/NR_Indexreihen!Y7","v":1.0257613579630553},{"$f":"NR_Indexreihen!AA7/NR_Indexreihen!Z7","v":0.97342548427917841},{"$f":"NR_Indexreihen!AB7/NR_Indexreihen!AA7","v":0.98219999999999996},{"$f":"NR_Indexreihen!AC7/NR_Indexreihen!AB7","v":1.0285074322948482},{"$f":"NR_Indexreihen!AD7/NR_Indexreihen!AC7","v":1.0381112650960207},{"$f":"NR_Indexreihen!AE7/NR_Indexreihen!AD7","v":{"$error":"#VALUE!"}},{"$f":"NR_Indexreihen!AF7/NR_Indexreihen!AE7","v":{"$error":"#VALUE!"}}]
["H52","Lagerei sowie Erbringung von sonstigen Dienstleistungen für den Verkehr",null,{"$f":"NR_Indexreihen!D8/NR_Indexreihen!C8","v":0.99129488574537528},{"$f":"NR_Indexreihen!E8/NR_Indexreihen!D8","v":0.99231613611416036},{"$f":"NR_Indexreihen!F8/NR_Indexreihen!E8","v":1.0484513274336282},{"$f":"NR_Indexreihen!G8/NR_Indexreihen!F8","v":0.97552226208060766},{"$f":"NR_Indexreihen!H8/NR_Indexreihen!G8","v":1.0361237291801861},{"$f":"NR_Indexreihen!I8/NR_Indexreihen!H8","v":1.1039665970772443},{"$f":"NR_Indexreihen!J8/NR_Indexreihen!I8","v":1.0601361573373675},{"$f":"NR_Indexreihen!K8/NR_Indexreihen!J8","v":1.0399571887263646},{"$f":"NR_Indexreihen!L8/NR_Indexreihen!K8","v":1.0461406518010292},{"$f":"NR_Indexreihen!M8/NR_Indexreihen!L8","v":1.1129693392359401},{"$f":"NR_Indexreihen!N8/NR_Indexreihen!M8","v":1.09958750736594},{"$f":"NR_Indexreihen!O8/NR_Indexreihen!N8","v":1.0356377277599143},{"$f":"NR_Indexreihen!P8/NR_Indexreihen!O8","v":1.1353169469598967},{"$f":"NR_Indexreihen!Q8/NR_Indexreihen!P8","v":1.0545806745670008},{"$f":"NR_Indexreihen!R8/NR_Indexreihen!Q8","v":1.0896812533765532},{"$f":"NR_Indexreihen!S8/NR_Indexreihen!R8","v":1.0223103619236489},{"$f":"NR_Indexreihen!T8/NR_Indexreihen!S8","v":0.98312318137730359},{"$f":"NR_Indexreihen!U8/NR_Indexreihen!T8","v":0.87134964483030775},{"$f":"NR_Indexreihen!V8/NR_Indexreihen!U8","v":1.0602355072463769},{"$f":"NR_Indexreihen!W8/NR_Indexreihen!V8","v":1.0135625800939769},{"$f":"NR_Indexreihen!X8/NR_Indexreihen!W8","v":1.0144347276367085},{"$f":"NR_Indexreihen!Y8/NR_Indexreihen!X8","v":1.0303282093892814},{"$f":"NR_Indexreihen!Z8/NR_Indexreihen!Y8","v":1.0265120967741934},{"$f":"NR_Indexreihen!AA8/NR_Indexreihen!Z8","v":0.98202887164882646},{"$f":"NR_Indexreihen!AB8/NR_Indexreihen!AA8","v":1.0318000000000001},{"$f":"NR_Indexreihen!AC8/NR_Indexreihen!AB8","v":1.0318860244233379},{"$f":"NR_Indexreihen!AD8/NR_Indexreihen!AC8","v":1.0619892927585235},{"$f":"NR_Indexreihen!AE8/NR_Indexreihen!AD8","v":{"$error":"#VALUE!"}},{"$f":"NR_Indexreihen!AF8/NR_Indexreihen!AE8","v":{"$error":"#VALUE!"}}]
["J61","Telekommunikation",null,{"$f":"NR_Indexreihen!D9/NR_Indexreihen!C9","v":1.0758150113722518},{"$f":"NR_Indexreihen!E9/NR_Indexreihen!D9","v":1.0884425651867513},{"$f":"NR_Indexreihen!F9/NR_Indexreihen!E9","v":1.0404661702816445},{"$f":"NR_Indexreihen!G9/NR_Indexreihen!F9","v":1.0684505289359054},{"$f":"NR_Indexreihen!H9/NR_Indexreihen!G9","v":1.0672684915550377},{"$f":"NR_Indexreihen!I9/NR_Indexreihen!H9","v":1.1200545702592086},{"$f":"NR_Indexreihen!J9/NR_Indexreihen!I9","v":1.1310596833130329},{"$f":"NR_Indexreihen!K9/NR_Indexreihen!J9","v":1.1331035968124057},{"$f":"NR_Indexreihen!L9/NR_Indexreihen!K9","v":1.0834442121269721},{"$f":"NR_Indexreihen!M9/NR_Indexreihen!L9","v":1.1582456140350876},{"$f":"NR_Indexreihen!N9/NR_Indexreihen!M9","v":1.1305664950015148},{"$f":"NR_Indexreihen!O9/NR_Indexreihen!N9","v":0.83400321543408362},{"$f":"NR_Indexreihen!P9/NR_Indexreihen!O9","v":1.1643373493975904},{"$f":"NR_Indexreihen!Q9/NR_Indexreihen!P9","v":0.88631346578366432},{"$f":"NR_Indexreihen!R9/NR_Indexreihen!Q9","v":1.1399439601494397},{"$f":"NR_Indexreihen!S9/NR_Indexreihen!R9","v":1.0837088624880513},{"$f":"NR_Indexreihen!T9/NR_Indexreihen!S9","v":1.0890877016129032},{"$f":"NR_Indexreihen!U9/NR_Indexreihen!T9","v":1.0126113617956727},{"$f":"NR_Indexreihen!V9/NR_Indexreihen!U9","v":0.9787477148080439},{"$f":"NR_Indexreihen!W9/NR_Indexreihen!V9","v":1.0643240719122111},{"$f":"NR_Indexreihen!X9/NR_Indexreihen!W9","v":1.0037292969178457},{"$f":"NR_Indexreihen!Y9/NR_Indexreihen!X9","v":0.95617965249699477},{"$f":"NR_Indexreihen!Z9/NR_Indexreihen!Y9","v":1.0793142857142857},{"$f":"NR_Indexreihen!AA9/NR_Indexreihen!Z9","v":1.058873358746294},{"$f":"NR_Indexreihen!AB9/NR_Indexreihen!AA9","v":0.97799999999999998},{"$f":"NR_Indexreihen!AC9/NR_Indexreihen!AB9","v":1.092842535787321},{"$f":"NR_Indexreihen!AD9/NR_Indexreihen!AC9","v":0.99569610778443118},{"$f":"NR_Indexreihen!AE9/NR_Indexreihen!AD9","v":{"$error":"#VALUE!"}},{"$f":"NR_Indexreihen!AF9/NR_Indexreihen!AE9","v":{"$error":"#VALUE!"}}]
["J62-01","IT- und Informationsdienstleister",null,{"$f":"NR_Indexreihen!D10/NR_Indexreihen!C10","v":1.0595075239398086},{"$f":"NR_Indexreihen!E10/NR_Indexreihen!D10","v":1.1103938024531956},{"$f":"NR_Indexreihen!F10/NR_Indexreihen!E10","v":0.94883720930232562},{"$f":"NR_Indexreihen!G10/NR_Indexreihen!F10","v":1.0686274509803921},{"$f":"NR_Indexreihen!H10/NR_Indexreihen!G10","v":1.1364678899082568},{"$f":"NR_Indexreihen!I10/NR_Indexreihen!H10","v":1.1311806256306762},{"$f":"NR_Indexreihen!J10/NR_Indexreihen!I10","v":1.2484388938447812},{"$f":"NR_Indexreihen!K10/NR_Indexreihen!J10","v":1.0646659521257593},{"$f":"NR_Indexreihen!L10/NR_Indexreihen!K10","v":1.1446308724832215},{"$f":"NR_Indexreihen!M10/NR_Indexreihen!L10","v":1.1682790970389916},{"$f":"NR_Indexreihen!N10/NR_Indexreihen!M10","v":1.0416562107904641},{"$f":"NR_Indexreihen!O10/NR_Indexreihen!N10","v":0.96699590460130092},{"$f":"NR_Indexreihen!P10/NR_Indexreihen!O10","v":1.0411061285500747},{"$f":"NR_Indexreihen!Q10/NR_Indexreihen!P10","v":1.0603015075376885},{"$f":"NR_Indexreihen!R10/NR_Indexreihen!Q10","v":1.1164522681110358},{"$f":"NR_Indexreihen!S10/NR_Indexreihen!R10","v":1.2257934101475643},{"$f":"NR_Indexreihen!T10/NR_Indexreihen!S10","v":1.0557387862796832},{"$f":"NR_Indexreihen!U10/NR_Indexreihen!T10","v":0.98500468603561397},{"$f":"NR_Indexreihen!V10/NR_Indexreihen!U10","v":1.0180780209324454},{"$f":"NR_Indexreihen!W10/NR_Indexreihen!V10","v":1.1845794392523363},{"$f":"NR_Indexreihen!X10/NR_Indexreihen!W10","v":1.0741617357001974},{"$f":"NR_Indexreihen!Y10/NR_Indexreihen!X10","v":1.1162933039539724},{"$f":"NR_Indexreihen!Z10/NR_Indexreihen!Y10","v":1.0751178857330848},{"$f":"NR_Indexreihen!AA10/NR_Indexreihen!Z10","v":1.0199918400652794},{"$f":"NR_Indexreihen!AB10/NR_Indexreihen!AA10","v":1.0668},{"$f":"NR_Indexreihen!AC10/NR_Indexreihen!AB10","v":1.0623359580052492},{"$f":"NR_Indexreihen!AD10/NR_Indexreihen!AC10","v":1.1213270978558192},{"$f":"NR_Indexreihen!AE10/NR_Indexreihen!AD10","v":{"$error":"#VALUE!"}},{"$f":"NR_Indexreihen!AF10/NR_Indexreihen!AE10","v":{"$error":"#VALUE!"}}]
["M69-01","Unternehmensnahe Beratungsleistungen ",null,{"$f":"NR_Indexreihen!D11/NR_Indexreihen!C11","v":1.0664566929133859},{"$f":"NR_Indexreihen!E11/NR_Indexreihen!D11","v":1.0922917897223863},{"$f":"NR_Indexreihen!F11/NR_Indexreihen!E11","v":1.0175746924428821},{"$f":"NR_Indexreihen!G11/NR_Indexreihen!F11","v":1.0417164873123423},{"$f":"NR_Indexreihen!H11/NR_Indexreihen!G11","v":1.0272924371891341},{"$f":"NR_Indexreihen!I11/NR_Indexreihen!H11","v":0.97306021104903784},{"$f":"NR_Indexreihen!J11/NR_Indexreihen!I11","v":1.060984945139066},{"$f":"NR_Indexreihen!K11/NR_Indexreihen!J11","v":1.0652958152958154},{"$f":"NR_Indexreihen!L11/NR_Indexreihen!K11","v":1.0442487865447567},{"$f":"NR_Indexreihen!M11/NR_Indexreihen!L11","v":1.0725326991676576},{"$f":"NR_Indexreihen!N11/NR_Indexreihen!M11","v":1.0211650876839347},{"$f":"NR_Indexreihen!O11/NR_Indexreihen!N11","v":1.0047374654559811},{"$f":"NR_Indexreihen!P11/NR_Indexreihen!O11","v":0.95844793713163057},{"$f":"NR_Indexreihen!Q11/NR_Indexreihen!P11","v":1.0160910115814288},{"$f":"NR_Indexreihen!R11/NR_Indexreihen!Q11","v":1.035101876134759},{"$f":"NR_Indexreihen!S11/NR_Indexreihen!R11","v":1.0285519391931397},{"$f":"NR_Indexreihen!T11/NR_Indexreihen!S11","v":1.0230222643297016},{"$f":"NR_Indexreihen!U11/NR_Indexreihen!T11","v":0.86284497129097981},{"$f":"NR_Indexreihen!V11/NR_Indexreihen!U11","v":1.0165289256198347},{"$f":"NR_Indexreihen!W11/NR_Indexreihen!V11","v":1.0086580086580088},{"$f":"NR_Indexreihen!X11/NR_Indexreihen!W11","v":1.031613105830629},{"$f":"NR_Indexreihen!Y11/NR_Indexreihen!X11","v":0.99107052257737194},{"$f":"NR_Indexreihen!Z11/NR_Indexreihen!Y11","v":0.99918091532712194},{"$f":"NR_Indexreihen!AA11/NR_Indexreihen!Z11","v":1.0246951531919253},{"$f":"NR_Indexreihen!AB11/NR_Indexreihen!AA11","v":1.0053000000000001},{"$f":"NR_Indexreihen!AC11/NR_Indexreihen!AB11","v":1.1023575052223216},{"$f":"NR_Indexreihen!AD11/NR_Indexreihen!AC11","v":1.0119112073632919},{"$f":"NR_Indexreihen!AE11/NR_Indexreihen!AD11","v":{"$error":"#VALUE!"}},{"$f":"NR_Indexreihen!AF11/NR_Indexreihen!AE11","v":{"$error":"#VALUE!"}}]
["M73","Werbung und Marktforschung",null,{"$f":"NR_Indexreihen!D12/NR_Indexreihen!C12","v":0.9933017234891246},{"$f":"NR_Indexreihen!E12/NR_Indexreihen!D12","v":1.0681163812698895},{"$f":"NR_Indexreihen!F12/NR_Indexreihen!E12","v":1.011349932609775},{"$f":"NR_Indexreihen!G12/NR_Indexreihen!F12","v":1.0098898786560988},{"$f":"NR_Indexreihen!H12/NR_Indexreihen!G12","v":0.94151965550770944},{"$f":"NR_Indexreihen!I12/NR_Indexreihen!H12","v":1.0282531720271466},{"$f":"NR_Indexreihen!J12/NR_Indexreihen!I12","v":0.91462802209627669},{"$f":"NR_Indexreihen!K12/NR_Indexreihen!J12","v":1.028708133971292},{"$f":"NR_Indexreihen!L12/NR_Indexreihen!K12","v":1.0333968738086161},{"$f":"NR_Indexreihen!M12/NR_Indexreihen!L12","v":0.88172360363019253},{"$f":"NR_Indexreihen!N12/NR_Indexreihen!M12","v":0.86041841004184094},{"$f":"NR_Indexreihen!O12/NR_Indexreihen!N12","v":1.0232445049601244},{"$f":"NR_Indexreihen!P12/NR_Indexreihen!O12","v":1.0215758958273928},{"$f":"NR_Indexreihen!Q12/NR_Indexreihen!P12","v":0.94296613323408995},{"$f":"NR_Indexreihen!R12/NR_Indexreihen!Q12","v":1.0965959546127282},{"$f":"NR_Indexreihen!S12/NR_Indexreihen!R12","v":1.0230340111570992},{"$f":"NR_Indexreihen!T12/NR_Indexreihen!S12","v":1.0162708883025504},{"$f":"NR_Indexreihen!U12/NR_Indexreihen!T12","v":0.818866291648637},{"$f":"NR_Indexreihen!V12/NR_Indexreihen!U12","v":1.026421475375185},{"$f":"NR_Indexreihen!W12/NR_Indexreihen!V12","v":1.0140032948929161},{"$f":"NR_Indexreihen!X12/NR_Indexreihen!W12","v":0.9832453290008123},{"$f":"NR_Indexreihen!Y12/NR_Indexreihen!X12","v":1.0868532479603428},{"$f":"NR_Indexreihen!Z12/NR_Indexreihen!Y12","v":0.96788293424553407},{"$f":"NR_Indexreihen!AA12/NR_Indexreihen!Z12","v":0.98173964264677005},{"$f":"NR_Indexreihen!AB12/NR_Indexreihen!AA12","v":0.99329999999999996},{"$f":"NR_Indexreihen!AC12/NR_Indexreihen!AB12","v":0.96718010671499033},{"$f":"NR_Indexreihen!AD12/NR_Indexreihen!AC12","v":0.92630373685854062},{"$f":"NR_Indexreihen!AE12/NR_Indexreihen!AD12","v":{"$error":"#VALUE!"}},{"$f":"NR_Indexreihen!AF12/NR_Indexreihen!AE12","v":{"$error":"#VALUE!"}}]
["M74-01","Freiberufl.,wiss.,techn.DL a.n.g., Veterinärwesen",null,{"$f":"NR_Indexreihen!D13/NR_Indexreihen!C13","v":1.1452327068778905},{"$f":"NR_Indexreihen!E13/NR_Indexreihen!D13","v":0.96941317982644559},{"$f":"NR_Indexreihen!F13/NR_Indexreihen!E13","v":0.93680758663476027},{"$f":"NR_Indexreihen!G13/NR_Indexreihen!F13","v":1.0170293282876064},{"$f":"NR_Indexreihen!H13/NR_Indexreihen!G13","v":0.94623255813953489},{"$f":"NR_Indexreihen!I13/NR_Indexreihen!H13","v":1.0610499410145497},{"$f":"NR_Indexreihen!J13/NR_Indexreihen!I13","v":0.94283331789122582},{"$f":"NR_Indexreihen!K13/NR_Indexreihen!J13","v":0.92403694968553451},{"$f":"NR_Indexreihen!L13/NR_Indexreihen!K13","v":1.0546634052961821},{"$f":"NR_Indexreihen!M13/NR_Indexreihen!L13","v":0.96914389432287984},{"$f":"NR_Indexreihen!N13/NR_Indexreihen!M13","v":1.0080116533139112},{"$f":"NR_Indexreihen!O13/NR_Indexreihen!N13","v":0.9016308835672997},{"$f":"NR_Indexreihen!P13/NR_Indexreihen!O13","v":0.94951345163136813},{"$f":"NR_Indexreihen!Q13/NR_Indexreihen!P13","v":1.0325536532433084},{"$f":"NR_Indexreihen!R13/NR_Indexreihen!Q13","v":1.039584306398879},{"$f":"NR_Indexreihen!S13/NR_Indexreihen!R13","v":1.0276311355722789},{"$f":"NR_Indexreihen!T13/NR_Indexreihen!S13","v":0.98338616242212273},{"$f":"NR_Indexreihen!U13/NR_Indexreihen!T13","v":0.95831943981327106},{"$f":"NR_Indexreihen!V13/NR_Indexreihen!U13","v":0.99918812340524243},{"$f":"NR_Indexreihen!W13/NR_Indexreihen!V13","v":1.0058038305281485},{"$f":"NR_Indexreihen!X13/NR_Indexreihen!W13","v":1.1000577034045007},{"$f":"NR_Indexreihen!Y13/NR_Indexreihen!X13","v":1.0316827528325641},{"$f":"NR_Indexreihen!Z13/NR_Indexreihen!Y13","v":0.98118771608704491},{"$f":"NR_Indexreihen!AA13/NR_Indexreihen!Z13","v":1.0363768266141569},{"$f":"NR_Indexreihen!AB13/NR_Indexreihen!AA13","v":1.2721},{"$f":"NR_Indexreihen!AC13/NR_Indexreihen!AB13","v":0.86848518198254865},{"$f":"NR_Indexreihen!AD13/NR_Indexreihen!AC13","v":1.0941346850108615},{"$f":"NR_Indexreihen!AE13/NR_Indexreihen!AD13","v":{"$error":"#VALUE!"}},{"$f":"NR_Indexreihen!AF13/NR_Indexreihen!AE13","v":{"$error":"#VALUE!"}}]
["L","Grundstücks- und Wohnungswesen",null,{"$f":"NR_Indexreihen!D14/NR_Indexreihen!C14","v":1.0495264404104183},{"$f":"NR_Indexreihen!E14/NR_Indexreihen!D14","v":1.0479413423575861},{"$f":"NR_Indexreihen!F14/NR_Indexreihen!E14","v":1.056691783279512},{"$f":"NR_Indexreihen!G14/NR_Indexreihen!F14","v":1.0940577249575552},{"$f":"NR_Indexreihen!H14/NR_Indexreihen!G14","v":1.0879888268156426},{"$f":"NR_Indexreihen!I14/NR_Indexreihen!H14","v":1.0329482242190844},{"$f":"NR_Indexreihen!J14/NR_Indexreihen!I14","v":1.0357636012151339},{"$f":"NR_Indexreihen!K14/NR_Indexreihen!J14","v":0.99320090654579385},{"$f":"NR_Indexreihen!L14/NR_Indexreihen!K14","v":1.0374496644295303},{"$f":"NR_Indexreihen!M14/NR_Indexreihen!L14","v":1.0411437443395004},{"$f":"NR_Indexreihen!N14/NR_Indexreihen!M14","v":1.0297005095066485},{"$f":"NR_Indexreihen!O14/NR_Indexreihen!N14","v":1.0211199613806421},{"$f":"NR_Indexreihen!P14/NR_Indexreihen!O14","v":1.00520033093015},{"$f":"NR_Indexreihen!Q14/NR_Indexreihen!P14","v":1.0216343327454438},{"$f":"NR_Indexreihen!R14/NR_Indexreihen!Q14","v":1.0257797214869375},{"$f":"NR_Indexreihen!S14/NR_Indexreihen!R14","v":1.0290586783350164},{"$f":"NR_Indexreihen!T14/NR_Indexreihen!S14","v":1.0150457915394679},{"$f":"NR_Indexreihen!U14/NR_Indexreihen!T14","v":1.0190118152524168},{"$f":"NR_Indexreihen!V14/NR_Indexreihen!U14","v":0.98861600084325918},{"$f":"NR_Indexreihen!W14/NR_Indexreihen!V14","v":1.0446742723104809},{"$f":"NR_Indexreihen!X14/NR_Indexreihen!W14","v":0.97550520514390682},{"$f":"NR_Indexreihen!Y14/NR_Indexreihen!X14","v":1.026260724000837},{"$f":"NR_Indexreihen!Z14/NR_Indexreihen!Y14","v":1.0055051483331634},{"$f":"NR_Indexreihen!AA14/NR_Indexreihen!Z14","v":1.0138902970698571},{"$f":"NR_Indexreihen!AB14/NR_Indexreihen!AA14","v":1.0056},{"$f":"NR_Indexreihen!AC14/NR_Indexreihen!AB14","v":0.99860779634049324},{"$f":"NR_Indexreihen!AD14/NR_Indexreihen!AC14","v":1.0032861979685321},{"$f":"NR_Indexreihen!AE14/NR_Indexreihen!AD14","v":1.0101240694789082},{"$f":"NR_Indexreihen!AF14/NR_Indexreihen!AE14","v":0.99518522157806821}]
[]
["∆ Inputindex"]
["Nr. (WZ 2008)","Branche",1991,{"$f":"C47+1","v":1992},{"$f":"D47+1","v":1993},1994,1995,1996,1997,1998,1999,2000,2001,2002,2003,2004,2005,2006,2007,2008,2009,2010,2011,2012,2013,2014,2015,2016,2017,{"$f":"AC47+1","v":2018},{"$f":"AD47+1","v":2019},{"$f":"AE47+1","v":2020}]
["C33","Reparatur und Installation von Maschinen und Ausrüstungen",null,{"$f":"(D62^((D90+C90)/2))*(D76^((D103+C103)/2))","v":0.93891744650088127},{"$f":"(E62^((E90+D90)/2))*(E76^((E103+D103)/2))","v":0.94707978106836066},0.943941538144634,0.97265177891537424,0.97319775020582056,0.98157596595853935,0.99988940673811622,1.0138881483889048,1.0139650037172734,1.0098328564266164,0.98061860138398971,0.98519476832289676,0.99468155569466721,0.98591695676264368,1.009003868829687,1.018770722190206,1.0670891675734677,1.0847531106050794,1.0091141723224581,1.0301155595525087,1.027939171454908,1.0120470704801852,1.0009156628709324,0.99861833479743367,1.0046070559850178,1.0012040285391224,{"$f":"(AD62^((AD90+AC90)/2))*(AD76^((AD103+AC103)/2))","v":1.0019237176364844},{"$f":"(AE62^((AE90+AD90)/2))*(AE76^((AE103+AD103)/2))","v":{"$error":"#VALUE!"}},{"$f":"(AF62^((AF90+AE90)/2))*(AF76^((AF103+AE103)/2))","v":{"$error":"#VALUE!"}}]
["G45","Handel mit Kraftfahrzeugen; Instandhaltung und Reparatur von Kraftfahrzeugen",null,{"$f":"(D63^((D91+C91)/2))*(D77^((D104+C104)/2))","v":1.0004027950615435},1.0090654079605028,1.0064899774979346,1.0037065648751815,1.016171856837603,1.0225611786985356,1.0275581286015119,1.0323683740465466,1.0307427251065147,1.0059609779807828,1.0144341484477131,1.0044510616151294,1.0077940174799147,0.99994613097614804,1.0072397064510101,1.0119810507130189,1.0008126869214984,0.98395415907650741,0.99623420573472932,1.0117098902765895,1.0091531764814201,1.0018897332904984,1.0027519927660207,1.0048503943348917,1.0156197548791266,1.0150997887983848,1.0098706228868983,{"$error":"#VALUE!"},{"$error":"#VALUE!"}]
["G47","Einzelhandel (ohne Handel mit Kraftfahrzeugen)",null,{"$f":"(D64^((D92+C92)/2))*(D78^((D105+C105)/2))","v":1.0247592068842444},1.021566544511725,1.027477953414514,1.0202563283648167,1.0178742901936237,1.017878038163021,1.0201600132541089,1.0219158120096603,1.0321004779977239,0.99786908844554456,1.0008320125164585,0.98618251053190886,1.0047214073023034,0.9951753873382394,1.0002148099074981,1.0075795799082772,1.0081401176531786,1.0071254399232854,1.0037556176698275,1.0088463546407591,1.0018690641976282,0.99802992846123495,1.0066706248056034,1.0036576977183913,1.0074969187205867,1.0032018522195429,1.0021470571334488,{"$error":"#VALUE!"},{"$error":"#VALUE!"}]
["H49","Landverkehr und Transport in Rohrfernleitungen",null,{"$f":"(D65^((D93+C93)/2))*(D79^((D106+C106)/2))","v":0.98046845566543284},0.97715652497316496,0.97643611799515351,0.98454788228066603,0.97824962245633285,0.97440320194972252,1.01581884006763,0.83479227861618577,0.99445390716759219,0.9958632470356934,0.9988270919672807,0.99857073896876847,1.0060313995391068,0.99278602359667034,1.0033915414463761,1.0097912550074992,1.0074422813290269,1.0010484263142074,1.0122301013395099,1.0115472720578036,1.0076689981875517,1.0046895527451893,1.0062911036324287,1.0095240562582737,1.0108314670798515,1.0109080683591949,1.0170913345357648,{"$error":"#VALUE!"},{"$error":"#VALUE!"}]
["H52","Lagerei sowie Erbringung von sonstigen Dienstleistungen für den Verkehr",null,{"$f":"(D66^((D94+C94)/2))*(D80^((D107+C107)/2))","v":1.0194578565642365},0.99442366364717349,1.0021034881639594,0.99194825165715483,1.0020427371779186,1.0119176389209159,1.0315326818893484,1.3305034935802686,1.0252333857112157,1.0093854947341201,1.0028977505751031,1.014014871724733,1.0152881792412869,1.014488117888007,1.0263599748042895,1.0307739297398917,1.0297698565586604,0.99229601508551435,1.0011653841987853,1.034070191943717,1.0219966766200033,1.0164524278880258,1.0294974620260218,1.0318364530899244,1.0318188328283024,1.024819239483012,1.0395732503589126,{"$error":"#VALUE!"},{"$error":"#VALUE!"}]
["J61","Telekommunikation",null,{"$f":"(D67^((D95+C95)/2))*(D81^((D108+C108)/2))","v":1.0257770887231954},1.0174472132567447,0.99780568093928379,0.98099083513717988,0.97728497731955355,0.96441163397402196,0.97529768721340515,0.98075039531287223,0.99753617611919021,1.0120550079063688,0.9879472216563322,0.9788087069546445,0.98915487852774964,0.99426744011946333,1.0051287820228574,1.0047413038488913,0.9900947438968194,0.95575428953642716,0.93615155564700014,0.98431341828348873,0.97231945734823189,0.98564266264770384,0.98880714307022766,0.99694734489617542,0.98736488214156659,0.98037378057611635,0.97558958256843908,{"$error":"#VALUE!"},{"$error":"#VALUE!"}]
["J62-01","IT- und Informationsdienstleister",null,{"$f":"(D68^((D96+C96)/2))*(D82^((D109+C109)/2))","v":1.0637345808316121},1.0577813621423957,1.061555948945875,1.0536103796481104,1.055271414361161,1.0629118283354353,1.1160478464032038,1.1579170786128421,1.1748212546791577,1.1326257176729173,1.044624605120742,1.0263353423454922,1.0390564176428316,1.0383364846857146,1.0452213572850753,1.0451964040301096,1.0458254133347924,1.014037601193494,1.009873607915053,1.0420957350641464,1.0439818529078868,1.0480710201852592,1.0425473560239189,1.0341619732283396,1.0470787413105132,1.0552439474042876,1.0624105709329019,{"$error":"#VALUE!"},{"$error":"#VALUE!"}]
["M69-01","Unternehmensnahe Beratungsleistungen ",null,{"$f":"(D69^((D97+C97)/2))*(D83^((D110+C110)/2))","v":1.0083247084285212},1.0022438556260376,1.0175257372882438,1.0299572608038219,1.0331431588953197,1.0348086112485717,1.0457592522891404,1.0571047251930861,1.0843603557845845,1.0293709473918018,1.024366133556915,1.0271074279915631,1.0304561419365528,1.0236441642723053,1.0310424582306907,1.0343046459038605,1.037155680172734,1.0147513341256027,1.0204602150690887,1.0227855203486114,1.024911167221723,1.0280946033507197,1.0227476970824316,1.024062523257109,1.0166937861228853,1.0248396429290112,1.0299219906287382,{"$error":"#VALUE!"},{"$error":"#VALUE!"}]
["M73","Werbung und Marktforschung",null,{"$f":"(D70^((D98+C98)/2))*(D84^((D111+C111)/2))","v":0.97577499605835016},0.97283537088073802,0.98569886889011149,1.001327024512686,1.0102880693042573,1.0140561694154302,1.0229078713830044,1.036681394090061,1.0601861487278808,1.0333006241249909,1.0062600731249192,1.0059930243696136,1.0099490187747362,1.0100519281156917,1.0230848504919341,1.021261335120385,1.0131693017869439,0.96469727331917421,1.0053685153454095,1.0075477553511436,1.0013448355319294,0.98983438791759248,0.99392532609055961,0.99522213753168376,1.0119902603290647,0.99534608520819279,0.99666831138011802,{"$error":"#VALUE!"},{"$error":"#VALUE!"}]
["M74-01","Freiberufl.,wiss.,techn.DL a.n.g., Veterinärwesen",null,{"$f":"(D71^((D99+C99)/2))*(D85^((D112+C112)/2))","v":0.986439150193266},0.98128791615724809,0.98685479639175577,0.99156436074617349,0.99235965971916029,1.0001424882793539,1.0067288562391343,1.0098377036616366,1.0239692301930698,1.0151413886689731,1.0117214450099468,1.0261328673141625,1.0289689820241708,1.0313215278538934,1.0314717749785507,1.03173293035147,1.0329014542507755,1.0518813266837008,1.0388359098235374,1.0265852580400272,1.0418315764795973,1.0331490719524419,1.0325420270046199,1.0167926680244685,1.0334445880337879,1.0387340698254064,1.028971482557979,{"$error":"#VALUE!"},{"$error":"#VALUE!"}]
["L","Grundstücks- und Wohnungswesen",null,{"$f":"(D72^((D100+C100)/2))*(D86^((D113+C113)/2))","v":1.0331430563114874},1.0339965594444593,1.0367971526861726,1.0355892327604062,1.0321295231425514,1.033975015297377,1.0328563669299842,1.0309131976913033,1.0269888997420713,1.0226060251949447,1.0208314946929737,1.0201349542560751,1.0187160034030625,1.0169051905583626,1.0188984048501388,1.0175577087528451,1.015979226834568,1.0125472503400066,1.0143414080344826,1.0167048502830571,1.0169447228742419,1.0154432143952845,1.01581650824928,1.014564265472452,1.014697353566576,1.0153222217094358,1.0150389415090428,1.0154376283332756,0]
[]
["∆ Arbeitsindex \n(Anzahl Erwerbstätige)"]
["Nr. (WZ 2008)","Branche",1991,{"$f":"C61+1","v":1992},{"$f":"D61+1","v":1993},1994,1995,1996,1997,1998,1999,2000,2001,2002,2003,2004,2005,2006,2007,2008,2009,2010,2011,2012,2013,2014,2015,2016,2017,{"$f":"AC61+1","v":2018},{"$f":"AD61+1","v":2019},{"$f":"AE61+1","v":2020}]
["C33","Reparatur und Installation von Maschinen und Ausrüstungen",null,{"$f":"NR_Indexreihen!D20/NR_Indexreihen!C20","v":0.91666666666666674},{"$f":"NR_Indexreihen!E20/NR_Indexreihen!D20","v":0.93388429752066116},{"$f":"NR_Indexreihen!F20/NR_Indexreihen!E20","v":0.9336283185840708},{"$f":"NR_Indexreihen!G20/NR_Indexreihen!F20","v":0.96682464454976313},{"$f":"NR_Indexreihen!H20/NR_Indexreihen!G20","v":0.97058823529411742},{"$f":"NR_Indexreihen!I20/NR_Indexreihen!H20","v":0.97979797979797989},{"$f":"NR_Indexreihen!J20/NR_Indexreihen!I20","v":1},{"$f":"NR_Indexreihen!K20/NR_Indexreihen!J20","v":1.0154639175257734},{"$f":"NR_Indexreihen!L20/NR_Indexreihen!K20","v":1.015228426395939},{"$f":"NR_Indexreihen!M20/NR_Indexreihen!L20","v":1.01},{"$f":"NR_Indexreihen!N20/NR_Indexreihen!M20","v":0.98019801980198007},{"$f":"NR_Indexreihen!O20/NR_Indexreihen!N20","v":0.98484848484848497},{"$f":"NR_Indexreihen!P20/NR_Indexreihen!O20","v":0.99487179487179489},{"$f":"NR_Indexreihen!Q20/NR_Indexreihen!P20","v":0.98453608247422686},{"$f":"NR_Indexreihen!R20/NR_Indexreihen!Q20","v":1.0104712041884816},{"$f":"NR_Indexreihen!S20/NR_Indexreihen!R20","v":1.0207253886010363},{"$f":"NR_Indexreihen!T20/NR_Indexreihen!S20","v":1.0761421319796953},{"$f":"NR_Indexreihen!U20/NR_Indexreihen!T20","v":1.0896226415094339},{"$f":"NR_Indexreihen!V20/NR_Indexreihen!U20","v":1.0086580086580088},{"$f":"NR_Indexreihen!W20/NR_Indexreihen!V20","v":1.0300429184549358},{"$f":"NR_Indexreihen!X20/NR_Indexreihen!W20","v":1.0291666666666666},{"$f":"NR_Indexreihen!Y20/NR_Indexreihen!X20","v":1.0121457489878543},{"$f":"NR_Indexreihen!Z20/NR_Indexreihen!Y20","v":1},{"$f":"NR_Indexreihen!AA20/NR_Indexreihen!Z20","v":0.99199999999999999},{"$f":"NR_Indexreihen!AB20/NR_Indexreihen!AA20","v":1},{"$f":"NR_Indexreihen!AC20/NR_Indexreihen!AB20","v":1.0040322580645162},{"$f":"NR_Indexreihen!AD20/NR_Indexreihen!AC20","v":1.0040160642570279},{"$f":"NR_Indexreihen!AE20/NR_Indexreihen!AD20","v":{"$error":"#VALUE!"}},{"$f":"NR_Indexreihen!AF20/NR_Indexreihen!AE20","v":{"$error":"#VALUE!"}}]
["G45","Handel mit Kraftfahrzeugen; Instandhaltung und Reparatur von Kraftfahrzeugen",null,{"$f":"NR_Indexreihen!D21/NR_Indexreihen!C21","v":0.986784140969163},{"$f":"NR_Indexreihen!E21/NR_Indexreihen!D21","v":1.0014880952380951},{"$f":"NR_Indexreihen!F21/NR_Indexreihen!E21","v":1},{"$f":"NR_Indexreihen!G21/NR_Indexreihen!F21","v":0.99702823179791988},{"$f":"NR_Indexreihen!H21/NR_Indexreihen!G21","v":1.014903129657228},{"$f":"NR_Indexreihen!I21/NR_Indexreihen!H21","v":1.0234948604992657},{"$f":"NR_Indexreihen!J21/NR_Indexreihen!I21","v":1.0286944045911046},{"$f":"NR_Indexreihen!K21/NR_Indexreihen!J21","v":1.0404463040446306},{"$f":"NR_Indexreihen!L21/NR_Indexreihen!K21","v":1.0402144772117963},{"$f":"NR_Indexreihen!M21/NR_Indexreihen!L21","v":1.0025773195876286},{"$f":"NR_Indexreihen!N21/NR_Indexreihen!M21","v":1.0179948586118253},{"$f":"NR_Indexreihen!O21/NR_Indexreihen!N21","v":1.0037878787878789},{"$f":"NR_Indexreihen!P21/NR_Indexreihen!O21","v":1.010062893081761},{"$f":"NR_Indexreihen!Q21/NR_Indexreihen!P21","v":0.99750933997509339},{"$f":"NR_Indexreihen!R21/NR_Indexreihen!Q21","v":1.0087390761548065},{"$f":"NR_Indexreihen!S21/NR_Indexreihen!R21","v":1.0173267326732673},{"$f":"NR_Indexreihen!T21/NR_Indexreihen!S21","v":1},{"$f":"NR_Indexreihen!U21/NR_Indexreihen!T21","v":0.97688564476885642},{"$f":"NR_Indexreihen!V21/NR_Indexreihen!U21","v":0.99377334993773347},{"$f":"NR_Indexreihen!W21/NR_Indexreihen!V21","v":1.0137844611528821},{"$f":"NR_Indexreihen!X21/NR_Indexreihen!W21","v":1.0135970333745365},{"$f":"NR_Indexreihen!Y21/NR_Indexreihen!X21","v":1.0024390243902439},{"$f":"NR_Indexreihen!Z21/NR_Indexreihen!Y21","v":1.0036496350364963},{"$f":"NR_Indexreihen!AA21/NR_Indexreihen!Z21","v":1.0012121212121212},{"$f":"NR_Indexreihen!AB21/NR_Indexreihen!AA21","v":1.0169491525423728},{"$f":"NR_Indexreihen!AC21/NR_Indexreihen!AB21","v":1.0166666666666666},{"$f":"NR_Indexreihen!AD21/NR_Indexreihen!AC21","v":1.0093676814988291},{"$f":"NR_Indexreihen!AE21/NR_Indexreihen!AD21","v":{"$error":"#VALUE!"}},{"$f":"NR_Indexreihen!AF21/NR_Indexreihen!AE21","v":{"$error":"#VALUE!"}}]
["G47","Einzelhandel (ohne Handel mit Kraftfahrzeugen)",null,{"$f":"NR_Indexreihen!D22/NR_Indexreihen!C22","v":1.0079529737206083},{"$f":"NR_Indexreihen!E22/NR_Indexreihen!D22","v":1.0078902229845628},{"$f":"NR_Indexreihen!F22/NR_Indexreihen!E22","v":1.0190605854322667},{"$f":"NR_Indexreihen!G22/NR_Indexreihen!F22","v":1.0110220440881765},{"$f":"NR_Indexreihen!H22/NR_Indexreihen!G22","v":1.009250082590023},{"$f":"NR_Indexreihen!I22/NR_Indexreihen!H22","v":1.0088379705400983},{"$f":"NR_Indexreihen!J22/NR_Indexreihen!I22","v":1.0110317975340688},{"$f":"NR_Indexreihen!K22/NR_Indexreihen!J22","v":1.0134788189987163},{"$f":"NR_Indexreihen!L22/NR_Indexreihen!K22","v":1.0269157694743507},{"$f":"NR_Indexreihen!M22/NR_Indexreihen!L22","v":0.98797409805735426},{"$f":"NR_Indexreihen!N22/NR_Indexreihen!M22","v":0.99594257178526846},{"$f":"NR_Indexreihen!O22/NR_Indexreihen!N22","v":0.9774365402695081},{"$f":"NR_Indexreihen!P22/NR_Indexreihen!O22","v":1.0054504648925935},{"$f":"NR_Indexreihen!Q22/NR_Indexreihen!P22","v":0.9910714285714286},{"$f":"NR_Indexreihen!R22/NR_Indexreihen!Q22","v":0.99806949806949818},{"$f":"NR_Indexreihen!S22/NR_Indexreihen!R22","v":1.006447453255964},{"$f":"NR_Indexreihen!T22/NR_Indexreihen!S22","v":1.0070467648942987},{"$f":"NR_Indexreihen!U22/NR_Indexreihen!T22","v":1.0054071246819338},{"$f":"NR_Indexreihen!V22/NR_Indexreihen!U22","v":1.0025308446694083},{"$f":"NR_Indexreihen!W22/NR_Indexreihen!V22","v":1.0078889239507731},{"$f":"NR_Indexreihen!X22/NR_Indexreihen!W22","v":1.0003130870381967},{"$f":"NR_Indexreihen!Y22/NR_Indexreihen!X22","v":0.99624413145539903},{"$f":"NR_Indexreihen!Z22/NR_Indexreihen!Y22","v":1.0053408733898836},{"$f":"NR_Indexreihen!AA22/NR_Indexreihen!Z22","v":1.0021875},{"$f":"NR_Indexreihen!AB22/NR_Indexreihen!AA22","v":1.0053009042719052},{"$f":"NR_Indexreihen!AC22/NR_Indexreihen!AB22","v":1.000620347394541},{"$f":"NR_Indexreihen!AD22/NR_Indexreihen!AC22","v":1.000309981401116},{"$f":"NR_Indexreihen!AE22/NR_Indexreihen!AD22","v":{"$error":"#VALUE!"}},{"$f":"NR_Indexreihen!AF22/NR_Indexreihen!AE22","v":{"$error":"#VALUE!"}}]
["H49","Landverkehr und Transport in Rohrfernleitungen",null,{"$f":"NR_Indexreihen!D23/NR_Indexreihen!C23","v":0.96095829636202301},{"$f":"NR_Indexreihen!E23/NR_Indexreihen!D23","v":0.9630655586334258},{"$f":"NR_Indexreihen!F23/NR_Indexreihen!E23","v":0.96452540747842774},{"$f":"NR_Indexreihen!G23/NR_Indexreihen!F23","v":0.97316103379721652},{"$f":"NR_Indexreihen!H23/NR_Indexreihen!G23","v":0.9662921348314607},{"$f":"NR_Indexreihen!I23/NR_Indexreihen!H23","v":0.9608879492600424},{"$f":"NR_Indexreihen!J23/NR_Indexreihen!I23","v":1.011001100110011},{"$f":"NR_Indexreihen!K23/NR_Indexreihen!J23","v":0.9303590859630031},{"$f":"NR_Indexreihen!L23/NR_Indexreihen!K23","v":0.9801169590643275},{"$f":"NR_Indexreihen!M23/NR_Indexreihen!L23","v":0.98448687350835329},{"$f":"NR_Indexreihen!N23/NR_Indexreihen!M23","v":0.98909090909090902},{"$f":"NR_Indexreihen!O23/NR_Indexreihen!N23","v":0.99142156862745101},{"$f":"NR_Indexreihen!P23/NR_Indexreihen!O23","v":1.0061804697156984},{"$f":"NR_Indexreihen!Q23/NR_Indexreihen!P23","v":0.98771498771498778},{"$f":"NR_Indexreihen!R23/NR_Indexreihen!Q23","v":1.0037313432835822},{"$f":"NR_Indexreihen!S23/NR_Indexreihen!R23","v":1.0148698884758365},{"$f":"NR_Indexreihen!T23/NR_Indexreihen!S23","v":1.0085470085470085},{"$f":"NR_Indexreihen!U23/NR_Indexreihen!T23","v":1.0036319612590798},{"$f":"NR_Indexreihen!V23/NR_Indexreihen!U23","v":1.016887816646562},{"$f":"NR_Indexreihen!W23/NR_Indexreihen!V23","v":1.0177935943060499},{"$f":"NR_Indexreihen!X23/NR_Indexreihen!W23","v":1.013986013986014},{"$f":"NR_Indexreihen!Y23/NR_Indexreihen!X23","v":1.0137931034482759},{"$f":"NR_Indexreihen!Z23/NR_Indexreihen!Y23","v":1.0056689342403629},{"$f":"NR_Indexreihen!AA23/NR_Indexreihen!Z23","v":1.012401352874859},{"$f":"NR_Indexreihen!AB23/NR_Indexreihen!AA23","v":1.0155902004454342},{"$f":"NR_Indexreihen!AC23/NR_Indexreihen!AB23","v":1.013157894736842},{"$f":"NR_Indexreihen!AD23/NR_Indexreihen!AC23","v":1.0205627705627707},{"$f":"NR_Indexreihen!AE23/NR_Indexreihen!AD23","v":{"$error":"#VALUE!"}},{"$f":"NR_Indexreihen!AF23/NR_Indexreihen!AE23","v":{"$error":"#VALUE!"}}]
["H52","Lagerei sowie Erbringung von sonstigen Dienstleistungen für den Verkehr",null,{"$f":"NR_Indexreihen!D24/NR_Indexreihen!C24","v":1.017278617710583},{"$f":"NR_Indexreihen!E24/NR_Indexreihen!D24","v":0.98938428874734607},{"$f":"NR_Indexreihen!F24/NR_Indexreihen!E24","v":0.99785407725321895},{"$f":"NR_Indexreihen!G24/NR_Indexreihen!F24","v":0.98279569892473106},{"$f":"NR_Indexreihen!H24/NR_Indexreihen!G24","v":0.99562363238512042},{"$f":"NR_Indexreihen!I24/NR_Indexreihen!H24","v":1.0065934065934066},{"$f":"NR_Indexreihen!J24/NR_Indexreihen!I24","v":1.0327510917030569},{"$f":"NR_Indexreihen!K24/NR_Indexreihen!J24","v":1.1987315010570825},{"$f":"NR_Indexreihen!L24/NR_Indexreihen!K24","v":1.0246913580246915},{"$f":"NR_Indexreihen!M24/NR_Indexreihen!L24","v":1.0034423407917383},{"$f":"NR_Indexreihen!N24/NR_Indexreihen!M24","v":0.99485420240137235},{"$f":"NR_Indexreihen!O24/NR_Indexreihen!N24","v":1.0068965517241377},{"$f":"NR_Indexreihen!P24/NR_Indexreihen!O24","v":1.0034246575342465},{"$f":"NR_Indexreihen!Q24/NR_Indexreihen!P24","v":1.0034129692832765},{"$f":"NR_Indexreihen!R24/NR_Indexreihen!Q24","v":1.022108843537415},{"$f":"NR_Indexreihen!S24/NR_Indexreihen!R24","v":1.0299500831946755},{"$f":"NR_Indexreihen!T24/NR_Indexreihen!S24","v":1.0258481421647818},{"$f":"NR_Indexreihen!U24/NR_Indexreihen!T24","v":0.96850393700787407},{"$f":"NR_Indexreihen!V24/NR_Indexreihen!U24","v":0.98373983739837401},{"$f":"NR_Indexreihen!W24/NR_Indexreihen!V24","v":1.0380165289256198},{"$f":"NR_Indexreihen!X24/NR_Indexreihen!W24","v":1.0222929936305734},{"$f":"NR_Indexreihen!Y24/NR_Indexreihen!X24","v":1.0124610591900312},{"$f":"NR_Indexreihen!Z24/NR_Indexreihen!Y24","v":1.0338461538461536},{"$f":"NR_Indexreihen!AA24/NR_Indexreihen!Z24","v":1.0372023809523809},{"$f":"NR_Indexreihen!AB24/NR_Indexreihen!AA24","v":1.0344332855093257},{"$f":"NR_Indexreihen!AC24/NR_Indexreihen!AB24","v":1.0249653259361999},{"$f":"NR_Indexreihen!AD24/NR_Indexreihen!AC24","v":1.0473612990527739},{"$f":"NR_Indexreihen!AE24/NR_Indexreihen!AD24","v":{"$error":"#VALUE!"}},{"$f":"NR_Indexreihen!AF24/NR_Indexreihen!AE24","v":{"$error":"#VALUE!"}}]
["J61","Telekommunikation",null,{"$f":"NR_Indexreihen!D25/NR_Indexreihen!C25","v":0.97865853658536595},{"$f":"NR_Indexreihen!E25/NR_Indexreihen!D25","v":0.97819314641744537},{"$f":"NR_Indexreihen!F25/NR_Indexreihen!E25","v":0.96178343949044598},{"$f":"NR_Indexreihen!G25/NR_Indexreihen!F25","v":0.94370860927152311},{"$f":"NR_Indexreihen!H25/NR_Indexreihen!G25","v":0.94035087719298249},{"$f":"NR_Indexreihen!I25/NR_Indexreihen!H25","v":0.92164179104477606},{"$f":"NR_Indexreihen!J25/NR_Indexreihen!I25","v":0.94736842105263153},{"$f":"NR_Indexreihen!K25/NR_Indexreihen!J25","v":0.95299145299145294},{"$f":"NR_Indexreihen!L25/NR_Indexreihen!K25","v":0.99551569506726456},{"$f":"NR_Indexreihen!M25/NR_Indexreihen!L25","v":1.0135135135135136},{"$f":"NR_Indexreihen!N25/NR_Indexreihen!M25","v":0.96444444444444455},{"$f":"NR_Indexreihen!O25/NR_Indexreihen!N25","v":0.94930875576036866},{"$f":"NR_Indexreihen!P25/NR_Indexreihen!O25","v":0.96116504854368934},{"$f":"NR_Indexreihen!Q25/NR_Indexreihen!P25","v":0.98484848484848486},{"$f":"NR_Indexreihen!R25/NR_Indexreihen!Q25","v":1.01025641025641},{"$f":"NR_Indexreihen!S25/NR_Indexreihen!R25","v":1.0152284263959392},{"$f":"NR_Indexreihen!T25/NR_Indexreihen!S25","v":0.97},{"$f":"NR_Indexreihen!U25/NR_Indexreihen!T25","v":0.87628865979381432},{"$f":"NR_Indexreihen!V25/NR_Indexreihen!U25","v":0.8294117647058824},{"$f":"NR_Indexreihen!W25/NR_Indexreihen!V25","v":0.94326241134751765},{"$f":"NR_Indexreihen!X25/NR_Indexreihen!W25","v":0.94736842105263153},{"$f":"NR_Indexreihen!Y25/NR_Indexreihen!X25","v":0.98412698412698407},{"$f":"NR_Indexreihen!Z25/NR_Indexreihen!Y25","v":0.99193548387096764},{"$f":"NR_Indexreihen!AA25/NR_Indexreihen!Z25","v":0.99186991869918717},{"$f":"NR_Indexreihen!AB25/NR_Indexreihen!AA25","v":0.97540983606557374},{"$f":"NR_Indexreihen!AC25/NR_Indexreihen!AB25","v":0.95798319327731107},{"$f":"NR_Indexreihen!AD25/NR_Indexreihen!AC25","v":0.95614035087719285},{"$f":"NR_Indexreihen!AE25/NR_Indexreihen!AD25","v":{"$error":"#VALUE!"}},{"$f":"NR_Indexreihen!AF25/NR_Indexreihen!AE25","v":{"$error":"#VALUE!"}}]
["J62-01","IT- und Informationsdienstleister",null,{"$f":"NR_Indexreihen!D26/NR_Indexreihen!C26","v":1.0476190476190474},{"$f":"NR_Indexreihen!E26/NR_Indexreihen!D26","v":1.041666666666667},{"$f":"NR_Indexreihen!F26/NR_Indexreihen!E26","v":1.0472727272727274},{"$f":"NR_Indexreihen!G26/NR_Indexreihen!F26","v":1.0451388888888888},{"$f":"NR_Indexreihen!H26/NR_Indexreihen!G26","v":1.0398671096345513},{"$f":"NR_Indexreihen!I26/NR_Indexreihen!H26","v":1.0351437699680512},{"$f":"NR_Indexreihen!J26/NR_Indexreihen!I26","v":1.095679012345679},{"$f":"NR_Indexreihen!K26/NR_Indexreihen!J26","v":1.1380281690140843},{"$f":"NR_Indexreihen!L26/NR_Indexreihen!K26","v":1.165841584158416},{"$f":"NR_Indexreihen!M26/NR_Indexreihen!L26","v":1.0997876857749469},{"$f":"NR_Indexreihen!N26/NR_Indexreihen!M26","v":1.028957528957529},{"$f":"NR_Indexreihen!O26/NR_Indexreihen!N26","v":1.0112570356472794},{"$f":"NR_Indexreihen!P26/NR_Indexreihen!O26","v":1.0315398886827456},{"$f":"NR_Indexreihen!Q26/NR_Indexreihen!P26","v":1.0323741007194245},{"$f":"NR_Indexreihen!R26/NR_Indexreihen!Q26","v":1.0418118466898956},{"$f":"NR_Indexreihen!S26/NR_Indexreihen!R26","v":1.0418060200668897},{"$f":"NR_Indexreihen!T26/NR_Indexreihen!S26","v":1.0385232744783306},{"$f":"NR_Indexreihen!U26/NR_Indexreihen!T26","v":1.0061823802163834},{"$f":"NR_Indexreihen!V26/NR_Indexreihen!U26","v":1.0015360983102917},{"$f":"NR_Indexreihen!W26/NR_Indexreihen!V26","v":1.0383435582822085},{"$f":"NR_Indexreihen!X26/NR_Indexreihen!W26","v":1.0413589364844906},{"$f":"NR_Indexreihen!Y26/NR_Indexreihen!X26","v":1.0425531914893618},{"$f":"NR_Indexreihen!Z26/NR_Indexreihen!Y26","v":1.036734693877551},{"$f":"NR_Indexreihen!AA26/NR_Indexreihen!Z26","v":1.0288713910761156},{"$f":"NR_Indexreihen!AB26/NR_Indexreihen!AA26","v":1.0420918367346939},{"$f":"NR_Indexreihen!AC26/NR_Indexreihen!AB26","v":1.050183598531212},{"$f":"NR_Indexreihen!AD26/NR_Indexreihen!AC26","v":1.0606060606060606},{"$f":"NR_Indexreihen!AE26/NR_Indexreihen!AD26","v":{"$error":"#VALUE!"}},{"$f":"NR_Indexreihen!AF26/NR_Indexreihen!AE26","v":{"$error":"#VALUE!"}}]
["M69-01","Unternehmensnahe Beratungsleistungen ",null,{"$f":"NR_Indexreihen!D27/NR_Indexreihen!C27","v":1.0488400488400489},{"$f":"NR_Indexreihen!E27/NR_Indexreihen!D27","v":1.0430733410942958},{"$f":"NR_Indexreihen!F27/NR_Indexreihen!E27","v":1.060267857142857},{"$f":"NR_Indexreihen!G27/NR_Indexreihen!F27","v":1.0557894736842106},{"$f":"NR_Indexreihen!H27/NR_Indexreihen!G27","v":1.0528414755732802},{"$f":"NR_Indexreihen!I27/NR_Indexreihen!H27","v":1.0464015151515151},{"$f":"NR_Indexreihen!J27/NR_Indexreihen!I27","v":1.0633484162895928},{"$f":"NR_Indexreihen!K27/NR_Indexreihen!J27","v":1.0825531914893618},{"$f":"NR_Indexreihen!L27/NR_Indexreihen!K27","v":1.0778301886792452},{"$f":"NR_Indexreihen!M27/NR_Indexreihen!L27","v":1.0299051787016775},{"$f":"NR_Indexreihen!N27/NR_Indexreihen!M27","v":1.0233711048158642},{"$f":"NR_Indexreihen!O27/NR_Indexreihen!N27","v":1.0269896193771628},{"$f":"NR_Indexreihen!P27/NR_Indexreihen!O27","v":1.0384097035040432},{"$f":"NR_Indexreihen!Q27/NR_Indexreihen!P27","v":1.0259571706683972},{"$f":"NR_Indexreihen!R27/NR_Indexreihen!Q27","v":1.0341555977229602},{"$f":"NR_Indexreihen!S27/NR_Indexreihen!R27","v":1.0379204892966361},{"$f":"NR_Indexreihen!T27/NR_Indexreihen!S27","v":1.0383028874484386},{"$f":"NR_Indexreihen!U27/NR_Indexreihen!T27","v":1.0124858115777524},{"$f":"NR_Indexreihen!V27/NR_Indexreihen!U27","v":1.0201793721973094},{"$f":"NR_Indexreihen!W27/NR_Indexreihen!V27","v":1.0236263736263738},{"$f":"NR_Indexreihen!X27/NR_Indexreihen!W27","v":1.0263016639828233},{"$f":"NR_Indexreihen!Y27/NR_Indexreihen!X27","v":1.0298117154811717},{"$f":"NR_Indexreihen!Z27/NR_Indexreihen!Y27","v":1.0228542407313357},{"$f":"NR_Indexreihen!AA27/NR_Indexreihen!Z27","v":1.0243296921549156},{"$f":"NR_Indexreihen!AB27/NR_Indexreihen!AA27","v":1.0155113911778963},{"$f":"NR_Indexreihen!AC27/NR_Indexreihen!AB27","v":1.0238663484486872},{"$f":"NR_Indexreihen!AD27/NR_Indexreihen!AC27","v":1.0298368298368301},{"$f":"NR_Indexreihen!AE27/NR_Indexreihen!AD27","v":{"$error":"#VALUE!"}},{"$f":"NR_Indexreihen!AF27/NR_Indexreihen!AE27","v":{"$error":"#VALUE!"}}]
["M73","Werbung und Marktforschung",null,{"$f":"NR_Indexreihen!D28/NR_Indexreihen!C28","v":1.0560747663551402},{"$f":"NR_Indexreihen!E28/NR_Indexreihen!D28","v":1.0442477876106195},{"$f":"NR_Indexreihen!F28/NR_Indexreihen!E28","v":1.0932203389830508},{"$f":"NR_Indexreihen!G28/NR_Indexreihen!F28","v":1.069767441860465},{"$f":"NR_Indexreihen!H28/NR_Indexreihen!G28","v":1.0797101449275364},{"$f":"NR_Indexreihen!I28/NR_Indexreihen!H28","v":1.0671140939597314},{"$f":"NR_Indexreihen!J28/NR_Indexreihen!I28","v":1.0817610062893084},{"$f":"NR_Indexreihen!K28/NR_Indexreihen!J28","v":1.1104651162790697},{"$f":"NR_Indexreihen!L28/NR_Indexreihen!K28","v":1.1884816753926701},{"$f":"NR_Indexreihen!M28/NR_Indexreihen!L28","v":1.0881057268722467},{"$f":"NR_Indexreihen!N28/NR_Indexreihen!M28","v":1.0121457489878543},{"$f":"NR_Indexreihen!O28/NR_Indexreihen!N28","v":1.008},{"$f":"NR_Indexreihen!P28/NR_Indexreihen!O28","v":1.0357142857142858},{"$f":"NR_Indexreihen!Q28/NR_Indexreihen!P28","v":1.0268199233716473},{"$f":"NR_Indexreihen!R28/NR_Indexreihen!Q28","v":1.044776119402985},{"$f":"NR_Indexreihen!S28/NR_Indexreihen!R28","v":1.0178571428571428},{"$f":"NR_Indexreihen!T28/NR_Indexreihen!S28","v":0.98596491228070182},{"$f":"NR_Indexreihen!U28/NR_Indexreihen!T28","v":0.92526690391459077},{"$f":"NR_Indexreihen!V28/NR_Indexreihen!U28","v":0.98846153846153839},{"$f":"NR_Indexreihen!W28/NR_Indexreihen!V28","v":1},{"$f":"NR_Indexreihen!X28/NR_Indexreihen!W28","v":1},{"$f":"NR_Indexreihen!Y28/NR_Indexreihen!X28","v":0.98443579766536982},{"$f":"NR_Indexreihen!Z28/NR_Indexreihen!Y28","v":0.98814229249011853},{"$f":"NR_Indexreihen!AA28/NR_Indexreihen!Z28","v":0.98799999999999999},{"$f":"NR_Indexreihen!AB28/NR_Indexreihen!AA28","v":1.0121457489878543},{"$f":"NR_Indexreihen!AC28/NR_Indexreihen!AB28","v":0.99199999999999988},{"$f":"NR_Indexreihen!AD28/NR_Indexreihen!AC28","v":0.98790322580645173},{"$f":"NR_Indexreihen!AE28/NR_Indexreihen!AD28","v":{"$error":"#VALUE!"}},{"$f":"NR_Indexreihen!AF28/NR_Indexreihen!AE28","v":{"$error":"#VALUE!"}}]
["M74-01","Freiberufl.,wiss.,techn.DL a.n.g., Veterinärwesen",null,{"$f":"NR_Indexreihen!D29/NR_Indexreihen!C29","v":1.0632911392405064},{"$f":"NR_Indexreihen!E29/NR_Indexreihen!D29","v":1.0476190476190477},{"$f":"NR_Indexreihen!F29/NR_Indexreihen!E29","v":1.0568181818181819},{"$f":"NR_Indexreihen!G29/NR_Indexreihen!F29","v":1.0537634408602148},{"$f":"NR_Indexreihen!H29/NR_Indexreihen!G29","v":1.0408163265306123},{"$f":"NR_Indexreihen!I29/NR_Indexreihen!H29","v":1.0588235294117647},{"$f":"NR_Indexreihen!J29/NR_Indexreihen!I29","v":1.0555555555555556},{"$f":"NR_Indexreihen!K29/NR_Indexreihen!J29","v":1.0350877192982457},{"$f":"NR_Indexreihen!L29/NR_Indexreihen!K29","v":1.0593220338983049},{"$f":"NR_Indexreihen!M29/NR_Indexreihen!L29","v":1.032},{"$f":"NR_Indexreihen!N29/NR_Indexreihen!M29","v":1.0232558139534882},{"$f":"NR_Indexreihen!O29/NR_Indexreihen!N29","v":1.053030303030303},{"$f":"NR_Indexreihen!P29/NR_Indexreihen!O29","v":1.0503597122302157},{"$f":"NR_Indexreihen!Q29/NR_Indexreihen!P29","v":1.047945205479452},{"$f":"NR_Indexreihen!R29/NR_Indexreihen!Q29","v":1.0392156862745099},{"$f":"NR_Indexreihen!S29/NR_Indexreihen!R29","v":1.0314465408805031},{"$f":"NR_Indexreihen!T29/NR_Indexreihen!S29","v":1.0365853658536586},{"$f":"NR_Indexreihen!U29/NR_Indexreihen!T29","v":1.0823529411764707},{"$f":"NR_Indexreihen!V29/NR_Indexreihen!U29","v":1.0489130434782608},{"$f":"NR_Indexreihen!W29/NR_Indexreihen!V29","v":1.0310880829015545},{"$f":"NR_Indexreihen!X29/NR_Indexreihen!W29","v":1.0452261306532664},{"$f":"NR_Indexreihen!Y29/NR_Indexreihen!X29","v":1.0384615384615385},{"$f":"NR_Indexreihen!Z29/NR_Indexreihen!Y29","v":1.0277777777777779},{"$f":"NR_Indexreihen!AA29/NR_Indexreihen!Z29","v":1.0135135135135134},{"$f":"NR_Indexreihen!AB29/NR_Indexreihen!AA29","v":1.0266666666666666},{"$f":"NR_Indexreihen!AC29/NR_Indexreihen!AB29","v":1.025974025974026},{"$f":"NR_Indexreihen!AD29/NR_Indexreihen!AC29","v":1.0253164556962027},{"$f":"NR_Indexreihen!AE29/NR_Indexreihen!AD29","v":{"$error":"#VALUE!"}},{"$f":"NR_Indexreihen!AF29/NR_Indexreihen!AE29","v":{"$error":"#VALUE!"}}]
["L","Grundstücks- und Wohnungswesen",null,{"$f":"NR_Indexreihen!D30/NR_Indexreihen!C30","v":1.0719696969696968},{"$f":"NR_Indexreihen!E30/NR_Indexreihen!D30","v":1.0777385159010602},{"$f":"NR_Indexreihen!F30/NR_Indexreihen!E30","v":1.0688524590163935},{"$f":"NR_Indexreihen!G30/NR_Indexreihen!F30","v":1.0674846625766872},{"$f":"NR_Indexreihen!H30/NR_Indexreihen!G30","v":1.0373563218390804},{"$f":"NR_Indexreihen!I30/NR_Indexreihen!H30","v":1.0858725761772854},{"$f":"NR_Indexreihen!J30/NR_Indexreihen!I30","v":1.0867346938775511},{"$f":"NR_Indexreihen!K30/NR_Indexreihen!J30","v":1.0610328638497653},{"$f":"NR_Indexreihen!L30/NR_Indexreihen!K30","v":1.0221238938053099},{"$f":"NR_Indexreihen!M30/NR_Indexreihen!L30","v":0.9870129870129869},{"$f":"NR_Indexreihen!N30/NR_Indexreihen!M30","v":1.0021929824561404},{"$f":"NR_Indexreihen!O30/NR_Indexreihen!N30","v":1},{"$f":"NR_Indexreihen!P30/NR_Indexreihen!O30","v":1.0065645514223194},{"$f":"NR_Indexreihen!Q30/NR_Indexreihen!P30","v":1.0065217391304349},{"$f":"NR_Indexreihen!R30/NR_Indexreihen!Q30","v":1.017278617710583},{"$f":"NR_Indexreihen!S30/NR_Indexreihen!R30","v":1.0063694267515924},{"$f":"NR_Indexreihen!T30/NR_Indexreihen!S30","v":1.0063291139240507},{"$f":"NR_Indexreihen!U30/NR_Indexreihen!T30","v":0.97274633123689735},{"$f":"NR_Indexreihen!V30/NR_Indexreihen!U30","v":0.99784482758620685},{"$f":"NR_Indexreihen!W30/NR_Indexreihen!V30","v":0.9956803455723543},{"$f":"NR_Indexreihen!X30/NR_Indexreihen!W30","v":1.0065075921908893},{"$f":"NR_Indexreihen!Y30/NR_Indexreihen!X30","v":1.0021551724137931},{"$f":"NR_Indexreihen!Z30/NR_Indexreihen!Y30","v":1.0064516129032257},{"$f":"NR_Indexreihen!AA30/NR_Indexreihen!Z30","v":1},{"$f":"NR_Indexreihen!AB30/NR_Indexreihen!AA30","v":0.99786324786324787},{"$f":"NR_Indexreihen!AC30/NR_Indexreihen!AB30","v":1.0128479657387581},{"$f":"NR_Indexreihen!AD30/NR_Indexreihen!AC30","v":1.0084566596194502},{"$f":"NR_Indexreihen!AE30/NR_Indexreihen!AD30","v":1.0083857442348008},{"$f":"NR_Indexreihen!AF30/NR_Indexreihen!AE30","v":0.99376299376299382}]
[]
["∆ Kapitalindex (Bruttoanlagevermögen, preisbereinigt)"]
["Nr. (WZ 2008)","Branche",1991,{"$f":"C75+1","v":1992},{"$f":"D75+1","v":1993},1994,1995,1996,1997,1998,1999,2000,2001,2002,2003,2004,2005,2006,2007,2008,2009,2010,2011,2012,2013,2014,2015,2016,2017,{"$f":"AC75+1","v":2018},{"$f":"AD75+1","v":2019},{"$f":"AE75+1","v":2020}]
["C33","Reparatur und Installation von Maschinen und Ausrüstungen",null,{"$f":"NR_Indexreihen!D34/NR_Indexreihen!C34","v":1.0348713869000266},{"$f":"NR_Indexreihen!E34/NR_Indexreihen!D34","v":1.0219090326713647},{"$f":"NR_Indexreihen!F34/NR_Indexreihen!E34","v":1.0155466399197592},{"$f":"NR_Indexreihen!G34/NR_Indexreihen!F34","v":1.0235802469135802},{"$f":"NR_Indexreihen!H34/NR_Indexreihen!G34","v":1.0080810517428538},{"$f":"NR_Indexreihen!I34/NR_Indexreihen!H34","v":0.9997607083034219},{"$f":"NR_Indexreihen!J34/NR_Indexreihen!I34","v":0.99904260411680235},{"$f":"NR_Indexreihen!K34/NR_Indexreihen!J34","v":1.0016770483948252},{"$f":"NR_Indexreihen!L34/NR_Indexreihen!K34","v":1.001435063381966},{"$f":"NR_Indexreihen!M34/NR_Indexreihen!L34","v":1.0059708621925005},{"$f":"NR_Indexreihen!N34/NR_Indexreihen!M34","v":0.99726970560303907},{"$f":"NR_Indexreihen!O34/NR_Indexreihen!N34","v":0.99297702654445896},{"$f":"NR_Indexreihen!P34/NR_Indexreihen!O34","v":0.99184847758331329},{"$f":"NR_Indexreihen!Q34/NR_Indexreihen!P34","v":0.99601160261058741},{"$f":"NR_Indexreihen!R34/NR_Indexreihen!Q34","v":1.0010921004732436},{"$f":"NR_Indexreihen!S34/NR_Indexreihen!R34","v":1.0096969696969698},{"$f":"NR_Indexreihen!T34/NR_Indexreihen!S34","v":1.0212484993997599},{"$f":"NR_Indexreihen!U34/NR_Indexreihen!T34","v":1.0292700129305279},{"$f":"NR_Indexreihen!V34/NR_Indexreihen!U34","v":1.0188442211055275},{"$f":"NR_Indexreihen!W34/NR_Indexreihen!V34","v":1.0313866158502412},{"$f":"NR_Indexreihen!X34/NR_Indexreihen!W34","v":1.0130420606455819},{"$f":"NR_Indexreihen!Y34/NR_Indexreihen!X34","v":1.010943031863534},{"$f":"NR_Indexreihen!Z34/NR_Indexreihen!Y34","v":1.0104000848986521},{"$f":"NR_Indexreihen!AA34/NR_Indexreihen!Z34","v":1.0503098414032139},{"$f":"NR_Indexreihen!AB34/NR_Indexreihen!AA34","v":1.0379},{"$f":"NR_Indexreihen!AC34/NR_Indexreihen!AB34","v":0.97678003661239032},{"$f":"NR_Indexreihen!AD34/NR_Indexreihen!AC34","v":0.97583349773130801},{"$f":"NR_Indexreihen!AE34/NR_Indexreihen!AD34","v":{"$error":"#VALUE!"}},{"$f":"NR_Indexreihen!AF34/NR_Indexreihen!AE34","v":{"$error":"#VALUE!"}}]
["G45","Handel mit Kraftfahrzeugen; Instandhaltung und Reparatur von Kraftfahrzeugen",null,{"$f":"NR_Indexreihen!D35/NR_Indexreihen!C35","v":1.0209263748883501},{"$f":"NR_Indexreihen!E35/NR_Indexreihen!D35","v":1.0246219222597175},{"$f":"NR_Indexreihen!F35/NR_Indexreihen!E35","v":1.0225664796291778},{"$f":"NR_Indexreihen!G35/NR_Indexreihen!F35","v":1.0176547775259455},{"$f":"NR_Indexreihen!H35/NR_Indexreihen!G35","v":1.0186379088031885},{"$f":"NR_Indexreihen!I35/NR_Indexreihen!H35","v":1.0208285385500575},{"$f":"NR_Indexreihen!J35/NR_Indexreihen!I35","v":1.0255889978581898},{"$f":"NR_Indexreihen!K35/NR_Indexreihen!J35","v":1.0186854253682127},{"$f":"NR_Indexreihen!L35/NR_Indexreihen!K35","v":1.0132714717306861},{"$f":"NR_Indexreihen!M35/NR_Indexreihen!L35","v":1.0126717069534661},{"$f":"NR_Indexreihen!N35/NR_Indexreihen!M35","v":1.0083070452155627},{"$f":"NR_Indexreihen!O35/NR_Indexreihen!N35","v":1.005422880383773},{"$f":"NR_Indexreihen!P35/NR_Indexreihen!O35","v":1.0046675656052277},{"$f":"NR_Indexreihen!Q35/NR_Indexreihen!P35","v":1.0033037373528806},{"$f":"NR_Indexreihen!R35/NR_Indexreihen!Q35","v":1.0052479934142826},{"$f":"NR_Indexreihen!S35/NR_Indexreihen!R35","v":1.0045040434026},{"$f":"NR_Indexreihen!T35/NR_Indexreihen!S35","v":1.0020381127076328},{"$f":"NR_Indexreihen!U35/NR_Indexreihen!T35","v":0.99349130478999292},{"$f":"NR_Indexreihen!V35/NR_Indexreihen!U35","v":0.99979527075442731},{"$f":"NR_Indexreihen!W35/NR_Indexreihen!V35","v":1.0084980034811097},{"$f":"NR_Indexreihen!X35/NR_Indexreihen!W35","v":1.0016243654822334},{"$f":"NR_Indexreihen!Y35/NR_Indexreihen!X35","v":1.0007095073991488},{"$f":"NR_Indexreihen!Z35/NR_Indexreihen!Y35","v":1.0009115770282588},{"$f":"NR_Indexreihen!AA35/NR_Indexreihen!Z35","v":1.0119409026512853},{"$f":"NR_Indexreihen!AB35/NR_Indexreihen!AA35","v":1.0131999999999999},{"$f":"NR_Indexreihen!AC35/NR_Indexreihen!AB35","v":1.0122384524279511},{"$f":"NR_Indexreihen!AD35/NR_Indexreihen!AC35","v":1.0109204368174727},{"$f":"NR_Indexreihen!AE35/NR_Indexreihen!AD35","v":{"$error":"#VALUE!"}},{"$f":"NR_Indexreihen!AF35/NR_Indexreihen!AE35","v":{"$error":"#VALUE!"}}]
["G47","Einzelhandel (ohne Handel mit Kraftfahrzeugen)",null,{"$f":"NR_Indexreihen!D36/NR_Indexreihen!C36","v":1.0803313427085341},{"$f":"NR_Indexreihen!E36/NR_Indexreihen!D36","v":1.0763195435092725},{"$f":"NR_Indexreihen!F36/NR_Indexreihen!E36","v":1.0632869449966866},{"$f":"NR_Indexreihen!G36/NR_Indexreihen!F36","v":1.0534434403240884},{"$f":"NR_Indexreihen!H36/NR_Indexreihen!G36","v":1.0427451560420056},{"$f":"NR_Indexreihen!I36/NR_Indexreihen!H36","v":1.0428368794326242},{"$f":"NR_Indexreihen!J36/NR_Indexreihen!I36","v":1.0455658324265507},{"$f":"NR_Indexreihen!K36/NR_Indexreihen!J36","v":1.045661506439443},{"$f":"NR_Indexreihen!L36/NR_Indexreihen!K36","v":1.0454093057974621},{"$f":"NR_Indexreihen!M36/NR_Indexreihen!L36","v":1.0220159466857075},{"$f":"NR_Indexreihen!N36/NR_Indexreihen!M36","v":1.0135072193758734},{"$f":"NR_Indexreihen!O36/NR_Indexreihen!N36","v":1.0099954044117645},{"$f":"NR_Indexreihen!P36/NR_Indexreihen!O36","v":1.00273006483904},{"$f":"NR_Indexreihen!Q36/NR_Indexreihen!P36","v":1.0072603516732841},{"$f":"NR_Indexreihen!R36/NR_Indexreihen!Q36","v":1.0066448924428426},{"$f":"NR_Indexreihen!S36/NR_Indexreihen!R36","v":1.0109644215708213},{"$f":"NR_Indexreihen!T36/NR_Indexreihen!S36","v":1.0119521912350598},{"$f":"NR_Indexreihen!U36/NR_Indexreihen!T36","v":1.0138888888888888},{"$f":"NR_Indexreihen!V36/NR_Indexreihen!U36","v":1.0089526480422826},{"$f":"NR_Indexreihen!W36/NR_Indexreihen!V36","v":1.0141116100064143},{"$f":"NR_Indexreihen!X36/NR_Indexreihen!W36","v":1.0144423360742147},{"$f":"NR_Indexreihen!Y36/NR_Indexreihen!X36","v":1.0123662059648757},{"$f":"NR_Indexreihen!Z36/NR_Indexreihen!Y36","v":1.0150893040443441},{"$f":"NR_Indexreihen!AA36/NR_Indexreihen!Z36","v":1.0112245929821013},{"$f":"NR_Indexreihen!AB36/NR_Indexreihen!AA36","v":1.0170000000000001},{"$f":"NR_Indexreihen!AC36/NR_Indexreihen!AB36","v":1.0138643067846607},{"$f":"NR_Indexreihen!AD36/NR_Indexreihen!AC36","v":1.0096983803704782},{"$f":"NR_Indexreihen!AE36/NR_Indexreihen!AD36","v":{"$error":"#VALUE!"}},{"$f":"NR_Indexreihen!AF36/NR_Indexreihen!AE36","v":{"$error":"#VALUE!"}}]
["H49","Landverkehr und Transport in Rohrfernleitungen",null,{"$f":"NR_Indexreihen!D37/NR_Indexreihen!C37","v":1.0543329376312665},{"$f":"NR_Indexreihen!E37/NR_Indexreihen!D37","v":1.0480685951844795},{"$f":"NR_Indexreihen!F37/NR_Indexreihen!E37","v":1.0463598049747955},{"$f":"NR_Indexreihen!G37/NR_Indexreihen!F37","v":1.0450955615226662},{"$f":"NR_Indexreihen!H37/NR_Indexreihen!G37","v":1.0395979747600694},{"$f":"NR_Indexreihen!I37/NR_Indexreihen!H37","v":1.0354001599185869},{"$f":"NR_Indexreihen!J37/NR_Indexreihen!I37","v":1.0334877843302444},{"$f":"NR_Indexreihen!K37/NR_Indexreihen!J37","v":0.61578697099381841},{"$f":"NR_Indexreihen!L37/NR_Indexreihen!K37","v":1.027688913403199},{"$f":"NR_Indexreihen!M37/NR_Indexreihen!L37","v":1.0187848862172606},{"$f":"NR_Indexreihen!N37/NR_Indexreihen!M37","v":1.0162258982193657},{"$f":"NR_Indexreihen!O37/NR_Indexreihen!N37","v":1.0116122343182996},{"$f":"NR_Indexreihen!P37/NR_Indexreihen!O37","v":1.0057394690991084},{"$f":"NR_Indexreihen!Q37/NR_Indexreihen!P37","v":1.0026495465199226},{"$f":"NR_Indexreihen!R37/NR_Indexreihen!Q37","v":1.0028458176643968},{"$f":"NR_Indexreihen!S37/NR_Indexreihen!R37","v":1.0025336981858721},{"$f":"NR_Indexreihen!T37/NR_Indexreihen!S37","v":1.0058633238980994},{"$f":"NR_Indexreihen!U37/NR_Indexreihen!T37","v":0.99708542713567838},{"$f":"NR_Indexreihen!V37/NR_Indexreihen!U37","v":1.0046366293720392},{"$f":"NR_Indexreihen!W37/NR_Indexreihen!V37","v":1.0017056285742951},{"$f":"NR_Indexreihen!X37/NR_Indexreihen!W37","v":0.99799679487179482},{"$f":"NR_Indexreihen!Y37/NR_Indexreihen!X37","v":0.99106784423926131},{"$f":"NR_Indexreihen!Z37/NR_Indexreihen!Y37","v":1.0071898734177214},{"$f":"NR_Indexreihen!AA37/NR_Indexreihen!Z37","v":1.0054293183189222},{"$f":"NR_Indexreihen!AB37/NR_Indexreihen!AA37","v":1.0036},{"$f":"NR_Indexreihen!AC37/NR_Indexreihen!AB37","v":1.007273814268633},{"$f":"NR_Indexreihen!AD37/NR_Indexreihen!AC37","v":1.0114749233356415},{"$f":"NR_Indexreihen!AE37/NR_Indexreihen!AD37","v":{"$error":"#VALUE!"}},{"$f":"NR_Indexreihen!AF37/NR_Indexreihen!AE37","v":{"$error":"#VALUE!"}}]
["H52","Lagerei sowie Erbringung von sonstigen Dienstleistungen für den Verkehr",null,{"$f":"NR_Indexreihen!D38/NR_Indexreihen!C38","v":1.0336700336700337},{"$f":"NR_Indexreihen!E38/NR_Indexreihen!D38","v":1.0273615635179154},{"$f":"NR_Indexreihen!F38/NR_Indexreihen!E38","v":1.0234622701331644},{"$f":"NR_Indexreihen!G38/NR_Indexreihen!F38","v":1.0272614622056999},{"$f":"NR_Indexreihen!H38/NR_Indexreihen!G38","v":1.0220144752714115},{"$f":"NR_Indexreihen!I38/NR_Indexreihen!H38","v":1.025966361758631},{"$f":"NR_Indexreihen!J38/NR_Indexreihen!I38","v":1.0287604256542997},{"$f":"NR_Indexreihen!K38/NR_Indexreihen!J38","v":1.795638803466592},{"$f":"NR_Indexreihen!L38/NR_Indexreihen!K38","v":1.0272458352794644},{"$f":"NR_Indexreihen!M38/NR_Indexreihen!L38","v":1.0280387996362532},{"$f":"NR_Indexreihen!N38/NR_Indexreihen!M38","v":1.0213769718413681},{"$f":"NR_Indexreihen!O38/NR_Indexreihen!N38","v":1.0274249422632795},{"$f":"NR_Indexreihen!P38/NR_Indexreihen!O38","v":1.0359651587524583},{"$f":"NR_Indexreihen!Q38/NR_Indexreihen!P38","v":1.032139951179821},{"$f":"NR_Indexreihen!R38/NR_Indexreihen!Q38","v":1.0323216397319668},{"$f":"NR_Indexreihen!S38/NR_Indexreihen!R38","v":1.0318187603410971},{"$f":"NR_Indexreihen!T38/NR_Indexreihen!S38","v":1.0349081041075616},{"$f":"NR_Indexreihen!U38/NR_Indexreihen!T38","v":1.0296781883194279},{"$f":"NR_Indexreihen!V38/NR_Indexreihen!U38","v":1.0295173052436624},{"$f":"NR_Indexreihen!W38/NR_Indexreihen!V38","v":1.0282212727681583},{"$f":"NR_Indexreihen!X38/NR_Indexreihen!W38","v":1.0215418261344997},{"$f":"NR_Indexreihen!Y38/NR_Indexreihen!X38","v":1.0224791265253692},{"$f":"NR_Indexreihen!Z38/NR_Indexreihen!Y38","v":1.023136515912898},{"$f":"NR_Indexreihen!AA38/NR_Indexreihen!Z38","v":1.0232272587741738},{"$f":"NR_Indexreihen!AB38/NR_Indexreihen!AA38","v":1.0270999999999999},{"$f":"NR_Indexreihen!AC38/NR_Indexreihen!AB38","v":1.0245350988219259},{"$f":"NR_Indexreihen!AD38/NR_Indexreihen!AC38","v":1.0240425734106244},{"$f":"NR_Indexreihen!AE38/NR_Indexreihen!AD38","v":{"$error":"#VALUE!"}},{"$f":"NR_Indexreihen!AF38/NR_Indexreihen!AE38","v":{"$error":"#VALUE!"}}]
["J61","Telekommunikation",null,{"$f":"NR_Indexreihen!D39/NR_Indexreihen!C39","v":1.0739821811210104},{"$f":"NR_Indexreihen!E39/NR_Indexreihen!D39","v":1.0552346949490705},{"$f":"NR_Indexreihen!F39/NR_Indexreihen!E39","v":1.0298537167877402},{"$f":"NR_Indexreihen!G39/NR_Indexreihen!F39","v":1.0125616001546045},{"$f":"NR_Indexreihen!H39/NR_Indexreihen!G39","v":1.0087794636892833},{"$f":"NR_Indexreihen!I39/NR_Indexreihen!H39","v":0.99791883454734653},{"$f":"NR_Indexreihen!J39/NR_Indexreihen!I39","v":0.99289032135747468},{"$f":"NR_Indexreihen!K39/NR_Indexreihen!J39","v":0.99684934122589275},{"$f":"NR_Indexreihen!L39/NR_Indexreihen!K39","v":0.99865913226702419},{"$f":"NR_Indexreihen!M39/NR_Indexreihen!L39","v":1.0113167737604296},{"$f":"NR_Indexreihen!N39/NR_Indexreihen!M39","v":0.99857752489331431},{"$f":"NR_Indexreihen!O39/NR_Indexreihen!N39","v":0.99268755935422603},{"$f":"NR_Indexreihen!P39/NR_Indexreihen!O39","v":1.0022003252654741},{"$f":"NR_Indexreihen!Q39/NR_Indexreihen!P39","v":0.99847269950362727},{"$f":"NR_Indexreihen!R39/NR_Indexreihen!Q39","v":1.002772466539197},{"$f":"NR_Indexreihen!S39/NR_Indexreihen!R39","v":0.99990466202688522},{"$f":"NR_Indexreihen!T39/NR_Indexreihen!S39","v":1.0004767353165525},{"$f":"NR_Indexreihen!U39/NR_Indexreihen!T39","v":0.99876107881444764},{"$f":"NR_Indexreihen!V39/NR_Indexreihen!U39","v":0.99188931297709926},{"$f":"NR_Indexreihen!W39/NR_Indexreihen!V39","v":1.0042328042328041},{"$f":"NR_Indexreihen!X39/NR_Indexreihen!W39","v":0.98428968291981989},{"$f":"NR_Indexreihen!Y39/NR_Indexreihen!X39","v":0.98637469586374693},{"$f":"NR_Indexreihen!Z39/NR_Indexreihen!Y39","v":0.98727183029107057},{"$f":"NR_Indexreihen!AA39/NR_Indexreihen!Z39","v":0.99940035978412955},{"$f":"NR_Indexreihen!AB39/NR_Indexreihen!AA39","v":0.99340000000000006},{"$f":"NR_Indexreihen!AC39/NR_Indexreihen!AB39","v":0.99174552043487008},{"$f":"NR_Indexreihen!AD39/NR_Indexreihen!AC39","v":0.98477466504263089},{"$f":"NR_Indexreihen!AE39/NR_Indexreihen!AD39","v":{"$error":"#VALUE!"}},{"$f":"NR_Indexreihen!AF39/NR_Indexreihen!AE39","v":{"$error":"#VALUE!"}}]
["J62-01","IT- und Informationsdienstleister",null,{"$f":"NR_Indexreihen!D40/NR_Indexreihen!C40","v":1.082498072474942},{"$f":"NR_Indexreihen!E40/NR_Indexreihen!D40","v":1.0783475783475784},{"$f":"NR_Indexreihen!F40/NR_Indexreihen!E40","v":1.0838837516512549},{"$f":"NR_Indexreihen!G40/NR_Indexreihen!F40","v":1.0706886045094455},{"$f":"NR_Indexreihen!H40/NR_Indexreihen!G40","v":1.0876494023904382},{"$f":"NR_Indexreihen!I40/NR_Indexreihen!H40","v":1.1161695447409732},{"$f":"NR_Indexreihen!J40/NR_Indexreihen!I40","v":1.1495546179090483},{"$f":"NR_Indexreihen!K40/NR_Indexreihen!J40","v":1.1953507340946166},{"$f":"NR_Indexreihen!L40/NR_Indexreihen!K40","v":1.1985670419651997},{"$f":"NR_Indexreihen!M40/NR_Indexreihen!L40","v":1.2325647594648448},{"$f":"NR_Indexreihen!N40/NR_Indexreihen!M40","v":1.0909930715935336},{"$f":"NR_Indexreihen!O40/NR_Indexreihen!N40","v":1.0814987298899239},{"$f":"NR_Indexreihen!P40/NR_Indexreihen!O40","v":1.0722254844392249},{"$f":"NR_Indexreihen!Q40/NR_Indexreihen!P40","v":1.0633442862358524},{"$f":"NR_Indexreihen!R40/NR_Indexreihen!Q40","v":1.0578540772532188},{"$f":"NR_Indexreihen!S40/NR_Indexreihen!R40","v":1.0556637455371634},{"$f":"NR_Indexreihen!T40/NR_Indexreihen!S40","v":1.0682551883166795},{"$f":"NR_Indexreihen!U40/NR_Indexreihen!T40","v":1.0446107353576055},{"$f":"NR_Indexreihen!V40/NR_Indexreihen!U40","v":1.0484915277586444},{"$f":"NR_Indexreihen!W40/NR_Indexreihen!V40","v":1.0564971751412429},{"$f":"NR_Indexreihen!X40/NR_Indexreihen!W40","v":1.0526053973386396},{"$f":"NR_Indexreihen!Y40/NR_Indexreihen!X40","v":1.0642722117202268},{"$f":"NR_Indexreihen!Z40/NR_Indexreihen!Y40","v":1.0577264653641207},{"$f":"NR_Indexreihen!AA40/NR_Indexreihen!Z40","v":1.0495382031905962},{"$f":"NR_Indexreihen!AB40/NR_Indexreihen!AA40","v":1.0630999999999999},{"$f":"NR_Indexreihen!AC40/NR_Indexreihen!AB40","v":1.0728059448781864},{"$f":"NR_Indexreihen!AD40/NR_Indexreihen!AC40","v":1.0686540990793512},{"$f":"NR_Indexreihen!AE40/NR_Indexreihen!AD40","v":{"$error":"#VALUE!"}},{"$f":"NR_Indexreihen!AF40/NR_Indexreihen!AE40","v":{"$error":"#VALUE!"}}]
["M69-01","Unternehmensnahe Beratungsleistungen ",null,{"$f":"NR_Indexreihen!D41/NR_Indexreihen!C41","v":0.97887547649301143},{"$f":"NR_Indexreihen!E41/NR_Indexreihen!D41","v":0.97306506571474927},{"$f":"NR_Indexreihen!F41/NR_Indexreihen!E41","v":0.98632649658162419},{"$f":"NR_Indexreihen!G41/NR_Indexreihen!F41","v":1.0094674556213019},{"$f":"NR_Indexreihen!H41/NR_Indexreihen!G41","v":1.0165801373304304},{"$f":"NR_Indexreihen!I41/NR_Indexreihen!H41","v":1.0240527182866557},{"$f":"NR_Indexreihen!J41/NR_Indexreihen!I41","v":1.0283140283140284},{"$f":"NR_Indexreihen!K41/NR_Indexreihen!J41","v":1.0316020025031289},{"$f":"NR_Indexreihen!L41/NR_Indexreihen!K41","v":1.091598422808614},{"$f":"NR_Indexreihen!M41/NR_Indexreihen!L41","v":1.0287579883300917},{"$f":"NR_Indexreihen!N41/NR_Indexreihen!M41","v":1.0255232950708981},{"$f":"NR_Indexreihen!O41/NR_Indexreihen!N41","v":1.02725836186463},{"$f":"NR_Indexreihen!P41/NR_Indexreihen!O41","v":1.0184591719010383},{"$f":"NR_Indexreihen!Q41/NR_Indexreihen!P41","v":1.0195091252359973},{"$f":"NR_Indexreihen!R41/NR_Indexreihen!Q41","v":1.0251851851851852},{"$f":"NR_Indexreihen!S41/NR_Indexreihen!R41","v":1.0274566473988438},{"$f":"NR_Indexreihen!T41/NR_Indexreihen!S41","v":1.0346929207688702},{"$f":"NR_Indexreihen!U41/NR_Indexreihen!T41","v":1.0219755323969189},{"$f":"NR_Indexreihen!V41/NR_Indexreihen!U41","v":1.0218355131899801},{"$f":"NR_Indexreihen!W41/NR_Indexreihen!V41","v":1.0170300466428031},{"$f":"NR_Indexreihen!X41/NR_Indexreihen!W41","v":1.0107721843003412},{"$f":"NR_Indexreihen!Y41/NR_Indexreihen!X41","v":1.0120291231402343},{"$f":"NR_Indexreihen!Z41/NR_Indexreihen!Y41","v":1.0217912626420602},{"$f":"NR_Indexreihen!AA41/NR_Indexreihen!Z41","v":1.0204081632653061},{"$f":"NR_Indexreihen!AB41/NR_Indexreihen!AA41","v":1.0358000000000001},{"$f":"NR_Indexreihen!AC41/NR_Indexreihen!AB41","v":1.0396794748020854},{"$f":"NR_Indexreihen!AD41/NR_Indexreihen!AC41","v":1.031943541647321},{"$f":"NR_Indexreihen!AE41/NR_Indexreihen!AD41","v":{"$error":"#VALUE!"}},{"$f":"NR_Indexreihen!AF41/NR_Indexreihen!AE41","v":{"$error":"#VALUE!"}}]
["M73","Werbung und Marktforschung",null,{"$f":"NR_Indexreihen!D42/NR_Indexreihen!C42","v":0.95943245403677058},{"$f":"NR_Indexreihen!E42/NR_Indexreihen!D42","v":0.95750885232243288},{"$f":"NR_Indexreihen!F42/NR_Indexreihen!E42","v":0.96258429410485102},{"$f":"NR_Indexreihen!G42/NR_Indexreihen!F42","v":0.98508474576271199},{"$f":"NR_Indexreihen!H42/NR_Indexreihen!G42","v":0.99185593025923369},{"$f":"NR_Indexreihen!I42/NR_Indexreihen!H42","v":0.99919047068347411},{"$f":"NR_Indexreihen!J42/NR_Indexreihen!I42","v":1.0050925925925926},{"$f":"NR_Indexreihen!K42/NR_Indexreihen!J42","v":1.0124366651312759},{"$f":"NR_Indexreihen!L42/NR_Indexreihen!K42","v":1.0160373066424022},{"$f":"NR_Indexreihen!M42/NR_Indexreihen!L42","v":1.0090675025187508},{"$f":"NR_Indexreihen!N42/NR_Indexreihen!M42","v":1.0028844020412693},{"$f":"NR_Indexreihen!O42/NR_Indexreihen!N42","v":1.0047566371681416},{"$f":"NR_Indexreihen!P42/NR_Indexreihen!O42","v":0.99460530661675661},{"$f":"NR_Indexreihen!Q42/NR_Indexreihen!P42","v":0.99900376355988485},{"$f":"NR_Indexreihen!R42/NR_Indexreihen!Q42","v":1.0086426592797784},{"$f":"NR_Indexreihen!S42/NR_Indexreihen!R42","v":1.023398879490278},{"$f":"NR_Indexreihen!T42/NR_Indexreihen!S42","v":1.0308072133963075},{"$f":"NR_Indexreihen!U42/NR_Indexreihen!T42","v":0.99687597625741964},{"$f":"NR_Indexreihen!V42/NR_Indexreihen!U42","v":1.021309934189909},{"$f":"NR_Indexreihen!W42/NR_Indexreihen!V42","v":1.0152398486243226},{"$f":"NR_Indexreihen!X42/NR_Indexreihen!W42","v":1.003022365504735},{"$f":"NR_Indexreihen!Y42/NR_Indexreihen!X42","v":0.99668541582965053},{"$f":"NR_Indexreihen!Z42/NR_Indexreihen!Y42","v":1.0012093117000906},{"$f":"NR_Indexreihen!AA42/NR_Indexreihen!Z42","v":1.0065425264217414},{"$f":"NR_Indexreihen!AB42/NR_Indexreihen!AA42","v":1.0117},{"$f":"NR_Indexreihen!AC42/NR_Indexreihen!AB42","v":1.0028664623900365},{"$f":"NR_Indexreihen!AD42/NR_Indexreihen!AC42","v":1.0250344963532427},{"$f":"NR_Indexreihen!AE42/NR_Indexreihen!AD42","v":{"$error":"#VALUE!"}},{"$f":"NR_Indexreihen!AF42/NR_Indexreihen!AE42","v":{"$error":"#VALUE!"}}]
["M74-01","Freiberufl.,wiss.,techn.DL a.n.g., Veterinärwesen",null,{"$f":"NR_Indexreihen!D43/NR_Indexreihen!C43","v":0.96587418951200088},{"$f":"NR_Indexreihen!E43/NR_Indexreihen!D43","v":0.96313743964197396},{"$f":"NR_Indexreihen!F43/NR_Indexreihen!E43","v":0.96576179995108835},{"$f":"NR_Indexreihen!G43/NR_Indexreihen!F43","v":0.97125854646746002},{"$f":"NR_Indexreihen!H43/NR_Indexreihen!G43","v":0.97484030765219665},{"$f":"NR_Indexreihen!I43/NR_Indexreihen!H43","v":0.97887135597753416},{"$f":"NR_Indexreihen!J43/NR_Indexreihen!I43","v":0.98852459016393435},{"$f":"NR_Indexreihen!K43/NR_Indexreihen!J43","v":0.99861802100608077},{"$f":"NR_Indexreihen!L43/NR_Indexreihen!K43","v":1.0067810683642402},{"$f":"NR_Indexreihen!M43/NR_Indexreihen!L43","v":1.0064604810996562},{"$f":"NR_Indexreihen!N43/NR_Indexreihen!M43","v":1.0055995629609396},{"$f":"NR_Indexreihen!O43/NR_Indexreihen!N43","v":1.0105935080809454},{"$f":"NR_Indexreihen!P43/NR_Indexreihen!O43","v":1.0141110065851364},{"$f":"NR_Indexreihen!Q43/NR_Indexreihen!P43","v":1.0182878346143653},{"$f":"NR_Indexreihen!R43/NR_Indexreihen!Q43","v":1.0249869859448204},{"$f":"NR_Indexreihen!S43/NR_Indexreihen!R43","v":1.0319959370238698},{"$f":"NR_Indexreihen!T43/NR_Indexreihen!S43","v":1.0291584645669292},{"$f":"NR_Indexreihen!U43/NR_Indexreihen!T43","v":1.0136282127913927},{"$f":"NR_Indexreihen!V43/NR_Indexreihen!U43","v":1.0222903644297676},{"$f":"NR_Indexreihen!W43/NR_Indexreihen!V43","v":1.0179972311952006},{"$f":"NR_Indexreihen!X43/NR_Indexreihen!W43","v":1.0349048050770626},{"$f":"NR_Indexreihen!Y43/NR_Indexreihen!X43","v":1.0221200175208061},{"$f":"NR_Indexreihen!Z43/NR_Indexreihen!Y43","v":1.0443539747160917},{"$f":"NR_Indexreihen!AA43/NR_Indexreihen!Z43","v":1.0258514567090684},{"$f":"NR_Indexreihen!AB43/NR_Indexreihen!AA43","v":1.0468000000000002},{"$f":"NR_Indexreihen!AC43/NR_Indexreihen!AB43","v":1.0636224684753535},{"$f":"NR_Indexreihen!AD43/NR_Indexreihen!AC43","v":1.0379917370217351},{"$f":"NR_Indexreihen!AE43/NR_Indexreihen!AD43","v":{"$error":"#VALUE!"}},{"$f":"NR_Indexreihen!AF43/NR_Indexreihen!AE43","v":{"$error":"#VALUE!"}}]
["L","Grundstücks- und Wohnungswesen",null,{"$f":"NR_Indexreihen!D44/NR_Indexreihen!C44","v":1.0310666206420436},{"$f":"NR_Indexreihen!E44/NR_Indexreihen!D44","v":1.031637094074322},{"$f":"NR_Indexreihen!F44/NR_Indexreihen!E44","v":1.0350478662988805},{"$f":"NR_Indexreihen!G44/NR_Indexreihen!F44","v":1.0338611067565451},{"$f":"NR_Indexreihen!H44/NR_Indexreihen!G44","v":1.0318423047763456},{"$f":"NR_Indexreihen!I44/NR_Indexreihen!H44","v":1.0311535635562088},{"$f":"NR_Indexreihen!J44/NR_Indexreihen!I44","v":1.0297848083226451},{"$f":"NR_Indexreihen!K44/NR_Indexreihen!J44","v":1.0290617215610296},{"$f":"NR_Indexreihen!L44/NR_Indexreihen!K44","v":1.0272996234534697},{"$f":"NR_Indexreihen!M44/NR_Indexreihen!L44","v":1.0248723654928655},{"$f":"NR_Indexreihen!N44/NR_Indexreihen!M44","v":1.0219696002043683},{"$f":"NR_Indexreihen!O44/NR_Indexreihen!N44","v":1.0213723284589427},{"$f":"NR_Indexreihen!P44/NR_Indexreihen!O44","v":1.0194566813509545},{"$f":"NR_Indexreihen!Q44/NR_Indexreihen!P44","v":1.0175249069739527},{"$f":"NR_Indexreihen!R44/NR_Indexreihen!Q44","v":1.0189925681255161},{"$f":"NR_Indexreihen!S44/NR_Indexreihen!R44","v":1.0181755035887938},{"$f":"NR_Indexreihen!T44/NR_Indexreihen!S44","v":1.0164866401364412},{"$f":"NR_Indexreihen!U44/NR_Indexreihen!T44","v":1.0146532438478746},{"$f":"NR_Indexreihen!V44/NR_Indexreihen!U44","v":1.0152133171645905},{"$f":"NR_Indexreihen!W44/NR_Indexreihen!V44","v":1.0178086654359866},{"$f":"NR_Indexreihen!X44/NR_Indexreihen!W44","v":1.0174970660407554},{"$f":"NR_Indexreihen!Y44/NR_Indexreihen!X44","v":1.016147635524798},{"$f":"NR_Indexreihen!Z44/NR_Indexreihen!Y44","v":1.0163037870188836},{"$f":"NR_Indexreihen!AA44/NR_Indexreihen!Z44","v":1.015331505736623},{"$f":"NR_Indexreihen!AB44/NR_Indexreihen!AA44","v":1.0156000000000001},{"$f":"NR_Indexreihen!AC44/NR_Indexreihen!AB44","v":1.0154588420638047},{"$f":"NR_Indexreihen!AD44/NR_Indexreihen!AC44","v":1.0154174343062154},{"$f":"NR_Indexreihen!AE44/NR_Indexreihen!AD44","v":1.01585179526356},{"$f":"NR_Indexreihen!AF44/NR_Indexreihen!AE44","v":0}]
[]
["Gewichtung",null,1991,{"$f":"C88+1","v":1992},{"$f":"D88+1","v":1993},1994,1995,1996,1997,1998,1999,2000,2001,2002,2003,2004,2005,2006,2007,2008,2009,2010,2011,2012,2013,2014,2015,2016,2017,{"$f":"AC88+1","v":2018},{"$f":"AD88+1","v":2019},{"$f":"AE88+1","v":2020}]
["Bereinigte Lohnquote"]
["C33","Reparatur und Installation von Maschinen und Ausrüstungen",{"$f":"(RD_Rohdaten!C973/RD_Rohdaten!C224)*(RD_Rohdaten!C1067/RD_Rohdaten!C879)","v":0.78699095185927181},{"$f":"(RD_Rohdaten!D973/RD_Rohdaten!D224)*(RD_Rohdaten!D1067/RD_Rohdaten!D879)","v":0.81752801572958389},{"$f":"(RD_Rohdaten!E973/RD_Rohdaten!E224)*(RD_Rohdaten!E1067/RD_Rohdaten!E879)","v":0.87093711599353474},{"$f":"(RD_Rohdaten!F973/RD_Rohdaten!F224)*(RD_Rohdaten!F1067/RD_Rohdaten!F879)","v":0.86781883259911896},{"$f":"(RD_Rohdaten!G973/RD_Rohdaten!G224)*(RD_Rohdaten!G1067/RD_Rohdaten!G879)","v":0.9215043369290411},{"$f":"(RD_Rohdaten!H973/RD_Rohdaten!H224)*(RD_Rohdaten!H1067/RD_Rohdaten!H879)","v":0.936813638333159},{"$f":"(RD_Rohdaten!I973/RD_Rohdaten!I224)*(RD_Rohdaten!I1067/RD_Rohdaten!I879)","v":0.88341030599201609},{"$f":"(RD_Rohdaten!J973/RD_Rohdaten!J224)*(RD_Rohdaten!J1067/RD_Rohdaten!J879)","v":0.88565821088159336},{"$f":"(RD_Rohdaten!K973/RD_Rohdaten!K224)*(RD_Rohdaten!K1067/RD_Rohdaten!K879)","v":0.88713091704421176},{"$f":"(RD_Rohdaten!L973/RD_Rohdaten!L224)*(RD_Rohdaten!L1067/RD_Rohdaten!L879)","v":0.93081024359340003},{"$f":"(RD_Rohdaten!M973/RD_Rohdaten!M224)*(RD_Rohdaten!M1067/RD_Rohdaten!M879)","v":0.98638108865109142},{"$f":"(RD_Rohdaten!N973/RD_Rohdaten!N224)*(RD_Rohdaten!N1067/RD_Rohdaten!N879)","v":0.96392931392931402},{"$f":"(RD_Rohdaten!O973/RD_Rohdaten!O224)*(RD_Rohdaten!O1067/RD_Rohdaten!O879)","v":0.95053272450532722},{"$f":"(RD_Rohdaten!P973/RD_Rohdaten!P224)*(RD_Rohdaten!P1067/RD_Rohdaten!P879)","v":0.92379860314812878},{"$f":"(RD_Rohdaten!Q973/RD_Rohdaten!Q224)*(RD_Rohdaten!Q1067/RD_Rohdaten!Q879)","v":0.83430679051168311},{"$f":"(RD_Rohdaten!R973/RD_Rohdaten!R224)*(RD_Rohdaten!R1067/RD_Rohdaten!R879)","v":0.85402667128507104},{"$f":"(RD_Rohdaten!S973/RD_Rohdaten!S224)*(RD_Rohdaten!S1067/RD_Rohdaten!S879)","v":0.79307568438003218},{"$f":"(RD_Rohdaten!T973/RD_Rohdaten!T224)*(RD_Rohdaten!T1067/RD_Rohdaten!T879)","v":0.88421425206209359},{"$f":"(RD_Rohdaten!U973/RD_Rohdaten!U224)*(RD_Rohdaten!U1067/RD_Rohdaten!U879)","v":0.95857634071561915},{"$f":"(RD_Rohdaten!V973/RD_Rohdaten!V224)*(RD_Rohdaten!V1067/RD_Rohdaten!V879)","v":0.95142759475576022},{"$f":"(RD_Rohdaten!W973/RD_Rohdaten!W224)*(RD_Rohdaten!W1067/RD_Rohdaten!W879)","v":0.9403844978299406},{"$f":"(RD_Rohdaten!X973/RD_Rohdaten!X224)*(RD_Rohdaten!X1067/RD_Rohdaten!X879)","v":0.9084700070068763},{"$f":"(RD_Rohdaten!Y973/RD_Rohdaten!Y224)*(RD_Rohdaten!Y1067/RD_Rohdaten!Y879)","v":0.92752688247237169},{"$f":"(RD_Rohdaten!Z973/RD_Rohdaten!Z224)*(RD_Rohdaten!Z1067/RD_Rohdaten!Z879)","v":0.89555244492949138},{"$f":"(RD_Rohdaten!AA973/RD_Rohdaten!AA224)*(RD_Rohdaten!AA1067/RD_Rohdaten!AA879)","v":0.87160945267513323},{"$f":"(RD_Rohdaten!AB973/RD_Rohdaten!AB224)*(RD_Rohdaten!AB1067/RD_Rohdaten!AB879)","v":0.8812644689198158},{"$f":"(RD_Rohdaten!AC973/RD_Rohdaten!AC224)*(RD_Rohdaten!AC1067/RD_Rohdaten!AC879)","v":0.91371687141484403},{"$f":"(RD_Rohdaten!AD973/RD_Rohdaten!AD224)*(RD_Rohdaten!AD1067/RD_Rohdaten!AD879)","v":0.93973907217707497},{"$f":"(RD_Rohdaten!AE973/RD_Rohdaten!AE224)*(RD_Rohdaten!AE1067/RD_Rohdaten!AE879)","v":{"$error":"#VALUE!"}},{"$f":"(RD_Rohdaten!AF973/RD_Rohdaten!AF224)*(RD_Rohdaten!AF1067/RD_Rohdaten!AF879)","v":{"$error":"#VALUE!"}}]
["G45","Handel mit Kraftfahrzeugen; Instandhaltung und Reparatur von Kraftfahrzeugen",{"$f":"(RD_Rohdaten!C982/RD_Rohdaten!C233)*(RD_Rohdaten!C1076/RD_Rohdaten!C888)","v":0.58522100795823884},{"$f":"(RD_Rohdaten!D982/RD_Rohdaten!D233)*(RD_Rohdaten!D1076/RD_Rohdaten!D888)","v":0.60884485569065738},{"$f":"(RD_Rohdaten!E982/RD_Rohdaten!E233)*(RD_Rohdaten!E1076/RD_Rohdaten!E888)","v":0.73102693068595714},{"$f":"(RD_Rohdaten!F982/RD_Rohdaten!F233)*(RD_Rohdaten!F1076/RD_Rohdaten!F888)","v":0.68919914990877018},{"$f":"(RD_Rohdaten!G982/RD_Rohdaten!G233)*(RD_Rohdaten!G1076/RD_Rohdaten!G888)","v":0.65875940128518085},{"$f":"(RD_Rohdaten!H982/RD_Rohdaten!H233)*(RD_Rohdaten!H1076/RD_Rohdaten!H888)","v":0.66100420093239198},{"$f":"(RD_Rohdaten!I982/RD_Rohdaten!I233)*(RD_Rohdaten!I1076/RD_Rohdaten!I888)","v":0.63923733454171794},{"$f":"(RD_Rohdaten!J982/RD_Rohdaten!J233)*(RD_Rohdaten!J1076/RD_Rohdaten!J888)","v":0.62965900967208221},{"$f":"(RD_Rohdaten!K982/RD_Rohdaten!K233)*(RD_Rohdaten!K1076/RD_Rohdaten!K888)","v":0.63283875850113258},{"$f":"(RD_Rohdaten!L982/RD_Rohdaten!L233)*(RD_Rohdaten!L1076/RD_Rohdaten!L888)","v":0.67003248794030579},{"$f":"(RD_Rohdaten!M982/RD_Rohdaten!M233)*(RD_Rohdaten!M1076/RD_Rohdaten!M888)","v":0.65732870158481815},{"$f":"(RD_Rohdaten!N982/RD_Rohdaten!N233)*(RD_Rohdaten!N1076/RD_Rohdaten!N888)","v":0.60980161254872933},{"$f":"(RD_Rohdaten!O982/RD_Rohdaten!O233)*(RD_Rohdaten!O1076/RD_Rohdaten!O888)","v":0.57857394463849787},{"$f":"(RD_Rohdaten!P982/RD_Rohdaten!P233)*(RD_Rohdaten!P1076/RD_Rohdaten!P888)","v":0.58167878410383334},{"$f":"(RD_Rohdaten!Q982/RD_Rohdaten!Q233)*(RD_Rohdaten!Q1076/RD_Rohdaten!Q888)","v":0.57582411645054665},{"$f":"(RD_Rohdaten!R982/RD_Rohdaten!R233)*(RD_Rohdaten!R1076/RD_Rohdaten!R888)","v":0.56605405211313131},{"$f":"(RD_Rohdaten!S982/RD_Rohdaten!S233)*(RD_Rohdaten!S1076/RD_Rohdaten!S888)","v":0.60324241400964107},{"$f":"(RD_Rohdaten!T982/RD_Rohdaten!T233)*(RD_Rohdaten!T1076/RD_Rohdaten!T888)","v":0.59877970797059554},{"$f":"(RD_Rohdaten!U982/RD_Rohdaten!U233)*(RD_Rohdaten!U1076/RD_Rohdaten!U888)","v":0.54575814393285993},{"$f":"(RD_Rohdaten!V982/RD_Rohdaten!V233)*(RD_Rohdaten!V1076/RD_Rohdaten!V888)","v":0.63548210619214007},{"$f":"(RD_Rohdaten!W982/RD_Rohdaten!W233)*(RD_Rohdaten!W1076/RD_Rohdaten!W888)","v":0.58090160395643697},{"$f":"(RD_Rohdaten!X982/RD_Rohdaten!X233)*(RD_Rohdaten!X1076/RD_Rohdaten!X888)","v":0.67953531223031305},{"$f":"(RD_Rohdaten!Y982/RD_Rohdaten!Y233)*(RD_Rohdaten!Y1076/RD_Rohdaten!Y888)","v":0.6856429009119106},{"$f":"(RD_Rohdaten!Z982/RD_Rohdaten!Z233)*(RD_Rohdaten!Z1076/RD_Rohdaten!Z888)","v":0.65928084585610369},{"$f":"(RD_Rohdaten!AA982/RD_Rohdaten!AA233)*(RD_Rohdaten!AA1076/RD_Rohdaten!AA888)","v":0.66010091205907462},{"$f":"(RD_Rohdaten!AB982/RD_Rohdaten!AB233)*(RD_Rohdaten!AB1076/RD_Rohdaten!AB888)","v":0.63157170343632851},{"$f":"(RD_Rohdaten!AC982/RD_Rohdaten!AC233)*(RD_Rohdaten!AC1076/RD_Rohdaten!AC888)","v":0.66174656176535573},{"$f":"(RD_Rohdaten!AD982/RD_Rohdaten!AD233)*(RD_Rohdaten!AD1076/RD_Rohdaten!AD888)","v":0.69011167945211216},{"$f":"(RD_Rohdaten!AE982/RD_Rohdaten!AE233)*(RD_Rohdaten!AE1076/RD_Rohdaten!AE888)","v":{"$error":"#VALUE!"}},{"$f":"(RD_Rohdaten!AF982/RD_Rohdaten!AF233)*(RD_Rohdaten!AF1076/RD_Rohdaten!AF888)","v":{"$error":"#VALUE!"}}]
["G47","Einzelhandel (ohne Handel mit Kraftfahrzeugen)",{"$f":"(RD_Rohdaten!C984/RD_Rohdaten!C235)*(RD_Rohdaten!C1078/RD_Rohdaten!C890)","v":0.73726129374260663},{"$f":"(RD_Rohdaten!D984/RD_Rohdaten!D235)*(RD_Rohdaten!D1078/RD_Rohdaten!D890)","v":0.78582343415027289},{"$f":"(RD_Rohdaten!E984/RD_Rohdaten!E235)*(RD_Rohdaten!E1078/RD_Rohdaten!E890)","v":0.80381267025666558},{"$f":"(RD_Rohdaten!F984/RD_Rohdaten!F235)*(RD_Rohdaten!F1078/RD_Rohdaten!F890)","v":0.80893366444203318},{"$f":"(RD_Rohdaten!G984/RD_Rohdaten!G235)*(RD_Rohdaten!G1078/RD_Rohdaten!G890)","v":0.74865289247178068},{"$f":"(RD_Rohdaten!H984/RD_Rohdaten!H235)*(RD_Rohdaten!H1078/RD_Rohdaten!H890)","v":0.73011847975365174},{"$f":"(RD_Rohdaten!I984/RD_Rohdaten!I235)*(RD_Rohdaten!I1078/RD_Rohdaten!I890)","v":0.73159258364086988},{"$f":"(RD_Rohdaten!J984/RD_Rohdaten!J235)*(RD_Rohdaten!J1078/RD_Rohdaten!J890)","v":0.73319144935020431},{"$f":"(RD_Rohdaten!K984/RD_Rohdaten!K235)*(RD_Rohdaten!K1078/RD_Rohdaten!K890)","v":0.73641306560132114},{"$f":"(RD_Rohdaten!L984/RD_Rohdaten!L235)*(RD_Rohdaten!L1078/RD_Rohdaten!L890)","v":0.69927157093331194},{"$f":"(RD_Rohdaten!M984/RD_Rohdaten!M235)*(RD_Rohdaten!M1078/RD_Rohdaten!M890)","v":0.71236827062995534},{"$f":"(RD_Rohdaten!N984/RD_Rohdaten!N235)*(RD_Rohdaten!N1078/RD_Rohdaten!N890)","v":0.72737424503207615},{"$f":"(RD_Rohdaten!O984/RD_Rohdaten!O235)*(RD_Rohdaten!O1078/RD_Rohdaten!O890)","v":0.72891516656560951},{"$f":"(RD_Rohdaten!P984/RD_Rohdaten!P235)*(RD_Rohdaten!P1078/RD_Rohdaten!P890)","v":0.73562318521886649},{"$f":"(RD_Rohdaten!Q984/RD_Rohdaten!Q235)*(RD_Rohdaten!Q1078/RD_Rohdaten!Q890)","v":0.75429419930810127},{"$f":"(RD_Rohdaten!R984/RD_Rohdaten!R235)*(RD_Rohdaten!R1078/RD_Rohdaten!R890)","v":0.74375740462079054},{"$f":"(RD_Rohdaten!S984/RD_Rohdaten!S235)*(RD_Rohdaten!S1078/RD_Rohdaten!S890)","v":0.75412370151404184},{"$f":"(RD_Rohdaten!T984/RD_Rohdaten!T235)*(RD_Rohdaten!T1078/RD_Rohdaten!T890)","v":0.79926110130069139},{"$f":"(RD_Rohdaten!U984/RD_Rohdaten!U235)*(RD_Rohdaten!U1078/RD_Rohdaten!U890)","v":0.79420078664251748},{"$f":"(RD_Rohdaten!V984/RD_Rohdaten!V235)*(RD_Rohdaten!V1078/RD_Rohdaten!V890)","v":0.82337031335352817},{"$f":"(RD_Rohdaten!W984/RD_Rohdaten!W235)*(RD_Rohdaten!W1078/RD_Rohdaten!W890)","v":0.86810460102850118},{"$f":"(RD_Rohdaten!X984/RD_Rohdaten!X235)*(RD_Rohdaten!X1078/RD_Rohdaten!X890)","v":0.91026677554064273},{"$f":"(RD_Rohdaten!Y984/RD_Rohdaten!Y235)*(RD_Rohdaten!Y1078/RD_Rohdaten!Y890)","v":0.86661101349389236},{"$f":"(RD_Rohdaten!Z984/RD_Rohdaten!Z235)*(RD_Rohdaten!Z1078/RD_Rohdaten!Z890)","v":0.85943613092122328},{"$f":"(RD_Rohdaten!AA984/RD_Rohdaten!AA235)*(RD_Rohdaten!AA1078/RD_Rohdaten!AA890)","v":0.81396896027824162},{"$f":"(RD_Rohdaten!AB984/RD_Rohdaten!AB235)*(RD_Rohdaten!AB1078/RD_Rohdaten!AB890)","v":0.80884653435148779},{"$f":"(RD_Rohdaten!AC984/RD_Rohdaten!AC235)*(RD_Rohdaten!AC1078/RD_Rohdaten!AC890)","v":0.79924570897834779},{"$f":"(RD_Rohdaten!AD984/RD_Rohdaten!AD235)*(RD_Rohdaten!AD1078/RD_Rohdaten!AD890)","v":0.80793108203964958},{"$f":"(RD_Rohdaten!AE984/RD_Rohdaten!AE235)*(RD_Rohdaten!AE1078/RD_Rohdaten!AE890)","v":{"$error":"#VALUE!"}},{"$f":"(RD_Rohdaten!AF984/RD_Rohdaten!AF235)*(RD_Rohdaten!AF1078/RD_Rohdaten!AF890)","v":{"$error":"#VALUE!"}}]
["H49","Landverkehr und Transport in Rohrfernleitungen",{"$f":"(RD_Rohdaten!C986/RD_Rohdaten!C237)*(RD_Rohdaten!C1080/RD_Rohdaten!C892)","v":0.75971384809661713},{"$f":"(RD_Rohdaten!D986/RD_Rohdaten!D237)*(RD_Rohdaten!D1080/RD_Rohdaten!D892)","v":0.80679301362160172},{"$f":"(RD_Rohdaten!E986/RD_Rohdaten!E237)*(RD_Rohdaten!E1080/RD_Rohdaten!E892)","v":0.84974810309341697},{"$f":"(RD_Rohdaten!F986/RD_Rohdaten!F237)*(RD_Rohdaten!F1080/RD_Rohdaten!F892)","v":0.84883495597879},{"$f":"(RD_Rohdaten!G986/RD_Rohdaten!G237)*(RD_Rohdaten!G1080/RD_Rohdaten!G892)","v":0.82491896765851747},{"$f":"(RD_Rohdaten!H986/RD_Rohdaten!H237)*(RD_Rohdaten!H1080/RD_Rohdaten!H892)","v":0.83869864757545232},{"$f":"(RD_Rohdaten!I986/RD_Rohdaten!I237)*(RD_Rohdaten!I1080/RD_Rohdaten!I892)","v":0.7872692480201583},{"$f":"(RD_Rohdaten!J986/RD_Rohdaten!J237)*(RD_Rohdaten!J1080/RD_Rohdaten!J892)","v":0.78051477226609334},{"$f":"(RD_Rohdaten!K986/RD_Rohdaten!K237)*(RD_Rohdaten!K1080/RD_Rohdaten!K892)","v":0.694185019514169},{"$f":"(RD_Rohdaten!L986/RD_Rohdaten!L237)*(RD_Rohdaten!L1080/RD_Rohdaten!L892)","v":0.69302584816730017},{"$f":"(RD_Rohdaten!M986/RD_Rohdaten!M237)*(RD_Rohdaten!M1080/RD_Rohdaten!M892)","v":0.63597015235493037},{"$f":"(RD_Rohdaten!N986/RD_Rohdaten!N237)*(RD_Rohdaten!N1080/RD_Rohdaten!N892)","v":0.64017654938467916},{"$f":"(RD_Rohdaten!O986/RD_Rohdaten!O237)*(RD_Rohdaten!O1080/RD_Rohdaten!O892)","v":0.64703764574473577},{"$f":"(RD_Rohdaten!P986/RD_Rohdaten!P237)*(RD_Rohdaten!P1080/RD_Rohdaten!P892)","v":0.67700616797219315},{"$f":"(RD_Rohdaten!Q986/RD_Rohdaten!Q237)*(RD_Rohdaten!Q1080/RD_Rohdaten!Q892)","v":0.64052214908379301},{"$f":"(RD_Rohdaten!R986/RD_Rohdaten!R237)*(RD_Rohdaten!R1080/RD_Rohdaten!R892)","v":0.59222861248017911},{"$f":"(RD_Rohdaten!S986/RD_Rohdaten!S237)*(RD_Rohdaten!S1080/RD_Rohdaten!S892)","v":0.58735987815884194},{"$f":"(RD_Rohdaten!T986/RD_Rohdaten!T237)*(RD_Rohdaten!T1080/RD_Rohdaten!T892)","v":0.58999396293269912},{"$f":"(RD_Rohdaten!U986/RD_Rohdaten!U237)*(RD_Rohdaten!U1080/RD_Rohdaten!U892)","v":0.62228545076758635},{"$f":"(RD_Rohdaten!V986/RD_Rohdaten!V237)*(RD_Rohdaten!V1080/RD_Rohdaten!V892)","v":0.6201983681156743},{"$f":"(RD_Rohdaten!W986/RD_Rohdaten!W237)*(RD_Rohdaten!W1080/RD_Rohdaten!W892)","v":0.6070603352773466},{"$f":"(RD_Rohdaten!X986/RD_Rohdaten!X237)*(RD_Rohdaten!X1080/RD_Rohdaten!X892)","v":0.606574631091925},{"$f":"(RD_Rohdaten!Y986/RD_Rohdaten!Y237)*(RD_Rohdaten!Y1080/RD_Rohdaten!Y892)","v":0.59767739144004994},{"$f":"(RD_Rohdaten!Z986/RD_Rohdaten!Z237)*(RD_Rohdaten!Z1080/RD_Rohdaten!Z892)","v":0.58381883904571585},{"$f":"(RD_Rohdaten!AA986/RD_Rohdaten!AA237)*(RD_Rohdaten!AA1080/RD_Rohdaten!AA892)","v":0.59247321838486233},{"$f":"(RD_Rohdaten!AB986/RD_Rohdaten!AB237)*(RD_Rohdaten!AB1080/RD_Rohdaten!AB892)","v":0.61659682115759495},{"$f":"(RD_Rohdaten!AC986/RD_Rohdaten!AC237)*(RD_Rohdaten!AC1080/RD_Rohdaten!AC892)","v":0.62006170051782572},{"$f":"(RD_Rohdaten!AD986/RD_Rohdaten!AD237)*(RD_Rohdaten!AD1080/RD_Rohdaten!AD892)","v":0.61807515479710184},{"$f":"(RD_Rohdaten!AE986/RD_Rohdaten!AE237)*(RD_Rohdaten!AE1080/RD_Rohdaten!AE892)","v":{"$error":"#VALUE!"}},{"$f":"(RD_Rohdaten!AF986/RD_Rohdaten!AF237)*(RD_Rohdaten!AF1080/RD_Rohdaten!AF892)","v":{"$error":"#VALUE!"}}]
["H52","Lagerei sowie Erbringung von sonstigen Dienstleistungen für den Verkehr",{"$f":"(RD_Rohdaten!C989/RD_Rohdaten!C240)*(RD_Rohdaten!C1083/RD_Rohdaten!C895)","v":0.847264402761566},{"$f":"(RD_Rohdaten!D989/RD_Rohdaten!D240)*(RD_Rohdaten!D1083/RD_Rohdaten!D895)","v":0.88498575550236525},{"$f":"(RD_Rohdaten!E989/RD_Rohdaten!E240)*(RD_Rohdaten!E1083/RD_Rohdaten!E895)","v":0.84525023689828782},{"$f":"(RD_Rohdaten!F989/RD_Rohdaten!F240)*(RD_Rohdaten!F1083/RD_Rohdaten!F895)","v":0.81934384920215964},{"$f":"(RD_Rohdaten!G989/RD_Rohdaten!G240)*(RD_Rohdaten!G1083/RD_Rohdaten!G895)","v":0.76169249431738673},{"$f":"(RD_Rohdaten!H989/RD_Rohdaten!H240)*(RD_Rohdaten!H1083/RD_Rohdaten!H895)","v":0.74700583717128588},{"$f":"(RD_Rohdaten!I989/RD_Rohdaten!I240)*(RD_Rohdaten!I1083/RD_Rohdaten!I895)","v":0.69952787778039149},{"$f":"(RD_Rohdaten!J989/RD_Rohdaten!J240)*(RD_Rohdaten!J1083/RD_Rohdaten!J895)","v":0.69066306214930662},{"$f":"(RD_Rohdaten!K989/RD_Rohdaten!K240)*(RD_Rohdaten!K1083/RD_Rohdaten!K895)","v":0.79315620948384435},{"$f":"(RD_Rohdaten!L989/RD_Rohdaten!L240)*(RD_Rohdaten!L1083/RD_Rohdaten!L895)","v":0.78205274051639961},{"$f":"(RD_Rohdaten!M989/RD_Rohdaten!M240)*(RD_Rohdaten!M1083/RD_Rohdaten!M895)","v":0.73023845793829845},{"$f":"(RD_Rohdaten!N989/RD_Rohdaten!N240)*(RD_Rohdaten!N1083/RD_Rohdaten!N895)","v":0.65764396781487233},{"$f":"(RD_Rohdaten!O989/RD_Rohdaten!O240)*(RD_Rohdaten!O1083/RD_Rohdaten!O895)","v":0.64426515091332293},{"$f":"(RD_Rohdaten!P989/RD_Rohdaten!P240)*(RD_Rohdaten!P1083/RD_Rohdaten!P895)","v":0.61916620320302285},{"$f":"(RD_Rohdaten!Q989/RD_Rohdaten!Q240)*(RD_Rohdaten!Q1083/RD_Rohdaten!Q895)","v":0.60307020982108428},{"$f":"(RD_Rohdaten!R989/RD_Rohdaten!R240)*(RD_Rohdaten!R1083/RD_Rohdaten!R895)","v":0.56200186911353422},{"$f":"(RD_Rohdaten!S989/RD_Rohdaten!S240)*(RD_Rohdaten!S1083/RD_Rohdaten!S895)","v":0.55580821102085021},{"$f":"(RD_Rohdaten!T989/RD_Rohdaten!T240)*(RD_Rohdaten!T1083/RD_Rohdaten!T895)","v":0.57630809965567698},{"$f":"(RD_Rohdaten!U989/RD_Rohdaten!U240)*(RD_Rohdaten!U1083/RD_Rohdaten!U895)","v":0.63122511853814323},{"$f":"(RD_Rohdaten!V989/RD_Rohdaten!V240)*(RD_Rohdaten!V1083/RD_Rohdaten!V895)","v":0.59669823990087578},{"$f":"(RD_Rohdaten!W989/RD_Rohdaten!W240)*(RD_Rohdaten!W1083/RD_Rohdaten!W895)","v":0.59981631866272589},{"$f":"(RD_Rohdaten!X989/RD_Rohdaten!X240)*(RD_Rohdaten!X1083/RD_Rohdaten!X895)","v":0.61140868536283666},{"$f":"(RD_Rohdaten!Y989/RD_Rohdaten!Y240)*(RD_Rohdaten!Y1083/RD_Rohdaten!Y895)","v":0.58939574604195544},{"$f":"(RD_Rohdaten!Z989/RD_Rohdaten!Z240)*(RD_Rohdaten!Z1083/RD_Rohdaten!Z895)","v":0.60100587210557421},{"$f":"(RD_Rohdaten!AA989/RD_Rohdaten!AA240)*(RD_Rohdaten!AA1083/RD_Rohdaten!AA895)","v":0.63427373360577255},{"$f":"(RD_Rohdaten!AB989/RD_Rohdaten!AB240)*(RD_Rohdaten!AB1083/RD_Rohdaten!AB895)","v":0.65432009688334392},{"$f":"(RD_Rohdaten!AC989/RD_Rohdaten!AC240)*(RD_Rohdaten!AC1083/RD_Rohdaten!AC895)","v":0.66666086422669002},{"$f":"(RD_Rohdaten!AD989/RD_Rohdaten!AD240)*(RD_Rohdaten!AD1083/RD_Rohdaten!AD895)","v":0.67036976404570725},{"$f":"(RD_Rohdaten!AE989/RD_Rohdaten!AE240)*(RD_Rohdaten!AE1083/RD_Rohdaten!AE895)","v":{"$error":"#VALUE!"}},{"$f":"(RD_Rohdaten!AF989/RD_Rohdaten!AF240)*(RD_Rohdaten!AF1083/RD_Rohdaten!AF895)","v":{"$error":"#VALUE!"}}]
["J61","Telekommunikation",{"$f":"(RD_Rohdaten!C996/RD_Rohdaten!C247)*(RD_Rohdaten!C1090/RD_Rohdaten!C902)","v":0.49863729804954893},{"$f":"(RD_Rohdaten!D996/RD_Rohdaten!D247)*(RD_Rohdaten!D1090/RD_Rohdaten!D902)","v":0.48952783953131679},{"$f":"(RD_Rohdaten!E996/RD_Rohdaten!E247)*(RD_Rohdaten!E1090/RD_Rohdaten!E902)","v":0.47250354451593068},{"$f":"(RD_Rohdaten!F996/RD_Rohdaten!F247)*(RD_Rohdaten!F1090/RD_Rohdaten!F902)","v":0.45210113145270525},{"$f":"(RD_Rohdaten!G996/RD_Rohdaten!G247)*(RD_Rohdaten!G1090/RD_Rohdaten!G902)","v":0.44750074761593589},{"$f":"(RD_Rohdaten!H996/RD_Rohdaten!H247)*(RD_Rohdaten!H1090/RD_Rohdaten!H902)","v":0.45559207313298344},{"$f":"(RD_Rohdaten!I996/RD_Rohdaten!I247)*(RD_Rohdaten!I1090/RD_Rohdaten!I902)","v":0.40345595966555536},{"$f":"(RD_Rohdaten!J996/RD_Rohdaten!J247)*(RD_Rohdaten!J1090/RD_Rohdaten!J902)","v":0.35838691872874145},{"$f":"(RD_Rohdaten!K996/RD_Rohdaten!K247)*(RD_Rohdaten!K1090/RD_Rohdaten!K902)","v":0.36534347751272639},{"$f":"(RD_Rohdaten!L996/RD_Rohdaten!L247)*(RD_Rohdaten!L1090/RD_Rohdaten!L902)","v":0.34840942905617284},{"$f":"(RD_Rohdaten!M996/RD_Rohdaten!M247)*(RD_Rohdaten!M1090/RD_Rohdaten!M902)","v":0.32419280215464746},{"$f":"(RD_Rohdaten!N996/RD_Rohdaten!N247)*(RD_Rohdaten!N1090/RD_Rohdaten!N902)","v":0.29125569586779471},{"$f":"(RD_Rohdaten!O996/RD_Rohdaten!O247)*(RD_Rohdaten!O1090/RD_Rohdaten!O902)","v":0.33896600537169841},{"$f":"(RD_Rohdaten!P996/RD_Rohdaten!P247)*(RD_Rohdaten!P1090/RD_Rohdaten!P902)","v":0.28783104291432055},{"$f":"(RD_Rohdaten!Q996/RD_Rohdaten!Q247)*(RD_Rohdaten!Q1090/RD_Rohdaten!Q902)","v":0.32656371552406044},{"$f":"(RD_Rohdaten!R996/RD_Rohdaten!R247)*(RD_Rohdaten!R1090/RD_Rohdaten!R902)","v":0.3047406223986831},{"$f":"(RD_Rohdaten!S996/RD_Rohdaten!S247)*(RD_Rohdaten!S1090/RD_Rohdaten!S902)","v":0.32981102853555572},{"$f":"(RD_Rohdaten!T996/RD_Rohdaten!T247)*(RD_Rohdaten!T1090/RD_Rohdaten!T902)","v":0.34456955288730273},{"$f":"(RD_Rohdaten!U996/RD_Rohdaten!U247)*(RD_Rohdaten!U1090/RD_Rohdaten!U902)","v":0.32833547668292451},{"$f":"(RD_Rohdaten!V996/RD_Rohdaten!V247)*(RD_Rohdaten!V1090/RD_Rohdaten!V902)","v":0.31823606290382145},{"$f":"(RD_Rohdaten!W996/RD_Rohdaten!W247)*(RD_Rohdaten!W1090/RD_Rohdaten!W902)","v":0.32149911868851094},{"$f":"(RD_Rohdaten!X996/RD_Rohdaten!X247)*(RD_Rohdaten!X1090/RD_Rohdaten!X902)","v":0.31858123762584778},{"$f":"(RD_Rohdaten!Y996/RD_Rohdaten!Y247)*(RD_Rohdaten!Y1090/RD_Rohdaten!Y902)","v":0.33227650796598696},{"$f":"(RD_Rohdaten!Z996/RD_Rohdaten!Z247)*(RD_Rohdaten!Z1090/RD_Rohdaten!Z902)","v":0.32718105156802546},{"$f":"(RD_Rohdaten!AA996/RD_Rohdaten!AA247)*(RD_Rohdaten!AA1090/RD_Rohdaten!AA902)","v":0.32265221407600109},{"$f":"(RD_Rohdaten!AB996/RD_Rohdaten!AB247)*(RD_Rohdaten!AB1090/RD_Rohdaten!AB902)","v":0.34421709352187668},{"$f":"(RD_Rohdaten!AC996/RD_Rohdaten!AC247)*(RD_Rohdaten!AC1090/RD_Rohdaten!AC902)","v":0.32171039278677904},{"$f":"(RD_Rohdaten!AD996/RD_Rohdaten!AD247)*(RD_Rohdaten!AD1090/RD_Rohdaten!AD902)","v":0.3134270026733284},{"$f":"(RD_Rohdaten!AE996/RD_Rohdaten!AE247)*(RD_Rohdaten!AE1090/RD_Rohdaten!AE902)","v":{"$error":"#VALUE!"}},{"$f":"(RD_Rohdaten!AF996/RD_Rohdaten!AF247)*(RD_Rohdaten!AF1090/RD_Rohdaten!AF902)","v":{"$error":"#VALUE!"}}]
["J62-01","IT- und Informationsdienstleister",{"$f":"(RD_Rohdaten!C997/RD_Rohdaten!C248)*(RD_Rohdaten!C1091/RD_Rohdaten!C903)","v":0.51576075809164379},{"$f":"(RD_Rohdaten!D997/RD_Rohdaten!D248)*(RD_Rohdaten!D1091/RD_Rohdaten!D903)","v":0.55201056025206485},{"$f":"(RD_Rohdaten!E997/RD_Rohdaten!E248)*(RD_Rohdaten!E1091/RD_Rohdaten!E903)","v":0.56081133701748165},{"$f":"(RD_Rohdaten!F997/RD_Rohdaten!F248)*(RD_Rohdaten!F1091/RD_Rohdaten!F903)","v":0.65072398059095349},{"$f":"(RD_Rohdaten!G997/RD_Rohdaten!G248)*(RD_Rohdaten!G1091/RD_Rohdaten!G903)","v":0.68077093789477283},{"$f":"(RD_Rohdaten!H997/RD_Rohdaten!H248)*(RD_Rohdaten!H1091/RD_Rohdaten!H903)","v":0.664592741324603},{"$f":"(RD_Rohdaten!I997/RD_Rohdaten!I248)*(RD_Rohdaten!I1091/RD_Rohdaten!I903)","v":0.63288697268492811},{"$f":"(RD_Rohdaten!J997/RD_Rohdaten!J248)*(RD_Rohdaten!J1091/RD_Rohdaten!J903)","v":0.59964029913586991},{"$f":"(RD_Rohdaten!K997/RD_Rohdaten!K248)*(RD_Rohdaten!K1091/RD_Rohdaten!K903)","v":0.69524045641190946},{"$f":"(RD_Rohdaten!L997/RD_Rohdaten!L248)*(RD_Rohdaten!L1091/RD_Rohdaten!L903)","v":0.75043674922464643},{"$f":"(RD_Rohdaten!M997/RD_Rohdaten!M248)*(RD_Rohdaten!M1091/RD_Rohdaten!M903)","v":0.73330728191731132},{"$f":"(RD_Rohdaten!N997/RD_Rohdaten!N248)*(RD_Rohdaten!N1091/RD_Rohdaten!N903)","v":0.7504355215004348},{"$f":"(RD_Rohdaten!O997/RD_Rohdaten!O248)*(RD_Rohdaten!O1091/RD_Rohdaten!O903)","v":0.80877259191894424},{"$f":"(RD_Rohdaten!P997/RD_Rohdaten!P248)*(RD_Rohdaten!P1091/RD_Rohdaten!P903)","v":0.81586024886849939},{"$f":"(RD_Rohdaten!Q997/RD_Rohdaten!Q248)*(RD_Rohdaten!Q1091/RD_Rohdaten!Q903)","v":0.79447669523164954},{"$f":"(RD_Rohdaten!R997/RD_Rohdaten!R248)*(RD_Rohdaten!R1091/RD_Rohdaten!R903)","v":0.77789143598615929},{"$f":"(RD_Rohdaten!S997/RD_Rohdaten!S248)*(RD_Rohdaten!S1091/RD_Rohdaten!S903)","v":0.73034794592690744},{"$f":"(RD_Rohdaten!T997/RD_Rohdaten!T248)*(RD_Rohdaten!T1091/RD_Rohdaten!T903)","v":0.77319846294308281},{"$f":"(RD_Rohdaten!U997/RD_Rohdaten!U248)*(RD_Rohdaten!U1091/RD_Rohdaten!U903)","v":0.81183684462444827},{"$f":"(RD_Rohdaten!V997/RD_Rohdaten!V248)*(RD_Rohdaten!V1091/RD_Rohdaten!V903)","v":0.82628178989161938},{"$f":"(RD_Rohdaten!W997/RD_Rohdaten!W248)*(RD_Rohdaten!W1091/RD_Rohdaten!W903)","v":0.75748600137811994},{"$f":"(RD_Rohdaten!X997/RD_Rohdaten!X248)*(RD_Rohdaten!X1091/RD_Rohdaten!X903)","v":0.77414637414387788},{"$f":"(RD_Rohdaten!Y997/RD_Rohdaten!Y248)*(RD_Rohdaten!Y1091/RD_Rohdaten!Y903)","v":0.71382272302255179},{"$f":"(RD_Rohdaten!Z997/RD_Rohdaten!Z248)*(RD_Rohdaten!Z1091/RD_Rohdaten!Z903)","v":0.72834777124476402},{"$f":"(RD_Rohdaten!AA997/RD_Rohdaten!AA248)*(RD_Rohdaten!AA1091/RD_Rohdaten!AA903)","v":0.75586392261653612},{"$f":"(RD_Rohdaten!AB997/RD_Rohdaten!AB248)*(RD_Rohdaten!AB1091/RD_Rohdaten!AB903)","v":0.7657515176042089},{"$f":"(RD_Rohdaten!AC997/RD_Rohdaten!AC248)*(RD_Rohdaten!AC1091/RD_Rohdaten!AC903)","v":0.78315686168140419},{"$f":"(RD_Rohdaten!AD997/RD_Rohdaten!AD248)*(RD_Rohdaten!AD1091/RD_Rohdaten!AD903)","v":0.76709156450587401},{"$f":"(RD_Rohdaten!AE997/RD_Rohdaten!AE248)*(RD_Rohdaten!AE1091/RD_Rohdaten!AE903)","v":{"$error":"#VALUE!"}},{"$f":"(RD_Rohdaten!AF997/RD_Rohdaten!AF248)*(RD_Rohdaten!AF1091/RD_Rohdaten!AF903)","v":{"$error":"#VALUE!"}}]
["M69-01","Unternehmensnahe Beratungsleistungen ",{"$f":"(RD_Rohdaten!C1005/RD_Rohdaten!C256)*(RD_Rohdaten!C1099/RD_Rohdaten!C911)","v":0.42769751355221003},{"$f":"(RD_Rohdaten!D1005/RD_Rohdaten!D256)*(RD_Rohdaten!D1099/RD_Rohdaten!D911)","v":0.43102045554119034},{"$f":"(RD_Rohdaten!E1005/RD_Rohdaten!E256)*(RD_Rohdaten!E1099/RD_Rohdaten!E911)","v":0.41951057100049943},{"$f":"(RD_Rohdaten!F1005/RD_Rohdaten!F256)*(RD_Rohdaten!F1099/RD_Rohdaten!F911)","v":0.44207553946099692},{"$f":"(RD_Rohdaten!G1005/RD_Rohdaten!G256)*(RD_Rohdaten!G1099/RD_Rohdaten!G911)","v":0.45367800122457241},{"$f":"(RD_Rohdaten!H1005/RD_Rohdaten!H256)*(RD_Rohdaten!H1099/RD_Rohdaten!H911)","v":0.46856310843318627},{"$f":"(RD_Rohdaten!I1005/RD_Rohdaten!I256)*(RD_Rohdaten!I1099/RD_Rohdaten!I911)","v":0.49937578467851224},{"$f":"(RD_Rohdaten!J1005/RD_Rohdaten!J256)*(RD_Rohdaten!J1099/RD_Rohdaten!J911)","v":0.50489108538227456},{"$f":"(RD_Rohdaten!K1005/RD_Rohdaten!K256)*(RD_Rohdaten!K1099/RD_Rohdaten!K911)","v":0.50822474310627785},{"$f":"(RD_Rohdaten!L1005/RD_Rohdaten!L256)*(RD_Rohdaten!L1099/RD_Rohdaten!L911)","v":0.54002514335124452},{"$f":"(RD_Rohdaten!M1005/RD_Rohdaten!M256)*(RD_Rohdaten!M1099/RD_Rohdaten!M911)","v":0.5288787424770296},{"$f":"(RD_Rohdaten!N1005/RD_Rohdaten!N256)*(RD_Rohdaten!N1099/RD_Rohdaten!N911)","v":0.54593285053997931},{"$f":"(RD_Rohdaten!O1005/RD_Rohdaten!O256)*(RD_Rohdaten!O1099/RD_Rohdaten!O911)","v":0.57726295316803566},{"$f":"(RD_Rohdaten!P1005/RD_Rohdaten!P256)*(RD_Rohdaten!P1099/RD_Rohdaten!P911)","v":0.63005327618347684},{"$f":"(RD_Rohdaten!Q1005/RD_Rohdaten!Q256)*(RD_Rohdaten!Q1099/RD_Rohdaten!Q911)","v":0.65396750213152977},{"$f":"(RD_Rohdaten!R1005/RD_Rohdaten!R256)*(RD_Rohdaten!R1099/RD_Rohdaten!R911)","v":0.6539143209429622},{"$f":"(RD_Rohdaten!S1005/RD_Rohdaten!S256)*(RD_Rohdaten!S1099/RD_Rohdaten!S911)","v":0.65726275536307976},{"$f":"(RD_Rohdaten!T1005/RD_Rohdaten!T256)*(RD_Rohdaten!T1099/RD_Rohdaten!T911)","v":0.70791424017696225},{"$f":"(RD_Rohdaten!U1005/RD_Rohdaten!U256)*(RD_Rohdaten!U1099/RD_Rohdaten!U911)","v":0.81291879738855222},{"$f":"(RD_Rohdaten!V1005/RD_Rohdaten!V256)*(RD_Rohdaten!V1099/RD_Rohdaten!V911)","v":0.84769936437364835},{"$f":"(RD_Rohdaten!W1005/RD_Rohdaten!W256)*(RD_Rohdaten!W1099/RD_Rohdaten!W911)","v":0.89807262923761821},{"$f":"(RD_Rohdaten!X1005/RD_Rohdaten!X256)*(RD_Rohdaten!X1099/RD_Rohdaten!X911)","v":0.92408682834308542},{"$f":"(RD_Rohdaten!Y1005/RD_Rohdaten!Y256)*(RD_Rohdaten!Y1099/RD_Rohdaten!Y911)","v":0.88430281256066712},{"$f":"(RD_Rohdaten!Z1005/RD_Rohdaten!Z256)*(RD_Rohdaten!Z1099/RD_Rohdaten!Z911)","v":0.91532838340259337},{"$f":"(RD_Rohdaten!AA1005/RD_Rohdaten!AA256)*(RD_Rohdaten!AA1099/RD_Rohdaten!AA911)","v":0.94865734928428513},{"$f":"(RD_Rohdaten!AB1005/RD_Rohdaten!AB256)*(RD_Rohdaten!AB1099/RD_Rohdaten!AB911)","v":0.93369311528121535},{"$f":"(RD_Rohdaten!AC1005/RD_Rohdaten!AC256)*(RD_Rohdaten!AC1099/RD_Rohdaten!AC911)","v":0.94231806490512648},{"$f":"(RD_Rohdaten!AD1005/RD_Rohdaten!AD256)*(RD_Rohdaten!AD1099/RD_Rohdaten!AD911)","v":0.97675549517587423},{"$f":"(RD_Rohdaten!AE1005/RD_Rohdaten!AE256)*(RD_Rohdaten!AE1099/RD_Rohdaten!AE911)","v":{"$error":"#VALUE!"}},{"$f":"(RD_Rohdaten!AF1005/RD_Rohdaten!AF256)*(RD_Rohdaten!AF1099/RD_Rohdaten!AF911)","v":{"$error":"#VALUE!"}}]
["M73","Werbung und Marktforschung",{"$f":"(RD_Rohdaten!C1010/RD_Rohdaten!C261)*(RD_Rohdaten!C1104/RD_Rohdaten!C916)","v":0.16847846360143481},{"$f":"(RD_Rohdaten!D1010/RD_Rohdaten!D261)*(RD_Rohdaten!D1104/RD_Rohdaten!D916)","v":0.18350015435926628},{"$f":"(RD_Rohdaten!E1010/RD_Rohdaten!E261)*(RD_Rohdaten!E1104/RD_Rohdaten!E916)","v":0.18274596731451517},{"$f":"(RD_Rohdaten!F1010/RD_Rohdaten!F261)*(RD_Rohdaten!F1104/RD_Rohdaten!F916)","v":0.19017554900650682},{"$f":"(RD_Rohdaten!G1010/RD_Rohdaten!G261)*(RD_Rohdaten!G1104/RD_Rohdaten!G916)","v":0.20642857142857143},{"$f":"(RD_Rohdaten!H1010/RD_Rohdaten!H261)*(RD_Rohdaten!H1104/RD_Rohdaten!H916)","v":0.22748008051048746},{"$f":"(RD_Rohdaten!I1010/RD_Rohdaten!I261)*(RD_Rohdaten!I1104/RD_Rohdaten!I916)","v":0.22162009172140745},{"$f":"(RD_Rohdaten!J1010/RD_Rohdaten!J261)*(RD_Rohdaten!J1104/RD_Rohdaten!J916)","v":0.25639954424610711},{"$f":"(RD_Rohdaten!K1010/RD_Rohdaten!K261)*(RD_Rohdaten!K1104/RD_Rohdaten!K916)","v":0.25571771306114349},{"$f":"(RD_Rohdaten!L1010/RD_Rohdaten!L261)*(RD_Rohdaten!L1104/RD_Rohdaten!L916)","v":0.28692923224599903},{"$f":"(RD_Rohdaten!M1010/RD_Rohdaten!M261)*(RD_Rohdaten!M1104/RD_Rohdaten!M916)","v":0.34245679461905187},{"$f":"(RD_Rohdaten!N1010/RD_Rohdaten!N261)*(RD_Rohdaten!N1104/RD_Rohdaten!N916)","v":0.38865484349958301},{"$f":"(RD_Rohdaten!O1010/RD_Rohdaten!O261)*(RD_Rohdaten!O1104/RD_Rohdaten!O916)","v":0.3745162335519408},{"$f":"(RD_Rohdaten!P1010/RD_Rohdaten!P261)*(RD_Rohdaten!P1104/RD_Rohdaten!P916)","v":0.38147967479674794},{"$f":"(RD_Rohdaten!Q1010/RD_Rohdaten!Q261)*(RD_Rohdaten!Q1104/RD_Rohdaten!Q916)","v":0.41947826086956524},{"$f":"(RD_Rohdaten!R1010/RD_Rohdaten!R261)*(RD_Rohdaten!R1104/RD_Rohdaten!R916)","v":0.38836682305988068},{"$f":"(RD_Rohdaten!S1010/RD_Rohdaten!S261)*(RD_Rohdaten!S1104/RD_Rohdaten!S916)","v":0.3817820342154179},{"$f":"(RD_Rohdaten!T1010/RD_Rohdaten!T261)*(RD_Rohdaten!T1104/RD_Rohdaten!T916)","v":0.39430314738195732},{"$f":"(RD_Rohdaten!U1010/RD_Rohdaten!U261)*(RD_Rohdaten!U1104/RD_Rohdaten!U916)","v":0.48603503452143776},{"$f":"(RD_Rohdaten!V1010/RD_Rohdaten!V261)*(RD_Rohdaten!V1104/RD_Rohdaten!V916)","v":0.47640773116342472},{"$f":"(RD_Rohdaten!W1010/RD_Rohdaten!W261)*(RD_Rohdaten!W1104/RD_Rohdaten!W916)","v":0.52928232768747485},{"$f":"(RD_Rohdaten!X1010/RD_Rohdaten!X261)*(RD_Rohdaten!X1104/RD_Rohdaten!X916)","v":0.58004978062774215},{"$f":"(RD_Rohdaten!Y1010/RD_Rohdaten!Y261)*(RD_Rohdaten!Y1104/RD_Rohdaten!Y916)","v":0.53547062167583692},{"$f":"(RD_Rohdaten!Z1010/RD_Rohdaten!Z261)*(RD_Rohdaten!Z1104/RD_Rohdaten!Z916)","v":0.57615249293318105},{"$f":"(RD_Rohdaten!AA1010/RD_Rohdaten!AA261)*(RD_Rohdaten!AA1104/RD_Rohdaten!AA916)","v":0.64043916778728061},{"$f":"(RD_Rohdaten!AB1010/RD_Rohdaten!AB261)*(RD_Rohdaten!AB1104/RD_Rohdaten!AB916)","v":0.66200968211018452},{"$f":"(RD_Rohdaten!AC1010/RD_Rohdaten!AC261)*(RD_Rohdaten!AC1104/RD_Rohdaten!AC916)","v":0.71980989002153895},{"$f":"(RD_Rohdaten!AD1010/RD_Rohdaten!AD261)*(RD_Rohdaten!AD1104/RD_Rohdaten!AD916)","v":0.80137980992185809},{"$f":"(RD_Rohdaten!AE1010/RD_Rohdaten!AE261)*(RD_Rohdaten!AE1104/RD_Rohdaten!AE916)","v":{"$error":"#VALUE!"}},{"$f":"(RD_Rohdaten!AF1010/RD_Rohdaten!AF261)*(RD_Rohdaten!AF1104/RD_Rohdaten!AF916)","v":{"$error":"#VALUE!"}}]
["M74-01","Freiberufl.,wiss.,techn.DL a.n.g., Veterinärwesen",{"$f":"(RD_Rohdaten!C1011/RD_Rohdaten!C262)*(RD_Rohdaten!C1105/RD_Rohdaten!C917)","v":0.22676790639871477},{"$f":"(RD_Rohdaten!D1011/RD_Rohdaten!D262)*(RD_Rohdaten!D1105/RD_Rohdaten!D917)","v":0.21173587081891579},{"$f":"(RD_Rohdaten!E1011/RD_Rohdaten!E262)*(RD_Rohdaten!E1105/RD_Rohdaten!E917)","v":0.23236429122716751},{"$f":"(RD_Rohdaten!F1011/RD_Rohdaten!F262)*(RD_Rohdaten!F1105/RD_Rohdaten!F917)","v":0.2472254019925236},{"$f":"(RD_Rohdaten!G1011/RD_Rohdaten!G262)*(RD_Rohdaten!G1105/RD_Rohdaten!G917)","v":0.26034271471596221},{"$f":"(RD_Rohdaten!H1011/RD_Rohdaten!H262)*(RD_Rohdaten!H1105/RD_Rohdaten!H917)","v":0.28364148704765674},{"$f":"(RD_Rohdaten!I1011/RD_Rohdaten!I262)*(RD_Rohdaten!I1105/RD_Rohdaten!I917)","v":0.26397228637413395},{"$f":"(RD_Rohdaten!J1011/RD_Rohdaten!J262)*(RD_Rohdaten!J1105/RD_Rohdaten!J917)","v":0.29229542258694147},{"$f":"(RD_Rohdaten!K1011/RD_Rohdaten!K262)*(RD_Rohdaten!K1105/RD_Rohdaten!K917)","v":0.3306675129970012},{"$f":"(RD_Rohdaten!L1011/RD_Rohdaten!L262)*(RD_Rohdaten!L1105/RD_Rohdaten!L917)","v":0.33487158214940027},{"$f":"(RD_Rohdaten!M1011/RD_Rohdaten!M262)*(RD_Rohdaten!M1105/RD_Rohdaten!M917)","v":0.35056775580628557},{"$f":"(RD_Rohdaten!N1011/RD_Rohdaten!N262)*(RD_Rohdaten!N1105/RD_Rohdaten!N917)","v":0.34683379320863544},{"$f":"(RD_Rohdaten!O1011/RD_Rohdaten!O262)*(RD_Rohdaten!O1105/RD_Rohdaten!O917)","v":0.39510070563235516},{"$f":"(RD_Rohdaten!P1011/RD_Rohdaten!P262)*(RD_Rohdaten!P1105/RD_Rohdaten!P917)","v":0.43319136854060192},{"$f":"(RD_Rohdaten!Q1011/RD_Rohdaten!Q262)*(RD_Rohdaten!Q1105/RD_Rohdaten!Q917)","v":0.45283995513939307},{"$f":"(RD_Rohdaten!R1011/RD_Rohdaten!R262)*(RD_Rohdaten!R1105/RD_Rohdaten!R917)","v":0.46208928393088983},{"$f":"(RD_Rohdaten!S1011/RD_Rohdaten!S262)*(RD_Rohdaten!S1105/RD_Rohdaten!S917)","v":0.49521692437522175},{"$f":"(RD_Rohdaten!T1011/RD_Rohdaten!T262)*(RD_Rohdaten!T1105/RD_Rohdaten!T917)","v":0.51453517214009326},{"$f":"(RD_Rohdaten!U1011/RD_Rohdaten!U262)*(RD_Rohdaten!U1105/RD_Rohdaten!U917)","v":0.6148390616475724},{"$f":"(RD_Rohdaten!V1011/RD_Rohdaten!V262)*(RD_Rohdaten!V1105/RD_Rohdaten!V917)","v":0.63416223270755956},{"$f":"(RD_Rohdaten!W1011/RD_Rohdaten!W262)*(RD_Rohdaten!W1105/RD_Rohdaten!W917)","v":0.68078260682363945},{"$f":"(RD_Rohdaten!X1011/RD_Rohdaten!X262)*(RD_Rohdaten!X1105/RD_Rohdaten!X917)","v":0.66363044892648015},{"$f":"(RD_Rohdaten!Y1011/RD_Rohdaten!Y262)*(RD_Rohdaten!Y1105/RD_Rohdaten!Y917)","v":0.68966300867419161},{"$f":"(RD_Rohdaten!Z1011/RD_Rohdaten!Z262)*(RD_Rohdaten!Z1105/RD_Rohdaten!Z917)","v":0.73222256315087086},{"$f":"(RD_Rohdaten!AA1011/RD_Rohdaten!AA262)*(RD_Rohdaten!AA1105/RD_Rohdaten!AA917)","v":0.73385569355113178},{"$f":"(RD_Rohdaten!AB1011/RD_Rohdaten!AB262)*(RD_Rohdaten!AB1105/RD_Rohdaten!AB917)","v":0.58849478084686191},{"$f":"(RD_Rohdaten!AC1011/RD_Rohdaten!AC262)*(RD_Rohdaten!AC1105/RD_Rohdaten!AC917)","v":0.7255473411723411},{"$f":"(RD_Rohdaten!AD1011/RD_Rohdaten!AD262)*(RD_Rohdaten!AD1105/RD_Rohdaten!AD917)","v":0.6952097272142902},{"$f":"(RD_Rohdaten!AE1011/RD_Rohdaten!AE262)*(RD_Rohdaten!AE1105/RD_Rohdaten!AE917)","v":{"$error":"#VALUE!"}},{"$f":"(RD_Rohdaten!AF1011/RD_Rohdaten!AF262)*(RD_Rohdaten!AF1105/RD_Rohdaten!AF917)","v":{"$error":"#VALUE!"}}]
["L","Grundstücks- und Wohnungswesen",{"$f":"(RD_Rohdaten!C1002/RD_Rohdaten!C253)*(RD_Rohdaten!C1096/RD_Rohdaten!C908)","v":5.1462915418601651E-2},{"$f":"(RD_Rohdaten!D1002/RD_Rohdaten!D253)*(RD_Rohdaten!D1096/RD_Rohdaten!D908)","v":5.1963349700795289E-2},{"$f":"(RD_Rohdaten!E1002/RD_Rohdaten!E253)*(RD_Rohdaten!E1096/RD_Rohdaten!E908)","v":5.2547391760555145E-2},{"$f":"(RD_Rohdaten!F1002/RD_Rohdaten!F253)*(RD_Rohdaten!F1096/RD_Rohdaten!F908)","v":5.2538841415344692E-2},{"$f":"(RD_Rohdaten!G1002/RD_Rohdaten!G253)*(RD_Rohdaten!G1096/RD_Rohdaten!G908)","v":5.1829144968338146E-2},{"$f":"(RD_Rohdaten!H1002/RD_Rohdaten!H253)*(RD_Rohdaten!H1096/RD_Rohdaten!H908)","v":5.2611967380541337E-2},{"$f":"(RD_Rohdaten!I1002/RD_Rohdaten!I253)*(RD_Rohdaten!I1096/RD_Rohdaten!I908)","v":5.3081226606140369E-2},{"$f":"(RD_Rohdaten!J1002/RD_Rohdaten!J253)*(RD_Rohdaten!J1096/RD_Rohdaten!J908)","v":5.757860769942718E-2},{"$f":"(RD_Rohdaten!K1002/RD_Rohdaten!K253)*(RD_Rohdaten!K1096/RD_Rohdaten!K908)","v":5.9927437034619148E-2},{"$f":"(RD_Rohdaten!L1002/RD_Rohdaten!L253)*(RD_Rohdaten!L1096/RD_Rohdaten!L908)","v":5.9857487559656281E-2},{"$f":"(RD_Rohdaten!M1002/RD_Rohdaten!M253)*(RD_Rohdaten!M1096/RD_Rohdaten!M908)","v":5.7771523316519482E-2},{"$f":"(RD_Rohdaten!N1002/RD_Rohdaten!N253)*(RD_Rohdaten!N1096/RD_Rohdaten!N908)","v":5.627079536162384E-2},{"$f":"(RD_Rohdaten!O1002/RD_Rohdaten!O253)*(RD_Rohdaten!O1096/RD_Rohdaten!O908)","v":5.8375087909915746E-2},{"$f":"(RD_Rohdaten!P1002/RD_Rohdaten!P253)*(RD_Rohdaten!P1096/RD_Rohdaten!P908)","v":5.5842217297027201E-2},{"$f":"(RD_Rohdaten!Q1002/RD_Rohdaten!Q253)*(RD_Rohdaten!Q1096/RD_Rohdaten!Q908)","v":5.6225038688662576E-2},{"$f":"(RD_Rohdaten!R1002/RD_Rohdaten!R253)*(RD_Rohdaten!R1096/RD_Rohdaten!R908)","v":5.3566245976936155E-2},{"$f":"(RD_Rohdaten!S1002/RD_Rohdaten!S253)*(RD_Rohdaten!S1096/RD_Rohdaten!S908)","v":5.0514479747475409E-2},{"$f":"(RD_Rohdaten!T1002/RD_Rohdaten!T253)*(RD_Rohdaten!T1096/RD_Rohdaten!T908)","v":4.8919155482761427E-2},{"$f":"(RD_Rohdaten!U1002/RD_Rohdaten!U253)*(RD_Rohdaten!U1096/RD_Rohdaten!U908)","v":4.9601121289506313E-2},{"$f":"(RD_Rohdaten!V1002/RD_Rohdaten!V253)*(RD_Rohdaten!V1096/RD_Rohdaten!V908)","v":4.9981595756450357E-2},{"$f":"(RD_Rohdaten!W1002/RD_Rohdaten!W253)*(RD_Rohdaten!W1096/RD_Rohdaten!W908)","v":4.8748406759451517E-2},{"$f":"(RD_Rohdaten!X1002/RD_Rohdaten!X253)*(RD_Rohdaten!X1096/RD_Rohdaten!X908)","v":5.1257134273724421E-2},{"$f":"(RD_Rohdaten!Y1002/RD_Rohdaten!Y253)*(RD_Rohdaten!Y1096/RD_Rohdaten!Y908)","v":4.8768504856973434E-2},{"$f":"(RD_Rohdaten!Z1002/RD_Rohdaten!Z253)*(RD_Rohdaten!Z1096/RD_Rohdaten!Z908)","v":4.9692879370093285E-2},{"$f":"(RD_Rohdaten!AA1002/RD_Rohdaten!AA253)*(RD_Rohdaten!AA1096/RD_Rohdaten!AA908)","v":4.9673844187121549E-2},{"$f":"(RD_Rohdaten!AB1002/RD_Rohdaten!AB253)*(RD_Rohdaten!AB1096/RD_Rohdaten!AB908)","v":5.126223293690782E-2},{"$f":"(RD_Rohdaten!AC1002/RD_Rohdaten!AC253)*(RD_Rohdaten!AC1096/RD_Rohdaten!AC908)","v":5.3264988723207035E-2},{"$f":"(RD_Rohdaten!AD1002/RD_Rohdaten!AD253)*(RD_Rohdaten!AD1096/RD_Rohdaten!AD908)","v":5.5132235040451338E-2},{"$f":"(RD_Rohdaten!AE1002/RD_Rohdaten!AE253)*(RD_Rohdaten!AE1096/RD_Rohdaten!AE908)","v":5.5428817584736036E-2},{"$f":"(RD_Rohdaten!AF1002/RD_Rohdaten!AF253)*(RD_Rohdaten!AF1096/RD_Rohdaten!AF908)","v":5.5432789992434318E-2}]
[]
["Kapitalquote",null,1991,{"$f":"C102+1","v":1992},{"$f":"D102+1","v":1993},1994,1995,1996,1997,1998,1999,2000,2001,2002,2003,2004,2005,2006,2007,2008,2009,2010,2011,2012,2013,2014,2015,2016,2017,{"$f":"AC102+1","v":2018},{"$f":"AD102+1","v":2019},{"$f":"AE102+1","v":2020}]
["C33","Reparatur und Installation von Maschinen und Ausrüstungen",{"$f":"1-C90","v":0.21300904814072819},0.18247198427041611,0.12906288400646526,0.13218116740088104,7.8495663070958899E-2,6.3186361666840996E-2,0.11658969400798391,0.11434178911840664,0.11286908295578824,6.9189756406599967E-2,1.361891134890858E-2,3.6070686070685976E-2,4.946727549467278E-2,7.6201396851871217E-2,0.16569320948831689,0.14597332871492896,0.20692431561996782,0.11578574793790641,4.1423659284380854E-2,4.857240524423978E-2,5.9615502170059398E-2,9.1529992993123699E-2,7.2473117527628306E-2,0.10444755507050862,0.12839054732486677,0.1187355310801842,8.6283128585155966E-2,{"$f":"1-AD90","v":6.0260927822925026E-2},{"$error":"#VALUE!"},{"$error":"#VALUE!"}]
["G45","Handel mit Kraftfahrzeugen; Instandhaltung und Reparatur von Kraftfahrzeugen",0.41477899204176116,0.39115514430934262,0.26897306931404286,0.31080085009122982,0.34124059871481915,0.33899579906760802,0.36076266545828206,0.37034099032791779,0.36716124149886742,0.32996751205969421,0.34267129841518185,0.39019838745127067,0.42142605536150213,0.41832121589616666,0.42417588354945335,0.43394594788686869,0.39675758599035893,0.40122029202940446,0.45424185606714007,0.36451789380785993,0.41909839604356303,0.32046468776968695,0.3143570990880894,0.34071915414389631,0.33989908794092538,0.36842829656367149,0.33825343823464427,0.30988832054788784,{"$error":"#VALUE!"},{"$error":"#VALUE!"}]
["G47","Einzelhandel (ohne Handel mit Kraftfahrzeugen)",0.26273870625739337,0.21417656584972711,0.19618732974333442,0.19106633555796682,0.25134710752821932,0.26988152024634826,0.26840741635913012,0.26680855064979569,0.26358693439867886,0.30072842906668806,0.28763172937004466,0.27262575496792385,0.27108483343439049,0.26437681478113351,0.24570580069189873,0.25624259537920946,0.24587629848595816,0.20073889869930861,0.20579921335748252,0.17662968664647183,0.13189539897149882,8.9733224459357275E-2,0.13338898650610764,0.14056386907877672,0.18603103972175838,0.19115346564851221,0.20075429102165221,0.19206891796035042,{"$error":"#VALUE!"},{"$error":"#VALUE!"}]
["H49","Landverkehr und Transport in Rohrfernleitungen",0.24028615190338287,0.19320698637839828,0.15025189690658303,0.15116504402121,0.17508103234148253,0.16130135242454768,0.2127307519798417,0.21948522773390666,0.305814980485831,0.30697415183269983,0.36402984764506963,0.35982345061532084,0.35296235425526423,0.32299383202780685,0.35947785091620699,0.40777138751982089,0.41264012184115806,0.41000603706730088,0.37771454923241365,0.3798016318843257,0.3929396647226534,0.393425368908075,0.40232260855995006,0.41618116095428415,0.40752678161513767,0.38340317884240505,0.37993829948217428,0.38192484520289816,{"$error":"#VALUE!"},{"$error":"#VALUE!"}]
["H52","Lagerei sowie Erbringung von sonstigen Dienstleistungen für den Verkehr",0.152735597238434,0.11501424449763475,0.15474976310171218,0.18065615079784036,0.23830750568261327,0.25299416282871412,0.30047212221960851,0.30933693785069338,0.20684379051615565,0.21794725948360039,0.26976154206170155,0.34235603218512767,0.35573484908667707,0.38083379679697715,0.39692979017891572,0.43799813088646578,0.44419178897914979,0.42369190034432302,0.36877488146185677,0.40330176009912422,0.40018368133727411,0.38859131463716334,0.41060425395804456,0.39899412789442579,0.36572626639422745,0.34567990311665608,0.33333913577330998,0.32963023595429275,{"$error":"#VALUE!"},{"$error":"#VALUE!"}]
["J61","Telekommunikation",0.50136270195045107,0.51047216046868327,0.52749645548406932,0.54789886854729475,0.55249925238406417,0.54440792686701656,0.59654404033444464,0.6416130812712586,0.63465652248727356,0.65159057094382722,0.67580719784535259,0.70874430413220524,0.66103399462830159,0.71216895708567951,0.67343628447593962,0.69525937760131695,0.67018897146444423,0.65543044711269727,0.67166452331707549,0.68176393709617855,0.678500881311489,0.68141876237415222,0.66772349203401304,0.67281894843197454,0.67734778592399891,0.65578290647812332,0.67828960721322096,0.68657299732667165,{"$error":"#VALUE!"},{"$error":"#VALUE!"}]
["J62-01","IT- und Informationsdienstleister",0.48423924190835621,0.44798943974793515,0.43918866298251835,0.34927601940904651,0.31922906210522717,0.335407258675397,0.36711302731507189,0.40035970086413009,0.30475954358809054,0.24956325077535357,0.26669271808268868,0.2495644784995652,0.19122740808105576,0.18413975113150061,0.20552330476835046,0.22210856401384071,0.26965205407309256,0.22680153705691719,0.18816315537555173,0.17371821010838062,0.24251399862188006,0.22585362585612212,0.28617727697744821,0.27165222875523598,0.24413607738346388,0.2342484823957911,0.21684313831859581,0.23290843549412599,{"$error":"#VALUE!"},{"$error":"#VALUE!"}]
["M69-01","Unternehmensnahe Beratungsleistungen ",0.57230248644778992,0.56897954445880972,0.58048942899950062,0.55792446053900302,0.54632199877542753,0.53143689156681373,0.50062421532148771,0.49510891461772544,0.49177525689372215,0.45997485664875548,0.4711212575229704,0.45406714946002069,0.42273704683196434,0.36994672381652316,0.34603249786847023,0.3460856790570378,0.34273724463692024,0.29208575982303775,0.18708120261144778,0.15230063562635165,0.10192737076238179,7.591317165691458E-2,0.11569718743933288,8.4671616597406629E-2,5.1342650715714866E-2,6.6306884718784653E-2,5.7681935094873515E-2,2.3244504824125767E-2,{"$error":"#VALUE!"},{"$error":"#VALUE!"}]
["M73","Werbung und Marktforschung",0.83152153639856519,0.81649984564073375,0.8172540326854848,0.80982445099349321,0.79357142857142859,0.77251991948951249,0.77837990827859249,0.74360045575389289,0.74428228693885656,0.71307076775400091,0.65754320538094813,0.61134515650041699,0.62548376644805925,0.61852032520325206,0.5805217391304347,0.61163317694011932,0.6182179657845821,0.60569685261804262,0.5139649654785623,0.52359226883657528,0.47071767231252515,0.41995021937225785,0.46452937832416308,0.42384750706681895,0.35956083221271939,0.33799031788981548,0.28019010997846105,0.19862019007814191,{"$error":"#VALUE!"},{"$error":"#VALUE!"}]
["M74-01","Freiberufl.,wiss.,techn.DL a.n.g., Veterinärwesen",0.7732320936012852,0.78826412918108424,0.76763570877283249,0.75277459800747637,0.73965728528403774,0.71635851295234332,0.73602771362586605,0.70770457741305859,0.66933248700299885,0.66512841785059973,0.64943224419371437,0.65316620679136461,{"$f":"1-O99","v":0.60489929436764478},0.56680863145939808,0.54716004486060688,0.53791071606911012,0.5047830756247782,0.48546482785990674,0.3851609383524276,0.36583776729244044,0.31921739317636055,0.33636955107351985,0.31033699132580839,0.26777743684912914,0.26614430644886822,0.41150521915313809,0.2744526588276589,{"$f":"1-AD99","v":0.3047902727857098},{"$error":"#VALUE!"},{"$error":"#VALUE!"}]
["L","Grundstücks- und Wohnungswesen",{"$f":"1-C100","v":0.94853708458139829},0.9480366502992047,0.94745260823944488,0.94746115858465529,0.94817085503166187,0.9473880326194587,0.94691877339385966,0.94242139230057287,0.94007256296538089,0.94014251244034375,0.94222847668348053,0.94372920463837617,0.94162491209008425,0.94415778270297279,0.94377496131133742,0.94643375402306384,0.94948552025252464,0.95108084451723862,0.95039887871049367,0.95001840424354966,0.95125159324054853,0.94874286572627553,0.95123149514302652,0.95030712062990674,0.95032615581287849,0.94873776706309221,0.94673501127679294,{"$f":"1-AD100","v":0.94486776495954872},0.94457118241526394,0.94456721000756572]

{"sheet":"NR_Indexreihen","index":17,"n_rows":71,"n_cols":32,"rows_kept":71,"cut":false,"hidden":false,"merged":[]}
["Outputindex"]
["Bruttowertschöpfung (preisbereinigt)"]
["Nr. (WZ 2008)","Branche",1991,{"$f":"C3+1","v":1992},{"$f":"D3+1","v":1993},1994,1995,1996,1997,1998,1999,2000,2001,2002,2003,2004,2005,2006,2007,2008,2009,2010,2011,2012,2013,2014,2015,2016,2017,{"$f":"AC3+1","v":2018},{"$f":"AD3+1","v":2019},{"$f":"AE3+1","v":2020}]
["C33","Reparatur und Installation von Maschinen und Ausrüstungen",{"$f":"RD_Rohdaten!C316","v":47.23},{"$f":"RD_Rohdaten!D316","v":48.14},{"$f":"RD_Rohdaten!E316","v":45.11},{"$f":"RD_Rohdaten!F316","v":47.47},{"$f":"RD_Rohdaten!G316","v":47.71},{"$f":"RD_Rohdaten!H316","v":47.41},{"$f":"RD_Rohdaten!I316","v":52.09},{"$f":"RD_Rohdaten!J316","v":54.42},{"$f":"RD_Rohdaten!K316","v":59.43},{"$f":"RD_Rohdaten!L316","v":64.75},{"$f":"RD_Rohdaten!M316","v":65.599999999999994},{"$f":"RD_Rohdaten!N316","v":67.37},{"$f":"RD_Rohdaten!O316","v":72.39},{"$f":"RD_Rohdaten!P316","v":79.67},{"$f":"RD_Rohdaten!Q316","v":90.75},{"$f":"RD_Rohdaten!R316","v":93.19},{"$f":"RD_Rohdaten!S316","v":101.6},{"$f":"RD_Rohdaten!T316","v":94.56},{"$f":"RD_Rohdaten!U316","v":90.05},{"$f":"RD_Rohdaten!V316","v":92.38},{"$f":"RD_Rohdaten!W316","v":97.56},{"$f":"RD_Rohdaten!X316","v":97.97},{"$f":"RD_Rohdaten!Y316","v":94.96},{"$f":"RD_Rohdaten!Z316","v":95.93},{"$f":"RD_Rohdaten!AA316","v":100},{"$f":"RD_Rohdaten!AB316","v":96.71},{"$f":"RD_Rohdaten!AC316","v":90.25},{"$f":"RD_Rohdaten!AD316","v":86.99},{"$f":"RD_Rohdaten!AE316","v":"..."},{"$f":"RD_Rohdaten!AF316","v":"..."}]
["G45","Handel mit Kraftfahrzeugen; Instandhaltung und Reparatur von Kraftfahrzeugen",{"$f":"RD_Rohdaten!C325","v":68.31},{"$f":"RD_Rohdaten!D325","v":69.2},{"$f":"RD_Rohdaten!E325","v":57.7},{"$f":"RD_Rohdaten!F325","v":58.64},{"$f":"RD_Rohdaten!G325","v":59.06},{"$f":"RD_Rohdaten!H325","v":59.37},{"$f":"RD_Rohdaten!I325","v":61.99},{"$f":"RD_Rohdaten!J325","v":64.72},{"$f":"RD_Rohdaten!K325","v":68.3},{"$f":"RD_Rohdaten!L325","v":68.83},{"$f":"RD_Rohdaten!M325","v":68.67},{"$f":"RD_Rohdaten!N325","v":73.17},{"$f":"RD_Rohdaten!O325","v":85.54},{"$f":"RD_Rohdaten!P325","v":91.65},{"$f":"RD_Rohdaten!Q325","v":92.1},{"$f":"RD_Rohdaten!R325","v":98.72},{"$f":"RD_Rohdaten!S325","v":94.88},{"$f":"RD_Rohdaten!T325","v":98},{"$f":"RD_Rohdaten!U325","v":97.25},{"$f":"RD_Rohdaten!V325","v":88.62},{"$f":"RD_Rohdaten!W325","v":98.07},{"$f":"RD_Rohdaten!X325","v":96.03},{"$f":"RD_Rohdaten!Y325","v":94.13},{"$f":"RD_Rohdaten!Z325","v":98.42},{"$f":"RD_Rohdaten!AA325","v":100},{"$f":"RD_Rohdaten!AB325","v":107.5},{"$f":"RD_Rohdaten!AC325","v":105.49},{"$f":"RD_Rohdaten!AD325","v":104.81},{"$f":"RD_Rohdaten!AE325","v":"..."},{"$f":"RD_Rohdaten!AF325","v":"..."}]
["G47","Einzelhandel (ohne Handel mit Kraftfahrzeugen)",{"$f":"RD_Rohdaten!C327","v":82.49},{"$f":"RD_Rohdaten!D327","v":84.77},{"$f":"RD_Rohdaten!E327","v":81.510000000000005},{"$f":"RD_Rohdaten!F327","v":84.4},{"$f":"RD_Rohdaten!G327","v":86.63},{"$f":"RD_Rohdaten!H327","v":85.83},{"$f":"RD_Rohdaten!I327","v":85.64},{"$f":"RD_Rohdaten!J327","v":86.67},{"$f":"RD_Rohdaten!K327","v":88.31},{"$f":"RD_Rohdaten!L327","v":89.96},{"$f":"RD_Rohdaten!M327","v":91.13},{"$f":"RD_Rohdaten!N327","v":87.41},{"$f":"RD_Rohdaten!O327","v":86.85},{"$f":"RD_Rohdaten!P327","v":85.78},{"$f":"RD_Rohdaten!Q327","v":83.49},{"$f":"RD_Rohdaten!R327","v":88.39},{"$f":"RD_Rohdaten!S327","v":88.95},{"$f":"RD_Rohdaten!T327","v":87.68},{"$f":"RD_Rohdaten!U327","v":89.21},{"$f":"RD_Rohdaten!V327","v":91.71},{"$f":"RD_Rohdaten!W327","v":90.46},{"$f":"RD_Rohdaten!X327","v":90.5},{"$f":"RD_Rohdaten!Y327","v":89.92},{"$f":"RD_Rohdaten!Z327","v":92.82},{"$f":"RD_Rohdaten!AA327","v":100},{"$f":"RD_Rohdaten!AB327","v":103.35},{"$f":"RD_Rohdaten!AC327","v":106.26},{"$f":"RD_Rohdaten!AD327","v":105.64},{"$f":"RD_Rohdaten!AE327","v":"..."},{"$f":"RD_Rohdaten!AF327","v":"..."}]
["H49","Landverkehr und Transport in Rohrfernleitungen",{"$f":"RD_Rohdaten!C329","v":87.96},{"$f":"RD_Rohdaten!D329","v":81.98},{"$f":"RD_Rohdaten!E329","v":80.959999999999994},{"$f":"RD_Rohdaten!F329","v":83.81},{"$f":"RD_Rohdaten!G329","v":94.46},{"$f":"RD_Rohdaten!H329","v":98.89},{"$f":"RD_Rohdaten!I329","v":94},{"$f":"RD_Rohdaten!J329","v":93.68},{"$f":"RD_Rohdaten!K329","v":97.76},{"$f":"RD_Rohdaten!L329","v":91.58},{"$f":"RD_Rohdaten!M329","v":89.45},{"$f":"RD_Rohdaten!N329","v":87.18},{"$f":"RD_Rohdaten!O329","v":82.88},{"$f":"RD_Rohdaten!P329","v":83.22},{"$f":"RD_Rohdaten!Q329","v":86.9},{"$f":"RD_Rohdaten!R329","v":95.06},{"$f":"RD_Rohdaten!S329","v":96.85},{"$f":"RD_Rohdaten!T329","v":99.03},{"$f":"RD_Rohdaten!U329","v":91.03},{"$f":"RD_Rohdaten!V329","v":93.63},{"$f":"RD_Rohdaten!W329","v":98.94},{"$f":"RD_Rohdaten!X329","v":100.37},{"$f":"RD_Rohdaten!Y329","v":100.15},{"$f":"RD_Rohdaten!Z329","v":102.73},{"$f":"RD_Rohdaten!AA329","v":100},{"$f":"RD_Rohdaten!AB329","v":98.22},{"$f":"RD_Rohdaten!AC329","v":101.02},{"$f":"RD_Rohdaten!AD329","v":104.87},{"$f":"RD_Rohdaten!AE329","v":"..."},{"$f":"RD_Rohdaten!AF329","v":"..."}]
["H52","Lagerei sowie Erbringung von sonstigen Dienstleistungen für den Verkehr",{"$f":"RD_Rohdaten!C332","v":45.95},{"$f":"RD_Rohdaten!D332","v":45.55},{"$f":"RD_Rohdaten!E332","v":45.2},{"$f":"RD_Rohdaten!F332","v":47.39},{"$f":"RD_Rohdaten!G332","v":46.23},{"$f":"RD_Rohdaten!H332","v":47.9},{"$f":"RD_Rohdaten!I332","v":52.88},{"$f":"RD_Rohdaten!J332","v":56.06},{"$f":"RD_Rohdaten!K332","v":58.3},{"$f":"RD_Rohdaten!L332","v":60.99},{"$f":"RD_Rohdaten!M332","v":67.88},{"$f":"RD_Rohdaten!N332","v":74.64},{"$f":"RD_Rohdaten!O332","v":77.3},{"$f":"RD_Rohdaten!P332","v":87.76},{"$f":"RD_Rohdaten!Q332","v":92.55},{"$f":"RD_Rohdaten!R332","v":100.85},{"$f":"RD_Rohdaten!S332","v":103.1},{"$f":"RD_Rohdaten!T332","v":101.36},{"$f":"RD_Rohdaten!U332","v":88.32},{"$f":"RD_Rohdaten!V332","v":93.64},{"$f":"RD_Rohdaten!W332","v":94.91},{"$f":"RD_Rohdaten!X332","v":96.28},{"$f":"RD_Rohdaten!Y332","v":99.2},{"$f":"RD_Rohdaten!Z332","v":101.83},{"$f":"RD_Rohdaten!AA332","v":100},{"$f":"RD_Rohdaten!AB332","v":103.18},{"$f":"RD_Rohdaten!AC332","v":106.47},{"$f":"RD_Rohdaten!AD332","v":113.07},{"$f":"RD_Rohdaten!AE332","v":"..."},{"$f":"RD_Rohdaten!AF332","v":"..."}]
["J61","Telekommunikation",{"$f":"RD_Rohdaten!C339","v":26.38},{"$f":"RD_Rohdaten!D339","v":28.38},{"$f":"RD_Rohdaten!E339","v":30.89},{"$f":"RD_Rohdaten!F339","v":32.14},{"$f":"RD_Rohdaten!G339","v":34.340000000000003},{"$f":"RD_Rohdaten!H339","v":36.65},{"$f":"RD_Rohdaten!I339","v":41.05},{"$f":"RD_Rohdaten!J339","v":46.43},{"$f":"RD_Rohdaten!K339","v":52.61},{"$f":"RD_Rohdaten!L339","v":57},{"$f":"RD_Rohdaten!M339","v":66.02},{"$f":"RD_Rohdaten!N339","v":74.64},{"$f":"RD_Rohdaten!O339","v":62.25},{"$f":"RD_Rohdaten!P339","v":72.48},{"$f":"RD_Rohdaten!Q339","v":64.239999999999995},{"$f":"RD_Rohdaten!R339","v":73.23},{"$f":"RD_Rohdaten!S339","v":79.36},{"$f":"RD_Rohdaten!T339","v":86.43},{"$f":"RD_Rohdaten!U339","v":87.52},{"$f":"RD_Rohdaten!V339","v":85.66},{"$f":"RD_Rohdaten!W339","v":91.17},{"$f":"RD_Rohdaten!X339","v":91.51},{"$f":"RD_Rohdaten!Y339","v":87.5},{"$f":"RD_Rohdaten!Z339","v":94.44},{"$f":"RD_Rohdaten!AA339","v":100},{"$f":"RD_Rohdaten!AB339","v":97.8},{"$f":"RD_Rohdaten!AC339","v":106.88},{"$f":"RD_Rohdaten!AD339","v":106.42},{"$f":"RD_Rohdaten!AE339","v":"..."},{"$f":"RD_Rohdaten!AF339","v":"..."}]
["J62-01","IT- und Informationsdienstleister",{"$f":"RD_Rohdaten!C340","v":14.62},{"$f":"RD_Rohdaten!D340","v":15.49},{"$f":"RD_Rohdaten!E340","v":17.2},{"$f":"RD_Rohdaten!F340","v":16.32},{"$f":"RD_Rohdaten!G340","v":17.440000000000001},{"$f":"RD_Rohdaten!H340","v":19.82},{"$f":"RD_Rohdaten!I340","v":22.42},{"$f":"RD_Rohdaten!J340","v":27.99},{"$f":"RD_Rohdaten!K340","v":29.8},{"$f":"RD_Rohdaten!L340","v":34.11},{"$f":"RD_Rohdaten!M340","v":39.85},{"$f":"RD_Rohdaten!N340","v":41.51},{"$f":"RD_Rohdaten!O340","v":40.14},{"$f":"RD_Rohdaten!P340","v":41.79},{"$f":"RD_Rohdaten!Q340","v":44.31},{"$f":"RD_Rohdaten!R340","v":49.47},{"$f":"RD_Rohdaten!S340","v":60.64},{"$f":"RD_Rohdaten!T340","v":64.02},{"$f":"RD_Rohdaten!U340","v":63.06},{"$f":"RD_Rohdaten!V340","v":64.2},{"$f":"RD_Rohdaten!W340","v":76.05},{"$f":"RD_Rohdaten!X340","v":81.69},{"$f":"RD_Rohdaten!Y340","v":91.19},{"$f":"RD_Rohdaten!Z340","v":98.04},{"$f":"RD_Rohdaten!AA340","v":100},{"$f":"RD_Rohdaten!AB340","v":106.68},{"$f":"RD_Rohdaten!AC340","v":113.33},{"$f":"RD_Rohdaten!AD340","v":127.08},{"$f":"RD_Rohdaten!AE340","v":"..."},{"$f":"RD_Rohdaten!AF340","v":"..."}]
["M69-01","Unternehmensnahe Beratungsleistungen ",{"$f":"RD_Rohdaten!C348","v":63.5},{"$f":"RD_Rohdaten!D348","v":67.72},{"$f":"RD_Rohdaten!E348","v":73.97},{"$f":"RD_Rohdaten!F348","v":75.27},{"$f":"RD_Rohdaten!G348","v":78.41},{"$f":"RD_Rohdaten!H348","v":80.55},{"$f":"RD_Rohdaten!I348","v":78.38},{"$f":"RD_Rohdaten!J348","v":83.16},{"$f":"RD_Rohdaten!K348","v":88.59},{"$f":"RD_Rohdaten!L348","v":92.51},{"$f":"RD_Rohdaten!M348","v":99.22},{"$f":"RD_Rohdaten!N348","v":101.32},{"$f":"RD_Rohdaten!O348","v":101.8},{"$f":"RD_Rohdaten!P348","v":97.57},{"$f":"RD_Rohdaten!Q348","v":99.14},{"$f":"RD_Rohdaten!R348","v":102.62},{"$f":"RD_Rohdaten!S348","v":105.55},{"$f":"RD_Rohdaten!T348","v":107.98},{"$f":"RD_Rohdaten!U348","v":93.17},{"$f":"RD_Rohdaten!V348","v":94.71},{"$f":"RD_Rohdaten!W348","v":95.53},{"$f":"RD_Rohdaten!X348","v":98.55},{"$f":"RD_Rohdaten!Y348","v":97.67},{"$f":"RD_Rohdaten!Z348","v":97.59},{"$f":"RD_Rohdaten!AA348","v":100},{"$f":"RD_Rohdaten!AB348","v":100.53},{"$f":"RD_Rohdaten!AC348","v":110.82},{"$f":"RD_Rohdaten!AD348","v":112.14},{"$f":"RD_Rohdaten!AE348","v":"..."},{"$f":"RD_Rohdaten!AF348","v":"..."}]
["M73","Werbung und Marktforschung",{"$f":"RD_Rohdaten!C353","v":132.87},{"$f":"RD_Rohdaten!D353","v":131.97999999999999},{"$f":"RD_Rohdaten!E353","v":140.97},{"$f":"RD_Rohdaten!F353","v":142.57},{"$f":"RD_Rohdaten!G353","v":143.97999999999999},{"$f":"RD_Rohdaten!H353","v":135.56},{"$f":"RD_Rohdaten!I353","v":139.38999999999999},{"$f":"RD_Rohdaten!J353","v":127.49},{"$f":"RD_Rohdaten!K353","v":131.15},{"$f":"RD_Rohdaten!L353","v":135.53},{"$f":"RD_Rohdaten!M353","v":119.5},{"$f":"RD_Rohdaten!N353","v":102.82},{"$f":"RD_Rohdaten!O353","v":105.21},{"$f":"RD_Rohdaten!P353","v":107.48},{"$f":"RD_Rohdaten!Q353","v":101.35},{"$f":"RD_Rohdaten!R353","v":111.14},{"$f":"RD_Rohdaten!S353","v":113.7},{"$f":"RD_Rohdaten!T353","v":115.55},{"$f":"RD_Rohdaten!U353","v":94.62},{"$f":"RD_Rohdaten!V353","v":97.12},{"$f":"RD_Rohdaten!W353","v":98.48},{"$f":"RD_Rohdaten!X353","v":96.83},{"$f":"RD_Rohdaten!Y353","v":105.24},{"$f":"RD_Rohdaten!Z353","v":101.86},{"$f":"RD_Rohdaten!AA353","v":100},{"$f":"RD_Rohdaten!AB353","v":99.33},{"$f":"RD_Rohdaten!AC353","v":96.07},{"$f":"RD_Rohdaten!AD353","v":88.99},{"$f":"RD_Rohdaten!AE353","v":"..."},{"$f":"RD_Rohdaten!AF353","v":"..."}]
["M74-01","Freiberufl.,wiss.,techn.DL a.n.g., Veterinärwesen",{"$f":"RD_Rohdaten!C354","v":101.63},{"$f":"RD_Rohdaten!D354","v":116.39},{"$f":"RD_Rohdaten!E354","v":112.83},{"$f":"RD_Rohdaten!F354","v":105.7},{"$f":"RD_Rohdaten!G354","v":107.5},{"$f":"RD_Rohdaten!H354","v":101.72},{"$f":"RD_Rohdaten!I354","v":107.93},{"$f":"RD_Rohdaten!J354","v":101.76},{"$f":"RD_Rohdaten!K354","v":94.03},{"$f":"RD_Rohdaten!L354","v":99.17},{"$f":"RD_Rohdaten!M354","v":96.11},{"$f":"RD_Rohdaten!N354","v":96.88},{"$f":"RD_Rohdaten!O354","v":87.35},{"$f":"RD_Rohdaten!P354","v":82.94},{"$f":"RD_Rohdaten!Q354","v":85.64},{"$f":"RD_Rohdaten!R354","v":89.03},{"$f":"RD_Rohdaten!S354","v":91.49},{"$f":"RD_Rohdaten!T354","v":89.97},{"$f":"RD_Rohdaten!U354","v":86.22},{"$f":"RD_Rohdaten!V354","v":86.15},{"$f":"RD_Rohdaten!W354","v":86.65},{"$f":"RD_Rohdaten!X354","v":95.32},{"$f":"RD_Rohdaten!Y354","v":98.34},{"$f":"RD_Rohdaten!Z354","v":96.49},{"$f":"RD_Rohdaten!AA354","v":100},{"$f":"RD_Rohdaten!AB354","v":127.21},{"$f":"RD_Rohdaten!AC354","v":110.48},{"$f":"RD_Rohdaten!AD354","v":120.88},{"$f":"RD_Rohdaten!AE354","v":"..."},{"$f":"RD_Rohdaten!AF354","v":"..."}]
["L","Grundstücks- und Wohnungswesen",{"$f":"RD_Rohdaten!C345","v":50.68},{"$f":"RD_Rohdaten!D345","v":53.19},{"$f":"RD_Rohdaten!E345","v":55.74},{"$f":"RD_Rohdaten!F345","v":58.9},{"$f":"RD_Rohdaten!G345","v":64.44},{"$f":"RD_Rohdaten!H345","v":70.11},{"$f":"RD_Rohdaten!I345","v":72.42},{"$f":"RD_Rohdaten!J345","v":75.010000000000005},{"$f":"RD_Rohdaten!K345","v":74.5},{"$f":"RD_Rohdaten!L345","v":77.290000000000006},{"$f":"RD_Rohdaten!M345","v":80.47},{"$f":"RD_Rohdaten!N345","v":82.86},{"$f":"RD_Rohdaten!O345","v":84.61},{"$f":"RD_Rohdaten!P345","v":85.05},{"$f":"RD_Rohdaten!Q345","v":86.89},{"$f":"RD_Rohdaten!R345","v":89.13},{"$f":"RD_Rohdaten!S345","v":91.72},{"$f":"RD_Rohdaten!T345","v":93.1},{"$f":"RD_Rohdaten!U345","v":94.87},{"$f":"RD_Rohdaten!V345","v":93.79},{"$f":"RD_Rohdaten!W345","v":97.98},{"$f":"RD_Rohdaten!X345","v":95.58},{"$f":"RD_Rohdaten!Y345","v":98.09},{"$f":"RD_Rohdaten!Z345","v":98.63},{"$f":"RD_Rohdaten!AA345","v":100},{"$f":"RD_Rohdaten!AB345","v":100.56},{"$f":"RD_Rohdaten!AC345","v":100.42},{"$f":"RD_Rohdaten!AD345","v":100.75},{"$f":"RD_Rohdaten!AE345","v":101.77},{"$f":"RD_Rohdaten!AF345","v":101.28}]
[]
["Inputindex"]
[]
["Arbeitsindex \n(Anzahl Erwerbstätige)"]
["Nr. (WZ 2008)","Branche",1991,{"$f":"C19+1","v":1992},{"$f":"D19+1","v":1993},1994,1995,1996,1997,1998,1999,2000,2001,2002,2003,2004,2005,2006,2007,2008,2009,2010,2011,2012,2013,2014,2015,2016,2017,{"$f":"AC19+1","v":2018},{"$f":"AD19+1","v":2019},{"$f":"AE19+1","v":2020}]
["C33","Reparatur und Installation von Maschinen und Ausrüstungen",{"$f":"(RD_Rohdaten!C1067/RD_Rohdaten!$AA$1067)*100","v":106.45161290322579},{"$f":"(RD_Rohdaten!D1067/RD_Rohdaten!$AA$1067)*100","v":97.58064516129032},{"$f":"(RD_Rohdaten!E1067/RD_Rohdaten!$AA$1067)*100","v":91.129032258064512},{"$f":"(RD_Rohdaten!F1067/RD_Rohdaten!$AA$1067)*100","v":85.08064516129032},{"$f":"(RD_Rohdaten!G1067/RD_Rohdaten!$AA$1067)*100","v":82.258064516129039},{"$f":"(RD_Rohdaten!H1067/RD_Rohdaten!$AA$1067)*100","v":79.838709677419345},{"$f":"(RD_Rohdaten!I1067/RD_Rohdaten!$AA$1067)*100","v":78.225806451612897},{"$f":"(RD_Rohdaten!J1067/RD_Rohdaten!$AA$1067)*100","v":78.225806451612897},{"$f":"(RD_Rohdaten!K1067/RD_Rohdaten!$AA$1067)*100","v":79.435483870967744},{"$f":"(RD_Rohdaten!L1067/RD_Rohdaten!$AA$1067)*100","v":80.645161290322577},{"$f":"(RD_Rohdaten!M1067/RD_Rohdaten!$AA$1067)*100","v":81.451612903225808},{"$f":"(RD_Rohdaten!N1067/RD_Rohdaten!$AA$1067)*100","v":79.838709677419345},{"$f":"(RD_Rohdaten!O1067/RD_Rohdaten!$AA$1067)*100","v":78.629032258064512},{"$f":"(RD_Rohdaten!P1067/RD_Rohdaten!$AA$1067)*100","v":78.225806451612897},{"$f":"(RD_Rohdaten!Q1067/RD_Rohdaten!$AA$1067)*100","v":77.016129032258064},{"$f":"(RD_Rohdaten!R1067/RD_Rohdaten!$AA$1067)*100","v":77.822580645161281},{"$f":"(RD_Rohdaten!S1067/RD_Rohdaten!$AA$1067)*100","v":79.435483870967744},{"$f":"(RD_Rohdaten!T1067/RD_Rohdaten!$AA$1067)*100","v":85.483870967741936},{"$f":"(RD_Rohdaten!U1067/RD_Rohdaten!$AA$1067)*100","v":93.145161290322577},{"$f":"(RD_Rohdaten!V1067/RD_Rohdaten!$AA$1067)*100","v":93.951612903225808},{"$f":"(RD_Rohdaten!W1067/RD_Rohdaten!$AA$1067)*100","v":96.774193548387103},{"$f":"(RD_Rohdaten!X1067/RD_Rohdaten!$AA$1067)*100","v":99.596774193548384},{"$f":"(RD_Rohdaten!Y1067/RD_Rohdaten!$AA$1067)*100","v":100.80645161290323},{"$f":"(RD_Rohdaten!Z1067/RD_Rohdaten!$AA$1067)*100","v":100.80645161290323},{"$f":"(RD_Rohdaten!AA1067/RD_Rohdaten!$AA$1067)*100","v":100},{"$f":"(RD_Rohdaten!AB1067/RD_Rohdaten!$AA$1067)*100","v":100},{"$f":"(RD_Rohdaten!AC1067/RD_Rohdaten!$AA$1067)*100","v":100.40322580645163},{"$f":"(RD_Rohdaten!AD1067/RD_Rohdaten!$AA$1067)*100","v":100.80645161290323},{"$f":"(RD_Rohdaten!AE1067/RD_Rohdaten!$AA$1067)*100","v":{"$error":"#VALUE!"}},{"$f":"(RD_Rohdaten!AF1067/RD_Rohdaten!$AA$1067)*100","v":{"$error":"#VALUE!"}}]
["G45","Handel mit Kraftfahrzeugen; Instandhaltung und Reparatur von Kraftfahrzeugen",{"$f":"(RD_Rohdaten!C1076/RD_Rohdaten!$AA$1076)*100","v":82.445520581113811},{"$f":"(RD_Rohdaten!D1076/RD_Rohdaten!$AA$1076)*100","v":81.355932203389841},{"$f":"(RD_Rohdaten!E1076/RD_Rohdaten!$AA$1076)*100","v":81.47699757869249},{"$f":"(RD_Rohdaten!F1076/RD_Rohdaten!$AA$1076)*100","v":81.47699757869249},{"$f":"(RD_Rohdaten!G1076/RD_Rohdaten!$AA$1076)*100","v":81.234866828087178},{"$f":"(RD_Rohdaten!H1076/RD_Rohdaten!$AA$1076)*100","v":82.445520581113811},{"$f":"(RD_Rohdaten!I1076/RD_Rohdaten!$AA$1076)*100","v":84.382566585956425},{"$f":"(RD_Rohdaten!J1076/RD_Rohdaten!$AA$1076)*100","v":86.803874092009679},{"$f":"(RD_Rohdaten!K1076/RD_Rohdaten!$AA$1076)*100","v":90.31476997578693},{"$f":"(RD_Rohdaten!L1076/RD_Rohdaten!$AA$1076)*100","v":93.946731234866832},{"$f":"(RD_Rohdaten!M1076/RD_Rohdaten!$AA$1076)*100","v":94.188861985472144},{"$f":"(RD_Rohdaten!N1076/RD_Rohdaten!$AA$1076)*100","v":95.883777239709445},{"$f":"(RD_Rohdaten!O1076/RD_Rohdaten!$AA$1076)*100","v":96.246973365617436},{"$f":"(RD_Rohdaten!P1076/RD_Rohdaten!$AA$1076)*100","v":97.215496368038743},{"$f":"(RD_Rohdaten!Q1076/RD_Rohdaten!$AA$1076)*100","v":96.973365617433416},{"$f":"(RD_Rohdaten!R1076/RD_Rohdaten!$AA$1076)*100","v":97.820823244552059},{"$f":"(RD_Rohdaten!S1076/RD_Rohdaten!$AA$1076)*100","v":99.515738498789347},{"$f":"(RD_Rohdaten!T1076/RD_Rohdaten!$AA$1076)*100","v":99.515738498789347},{"$f":"(RD_Rohdaten!U1076/RD_Rohdaten!$AA$1076)*100","v":97.215496368038743},{"$f":"(RD_Rohdaten!V1076/RD_Rohdaten!$AA$1076)*100","v":96.610169491525426},{"$f":"(RD_Rohdaten!W1076/RD_Rohdaten!$AA$1076)*100","v":97.941888619854723},{"$f":"(RD_Rohdaten!X1076/RD_Rohdaten!$AA$1076)*100","v":99.27360774818402},{"$f":"(RD_Rohdaten!Y1076/RD_Rohdaten!$AA$1076)*100","v":99.515738498789347},{"$f":"(RD_Rohdaten!Z1076/RD_Rohdaten!$AA$1076)*100","v":99.878934624697337},{"$f":"(RD_Rohdaten!AA1076/RD_Rohdaten!$AA$1076)*100","v":100},{"$f":"(RD_Rohdaten!AB1076/RD_Rohdaten!$AA$1076)*100","v":101.69491525423729},{"$f":"(RD_Rohdaten!AC1076/RD_Rohdaten!$AA$1076)*100","v":103.38983050847457},{"$f":"(RD_Rohdaten!AD1076/RD_Rohdaten!$AA$1076)*100","v":104.35835351089588},{"$f":"(RD_Rohdaten!AE1076/RD_Rohdaten!$AA$1076)*100","v":{"$error":"#VALUE!"}},{"$f":"(RD_Rohdaten!AF1076/RD_Rohdaten!$AA$1076)*100","v":{"$error":"#VALUE!"}}]
["G47","Einzelhandel (ohne Handel mit Kraftfahrzeugen)",{"$f":"(RD_Rohdaten!C1078/RD_Rohdaten!$AA$1078)*100","v":90.177736202058},{"$f":"(RD_Rohdaten!D1078/RD_Rohdaten!$AA$1078)*100","v":90.894917368256927},{"$f":"(RD_Rohdaten!E1078/RD_Rohdaten!$AA$1078)*100","v":91.612098534455882},{"$f":"(RD_Rohdaten!F1078/RD_Rohdaten!$AA$1078)*100","v":93.358278765201121},{"$f":"(RD_Rohdaten!G1078/RD_Rohdaten!$AA$1078)*100","v":94.387277829747433},{"$f":"(RD_Rohdaten!H1078/RD_Rohdaten!$AA$1078)*100","v":95.260367945120052},{"$f":"(RD_Rohdaten!I1078/RD_Rohdaten!$AA$1078)*100","v":96.102276270657939},{"$f":"(RD_Rohdaten!J1078/RD_Rohdaten!$AA$1078)*100","v":97.162457125038983},{"$f":"(RD_Rohdaten!K1078/RD_Rohdaten!$AA$1078)*100","v":98.47209229809792},{"$f":"(RD_Rohdaten!L1078/RD_Rohdaten!$AA$1078)*100","v":101.12254443405051},{"$f":"(RD_Rohdaten!M1078/RD_Rohdaten!$AA$1078)*100","v":99.906454630495787},{"$f":"(RD_Rohdaten!N1078/RD_Rohdaten!$AA$1078)*100","v":99.501091362644217},{"$f":"(RD_Rohdaten!O1078/RD_Rohdaten!$AA$1078)*100","v":97.256002494543196},{"$f":"(RD_Rohdaten!P1078/RD_Rohdaten!$AA$1078)*100","v":97.786092921733697},{"$f":"(RD_Rohdaten!Q1078/RD_Rohdaten!$AA$1078)*100","v":96.913002806361078},{"$f":"(RD_Rohdaten!R1078/RD_Rohdaten!$AA$1078)*100","v":96.725912067352667},{"$f":"(RD_Rohdaten!S1078/RD_Rohdaten!$AA$1078)*100","v":97.349547864047395},{"$f":"(RD_Rohdaten!T1078/RD_Rohdaten!$AA$1078)*100","v":98.035547240411603},{"$f":"(RD_Rohdaten!U1078/RD_Rohdaten!$AA$1078)*100","v":98.565637667602118},{"$f":"(RD_Rohdaten!V1078/RD_Rohdaten!$AA$1078)*100","v":98.815091986280009},{"$f":"(RD_Rohdaten!W1078/RD_Rohdaten!$AA$1078)*100","v":99.594636732148416},{"$f":"(RD_Rohdaten!X1078/RD_Rohdaten!$AA$1078)*100","v":99.625818521983163},{"$f":"(RD_Rohdaten!Y1078/RD_Rohdaten!$AA$1078)*100","v":99.251637043966326},{"$f":"(RD_Rohdaten!Z1078/RD_Rohdaten!$AA$1078)*100","v":99.781727471156842},{"$f":"(RD_Rohdaten!AA1078/RD_Rohdaten!$AA$1078)*100","v":100},{"$f":"(RD_Rohdaten!AB1078/RD_Rohdaten!$AA$1078)*100","v":100.53009042719052},{"$f":"(RD_Rohdaten!AC1078/RD_Rohdaten!$AA$1078)*100","v":100.59245400685998},{"$f":"(RD_Rohdaten!AD1078/RD_Rohdaten!$AA$1078)*100","v":100.62363579669473},{"$f":"(RD_Rohdaten!AE1078/RD_Rohdaten!$AA$1078)*100","v":{"$error":"#VALUE!"}},{"$f":"(RD_Rohdaten!AF1078/RD_Rohdaten!$AA$1078)*100","v":{"$error":"#VALUE!"}}]
["H49","Landverkehr und Transport in Rohrfernleitungen",{"$f":"(RD_Rohdaten!C1080/RD_Rohdaten!$AA$1080)*100","v":125.5011135857461},{"$f":"(RD_Rohdaten!D1080/RD_Rohdaten!$AA$1080)*100","v":120.60133630289531},{"$f":"(RD_Rohdaten!E1080/RD_Rohdaten!$AA$1080)*100","v":116.14699331848553},{"$f":"(RD_Rohdaten!F1080/RD_Rohdaten!$AA$1080)*100","v":112.02672605790647},{"$f":"(RD_Rohdaten!G1080/RD_Rohdaten!$AA$1080)*100","v":109.02004454342983},{"$f":"(RD_Rohdaten!H1080/RD_Rohdaten!$AA$1080)*100","v":105.34521158129175},{"$f":"(RD_Rohdaten!I1080/RD_Rohdaten!$AA$1080)*100","v":101.22494432071269},{"$f":"(RD_Rohdaten!J1080/RD_Rohdaten!$AA$1080)*100","v":102.33853006681515},{"$f":"(RD_Rohdaten!K1080/RD_Rohdaten!$AA$1080)*100","v":95.211581291759458},{"$f":"(RD_Rohdaten!L1080/RD_Rohdaten!$AA$1080)*100","v":93.318485523385291},{"$f":"(RD_Rohdaten!M1080/RD_Rohdaten!$AA$1080)*100","v":91.870824053452111},{"$f":"(RD_Rohdaten!N1080/RD_Rohdaten!$AA$1080)*100","v":90.868596881959903},{"$f":"(RD_Rohdaten!O1080/RD_Rohdaten!$AA$1080)*100","v":90.089086859688194},{"$f":"(RD_Rohdaten!P1080/RD_Rohdaten!$AA$1080)*100","v":90.645879732739417},{"$f":"(RD_Rohdaten!Q1080/RD_Rohdaten!$AA$1080)*100","v":89.532293986636972},{"$f":"(RD_Rohdaten!R1080/RD_Rohdaten!$AA$1080)*100","v":89.866369710467708},{"$f":"(RD_Rohdaten!S1080/RD_Rohdaten!$AA$1080)*100","v":91.202672605790653},{"$f":"(RD_Rohdaten!T1080/RD_Rohdaten!$AA$1080)*100","v":91.982182628062361},{"$f":"(RD_Rohdaten!U1080/RD_Rohdaten!$AA$1080)*100","v":92.316258351893097},{"$f":"(RD_Rohdaten!V1080/RD_Rohdaten!$AA$1080)*100","v":93.875278396436528},{"$f":"(RD_Rohdaten!W1080/RD_Rohdaten!$AA$1080)*100","v":95.545657015590209},{"$f":"(RD_Rohdaten!X1080/RD_Rohdaten!$AA$1080)*100","v":96.881959910913139},{"$f":"(RD_Rohdaten!Y1080/RD_Rohdaten!$AA$1080)*100","v":98.218262806236083},{"$f":"(RD_Rohdaten!Z1080/RD_Rohdaten!$AA$1080)*100","v":98.775055679287306},{"$f":"(RD_Rohdaten!AA1080/RD_Rohdaten!$AA$1080)*100","v":100},{"$f":"(RD_Rohdaten!AB1080/RD_Rohdaten!$AA$1080)*100","v":101.55902004454343},{"$f":"(RD_Rohdaten!AC1080/RD_Rohdaten!$AA$1080)*100","v":102.89532293986636},{"$f":"(RD_Rohdaten!AD1080/RD_Rohdaten!$AA$1080)*100","v":105.01113585746103},{"$f":"(RD_Rohdaten!AE1080/RD_Rohdaten!$AA$1080)*100","v":{"$error":"#VALUE!"}},{"$f":"(RD_Rohdaten!AF1080/RD_Rohdaten!$AA$1080)*100","v":{"$error":"#VALUE!"}}]
["H52","Lagerei sowie Erbringung von sonstigen Dienstleistungen für den Verkehr",{"$f":"(RD_Rohdaten!C1083/RD_Rohdaten!$AA$1083)*100","v":66.42754662840747},{"$f":"(RD_Rohdaten!D1083/RD_Rohdaten!$AA$1083)*100","v":67.575322812051652},{"$f":"(RD_Rohdaten!E1083/RD_Rohdaten!$AA$1083)*100","v":66.857962697274033},{"$f":"(RD_Rohdaten!F1083/RD_Rohdaten!$AA$1083)*100","v":66.714490674318512},{"$f":"(RD_Rohdaten!G1083/RD_Rohdaten!$AA$1083)*100","v":65.566714490674315},{"$f":"(RD_Rohdaten!H1083/RD_Rohdaten!$AA$1083)*100","v":65.279770444763273},{"$f":"(RD_Rohdaten!I1083/RD_Rohdaten!$AA$1083)*100","v":65.710186513629836},{"$f":"(RD_Rohdaten!J1083/RD_Rohdaten!$AA$1083)*100","v":67.862266857962695},{"$f":"(RD_Rohdaten!K1083/RD_Rohdaten!$AA$1083)*100","v":81.348637015781918},{"$f":"(RD_Rohdaten!L1083/RD_Rohdaten!$AA$1083)*100","v":83.357245337159256},{"$f":"(RD_Rohdaten!M1083/RD_Rohdaten!$AA$1083)*100","v":83.644189383070298},{"$f":"(RD_Rohdaten!N1083/RD_Rohdaten!$AA$1083)*100","v":83.213773314203735},{"$f":"(RD_Rohdaten!O1083/RD_Rohdaten!$AA$1083)*100","v":83.787661406025819},{"$f":"(RD_Rohdaten!P1083/RD_Rohdaten!$AA$1083)*100","v":84.074605451936861},{"$f":"(RD_Rohdaten!Q1083/RD_Rohdaten!$AA$1083)*100","v":84.361549497847918},{"$f":"(RD_Rohdaten!R1083/RD_Rohdaten!$AA$1083)*100","v":86.226685796269734},{"$f":"(RD_Rohdaten!S1083/RD_Rohdaten!$AA$1083)*100","v":88.809182209469157},{"$f":"(RD_Rohdaten!T1083/RD_Rohdaten!$AA$1083)*100","v":91.104734576757522},{"$f":"(RD_Rohdaten!U1083/RD_Rohdaten!$AA$1083)*100","v":88.235294117647058},{"$f":"(RD_Rohdaten!V1083/RD_Rohdaten!$AA$1083)*100","v":86.800573888091819},{"$f":"(RD_Rohdaten!W1083/RD_Rohdaten!$AA$1083)*100","v":90.10043041606886},{"$f":"(RD_Rohdaten!X1083/RD_Rohdaten!$AA$1083)*100","v":92.109038737446198},{"$f":"(RD_Rohdaten!Y1083/RD_Rohdaten!$AA$1083)*100","v":93.256814921090395},{"$f":"(RD_Rohdaten!Z1083/RD_Rohdaten!$AA$1083)*100","v":96.413199426111902},{"$f":"(RD_Rohdaten!AA1083/RD_Rohdaten!$AA$1083)*100","v":100},{"$f":"(RD_Rohdaten!AB1083/RD_Rohdaten!$AA$1083)*100","v":103.44332855093256},{"$f":"(RD_Rohdaten!AC1083/RD_Rohdaten!$AA$1083)*100","v":106.025824964132},{"$f":"(RD_Rohdaten!AD1083/RD_Rohdaten!$AA$1083)*100","v":111.04734576757531},{"$f":"(RD_Rohdaten!AE1083/RD_Rohdaten!$AA$1083)*100","v":{"$error":"#VALUE!"}},{"$f":"(RD_Rohdaten!AF1083/RD_Rohdaten!$AA$1083)*100","v":{"$error":"#VALUE!"}}]
["J61","Telekommunikation",{"$f":"(RD_Rohdaten!C1090/RD_Rohdaten!$AA$1090)*100","v":268.85245901639342},{"$f":"(RD_Rohdaten!D1090/RD_Rohdaten!$AA$1090)*100","v":263.11475409836066},{"$f":"(RD_Rohdaten!E1090/RD_Rohdaten!$AA$1090)*100","v":257.37704918032784},{"$f":"(RD_Rohdaten!F1090/RD_Rohdaten!$AA$1090)*100","v":247.54098360655738},{"$f":"(RD_Rohdaten!G1090/RD_Rohdaten!$AA$1090)*100","v":233.60655737704917},{"$f":"(RD_Rohdaten!H1090/RD_Rohdaten!$AA$1090)*100","v":219.67213114754099},{"$f":"(RD_Rohdaten!I1090/RD_Rohdaten!$AA$1090)*100","v":202.45901639344262},{"$f":"(RD_Rohdaten!J1090/RD_Rohdaten!$AA$1090)*100","v":191.80327868852459},{"$f":"(RD_Rohdaten!K1090/RD_Rohdaten!$AA$1090)*100","v":182.78688524590163},{"$f":"(RD_Rohdaten!L1090/RD_Rohdaten!$AA$1090)*100","v":181.96721311475409},{"$f":"(RD_Rohdaten!M1090/RD_Rohdaten!$AA$1090)*100","v":184.42622950819671},{"$f":"(RD_Rohdaten!N1090/RD_Rohdaten!$AA$1090)*100","v":177.86885245901641},{"$f":"(RD_Rohdaten!O1090/RD_Rohdaten!$AA$1090)*100","v":168.85245901639345},{"$f":"(RD_Rohdaten!P1090/RD_Rohdaten!$AA$1090)*100","v":162.29508196721312},{"$f":"(RD_Rohdaten!Q1090/RD_Rohdaten!$AA$1090)*100","v":159.8360655737705},{"$f":"(RD_Rohdaten!R1090/RD_Rohdaten!$AA$1090)*100","v":161.47540983606555},{"$f":"(RD_Rohdaten!S1090/RD_Rohdaten!$AA$1090)*100","v":163.9344262295082},{"$f":"(RD_Rohdaten!T1090/RD_Rohdaten!$AA$1090)*100","v":159.01639344262296},{"$f":"(RD_Rohdaten!U1090/RD_Rohdaten!$AA$1090)*100","v":139.34426229508196},{"$f":"(RD_Rohdaten!V1090/RD_Rohdaten!$AA$1090)*100","v":115.57377049180329},{"$f":"(RD_Rohdaten!W1090/RD_Rohdaten!$AA$1090)*100","v":109.01639344262296},{"$f":"(RD_Rohdaten!X1090/RD_Rohdaten!$AA$1090)*100","v":103.27868852459017},{"$f":"(RD_Rohdaten!Y1090/RD_Rohdaten!$AA$1090)*100","v":101.63934426229508},{"$f":"(RD_Rohdaten!Z1090/RD_Rohdaten!$AA$1090)*100","v":100.81967213114753},{"$f":"(RD_Rohdaten!AA1090/RD_Rohdaten!$AA$1090)*100","v":100},{"$f":"(RD_Rohdaten!AB1090/RD_Rohdaten!$AA$1090)*100","v":97.540983606557376},{"$f":"(RD_Rohdaten!AC1090/RD_Rohdaten!$AA$1090)*100","v":93.442622950819683},{"$f":"(RD_Rohdaten!AD1090/RD_Rohdaten!$AA$1090)*100","v":89.344262295081961},{"$f":"(RD_Rohdaten!AE1090/RD_Rohdaten!$AA$1090)*100","v":{"$error":"#VALUE!"}},{"$f":"(RD_Rohdaten!AF1090/RD_Rohdaten!$AA$1090)*100","v":{"$error":"#VALUE!"}}]
["J62-01","IT- und Informationsdienstleister",{"$f":"(RD_Rohdaten!C1091/RD_Rohdaten!$AA$1091)*100","v":32.142857142857146},{"$f":"(RD_Rohdaten!D1091/RD_Rohdaten!$AA$1091)*100","v":33.673469387755098},{"$f":"(RD_Rohdaten!E1091/RD_Rohdaten!$AA$1091)*100","v":35.076530612244902},{"$f":"(RD_Rohdaten!F1091/RD_Rohdaten!$AA$1091)*100","v":36.734693877551024},{"$f":"(RD_Rohdaten!G1091/RD_Rohdaten!$AA$1091)*100","v":38.392857142857146},{"$f":"(RD_Rohdaten!H1091/RD_Rohdaten!$AA$1091)*100","v":39.923469387755098},{"$f":"(RD_Rohdaten!I1091/RD_Rohdaten!$AA$1091)*100","v":41.326530612244902},{"$f":"(RD_Rohdaten!J1091/RD_Rohdaten!$AA$1091)*100","v":45.280612244897959},{"$f":"(RD_Rohdaten!K1091/RD_Rohdaten!$AA$1091)*100","v":51.530612244897952},{"$f":"(RD_Rohdaten!L1091/RD_Rohdaten!$AA$1091)*100","v":60.076530612244895},{"$f":"(RD_Rohdaten!M1091/RD_Rohdaten!$AA$1091)*100","v":66.071428571428569},{"$f":"(RD_Rohdaten!N1091/RD_Rohdaten!$AA$1091)*100","v":67.984693877551024},{"$f":"(RD_Rohdaten!O1091/RD_Rohdaten!$AA$1091)*100","v":68.75},{"$f":"(RD_Rohdaten!P1091/RD_Rohdaten!$AA$1091)*100","v":70.918367346938766},{"$f":"(RD_Rohdaten!Q1091/RD_Rohdaten!$AA$1091)*100","v":73.214285714285708},{"$f":"(RD_Rohdaten!R1091/RD_Rohdaten!$AA$1091)*100","v":76.275510204081627},{"$f":"(RD_Rohdaten!S1091/RD_Rohdaten!$AA$1091)*100","v":79.464285714285708},{"$f":"(RD_Rohdaten!T1091/RD_Rohdaten!$AA$1091)*100","v":82.525510204081627},{"$f":"(RD_Rohdaten!U1091/RD_Rohdaten!$AA$1091)*100","v":83.035714285714292},{"$f":"(RD_Rohdaten!V1091/RD_Rohdaten!$AA$1091)*100","v":83.16326530612244},{"$f":"(RD_Rohdaten!W1091/RD_Rohdaten!$AA$1091)*100","v":86.352040816326522},{"$f":"(RD_Rohdaten!X1091/RD_Rohdaten!$AA$1091)*100","v":89.923469387755105},{"$f":"(RD_Rohdaten!Y1091/RD_Rohdaten!$AA$1091)*100","v":93.75},{"$f":"(RD_Rohdaten!Z1091/RD_Rohdaten!$AA$1091)*100","v":97.193877551020407},{"$f":"(RD_Rohdaten!AA1091/RD_Rohdaten!$AA$1091)*100","v":100},{"$f":"(RD_Rohdaten!AB1091/RD_Rohdaten!$AA$1091)*100","v":104.20918367346938},{"$f":"(RD_Rohdaten!AC1091/RD_Rohdaten!$AA$1091)*100","v":109.4387755102041},{"$f":"(RD_Rohdaten!AD1091/RD_Rohdaten!$AA$1091)*100","v":116.07142857142858},{"$f":"(RD_Rohdaten!AE1091/RD_Rohdaten!$AA$1091)*100","v":{"$error":"#VALUE!"}},{"$f":"(RD_Rohdaten!AF1091/RD_Rohdaten!$AA$1091)*100","v":{"$error":"#VALUE!"}}]
["M69-01","Unternehmensnahe Beratungsleistungen ",{"$f":"(RD_Rohdaten!C1099/RD_Rohdaten!$AA$1099)*100","v":39.699466795928259},{"$f":"(RD_Rohdaten!D1099/RD_Rohdaten!$AA$1099)*100","v":41.638390693165292},{"$f":"(RD_Rohdaten!E1099/RD_Rohdaten!$AA$1099)*100","v":43.431895298109552},{"$f":"(RD_Rohdaten!F1099/RD_Rohdaten!$AA$1099)*100","v":46.049442559379543},{"$f":"(RD_Rohdaten!G1099/RD_Rohdaten!$AA$1099)*100","v":48.618516723218612},{"$f":"(RD_Rohdaten!H1099/RD_Rohdaten!$AA$1099)*100","v":51.187590887057688},{"$f":"(RD_Rohdaten!I1099/RD_Rohdaten!$AA$1099)*100","v":53.562772661173049},{"$f":"(RD_Rohdaten!J1099/RD_Rohdaten!$AA$1099)*100","v":56.955889481337863},{"$f":"(RD_Rohdaten!K1099/RD_Rohdaten!$AA$1099)*100","v":61.657779932137672},{"$f":"(RD_Rohdaten!L1099/RD_Rohdaten!$AA$1099)*100","v":66.456616577799323},{"$f":"(RD_Rohdaten!M1099/RD_Rohdaten!$AA$1099)*100","v":68.44401357246727},{"$f":"(RD_Rohdaten!N1099/RD_Rohdaten!$AA$1099)*100","v":70.04362578768783},{"$f":"(RD_Rohdaten!O1099/RD_Rohdaten!$AA$1099)*100","v":71.934076587493948},{"$f":"(RD_Rohdaten!P1099/RD_Rohdaten!$AA$1099)*100","v":74.697043141056724},{"$f":"(RD_Rohdaten!Q1099/RD_Rohdaten!$AA$1099)*100","v":76.635967038293757},{"$f":"(RD_Rohdaten!R1099/RD_Rohdaten!$AA$1099)*100","v":79.253514299563747},{"$f":"(RD_Rohdaten!S1099/RD_Rohdaten!$AA$1099)*100","v":82.258846340281139},{"$f":"(RD_Rohdaten!T1099/RD_Rohdaten!$AA$1099)*100","v":85.40959767329133},{"$f":"(RD_Rohdaten!U1099/RD_Rohdaten!$AA$1099)*100","v":86.476005816771689},{"$f":"(RD_Rohdaten!V1099/RD_Rohdaten!$AA$1099)*100","v":88.221037324285021},{"$f":"(RD_Rohdaten!W1099/RD_Rohdaten!$AA$1099)*100","v":90.305380513814839},{"$f":"(RD_Rohdaten!X1099/RD_Rohdaten!$AA$1099)*100","v":92.680562287930201},{"$f":"(RD_Rohdaten!Y1099/RD_Rohdaten!$AA$1099)*100","v":95.443528841492977},{"$f":"(RD_Rohdaten!Z1099/RD_Rohdaten!$AA$1099)*100","v":97.624818225884638},{"$f":"(RD_Rohdaten!AA1099/RD_Rohdaten!$AA$1099)*100","v":100},{"$f":"(RD_Rohdaten!AB1099/RD_Rohdaten!$AA$1099)*100","v":101.55113911778963},{"$f":"(RD_Rohdaten!AC1099/RD_Rohdaten!$AA$1099)*100","v":103.97479398933591},{"$f":"(RD_Rohdaten!AD1099/RD_Rohdaten!$AA$1099)*100","v":107.07707222491518},{"$f":"(RD_Rohdaten!AE1099/RD_Rohdaten!$AA$1099)*100","v":{"$error":"#VALUE!"}},{"$f":"(RD_Rohdaten!AF1099/RD_Rohdaten!$AA$1099)*100","v":{"$error":"#VALUE!"}}]
["M73","Werbung und Marktforschung",{"$f":"(RD_Rohdaten!C1104/RD_Rohdaten!$AA$1104)*100","v":43.319838056680162},{"$f":"(RD_Rohdaten!D1104/RD_Rohdaten!$AA$1104)*100","v":45.748987854251013},{"$f":"(RD_Rohdaten!E1104/RD_Rohdaten!$AA$1104)*100","v":47.773279352226723},{"$f":"(RD_Rohdaten!F1104/RD_Rohdaten!$AA$1104)*100","v":52.226720647773284},{"$f":"(RD_Rohdaten!G1104/RD_Rohdaten!$AA$1104)*100","v":55.870445344129557},{"$f":"(RD_Rohdaten!H1104/RD_Rohdaten!$AA$1104)*100","v":60.323886639676118},{"$f":"(RD_Rohdaten!I1104/RD_Rohdaten!$AA$1104)*100","v":64.372469635627525},{"$f":"(RD_Rohdaten!J1104/RD_Rohdaten!$AA$1104)*100","v":69.635627530364374},{"$f":"(RD_Rohdaten!K1104/RD_Rohdaten!$AA$1104)*100","v":77.327935222672068},{"$f":"(RD_Rohdaten!L1104/RD_Rohdaten!$AA$1104)*100","v":91.902834008097173},{"$f":"(RD_Rohdaten!M1104/RD_Rohdaten!$AA$1104)*100","v":100},{"$f":"(RD_Rohdaten!N1104/RD_Rohdaten!$AA$1104)*100","v":101.21457489878543},{"$f":"(RD_Rohdaten!O1104/RD_Rohdaten!$AA$1104)*100","v":102.02429149797571},{"$f":"(RD_Rohdaten!P1104/RD_Rohdaten!$AA$1104)*100","v":105.668016194332},{"$f":"(RD_Rohdaten!Q1104/RD_Rohdaten!$AA$1104)*100","v":108.50202429149797},{"$f":"(RD_Rohdaten!R1104/RD_Rohdaten!$AA$1104)*100","v":113.36032388663968},{"$f":"(RD_Rohdaten!S1104/RD_Rohdaten!$AA$1104)*100","v":115.38461538461537},{"$f":"(RD_Rohdaten!T1104/RD_Rohdaten!$AA$1104)*100","v":113.76518218623481},{"$f":"(RD_Rohdaten!U1104/RD_Rohdaten!$AA$1104)*100","v":105.26315789473684},{"$f":"(RD_Rohdaten!V1104/RD_Rohdaten!$AA$1104)*100","v":104.04858299595141},{"$f":"(RD_Rohdaten!W1104/RD_Rohdaten!$AA$1104)*100","v":104.04858299595141},{"$f":"(RD_Rohdaten!X1104/RD_Rohdaten!$AA$1104)*100","v":104.04858299595141},{"$f":"(RD_Rohdaten!Y1104/RD_Rohdaten!$AA$1104)*100","v":102.42914979757086},{"$f":"(RD_Rohdaten!Z1104/RD_Rohdaten!$AA$1104)*100","v":101.21457489878543},{"$f":"(RD_Rohdaten!AA1104/RD_Rohdaten!$AA$1104)*100","v":100},{"$f":"(RD_Rohdaten!AB1104/RD_Rohdaten!$AA$1104)*100","v":101.21457489878543},{"$f":"(RD_Rohdaten!AC1104/RD_Rohdaten!$AA$1104)*100","v":100.40485829959513},{"$f":"(RD_Rohdaten!AD1104/RD_Rohdaten!$AA$1104)*100","v":99.190283400809719},{"$f":"(RD_Rohdaten!AE1104/RD_Rohdaten!$AA$1104)*100","v":{"$error":"#VALUE!"}},{"$f":"(RD_Rohdaten!AF1104/RD_Rohdaten!$AA$1104)*100","v":{"$error":"#VALUE!"}}]
["M74-01","Freiberufl.,wiss.,techn.DL a.n.g., Veterinärwesen",{"$f":"(RD_Rohdaten!C1105/RD_Rohdaten!$AA$1105)*100","v":35.111111111111107},{"$f":"(RD_Rohdaten!D1105/RD_Rohdaten!$AA$1105)*100","v":37.333333333333336},{"$f":"(RD_Rohdaten!E1105/RD_Rohdaten!$AA$1105)*100","v":39.111111111111114},{"$f":"(RD_Rohdaten!F1105/RD_Rohdaten!$AA$1105)*100","v":41.333333333333336},{"$f":"(RD_Rohdaten!G1105/RD_Rohdaten!$AA$1105)*100","v":43.55555555555555},{"$f":"(RD_Rohdaten!H1105/RD_Rohdaten!$AA$1105)*100","v":45.333333333333329},{"$f":"(RD_Rohdaten!I1105/RD_Rohdaten!$AA$1105)*100","v":48},{"$f":"(RD_Rohdaten!J1105/RD_Rohdaten!$AA$1105)*100","v":50.666666666666671},{"$f":"(RD_Rohdaten!K1105/RD_Rohdaten!$AA$1105)*100","v":52.44444444444445},{"$f":"(RD_Rohdaten!L1105/RD_Rohdaten!$AA$1105)*100","v":55.555555555555557},{"$f":"(RD_Rohdaten!M1105/RD_Rohdaten!$AA$1105)*100","v":57.333333333333336},{"$f":"(RD_Rohdaten!N1105/RD_Rohdaten!$AA$1105)*100","v":58.666666666666664},{"$f":"(RD_Rohdaten!O1105/RD_Rohdaten!$AA$1105)*100","v":61.777777777777779},{"$f":"(RD_Rohdaten!P1105/RD_Rohdaten!$AA$1105)*100","v":64.888888888888886},{"$f":"(RD_Rohdaten!Q1105/RD_Rohdaten!$AA$1105)*100","v":68},{"$f":"(RD_Rohdaten!R1105/RD_Rohdaten!$AA$1105)*100","v":70.666666666666671},{"$f":"(RD_Rohdaten!S1105/RD_Rohdaten!$AA$1105)*100","v":72.888888888888886},{"$f":"(RD_Rohdaten!T1105/RD_Rohdaten!$AA$1105)*100","v":75.555555555555557},{"$f":"(RD_Rohdaten!U1105/RD_Rohdaten!$AA$1105)*100","v":81.777777777777786},{"$f":"(RD_Rohdaten!V1105/RD_Rohdaten!$AA$1105)*100","v":85.777777777777771},{"$f":"(RD_Rohdaten!W1105/RD_Rohdaten!$AA$1105)*100","v":88.444444444444443},{"$f":"(RD_Rohdaten!X1105/RD_Rohdaten!$AA$1105)*100","v":92.444444444444443},{"$f":"(RD_Rohdaten!Y1105/RD_Rohdaten!$AA$1105)*100","v":96},{"$f":"(RD_Rohdaten!Z1105/RD_Rohdaten!$AA$1105)*100","v":98.666666666666671},{"$f":"(RD_Rohdaten!AA1105/RD_Rohdaten!$AA$1105)*100","v":100},{"$f":"(RD_Rohdaten!AB1105/RD_Rohdaten!$AA$1105)*100","v":102.66666666666666},{"$f":"(RD_Rohdaten!AC1105/RD_Rohdaten!$AA$1105)*100","v":105.33333333333333},{"$f":"(RD_Rohdaten!AD1105/RD_Rohdaten!$AA$1105)*100","v":108},{"$f":"(RD_Rohdaten!AE1105/RD_Rohdaten!$AA$1105)*100","v":{"$error":"#VALUE!"}},{"$f":"(RD_Rohdaten!AF1105/RD_Rohdaten!$AA$1105)*100","v":{"$error":"#VALUE!"}}]
["L","Grundstücks- und Wohnungswesen",{"$f":"(RD_Rohdaten!C1096/RD_Rohdaten!$AA$1096)*100","v":56.410256410256409},{"$f":"(RD_Rohdaten!D1096/RD_Rohdaten!$AA$1096)*100","v":60.470085470085465},{"$f":"(RD_Rohdaten!E1096/RD_Rohdaten!$AA$1096)*100","v":65.17094017094017},{"$f":"(RD_Rohdaten!F1096/RD_Rohdaten!$AA$1096)*100","v":69.658119658119659},{"$f":"(RD_Rohdaten!G1096/RD_Rohdaten!$AA$1096)*100","v":74.358974358974365},{"$f":"(RD_Rohdaten!H1096/RD_Rohdaten!$AA$1096)*100","v":77.136752136752136},{"$f":"(RD_Rohdaten!I1096/RD_Rohdaten!$AA$1096)*100","v":83.760683760683762},{"$f":"(RD_Rohdaten!J1096/RD_Rohdaten!$AA$1096)*100","v":91.025641025641022},{"$f":"(RD_Rohdaten!K1096/RD_Rohdaten!$AA$1096)*100","v":96.581196581196579},{"$f":"(RD_Rohdaten!L1096/RD_Rohdaten!$AA$1096)*100","v":98.71794871794873},{"$f":"(RD_Rohdaten!M1096/RD_Rohdaten!$AA$1096)*100","v":97.435897435897431},{"$f":"(RD_Rohdaten!N1096/RD_Rohdaten!$AA$1096)*100","v":97.649572649572647},{"$f":"(RD_Rohdaten!O1096/RD_Rohdaten!$AA$1096)*100","v":97.649572649572647},{"$f":"(RD_Rohdaten!P1096/RD_Rohdaten!$AA$1096)*100","v":98.290598290598282},{"$f":"(RD_Rohdaten!Q1096/RD_Rohdaten!$AA$1096)*100","v":98.931623931623932},{"$f":"(RD_Rohdaten!R1096/RD_Rohdaten!$AA$1096)*100","v":100.64102564102564},{"$f":"(RD_Rohdaten!S1096/RD_Rohdaten!$AA$1096)*100","v":101.28205128205127},{"$f":"(RD_Rohdaten!T1096/RD_Rohdaten!$AA$1096)*100","v":101.92307692307692},{"$f":"(RD_Rohdaten!U1096/RD_Rohdaten!$AA$1096)*100","v":99.145299145299148},{"$f":"(RD_Rohdaten!V1096/RD_Rohdaten!$AA$1096)*100","v":98.931623931623932},{"$f":"(RD_Rohdaten!W1096/RD_Rohdaten!$AA$1096)*100","v":98.504273504273513},{"$f":"(RD_Rohdaten!X1096/RD_Rohdaten!$AA$1096)*100","v":99.145299145299148},{"$f":"(RD_Rohdaten!Y1096/RD_Rohdaten!$AA$1096)*100","v":99.358974358974365},{"$f":"(RD_Rohdaten!Z1096/RD_Rohdaten!$AA$1096)*100","v":100},{"$f":"(RD_Rohdaten!AA1096/RD_Rohdaten!$AA$1096)*100","v":100},{"$f":"(RD_Rohdaten!AB1096/RD_Rohdaten!$AA$1096)*100","v":99.786324786324784},{"$f":"(RD_Rohdaten!AC1096/RD_Rohdaten!$AA$1096)*100","v":101.06837606837607},{"$f":"(RD_Rohdaten!AD1096/RD_Rohdaten!$AA$1096)*100","v":101.92307692307692},{"$f":"(RD_Rohdaten!AE1096/RD_Rohdaten!$AA$1096)*100","v":102.77777777777777},{"$f":"(RD_Rohdaten!AF1096/RD_Rohdaten!$AA$1096)*100","v":102.13675213675214}]
[]
["Kapitalindex (Bruttoanlagevermögen, preisbereinigt)"]
["Nr. (WZ 2008)","Branche",1991,{"$f":"C33+1","v":1992},{"$f":"D33+1","v":1993},1994,1995,1996,1997,1998,1999,2000,2001,2002,2003,2004,2005,2006,2007,2008,2009,2010,2011,2012,2013,2014,2015,2016,2017,{"$f":"AC33+1","v":2018},{"$f":"AD33+1","v":2019},{"$f":"AE33+1","v":2020}]
["C33","Reparatur und Installation von Maschinen und Ausrüstungen",{"$f":"RD_Rohdaten!C504","v":75.42},{"$f":"RD_Rohdaten!D504","v":78.05},{"$f":"RD_Rohdaten!E504","v":79.760000000000005},{"$f":"RD_Rohdaten!F504","v":81},{"$f":"RD_Rohdaten!G504","v":82.91},{"$f":"RD_Rohdaten!H504","v":83.58},{"$f":"RD_Rohdaten!I504","v":83.56},{"$f":"RD_Rohdaten!J504","v":83.48},{"$f":"RD_Rohdaten!K504","v":83.62},{"$f":"RD_Rohdaten!L504","v":83.74},{"$f":"RD_Rohdaten!M504","v":84.24},{"$f":"RD_Rohdaten!N504","v":84.01},{"$f":"RD_Rohdaten!O504","v":83.42},{"$f":"RD_Rohdaten!P504","v":82.74},{"$f":"RD_Rohdaten!Q504","v":82.41},{"$f":"RD_Rohdaten!R504","v":82.5},{"$f":"RD_Rohdaten!S504","v":83.3},{"$f":"RD_Rohdaten!T504","v":85.07},{"$f":"RD_Rohdaten!U504","v":87.56},{"$f":"RD_Rohdaten!V504","v":89.21},{"$f":"RD_Rohdaten!W504","v":92.01},{"$f":"RD_Rohdaten!X504","v":93.21},{"$f":"RD_Rohdaten!Y504","v":94.23},{"$f":"RD_Rohdaten!Z504","v":95.21},{"$f":"RD_Rohdaten!AA504","v":100},{"$f":"RD_Rohdaten!AB504","v":103.79},{"$f":"RD_Rohdaten!AC504","v":101.38},{"$f":"RD_Rohdaten!AD504","v":98.93},{"$f":"RD_Rohdaten!AE504","v":"..."},{"$f":"RD_Rohdaten!AF504","v":0}]
["G45","Handel mit Kraftfahrzeugen; Instandhaltung und Reparatur von Kraftfahrzeugen",{"$f":"RD_Rohdaten!C513","v":78.37},{"$f":"RD_Rohdaten!D513","v":80.010000000000005},{"$f":"RD_Rohdaten!E513","v":81.98},{"$f":"RD_Rohdaten!F513","v":83.83},{"$f":"RD_Rohdaten!G513","v":85.31},{"$f":"RD_Rohdaten!H513","v":86.9},{"$f":"RD_Rohdaten!I513","v":88.71},{"$f":"RD_Rohdaten!J513","v":90.98},{"$f":"RD_Rohdaten!K513","v":92.68},{"$f":"RD_Rohdaten!L513","v":93.91},{"$f":"RD_Rohdaten!M513","v":95.1},{"$f":"RD_Rohdaten!N513","v":95.89},{"$f":"RD_Rohdaten!O513","v":96.41},{"$f":"RD_Rohdaten!P513","v":96.86},{"$f":"RD_Rohdaten!Q513","v":97.18},{"$f":"RD_Rohdaten!R513","v":97.69},{"$f":"RD_Rohdaten!S513","v":98.13},{"$f":"RD_Rohdaten!T513","v":98.33},{"$f":"RD_Rohdaten!U513","v":97.69},{"$f":"RD_Rohdaten!V513","v":97.67},{"$f":"RD_Rohdaten!W513","v":98.5},{"$f":"RD_Rohdaten!X513","v":98.66},{"$f":"RD_Rohdaten!Y513","v":98.73},{"$f":"RD_Rohdaten!Z513","v":98.82},{"$f":"RD_Rohdaten!AA513","v":100},{"$f":"RD_Rohdaten!AB513","v":101.32},{"$f":"RD_Rohdaten!AC513","v":102.56},{"$f":"RD_Rohdaten!AD513","v":103.68},{"$f":"RD_Rohdaten!AE513","v":"..."},{"$f":"RD_Rohdaten!AF513","v":0}]
["G47","Einzelhandel (ohne Handel mit Kraftfahrzeugen)",{"$f":"RD_Rohdaten!C515","v":51.91},{"$f":"RD_Rohdaten!D515","v":56.08},{"$f":"RD_Rohdaten!E515","v":60.36},{"$f":"RD_Rohdaten!F515","v":64.180000000000007},{"$f":"RD_Rohdaten!G515","v":67.61},{"$f":"RD_Rohdaten!H515","v":70.5},{"$f":"RD_Rohdaten!I515","v":73.52},{"$f":"RD_Rohdaten!J515","v":76.87},{"$f":"RD_Rohdaten!K515","v":80.38},{"$f":"RD_Rohdaten!L515","v":84.03},{"$f":"RD_Rohdaten!M515","v":85.88},{"$f":"RD_Rohdaten!N515","v":87.04},{"$f":"RD_Rohdaten!O515","v":87.91},{"$f":"RD_Rohdaten!P515","v":88.15},{"$f":"RD_Rohdaten!Q515","v":88.79},{"$f":"RD_Rohdaten!R515","v":89.38},{"$f":"RD_Rohdaten!S515","v":90.36},{"$f":"RD_Rohdaten!T515","v":91.44},{"$f":"RD_Rohdaten!U515","v":92.71},{"$f":"RD_Rohdaten!V515","v":93.54},{"$f":"RD_Rohdaten!W515","v":94.86},{"$f":"RD_Rohdaten!X515","v":96.23},{"$f":"RD_Rohdaten!Y515","v":97.42},{"$f":"RD_Rohdaten!Z515","v":98.89},{"$f":"RD_Rohdaten!AA515","v":100},{"$f":"RD_Rohdaten!AB515","v":101.7},{"$f":"RD_Rohdaten!AC515","v":103.11},{"$f":"RD_Rohdaten!AD515","v":104.11},{"$f":"RD_Rohdaten!AE515","v":"..."},{"$f":"RD_Rohdaten!AF515","v":0}]
["H49","Landverkehr und Transport in Rohrfernleitungen",{"$f":"RD_Rohdaten!C517","v":109.51},{"$f":"RD_Rohdaten!D517","v":115.46},{"$f":"RD_Rohdaten!E517","v":121.01},{"$f":"RD_Rohdaten!F517","v":126.62},{"$f":"RD_Rohdaten!G517","v":132.33000000000001},{"$f":"RD_Rohdaten!H517","v":137.57},{"$f":"RD_Rohdaten!I517","v":142.44},{"$f":"RD_Rohdaten!J517","v":147.21},{"$f":"RD_Rohdaten!K517","v":90.65},{"$f":"RD_Rohdaten!L517","v":93.16},{"$f":"RD_Rohdaten!M517","v":94.91},{"$f":"RD_Rohdaten!N517","v":96.45},{"$f":"RD_Rohdaten!O517","v":97.57},{"$f":"RD_Rohdaten!P517","v":98.13},{"$f":"RD_Rohdaten!Q517","v":98.39},{"$f":"RD_Rohdaten!R517","v":98.67},{"$f":"RD_Rohdaten!S517","v":98.92},{"$f":"RD_Rohdaten!T517","v":99.5},{"$f":"RD_Rohdaten!U517","v":99.21},{"$f":"RD_Rohdaten!V517","v":99.67},{"$f":"RD_Rohdaten!W517","v":99.84},{"$f":"RD_Rohdaten!X517","v":99.64},{"$f":"RD_Rohdaten!Y517","v":98.75},{"$f":"RD_Rohdaten!Z517","v":99.46},{"$f":"RD_Rohdaten!AA517","v":100},{"$f":"RD_Rohdaten!AB517","v":100.36},{"$f":"RD_Rohdaten!AC517","v":101.09},{"$f":"RD_Rohdaten!AD517","v":102.25},{"$f":"RD_Rohdaten!AE517","v":"..."},{"$f":"RD_Rohdaten!AF517","v":0}]
["H52","Lagerei sowie Erbringung von sonstigen Dienstleistungen für den Verkehr",{"$f":"RD_Rohdaten!C520","v":29.7},{"$f":"RD_Rohdaten!D520","v":30.7},{"$f":"RD_Rohdaten!E520","v":31.54},{"$f":"RD_Rohdaten!F520","v":32.28},{"$f":"RD_Rohdaten!G520","v":33.159999999999997},{"$f":"RD_Rohdaten!H520","v":33.89},{"$f":"RD_Rohdaten!I520","v":34.770000000000003},{"$f":"RD_Rohdaten!J520","v":35.770000000000003},{"$f":"RD_Rohdaten!K520","v":64.23},{"$f":"RD_Rohdaten!L520","v":65.98},{"$f":"RD_Rohdaten!M520","v":67.83},{"$f":"RD_Rohdaten!N520","v":69.28},{"$f":"RD_Rohdaten!O520","v":71.180000000000007},{"$f":"RD_Rohdaten!P520","v":73.739999999999995},{"$f":"RD_Rohdaten!Q520","v":76.11},{"$f":"RD_Rohdaten!R520","v":78.569999999999993},{"$f":"RD_Rohdaten!S520","v":81.069999999999993},{"$f":"RD_Rohdaten!T520","v":83.9},{"$f":"RD_Rohdaten!U520","v":86.39},{"$f":"RD_Rohdaten!V520","v":88.94},{"$f":"RD_Rohdaten!W520","v":91.45},{"$f":"RD_Rohdaten!X520","v":93.42},{"$f":"RD_Rohdaten!Y520","v":95.52},{"$f":"RD_Rohdaten!Z520","v":97.73},{"$f":"RD_Rohdaten!AA520","v":100},{"$f":"RD_Rohdaten!AB520","v":102.71},{"$f":"RD_Rohdaten!AC520","v":105.23},{"$f":"RD_Rohdaten!AD520","v":107.76},{"$f":"RD_Rohdaten!AE520","v":"..."},{"$f":"RD_Rohdaten!AF520","v":0}]
["J61","Telekommunikation",{"$f":"RD_Rohdaten!C527","v":88.67},{"$f":"RD_Rohdaten!D527","v":95.23},{"$f":"RD_Rohdaten!E527","v":100.49},{"$f":"RD_Rohdaten!F527","v":103.49},{"$f":"RD_Rohdaten!G527","v":104.79},{"$f":"RD_Rohdaten!H527","v":105.71},{"$f":"RD_Rohdaten!I527","v":105.49},{"$f":"RD_Rohdaten!J527","v":104.74},{"$f":"RD_Rohdaten!K527","v":104.41},{"$f":"RD_Rohdaten!L527","v":104.27},{"$f":"RD_Rohdaten!M527","v":105.45},{"$f":"RD_Rohdaten!N527","v":105.3},{"$f":"RD_Rohdaten!O527","v":104.53},{"$f":"RD_Rohdaten!P527","v":104.76},{"$f":"RD_Rohdaten!Q527","v":104.6},{"$f":"RD_Rohdaten!R527","v":104.89},{"$f":"RD_Rohdaten!S527","v":104.88},{"$f":"RD_Rohdaten!T527","v":104.93},{"$f":"RD_Rohdaten!U527","v":104.8},{"$f":"RD_Rohdaten!V527","v":103.95},{"$f":"RD_Rohdaten!W527","v":104.39},{"$f":"RD_Rohdaten!X527","v":102.75},{"$f":"RD_Rohdaten!Y527","v":101.35},{"$f":"RD_Rohdaten!Z527","v":100.06},{"$f":"RD_Rohdaten!AA527","v":100},{"$f":"RD_Rohdaten!AB527","v":99.34},{"$f":"RD_Rohdaten!AC527","v":98.52},{"$f":"RD_Rohdaten!AD527","v":97.02},{"$f":"RD_Rohdaten!AE527","v":"..."},{"$f":"RD_Rohdaten!AF527","v":0}]
["J62-01","IT- und Informationsdienstleister",{"$f":"RD_Rohdaten!C528","v":12.97},{"$f":"RD_Rohdaten!D528","v":14.04},{"$f":"RD_Rohdaten!E528","v":15.14},{"$f":"RD_Rohdaten!F528","v":16.41},{"$f":"RD_Rohdaten!G528","v":17.57},{"$f":"RD_Rohdaten!H528","v":19.11},{"$f":"RD_Rohdaten!I528","v":21.33},{"$f":"RD_Rohdaten!J528","v":24.52},{"$f":"RD_Rohdaten!K528","v":29.31},{"$f":"RD_Rohdaten!L528","v":35.130000000000003},{"$f":"RD_Rohdaten!M528","v":43.3},{"$f":"RD_Rohdaten!N528","v":47.24},{"$f":"RD_Rohdaten!O528","v":51.09},{"$f":"RD_Rohdaten!P528","v":54.78},{"$f":"RD_Rohdaten!Q528","v":58.25},{"$f":"RD_Rohdaten!R528","v":61.62},{"$f":"RD_Rohdaten!S528","v":65.05},{"$f":"RD_Rohdaten!T528","v":69.489999999999995},{"$f":"RD_Rohdaten!U528","v":72.59},{"$f":"RD_Rohdaten!V528","v":76.11},{"$f":"RD_Rohdaten!W528","v":80.41},{"$f":"RD_Rohdaten!X528","v":84.64},{"$f":"RD_Rohdaten!Y528","v":90.08},{"$f":"RD_Rohdaten!Z528","v":95.28},{"$f":"RD_Rohdaten!AA528","v":100},{"$f":"RD_Rohdaten!AB528","v":106.31},{"$f":"RD_Rohdaten!AC528","v":114.05},{"$f":"RD_Rohdaten!AD528","v":121.88},{"$f":"RD_Rohdaten!AE528","v":"..."},{"$f":"RD_Rohdaten!AF528","v":0}]
["M69-01","Unternehmensnahe Beratungsleistungen ",{"$f":"RD_Rohdaten!C536","v":62.96},{"$f":"RD_Rohdaten!D536","v":61.63},{"$f":"RD_Rohdaten!E536","v":59.97},{"$f":"RD_Rohdaten!F536","v":59.15},{"$f":"RD_Rohdaten!G536","v":59.71},{"$f":"RD_Rohdaten!H536","v":60.7},{"$f":"RD_Rohdaten!I536","v":62.16},{"$f":"RD_Rohdaten!J536","v":63.92},{"$f":"RD_Rohdaten!K536","v":65.94},{"$f":"RD_Rohdaten!L536","v":71.98},{"$f":"RD_Rohdaten!M536","v":74.05},{"$f":"RD_Rohdaten!N536","v":75.94},{"$f":"RD_Rohdaten!O536","v":78.010000000000005},{"$f":"RD_Rohdaten!P536","v":79.45},{"$f":"RD_Rohdaten!Q536","v":81},{"$f":"RD_Rohdaten!R536","v":83.04},{"$f":"RD_Rohdaten!S536","v":85.32},{"$f":"RD_Rohdaten!T536","v":88.28},{"$f":"RD_Rohdaten!U536","v":90.22},{"$f":"RD_Rohdaten!V536","v":92.19},{"$f":"RD_Rohdaten!W536","v":93.76},{"$f":"RD_Rohdaten!X536","v":94.77},{"$f":"RD_Rohdaten!Y536","v":95.91},{"$f":"RD_Rohdaten!Z536","v":98},{"$f":"RD_Rohdaten!AA536","v":100},{"$f":"RD_Rohdaten!AB536","v":103.58},{"$f":"RD_Rohdaten!AC536","v":107.69},{"$f":"RD_Rohdaten!AD536","v":111.13},{"$f":"RD_Rohdaten!AE536","v":"..."},{"$f":"RD_Rohdaten!AF536","v":0}]
["M73","Werbung und Marktforschung",{"$f":"RD_Rohdaten!C541","v":100.08},{"$f":"RD_Rohdaten!D541","v":96.02},{"$f":"RD_Rohdaten!E541","v":91.94},{"$f":"RD_Rohdaten!F541","v":88.5},{"$f":"RD_Rohdaten!G541","v":87.18},{"$f":"RD_Rohdaten!H541","v":86.47},{"$f":"RD_Rohdaten!I541","v":86.4},{"$f":"RD_Rohdaten!J541","v":86.84},{"$f":"RD_Rohdaten!K541","v":87.92},{"$f":"RD_Rohdaten!L541","v":89.33},{"$f":"RD_Rohdaten!M541","v":90.14},{"$f":"RD_Rohdaten!N541","v":90.4},{"$f":"RD_Rohdaten!O541","v":90.83},{"$f":"RD_Rohdaten!P541","v":90.34},{"$f":"RD_Rohdaten!Q541","v":90.25},{"$f":"RD_Rohdaten!R541","v":91.03},{"$f":"RD_Rohdaten!S541","v":93.16},{"$f":"RD_Rohdaten!T541","v":96.03},{"$f":"RD_Rohdaten!U541","v":95.73},{"$f":"RD_Rohdaten!V541","v":97.77},{"$f":"RD_Rohdaten!W541","v":99.26},{"$f":"RD_Rohdaten!X541","v":99.56},{"$f":"RD_Rohdaten!Y541","v":99.23},{"$f":"RD_Rohdaten!Z541","v":99.35},{"$f":"RD_Rohdaten!AA541","v":100},{"$f":"RD_Rohdaten!AB541","v":101.17},{"$f":"RD_Rohdaten!AC541","v":101.46},{"$f":"RD_Rohdaten!AD541","v":104},{"$f":"RD_Rohdaten!AE541","v":"..."},{"$f":"RD_Rohdaten!AF541","v":0}]
["M74-01","Freiberufl.,wiss.,techn.DL a.n.g., Veterinärwesen",{"$f":"RD_Rohdaten!C542","v":87.91},{"$f":"RD_Rohdaten!D542","v":84.91},{"$f":"RD_Rohdaten!E542","v":81.78},{"$f":"RD_Rohdaten!F542","v":78.98},{"$f":"RD_Rohdaten!G542","v":76.709999999999994},{"$f":"RD_Rohdaten!H542","v":74.78},{"$f":"RD_Rohdaten!I542","v":73.2},{"$f":"RD_Rohdaten!J542","v":72.36},{"$f":"RD_Rohdaten!K542","v":72.260000000000005},{"$f":"RD_Rohdaten!L542","v":72.75},{"$f":"RD_Rohdaten!M542","v":73.22},{"$f":"RD_Rohdaten!N542","v":73.63},{"$f":"RD_Rohdaten!O542","v":74.41},{"$f":"RD_Rohdaten!P542","v":75.459999999999994},{"$f":"RD_Rohdaten!Q542","v":76.84},{"$f":"RD_Rohdaten!R542","v":78.760000000000005},{"$f":"RD_Rohdaten!S542","v":81.28},{"$f":"RD_Rohdaten!T542","v":83.65},{"$f":"RD_Rohdaten!U542","v":84.79},{"$f":"RD_Rohdaten!V542","v":86.68},{"$f":"RD_Rohdaten!W542","v":88.24},{"$f":"RD_Rohdaten!X542","v":91.32},{"$f":"RD_Rohdaten!Y542","v":93.34},{"$f":"RD_Rohdaten!Z542","v":97.48},{"$f":"RD_Rohdaten!AA542","v":100},{"$f":"RD_Rohdaten!AB542","v":104.68},{"$f":"RD_Rohdaten!AC542","v":111.34},{"$f":"RD_Rohdaten!AD542","v":115.57},{"$f":"RD_Rohdaten!AE542","v":"..."},{"$f":"RD_Rohdaten!AF542","v":0}]
["L","Grundstücks- und Wohnungswesen",{"$f":"RD_Rohdaten!C533","v":57.94},{"$f":"RD_Rohdaten!D533","v":59.74},{"$f":"RD_Rohdaten!E533","v":61.63},{"$f":"RD_Rohdaten!F533","v":63.79},{"$f":"RD_Rohdaten!G533","v":65.95},{"$f":"RD_Rohdaten!H533","v":68.05},{"$f":"RD_Rohdaten!I533","v":70.17},{"$f":"RD_Rohdaten!J533","v":72.260000000000005},{"$f":"RD_Rohdaten!K533","v":74.36},{"$f":"RD_Rohdaten!L533","v":76.39},{"$f":"RD_Rohdaten!M533","v":78.290000000000006},{"$f":"RD_Rohdaten!N533","v":80.010000000000005},{"$f":"RD_Rohdaten!O533","v":81.72},{"$f":"RD_Rohdaten!P533","v":83.31},{"$f":"RD_Rohdaten!Q533","v":84.77},{"$f":"RD_Rohdaten!R533","v":86.38},{"$f":"RD_Rohdaten!S533","v":87.95},{"$f":"RD_Rohdaten!T533","v":89.4},{"$f":"RD_Rohdaten!U533","v":90.71},{"$f":"RD_Rohdaten!V533","v":92.09},{"$f":"RD_Rohdaten!W533","v":93.73},{"$f":"RD_Rohdaten!X533","v":95.37},{"$f":"RD_Rohdaten!Y533","v":96.91},{"$f":"RD_Rohdaten!Z533","v":98.49},{"$f":"RD_Rohdaten!AA533","v":100},{"$f":"RD_Rohdaten!AB533","v":101.56},{"$f":"RD_Rohdaten!AC533","v":103.13},{"$f":"RD_Rohdaten!AD533","v":104.72},{"$f":"RD_Rohdaten!AE533","v":106.38},{"$f":"RD_Rohdaten!AF533","v":0}]
[]
["Gewichtung",null,1991,{"$f":"C46+1","v":1992},{"$f":"D46+1","v":1993},1994,1995,1996,1997,1998,1999,2000,2001,2002,2003,2004,2005,2006,2007,2008,2009,2010,2011,2012,2013,2014,2015,2016,2017,{"$f":"AC46+1","v":2018},{"$f":"AD46+1","v":2019},{"$f":"AE46+1","v":2020}]
["Bereinigte Lohnquote"]
["C33","Reparatur und Installation von Maschinen und Ausrüstungen",{"$f":"(RD_Rohdaten!C973/RD_Rohdaten!C224)*(RD_Rohdaten!C1067/RD_Rohdaten!C879)","v":0.78699095185927181},{"$f":"(RD_Rohdaten!D973/RD_Rohdaten!D224)*(RD_Rohdaten!D1067/RD_Rohdaten!D879)","v":0.81752801572958389},{"$f":"(RD_Rohdaten!E973/RD_Rohdaten!E224)*(RD_Rohdaten!E1067/RD_Rohdaten!E879)","v":0.87093711599353474},{"$f":"(RD_Rohdaten!F973/RD_Rohdaten!F224)*(RD_Rohdaten!F1067/RD_Rohdaten!F879)","v":0.86781883259911896},{"$f":"(RD_Rohdaten!G973/RD_Rohdaten!G224)*(RD_Rohdaten!G1067/RD_Rohdaten!G879)","v":0.9215043369290411},{"$f":"(RD_Rohdaten!H973/RD_Rohdaten!H224)*(RD_Rohdaten!H1067/RD_Rohdaten!H879)","v":0.936813638333159},{"$f":"(RD_Rohdaten!I973/RD_Rohdaten!I224)*(RD_Rohdaten!I1067/RD_Rohdaten!I879)","v":0.88341030599201609},{"$f":"(RD_Rohdaten!J973/RD_Rohdaten!J224)*(RD_Rohdaten!J1067/RD_Rohdaten!J879)","v":0.88565821088159336},{"$f":"(RD_Rohdaten!K973/RD_Rohdaten!K224)*(RD_Rohdaten!K1067/RD_Rohdaten!K879)","v":0.88713091704421176},{"$f":"(RD_Rohdaten!L973/RD_Rohdaten!L224)*(RD_Rohdaten!L1067/RD_Rohdaten!L879)","v":0.93081024359340003},{"$f":"(RD_Rohdaten!M973/RD_Rohdaten!M224)*(RD_Rohdaten!M1067/RD_Rohdaten!M879)","v":0.98638108865109142},{"$f":"(RD_Rohdaten!N973/RD_Rohdaten!N224)*(RD_Rohdaten!N1067/RD_Rohdaten!N879)","v":0.96392931392931402},{"$f":"(RD_Rohdaten!O973/RD_Rohdaten!O224)*(RD_Rohdaten!O1067/RD_Rohdaten!O879)","v":0.95053272450532722},{"$f":"(RD_Rohdaten!P973/RD_Rohdaten!P224)*(RD_Rohdaten!P1067/RD_Rohdaten!P879)","v":0.92379860314812878},{"$f":"(RD_Rohdaten!Q973/RD_Rohdaten!Q224)*(RD_Rohdaten!Q1067/RD_Rohdaten!Q879)","v":0.83430679051168311},{"$f":"(RD_Rohdaten!R973/RD_Rohdaten!R224)*(RD_Rohdaten!R1067/RD_Rohdaten!R879)","v":0.85402667128507104},{"$f":"(RD_Rohdaten!S973/RD_Rohdaten!S224)*(RD_Rohdaten!S1067/RD_Rohdaten!S879)","v":0.79307568438003218},{"$f":"(RD_Rohdaten!T973/RD_Rohdaten!T224)*(RD_Rohdaten!T1067/RD_Rohdaten!T879)","v":0.88421425206209359},{"$f":"(RD_Rohdaten!U973/RD_Rohdaten!U224)*(RD_Rohdaten!U1067/RD_Rohdaten!U879)","v":0.95857634071561915},{"$f":"(RD_Rohdaten!V973/RD_Rohdaten!V224)*(RD_Rohdaten!V1067/RD_Rohdaten!V879)","v":0.95142759475576022},{"$f":"(RD_Rohdaten!W973/RD_Rohdaten!W224)*(RD_Rohdaten!W1067/RD_Rohdaten!W879)","v":0.9403844978299406},{"$f":"(RD_Rohdaten!X973/RD_Rohdaten!X224)*(RD_Rohdaten!X1067/RD_Rohdaten!X879)","v":0.9084700070068763},{"$f":"(RD_Rohdaten!Y973/RD_Rohdaten!Y224)*(RD_Rohdaten!Y1067/RD_Rohdaten!Y879)","v":0.92752688247237169},{"$f":"(RD_Rohdaten!Z973/RD_Rohdaten!Z224)*(RD_Rohdaten!Z1067/RD_Rohdaten!Z879)","v":0.89555244492949138},{"$f":"(RD_Rohdaten!AA973/RD_Rohdaten!AA224)*(RD_Rohdaten!AA1067/RD_Rohdaten!AA879)","v":0.87160945267513323},{"$f":"(RD_Rohdaten!AB973/RD_Rohdaten!AB224)*(RD_Rohdaten!AB1067/RD_Rohdaten!AB879)","v":0.8812644689198158},{"$f":"(RD_Rohdaten!AC973/RD_Rohdaten!AC224)*(RD_Rohdaten!AC1067/RD_Rohdaten!AC879)","v":0.91371687141484403},{"$f":"(RD_Rohdaten!AD973/RD_Rohdaten!AD224)*(RD_Rohdaten!AD1067/RD_Rohdaten!AD879)","v":0.93973907217707497},{"$f":"(RD_Rohdaten!AE973/RD_Rohdaten!AE224)*(RD_Rohdaten!AE1067/RD_Rohdaten!AE879)","v":{"$error":"#VALUE!"}},{"$f":"(RD_Rohdaten!AF973/RD_Rohdaten!AF224)*(RD_Rohdaten!AF1067/RD_Rohdaten!AF879)","v":{"$error":"#VALUE!"}}]
["G45","Handel mit Kraftfahrzeugen; Instandhaltung und Reparatur von Kraftfahrzeugen",{"$f":"(RD_Rohdaten!C982/RD_Rohdaten!C233)*(RD_Rohdaten!C1076/RD_Rohdaten!C888)","v":0.58522100795823884},{"$f":"(RD_Rohdaten!D982/RD_Rohdaten!D233)*(RD_Rohdaten!D1076/RD_Rohdaten!D888)","v":0.60884485569065738},{"$f":"(RD_Rohdaten!E982/RD_Rohdaten!E233)*(RD_Rohdaten!E1076/RD_Rohdaten!E888)","v":0.73102693068595714},{"$f":"(RD_Rohdaten!F982/RD_Rohdaten!F233)*(RD_Rohdaten!F1076/RD_Rohdaten!F888)","v":0.68919914990877018},{"$f":"(RD_Rohdaten!G982/RD_Rohdaten!G233)*(RD_Rohdaten!G1076/RD_Rohdaten!G888)","v":0.65875940128518085},{"$f":"(RD_Rohdaten!H982/RD_Rohdaten!H233)*(RD_Rohdaten!H1076/RD_Rohdaten!H888)","v":0.66100420093239198},{"$f":"(RD_Rohdaten!I982/RD_Rohdaten!I233)*(RD_Rohdaten!I1076/RD_Rohdaten!I888)","v":0.63923733454171794},{"$f":"(RD_Rohdaten!J982/RD_Rohdaten!J233)*(RD_Rohdaten!J1076/RD_Rohdaten!J888)","v":0.62965900967208221},{"$f":"(RD_Rohdaten!K982/RD_Rohdaten!K233)*(RD_Rohdaten!K1076/RD_Rohdaten!K888)","v":0.63283875850113258},{"$f":"(RD_Rohdaten!L982/RD_Rohdaten!L233)*(RD_Rohdaten!L1076/RD_Rohdaten!L888)","v":0.67003248794030579},{"$f":"(RD_Rohdaten!M982/RD_Rohdaten!M233)*(RD_Rohdaten!M1076/RD_Rohdaten!M888)","v":0.65732870158481815},{"$f":"(RD_Rohdaten!N982/RD_Rohdaten!N233)*(RD_Rohdaten!N1076/RD_Rohdaten!N888)","v":0.60980161254872933},{"$f":"(RD_Rohdaten!O982/RD_Rohdaten!O233)*(RD_Rohdaten!O1076/RD_Rohdaten!O888)","v":0.57857394463849787},{"$f":"(RD_Rohdaten!P982/RD_Rohdaten!P233)*(RD_Rohdaten!P1076/RD_Rohdaten!P888)","v":0.58167878410383334},{"$f":"(RD_Rohdaten!Q982/RD_Rohdaten!Q233)*(RD_Rohdaten!Q1076/RD_Rohdaten!Q888)","v":0.57582411645054665},{"$f":"(RD_Rohdaten!R982/RD_Rohdaten!R233)*(RD_Rohdaten!R1076/RD_Rohdaten!R888)","v":0.56605405211313131},{"$f":"(RD_Rohdaten!S982/RD_Rohdaten!S233)*(RD_Rohdaten!S1076/RD_Rohdaten!S888)","v":0.60324241400964107},{"$f":"(RD_Rohdaten!T982/RD_Rohdaten!T233)*(RD_Rohdaten!T1076/RD_Rohdaten!T888)","v":0.59877970797059554},{"$f":"(RD_Rohdaten!U982/RD_Rohdaten!U233)*(RD_Rohdaten!U1076/RD_Rohdaten!U888)","v":0.54575814393285993},{"$f":"(RD_Rohdaten!V982/RD_Rohdaten!V233)*(RD_Rohdaten!V1076/RD_Rohdaten!V888)","v":0.63548210619214007},{"$f":"(RD_Rohdaten!W982/RD_Rohdaten!W233)*(RD_Rohdaten!W1076/RD_Rohdaten!W888)","v":0.58090160395643697},{"$f":"(RD_Rohdaten!X982/RD_Rohdaten!X233)*(RD_Rohdaten!X1076/RD_Rohdaten!X888)","v":0.67953531223031305},{"$f":"(RD_Rohdaten!Y982/RD_Rohdaten!Y233)*(RD_Rohdaten!Y1076/RD_Rohdaten!Y888)","v":0.6856429009119106},{"$f":"(RD_Rohdaten!Z982/RD_Rohdaten!Z233)*(RD_Rohdaten!Z1076/RD_Rohdaten!Z888)","v":0.65928084585610369},{"$f":"(RD_Rohdaten!AA982/RD_Rohdaten!AA233)*(RD_Rohdaten!AA1076/RD_Rohdaten!AA888)","v":0.66010091205907462},{"$f":"(RD_Rohdaten!AB982/RD_Rohdaten!AB233)*(RD_Rohdaten!AB1076/RD_Rohdaten!AB888)","v":0.63157170343632851},{"$f":"(RD_Rohdaten!AC982/RD_Rohdaten!AC233)*(RD_Rohdaten!AC1076/RD_Rohdaten!AC888)","v":0.66174656176535573},{"$f":"(RD_Rohdaten!AD982/RD_Rohdaten!AD233)*(RD_Rohdaten!AD1076/RD_Rohdaten!AD888)","v":0.69011167945211216},{"$f":"(RD_Rohdaten!AE982/RD_Rohdaten!AE233)*(RD_Rohdaten!AE1076/RD_Rohdaten!AE888)","v":{"$error":"#VALUE!"}},{"$f":"(RD_Rohdaten!AF982/RD_Rohdaten!AF233)*(RD_Rohdaten!AF1076/RD_Rohdaten!AF888)","v":{"$error":"#VALUE!"}}]
["G47","Einzelhandel (ohne Handel mit Kraftfahrzeugen)",{"$f":"(RD_Rohdaten!C984/RD_Rohdaten!C235)*(RD_Rohdaten!C1078/RD_Rohdaten!C890)","v":0.73726129374260663},{"$f":"(RD_Rohdaten!D984/RD_Rohdaten!D235)*(RD_Rohdaten!D1078/RD_Rohdaten!D890)","v":0.78582343415027289},{"$f":"(RD_Rohdaten!E984/RD_Rohdaten!E235)*(RD_Rohdaten!E1078/RD_Rohdaten!E890)","v":0.80381267025666558},{"$f":"(RD_Rohdaten!F984/RD_Rohdaten!F235)*(RD_Rohdaten!F1078/RD_Rohdaten!F890)","v":0.80893366444203318},{"$f":"(RD_Rohdaten!G984/RD_Rohdaten!G235)*(RD_Rohdaten!G1078/RD_Rohdaten!G890)","v":0.74865289247178068},{"$f":"(RD_Rohdaten!H984/RD_Rohdaten!H235)*(RD_Rohdaten!H1078/RD_Rohdaten!H890)","v":0.73011847975365174},{"$f":"(RD_Rohdaten!I984/RD_Rohdaten!I235)*(RD_Rohdaten!I1078/RD_Rohdaten!I890)","v":0.73159258364086988},{"$f":"(RD_Rohdaten!J984/RD_Rohdaten!J235)*(RD_Rohdaten!J1078/RD_Rohdaten!J890)","v":0.73319144935020431},{"$f":"(RD_Rohdaten!K984/RD_Rohdaten!K235)*(RD_Rohdaten!K1078/RD_Rohdaten!K890)","v":0.73641306560132114},{"$f":"(RD_Rohdaten!L984/RD_Rohdaten!L235)*(RD_Rohdaten!L1078/RD_Rohdaten!L890)","v":0.69927157093331194},{"$f":"(RD_Rohdaten!M984/RD_Rohdaten!M235)*(RD_Rohdaten!M1078/RD_Rohdaten!M890)","v":0.71236827062995534},{"$f":"(RD_Rohdaten!N984/RD_Rohdaten!N235)*(RD_Rohdaten!N1078/RD_Rohdaten!N890)","v":0.72737424503207615},{"$f":"(RD_Rohdaten!O984/RD_Rohdaten!O235)*(RD_Rohdaten!O1078/RD_Rohdaten!O890)","v":0.72891516656560951},{"$f":"(RD_Rohdaten!P984/RD_Rohdaten!P235)*(RD_Rohdaten!P1078/RD_Rohdaten!P890)","v":0.73562318521886649},{"$f":"(RD_Rohdaten!Q984/RD_Rohdaten!Q235)*(RD_Rohdaten!Q1078/RD_Rohdaten!Q890)","v":0.75429419930810127},{"$f":"(RD_Rohdaten!R984/RD_Rohdaten!R235)*(RD_Rohdaten!R1078/RD_Rohdaten!R890)","v":0.74375740462079054},{"$f":"(RD_Rohdaten!S984/RD_Rohdaten!S235)*(RD_Rohdaten!S1078/RD_Rohdaten!S890)","v":0.75412370151404184},{"$f":"(RD_Rohdaten!T984/RD_Rohdaten!T235)*(RD_Rohdaten!T1078/RD_Rohdaten!T890)","v":0.79926110130069139},{"$f":"(RD_Rohdaten!U984/RD_Rohdaten!U235)*(RD_Rohdaten!U1078/RD_Rohdaten!U890)","v":0.79420078664251748},{"$f":"(RD_Rohdaten!V984/RD_Rohdaten!V235)*(RD_Rohdaten!V1078/RD_Rohdaten!V890)","v":0.82337031335352817},{"$f":"(RD_Rohdaten!W984/RD_Rohdaten!W235)*(RD_Rohdaten!W1078/RD_Rohdaten!W890)","v":0.86810460102850118},{"$f":"(RD_Rohdaten!X984/RD_Rohdaten!X235)*(RD_Rohdaten!X1078/RD_Rohdaten!X890)","v":0.91026677554064273},{"$f":"(RD_Rohdaten!Y984/RD_Rohdaten!Y235)*(RD_Rohdaten!Y1078/RD_Rohdaten!Y890)","v":0.86661101349389236},{"$f":"(RD_Rohdaten!Z984/RD_Rohdaten!Z235)*(RD_Rohdaten!Z1078/RD_Rohdaten!Z890)","v":0.85943613092122328},{"$f":"(RD_Rohdaten!AA984/RD_Rohdaten!AA235)*(RD_Rohdaten!AA1078/RD_Rohdaten!AA890)","v":0.81396896027824162},{"$f":"(RD_Rohdaten!AB984/RD_Rohdaten!AB235)*(RD_Rohdaten!AB1078/RD_Rohdaten!AB890)","v":0.80884653435148779},{"$f":"(RD_Rohdaten!AC984/RD_Rohdaten!AC235)*(RD_Rohdaten!AC1078/RD_Rohdaten!AC890)","v":0.79924570897834779},{"$f":"(RD_Rohdaten!AD984/RD_Rohdaten!AD235)*(RD_Rohdaten!AD1078/RD_Rohdaten!AD890)","v":0.80793108203964958},{"$f":"(RD_Rohdaten!AE984/RD_Rohdaten!AE235)*(RD_Rohdaten!AE1078/RD_Rohdaten!AE890)","v":{"$error":"#VALUE!"}},{"$f":"(RD_Rohdaten!AF984/RD_Rohdaten!AF235)*(RD_Rohdaten!AF1078/RD_Rohdaten!AF890)","v":{"$error":"#VALUE!"}}]
["H49","Landverkehr und Transport in Rohrfernleitungen",{"$f":"(RD_Rohdaten!C986/RD_Rohdaten!C237)*(RD_Rohdaten!C1080/RD_Rohdaten!C892)","v":0.75971384809661713},{"$f":"(RD_Rohdaten!D986/RD_Rohdaten!D237)*(RD_Rohdaten!D1080/RD_Rohdaten!D892)","v":0.80679301362160172},{"$f":"(RD_Rohdaten!E986/RD_Rohdaten!E237)*(RD_Rohdaten!E1080/RD_Rohdaten!E892)","v":0.84974810309341697},{"$f":"(RD_Rohdaten!F986/RD_Rohdaten!F237)*(RD_Rohdaten!F1080/RD_Rohdaten!F892)","v":0.84883495597879},{"$f":"(RD_Rohdaten!G986/RD_Rohdaten!G237)*(RD_Rohdaten!G1080/RD_Rohdaten!G892)","v":0.82491896765851747},{"$f":"(RD_Rohdaten!H986/RD_Rohdaten!H237)*(RD_Rohdaten!H1080/RD_Rohdaten!H892)","v":0.83869864757545232},{"$f":"(RD_Rohdaten!I986/RD_Rohdaten!I237)*(RD_Rohdaten!I1080/RD_Rohdaten!I892)","v":0.7872692480201583},{"$f":"(RD_Rohdaten!J986/RD_Rohdaten!J237)*(RD_Rohdaten!J1080/RD_Rohdaten!J892)","v":0.78051477226609334},{"$f":"(RD_Rohdaten!K986/RD_Rohdaten!K237)*(RD_Rohdaten!K1080/RD_Rohdaten!K892)","v":0.694185019514169},{"$f":"(RD_Rohdaten!L986/RD_Rohdaten!L237)*(RD_Rohdaten!L1080/RD_Rohdaten!L892)","v":0.69302584816730017},{"$f":"(RD_Rohdaten!M986/RD_Rohdaten!M237)*(RD_Rohdaten!M1080/RD_Rohdaten!M892)","v":0.63597015235493037},{"$f":"(RD_Rohdaten!N986/RD_Rohdaten!N237)*(RD_Rohdaten!N1080/RD_Rohdaten!N892)","v":0.64017654938467916},{"$f":"(RD_Rohdaten!O986/RD_Rohdaten!O237)*(RD_Rohdaten!O1080/RD_Rohdaten!O892)","v":0.64703764574473577},{"$f":"(RD_Rohdaten!P986/RD_Rohdaten!P237)*(RD_Rohdaten!P1080/RD_Rohdaten!P892)","v":0.67700616797219315},{"$f":"(RD_Rohdaten!Q986/RD_Rohdaten!Q237)*(RD_Rohdaten!Q1080/RD_Rohdaten!Q892)","v":0.64052214908379301},{"$f":"(RD_Rohdaten!R986/RD_Rohdaten!R237)*(RD_Rohdaten!R1080/RD_Rohdaten!R892)","v":0.59222861248017911},{"$f":"(RD_Rohdaten!S986/RD_Rohdaten!S237)*(RD_Rohdaten!S1080/RD_Rohdaten!S892)","v":0.58735987815884194},{"$f":"(RD_Rohdaten!T986/RD_Rohdaten!T237)*(RD_Rohdaten!T1080/RD_Rohdaten!T892)","v":0.58999396293269912},{"$f":"(RD_Rohdaten!U986/RD_Rohdaten!U237)*(RD_Rohdaten!U1080/RD_Rohdaten!U892)","v":0.62228545076758635},{"$f":"(RD_Rohdaten!V986/RD_Rohdaten!V237)*(RD_Rohdaten!V1080/RD_Rohdaten!V892)","v":0.6201983681156743},{"$f":"(RD_Rohdaten!W986/RD_Rohdaten!W237)*(RD_Rohdaten!W1080/RD_Rohdaten!W892)","v":0.6070603352773466},{"$f":"(RD_Rohdaten!X986/RD_Rohdaten!X237)*(RD_Rohdaten!X1080/RD_Rohdaten!X892)","v":0.606574631091925},{"$f":"(RD_Rohdaten!Y986/RD_Rohdaten!Y237)*(RD_Rohdaten!Y1080/RD_Rohdaten!Y892)","v":0.59767739144004994},{"$f":"(RD_Rohdaten!Z986/RD_Rohdaten!Z237)*(RD_Rohdaten!Z1080/RD_Rohdaten!Z892)","v":0.58381883904571585},{"$f":"(RD_Rohdaten!AA986/RD_Rohdaten!AA237)*(RD_Rohdaten!AA1080/RD_Rohdaten!AA892)","v":0.59247321838486233},{"$f":"(RD_Rohdaten!AB986/RD_Rohdaten!AB237)*(RD_Rohdaten!AB1080/RD_Rohdaten!AB892)","v":0.61659682115759495},{"$f":"(RD_Rohdaten!AC986/RD_Rohdaten!AC237)*(RD_Rohdaten!AC1080/RD_Rohdaten!AC892)","v":0.62006170051782572},{"$f":"(RD_Rohdaten!AD986/RD_Rohdaten!AD237)*(RD_Rohdaten!AD1080/RD_Rohdaten!AD892)","v":0.61807515479710184},{"$f":"(RD_Rohdaten!AE986/RD_Rohdaten!AE237)*(RD_Rohdaten!AE1080/RD_Rohdaten!AE892)","v":{"$error":"#VALUE!"}},{"$f":"(RD_Rohdaten!AF986/RD_Rohdaten!AF237)*(RD_Rohdaten!AF1080/RD_Rohdaten!AF892)","v":{"$error":"#VALUE!"}}]
["H52","Lagerei sowie Erbringung von sonstigen Dienstleistungen für den Verkehr",{"$f":"(RD_Rohdaten!C989/RD_Rohdaten!C240)*(RD_Rohdaten!C1083/RD_Rohdaten!C895)","v":0.847264402761566},{"$f":"(RD_Rohdaten!D989/RD_Rohdaten!D240)*(RD_Rohdaten!D1083/RD_Rohdaten!D895)","v":0.88498575550236525},{"$f":"(RD_Rohdaten!E989/RD_Rohdaten!E240)*(RD_Rohdaten!E1083/RD_Rohdaten!E895)","v":0.84525023689828782},{"$f":"(RD_Rohdaten!F989/RD_Rohdaten!F240)*(RD_Rohdaten!F1083/RD_Rohdaten!F895)","v":0.81934384920215964},{"$f":"(RD_Rohdaten!G989/RD_Rohdaten!G240)*(RD_Rohdaten!G1083/RD_Rohdaten!G895)","v":0.76169249431738673},{"$f":"(RD_Rohdaten!H989/RD_Rohdaten!H240)*(RD_Rohdaten!H1083/RD_Rohdaten!H895)","v":0.74700583717128588},{"$f":"(RD_Rohdaten!I989/RD_Rohdaten!I240)*(RD_Rohdaten!I1083/RD_Rohdaten!I895)","v":0.69952787778039149},{"$f":"(RD_Rohdaten!J989/RD_Rohdaten!J240)*(RD_Rohdaten!J1083/RD_Rohdaten!J895)","v":0.69066306214930662},{"$f":"(RD_Rohdaten!K989/RD_Rohdaten!K240)*(RD_Rohdaten!K1083/RD_Rohdaten!K895)","v":0.79315620948384435},{"$f":"(RD_Rohdaten!L989/RD_Rohdaten!L240)*(RD_Rohdaten!L1083/RD_Rohdaten!L895)","v":0.78205274051639961},{"$f":"(RD_Rohdaten!M989/RD_Rohdaten!M240)*(RD_Rohdaten!M1083/RD_Rohdaten!M895)","v":0.73023845793829845},{"$f":"(RD_Rohdaten!N989/RD_Rohdaten!N240)*(RD_Rohdaten!N1083/RD_Rohdaten!N895)","v":0.65764396781487233},{"$f":"(RD_Rohdaten!O989/RD_Rohdaten!O240)*(RD_Rohdaten!O1083/RD_Rohdaten!O895)","v":0.64426515091332293},{"$f":"(RD_Rohdaten!P989/RD_Rohdaten!P240)*(RD_Rohdaten!P1083/RD_Rohdaten!P895)","v":0.61916620320302285},{"$f":"(RD_Rohdaten!Q989/RD_Rohdaten!Q240)*(RD_Rohdaten!Q1083/RD_Rohdaten!Q895)","v":0.60307020982108428},{"$f":"(RD_Rohdaten!R989/RD_Rohdaten!R240)*(RD_Rohdaten!R1083/RD_Rohdaten!R895)","v":0.56200186911353422},{"$f":"(RD_Rohdaten!S989/RD_Rohdaten!S240)*(RD_Rohdaten!S1083/RD_Rohdaten!S895)","v":0.55580821102085021},{"$f":"(RD_Rohdaten!T989/RD_Rohdaten!T240)*(RD_Rohdaten!T1083/RD_Rohdaten!T895)","v":0.57630809965567698},{"$f":"(RD_Rohdaten!U989/RD_Rohdaten!U240)*(RD_Rohdaten!U1083/RD_Rohdaten!U895)","v":0.63122511853814323},{"$f":"(RD_Rohdaten!V989/RD_Rohdaten!V240)*(RD_Rohdaten!V1083/RD_Rohdaten!V895)","v":0.59669823990087578},{"$f":"(RD_Rohdaten!W989/RD_Rohdaten!W240)*(RD_Rohdaten!W1083/RD_Rohdaten!W895)","v":0.59981631866272589},{"$f":"(RD_Rohdaten!X989/RD_Rohdaten!X240)*(RD_Rohdaten!X1083/RD_Rohdaten!X895)","v":0.61140868536283666},{"$f":"(RD_Rohdaten!Y989/RD_Rohdaten!Y240)*(RD_Rohdaten!Y1083/RD_Rohdaten!Y895)","v":0.58939574604195544},{"$f":"(RD_Rohdaten!Z989/RD_Rohdaten!Z240)*(RD_Rohdaten!Z1083/RD_Rohdaten!Z895)","v":0.60100587210557421},{"$f":"(RD_Rohdaten!AA989/RD_Rohdaten!AA240)*(RD_Rohdaten!AA1083/RD_Rohdaten!AA895)","v":0.63427373360577255},{"$f":"(RD_Rohdaten!AB989/RD_Rohdaten!AB240)*(RD_Rohdaten!AB1083/RD_Rohdaten!AB895)","v":0.65432009688334392},{"$f":"(RD_Rohdaten!AC989/RD_Rohdaten!AC240)*(RD_Rohdaten!AC1083/RD_Rohdaten!AC895)","v":0.66666086422669002},{"$f":"(RD_Rohdaten!AD989/RD_Rohdaten!AD240)*(RD_Rohdaten!AD1083/RD_Rohdaten!AD895)","v":0.67036976404570725},{"$f":"(RD_Rohdaten!AE989/RD_Rohdaten!AE240)*(RD_Rohdaten!AE1083/RD_Rohdaten!AE895)","v":{"$error":"#VALUE!"}},{"$f":"(RD_Rohdaten!AF989/RD_Rohdaten!AF240)*(RD_Rohdaten!AF1083/RD_Rohdaten!AF895)","v":{"$error":"#VALUE!"}}]
["J61","Telekommunikation",{"$f":"(RD_Rohdaten!C996/RD_Rohdaten!C247)*(RD_Rohdaten!C1090/RD_Rohdaten!C902)","v":0.49863729804954893},{"$f":"(RD_Rohdaten!D996/RD_Rohdaten!D247)*(RD_Rohdaten!D1090/RD_Rohdaten!D902)","v":0.48952783953131679},{"$f":"(RD_Rohdaten!E996/RD_Rohdaten!E247)*(RD_Rohdaten!E1090/RD_Rohdaten!E902)","v":0.47250354451593068},{"$f":"(RD_Rohdaten!F996/RD_Rohdaten!F247)*(RD_Rohdaten!F1090/RD_Rohdaten!F902)","v":0.45210113145270525},{"$f":"(RD_Rohdaten!G996/RD_Rohdaten!G247)*(RD_Rohdaten!G1090/RD_Rohdaten!G902)","v":0.44750074761593589},{"$f":"(RD_Rohdaten!H996/RD_Rohdaten!H247)*(RD_Rohdaten!H1090/RD_Rohdaten!H902)","v":0.45559207313298344},{"$f":"(RD_Rohdaten!I996/RD_Rohdaten!I247)*(RD_Rohdaten!I1090/RD_Rohdaten!I902)","v":0.40345595966555536},{"$f":"(RD_Rohdaten!J996/RD_Rohdaten!J247)*(RD_Rohdaten!J1090/RD_Rohdaten!J902)","v":0.35838691872874145},{"$f":"(RD_Rohdaten!K996/RD_Rohdaten!K247)*(RD_Rohdaten!K1090/RD_Rohdaten!K902)","v":0.36534347751272639},{"$f":"(RD_Rohdaten!L996/RD_Rohdaten!L247)*(RD_Rohdaten!L1090/RD_Rohdaten!L902)","v":0.34840942905617284},{"$f":"(RD_Rohdaten!M996/RD_Rohdaten!M247)*(RD_Rohdaten!M1090/RD_Rohdaten!M902)","v":0.32419280215464746},{"$f":"(RD_Rohdaten!N996/RD_Rohdaten!N247)*(RD_Rohdaten!N1090/RD_Rohdaten!N902)","v":0.29125569586779471},{"$f":"(RD_Rohdaten!O996/RD_Rohdaten!O247)*(RD_Rohdaten!O1090/RD_Rohdaten!O902)","v":0.33896600537169841},{"$f":"(RD_Rohdaten!P996/RD_Rohdaten!P247)*(RD_Rohdaten!P1090/RD_Rohdaten!P902)","v":0.28783104291432055},{"$f":"(RD_Rohdaten!Q996/RD_Rohdaten!Q247)*(RD_Rohdaten!Q1090/RD_Rohdaten!Q902)","v":0.32656371552406044},{"$f":"(RD_Rohdaten!R996/RD_Rohdaten!R247)*(RD_Rohdaten!R1090/RD_Rohdaten!R902)","v":0.3047406223986831},{"$f":"(RD_Rohdaten!S996/RD_Rohdaten!S247)*(RD_Rohdaten!S1090/RD_Rohdaten!S902)","v":0.32981102853555572},{"$f":"(RD_Rohdaten!T996/RD_Rohdaten!T247)*(RD_Rohdaten!T1090/RD_Rohdaten!T902)","v":0.34456955288730273},{"$f":"(RD_Rohdaten!U996/RD_Rohdaten!U247)*(RD_Rohdaten!U1090/RD_Rohdaten!U902)","v":0.32833547668292451},{"$f":"(RD_Rohdaten!V996/RD_Rohdaten!V247)*(RD_Rohdaten!V1090/RD_Rohdaten!V902)","v":0.31823606290382145},{"$f":"(RD_Rohdaten!W996/RD_Rohdaten!W247)*(RD_Rohdaten!W1090/RD_Rohdaten!W902)","v":0.32149911868851094},{"$f":"(RD_Rohdaten!X996/RD_Rohdaten!X247)*(RD_Rohdaten!X1090/RD_Rohdaten!X902)","v":0.31858123762584778},{"$f":"(RD_Rohdaten!Y996/RD_Rohdaten!Y247)*(RD_Rohdaten!Y1090/RD_Rohdaten!Y902)","v":0.33227650796598696},{"$f":"(RD_Rohdaten!Z996/RD_Rohdaten!Z247)*(RD_Rohdaten!Z1090/RD_Rohdaten!Z902)","v":0.32718105156802546},{"$f":"(RD_Rohdaten!AA996/RD_Rohdaten!AA247)*(RD_Rohdaten!AA1090/RD_Rohdaten!AA902)","v":0.32265221407600109},{"$f":"(RD_Rohdaten!AB996/RD_Rohdaten!AB247)*(RD_Rohdaten!AB1090/RD_Rohdaten!AB902)","v":0.34421709352187668},{"$f":"(RD_Rohdaten!AC996/RD_Rohdaten!AC247)*(RD_Rohdaten!AC1090/RD_Rohdaten!AC902)","v":0.32171039278677904},{"$f":"(RD_Rohdaten!AD996/RD_Rohdaten!AD247)*(RD_Rohdaten!AD1090/RD_Rohdaten!AD902)","v":0.3134270026733284},{"$f":"(RD_Rohdaten!AE996/RD_Rohdaten!AE247)*(RD_Rohdaten!AE1090/RD_Rohdaten!AE902)","v":{"$error":"#VALUE!"}},{"$f":"(RD_Rohdaten!AF996/RD_Rohdaten!AF247)*(RD_Rohdaten!AF1090/RD_Rohdaten!AF902)","v":{"$error":"#VALUE!"}}]
["J62-01","IT- und Informationsdienstleister",{"$f":"(RD_Rohdaten!C997/RD_Rohdaten!C248)*(RD_Rohdaten!C1091/RD_Rohdaten!C903)","v":0.51576075809164379},{"$f":"(RD_Rohdaten!D997/RD_Rohdaten!D248)*(RD_Rohdaten!D1091/RD_Rohdaten!D903)","v":0.55201056025206485},{"$f":"(RD_Rohdaten!E997/RD_Rohdaten!E248)*(RD_Rohdaten!E1091/RD_Rohdaten!E903)","v":0.56081133701748165},{"$f":"(RD_Rohdaten!F997/RD_Rohdaten!F248)*(RD_Rohdaten!F1091/RD_Rohdaten!F903)","v":0.65072398059095349},{"$f":"(RD_Rohdaten!G997/RD_Rohdaten!G248)*(RD_Rohdaten!G1091/RD_Rohdaten!G903)","v":0.68077093789477283},{"$f":"(RD_Rohdaten!H997/RD_Rohdaten!H248)*(RD_Rohdaten!H1091/RD_Rohdaten!H903)","v":0.664592741324603},{"$f":"(RD_Rohdaten!I997/RD_Rohdaten!I248)*(RD_Rohdaten!I1091/RD_Rohdaten!I903)","v":0.63288697268492811},{"$f":"(RD_Rohdaten!J997/RD_Rohdaten!J248)*(RD_Rohdaten!J1091/RD_Rohdaten!J903)","v":0.59964029913586991},{"$f":"(RD_Rohdaten!K997/RD_Rohdaten!K248)*(RD_Rohdaten!K1091/RD_Rohdaten!K903)","v":0.69524045641190946},{"$f":"(RD_Rohdaten!L997/RD_Rohdaten!L248)*(RD_Rohdaten!L1091/RD_Rohdaten!L903)","v":0.75043674922464643},{"$f":"(RD_Rohdaten!M997/RD_Rohdaten!M248)*(RD_Rohdaten!M1091/RD_Rohdaten!M903)","v":0.73330728191731132},{"$f":"(RD_Rohdaten!N997/RD_Rohdaten!N248)*(RD_Rohdaten!N1091/RD_Rohdaten!N903)","v":0.7504355215004348},{"$f":"(RD_Rohdaten!O997/RD_Rohdaten!O248)*(RD_Rohdaten!O1091/RD_Rohdaten!O903)","v":0.80877259191894424},{"$f":"(RD_Rohdaten!P997/RD_Rohdaten!P248)*(RD_Rohdaten!P1091/RD_Rohdaten!P903)","v":0.81586024886849939},{"$f":"(RD_Rohdaten!Q997/RD_Rohdaten!Q248)*(RD_Rohdaten!Q1091/RD_Rohdaten!Q903)","v":0.79447669523164954},{"$f":"(RD_Rohdaten!R997/RD_Rohdaten!R248)*(RD_Rohdaten!R1091/RD_Rohdaten!R903)","v":0.77789143598615929},{"$f":"(RD_Rohdaten!S997/RD_Rohdaten!S248)*(RD_Rohdaten!S1091/RD_Rohdaten!S903)","v":0.73034794592690744},{"$f":"(RD_Rohdaten!T997/RD_Rohdaten!T248)*(RD_Rohdaten!T1091/RD_Rohdaten!T903)","v":0.77319846294308281},{"$f":"(RD_Rohdaten!U997/RD_Rohdaten!U248)*(RD_Rohdaten!U1091/RD_Rohdaten!U903)","v":0.81183684462444827},{"$f":"(RD_Rohdaten!V997/RD_Rohdaten!V248)*(RD_Rohdaten!V1091/RD_Rohdaten!V903)","v":0.82628178989161938},{"$f":"(RD_Rohdaten!W997/RD_Rohdaten!W248)*(RD_Rohdaten!W1091/RD_Rohdaten!W903)","v":0.75748600137811994},{"$f":"(RD_Rohdaten!X997/RD_Rohdaten!X248)*(RD_Rohdaten!X1091/RD_Rohdaten!X903)","v":0.77414637414387788},{"$f":"(RD_Rohdaten!Y997/RD_Rohdaten!Y248)*(RD_Rohdaten!Y1091/RD_Rohdaten!Y903)","v":0.71382272302255179},{"$f":"(RD_Rohdaten!Z997/RD_Rohdaten!Z248)*(RD_Rohdaten!Z1091/RD_Rohdaten!Z903)","v":0.72834777124476402},{"$f":"(RD_Rohdaten!AA997/RD_Rohdaten!AA248)*(RD_Rohdaten!AA1091/RD_Rohdaten!AA903)","v":0.75586392261653612},{"$f":"(RD_Rohdaten!AB997/RD_Rohdaten!AB248)*(RD_Rohdaten!AB1091/RD_Rohdaten!AB903)","v":0.7657515176042089},{"$f":"(RD_Rohdaten!AC997/RD_Rohdaten!AC248)*(RD_Rohdaten!AC1091/RD_Rohdaten!AC903)","v":0.78315686168140419},{"$f":"(RD_Rohdaten!AD997/RD_Rohdaten!AD248)*(RD_Rohdaten!AD1091/RD_Rohdaten!AD903)","v":0.76709156450587401},{"$f":"(RD_Rohdaten!AE997/RD_Rohdaten!AE248)*(RD_Rohdaten!AE1091/RD_Rohdaten!AE903)","v":{"$error":"#VALUE!"}},{"$f":"(RD_Rohdaten!AF997/RD_Rohdaten!AF248)*(RD_Rohdaten!AF1091/RD_Rohdaten!AF903)","v":{"$error":"#VALUE!"}}]
["M69-01","Unternehmensnahe Beratungsleistungen ",{"$f":"(RD_Rohdaten!C1005/RD_Rohdaten!C256)*(RD_Rohdaten!C1099/RD_Rohdaten!C911)","v":0.42769751355221003},{"$f":"(RD_Rohdaten!D1005/RD_Rohdaten!D256)*(RD_Rohdaten!D1099/RD_Rohdaten!D911)","v":0.43102045554119034},{"$f":"(RD_Rohdaten!E1005/RD_Rohdaten!E256)*(RD_Rohdaten!E1099/RD_Rohdaten!E911)","v":0.41951057100049943},{"$f":"(RD_Rohdaten!F1005/RD_Rohdaten!F256)*(RD_Rohdaten!F1099/RD_Rohdaten!F911)","v":0.44207553946099692},{"$f":"(RD_Rohdaten!G1005/RD_Rohdaten!G256)*(RD_Rohdaten!G1099/RD_Rohdaten!G911)","v":0.45367800122457241},{"$f":"(RD_Rohdaten!H1005/RD_Rohdaten!H256)*(RD_Rohdaten!H1099/RD_Rohdaten!H911)","v":0.46856310843318627},{"$f":"(RD_Rohdaten!I1005/RD_Rohdaten!I256)*(RD_Rohdaten!I1099/RD_Rohdaten!I911)","v":0.49937578467851224},{"$f":"(RD_Rohdaten!J1005/RD_Rohdaten!J256)*(RD_Rohdaten!J1099/RD_Rohdaten!J911)","v":0.50489108538227456},{"$f":"(RD_Rohdaten!K1005/RD_Rohdaten!K256)*(RD_Rohdaten!K1099/RD_Rohdaten!K911)","v":0.50822474310627785},{"$f":"(RD_Rohdaten!L1005/RD_Rohdaten!L256)*(RD_Rohdaten!L1099/RD_Rohdaten!L911)","v":0.54002514335124452},{"$f":"(RD_Rohdaten!M1005/RD_Rohdaten!M256)*(RD_Rohdaten!M1099/RD_Rohdaten!M911)","v":0.5288787424770296},{"$f":"(RD_Rohdaten!N1005/RD_Rohdaten!N256)*(RD_Rohdaten!N1099/RD_Rohdaten!N911)","v":0.54593285053997931},{"$f":"(RD_Rohdaten!O1005/RD_Rohdaten!O256)*(RD_Rohdaten!O1099/RD_Rohdaten!O911)","v":0.57726295316803566},{"$f":"(RD_Rohdaten!P1005/RD_Rohdaten!P256)*(RD_Rohdaten!P1099/RD_Rohdaten!P911)","v":0.63005327618347684},{"$f":"(RD_Rohdaten!Q1005/RD_Rohdaten!Q256)*(RD_Rohdaten!Q1099/RD_Rohdaten!Q911)","v":0.65396750213152977},{"$f":"(RD_Rohdaten!R1005/RD_Rohdaten!R256)*(RD_Rohdaten!R1099/RD_Rohdaten!R911)","v":0.6539143209429622},{"$f":"(RD_Rohdaten!S1005/RD_Rohdaten!S256)*(RD_Rohdaten!S1099/RD_Rohdaten!S911)","v":0.65726275536307976},{"$f":"(RD_Rohdaten!T1005/RD_Rohdaten!T256)*(RD_Rohdaten!T1099/RD_Rohdaten!T911)","v":0.70791424017696225},{"$f":"(RD_Rohdaten!U1005/RD_Rohdaten!U256)*(RD_Rohdaten!U1099/RD_Rohdaten!U911)","v":0.81291879738855222},{"$f":"(RD_Rohdaten!V1005/RD_Rohdaten!V256)*(RD_Rohdaten!V1099/RD_Rohdaten!V911)","v":0.84769936437364835},{"$f":"(RD_Rohdaten!W1005/RD_Rohdaten!W256)*(RD_Rohdaten!W1099/RD_Rohdaten!W911)","v":0.89807262923761821},{"$f":"(RD_Rohdaten!X1005/RD_Rohdaten!X256)*(RD_Rohdaten!X1099/RD_Rohdaten!X911)","v":0.92408682834308542},{"$f":"(RD_Rohdaten!Y1005/RD_Rohdaten!Y256)*(RD_Rohdaten!Y1099/RD_Rohdaten!Y911)","v":0.88430281256066712},{"$f":"(RD_Rohdaten!Z1005/RD_Rohdaten!Z256)*(RD_Rohdaten!Z1099/RD_Rohdaten!Z911)","v":0.91532838340259337},{"$f":"(RD_Rohdaten!AA1005/RD_Rohdaten!AA256)*(RD_Rohdaten!AA1099/RD_Rohdaten!AA911)","v":0.94865734928428513},{"$f":"(RD_Rohdaten!AB1005/RD_Rohdaten!AB256)*(RD_Rohdaten!AB1099/RD_Rohdaten!AB911)","v":0.93369311528121535},{"$f":"(RD_Rohdaten!AC1005/RD_Rohdaten!AC256)*(RD_Rohdaten!AC1099/RD_Rohdaten!AC911)","v":0.94231806490512648},{"$f":"(RD_Rohdaten!AD1005/RD_Rohdaten!AD256)*(RD_Rohdaten!AD1099/RD_Rohdaten!AD911)","v":0.97675549517587423},{"$f":"(RD_Rohdaten!AE1005/RD_Rohdaten!AE256)*(RD_Rohdaten!AE1099/RD_Rohdaten!AE911)","v":{"$error":"#VALUE!"}},{"$f":"(RD_Rohdaten!AF1005/RD_Rohdaten!AF256)*(RD_Rohdaten!AF1099/RD_Rohdaten!AF911)","v":{"$error":"#VALUE!"}}]
["M73","Werbung und Marktforschung",{"$f":"(RD_Rohdaten!C1010/RD_Rohdaten!C261)*(RD_Rohdaten!C1104/RD_Rohdaten!C916)","v":0.16847846360143481},{"$f":"(RD_Rohdaten!D1010/RD_Rohdaten!D261)*(RD_Rohdaten!D1104/RD_Rohdaten!D916)","v":0.18350015435926628},{"$f":"(RD_Rohdaten!E1010/RD_Rohdaten!E261)*(RD_Rohdaten!E1104/RD_Rohdaten!E916)","v":0.18274596731451517},{"$f":"(RD_Rohdaten!F1010/RD_Rohdaten!F261)*(RD_Rohdaten!F1104/RD_Rohdaten!F916)","v":0.19017554900650682},{"$f":"(RD_Rohdaten!G1010/RD_Rohdaten!G261)*(RD_Rohdaten!G1104/RD_Rohdaten!G916)","v":0.20642857142857143},{"$f":"(RD_Rohdaten!H1010/RD_Rohdaten!H261)*(RD_Rohdaten!H1104/RD_Rohdaten!H916)","v":0.22748008051048746},{"$f":"(RD_Rohdaten!I1010/RD_Rohdaten!I261)*(RD_Rohdaten!I1104/RD_Rohdaten!I916)","v":0.22162009172140745},{"$f":"(RD_Rohdaten!J1010/RD_Rohdaten!J261)*(RD_Rohdaten!J1104/RD_Rohdaten!J916)","v":0.25639954424610711},{"$f":"(RD_Rohdaten!K1010/RD_Rohdaten!K261)*(RD_Rohdaten!K1104/RD_Rohdaten!K916)","v":0.25571771306114349},{"$f":"(RD_Rohdaten!L1010/RD_Rohdaten!L261)*(RD_Rohdaten!L1104/RD_Rohdaten!L916)","v":0.28692923224599903},{"$f":"(RD_Rohdaten!M1010/RD_Rohdaten!M261)*(RD_Rohdaten!M1104/RD_Rohdaten!M916)","v":0.34245679461905187},{"$f":"(RD_Rohdaten!N1010/RD_Rohdaten!N261)*(RD_Rohdaten!N1104/RD_Rohdaten!N916)","v":0.38865484349958301},{"$f":"(RD_Rohdaten!O1010/RD_Rohdaten!O261)*(RD_Rohdaten!O1104/RD_Rohdaten!O916)","v":0.3745162335519408},{"$f":"(RD_Rohdaten!P1010/RD_Rohdaten!P261)*(RD_Rohdaten!P1104/RD_Rohdaten!P916)","v":0.38147967479674794},{"$f":"(RD_Rohdaten!Q1010/RD_Rohdaten!Q261)*(RD_Rohdaten!Q1104/RD_Rohdaten!Q916)","v":0.41947826086956524},{"$f":"(RD_Rohdaten!R1010/RD_Rohdaten!R261)*(RD_Rohdaten!R1104/RD_Rohdaten!R916)","v":0.38836682305988068},{"$f":"(RD_Rohdaten!S1010/RD_Rohdaten!S261)*(RD_Rohdaten!S1104/RD_Rohdaten!S916)","v":0.3817820342154179},{"$f":"(RD_Rohdaten!T1010/RD_Rohdaten!T261)*(RD_Rohdaten!T1104/RD_Rohdaten!T916)","v":0.39430314738195732},{"$f":"(RD_Rohdaten!U1010/RD_Rohdaten!U261)*(RD_Rohdaten!U1104/RD_Rohdaten!U916)","v":0.48603503452143776},{"$f":"(RD_Rohdaten!V1010/RD_Rohdaten!V261)*(RD_Rohdaten!V1104/RD_Rohdaten!V916)","v":0.47640773116342472},{"$f":"(RD_Rohdaten!W1010/RD_Rohdaten!W261)*(RD_Rohdaten!W1104/RD_Rohdaten!W916)","v":0.52928232768747485},{"$f":"(RD_Rohdaten!X1010/RD_Rohdaten!X261)*(RD_Rohdaten!X1104/RD_Rohdaten!X916)","v":0.58004978062774215},{"$f":"(RD_Rohdaten!Y1010/RD_Rohdaten!Y261)*(RD_Rohdaten!Y1104/RD_Rohdaten!Y916)","v":0.53547062167583692},{"$f":"(RD_Rohdaten!Z1010/RD_Rohdaten!Z261)*(RD_Rohdaten!Z1104/RD_Rohdaten!Z916)","v":0.57615249293318105},{"$f":"(RD_Rohdaten!AA1010/RD_Rohdaten!AA261)*(RD_Rohdaten!AA1104/RD_Rohdaten!AA916)","v":0.64043916778728061},{"$f":"(RD_Rohdaten!AB1010/RD_Rohdaten!AB261)*(RD_Rohdaten!AB1104/RD_Rohdaten!AB916)","v":0.66200968211018452},{"$f":"(RD_Rohdaten!AC1010/RD_Rohdaten!AC261)*(RD_Rohdaten!AC1104/RD_Rohdaten!AC916)","v":0.71980989002153895},{"$f":"(RD_Rohdaten!AD1010/RD_Rohdaten!AD261)*(RD_Rohdaten!AD1104/RD_Rohdaten!AD916)","v":0.80137980992185809},{"$f":"(RD_Rohdaten!AE1010/RD_Rohdaten!AE261)*(RD_Rohdaten!AE1104/RD_Rohdaten!AE916)","v":{"$error":"#VALUE!"}},{"$f":"(RD_Rohdaten!AF1010/RD_Rohdaten!AF261)*(RD_Rohdaten!AF1104/RD_Rohdaten!AF916)","v":{"$error":"#VALUE!"}}]
["M74-01","Freiberufl.,wiss.,techn.DL a.n.g., Veterinärwesen",{"$f":"(RD_Rohdaten!C1011/RD_Rohdaten!C262)*(RD_Rohdaten!C1105/RD_Rohdaten!C917)","v":0.22676790639871477},{"$f":"(RD_Rohdaten!D1011/RD_Rohdaten!D262)*(RD_Rohdaten!D1105/RD_Rohdaten!D917)","v":0.21173587081891579},{"$f":"(RD_Rohdaten!E1011/RD_Rohdaten!E262)*(RD_Rohdaten!E1105/RD_Rohdaten!E917)","v":0.23236429122716751},{"$f":"(RD_Rohdaten!F1011/RD_Rohdaten!F262)*(RD_Rohdaten!F1105/RD_Rohdaten!F917)","v":0.2472254019925236},{"$f":"(RD_Rohdaten!G1011/RD_Rohdaten!G262)*(RD_Rohdaten!G1105/RD_Rohdaten!G917)","v":0.26034271471596221},{"$f":"(RD_Rohdaten!H1011/RD_Rohdaten!H262)*(RD_Rohdaten!H1105/RD_Rohdaten!H917)","v":0.28364148704765674},{"$f":"(RD_Rohdaten!I1011/RD_Rohdaten!I262)*(RD_Rohdaten!I1105/RD_Rohdaten!I917)","v":0.26397228637413395},{"$f":"(RD_Rohdaten!J1011/RD_Rohdaten!J262)*(RD_Rohdaten!J1105/RD_Rohdaten!J917)","v":0.29229542258694147},{"$f":"(RD_Rohdaten!K1011/RD_Rohdaten!K262)*(RD_Rohdaten!K1105/RD_Rohdaten!K917)","v":0.3306675129970012},{"$f":"(RD_Rohdaten!L1011/RD_Rohdaten!L262)*(RD_Rohdaten!L1105/RD_Rohdaten!L917)","v":0.33487158214940027},{"$f":"(RD_Rohdaten!M1011/RD_Rohdaten!M262)*(RD_Rohdaten!M1105/RD_Rohdaten!M917)","v":0.35056775580628557},{"$f":"(RD_Rohdaten!N1011/RD_Rohdaten!N262)*(RD_Rohdaten!N1105/RD_Rohdaten!N917)","v":0.34683379320863544},{"$f":"(RD_Rohdaten!O1011/RD_Rohdaten!O262)*(RD_Rohdaten!O1105/RD_Rohdaten!O917)","v":0.39510070563235516},{"$f":"(RD_Rohdaten!P1011/RD_Rohdaten!P262)*(RD_Rohdaten!P1105/RD_Rohdaten!P917)","v":0.43319136854060192},{"$f":"(RD_Rohdaten!Q1011/RD_Rohdaten!Q262)*(RD_Rohdaten!Q1105/RD_Rohdaten!Q917)","v":0.45283995513939307},{"$f":"(RD_Rohdaten!R1011/RD_Rohdaten!R262)*(RD_Rohdaten!R1105/RD_Rohdaten!R917)","v":0.46208928393088983},{"$f":"(RD_Rohdaten!S1011/RD_Rohdaten!S262)*(RD_Rohdaten!S1105/RD_Rohdaten!S917)","v":0.49521692437522175},{"$f":"(RD_Rohdaten!T1011/RD_Rohdaten!T262)*(RD_Rohdaten!T1105/RD_Rohdaten!T917)","v":0.51453517214009326},{"$f":"(RD_Rohdaten!U1011/RD_Rohdaten!U262)*(RD_Rohdaten!U1105/RD_Rohdaten!U917)","v":0.6148390616475724},{"$f":"(RD_Rohdaten!V1011/RD_Rohdaten!V262)*(RD_Rohdaten!V1105/RD_Rohdaten!V917)","v":0.63416223270755956},{"$f":"(RD_Rohdaten!W1011/RD_Rohdaten!W262)*(RD_Rohdaten!W1105/RD_Rohdaten!W917)","v":0.68078260682363945},{"$f":"(RD_Rohdaten!X1011/RD_Rohdaten!X262)*(RD_Rohdaten!X1105/RD_Rohdaten!X917)","v":0.66363044892648015},{"$f":"(RD_Rohdaten!Y1011/RD_Rohdaten!Y262)*(RD_Rohdaten!Y1105/RD_Rohdaten!Y917)","v":0.68966300867419161},{"$f":"(RD_Rohdaten!Z1011/RD_Rohdaten!Z262)*(RD_Rohdaten!Z1105/RD_Rohdaten!Z917)","v":0.73222256315087086},{"$f":"(RD_Rohdaten!AA1011/RD_Rohdaten!AA262)*(RD_Rohdaten!AA1105/RD_Rohdaten!AA917)","v":0.73385569355113178},{"$f":"(RD_Rohdaten!AB1011/RD_Rohdaten!AB262)*(RD_Rohdaten!AB1105/RD_Rohdaten!AB917)","v":0.58849478084686191},{"$f":"(RD_Rohdaten!AC1011/RD_Rohdaten!AC262)*(RD_Rohdaten!AC1105/RD_Rohdaten!AC917)","v":0.7255473411723411},{"$f":"(RD_Rohdaten!AD1011/RD_Rohdaten!AD262)*(RD_Rohdaten!AD1105/RD_Rohdaten!AD917)","v":0.6952097272142902},{"$f":"(RD_Rohdaten!AE1011/RD_Rohdaten!AE262)*(RD_Rohdaten!AE1105/RD_Rohdaten!AE917)","v":{"$error":"#VALUE!"}},{"$f":"(RD_Rohdaten!AF1011/RD_Rohdaten!AF262)*(RD_Rohdaten!AF1105/RD_Rohdaten!AF917)","v":{"$error":"#VALUE!"}}]
["L","Grundstücks- und Wohnungswesen",{"$f":"(RD_Rohdaten!C1002/RD_Rohdaten!C253)*(RD_Rohdaten!C1096/RD_Rohdaten!C908)","v":5.1462915418601651E-2},{"$f":"(RD_Rohdaten!D1002/RD_Rohdaten!D253)*(RD_Rohdaten!D1096/RD_Rohdaten!D908)","v":5.1963349700795289E-2},{"$f":"(RD_Rohdaten!E1002/RD_Rohdaten!E253)*(RD_Rohdaten!E1096/RD_Rohdaten!E908)","v":5.2547391760555145E-2},{"$f":"(RD_Rohdaten!F1002/RD_Rohdaten!F253)*(RD_Rohdaten!F1096/RD_Rohdaten!F908)","v":5.2538841415344692E-2},{"$f":"(RD_Rohdaten!G1002/RD_Rohdaten!G253)*(RD_Rohdaten!G1096/RD_Rohdaten!G908)","v":5.1829144968338146E-2},{"$f":"(RD_Rohdaten!H1002/RD_Rohdaten!H253)*(RD_Rohdaten!H1096/RD_Rohdaten!H908)","v":5.2611967380541337E-2},{"$f":"(RD_Rohdaten!I1002/RD_Rohdaten!I253)*(RD_Rohdaten!I1096/RD_Rohdaten!I908)","v":5.3081226606140369E-2},{"$f":"(RD_Rohdaten!J1002/RD_Rohdaten!J253)*(RD_Rohdaten!J1096/RD_Rohdaten!J908)","v":5.757860769942718E-2},{"$f":"(RD_Rohdaten!K1002/RD_Rohdaten!K253)*(RD_Rohdaten!K1096/RD_Rohdaten!K908)","v":5.9927437034619148E-2},{"$f":"(RD_Rohdaten!L1002/RD_Rohdaten!L253)*(RD_Rohdaten!L1096/RD_Rohdaten!L908)","v":5.9857487559656281E-2},{"$f":"(RD_Rohdaten!M1002/RD_Rohdaten!M253)*(RD_Rohdaten!M1096/RD_Rohdaten!M908)","v":5.7771523316519482E-2},{"$f":"(RD_Rohdaten!N1002/RD_Rohdaten!N253)*(RD_Rohdaten!N1096/RD_Rohdaten!N908)","v":5.627079536162384E-2},{"$f":"(RD_Rohdaten!O1002/RD_Rohdaten!O253)*(RD_Rohdaten!O1096/RD_Rohdaten!O908)","v":5.8375087909915746E-2},{"$f":"(RD_Rohdaten!P1002/RD_Rohdaten!P253)*(RD_Rohdaten!P1096/RD_Rohdaten!P908)","v":5.5842217297027201E-2},{"$f":"(RD_Rohdaten!Q1002/RD_Rohdaten!Q253)*(RD_Rohdaten!Q1096/RD_Rohdaten!Q908)","v":5.6225038688662576E-2},{"$f":"(RD_Rohdaten!R1002/RD_Rohdaten!R253)*(RD_Rohdaten!R1096/RD_Rohdaten!R908)","v":5.3566245976936155E-2},{"$f":"(RD_Rohdaten!S1002/RD_Rohdaten!S253)*(RD_Rohdaten!S1096/RD_Rohdaten!S908)","v":5.0514479747475409E-2},{"$f":"(RD_Rohdaten!T1002/RD_Rohdaten!T253)*(RD_Rohdaten!T1096/RD_Rohdaten!T908)","v":4.8919155482761427E-2},{"$f":"(RD_Rohdaten!U1002/RD_Rohdaten!U253)*(RD_Rohdaten!U1096/RD_Rohdaten!U908)","v":4.9601121289506313E-2},{"$f":"(RD_Rohdaten!V1002/RD_Rohdaten!V253)*(RD_Rohdaten!V1096/RD_Rohdaten!V908)","v":4.9981595756450357E-2},{"$f":"(RD_Rohdaten!W1002/RD_Rohdaten!W253)*(RD_Rohdaten!W1096/RD_Rohdaten!W908)","v":4.8748406759451517E-2},{"$f":"(RD_Rohdaten!X1002/RD_Rohdaten!X253)*(RD_Rohdaten!X1096/RD_Rohdaten!X908)","v":5.1257134273724421E-2},{"$f":"(RD_Rohdaten!Y1002/RD_Rohdaten!Y253)*(RD_Rohdaten!Y1096/RD_Rohdaten!Y908)","v":4.8768504856973434E-2},{"$f":"(RD_Rohdaten!Z1002/RD_Rohdaten!Z253)*(RD_Rohdaten!Z1096/RD_Rohdaten!Z908)","v":4.9692879370093285E-2},{"$f":"(RD_Rohdaten!AA1002/RD_Rohdaten!AA253)*(RD_Rohdaten!AA1096/RD_Rohdaten!AA908)","v":4.9673844187121549E-2},{"$f":"(RD_Rohdaten!AB1002/RD_Rohdaten!AB253)*(RD_Rohdaten!AB1096/RD_Rohdaten!AB908)","v":5.126223293690782E-2},{"$f":"(RD_Rohdaten!AC1002/RD_Rohdaten!AC253)*(RD_Rohdaten!AC1096/RD_Rohdaten!AC908)","v":5.3264988723207035E-2},{"$f":"(RD_Rohdaten!AD1002/RD_Rohdaten!AD253)*(RD_Rohdaten!AD1096/RD_Rohdaten!AD908)","v":5.5132235040451338E-2},{"$f":"(RD_Rohdaten!AE1002/RD_Rohdaten!AE253)*(RD_Rohdaten!AE1096/RD_Rohdaten!AE908)","v":5.5428817584736036E-2},{"$f":"(RD_Rohdaten!AF1002/RD_Rohdaten!AF253)*(RD_Rohdaten!AF1096/RD_Rohdaten!AF908)","v":5.5432789992434318E-2}]
[]
["Kapitalquote",null,1991,{"$f":"C60+1","v":1992},{"$f":"D60+1","v":1993},1994,1995,1996,1997,1998,1999,2000,2001,2002,2003,2004,2005,2006,2007,2008,2009,2010,2011,2012,2013,2014,2015,2016,2017,{"$f":"AC60+1","v":2018},{"$f":"AD60+1","v":2019},{"$f":"AE60+1","v":2020}]
["C33","Reparatur und Installation von Maschinen und Ausrüstungen",{"$f":"1-C48","v":0.21300904814072819},{"$f":"1-D48","v":0.18247198427041611},0.12906288400646526,0.13218116740088104,7.8495663070958899E-2,6.3186361666840996E-2,0.11658969400798391,0.11434178911840664,0.11286908295578824,6.9189756406599967E-2,1.361891134890858E-2,3.6070686070685976E-2,4.946727549467278E-2,7.6201396851871217E-2,0.16569320948831689,0.14597332871492896,0.20692431561996782,0.11578574793790641,4.1423659284380854E-2,4.857240524423978E-2,5.9615502170059398E-2,9.1529992993123699E-2,7.2473117527628306E-2,0.10444755507050862,0.12839054732486677,0.1187355310801842,8.6283128585155966E-2,{"$f":"1-AD48","v":6.0260927822925026E-2},{"$error":"#VALUE!"},{"$error":"#VALUE!"}]
["G45","Handel mit Kraftfahrzeugen; Instandhaltung und Reparatur von Kraftfahrzeugen",{"$f":"1-C49","v":0.41477899204176116},0.39115514430934262,0.26897306931404286,0.31080085009122982,0.34124059871481915,0.33899579906760802,0.36076266545828206,0.37034099032791779,0.36716124149886742,0.32996751205969421,0.34267129841518185,0.39019838745127067,0.42142605536150213,0.41832121589616666,0.42417588354945335,0.43394594788686869,0.39675758599035893,0.40122029202940446,0.45424185606714007,0.36451789380785993,0.41909839604356303,0.32046468776968695,0.3143570990880894,0.34071915414389631,0.33989908794092538,0.36842829656367149,0.33825343823464427,0.30988832054788784,{"$error":"#VALUE!"},{"$error":"#VALUE!"}]
["G47","Einzelhandel (ohne Handel mit Kraftfahrzeugen)",0.26273870625739337,0.21417656584972711,0.19618732974333442,0.19106633555796682,0.25134710752821932,0.26988152024634826,0.26840741635913012,0.26680855064979569,0.26358693439867886,0.30072842906668806,0.28763172937004466,0.27262575496792385,0.27108483343439049,0.26437681478113351,0.24570580069189873,0.25624259537920946,0.24587629848595816,0.20073889869930861,0.20579921335748252,0.17662968664647183,0.13189539897149882,8.9733224459357275E-2,0.13338898650610764,0.14056386907877672,0.18603103972175838,0.19115346564851221,0.20075429102165221,0.19206891796035042,{"$error":"#VALUE!"},{"$error":"#VALUE!"}]
["H49","Landverkehr und Transport in Rohrfernleitungen",0.24028615190338287,0.19320698637839828,0.15025189690658303,0.15116504402121,0.17508103234148253,0.16130135242454768,0.2127307519798417,0.21948522773390666,0.305814980485831,0.30697415183269983,0.36402984764506963,0.35982345061532084,0.35296235425526423,0.32299383202780685,0.35947785091620699,0.40777138751982089,0.41264012184115806,0.41000603706730088,0.37771454923241365,0.3798016318843257,0.3929396647226534,0.393425368908075,0.40232260855995006,0.41618116095428415,0.40752678161513767,0.38340317884240505,0.37993829948217428,0.38192484520289816,{"$error":"#VALUE!"},{"$error":"#VALUE!"}]
["H52","Lagerei sowie Erbringung von sonstigen Dienstleistungen für den Verkehr",0.152735597238434,0.11501424449763475,0.15474976310171218,0.18065615079784036,0.23830750568261327,0.25299416282871412,0.30047212221960851,0.30933693785069338,0.20684379051615565,0.21794725948360039,0.26976154206170155,0.34235603218512767,0.35573484908667707,0.38083379679697715,0.39692979017891572,0.43799813088646578,0.44419178897914979,0.42369190034432302,0.36877488146185677,0.40330176009912422,0.40018368133727411,0.38859131463716334,0.41060425395804456,0.39899412789442579,0.36572626639422745,0.34567990311665608,0.33333913577330998,0.32963023595429275,{"$error":"#VALUE!"},{"$error":"#VALUE!"}]
["J61","Telekommunikation",0.50136270195045107,0.51047216046868327,0.52749645548406932,0.54789886854729475,0.55249925238406417,0.54440792686701656,0.59654404033444464,0.6416130812712586,0.63465652248727356,0.65159057094382722,0.67580719784535259,0.70874430413220524,0.66103399462830159,0.71216895708567951,0.67343628447593962,0.69525937760131695,0.67018897146444423,0.65543044711269727,0.67166452331707549,0.68176393709617855,0.678500881311489,0.68141876237415222,0.66772349203401304,0.67281894843197454,0.67734778592399891,0.65578290647812332,0.67828960721322096,0.68657299732667165,{"$error":"#VALUE!"},{"$error":"#VALUE!"}]
["J62-01","IT- und Informationsdienstleister",0.48423924190835621,0.44798943974793515,0.43918866298251835,0.34927601940904651,0.31922906210522717,0.335407258675397,0.36711302731507189,0.40035970086413009,0.30475954358809054,0.24956325077535357,0.26669271808268868,0.2495644784995652,0.19122740808105576,0.18413975113150061,0.20552330476835046,0.22210856401384071,0.26965205407309256,0.22680153705691719,0.18816315537555173,0.17371821010838062,0.24251399862188006,0.22585362585612212,0.28617727697744821,0.27165222875523598,0.24413607738346388,0.2342484823957911,0.21684313831859581,0.23290843549412599,{"$error":"#VALUE!"},{"$error":"#VALUE!"}]
["M69-01","Unternehmensnahe Beratungsleistungen ",0.57230248644778992,0.56897954445880972,0.58048942899950062,0.55792446053900302,0.54632199877542753,0.53143689156681373,0.50062421532148771,0.49510891461772544,0.49177525689372215,0.45997485664875548,0.4711212575229704,0.45406714946002069,0.42273704683196434,0.36994672381652316,0.34603249786847023,0.3460856790570378,0.34273724463692024,0.29208575982303775,0.18708120261144778,0.15230063562635165,0.10192737076238179,7.591317165691458E-2,0.11569718743933288,8.4671616597406629E-2,5.1342650715714866E-2,6.6306884718784653E-2,5.7681935094873515E-2,2.3244504824125767E-2,{"$error":"#VALUE!"},{"$error":"#VALUE!"}]
["M73","Werbung und Marktforschung",0.83152153639856519,0.81649984564073375,0.8172540326854848,0.80982445099349321,0.79357142857142859,0.77251991948951249,0.77837990827859249,0.74360045575389289,0.74428228693885656,0.71307076775400091,0.65754320538094813,0.61134515650041699,0.62548376644805925,0.61852032520325206,0.5805217391304347,0.61163317694011932,0.6182179657845821,0.60569685261804262,0.5139649654785623,0.52359226883657528,0.47071767231252515,0.41995021937225785,0.46452937832416308,0.42384750706681895,0.35956083221271939,0.33799031788981548,0.28019010997846105,0.19862019007814191,{"$error":"#VALUE!"},{"$error":"#VALUE!"}]
["M74-01","Freiberufl.,wiss.,techn.DL a.n.g., Veterinärwesen",0.7732320936012852,0.78826412918108424,0.76763570877283249,0.75277459800747637,0.73965728528403774,0.71635851295234332,0.73602771362586605,0.70770457741305859,0.66933248700299885,0.66512841785059973,0.64943224419371437,0.65316620679136461,0.60489929436764478,0.56680863145939808,0.54716004486060688,0.53791071606911012,0.5047830756247782,0.48546482785990674,0.3851609383524276,0.36583776729244044,0.31921739317636055,0.33636955107351985,0.31033699132580839,0.26777743684912914,0.26614430644886822,0.41150521915313809,0.2744526588276589,0.3047902727857098,{"$error":"#VALUE!"},{"$error":"#VALUE!"}]
["L","Grundstücks- und Wohnungswesen",0.94853708458139829,0.9480366502992047,0.94745260823944488,0.94746115858465529,0.94817085503166187,0.9473880326194587,0.94691877339385966,0.94242139230057287,0.94007256296538089,0.94014251244034375,0.94222847668348053,{"$f":"1-N58","v":0.94372920463837617},0.94162491209008425,0.94415778270297279,0.94377496131133742,0.94643375402306384,0.94948552025252464,0.95108084451723862,0.95039887871049367,0.95001840424354966,0.95125159324054853,0.94874286572627553,0.95123149514302652,0.95030712062990674,0.95032615581287849,0.94873776706309221,0.94673501127679294,0.94486776495954872,0.94457118241526394,0.94456721000756572]

{"sheet":"NR_Berechnungen_Post_direkt","index":18,"n_rows":23,"n_cols":31,"rows_kept":23,"cut":false,"hidden":false,"merged":[]}
["H53: Post-, Kurier- und Expressdienste"]
["Outputindex",1991,{"$f":"B2+1","v":1992},{"$f":"C2+1","v":1993},1994,1995,1996,1997,1998,1999,2000,2001,2002,2003,2004,2005,2006,2007,2008,2009,2010,2011,2012,2013,2014,2015,2016,2017,{"$f":"AB2+1","v":2018},{"$f":"AC2+1","v":2019},{"$f":"AD2+1","v":2020}]
["Bruttowertschöpfung (preisbereinigt)",{"$f":"RD_Rohdaten!C333","v":100.68},{"$f":"RD_Rohdaten!D333","v":97.19},{"$f":"RD_Rohdaten!E333","v":87.7},{"$f":"RD_Rohdaten!F333","v":86.39},{"$f":"RD_Rohdaten!G333","v":83.79},{"$f":"RD_Rohdaten!H333","v":82.49},{"$f":"RD_Rohdaten!I333","v":81.36},{"$f":"RD_Rohdaten!J333","v":78.17},{"$f":"RD_Rohdaten!K333","v":78.36},{"$f":"RD_Rohdaten!L333","v":83.11},{"$f":"RD_Rohdaten!M333","v":82.12},{"$f":"RD_Rohdaten!N333","v":84.57},{"$f":"RD_Rohdaten!O333","v":88.42},{"$f":"RD_Rohdaten!P333","v":84.97},{"$f":"RD_Rohdaten!Q333","v":81.900000000000006},{"$f":"RD_Rohdaten!R333","v":82.66},{"$f":"RD_Rohdaten!S333","v":88.17},{"$f":"RD_Rohdaten!T333","v":92.5},{"$f":"RD_Rohdaten!U333","v":98.61},{"$f":"RD_Rohdaten!V333","v":86.98},{"$f":"RD_Rohdaten!W333","v":88.68},{"$f":"RD_Rohdaten!X333","v":89.61},{"$f":"RD_Rohdaten!Y333","v":94.47},{"$f":"RD_Rohdaten!Z333","v":97.89},{"$f":"RD_Rohdaten!AA333","v":100},{"$f":"RD_Rohdaten!AB333","v":101.89},{"$f":"RD_Rohdaten!AC333","v":104.18},{"$f":"RD_Rohdaten!AD333","v":103.42},{"$f":"RD_Rohdaten!AE333","v":"..."},{"$f":"RD_Rohdaten!AF333","v":"..."}]
[]
["Inputindex"]
[]
["Arbeitsindex (Anzahl Erwerbstätige)",{"$f":"(RD_Rohdaten!C1084/RD_Rohdaten!$AA$1084)*100","v":106.25},{"$f":"(RD_Rohdaten!D1084/RD_Rohdaten!$AA$1084)*100","v":104.79166666666666},{"$f":"(RD_Rohdaten!E1084/RD_Rohdaten!$AA$1084)*100","v":103.33333333333334},{"$f":"(RD_Rohdaten!F1084/RD_Rohdaten!$AA$1084)*100","v":98.333333333333329},{"$f":"(RD_Rohdaten!G1084/RD_Rohdaten!$AA$1084)*100","v":91.875},{"$f":"(RD_Rohdaten!H1084/RD_Rohdaten!$AA$1084)*100","v":86.458333333333343},{"$f":"(RD_Rohdaten!I1084/RD_Rohdaten!$AA$1084)*100","v":81.458333333333329},{"$f":"(RD_Rohdaten!J1084/RD_Rohdaten!$AA$1084)*100","v":79.583333333333329},{"$f":"(RD_Rohdaten!K1084/RD_Rohdaten!$AA$1084)*100","v":78.541666666666671},{"$f":"(RD_Rohdaten!L1084/RD_Rohdaten!$AA$1084)*100","v":82.708333333333329},{"$f":"(RD_Rohdaten!M1084/RD_Rohdaten!$AA$1084)*100","v":86.458333333333343},{"$f":"(RD_Rohdaten!N1084/RD_Rohdaten!$AA$1084)*100","v":86.25},{"$f":"(RD_Rohdaten!O1084/RD_Rohdaten!$AA$1084)*100","v":85.833333333333329},{"$f":"(RD_Rohdaten!P1084/RD_Rohdaten!$AA$1084)*100","v":86.875},{"$f":"(RD_Rohdaten!Q1084/RD_Rohdaten!$AA$1084)*100","v":87.083333333333329},{"$f":"(RD_Rohdaten!R1084/RD_Rohdaten!$AA$1084)*100","v":88.75},{"$f":"(RD_Rohdaten!S1084/RD_Rohdaten!$AA$1084)*100","v":90.625},{"$f":"(RD_Rohdaten!T1084/RD_Rohdaten!$AA$1084)*100","v":91.875},{"$f":"(RD_Rohdaten!U1084/RD_Rohdaten!$AA$1084)*100","v":92.708333333333343},{"$f":"(RD_Rohdaten!V1084/RD_Rohdaten!$AA$1084)*100","v":92.5},{"$f":"(RD_Rohdaten!W1084/RD_Rohdaten!$AA$1084)*100","v":92.916666666666671},{"$f":"(RD_Rohdaten!X1084/RD_Rohdaten!$AA$1084)*100","v":94.166666666666671},{"$f":"(RD_Rohdaten!Y1084/RD_Rohdaten!$AA$1084)*100","v":96.25},{"$f":"(RD_Rohdaten!Z1084/RD_Rohdaten!$AA$1084)*100","v":97.291666666666671},{"$f":"(RD_Rohdaten!AA1084/RD_Rohdaten!$AA$1084)*100","v":100},{"$f":"(RD_Rohdaten!AB1084/RD_Rohdaten!$AA$1084)*100","v":101.04166666666667},{"$f":"(RD_Rohdaten!AC1084/RD_Rohdaten!$AA$1084)*100","v":105.20833333333333},{"$f":"(RD_Rohdaten!AD1084/RD_Rohdaten!$AA$1084)*100","v":108.54166666666667},{"$f":"(RD_Rohdaten!AE1084/RD_Rohdaten!$AA$1084)*100","v":{"$error":"#VALUE!"}},{"$f":"(RD_Rohdaten!AF1084/RD_Rohdaten!$AA$1084)*100","v":{"$error":"#VALUE!"}}]
["Kapitalindex (Bruttoanlagevermögen, preisbereinigt)",{"$f":"RD_Rohdaten!C521","v":35.659999999999997},{"$f":"RD_Rohdaten!D521","v":38.950000000000003},{"$f":"RD_Rohdaten!E521","v":42.8},{"$f":"RD_Rohdaten!F521","v":49.15},{"$f":"RD_Rohdaten!G521","v":54.64},{"$f":"RD_Rohdaten!H521","v":58.07},{"$f":"RD_Rohdaten!I521","v":61.41},{"$f":"RD_Rohdaten!J521","v":63.49},{"$f":"RD_Rohdaten!K521","v":66.23},{"$f":"RD_Rohdaten!L521","v":71.09},{"$f":"RD_Rohdaten!M521","v":75.06},{"$f":"RD_Rohdaten!N521","v":77.400000000000006},{"$f":"RD_Rohdaten!O521","v":80.150000000000006},{"$f":"RD_Rohdaten!P521","v":83.33},{"$f":"RD_Rohdaten!Q521","v":87.92},{"$f":"RD_Rohdaten!R521","v":92.34},{"$f":"RD_Rohdaten!S521","v":94.24},{"$f":"RD_Rohdaten!T521","v":94.71},{"$f":"RD_Rohdaten!U521","v":95.37},{"$f":"RD_Rohdaten!V521","v":96.85},{"$f":"RD_Rohdaten!W521","v":97.64},{"$f":"RD_Rohdaten!X521","v":97.93},{"$f":"RD_Rohdaten!Y521","v":99.04},{"$f":"RD_Rohdaten!Z521","v":99.37},{"$f":"RD_Rohdaten!AA521","v":100},{"$f":"RD_Rohdaten!AB521","v":100.57},{"$f":"RD_Rohdaten!AC521","v":102.75},{"$f":"RD_Rohdaten!AD521","v":104.94},{"$f":"RD_Rohdaten!AE521","v":"..."},{"$f":"RD_Rohdaten!AF521","v":0}]
[]
["Gewichtung"]
["Bereinigte Lohnquote (wenn größer 1 gleich 1 gesetzt)",{"$f":"IF((RD_Rohdaten!C990/RD_Rohdaten!C241)*(RD_Rohdaten!C896/RD_Rohdaten!C1084)>1,1,(RD_Rohdaten!C990/RD_Rohdaten!C241)*(RD_Rohdaten!C896/RD_Rohdaten!C1084))","v":0.86803216888665502},{"$f":"IF((RD_Rohdaten!D990/RD_Rohdaten!D241)*(RD_Rohdaten!D896/RD_Rohdaten!D1084)>1,1,(RD_Rohdaten!D990/RD_Rohdaten!D241)*(RD_Rohdaten!D896/RD_Rohdaten!D1084))","v":0.97124084841906022},{"$f":"IF((RD_Rohdaten!E990/RD_Rohdaten!E241)*(RD_Rohdaten!E896/RD_Rohdaten!E1084)>1,1,(RD_Rohdaten!E990/RD_Rohdaten!E241)*(RD_Rohdaten!E896/RD_Rohdaten!E1084))","v":1},{"$f":"IF((RD_Rohdaten!F990/RD_Rohdaten!F241)*(RD_Rohdaten!F896/RD_Rohdaten!F1084)>1,1,(RD_Rohdaten!F990/RD_Rohdaten!F241)*(RD_Rohdaten!F896/RD_Rohdaten!F1084))","v":0.96683554055899046},{"$f":"IF((RD_Rohdaten!G990/RD_Rohdaten!G241)*(RD_Rohdaten!G896/RD_Rohdaten!G1084)>1,1,(RD_Rohdaten!G990/RD_Rohdaten!G241)*(RD_Rohdaten!G896/RD_Rohdaten!G1084))","v":1},{"$f":"IF((RD_Rohdaten!H990/RD_Rohdaten!H241)*(RD_Rohdaten!H896/RD_Rohdaten!H1084)>1,1,(RD_Rohdaten!H990/RD_Rohdaten!H241)*(RD_Rohdaten!H896/RD_Rohdaten!H1084))","v":1},{"$f":"IF((RD_Rohdaten!I990/RD_Rohdaten!I241)*(RD_Rohdaten!I896/RD_Rohdaten!I1084)>1,1,(RD_Rohdaten!I990/RD_Rohdaten!I241)*(RD_Rohdaten!I896/RD_Rohdaten!I1084))","v":0.94034596863820674},{"$f":"IF((RD_Rohdaten!J990/RD_Rohdaten!J241)*(RD_Rohdaten!J896/RD_Rohdaten!J1084)>1,1,(RD_Rohdaten!J990/RD_Rohdaten!J241)*(RD_Rohdaten!J896/RD_Rohdaten!J1084))","v":0.90978651596441629},{"$f":"IF((RD_Rohdaten!K990/RD_Rohdaten!K241)*(RD_Rohdaten!K896/RD_Rohdaten!K1084)>1,1,(RD_Rohdaten!K990/RD_Rohdaten!K241)*(RD_Rohdaten!K896/RD_Rohdaten!K1084))","v":0.88317092727452784},{"$f":"IF((RD_Rohdaten!L990/RD_Rohdaten!L241)*(RD_Rohdaten!L896/RD_Rohdaten!L1084)>1,1,(RD_Rohdaten!L990/RD_Rohdaten!L241)*(RD_Rohdaten!L896/RD_Rohdaten!L1084))","v":0.76302170808318315},{"$f":"IF((RD_Rohdaten!M990/RD_Rohdaten!M241)*(RD_Rohdaten!M896/RD_Rohdaten!M1084)>1,1,(RD_Rohdaten!M990/RD_Rohdaten!M241)*(RD_Rohdaten!M896/RD_Rohdaten!M1084))","v":0.76545283927884167},{"$f":"IF((RD_Rohdaten!N990/RD_Rohdaten!N241)*(RD_Rohdaten!N896/RD_Rohdaten!N1084)>1,1,(RD_Rohdaten!N990/RD_Rohdaten!N241)*(RD_Rohdaten!N896/RD_Rohdaten!N1084))","v":0.71665961026977143},{"$f":"IF((RD_Rohdaten!O990/RD_Rohdaten!O241)*(RD_Rohdaten!O896/RD_Rohdaten!O1084)>1,1,(RD_Rohdaten!O990/RD_Rohdaten!O241)*(RD_Rohdaten!O896/RD_Rohdaten!O1084))","v":0.67827034408464537},{"$f":"IF((RD_Rohdaten!P990/RD_Rohdaten!P241)*(RD_Rohdaten!P896/RD_Rohdaten!P1084)>1,1,(RD_Rohdaten!P990/RD_Rohdaten!P241)*(RD_Rohdaten!P896/RD_Rohdaten!P1084))","v":0.68528657624648903},{"$f":"IF((RD_Rohdaten!Q990/RD_Rohdaten!Q241)*(RD_Rohdaten!Q896/RD_Rohdaten!Q1084)>1,1,(RD_Rohdaten!Q990/RD_Rohdaten!Q241)*(RD_Rohdaten!Q896/RD_Rohdaten!Q1084))","v":0.69711537926204215},{"$f":"IF((RD_Rohdaten!R990/RD_Rohdaten!R241)*(RD_Rohdaten!R896/RD_Rohdaten!R1084)>1,1,(RD_Rohdaten!R990/RD_Rohdaten!R241)*(RD_Rohdaten!R896/RD_Rohdaten!R1084))","v":0.72609207352619887},{"$f":"IF((RD_Rohdaten!S990/RD_Rohdaten!S241)*(RD_Rohdaten!S896/RD_Rohdaten!S1084)>1,1,(RD_Rohdaten!S990/RD_Rohdaten!S241)*(RD_Rohdaten!S896/RD_Rohdaten!S1084))","v":0.74011622935996124},{"$f":"IF((RD_Rohdaten!T990/RD_Rohdaten!T241)*(RD_Rohdaten!T896/RD_Rohdaten!T1084)>1,1,(RD_Rohdaten!T990/RD_Rohdaten!T241)*(RD_Rohdaten!T896/RD_Rohdaten!T1084))","v":0.72070502838763351},{"$f":"IF((RD_Rohdaten!U990/RD_Rohdaten!U241)*(RD_Rohdaten!U896/RD_Rohdaten!U1084)>1,1,(RD_Rohdaten!U990/RD_Rohdaten!U241)*(RD_Rohdaten!U896/RD_Rohdaten!U1084))","v":0.68562609621408821},{"$f":"IF((RD_Rohdaten!V990/RD_Rohdaten!V241)*(RD_Rohdaten!V896/RD_Rohdaten!V1084)>1,1,(RD_Rohdaten!V990/RD_Rohdaten!V241)*(RD_Rohdaten!V896/RD_Rohdaten!V1084))","v":0.80900288396255204},{"$f":"IF((RD_Rohdaten!W990/RD_Rohdaten!W241)*(RD_Rohdaten!W896/RD_Rohdaten!W1084)>1,1,(RD_Rohdaten!W990/RD_Rohdaten!W241)*(RD_Rohdaten!W896/RD_Rohdaten!W1084))","v":0.81141694934240705},{"$f":"IF((RD_Rohdaten!X990/RD_Rohdaten!X241)*(RD_Rohdaten!X896/RD_Rohdaten!X1084)>1,1,(RD_Rohdaten!X990/RD_Rohdaten!X241)*(RD_Rohdaten!X896/RD_Rohdaten!X1084))","v":0.83181893771629212},{"$f":"IF((RD_Rohdaten!Y990/RD_Rohdaten!Y241)*(RD_Rohdaten!Y896/RD_Rohdaten!Y1084)>1,1,(RD_Rohdaten!Y990/RD_Rohdaten!Y241)*(RD_Rohdaten!Y896/RD_Rohdaten!Y1084))","v":0.79741703264718844},{"$f":"IF((RD_Rohdaten!Z990/RD_Rohdaten!Z241)*(RD_Rohdaten!Z896/RD_Rohdaten!Z1084)>1,1,(RD_Rohdaten!Z990/RD_Rohdaten!Z241)*(RD_Rohdaten!Z896/RD_Rohdaten!Z1084))","v":0.79143601029554278},{"$f":"IF((RD_Rohdaten!AA990/RD_Rohdaten!AA241)*(RD_Rohdaten!AA896/RD_Rohdaten!AA1084)>1,1,(RD_Rohdaten!AA990/RD_Rohdaten!AA241)*(RD_Rohdaten!AA896/RD_Rohdaten!AA1084))","v":0.78552816591967656},{"$f":"IF((RD_Rohdaten!AB990/RD_Rohdaten!AB241)*(RD_Rohdaten!AB896/RD_Rohdaten!AB1084)>1,1,(RD_Rohdaten!AB990/RD_Rohdaten!AB241)*(RD_Rohdaten!AB896/RD_Rohdaten!AB1084))","v":0.8358973801778079},{"$f":"IF((RD_Rohdaten!AC990/RD_Rohdaten!AC241)*(RD_Rohdaten!AC896/RD_Rohdaten!AC1084)>1,1,(RD_Rohdaten!AC990/RD_Rohdaten!AC241)*(RD_Rohdaten!AC896/RD_Rohdaten!AC1084))","v":0.77436285405251204},{"$f":"IF((RD_Rohdaten!AD990/RD_Rohdaten!AD241)*(RD_Rohdaten!AD896/RD_Rohdaten!AD1084)>1,1,(RD_Rohdaten!AD990/RD_Rohdaten!AD241)*(RD_Rohdaten!AD896/RD_Rohdaten!AD1084))","v":0.84717567494389256},{"$f":"IF((RD_Rohdaten!AE990/RD_Rohdaten!AE241)*(RD_Rohdaten!AE896/RD_Rohdaten!AE1084)>1,1,(RD_Rohdaten!AE990/RD_Rohdaten!AE241)*(RD_Rohdaten!AE896/RD_Rohdaten!AE1084))","v":{"$error":"#VALUE!"}},{"$f":"IF((RD_Rohdaten!AF990/RD_Rohdaten!AF241)*(RD_Rohdaten!AF896/RD_Rohdaten!AF1084)>1,1,(RD_Rohdaten!AF990/RD_Rohdaten!AF241)*(RD_Rohdaten!AF896/RD_Rohdaten!AF1084))","v":{"$error":"#VALUE!"}}]
["Kapitalquote",{"$f":"1-B11","v":0.13196783111334498},{"$f":"1-C11","v":2.8759151580939779E-2},0,3.3164459441009542E-2,0,0,5.9654031361793258E-2,9.0213484035583713E-2,0.11682907272547216,0.23697829191681685,0.23454716072115833,0.28334038973022857,0.32172965591535463,0.31471342375351097,0.30288462073795785,0.27390792647380113,0.25988377064003876,0.27929497161236649,0.31437390378591179,0.19099711603744796,0.18858305065759295,0.16818106228370788,0.20258296735281156,0.20856398970445722,0.21447183408032344,0.1641026198221921,0.22563714594748796,0.15282432505610744,{"$error":"#VALUE!"},{"$error":"#VALUE!"}]
[]
["Veränderungsraten"]
["∆ Outputindex"]
["Bruttowertschöpfung (preisbereinigt)",null,{"$f":"C3/B3","v":0.9653357171235597},0.90235620948657269,0.98506271379703536,0.96990392406528536,0.9844850220790069,0.98630136986301375,0.96079154375614551,1.0024305999744147,1.0606176620724859,0.98808807604379745,1.0298343886994641,1.0455244176421901,0.96098167835331372,0.96386960103565977,1.0092796092796092,1.0666586015001212,1.0491096744924577,1.066054054054054,0.88206064293682185,1.0195447229248102,1.010487144790257,1.0542350184131235,1.0362019688790092,1.0215548064153641,1.0188999999999999,1.022475218372755,{"$f":"AC3/AB3","v":0.99270493376847757},{"$f":"AD3/AC3","v":{"$error":"#VALUE!"}},{"$f":"AE3/AD3","v":{"$error":"#VALUE!"}}]
["∆ Inputindex",null,{"$f":"(C18^((C11+B11)/2))*(C19^((C12+B12)/2))","v":0.99439787384125145},{"$f":"(D18^((D11+C11)/2))*(D19^((D12+C12)/2))","v":0.98761995583944751},0.95458312852456162,0.93701899080379603,0.94104308390022684,0.94541990628880235,0.98113427832594935,0.99258999563126227,1.0566186484081486,1.0478072019714051,1.0061804999869164,1.0072107472055463,1.0208195741530206,1.0183798361017333,1.0280218175848528,1.0209797709452197,1.0114115748244845,1.0084459942408808,1.0022123821667925,1.005196682414357,1.0115749715201081,1.0201151029519462,1.0092781050793962,1.0232522237208375,1.0095221677540802,1.0373961709498025,{"$f":"(AC18^((AC11+AB11)/2))*(AC19^((AC12+AB12)/2))","v":1.0297129343893063},{"$f":"(AD18^((AD11+AC11)/2))*(AD19^((AD12+AC12)/2))","v":{"$error":"#VALUE!"}},{"$f":"(AE18^((AE11+AD11)/2))*(AE19^((AE12+AD12)/2))","v":{"$error":"#VALUE!"}}]
["Arbeitsindex (Anzahl Erwerbstätige)",null,{"$f":"C7/B7","v":0.98627450980392151},{"$f":"D7/C7","v":0.98608349900596437},0.95161290322580627,0.93432203389830515,0.94104308390022684,0.94216867469879506,0.97698209718670082,0.98691099476439803,1.0530503978779839,1.0453400503778338,0.99759036144578306,0.99516908212560384,1.0121359223300972,1.0023980815347722,1.0191387559808613,1.0211267605633803,1.0137931034482759,1.0090702947845807,0.99775280898876395,1.0045045045045045,1.0134529147982063,1.0221238938053097,1.0108225108225108,1.0278372591006424,1.0104166666666667,1.0412371134020617,{"$f":"AC7/AB7","v":1.0316831683168317},{"$f":"AD7/AC7","v":{"$error":"#VALUE!"}},{"$f":"AE7/AD7","v":{"$error":"#VALUE!"}}]
["Kapitalindex (Bruttoanlagevermögen, preisbereinigt)",null,{"$f":"C8/B8","v":1.0922602355580484},{"$f":"D8/C8","v":1.0988446726572527},1.1483644859813085,1.1116988809766022,1.0627745241581259,1.0575167900809368,1.0338707050968898,1.043156402583084,1.0733806432130455,1.0558447038964693,1.0311750599520384,1.0355297157622738,1.0396756082345602,1.0550822032881315,1.0502729754322111,1.0205761316872428,1.0049872665534805,1.0069686411149827,1.0155185068679877,1.0081569437274136,1.0029700942236788,1.0113346267742265,1.003331987075929,1.0063399416322834,1.0057,1.0216764442676742,1.0213138686131387,{"$error":"#VALUE!"},{"$error":"#VALUE!"}]
[]
[]
["∆ TFP",null,{"$f":"C16/C17","v":0.97077411619412679},{"$f":"D16/D17","v":0.91366745290155349},1.0319297338929341,1.0350952687023769,1.0461636017755229,1.0432415938169628,0.97926610554825033,1.0099140676275848,1.0037847275082283,0.94300561609497568,1.0235085938485742,1.0380393780973278,0.9413824956781861,0.94647357190934389,0.98176866678834218,1.0447401915834358,1.0372727587921022,1.057125577514479,0.88011349553454776,1.014273863773596,0.99892462075429134,1.0334471231358533,1.0266763577492797,0.9983411545402745,1.0092893772375329,0.98561691955794817,0.96405988563912026,{"$error":"#VALUE!"},{"$error":"#VALUE!"}]
["∆ Arbeitsproduktivität",null,{"$f":"C16/C18","v":0.97876981259048801},{"$f":"D16/D18","v":0.91509107534626211},1.0351506483968849,1.038083111471235,1.0461636017755229,1.0468416073993625,0.98342799373992895,1.0157254355178418,1.0071860418169452,0.94523124382984958,1.0323219113774822,1.0505997788928803,0.94945911626274626,0.96156369289921084,0.99032600159360706,1.0445898028483946,1.0348360734789548,1.0564715457030061,0.88404726600649941,1.0149727734946541,0.99707359862047484,1.0314160786206317,1.0251077293835165,0.99388769707494806,1.0083958762886596,0.98198115031838862,0.96221879376791009,{"$error":"#VALUE!"},{"$error":"#VALUE!"}]

{"sheet":"RD_Rohdaten","index":19,"n_rows":1126,"n_cols":32,"rows_kept":1126,"cut":false,"hidden":false,"merged":[[5,0,5,31],[0,0,0,30],[1,0,1,30],[2,0,2,30],[3,0,3,30],[4,0,4,1],[565,0,565,1],[190,0,190,1],[377,0,377,1],[97,0,97,31],[189,0,189,31],[191,0,191,31],[283,0,283,31],[376,0,376,30],[378,0,378,30],[379,0,379,30],[471,0,471,30],[564,0,564,31],[940,0,940,1],[1034,0,1034,1],[752,0,752,1],[846,0,846,1],[566,0,566,31],[658,0,658,31],[751,0,751,31],[845,0,845,31],[939,0,939,31],[1033,0,1033,31]]}
["VGR des Bundes - Produktionswert (nominal/preisbereinigt):\nDeutschland, Jahre, Wirtschaftsbereiche"]
["Volkswirtschaftliche Gesamtrechnungen des Bundes"]
["Deutschland"]
["Produktionswert (jew. ME)"]
["Wirtschaftsbereiche (WZ2008)",null,"1991","1992","1993","1994","1995","1996","1997","1998","1999","2000","2001","2002","2003","2004","2005","2006","2007","2008","2009","2010","2011","2012","2013","2014","2015","2016","2017","2018","2019","2020"]
["Produktionswert in jeweiligen Preisen (Mrd. EUR)"]
["WZ08-A","Land- und Forstwirtschaft, Fischerei",39.957999999999998,39.377000000000002,38.554000000000002,39.345999999999997,40.625999999999998,41.658000000000001,42.091999999999999,41.073999999999998,40.927,43.101999999999997,45.49,42.24,41.362000000000002,44.722999999999999,39.746000000000002,41.414999999999999,47.127000000000002,50.655999999999999,44.093000000000004,49.600999999999999,56.540999999999997,56.661000000000001,61.338000000000001,60.741,55.069000000000003,54.651000000000003,59.945999999999998,56.112000000000002,60.353999999999999,56.905000000000001]
["WZ08-01","Landwirtschaft, Jagd und verbundene Tätigkeiten",36.313000000000002,35.369999999999997,35.088999999999999,35.712000000000003,36.941000000000003,38.14,38.389000000000003,37.219000000000001,36.993000000000002,39.5,42.021999999999998,38.707999999999998,38,41.283000000000001,35.904000000000003,37.094999999999999,41.893999999999998,45.795000000000002,39.697000000000003,45.567999999999998,51.146999999999998,50.826000000000001,55.304000000000002,54.33,48.305999999999997,48.131,53.323,49.381999999999998,"...","..."]
["WZ08-021","Forstwirtschaft",3.3370000000000002,3.7240000000000002,3.1930000000000001,3.367,3.4079999999999999,3.2210000000000001,3.3929999999999998,3.5219999999999998,3.5760000000000001,3.2519999999999998,3.1230000000000002,3.1779999999999999,3.0129999999999999,3.0920000000000001,3.47,3.93,4.8369999999999997,4.4740000000000002,4.0410000000000004,3.6549999999999998,4.9870000000000001,5.4829999999999997,5.6559999999999997,6.0110000000000001,6.3470000000000004,6.0750000000000002,6.1470000000000002,6.2469999999999999,"...","..."]
["WZ08-031","Fischerei",0.308,0.28299999999999997,0.27200000000000002,0.26700000000000002,0.27700000000000002,0.29699999999999999,0.31,0.33300000000000002,0.35799999999999998,0.35,0.34499999999999997,0.35399999999999998,0.34899999999999998,0.34799999999999998,0.372,0.39,0.39600000000000002,0.38700000000000001,0.35499999999999998,0.378,0.40699999999999997,0.35199999999999998,0.378,0.4,0.41599999999999998,0.44500000000000001,0.47599999999999998,0.48299999999999998,"...","..."]
["WZ08-B-05","Produzierendes Gewerbe",1298.518,1337.2339999999999,1286.771,1339.586,1403.229,1391.65,1429.71,1473.0730000000001,1504.7539999999999,1608.723,1635.664,1592.0519999999999,1610.0840000000001,1679.828,1746.8879999999999,1901.989,2048.5520000000001,2104.8870000000002,1790.4280000000001,2003.4369999999999,2218.4160000000002,2228.9949999999999,2220.683,2271.721,2306.9169999999999,2365.4549999999999,2499.451,2576.1080000000002,2531.462,2347.2310000000002]
["WZ08-B-18","Produzierendes Gewerbe ohne Baugewerbe",1118.5840000000001,1124.797,1058.607,1088.7660000000001,1151.2670000000001,1145.518,1189.143,1239.633,1268.0740000000001,1377.29,1414.482,1386.5740000000001,1408.9010000000001,1485.367,1557.548,1699.231,1836.7639999999999,1879.759,1565.7080000000001,1767.2829999999999,1963.1790000000001,1965.65,1953.3579999999999,1991.8979999999999,2022.8230000000001,2066.1849999999999,2186.3670000000002,2234.8850000000002,2162.991,1959.3689999999999]
["WZ08-B","Bergbau und Gewinnung von Steinen und Erden",25.007999999999999,23.559000000000001,22.803000000000001,22.05,21.713999999999999,16.367999999999999,15.138999999999999,14.581,12.696,12.981999999999999,11.457000000000001,11.803000000000001,13.215999999999999,12.382,12.161,13.071999999999999,13.6,13.728,11.574999999999999,12.538,12.901999999999999,12.629,11.866,11.943,11.689,10.632,10.898999999999999,10.619,8.8480000000000008,"..."]
["WZ08-C","Verarbeitendes Gewerbe",1015.265,1018.721,950.40800000000002,978.37199999999996,1038.759,1035.06,1080.1120000000001,1127.0319999999999,1155.838,1266.808,1300.462,1266.549,1284.68,1351.21,1414.087,1541.046,1663.6179999999999,1693.0450000000001,1378.7080000000001,1567.5920000000001,1758.8409999999999,1757.798,1751.9690000000001,1791.89,1819.568,1855.433,1958.692,1998.066,1931.9580000000001,1734.0219999999999]
["WZ08-10-01","Ernährungsgewerbe und Tabakverarbeitung",125.46,127.387,125.29600000000001,126.42700000000001,127.486,127.05800000000001,130.423,127.798,127.532,131.84700000000001,137.56299999999999,136.154,140.065,141.33000000000001,143.06299999999999,150.10300000000001,155.80799999999999,164.89500000000001,152.63999999999999,159.20500000000001,171.053,176.708,181.917,180.80600000000001,178.36600000000001,182.88300000000001,194.79400000000001,194.066,"...","..."]
["WZ08-13-01","Textil- und Bekleidungsgewerbe",38.872999999999998,36.353999999999999,33.343000000000004,31.83,30.271000000000001,29.178999999999998,29.302,29.227,28.137,28.64,28.45,25.992000000000001,24.492999999999999,24.417999999999999,23.59,24.442,25.257999999999999,23.643000000000001,19.686,21.666,24.158000000000001,22.31,22.14,23.539000000000001,22.507999999999999,22.936,23.401,24.238,"...","..."]
["WZ08-16-01","H.v. Holzwaren, Papier und Druckerzeugnissen",66.106999999999999,66.997,64.373000000000005,67.77,71.924000000000007,67.225999999999999,69.084000000000003,69.597999999999999,71.756,76.772999999999996,74.816999999999993,74.019000000000005,69.754999999999995,72.927000000000007,75.445999999999998,80.379000000000005,84.215000000000003,81.754999999999995,74.037999999999997,80.683999999999997,84.622,82.637,81.703000000000003,81.209000000000003,81.986000000000004,82.227000000000004,83.972999999999999,82.722999999999999,"...","..."]
["WZ08-16","H.v. Holz-, Flecht-, Korb-u.Korkwaren (ohne Möbel)",15.805999999999999,17.007999999999999,16.936,19.616,21.54,19.859000000000002,20.405999999999999,20.192,20.405000000000001,20.488,19.274999999999999,19.992000000000001,18.992999999999999,20.263000000000002,20.780999999999999,22.547000000000001,24.266999999999999,21.364000000000001,19.405000000000001,21.558,22.731000000000002,22.959,23.74,24.402999999999999,25.556999999999999,24.405999999999999,24.395,24.49,"...","..."]
["WZ08-17","Herstellung von Papier, Pappe und Waren daraus",28.225999999999999,27.149000000000001,24.786999999999999,25.37,26.141999999999999,25.37,27.021999999999998,27.125,28.134,31.753,31.302,31.225999999999999,30.276,30.896000000000001,31.690999999999999,34.024000000000001,36.493000000000002,37.484999999999999,32.909999999999997,37.204999999999998,39.548000000000002,38.188000000000002,37.758000000000003,37.543999999999997,37.94,38.362000000000002,39.862000000000002,41.03,"...","..."]
["WZ08-18","H.v. Druckerz., Vervielf.v.Ton-,Bild-,Datenträgern",22.074999999999999,22.84,22.65,22.783999999999999,24.242000000000001,21.997,21.655999999999999,22.280999999999999,23.216999999999999,24.532,24.24,22.800999999999998,20.486000000000001,21.768000000000001,22.974,23.808,23.454999999999998,22.905999999999999,21.722999999999999,21.920999999999999,22.343,21.49,20.204999999999998,19.262,18.489000000000001,19.459,19.716000000000001,17.202999999999999,"...","..."]
["WZ08-19","Kokerei und Mineralölverarbeitung",26.206,23.614000000000001,22.812000000000001,24.277999999999999,23.327000000000002,24.277000000000001,23.811,22.59,24.844999999999999,39.195999999999998,39.237000000000002,38.238,41.787999999999997,49.115000000000002,58.45,63.055,60.698999999999998,76.575999999999993,49.811,62.423000000000002,75.48,81.497,77.975999999999999,69.495999999999995,54.933,49.48,52.982999999999997,58.101999999999997,"...","..."]
["WZ08-20","Herstellung von chemischen Erzeugnissen",79.918999999999997,78.637,75.183000000000007,79.938000000000002,89.322999999999993,86.680999999999997,89.555000000000007,88.558000000000007,89.557000000000002,101.23,102.29,98.772000000000006,99.513999999999996,102.217,104.2,111.839,120.158,123.92100000000001,106.697,125.459,136.37200000000001,133.441,136.05500000000001,136.066,137.714,133.26900000000001,151.41300000000001,142.24299999999999,"...","..."]
["WZ08-21","Herstellung von pharmazeutischen Erzeugnissen",18.303999999999998,18.059000000000001,17.085000000000001,18.132000000000001,20.315999999999999,21.239000000000001,22.893000000000001,23.645,24.721,26.315000000000001,27.631,27.972999999999999,31.292000000000002,32.491,35.482999999999997,37.344999999999999,41.494,42.228999999999999,38.817999999999998,38.442,40.25,42.442999999999998,45.216999999999999,46.195999999999998,46.530999999999999,49.621000000000002,41.154000000000003,56.893000000000001,"...","..."]
["WZ08-22-01","H.v. Gummi-, Kunststoff-, Glaswaren, Keramik u.Ä.",77.049000000000007,81.17,80.396000000000001,83.632999999999996,89.501999999999995,85.564999999999998,86.94,87.863,90.006,93.191000000000003,91.462999999999994,90.433000000000007,89.004999999999995,93.716999999999999,95.594999999999999,104.126,108.887,109.343,94.998000000000005,105.06399999999999,118.489,116.624,118.84099999999999,122.316,123.13,127.328,132.852,136.77199999999999,"...","..."]
["WZ08-22","Herstellung von Gummi- und Kunststoffwaren",42.65,44.125,42.078000000000003,42.423000000000002,46.838999999999999,45.536999999999999,47.673999999999999,48.918999999999997,49.850999999999999,52.625999999999998,53.182000000000002,53.677999999999997,53.795999999999999,57.307000000000002,59.186999999999998,64.3,67.073999999999998,67.457999999999998,57.457000000000001,66.153000000000006,74.182000000000002,73.266000000000005,74.491,76.486999999999995,78.733999999999995,81.153999999999996,84.700999999999993,86.125,"...","..."]
["WZ08-23","H.v.Glas,-waren,Keramik,Verarb. v.Steinen u.Erden",34.399000000000001,37.045000000000002,38.317999999999998,41.21,42.662999999999997,40.027999999999999,39.265999999999998,38.944000000000003,40.155000000000001,40.564999999999998,38.280999999999999,36.755000000000003,35.209000000000003,36.409999999999997,36.408000000000001,39.826000000000001,41.813000000000002,41.884999999999998,37.540999999999997,38.911000000000001,44.307000000000002,43.357999999999997,44.35,45.829000000000001,44.396000000000001,46.173999999999999,48.151000000000003,50.646999999999998,"...","..."]
["WZ08-24-01","Metallgewerbe",127.937,125.273,115.126,118.914,131.56,125.35599999999999,131.137,137.80500000000001,134.01,149.49700000000001,152.53200000000001,145.55799999999999,147.715,163.42400000000001,177.76,204.35900000000001,230.136,234.09,167.91399999999999,201.084,238.499,230.48500000000001,223.65,224.25200000000001,224.523,223.13399999999999,240.39099999999999,249.83600000000001,"...","..."]
["WZ08-24","Metallerzeugung und -bearbeitung",54.640999999999998,51.606000000000002,44.351999999999997,45.494,55.048999999999999,50.261000000000003,54.628999999999998,56.874000000000002,51.457000000000001,60.734000000000002,62.531999999999996,61.457999999999998,60.587000000000003,71.555000000000007,80.313000000000002,96.548000000000002,109.919,112.045,72.263999999999996,91.241,112.05500000000001,107.40600000000001,99.106999999999999,97.433000000000007,98.352000000000004,91.972999999999999,103.4,108.291,"...","..."]
["WZ08-25","Herstellung von Metallerzeugnissen",73.296000000000006,73.667000000000002,70.774000000000001,73.42,76.510999999999996,75.094999999999999,76.507999999999996,80.930999999999997,82.552999999999997,88.763000000000005,90,84.1,87.128,91.869,97.447000000000003,107.81100000000001,120.217,122.045,95.65,109.843,126.444,123.07899999999999,124.54300000000001,126.819,126.17100000000001,131.161,136.99100000000001,141.54499999999999,"...","..."]
["WZ08-26","H.v. DV-Geräten, elektron. u. opt. Erzeugnissen",56.857999999999997,55.802,49.389000000000003,49.805,50.652999999999999,49.904000000000003,53.241999999999997,55.482999999999997,60.820999999999998,77.028000000000006,72.144999999999996,66.686000000000007,68.614000000000004,70.685000000000002,71.861000000000004,77.766000000000005,91.108999999999995,81.403000000000006,59.668999999999997,68.152000000000001,74.224000000000004,70.736000000000004,72.078000000000003,73.168999999999997,82.768000000000001,87.498999999999995,88.129000000000005,94.100999999999999,"...","..."]
["WZ08-27","Herstellung von elektrischen Ausrüstungen",71.805999999999997,73.302999999999997,72.989000000000004,74.412000000000006,72.759,72.757999999999996,77.135000000000005,80.763000000000005,81.257999999999996,85.314999999999998,88.641999999999996,82.837000000000003,82.090999999999994,88.25,88.674000000000007,98.55,94.975999999999999,99.66,85.82,95.897000000000006,106.94799999999999,104.36799999999999,101.831,104.375,102.21599999999999,104.095,109.301,109.45399999999999,"...","..."]
["WZ08-28","Maschinenbau",126.16,123.92,111.797,113.413,125.14700000000001,127.31100000000001,130.67699999999999,139.92400000000001,138.637,150.75299999999999,157.75899999999999,152.58699999999999,157.97200000000001,167.64400000000001,176.36600000000001,196.12,220.91900000000001,233.864,179.691,200.495,231.05600000000001,233.464,234.30500000000001,241.64400000000001,245.58600000000001,252.483,271.036,280.01299999999998,"...","..."]
["WZ08-29-01","Fahrzeugbau",144.148,149.57300000000001,126.871,134.80799999999999,149.93799999999999,161.316,177.13,203.01400000000001,221.57300000000001,240.38499999999999,260.42500000000001,263.35399999999998,266.428,278.14,292.96300000000002,315.88900000000001,345.42,337.88900000000001,270.94,326.78399999999999,368.80200000000002,375.02499999999998,368.14299999999997,398.37900000000002,427.28500000000003,443.90300000000002,468.05900000000003,468.68599999999998,"...","..."]
["WZ08-29","Herstellung von Kraftwagen und Kraftwagenteilen",127.458,131.81200000000001,111.514,119.828,135.369,144.61799999999999,158.77600000000001,183.78,200.43799999999999,218.172,235.61500000000001,240.05600000000001,242.93799999999999,255.63300000000001,267.56099999999998,288.68799999999999,315.52,305.84899999999999,240.131,293.666,335.10199999999998,338.67599999999999,329.60300000000001,357.15800000000002,383.678,397.99400000000003,414.29199999999997,417.37700000000001,"...","..."]
["WZ08-30","Sonstiger Fahrzeugbau",16.690000000000001,17.760999999999999,15.356999999999999,14.98,14.569000000000001,16.698,18.353999999999999,19.234000000000002,21.135000000000002,22.213000000000001,24.81,23.297999999999998,23.49,22.507000000000001,25.402000000000001,27.201000000000001,29.9,32.04,30.809000000000001,33.118000000000002,33.700000000000003,36.348999999999997,38.54,41.220999999999997,43.606999999999999,45.908999999999999,53.767000000000003,51.308999999999997,"...","..."]
["WZ08-31-01","Möbelherstellung, Installation von Maschinen",56.438000000000002,58.631999999999998,55.747999999999998,55.012,56.552999999999997,57.19,58.783000000000001,60.764000000000003,62.984999999999999,66.638000000000005,67.507999999999996,63.945999999999998,65.947999999999993,66.852000000000004,70.635999999999996,77.072999999999993,84.539000000000001,83.777000000000001,77.986000000000004,82.236999999999995,88.888000000000005,88.06,88.113,90.442999999999998,92.022000000000006,96.575000000000003,101.206,100.93899999999999,"...","..."]
["WZ08-31-02","Herstellung von Möbeln und sonstigen Waren",34.332000000000001,36.118000000000002,34.664999999999999,33.572000000000003,34.756999999999998,34.994,35.963999999999999,37.180999999999997,37.863,40.216999999999999,40.701999999999998,38.741999999999997,39.319000000000003,39.463000000000001,40.991,45.018000000000001,47.652999999999999,48.363,42.350999999999999,47.179000000000002,51.442999999999998,51.219000000000001,49.716999999999999,50.597000000000001,52.914999999999999,55.237000000000002,58.572000000000003,59.472999999999999,"...","..."]
["WZ08-33","Reparatur u.Installation von Masch.u.Ausrüstungen",22.106000000000002,22.513999999999999,21.082999999999998,21.44,21.795999999999999,22.196000000000002,22.818999999999999,23.582999999999998,25.122,26.420999999999999,26.806000000000001,25.204000000000001,26.629000000000001,27.388999999999999,29.645,32.055,36.886000000000003,35.414000000000001,35.634999999999998,35.058,37.445,36.841000000000001,38.396000000000001,39.845999999999997,39.106999999999999,41.338000000000001,42.634,41.466000000000001,"...","..."]
["WZ08-D","Energieversorgung",55.529000000000003,56.78,57.936,58.402000000000001,60.027999999999999,62.558,61.161000000000001,63.752000000000002,64.203999999999994,61.148000000000003,66.423000000000002,71.125,73.259,82.231999999999999,89.256,100.456,112.48,124.63500000000001,129.274,137.14099999999999,135.68600000000001,138.80699999999999,133.114,126.309,129.19900000000001,135.68600000000001,147.578,152.227,146.70099999999999,"..."]
["WZ08-E","Wasserversorg.,Entsorg.,Beseitig.v.Umweltverschm.",22.782,25.736999999999998,27.46,29.942,30.765999999999998,31.532,32.731000000000002,34.268000000000001,35.335999999999999,36.351999999999997,36.14,37.097000000000001,37.746000000000002,39.542999999999999,42.043999999999997,44.656999999999996,47.066000000000003,48.350999999999999,46.151000000000003,50.012,55.75,56.415999999999997,56.408999999999999,61.756,62.366999999999997,64.433999999999997,69.197999999999993,73.972999999999999,75.483999999999995,"..."]
["WZ08-36","Wasserversorgung",4.7430000000000003,5.2409999999999997,5.2039999999999997,6.0119999999999996,5.7859999999999996,6.0720000000000001,6.8769999999999998,7.8029999999999999,7.8920000000000003,7.9710000000000001,8.0129999999999999,8.0169999999999995,8.1950000000000003,8.516,8.6679999999999993,8.9339999999999993,8.9979999999999993,9.4749999999999996,8.2609999999999992,8.452,9.02,8.7840000000000007,8.9849999999999994,8.9529999999999994,9.1720000000000006,9.7629999999999999,9.6620000000000008,9.968,"...","..."]
["WZ08-37-01","Abwasser-, Abfallentsorgung, Rückgewinnung",18.039000000000001,20.495999999999999,22.256,23.93,24.98,25.46,25.853999999999999,26.465,27.443999999999999,28.381,28.126999999999999,29.08,29.550999999999998,31.027000000000001,33.375999999999998,35.722999999999999,38.067999999999998,38.875999999999998,37.89,41.56,46.73,47.631999999999998,47.423999999999999,52.802999999999997,53.195,54.670999999999999,59.536000000000001,64.004999999999995,"...","..."]
["WZ08-F","Baugewerbe",179.934,212.43700000000001,228.16399999999999,250.82,251.96199999999999,246.13200000000001,240.56700000000001,233.44,236.68,231.43299999999999,221.18199999999999,205.47800000000001,201.18299999999999,194.46100000000001,189.34,202.75800000000001,211.78800000000001,225.12799999999999,224.72,236.154,255.23699999999999,263.34500000000003,267.32499999999999,279.82299999999998,284.09399999999999,299.27,313.084,341.22300000000001,368.471,387.86200000000002]
["WZ08-G-04","Dienstleistungsbereiche",1399.663,1525.703,1607.8789999999999,1680.1130000000001,1754.213,1817.231,1873.8520000000001,1944.7170000000001,2037.7190000000001,2113.7979999999998,2199.3359999999998,2231.998,2282.2910000000002,2339.9549999999999,2405.424,2485.998,2583.212,2684.585,2670.9,2765.8150000000001,2885.08,2913.7330000000002,2973.6370000000002,3104.605,3212.8090000000002,3324.386,3455.7289999999998,3595.6410000000001,3713.027,3609.4929999999999]
["WZ08-G-01","Handel, Verkehr, Gastgewerbe",434.65699999999998,452.66399999999999,460.649,481.72300000000001,499.47800000000001,502.245,519.15599999999995,540.33799999999997,552.95399999999995,579.76700000000005,603.97,605.90599999999995,614.24900000000002,634.46699999999998,656.32100000000003,685.29200000000003,715.26400000000001,754.67,719.447,757.79600000000005,797.72699999999998,790.37800000000004,802.51900000000001,847.67700000000002,874.404,898.58100000000002,942.07,990,1021.319,958.20100000000002]
["WZ08-G","Handel, Instandhaltung und Reparatur von Kfz",253.13900000000001,263.80900000000003,267.66899999999998,280.84100000000001,294.44099999999997,295.36500000000001,303.24,318.46600000000001,322.72399999999999,332.59800000000001,347.00700000000001,347.39299999999997,354.90300000000002,366.32499999999999,373.60300000000001,386.21199999999999,396.54500000000002,418.04500000000002,404.911,418.245,437.48099999999999,420.22199999999998,424.92599999999999,454.25799999999998,465.416,487.90100000000001,512.45100000000002,538.048,554.46699999999998,562.50599999999997]
["WZ08-45","Kfz-Handel, Instandhaltung und Reparatur von Kfz",36.454000000000001,38.460999999999999,34.503999999999998,37.037999999999997,39.271999999999998,40.296999999999997,42.426000000000002,45.165999999999997,48.825000000000003,48.231999999999999,50.232999999999997,55.942,60.043999999999997,59.890999999999998,60.89,62.755000000000003,60.790999999999997,63.222000000000001,65.165000000000006,60.265999999999998,65.924000000000007,59.244999999999997,60.014000000000003,63.634999999999998,65.11,72.210999999999999,73.625,75.382000000000005,"...","..."]
["WZ08-46","Großhandel (ohne Handel mit Kraftfahrzeugen)",117.423,120.373,125.43,133.90600000000001,137.21299999999999,132.624,137.42500000000001,148.065,143.79900000000001,142.899,151.624,146.49600000000001,150.202,160.62700000000001,164.99100000000001,173.017,185.24100000000001,202.81299999999999,189.74199999999999,205.56800000000001,218.49100000000001,207.661,205.47900000000001,225.68799999999999,228.27500000000001,235.608,251.268,268.036,"...","..."]
["WZ08-47","Einzelhandel (ohne Handel mit Kraftfahrzeugen)",99.262,104.97499999999999,107.735,109.89700000000001,117.956,122.444,123.389,125.235,130.1,141.46700000000001,145.15,144.95500000000001,144.65700000000001,145.80699999999999,147.72200000000001,150.44,150.51300000000001,152.01,150.00399999999999,152.411,153.066,153.316,159.43299999999999,164.935,172.03100000000001,180.08199999999999,187.55799999999999,194.63,"...","..."]
["WZ08-H","Verkehr und Lagerei",134.34,138.15100000000001,139.94499999999999,145.61799999999999,148.84899999999999,150.95699999999999,159.14500000000001,163.89400000000001,169.82300000000001,184.261,193.81800000000001,196.91399999999999,198.92599999999999,207.137,220.40899999999999,234.96199999999999,252.60499999999999,269.55099999999999,247.57300000000001,267.755,284.82400000000001,291.82,297.42,309.48099999999999,321.67899999999997,319.12599999999998,334.18799999999999,351.95699999999999,362.245,328.68299999999999]
["WZ08-49","Landverkehr und Transport in Rohrfernleitungen",60.84,62.176000000000002,59.231000000000002,59.253999999999998,60.32,60.07,62.171999999999997,62.603999999999999,63.883000000000003,69.274000000000001,72.149000000000001,69.712000000000003,70.290000000000006,68.864000000000004,73.129000000000005,79.028000000000006,82.275000000000006,85.998000000000005,81.603999999999999,85.292000000000002,88.822000000000003,91.760999999999996,93.932000000000002,96.355000000000004,99.564999999999998,100.914,104.461,110.295,"...","..."]
["WZ08-50","Schifffahrt",6.1760000000000002,5.8620000000000001,6.2850000000000001,6.6870000000000003,6.9359999999999999,7.2640000000000002,8.1950000000000003,8.1050000000000004,8.5830000000000002,11.141,12.555999999999999,11.901999999999999,11.542999999999999,14.266999999999999,15.401,14.945,19.907,25.015000000000001,20.277999999999999,23.6,24.731999999999999,25.413,25.001999999999999,23.177,27.722000000000001,20.544,23.966000000000001,25.934999999999999,"...","..."]
["WZ08-51","Luftfahrt",8.8239999999999998,9.5519999999999996,10.042999999999999,11.26,11.266999999999999,11.759,12.787000000000001,13.273999999999999,13.93,16.548999999999999,15.42,16.111999999999998,16.257999999999999,17.902000000000001,19.702000000000002,21.495000000000001,22.51,23.155000000000001,20.891999999999999,23.356000000000002,24.669,25.337,25.263999999999999,26.596,26.945,26.274999999999999,25.998000000000001,25.847000000000001,"...","..."]
["WZ08-52","Lagerei, sonstige Dienstleistungen für den Verkehr",44.106000000000002,45.985999999999997,49.42,52.540999999999997,54.17,55.192,58.491,61.555,63.933999999999997,66.191000000000003,71.305999999999997,75.122,76.132999999999996,80.352000000000004,85.284999999999997,92.265000000000001,99.873000000000005,105.79,93.876000000000005,103.967,114.148,117.06399999999999,119.17400000000001,127.849,127.03400000000001,131.16900000000001,138.137,146.85599999999999,"...","..."]
["WZ08-53","Post-, Kurier- und Expressdienste",14.394,14.574999999999999,14.965999999999999,15.875999999999999,16.155999999999999,16.672000000000001,17.5,18.356000000000002,19.492999999999999,21.106000000000002,22.387,24.065999999999999,24.702000000000002,25.751999999999999,26.891999999999999,27.228999999999999,28.04,29.593,30.922999999999998,31.54,32.453000000000003,32.244999999999997,34.048000000000002,35.503999999999998,40.412999999999997,40.223999999999997,41.625999999999998,43.024000000000001,"...","..."]
["WZ08-I","Gastgewerbe",47.177999999999997,50.704000000000001,53.034999999999997,55.264000000000003,56.188000000000002,55.923000000000002,56.771000000000001,57.978000000000002,60.406999999999996,62.908000000000001,63.145000000000003,61.598999999999997,60.42,61.005000000000003,62.308999999999997,64.117999999999995,66.114000000000004,67.073999999999998,66.962999999999994,71.796000000000006,75.421999999999997,78.335999999999999,80.173000000000002,83.938000000000002,87.308999999999997,91.554000000000002,95.430999999999997,99.995000000000005,104.607,67.012]
["WZ08-J","Information und Kommunikation",77.929000000000002,88.358999999999995,95.046000000000006,97.224999999999994,102.42100000000001,107.80200000000001,118.249,133.161,144.93700000000001,160.084,176.126,176.73099999999999,179.68899999999999,184.614,192.15600000000001,197.08799999999999,211.131,223.226,219.70400000000001,215.643,227.72200000000001,230.12700000000001,239.648,248.934,254.53299999999999,263.65699999999998,276.88600000000002,297.233,308.20499999999998,307.036]
["WZ08-58-01","Verlagswesen, audio-visual media and Rundfunk",32.956000000000003,37.445,38.725000000000001,40.545999999999999,43.232999999999997,45.404000000000003,48.780999999999999,52.015999999999998,54.267000000000003,57.527000000000001,56.351999999999997,52.753999999999998,51.811999999999998,52.92,53.832999999999998,55.155999999999999,57.895000000000003,60.392000000000003,58.58,59.247,63.081000000000003,62.817999999999998,65.546000000000006,64.864000000000004,66.134,68.77,71.048000000000002,72.688999999999993,"...","..."]
["WZ08-58","Verlagswesen",20.227,20.891999999999999,20.864000000000001,20.992000000000001,22.138999999999999,22.917999999999999,23.324000000000002,23.88,25.216000000000001,26.553000000000001,26.091999999999999,24.626000000000001,23.905000000000001,24.138000000000002,24.465,25.277999999999999,28.018999999999998,30.861999999999998,29.545999999999999,30.032,32.841999999999999,31.861999999999998,32.978000000000002,32.491999999999997,32.820999999999998,33.372,34.182000000000002,34.82,"...","..."]
["WZ08-59-01","Audiovisuelle Medien und Rundfunk",12.728999999999999,16.553000000000001,17.861000000000001,19.553999999999998,21.094000000000001,22.486000000000001,25.457000000000001,28.135999999999999,29.050999999999998,30.974,30.26,28.128,27.907,28.782,29.367999999999999,29.878,29.876000000000001,29.53,29.033999999999999,29.215,30.239000000000001,30.956,32.567999999999998,32.372,33.313000000000002,35.398000000000003,36.866,37.869,"...","..."]
["WZ08-61","Telekommunikation",26.983000000000001,31.282,34.253999999999998,35.406999999999996,36.143999999999998,35.598999999999997,39.012999999999998,42.878,49.234000000000002,54.609000000000002,62.542000000000002,67.893000000000001,71.774000000000001,74.274000000000001,75.016000000000005,75.626999999999995,78.162999999999997,80.840999999999994,80.591999999999999,71.501000000000005,68.971999999999994,63.540999999999997,61.603999999999999,65.195999999999998,66.766000000000005,67.924000000000007,68.801000000000002,68.62,"...","..."]
["WZ08-62-01","IT- und Informationsdienstleister",17.989999999999998,19.632000000000001,22.067,21.271999999999998,23.044,26.798999999999999,30.454999999999998,38.267000000000003,41.436,47.948,57.231999999999999,56.084000000000003,56.103000000000002,57.42,63.307000000000002,66.305000000000007,75.072999999999993,81.992999999999995,80.531999999999996,84.894999999999996,95.668999999999997,103.768,112.498,118.874,121.633,126.96299999999999,137.03700000000001,155.92400000000001,"...","..."]
["WZ08-K","Erbringung von Finanz- und Versicherungsleistungen",114.875,121.93300000000001,132.071,134.46299999999999,137.83099999999999,147.02199999999999,155.32900000000001,158.501,180.922,179.41300000000001,180.56,193.98,215.02099999999999,229.96899999999999,228.584,233.08699999999999,229.37899999999999,224.97499999999999,241.28700000000001,246.077,245.797,252.499,249.12899999999999,256.03199999999998,264.71800000000002,263.10500000000002,262.55799999999999,263.733,267.22800000000001,267.98200000000003]
["WZ08-64","Erbringung von Finanzdienstleistungen",68.244,73.082999999999998,79.286000000000001,78.808999999999997,79.394000000000005,85.075000000000003,89.456000000000003,90.308000000000007,109.581,105.467,109.646,113.84099999999999,130.518,133.43700000000001,136.607,136.27099999999999,132.09200000000001,131.08199999999999,144.40799999999999,151.61699999999999,150.81100000000001,149.99199999999999,149.988,152.10499999999999,154.816,151.10499999999999,148.44300000000001,146.005,"...","..."]
["WZ08-65","Versicherungen, Rückversicherungen, Pensionskassen",33.356000000000002,35.325000000000003,38.015999999999998,40.073999999999998,42.973999999999997,45.475000000000001,48.396999999999998,49.692999999999998,49.615000000000002,51.81,48.472000000000001,57.35,59.91,68.227999999999994,65.277000000000001,68.781999999999996,67.962000000000003,64.965999999999994,69.650999999999996,66.698999999999998,65.837000000000003,71.745999999999995,67.703000000000003,72.402000000000001,78.613,80.022000000000006,80.070999999999998,82.102999999999994,"...","..."]
["WZ08-66","Mit Finanz- u. Versicherungsdienstl. verb. Tätigk.",13.275,13.525,14.769,15.58,15.462999999999999,16.472000000000001,17.475999999999999,18.5,21.725999999999999,22.135999999999999,22.442,22.789000000000001,24.593,28.303999999999998,26.7,28.033999999999999,29.324999999999999,28.927,27.228000000000002,27.760999999999999,29.149000000000001,30.760999999999999,31.437999999999999,31.524999999999999,31.289000000000001,31.978000000000002,34.043999999999997,35.625,"...","..."]
["WZ08-L","Grundstücks- und Wohnungswesen",175.435,199.71600000000001,222.48599999999999,240.71600000000001,256.42099999999999,270.21100000000001,273.536,279.35500000000002,282.53100000000001,286.61500000000001,299.93299999999999,302.96499999999997,306.51499999999999,308.15100000000001,315.28500000000003,328.13799999999998,341.66899999999998,350.899,361.18599999999998,362.61799999999999,378.95,369.94600000000003,377.87,385.68200000000002,393.79,406.55,416.04399999999998,429.04700000000003,440.75599999999997,444.399]
["WZ08-M-02","Unternehmensdienstleister",198.26599999999999,221.43,239.428,245.839,257.50200000000001,270.71199999999999,279.59699999999998,296.06700000000001,318.70299999999997,338.565,353.18599999999998,349.93799999999999,356,362.197,382.125,398.11799999999999,426.03399999999999,443.43799999999999,412.73599999999999,442.41899999999998,467.44200000000001,483.82600000000002,488.7,520.16200000000003,550.75400000000002,579.87199999999996,606.76700000000005,628.98,643.87400000000002,589.28]
["WZ08-M","Freiberufliche, wiss. u. techn. Dienstleistungen",122.961,137.03399999999999,151.68700000000001,154.99799999999999,162.72800000000001,169.393,172.85300000000001,181.94499999999999,196.303,206.31100000000001,217.392,221.048,223.93299999999999,222.99799999999999,232.255,246.715,263.63799999999998,272.661,248.834,260.976,274.35199999999998,286.697,283.50299999999999,302.45,323.2,340.49799999999999,353.42599999999999,358.827,371.96499999999997,"..."]
["WZ08-69-01","Unternehmensnahe Beratungsleistungen",83.688999999999993,93.515000000000001,105.31100000000001,107.331,112.76600000000001,118.68,118.21899999999999,126.4,137.92500000000001,142.05600000000001,154.51,157.46,162.63800000000001,160.77000000000001,168.25299999999999,180.71700000000001,194.39699999999999,202.27500000000001,181.541,191.39699999999999,202.24100000000001,211.95699999999999,205.77600000000001,219.041,232.702,242.19300000000001,253.73099999999999,255.76300000000001,"...","..."]
["WZ08-69-02","Rechts- und Steuerberatung, Unternehmensberatung",53.223999999999997,56.262,66.432000000000002,66.206999999999994,70.516999999999996,76.128,76.974999999999994,83.736999999999995,93.766000000000005,97.188000000000002,108.556,112.837,119.21599999999999,118.688,123.86799999999999,133.279,144.08799999999999,148.63,128.02799999999999,134.584,141.67400000000001,150.029,142.56,153.173,163.488,170.69399999999999,179.392,178.816,"...","..."]
["WZ08-71","Architektur-,Ing.büros,techn.,physik.Untersuchung",30.465,37.253,38.878999999999998,41.124000000000002,42.249000000000002,42.552,41.244,42.662999999999997,44.158999999999999,44.868000000000002,45.954000000000001,44.622999999999998,43.421999999999997,42.082000000000001,44.384999999999998,47.438000000000002,50.308999999999997,53.645000000000003,53.512999999999998,56.813000000000002,60.567,61.927999999999997,63.216000000000001,65.867999999999995,69.213999999999999,71.498999999999995,74.338999999999999,76.947000000000003,"...","..."]
["WZ08-72","Forschung und Entwicklung",11.584,12.188000000000001,12.863,13.068,13.816000000000001,14.202,14.749000000000001,16.152000000000001,17.062999999999999,20.027999999999999,19.443999999999999,20.120999999999999,21.152999999999999,21.856000000000002,22.234000000000002,22.024999999999999,23.565000000000001,25.673999999999999,26.216000000000001,26.972000000000001,27.722000000000001,29.347000000000001,31.053999999999998,33.243000000000002,37.408999999999999,38.119999999999997,41.506999999999998,42.554000000000002,"...","..."]
["WZ08-73-01","Sonst.freiberufl., wissenschaftl., techn. Dienstl.",27.687999999999999,31.331,33.512999999999998,34.598999999999997,36.146000000000001,36.511000000000003,39.884999999999998,39.393000000000001,41.314999999999998,44.226999999999997,43.438000000000002,43.466999999999999,40.142000000000003,40.372,41.768000000000001,43.972999999999999,45.676000000000002,44.712000000000003,41.076999999999998,42.606999999999999,44.389000000000003,45.393000000000001,46.673000000000002,50.165999999999997,53.088999999999999,60.185000000000002,58.188000000000002,60.51,"...","..."]
["WZ08-73","Werbung und Marktforschung",15.013,16.152999999999999,18.062000000000001,19.148,19.649999999999999,20.213999999999999,21.353999999999999,21.417999999999999,24.126999999999999,25.606000000000002,24.423999999999999,23.08,22.375,23.381,23.582999999999998,24.806999999999999,25.902999999999999,26.05,23.722999999999999,24.097999999999999,23.594000000000001,23.029,23.327000000000002,23.835999999999999,24.173999999999999,25.739000000000001,26.277000000000001,26.292000000000002,"...","..."]
["WZ08-74-01","Freiberufl.,wiss.,techn.DL a.n.g., Veterinärwesen",12.675000000000001,15.178000000000001,15.451000000000001,15.451000000000001,16.495999999999999,16.297000000000001,18.530999999999999,17.975000000000001,17.187999999999999,18.620999999999999,19.013999999999999,20.387,17.766999999999999,16.991,18.184999999999999,19.166,19.773,18.661999999999999,17.353999999999999,18.509,20.795000000000002,22.364000000000001,23.346,26.33,28.914999999999999,34.445999999999998,31.911000000000001,34.218000000000004,"...","..."]
["WZ08-N","Sonstige wirtschaftliche Dienstleistungen",75.305000000000007,84.396000000000001,87.741,90.840999999999994,94.774000000000001,101.319,106.744,114.122,122.4,132.25399999999999,135.79400000000001,128.88999999999999,132.06700000000001,139.19900000000001,149.87,151.40299999999999,162.39599999999999,170.77699999999999,163.90199999999999,181.44300000000001,193.09,197.12899999999999,205.197,217.71199999999999,227.554,239.374,253.34100000000001,270.15300000000002,271.90899999999999,"..."]
["WZ08-77","Vermietung von beweglichen Sachen",30.608000000000001,33.128999999999998,33.884999999999998,35.255000000000003,36.204999999999998,38.572000000000003,40.137,43.985999999999997,45.908999999999999,51.302999999999997,53.996000000000002,50.969000000000001,54.508000000000003,57.731999999999999,59.682000000000002,58.156999999999996,61.781999999999996,61.884999999999998,58.125,58.741999999999997,59.472000000000001,59.164999999999999,58.822000000000003,60.558999999999997,64.123999999999995,65.861999999999995,66.296999999999997,68.5,"...","..."]
["WZ08-78","Vermittlung und Überlassung von Arbeitskräften",3.1190000000000002,3.4390000000000001,3.6349999999999998,3.5840000000000001,4.3609999999999998,4.9980000000000002,5.718,6.9480000000000004,8.1069999999999993,9.8889999999999993,10.513,9.5060000000000002,9.8740000000000006,11.182,12.348000000000001,16.033000000000001,19.206,20.940999999999999,18.065999999999999,28.984000000000002,35.481999999999999,34.384,36.274000000000001,37.881,38.156999999999996,37.524999999999999,39.908000000000001,40.670999999999999,"...","..."]
["WZ08-79","Reisebüros, -veranstalter u. sonst. Reservierungen",11.379,13.933,16.452000000000002,18.088999999999999,18.727,19.035,20.23,21.25,22.954999999999998,23.707999999999998,24,18.853000000000002,18.16,19.337,20.718,20.736999999999998,21.166,22.213999999999999,21.550999999999998,23.436,25.577999999999999,27.167999999999999,28.728999999999999,29.129000000000001,31.312999999999999,31.457000000000001,35.048999999999999,36.335000000000001,"...","..."]
["WZ08-80-01","Unternehmensdienstleister a.n.g.",30.199000000000002,33.895000000000003,33.768999999999998,33.912999999999997,35.481000000000002,38.713999999999999,40.658999999999999,41.938000000000002,45.429000000000002,47.353999999999999,47.284999999999997,49.561999999999998,49.524999999999999,50.948,57.122,56.475999999999999,60.241999999999997,65.736999999999995,66.16,70.281000000000006,72.558000000000007,76.412000000000006,81.372,90.143000000000001,93.96,104.53,112.087,124.64700000000001,"...","..."]
["WZ08-O-03","Öffentliche Dienstleister, Erziehung, Gesundheit",313.95299999999997,347.524,362.74099999999999,377.62400000000002,395.322,411.01499999999999,417.90300000000002,424.92399999999998,440.358,447.56900000000002,461.43400000000003,478.56700000000001,484.49799999999999,491.74900000000002,500.31299999999999,509.98599999999999,522.84100000000001,545.75800000000004,577.27099999999996,599.72,621.82600000000002,640.548,665.87300000000005,693.61800000000005,716.88199999999995,753.27,786.51199999999994,816.46699999999998,856.28399999999999,881.54600000000005]
["WZ08-O","Öff. Verwaltung, Verteidigung, Sozialversicherung",134.86699999999999,146.28200000000001,151.62100000000001,154.58799999999999,157.77000000000001,160.59800000000001,161.38800000000001,163.285,170.45699999999999,170.33699999999999,174.48599999999999,179.35,179.874,180.60400000000001,184.44499999999999,187.31,190.73500000000001,201.45,213.6,222.06299999999999,230.04900000000001,234.91399999999999,242.72499999999999,250.35900000000001,258.55900000000003,268.673,280.17399999999998,291.553,307.49799999999999,"..."]
["WZ08-P","Erziehung und Unterricht",71.228999999999999,78.314999999999998,82.215000000000003,84.588999999999999,88.77,91.448999999999998,93.73,95.415999999999997,98.474999999999994,100.911,105.95699999999999,109.28100000000001,109.92100000000001,112.134,114.173,115.23099999999999,119.44,122.88,127.631,131.98500000000001,136.27099999999999,142.93899999999999,148.864,154.72399999999999,158.91900000000001,166.24199999999999,173.19800000000001,178.56700000000001,187.01,"..."]
["WZ08-Q","Gesundheits- und Sozialwesen",107.857,122.92700000000001,128.905,138.447,148.78200000000001,158.96799999999999,162.785,166.22300000000001,171.42599999999999,176.321,180.99100000000001,189.93600000000001,194.703,199.011,201.69499999999999,207.44499999999999,212.666,221.428,236.04,245.672,255.506,262.69499999999999,274.28399999999999,288.53500000000003,299.404,318.35500000000002,333.14,346.34699999999998,361.77600000000001,"..."]
["WZ08-86","Gesundheitswesen",85.686999999999998,98.043000000000006,102.402,110.121,118.128,121.496,124.098,125.73099999999999,128.19,131.45099999999999,135.64699999999999,142.298,145.37100000000001,148.179,148.84100000000001,153.15100000000001,155.73599999999999,162.55099999999999,172.74700000000001,179.15600000000001,185.54400000000001,189.68199999999999,198.29,207.30099999999999,212.858,222.09800000000001,231.066,240.005,"...","..."]
["WZ08-87-01","Heime und Sozialwesen",22.17,24.884,26.503,28.326000000000001,30.654,37.472000000000001,38.686999999999998,40.491999999999997,43.235999999999997,44.87,45.344000000000001,47.637999999999998,49.332000000000001,50.832000000000001,52.853999999999999,54.293999999999997,56.93,58.877000000000002,63.292999999999999,66.516000000000005,69.962000000000003,73.013000000000005,75.994,81.233999999999995,86.546000000000006,96.257000000000005,102.074,106.342,"...","..."]
["WZ08-R-02","Sonstige Dienstleister",84.548000000000002,94.076999999999998,95.457999999999998,102.523,105.238,108.224,110.08199999999999,112.371,117.31399999999999,121.785,124.127,123.911,126.319,128.80799999999999,130.63999999999999,134.28899999999999,136.89400000000001,141.619,139.26900000000001,141.542,145.61600000000001,146.40899999999999,149.898,152.5,157.72800000000001,159.351,164.892,170.18100000000001,175.36099999999999,161.04900000000001]
["WZ08-R","Kunst, Unterhaltung und Erholung",27.361000000000001,30.91,30.074999999999999,30.75,31.469000000000001,32.345999999999997,33.441000000000003,35.072000000000003,37.731999999999999,39.845999999999997,40.789000000000001,41.124000000000002,41.253,42.061,43.337000000000003,44.469000000000001,46.692999999999998,48.176000000000002,49.058999999999997,49.709000000000003,51.901000000000003,52.453000000000003,54.198999999999998,56.332000000000001,58.841000000000001,60.55,63.944000000000003,66.299000000000007,68.191999999999993,"..."]
["WZ08-90-01","Kunst und Kultur, Glücksspiel",20.04,22.587,21.433,21.053000000000001,21.373999999999999,21.888999999999999,22.341000000000001,23.094000000000001,24.396000000000001,25.128,25.654,25.42,25.202999999999999,25.798999999999999,26.088999999999999,26.234000000000002,27.396999999999998,27.914000000000001,28.18,28.39,28.448,28.992000000000001,29.696999999999999,30.712,32.036000000000001,33.167999999999999,34.606999999999999,35.32,"...","..."]
["WZ08-93","Dienstleistungen d.Sports,d.Unterhaltg.u.Erholung",7.3209999999999997,8.3230000000000004,8.6419999999999995,9.6969999999999992,10.095000000000001,10.457000000000001,11.1,11.978,13.336,14.718,15.135,15.704000000000001,16.05,16.262,17.248000000000001,18.234999999999999,19.295999999999999,20.262,20.879000000000001,21.318999999999999,23.452999999999999,23.460999999999999,24.501999999999999,25.62,26.805,27.382000000000001,29.337,30.978999999999999,"...","..."]
["WZ08-S","Erbringung von sonstigen Dienstleistungen",53.92,59.634999999999998,61.652999999999999,67.694999999999993,69.412000000000006,71.295000000000002,71.786000000000001,72.216999999999999,74.287000000000006,76.474000000000004,77.822000000000003,77.301000000000002,79.326999999999998,80.902000000000001,81.409000000000006,83.817999999999998,84.016999999999996,87.299000000000007,83.918999999999997,85.852000000000004,87.527000000000001,87.763000000000005,89.257999999999996,89.65,92.06,91.792000000000002,93.744,96.486999999999995,99.570999999999998,"..."]
["WZ08-94","Interessenvertr., kirchl. u. sonst. Vereinigungen",19.483000000000001,21.658000000000001,23.256,25.253,26.649000000000001,27.547000000000001,27.635000000000002,28.068999999999999,29.611000000000001,30.372,30.786999999999999,31.376999999999999,32.567,32.634,31.341999999999999,31.626999999999999,32.005000000000003,32.600999999999999,33.692,35.049999999999997,36.271000000000001,37.325000000000003,37.792999999999999,38.597000000000001,39.256999999999998,40.609000000000002,42.209000000000003,43.923999999999999,"...","..."]
["WZ08-95","Reparatur von DV-Geräten und Gebrauchsgütern",1.6679999999999999,1.7549999999999999,1.7889999999999999,1.9510000000000001,2.069,2.5270000000000001,2.5299999999999998,2.5550000000000002,2.4430000000000001,2.5139999999999998,2.536,2.1469999999999998,2.0489999999999999,2.1190000000000002,2.3069999999999999,2.2309999999999999,2.371,2.66,2.2850000000000001,2.2679999999999998,2.234,2.464,2.4089999999999998,2.452,2.516,2.6360000000000001,2.6680000000000001,2.637,"...","..."]
["WZ08-96","Sonstige überwiegend persönliche Dienstleistungen",32.768999999999998,36.222000000000001,36.607999999999997,40.491,40.694000000000003,41.220999999999997,41.621000000000002,41.593000000000004,42.232999999999997,43.588000000000001,44.499000000000002,43.777000000000001,44.710999999999999,46.149000000000001,47.76,49.96,49.640999999999998,52.037999999999997,47.942,48.533999999999999,49.021999999999998,47.973999999999997,49.055999999999997,48.600999999999999,50.286999999999999,48.546999999999997,48.866999999999997,49.926000000000002,"...","..."]
["WZ08-T","Private Haushalte",3.2669999999999999,3.532,3.73,4.0780000000000003,4.3570000000000002,4.5830000000000002,4.8550000000000004,5.0819999999999999,5.2949999999999999,5.4649999999999999,5.516,5.4859999999999998,5.7389999999999999,5.8449999999999998,5.8940000000000001,6.0019999999999998,6.1840000000000002,6.1440000000000001,6.2910000000000004,5.9809999999999999,6.1879999999999997,6.1929999999999996,6.4409999999999998,6.5179999999999998,6.827,7.0090000000000003,7.2039999999999997,7.3949999999999996,7.5979999999999999,"..."]
["WZ08-A-02","Alle Wirtschaftsbereiche",2738.1390000000001,2902.3139999999999,2933.2040000000002,3059.0450000000001,3198.0680000000002,3250.5390000000002,3345.654,3458.864,3583.4,3765.623,3880.49,3866.29,3933.7370000000001,4064.5059999999999,4192.058,4429.402,4678.8909999999996,4840.1279999999997,4505.4210000000003,4818.8530000000001,5160.0370000000003,5199.3890000000001,5255.6580000000004,5437.067,5574.7950000000001,5744.4920000000002,6015.1260000000002,6227.8609999999999,6304.8429999999998,6013.6289999999999]
["Produktionswert preisbereinigt, Kettenindex (2015=100)"]
["WZ08-A","Land- und Forstwirtschaft, Fischerei",91.08,90.19,90.89,89.91,90.97,93.69,94.33,95.22,99.64,98.54,99.98,96.64,97.36,110.54,97.48,95.76,95.93,100.69,99.96,96.86,96.7,96.83,100.24,105.43,100,98.77,97.07,93.07,96.84,96.09]
["WZ08-01","Landwirtschaft, Jagd und verbundene Tätigkeiten",92.54,90.86,93.04,91.72,93.44,96.27,96.97,98.15,103.38,102.02,104.07,100.15,101.17,115.31,99.51,97.27,96.26,102.66,102.45,100.71,98.59,98.04,101.64,107.1,100,98.89,96.86,92.14,"...","..."]
["WZ08-021","Forstwirtschaft",78.099999999999994,84.86,72.400000000000006,74.39,69.64,71.459999999999994,71.48,70.260000000000005,68.67,69.53,66.900000000000006,68.98,67.13,72.989999999999995,81.180000000000007,83.73,93.28,84.72,80.489999999999995,66.13,81.510000000000005,88.21,90.18,92.93,100,98.17,98.69,100.25,"...","..."]
["WZ08-031","Fischerei",110.16,101.58,105.17,102.46,105.53,108.2,109.65,105.76,107.03,104.04,92.45,83.34,84.75,89.85,96.82,96.56,99.29,97.28,85.97,92.02,100.06,86.78,88.01,95.47,100,94.95,97.73,103.27,"...","..."]
["WZ08-B-05","Produzierendes Gewerbe",71.87,72.319999999999993,68.959999999999994,71.14,73.17,72.680000000000007,74.33,76.62,78.84,82.59,83.16,81.05,81.81,84.28,85.62,90.67,95.74,95.72,83.52,91.57,97.56,96.57,95.98,98.13,100,102.97,106.04,106.84,103.43,95.43]
["WZ08-B-18","Produzierendes Gewerbe ohne Baugewerbe",68.430000000000007,67.739999999999995,63.56,64.97,67.510000000000005,67.31,69.459999999999994,72.41,74.680000000000007,79.3,80.63,79.209999999999994,80.36,83.66,85.62,90.82,96.47,96.1,82.59,91.26,97.42,96.26,95.71,97.8,100,102.96,106.29,106.54,102.07,92.43]
["WZ08-B","Bergbau und Gewinnung von Steinen und Erden",281.10000000000002,260.62,247.39,237.63,232.96,187.2,179.85,175.3,149.78,148.11000000000001,123.13,130.44999999999999,146.27000000000001,135.85,124.17,123.4,129.97,117.51,108.29,114.71,109.33,101.4,94.66,97.01,100,94.9,95,87.49,75.709999999999994,"..."]
["WZ08-C","Verarbeitendes Gewerbe",68,67.290000000000006,62.74,64.349999999999994,67.099999999999994,66.930000000000007,69.459999999999994,72.52,75.02,80.22,81.72,79.8,80.95,84.21,86.23,92.03,97.49,96.93,81.16,90.25,97.52,96,95.69,97.97,100,102.64,106.07,106.33,101.94,91.75]
["WZ08-10-01","Ernährungsgewerbe und Tabakverarbeitung",89.89,88.78,87.98,88.78,89.14,88.22,88.76,87.43,89.79,91.9,92.02,91.76,94.53,94.4,95.45,98.72,99.08,98.85,94.9,97.75,98.98,98.84,99.22,99.04,100,102.55,105.5,104.92,"...","..."]
["WZ08-13-01","Textil- und Bekleidungsgewerbe",206.83,190.21,173.57,164.71,155.56,150.34,149.9,148.91999999999999,143.87,145.47,143.01,130.16,122.92,123.6,119,122.25,125.09,115.82,95.91,104.4,112.09,101.51,99.72,105.09,100,101.45,102.59,105.43,"...","..."]
["WZ08-16-01","H.v. Holzwaren, Papier und Druckerzeugnissen",89,90.67,88.84,92.99,93.09,89.27,92.56,92.14,96.04,99.38,95.47,95.41,90.83,96.17,100.04,104.57,106.04,102.54,96.3,103.32,103.34,101.36,99.98,98.89,100,100.38,101.73,96.89,"...","..."]
["WZ08-16","H.v. Holz-, Flecht-, Korb-u.Korkwaren (ohne Möbel)",75.28,80.36,80.91,91.87,97.94,92.8,94.78,92.86,94.69,94.69,89.08,93.99,89.74,96.03,97.8,101.41,101.71,91,85.93,92,91.78,92.51,94.41,95.37,100,95.36,93.99,91.21,"...","..."]
["WZ08-17","Herstellung von Papier, Pappe und Waren daraus",82.02,81.400000000000006,77.97,79.959999999999994,74.790000000000006,76.790000000000006,83.71,82.38,86.83,91.17,87.18,88.02,86.46,89.66,92.33,97.22,101.16,101.79,93.79,103,102.68,100.5,99.77,99.02,100,100.96,103.9,102.33,"...","..."]
["WZ08-18","H.v. Druckerz., Vervielf.v.Ton-,Bild-,Datenträgern",118.56,120.64,118.96,119.35,121.55,108.92,107.74,110.38,115.75,121.2,119.12,112.19,101.88,110.09,118.37,123.38,121.77,119.42,115.01,119.25,120.25,115.07,107.98,103.48,100,106.11,107.98,93.37,"...","..."]
["WZ08-19","Kokerei und Mineralölverarbeitung",100.55,93.31,90.78,98.88,95.1,91.9,89.96,88.07,96.67,105.92,112.44,115.34,121.2,127.42,121.41,116.95,107.95,113.97,102.89,103.35,99.22,97.88,100.49,97.05,100,107.29,97.81,91.6,"...","..."]
["WZ08-20","Herstellung von chemischen Erzeugnissen",72.31,72.209999999999994,70.260000000000005,73.930000000000007,79.010000000000005,78.760000000000005,80.8,80.58,83.5,90.07,89.82,88.09,88.17,89.81,88.06,91.45,95.89,94.67,85.07,96.99,98.37,94.01,96.44,97.3,100,98.79,109,99.93,"...","..."]
["WZ08-21","Herstellung von pharmazeutischen Erzeugnissen",46.84,45.8,43.64,46.24,51.46,53.04,56.57,58.09,60.48,63.21,65.14,65.709999999999994,73.41,76.819999999999993,84.83,87.72,96.8,96.91,87.53,85.85,89.88,94.12,100.11,100.58,100,106.21,87.24,121.05,"...","..."]
["WZ08-22-01","H.v. Gummi-, Kunststoff-, Glaswaren, Keramik u.Ä.",73.900000000000006,76.47,75.56,78.430000000000007,82.43,79.459999999999994,81.09,82.14,84.61,86.83,84.32,83.79,83.18,87.24,87.48,94.03,96.24,94.72,82.59,90.5,99.2,95.89,96.95,99.27,100,103.39,106.93,108.41,"...","..."]
["WZ08-22","Herstellung von Gummi- und Kunststoffwaren",62.6,64.180000000000007,61.62,62.49,67.25,66.03,69.39,71.27,73.2,76.13,75.95,76.8,77.03,81.81,82.76,88.88,91.63,90.52,78.17,88.77,96.27,93.44,94.5,96.67,100,103.5,107.34,107.94,"...","..."]
["WZ08-23","H.v.Glas,-waren,Keramik,Verarb. v.Steinen u.Erden",94.17,98.57,100.67,107.14,109.83,103.73,102.26,101.84,105.28,106.23,99.51,96.46,94.31,97.01,95.93,103.23,104.43,102.17,90.45,93.61,104.47,100.29,101.34,103.93,100,103.19,106.2,109.22,"...","..."]
["WZ08-24-01","Metallgewerbe",76.7,75.400000000000006,70.540000000000006,72.400000000000006,77.33,74.91,77.42,80.92,80.36,85.86,87.19,83.9,84.58,88.79,89.96,97.14,104.22,103.04,78.95,90.91,101.93,98.93,98.12,99.49,100,101.33,104.39,105.22,"...","..."]
["WZ08-24","Metallerzeugung und -bearbeitung",80.09,78.19,70.14,70.42,80.36,77.31,82.19,85.17,81.44,87.52,90.12,90.93,88.6,94.65,95.08,102.12,108.62,106.76,80,92.36,103.11,100.89,97.59,98.56,100,97.79,101.48,102.05,"...","..."]
["WZ08-25","Herstellung von Metallerzeugnissen",73.599999999999994,72.739999999999995,70.010000000000005,72.84,74.5,72.53,73.53,77.31,78.78,83.86,84.35,78.42,81,83.98,85.66,92.91,100.45,99.83,78.05,89.69,100.93,97.24,98.53,100.21,100,104.1,106.68,107.72,"...","..."]
["WZ08-26","H.v. DV-Geräten, elektron. u. opt. Erzeugnissen",32.93,32.42,28.8,29.43,30.31,30.54,33.54,36.5,41.58,54.33,53.94,51.65,55.37,59.14,64.59,73.7,92.49,90.71,69.17,78.58,89.53,87.24,88.7,90.07,100,106.21,106.09,112.66,"...","..."]
["WZ08-27","Herstellung von elektrischen Ausrüstungen",82.13,82.21,81.02,82.39,80.25,80.14,84.94,89.21,90.18,94.08,97.14,90.7,90.05,96.94,97.11,106.49,101.06,104.51,89.38,99.02,108.71,104.7,101.46,103.26,100,101.14,105.02,103.88,"...","..."]
["WZ08-28","Maschinenbau",73.08,69.16,61.04,61.44,66.53,66.55,67.75,71.98,70.760000000000005,76.31,78.760000000000005,75.06,76.98,80.930000000000007,83.87,91.89,101.31,104.97,79.25,87.7,99.35,98.52,97.58,99.43,100,101.97,108.26,110.28,"...","..."]
["WZ08-29-01","Fahrzeugbau",42.77,43.19,35.99,37.92,41.84,44.52,48.32,55,59.53,63.79,68.28,68.23,68.95,71.650000000000006,74.459999999999994,79.650000000000006,86.33,84.11,66.95,80.209999999999994,89.2,89.89,88.16,94.99,100,103.78,108.72,108.29,"...","..."]
["WZ08-29","Herstellung von Kraftwagen und Kraftwagenteilen",42.47,42.71,35.42,37.72,42.29,44.61,48.35,55.51,59.9,64.36,68.59,68.98,69.7,73.010000000000005,75.42,80.73,87.49,84.56,65.83,79.97,89.95,90.17,87.84,94.85,100,103.68,107.41,107.87,"...","..."]
["WZ08-30","Sonstiger Fahrzeugbau",45.22,47.18,40.64,39.520000000000003,38.01,43.67,47.97,50.5,56.23,58.72,65.56,61.46,62.21,59.3,65.83,69.86,75.95,80.12,77.12,82.43,82.32,87.27,91.04,96.25,100,104.63,120.2,112.15,"...","..."]
["WZ08-31-01","Möbelherstellung, Installation von Maschinen",75.37,76.459999999999994,71.650000000000006,70.459999999999994,71.91,72.37,74.459999999999994,76.8,79.83,84.03,84.72,79.83,82.8,84.16,88.6,95.88,103.21,100.07,91.64,95.83,101.55,99.16,97.91,99.18,100,103.54,106.85,104.75,"...","..."]
["WZ08-31-02","Herstellung von Möbeln und sonstigen Waren",93.86,95.23,88.82,84.54,85.95,85.26,86.8,88.72,89.45,93.23,92.79,87.15,88.14,87.95,90.23,98.31,102.12,101.23,87.26,96.26,102.51,100.62,96.51,96.85,100,103.23,108.27,108.36,"...","..."]
["WZ08-33","Reparatur u.Installation von Masch.u.Ausrüstungen",54.28,55.06,51.98,53.81,55.24,56.87,59.48,62.22,67.760000000000005,72.37,74.38,70.430000000000007,75.87,79.17,86.42,92.65,104.63,98.5,97.45,95.25,100.26,97.19,99.78,102.3,100,103.96,104.95,99.92,"...","..."]
["WZ08-D","Energieversorgung",57.69,58.07,58.8,58.34,60.08,64.44,62.91,65.87,67.650000000000006,65.72,68.08,72.680000000000007,73.25,79.680000000000007,81.48,81.17,91.53,94.21,101.78,108.88,101.78,104.39,100.1,96.11,100,107,110.37,108.35,101.42,"..."]
["WZ08-E","Wasserversorg.,Entsorg.,Beseitig.v.Umweltverschm.",68.52,71.260000000000005,71.16,72.180000000000007,70.58,68.92,67.92,68.63,69.709999999999994,70.41,68.91,69.88,69.569999999999993,70.63,73.87,73.39,74.959999999999994,75.72,79.239999999999995,79.430000000000007,83.59,85.79,87.33,96.55,100,105.24,106.16,112.17,112.28,"..."]
["WZ08-36","Wasserversorgung",90.33,94.19,88.94,97.23,91.18,91.99,100.62,111.96,112.42,111.57,110.97,110.61,111.97,113.52,112.56,111.37,110.97,113.19,98.21,99.88,104.42,99.76,100.55,99.15,100,104.91,102.39,104.08,"...","..."]
["WZ08-37-01","Abwasser-, Abfallentsorgung, Rückgewinnung",65.47,68.040000000000006,68.89,68.599999999999994,67.78,65.67,63.02,61.96,63.16,64.11,62.45,63.64,63.07,64.05,67.95,67.58,69.44,69.98,76.290000000000006,76.23,80.33,83.54,85.2,96.13,100,105.3,106.84,113.57,"...","..."]
["WZ08-F","Baugewerbe",98.17,108.71,112.44,120.92,118.81,115.99,113.67,110.66,112.43,109.14,103.46,95.72,93.34,89.09,85.31,89.15,89.42,92.13,90.57,93.89,98.52,98.8,97.96,100.57,100,103.07,104.37,108.92,112.59,115.22]
["WZ08-G-04","Dienstleistungsbereiche",57.81,60.47,61.5,63.02,64.959999999999994,67.05,68.63,71.3,74.34,77.11,79.5,79.41,80.150000000000006,81.11,83.08,85.91,89.04,91.73,89.8,92.35,95.13,95.06,95.47,97.68,100,102.49,104.91,106.99,108.65,103.96]
["WZ08-G-01","Handel, Verkehr, Gastgewerbe",65.12,66.11,65.08,66.569999999999993,68.39,68.66,70,72.349999999999994,74.36,76.760000000000005,78.87,78.510000000000005,79.760000000000005,82.24,84.3,89.06,91.39,93.6,88.5,92.33,95.22,94.7,94.62,97.62,100,102.19,104.96,108.28,110.22,102.91]
["WZ08-G","Handel, Instandhaltung und Reparatur von Kfz",68.400000000000006,69.7,67.88,68.790000000000006,70.459999999999994,70.3,71.569999999999993,74.650000000000006,76.349999999999994,78.209999999999994,81.209999999999994,80.92,83.69,86.44,88.05,93.85,94.16,96.02,90.64,93.75,96.39,95.32,94.62,98.44,100,103.7,106.81,109.91,112.71,114.58]
["WZ08-45","Kfz-Handel, Instandhaltung und Reparatur von Kfz",68.05,69.31,60.21,61.4,62.4,63.6,66.239999999999995,69.78,74.75,74.31,74.900000000000006,80.12,91.29,94.47,95.52,100.34,96.95,100.6,97.74,93.67,100.05,95.92,95.55,98.64,100,109.63,109.57,111.42,"...","..."]
["WZ08-46","Großhandel (ohne Handel mit Kraftfahrzeugen)",62.75,63.07,63.25,63.41,64.91,63.95,65.739999999999995,69.709999999999994,69.66,71.290000000000006,75.56,74.88,77.239999999999995,81.86,84.51,93.69,94.92,97.53,87.99,93.32,96.7,95.53,94.23,99.94,100,102.04,106.37,111.57,"...","..."]
["WZ08-47","Einzelhandel (ohne Handel mit Kraftfahrzeugen)",75.31,78.02,76.37,78.23,80.39,80.8,80.760000000000005,82.38,85.13,88.27,90.63,88.53,88.21,88.55,89.15,91.32,92,92.29,91.2,94.31,94.45,94.75,94.75,96.37,100,103.66,106.33,107.12,"...","..."]
["WZ08-H","Verkehr und Lagerei",55.19,55.33,55.17,57.49,59.99,61.44,63.17,64.67,67.02,70.260000000000005,71.83,72.56,72.290000000000006,75.02,78.02,82.08,87.26,90.71,85.29,90.5,93.71,93.41,94.16,96.18,100,99.88,102.3,106.14,106.69,95.84]
["WZ08-49","Landverkehr und Transport in Rohrfernleitungen",82.41,81.45,76.900000000000006,78.260000000000005,84.21,86.9,86.07,85.9,88.27,92.39,91.13,86.75,85.42,83.6,87.21,92.65,94.78,96.84,91.37,94.2,96.59,97.42,97.69,98.5,100,100.53,102.84,106.45,"...","..."]
["WZ08-50","Schifffahrt",17.37,17.02,18.579999999999998,19.75,20.46,21.75,24.32,24.75,27.16,29.72,34.32,37.869999999999997,35.25,44.87,45.74,45.46,64.02,82.96,82.88,85.87,91.68,91.42,90.14,80.52,100,82.76,80.62,86.45,"...","..."]
["WZ08-51","Luftfahrt",50.87,58.16,64.98,73.959999999999994,73.27,74.97,79.459999999999994,83.07,87.43,99.98,90.69,92.27,93.38,100.52,102.24,108.61,111.81,105.59,96.94,105.67,99.41,94.32,94.7,94.52,100,99.98,97.91,98.95,"...","..."]
["WZ08-52","Lagerei, sonstige Dienstleistungen für den Verkehr",48.83,48.88,51.29,54.22,55.96,56.67,59.59,62.59,64.290000000000006,65.09,68.83,71.11,71.36,74.78,78.349999999999994,83.31,88.24,89.93,80.58,88.5,93.9,94.04,94.9,100.74,100,103.63,108.14,112.87,"...","..."]
["WZ08-53","Post-, Kurier- und Expressdienste",48.14,47.73,44.88,45.59,45.57,46.39,47.56,48.17,51.02,55.22,58.1,61.97,63.76,66.290000000000006,68.540000000000006,69.52,71.59,75.8,80.12,82.05,84.07,82.73,85.99,88.47,100,98.21,100.08,102.03,"...","..."]
["WZ08-I","Gastgewerbe",85.27,87.75,88.25,90,89.99,88.53,88.81,89.81,92.49,95.24,93.88,88.65,86.55,86.44,87.47,88.86,91.4,90.67,88.56,91.3,94.5,96.27,96.3,98.66,100,102.67,104.87,107.5,109.85,67.78]
["WZ08-J","Information und Kommunikation",25.14,27.45,29.43,29.71,31.12,33.520000000000003,36.67,41.67,47.33,52.84,58.39,58.78,59.95,61.97,64.41,67.72,76.25,83.26,83.5,83,88.79,89.98,94.01,97.88,100,103.34,108.62,115.44,118.69,117.17]
["WZ08-58-01","Verlagswesen, audio-visual media and Rundfunk",67.760000000000005,74.09,76.02,77.09,79.84,81.81,84.29,89.59,93.45,97.38,93.48,87.39,85.42,88.34,88.53,91.56,95.87,98.69,94.55,93.87,99.16,97.57,100.71,99.22,100,101.08,103.67,104.8,"...","..."]
["WZ08-58","Verlagswesen",101.73,101.67,97.93,95.29,96.87,97.09,96.34,95.86,98.85,101.88,97.63,89.94,85.84,85.53,84.85,87.03,95.13,103.41,97.34,96.94,105.97,101.44,103.51,100.5,100,98.77,98.45,97.58,"...","..."]
["WZ08-59-01","Audiovisuelle Medien und Rundfunk",43.69,54.3,60.01,63.73,67.3,70.55,75.430000000000007,84.87,89.37,94.02,90.38,85.55,85.35,91.03,92,95.8,96.58,94.21,91.9,90.96,92.64,93.84,98,97.97,100,103.36,108.82,112,"...","..."]
["WZ08-61","Telekommunikation",20.07,22.29,24.53,25.4,26.39,28.47,32.46,36.54,46.89,54.63,64.290000000000006,70.2,74.55,77.92,79.400000000000006,82.14,91.8,101.48,106.39,99.53,99.27,92.92,91.22,96.99,100,102.62,105.37,102.98,"...","..."]
["WZ08-62-01","IT- und Informationsdienstleister",12.54,13.32,14.86,14.26,15.47,18.13,20.69,26.23,28.76,33.25,39.81,39.18,39.54,40.270000000000003,44.3,48.11,57.78,65.06,64.48,67.92,77.430000000000007,84.31,91.98,97.65,100,104.96,113.15,128.13999999999999,"...","..."]
["WZ08-K","Erbringung von Finanz- und Versicherungsleistungen",58.63,60.24,62.84,64.400000000000006,65,67.62,70.900000000000006,74.28,81.14,85.53,87.62,87.93,86.27,84.68,85.21,87.2,89.56,90.88,90.2,92.47,93.72,94.6,97.05,97.67,100,98.87,100.25,99.22,100.48,101]
["WZ08-64","Erbringung von Finanzdienstleistungen",50.52,50.86,52.79,53.91,54.21,57.98,63,68.39,74.959999999999994,81.64,80.59,78.400000000000006,77.849999999999994,77.680000000000007,80.12,84.89,88.53,90.93,88.72,90.69,92.13,93.87,96.13,97.42,100,99.58,98.7,97.37,"...","..."]
["WZ08-65","Versicherungen, Rückversicherungen, Pensionskassen",69.319999999999993,71.760000000000005,76.55,80.400000000000006,82.57,82.88,82.28,81.78,90.77,90.05,98.92,104.76,100.2,94.72,91.78,88.62,89.31,88.77,89.5,92.23,93.53,92.73,96.92,97.07,100,97.36,104.29,104.81,"...","..."]
["WZ08-66","Mit Finanz- u. Versicherungsdienstl. verb. Tätigk.",86.62,96.4,97.4,95.23,93.65,92.84,93.47,93.73,96.23,98.02,100.97,104.35,102.67,100.94,98.71,96.7,96.39,97.13,100.32,103.09,103.04,103.11,102.07,100.37,100,99.12,96.97,93.9,"...","..."]
["WZ08-L","Grundstücks- und Wohnungswesen",62.36,66.260000000000005,69.45,72.53,76.73,81.77,82.66,85.09,84.94,86.2,89.59,89.84,91.15,90.99,93.09,95.47,97.6,98.63,100.79,100.14,103.11,99.23,99.85,99.77,100,101.52,101.84,102.51,103.19,101.97]
["WZ08-M-02","Unternehmensdienstleister",50.09,53.64,56.31,56.88,59.16,61.57,62.74,66.42,70.930000000000007,74.47,77.010000000000005,75.36,76.13,76.97,80.62,83.12,87.81,90.02,82.44,87.75,91.35,92.99,91.36,95.54,100,104.22,107.48,109.24,110.14,99.88]
["WZ08-M","Freiberufliche, wiss. u. techn. Dienstleistungen",51.36,55.09,59.45,59.98,62.22,63.83,64.209999999999994,67.849999999999994,72.62,75.94,79.63,80.27,80.98,80.27,83.25,87.86,92.49,94.12,84.93,88.21,91.46,94.17,90.29,94.49,100,104.14,106.84,106.64,108.81,"..."]
["WZ08-69-01","Unternehmensnahe Beratungsleistungen",48.39,51.94,57.09,57.73,59.89,62.28,61.44,65.92,71.459999999999994,73.400000000000006,79.58,80.77,83.42,81.95,85.42,90.88,95.94,98.25,87,90.8,94.48,97.53,91.21,95.07,100,103.09,106.98,106.35,"...","..."]
["WZ08-69-02","Rechts- und Steuerberatung, Unternehmensberatung",42.37,43.67,50.4,50.13,52.78,55.8,55.36,60.25,66.709999999999994,68.89,76.510000000000005,79.040000000000006,83.51,82.74,86.01,91.85,97.76,99.5,85.05,89.82,93.34,97.43,89.35,94.69,100,103.48,107.81,106.26,"...","..."]
["WZ08-71","Architektur-,Ing.büros,techn.,physik.Untersuchung",64.02,73.5,74.7,77.64,78.61,79.5,77.61,81.040000000000006,84.18,85.47,87.78,85.35,83.01,79.64,83.67,88.06,90.82,94.65,91.87,93.15,97.19,97.71,95.71,95.95,100,102.17,105.02,106.55,"...","..."]
["WZ08-72","Forschung und Entwicklung",42,42.64,43.53,43.72,45.74,46.59,48.13,52.61,55.14,64.16,61.65,62.92,65.319999999999993,66.84,67.760000000000005,66.930000000000007,71.150000000000006,76.13,77.239999999999995,78.959999999999994,79.900000000000006,82.51,86.14,90.4,100,101.28,108.33,107.88,"...","..."]
["WZ08-73-01","Sonst.freiberufl., wissenschaftl., techn. Dienstl.",69.849999999999994,76.400000000000006,79.63,79.930000000000007,82.6,81.31,86.12,85.67,88.73,93.95,91.53,89.49,81.28,82.13,84.45,89.28,92.48,89.02,81.38,83.61,86.59,87.96,89.14,94.85,100,110.77,105.27,107.14,"...","..."]
["WZ08-73","Werbung und Marktforschung",77.89,80.44,87.82,91.2,93.63,93.07,94.89,96.46,106.79,112.04,106.96,100.56,96.8,103.16,103.49,109.37,112.51,111.76,102.08,102.59,100.62,98.03,97.91,98.99,100,103.95,104.08,101.48,"...","..."]
["WZ08-74-01","Freiberufl.,wiss.,techn.DL a.n.g., Veterinärwesen",63.78,74.37,73.62,70.900000000000006,73.86,71.87,79.64,77.23,73.430000000000007,78.75,78.83,80.87,68.489999999999995,64.430000000000007,68.48,72.42,75.69,69.8,63.89,67.59,74.84,79.540000000000006,81.81,91.4,100,116.48,106.25,111.89,"...","..."]
["WZ08-N","Sonstige wirtschaftliche Dienstleistungen",48.4,51.69,51.8,52.41,54.77,58.4,60.79,64.55,68.66,72.569999999999993,73.400000000000006,68.349999999999994,69.23,72.3,76.95,76.41,81.19,84.24,78.959999999999994,87.11,91.24,91.35,92.89,97.04,100,104.33,108.41,112.92,112.05,"..."]
["WZ08-77","Vermietung von beweglichen Sachen",61.08,63.51,61.98,62.18,64.3,70.55,73.39,80.44,83.69,92.59,96.41,89.32,94.39,99,101.78,97.83,103.31,102.73,91.67,93.19,94.92,93.57,92.45,95.49,100,102.67,102.14,104.23,"...","..."]
["WZ08-78","Vermittlung und Überlassung von Arbeitskräften",14.25,14.92,15.33,14.65,17.149999999999999,18.95,21.02,24.76,27.49,33.5,35.61,31.16,32.369999999999997,35.65,38.9,50.2,59.6,64.28,55.53,88.35,105.13,99.2,100.88,102.02,100,96.24,100.06,99.06,"...","..."]
["WZ08-79","Reisebüros, -veranstalter u. sonst. Reservierungen",50.67,59.48,68.87,76.7,78.790000000000006,80.540000000000006,84.44,87.72,94.8,93.58,91.46,69.760000000000005,67.069999999999993,72.77,76.86,75.959999999999994,76.22,78.64,73.33,81.099999999999994,87.2,89.75,92.61,92.8,100,102.09,111.01,111.5,"...","..."]
["WZ08-80-01","Unternehmensdienstleister a.n.g.",52.14,55.23,53.07,51.85,54.55,57.46,59.16,60.51,64.87,65.72,64.760000000000005,67.02,65.819999999999993,66.69,73.52,70.849999999999994,74.8,80.099999999999994,80.459999999999994,84.11,84.39,87.11,90.05,97.54,100,109.51,115.21,124.91,"...","..."]
["WZ08-O-03","Öffentliche Dienstleister, Erziehung, Gesundheit",61.97,65.31,65.86,67.430000000000007,68.95,71.069999999999993,72.459999999999994,73.510000000000005,75.56,76.98,78.09,79.55,80.17,80.38,81.59,82.75,84.5,87.84,91,93.42,95.16,95.86,96.39,97.96,100,103.79,105.85,107.1,109.3,108.58]
["WZ08-O","Öff. Verwaltung, Verteidigung, Sozialversicherung",65.680000000000007,68.22,68.03,69.55,70.05,70.94,71,72.209999999999994,74.38,75.540000000000006,76.91,77.87,77.78,77.8,79.739999999999995,81.45,83.12,86.71,90.19,93.36,94.64,94.52,96.16,97.53,100,103.26,105.83,107.75,110.88,"..."]
["WZ08-P","Erziehung und Unterricht",81.67,85.1,85.56,85.47,86.48,87.04,87.99,88.73,89.3,90.88,91.48,91.57,91.78,92.24,92.65,93.1,93.77,94.27,95.22,95.62,96.63,97.21,97.63,98.48,100,104.07,104.12,103.43,104.19,"..."]
["WZ08-Q","Gesundheits- und Sozialwesen",49.5,53.51,54.78,57.06,59.7,63.52,66.28,67.3,69.88,71.459999999999994,72.55,75.099999999999994,76.540000000000006,76.819999999999993,77.739999999999995,78.73,81.06,85.57,89.56,92.31,94.85,96.36,95.93,98.06,100,104.09,106.77,108.5,110.68,"..."]
["WZ08-86","Gesundheitswesen",54.79,59.32,60.56,62.88,65.55,67.44,70.77,71.2,73.459999999999994,74.959999999999994,76.62,79.319999999999993,80.989999999999995,80.91,81.03,81.739999999999995,83.86,89.42,93.07,95.65,98.3,99.25,97.97,99.13,100,101.94,104.17,105.94,"...","..."]
["WZ08-87-01","Heime und Sozialwesen",36.25,38.950000000000003,40.31,42.49,45.1,54.1,55.41,57.93,61.34,63.09,62.8,64.98,65.87,67.02,69.89,71.56,74.400000000000006,76.349999999999994,81.14,84.3,86.59,89.4,90.96,95.44,100,109.37,113.17,114.8,"...","..."]
["WZ08-R-02","Sonstige Dienstleister",85.32,90.75,88.78,92.68,93.01,94.28,94.02,95.27,98.45,100.82,100.14,97.28,97.08,98.21,98.64,100.51,101.31,103.41,100.35,100.52,101.34,100.11,99.42,98.63,100,99.34,100.96,102.14,103.16,91.99]
["WZ08-R","Kunst, Unterhaltung und Erholung",77.099999999999994,82.62,77.27,77.12,76.89,77.569999999999993,77.459999999999994,80.84,86.69,90.92,90.05,87.78,86.58,87.13,88.62,89.71,92.24,93.71,94.34,94.56,97.13,96.61,95.77,97.05,100,101.2,105.35,107.55,109.06,"..."]
["WZ08-90-01","Kunst und Kultur, Glücksspiel",98.13,104.42,95.34,91.58,90.83,91.15,89.32,92.17,97.1,99.65,97.78,93.55,92.16,93.81,94.47,94.28,98.04,98.69,98.96,99.09,98.33,99.09,96.07,96.53,100,102.1,105.33,105.98,"...","..."]
["WZ08-93","Dienstleistungen d.Sports,d.Unterhaltg.u.Erholung",48.95,53.44,53.21,58.05,58.52,59.72,61.95,66.12,73.31,79.92,80.39,80.83,79.88,78.95,81.55,84.33,85.3,87.78,88.86,89.18,95.73,93.72,95.42,97.68,100,100.13,105.36,109.39,"...","..."]
["WZ08-S","Erbringung von sonstigen Dienstleistungen",90.71,96.37,96.05,102.62,103.2,104.85,104.2,103.97,105.44,106.69,106.14,102.82,103.08,104.64,104.48,106.85,106.42,109.14,103.45,104.05,103.69,102.16,101.64,99.56,100,97.97,98.1,98.76,99.55,"..."]
["WZ08-94","Interessenvertr., kirchl. u. sonst. Vereinigungen",68.56,74.260000000000005,77.73,82.77,87.23,90.19,90.56,92.36,96.3,98.44,97.97,97.87,97.76,97.39,93.9,94.32,94.79,95.55,97.47,98.96,99.29,100.22,99.63,99.73,100,102.03,104.14,105.99,"...","..."]
["WZ08-95","Reparatur von DV-Geräten und Gebrauchsgütern",92.12,92.73,91.57,97.91,101.93,123.16,121.84,122.57,117.15,120.21,120.21,98.93,94.46,98.15,105.19,100.31,106.65,118.61,100.47,98.49,95.79,103.99,99.68,99.43,100,102.27,101.61,97.68,"...","..."]
["WZ08-96","Sonstige überwiegend persönliche Dienstleistungen",109.51,115.29,111.5,119.38,116.28,115.63,114.16,112.17,112,112.4,111.77,106.87,107.66,110.65,112.8,117.09,115.6,119.38,108.37,108.4,107.61,103.62,103.35,99.44,100,94.58,93.21,93.18,"...","..."]
["WZ08-T","Private Haushalte",85.45,87.2,91.01,91.84,93.57,94.56,98.56,101.69,105.67,107.74,106.88,105.15,107.36,107.45,107.06,108.48,111.23,110.51,111.17,104.62,106.42,102.96,101.13,99.88,100,101.71,101.84,101.12,101.15,"..."]
["WZ08-A-02","Alle Wirtschaftsbereiche",64.05,65.739999999999995,64.930000000000007,66.709999999999994,68.67,69.709999999999994,71.31,73.819999999999993,76.540000000000006,79.67,81.31,80.349999999999994,81.11,82.79,84.38,88.08,92.01,93.58,87.3,92.08,96.17,95.71,95.73,97.95,100,102.65,105.3,106.78,106.37,100.36]
["Bruttowertschöpfung (jew. ME)"]
["Wirtschaftsbereiche (WZ2008)",null,"1991","1992","1993","1994","1995","1996","1997","1998","1999","2000","2001","2002","2003","2004","2005","2006","2007","2008","2009","2010","2011","2012","2013","2014","2015","2016","2017","2018","2019","2020"]
["in jeweiligen Preisen (Mrd. EUR)"]
["WZ08-A","Land- und Forstwirtschaft, Fischerei",17.468,17.113,16.835999999999999,17.847999999999999,18.86,20.024000000000001,20.227,19.646999999999998,19.738,20.981000000000002,23.538,19.794,18.405999999999999,21.518000000000001,16.635000000000002,17.591999999999999,19.468,21.347999999999999,17.006,20.61,24.512,23.277999999999999,26.501000000000001,26.48,20.72,21.893999999999998,26.931999999999999,22.309000000000001,24.896000000000001,22.088999999999999]
["WZ08-01","Landwirtschaft, Jagd und verbundene Tätigkeiten",15.052,14.526999999999999,14.726000000000001,15.545,16.492999999999999,17.812000000000001,17.823,17.126999999999999,17.164000000000001,19.065999999999999,21.481000000000002,17.643000000000001,16.43,19.628,14.555,15.308999999999999,16.527999999999999,18.692,14.874000000000001,18.759,21.672000000000001,19.934000000000001,23.21,22.782,16.855,18.068000000000001,23.135999999999999,18.658000000000001,"...","..."]
["WZ08-021","Forstwirtschaft",2.2440000000000002,2.4329999999999998,1.966,2.1579999999999999,2.2130000000000001,2.0510000000000002,2.234,2.339,2.3809999999999998,1.7250000000000001,1.869,1.9590000000000001,1.788,1.704,1.879,2.0739999999999998,2.714,2.4489999999999998,1.964,1.6419999999999999,2.6190000000000002,3.1320000000000001,3.0739999999999998,3.47,3.6339999999999999,3.5750000000000002,3.5329999999999999,3.383,"...","..."]
["WZ08-031","Fischerei",0.17199999999999999,0.153,0.14399999999999999,0.14499999999999999,0.154,0.161,0.17,0.18099999999999999,0.193,0.19,0.188,0.192,0.188,0.186,0.20100000000000001,0.20899999999999999,0.22600000000000001,0.20699999999999999,0.16800000000000001,0.20899999999999999,0.221,0.21199999999999999,0.217,0.22800000000000001,0.23100000000000001,0.251,0.26300000000000001,0.26800000000000002,"...","..."]
["WZ08-B-05","Produzierendes Gewerbe",531.62599999999998,553.44000000000005,535.88599999999997,552.46900000000005,563.98900000000003,554.43200000000002,560.46,571.78300000000002,569.53700000000003,584.47900000000004,588.08900000000006,579.83600000000001,579.13900000000001,597.41499999999996,603.04499999999996,643.36099999999999,680.79,683.69899999999996,604.971,688.51300000000003,729.11900000000003,749.03,752.95299999999997,790.72799999999995,820.39099999999996,864.20100000000002,896.82299999999998,918.83900000000006,921.02499999999998,872.74099999999999]
["WZ08-B-18","Produzierendes Gewerbe ohne Baugewerbe",444.61500000000001,450.08800000000002,426.87799999999999,434.96699999999998,446.06099999999998,442.59500000000003,452.83800000000002,468.56700000000001,467.8,486.43299999999999,494.92599999999999,490.40499999999997,493.72,514.28099999999995,522.57500000000005,560.15099999999995,593.11,592.15099999999995,513.65099999999995,588.58699999999999,623.14700000000005,638.63800000000003,640.72699999999998,671.14499999999998,695.48400000000004,731.65300000000002,758.7,770.505,754.22500000000002,690.27499999999998]
["WZ08-B","Bergbau und Gewinnung von Steinen und Erden",10.693,10.507,10.63,9.8620000000000001,9.6519999999999992,5.718,5.2590000000000003,5.1120000000000001,4.8470000000000004,5.0750000000000002,4.202,4.4180000000000001,3.7549999999999999,3.9180000000000001,3.9420000000000002,4.91,4.9539999999999997,6.3419999999999996,5.0650000000000004,5.1859999999999999,5.4020000000000001,5.7960000000000003,5.125,4.9009999999999998,4.6059999999999999,4.0259999999999998,4.2610000000000001,4.3079999999999998,3.44,"..."]
["WZ08-C","Verarbeitendes Gewerbe",394.02,397.887,373.31799999999998,380.63299999999998,389.12799999999999,385.41699999999997,396.71899999999999,411.14,411.78500000000003,433.33300000000003,441.92,435.00599999999997,438.76600000000002,453.27,459.25799999999998,492.75200000000001,521.26,510.56,432.48700000000002,505.06400000000002,544.98800000000006,553.35699999999997,560.16700000000003,592.05499999999995,615.76400000000001,647.69600000000003,665.69,673.99699999999996,659.18200000000002,593.84900000000005]
["WZ08-10-01","Ernährungsgewerbe und Tabakverarbeitung",32.6,32.902999999999999,34.122999999999998,34.86,34.44,33.450000000000003,34.296999999999997,34.69,35.29,35.896999999999998,36.369999999999997,36.613999999999997,36.826000000000001,37.307000000000002,36.124000000000002,36.642000000000003,36.906999999999996,35.932000000000002,35.917999999999999,37.296999999999997,37.57,38.723999999999997,39.953000000000003,41.078000000000003,43.591999999999999,45.874000000000002,46.347999999999999,46.853999999999999,"...","..."]
["WZ08-13-01","Textil- und Bekleidungsgewerbe",13.363,12.622,11.577999999999999,11.003,10.077999999999999,9.5920000000000005,9.5,9.48,8.9190000000000005,9.0380000000000003,8.64,8.1509999999999998,7.7889999999999997,7.81,7.4509999999999996,7.6230000000000002,7.6879999999999997,7.3490000000000002,6.0979999999999999,6.8310000000000004,7.4180000000000001,7.1929999999999996,7.157,7.67,7.2430000000000003,7.4649999999999999,7.6680000000000001,7.992,"...","..."]
["WZ08-16-01","H.v. Holzwaren, Papier und Druckerzeugnissen",25.928999999999998,27.318000000000001,26.483000000000001,27.193999999999999,28.018000000000001,27.161999999999999,27.103000000000002,27.363,27.556000000000001,28.36,27.527999999999999,26.515000000000001,24.516999999999999,25.710999999999999,25.606000000000002,26.260999999999999,26.431000000000001,24.815999999999999,22.524999999999999,23.763999999999999,24.033999999999999,24.469000000000001,24.138000000000002,24.321999999999999,25.323,25.446999999999999,25.103000000000002,25.05,"...","..."]
["WZ08-16","H.v. Holz-, Flecht-, Korb-u.Korkwaren (ohne Möbel)",5.7830000000000004,6.5129999999999999,6.5590000000000002,7.4,7.7089999999999996,7.2720000000000002,7.49,7.2770000000000001,7.2140000000000004,7.319,6.6269999999999998,6.3689999999999998,6.0919999999999996,6.5190000000000001,6.2210000000000001,6.5640000000000001,6.7489999999999997,5.9880000000000004,5.1779999999999999,6.0590000000000002,6.3120000000000003,6.0469999999999997,6.1680000000000001,6.2539999999999996,7.0309999999999997,6.8730000000000002,6.8520000000000003,6.8680000000000003,"...","..."]
["WZ08-17","Herstellung von Papier, Pappe und Waren daraus",9.5440000000000005,9.5280000000000005,8.6430000000000007,8.7029999999999994,8.3539999999999992,8.8759999999999994,8.9380000000000006,9.2780000000000005,9.3840000000000003,9.6850000000000005,10.115,10.176,9.7149999999999999,9.8469999999999995,9.7880000000000003,10.087999999999999,10.369,9.8520000000000003,9.4190000000000005,9.4109999999999996,9.5749999999999993,10.202999999999999,10.138999999999999,10.59,10.917,11.063000000000001,11.013999999999999,11.664999999999999,"...","..."]
["WZ08-18","H.v. Druckerz., Vervielf.v.Ton-,Bild-,Datenträgern",10.602,11.276999999999999,11.281000000000001,11.090999999999999,11.955,11.013999999999999,10.675000000000001,10.808,10.958,11.356,10.786,9.9700000000000006,8.7100000000000009,9.3450000000000006,9.5969999999999995,9.609,9.3130000000000006,8.9760000000000009,7.9279999999999999,8.2940000000000005,8.1470000000000002,8.2189999999999994,7.8310000000000004,7.4779999999999998,7.375,7.5110000000000001,7.2370000000000001,6.5170000000000003,"...","..."]
["WZ08-19","Kokerei und Mineralölverarbeitung",2.5089999999999999,2.1080000000000001,2.823,3.51,2.1280000000000001,2.923,3.0550000000000002,4.2460000000000004,2.012,5.0640000000000001,6.9909999999999997,4.6390000000000002,4.2149999999999999,4.5970000000000004,4.5529999999999999,5.9669999999999996,4.6900000000000004,3.4369999999999998,3.573,5.3490000000000002,3.335,3.8839999999999999,4.5819999999999999,3.512,5.4610000000000003,5.4240000000000004,5.4470000000000001,4.4930000000000003,"...","..."]
["WZ08-20","Herstellung von chemischen Erzeugnissen",31.574999999999999,31.51,30.669,31.792000000000002,34.335000000000001,33.633000000000003,33.719000000000001,33.369,32.151000000000003,34.238999999999997,34.978000000000002,35.716999999999999,34.478000000000002,35.002000000000002,35.037999999999997,35.24,37.517000000000003,37.603000000000002,34.046999999999997,40.110999999999997,40.625999999999998,39.802,39.927999999999997,41.895000000000003,45.44,47.542000000000002,49.7,46.686999999999998,"...","..."]
["WZ08-21","Herstellung von pharmazeutischen Erzeugnissen",9.6890000000000001,9.6760000000000002,9.1479999999999997,9.51,10.504,10.798,11.084,11.115,11.867000000000001,12.461,13.138999999999999,13.275,14.875,15.804,17.736999999999998,18.768000000000001,19.713999999999999,21.382999999999999,20.524999999999999,20.536999999999999,21.29,22.105,22.257999999999999,23.605,22.802,25.434000000000001,21.965,25.370999999999999,"...","..."]
["WZ08-22-01","H.v. Gummi-, Kunststoff-, Glaswaren, Keramik u.Ä.",32.460999999999999,34.085999999999999,34.271999999999998,35.552999999999997,37.064999999999998,36.012999999999998,35.668999999999997,36.284999999999997,36.895000000000003,36.677,35.540999999999997,35.137999999999998,34.241999999999997,35.606999999999999,35.234000000000002,37.311999999999998,38.784999999999997,38.414999999999999,33.790999999999997,37.091000000000001,39.895000000000003,40.231000000000002,41.448,43.356000000000002,44.57,47.505000000000003,47.368000000000002,48.682000000000002,"...","..."]
["WZ08-22","Herstellung von Gummi- und Kunststoffwaren",17.707000000000001,18.398,17.902999999999999,17.791,18.858000000000001,18.954999999999998,19.347000000000001,19.899000000000001,20.116,20.161999999999999,20.3,20.791,20.606000000000002,21.628,21.716999999999999,22.760999999999999,23.329000000000001,23.567,20.725999999999999,23.073,24.835999999999999,24.95,25.768999999999998,26.611999999999998,28.143999999999998,29.815999999999999,29.734999999999999,30.224,"...","..."]
["WZ08-23","H.v.Glas,-waren,Keramik,Verarb. v.Steinen u.Erden",14.754,15.688000000000001,16.369,17.762,18.207000000000001,17.058,16.321999999999999,16.385999999999999,16.779,16.515000000000001,15.241,14.347,13.635999999999999,13.978999999999999,13.516999999999999,14.551,15.456,14.848000000000001,13.065,14.018000000000001,15.058999999999999,15.281000000000001,15.679,16.744,16.425999999999998,17.689,17.632999999999999,18.457999999999998,"...","..."]
["WZ08-24-01","Metallgewerbe",50.594000000000001,49.137999999999998,46.408000000000001,46.787999999999997,49.356999999999999,47.826000000000001,48.804000000000002,52.137999999999998,51.97,55.375999999999998,56.247,53.920999999999999,54.521999999999998,56.959000000000003,60.250999999999998,66.492000000000004,71.695999999999998,72.138000000000005,54.469000000000001,61.411000000000001,69.322999999999993,70.534999999999997,71.055000000000007,72.971000000000004,74.176000000000002,76.275000000000006,77.046999999999997,80.641000000000005,"...","..."]
["WZ08-24","Metallerzeugung und -bearbeitung",18.207999999999998,17.361999999999998,15.103,14.863,16.734000000000002,15.368,15.555999999999999,17.373999999999999,15.605,16.91,17.21,17.228000000000002,16.963999999999999,18.715,20.29,21.93,25.59,25.114999999999998,17.530999999999999,17.355,20.247,20.992999999999999,20.279,20.571000000000002,21.045000000000002,20.600999999999999,20.824000000000002,22.681999999999999,"...","..."]
["WZ08-25","Herstellung von Metallerzeugnissen",32.386000000000003,31.776,31.305,31.925000000000001,32.622999999999998,32.457999999999998,33.247999999999998,34.764000000000003,36.365000000000002,38.466000000000001,39.036999999999999,36.692999999999998,37.558,38.244,39.960999999999999,44.561999999999998,46.106000000000002,47.023000000000003,36.938000000000002,44.055999999999997,49.076000000000001,49.542000000000002,50.776000000000003,52.4,53.131,55.673999999999999,56.222999999999999,57.959000000000003,"...","..."]
["WZ08-26","H.v. DV-Geräten, elektron. u. opt. Erzeugnissen",27.873000000000001,26.434000000000001,23.550999999999998,23.361000000000001,22.452999999999999,21.931999999999999,23.724,24.263000000000002,25.414000000000001,30.248999999999999,26.771999999999998,26.632000000000001,27.965,30.449000000000002,30.448,31.664999999999999,36.460999999999999,32.701000000000001,25.152999999999999,29.968,32.287999999999997,31.585999999999999,32.405000000000001,34.075000000000003,38.137,40.32,40.408999999999999,43.295999999999999,"...","..."]
["WZ08-27","Herstellung von elektrischen Ausrüstungen",34.331000000000003,35.168999999999997,32.813000000000002,32.988,31.007999999999999,30.869,31.196999999999999,30.898,31.937000000000001,34.604999999999997,31.625,31.628,31.495999999999999,33.488999999999997,32.436999999999998,36.256,35.198999999999998,36.886000000000003,33.469000000000001,39.021999999999998,41.219000000000001,40.695999999999998,41.027999999999999,43.158000000000001,41.273000000000003,42.942,44.685000000000002,45.536000000000001,"...","..."]
["WZ08-28","Maschinenbau",53.389000000000003,52.868000000000002,48.404000000000003,48.779000000000003,52.396999999999998,53.014000000000003,54.442999999999998,58.027999999999999,56.85,60.72,63.045999999999999,61.923000000000002,62.453000000000003,66.231999999999999,67.733000000000004,73.254000000000005,80.891999999999996,83.986000000000004,65.141999999999996,75.790000000000006,85.085999999999999,86.853999999999999,87.81,91.995999999999995,93.807000000000002,96.427000000000007,102.553,106.008,"...","..."]
["WZ08-29-01","Fahrzeugbau",54.56,57.427999999999997,47.866,50.88,53.223999999999997,53.75,58.915999999999997,63.670999999999999,64.775999999999996,63.707999999999998,73.88,74.697000000000003,78.545000000000002,77.03,77.808999999999997,86.382000000000005,92.748000000000005,83.822999999999993,67.003,94.16,106.15300000000001,110.023,111.661,126.22199999999999,134.28299999999999,146.94999999999999,155.744,153.01499999999999,"...","..."]
["WZ08-29","Herstellung von Kraftwagen und Kraftwagenteilen",46.843000000000004,49.027999999999999,41.274000000000001,44.719000000000001,47.725000000000001,47.335000000000001,51.72,56.122,56.383000000000003,55.807000000000002,65.028999999999996,66.097999999999999,70.388000000000005,69.739000000000004,68.915000000000006,77.543999999999997,83.31,73.887,57.692999999999998,83.376000000000005,95.35,98.117000000000004,100.005,113.36,120.785,132.55099999999999,138.24799999999999,138.07400000000001,"...","..."]
["WZ08-30","Sonstiger Fahrzeugbau",7.7169999999999996,8.4,6.5919999999999996,6.1609999999999996,5.4989999999999997,6.415,7.1959999999999997,7.5490000000000004,8.3930000000000007,7.9009999999999998,8.8510000000000009,8.5990000000000002,8.157,7.2910000000000004,8.8940000000000001,8.8379999999999992,9.4380000000000006,9.9359999999999999,9.31,10.784000000000001,10.803000000000001,11.906000000000001,11.656000000000001,12.862,13.497999999999999,14.398999999999999,17.495999999999999,14.941000000000001,"...","..."]
["WZ08-31-01","Möbelherstellung, Installation von Maschinen",25.146999999999998,26.626999999999999,25.18,24.414999999999999,24.120999999999999,24.454999999999998,25.207999999999998,25.594000000000001,26.148,26.939,27.163,26.155999999999999,26.843,27.273,28.837,30.89,32.531999999999996,32.091000000000001,30.774000000000001,33.732999999999997,36.750999999999998,37.255000000000003,36.744,38.195,39.656999999999996,40.091000000000001,41.652999999999999,40.372,"...","..."]
["WZ08-31-02","Herstellung von Möbeln und sonstigen Waren",15.329000000000001,16.648,16.058,15.335000000000001,15.368,15.819000000000001,16.120999999999999,16.305,16.46,17.166,17.635999999999999,16.536000000000001,16.988,16.991,17.564,19.341999999999999,19.545000000000002,19.420000000000002,17.8,20.448,22.728999999999999,22.611000000000001,21.951000000000001,22.934000000000001,23.748000000000001,23.977,26.33,25.331,"...","..."]
["WZ08-33","Reparatur u.Installation von Masch.u.Ausrüstungen",9.8179999999999996,9.9789999999999992,9.1219999999999999,9.08,8.7530000000000001,8.6359999999999992,9.0869999999999997,9.2889999999999997,9.6880000000000006,9.7729999999999997,9.5269999999999992,9.6199999999999992,9.8550000000000004,10.282,11.273,11.548,12.987,12.670999999999999,12.974,13.285,14.022,14.644,14.792999999999999,15.260999999999999,15.909000000000001,16.114000000000001,15.323,15.041,"...","..."]
["WZ08-D","Energieversorgung",27.337,27.571999999999999,27.925999999999998,28.187000000000001,30.481999999999999,34.606999999999999,33.536999999999999,34.073999999999998,32.816000000000003,29.561,30.498000000000001,32.472999999999999,32.014000000000003,36.906999999999996,38.404000000000003,41.198,44.713000000000001,51.856000000000002,53.673999999999999,54.789000000000001,47.259,53.526000000000003,49.345999999999997,46.396999999999998,46.119,50.136000000000003,57.473999999999997,58.783000000000001,57.369,"..."]
["WZ08-E","Wasserversorg.,Entsorg.,Beseitig.v.Umweltverschm.",12.565,14.122,15.004,16.285,16.798999999999999,16.853000000000002,17.323,18.241,18.352,18.463999999999999,18.306000000000001,18.507999999999999,19.184999999999999,20.186,20.971,21.291,22.183,23.393000000000001,22.425000000000001,23.547999999999998,25.498000000000001,25.959,26.088999999999999,27.792000000000002,28.995000000000001,29.795000000000002,31.274999999999999,33.417000000000002,34.234000000000002,"..."]
["WZ08-36","Wasserversorgung",2.8730000000000002,3.1379999999999999,3.1549999999999998,3.7730000000000001,3.7189999999999999,3.843,4.4480000000000004,4.9009999999999998,4.9459999999999997,4.9960000000000004,5.1349999999999998,5.1050000000000004,5.1779999999999999,5.423,5.4850000000000003,5.6109999999999998,5.6870000000000003,5.9409999999999998,4.8940000000000001,5.0540000000000003,5.3029999999999999,5.19,5.28,5.3129999999999997,5.4669999999999996,5.8140000000000001,5.5979999999999999,5.78,"...","..."]
["WZ08-37-01","Abwasser-, Abfallentsorgung, Rückgewinnung",9.6920000000000002,10.984,11.849,12.512,13.08,13.01,12.875,13.34,13.406000000000001,13.468,13.170999999999999,13.403,14.007,14.763,15.486000000000001,15.68,16.495999999999999,17.452000000000002,17.530999999999999,18.494,20.195,20.768999999999998,20.809000000000001,22.478999999999999,23.527999999999999,23.981000000000002,25.677,27.637,"...","..."]
["WZ08-F","Baugewerbe",87.010999999999996,103.352,109.008,117.502,117.928,111.837,107.622,103.21599999999999,101.73699999999999,98.046000000000006,93.162999999999997,89.430999999999997,85.418999999999997,83.134,80.47,83.21,87.68,91.548000000000002,91.32,99.926000000000002,105.97199999999999,110.392,112.226,119.583,124.907,132.548,138.12299999999999,148.334,166.8,182.46600000000001]
["WZ08-G-04","Dienstleistungsbereiche",893.90200000000004,976.7,1035.6790000000001,1081.3219999999999,1133.672,1167.202,1198.386,1234.43,1267.3440000000001,1296.3489999999999,1350.9490000000001,1387.4949999999999,1398.979,1430.741,1449.9780000000001,1496.0039999999999,1547.5719999999999,1584.5060000000001,1570.857,1596.5609999999999,1664.4680000000001,1693.492,1748.4290000000001,1818.1849999999999,1880.9090000000001,1936.348,2012.9480000000001,2083.2739999999999,2160.2359999999999,2119.0549999999998]
["WZ08-G-01","Handel, Verkehr, Gastgewerbe",232.06899999999999,240.05199999999999,246.18600000000001,258.91199999999998,270.50299999999999,271.33800000000002,279.66399999999999,292.02699999999999,290.64800000000002,302.49099999999999,319.19099999999997,323.64299999999997,327.26100000000002,330.55500000000001,338.34100000000001,350.86099999999999,365.21800000000002,375.88600000000002,368.53,364.34899999999999,380.63200000000001,380.99599999999998,389.09699999999998,411.97800000000001,430.339,447.23500000000001,467.95699999999999,483.024,500.83199999999999,473.93900000000002]
["WZ08-G","Handel, Instandhaltung und Reparatur von Kfz",146.54400000000001,152.34100000000001,156.83099999999999,166.75299999999999,176.626,177.09700000000001,180.648,190.506,186.124,193.44800000000001,204.92400000000001,208.071,210.86199999999999,211.86600000000001,215.33,221.60400000000001,228.73599999999999,236.995,235.113,226.90100000000001,238.73500000000001,233.86799999999999,236.643,255.137,265.24,279.31700000000001,292.93400000000003,301.065,311.91500000000002,317.69099999999997]
["WZ08-45","Kfz-Handel, Instandhaltung und Reparatur von Kfz",24.748000000000001,26.067,22.652000000000001,24.748999999999999,26.704999999999998,27.306000000000001,28.919,30.687999999999999,32.652999999999999,32.348999999999997,33.761000000000003,37.86,40.531999999999996,41.076000000000001,41.4,42.746000000000002,40.985999999999997,42.009,45.259,39.192,44.277000000000001,39.235999999999997,39.444000000000003,42.658999999999999,43.942,47.959000000000003,47.959000000000003,47.515999999999998,"...","..."]
["WZ08-46","Großhandel (ohne Handel mit Kraftfahrzeugen)",62.271000000000001,64.138999999999996,70.346000000000004,77.069999999999993,77.897000000000006,73.981999999999999,75.38,83.164000000000001,75.305999999999997,76.034999999999997,85.756,85.965999999999994,86.632999999999996,88.188999999999993,93.328000000000003,95.825000000000003,106.209,115.44,108.82,107.161,116.666,117.905,115.492,126.425,128.011,133.792,143.559,149.446,"...","..."]
["WZ08-47","Einzelhandel (ohne Handel mit Kraftfahrzeugen)",59.524999999999999,62.134999999999998,63.832999999999998,64.933999999999997,72.024000000000001,75.808999999999997,76.349000000000004,76.653999999999996,78.165000000000006,85.063999999999993,85.406999999999996,84.245000000000005,83.697000000000003,82.600999999999999,80.602000000000004,83.033000000000001,81.540999999999997,79.546000000000006,81.034000000000006,80.548000000000002,77.792000000000002,76.727000000000004,81.706999999999994,86.052999999999997,93.287000000000006,97.566000000000003,101.416,104.10299999999999,"...","..."]
["WZ08-H","Verkehr und Lagerei",64.906999999999996,65.426000000000002,65.504000000000005,66.927999999999997,68.2,68.518000000000001,72.631,73.766999999999996,75.998000000000005,78.739000000000004,83.058000000000007,85.11,86.402000000000001,88.35,92.328000000000003,98.206000000000003,103.51,106.264,102.292,104.762,107.05500000000001,110.208,116.21299999999999,118.036,123.508,123.83799999999999,128.61799999999999,132.96700000000001,137.38900000000001,125.861]
["WZ08-49","Landverkehr und Transport in Rohrfernleitungen",33.865000000000002,33.731999999999999,32.552999999999997,32.259,32.655000000000001,31.521999999999998,32.215000000000003,32.646999999999998,33.290999999999997,32.662999999999997,35.002000000000002,34.588999999999999,34.191000000000003,32.808,34.237000000000002,37.469000000000001,38.707000000000001,39.521999999999998,38.030999999999999,39.478000000000002,41.505000000000003,43.194000000000003,44.71,46.814,47.716000000000001,47.796999999999997,48.933,51.073,"...","..."]
["WZ08-50","Schifffahrt",2.5760000000000001,2.4140000000000001,2.4929999999999999,2.5579999999999998,2.4940000000000002,2.738,3.9249999999999998,3.1669999999999998,3.3730000000000002,4.4800000000000004,5.2690000000000001,4.4370000000000003,4.3120000000000003,5.5880000000000001,6.7169999999999996,5.327,6.6059999999999999,8.51,8.1760000000000002,7.6589999999999998,7.0819999999999999,6.9829999999999997,7.6150000000000002,5.8380000000000001,6.3959999999999999,4.2990000000000004,6.3550000000000004,5.9960000000000004,"...","..."]
["WZ08-51","Luftfahrt",3.5270000000000001,3.6909999999999998,3.89,3.9369999999999998,3.9009999999999998,4.2619999999999996,4.8920000000000003,5.0030000000000001,4.9729999999999999,5.3109999999999999,4.3419999999999996,3.9460000000000002,3.8130000000000002,4.24,4.375,4.944,5.4550000000000001,4.3099999999999996,5.3710000000000004,6.1909999999999998,5.4790000000000001,5.2480000000000002,6.0449999999999999,5.15,8.3829999999999991,8.3230000000000004,8.1039999999999992,7.3029999999999999,"...","..."]
["WZ08-52","Lagerei, sonstige Dienstleistungen für den Verkehr",13.002000000000001,13.787000000000001,14.804,16.007999999999999,17.103000000000002,17.948,19.361000000000001,20.582999999999998,21.905999999999999,23.297000000000001,25.515999999999998,28.788,30.279,32.423000000000002,34.107999999999997,37.637,39.433,40.331000000000003,36.043999999999997,38.417000000000002,40.179000000000002,42.170999999999999,44.048000000000002,45.966999999999999,45.841000000000001,47.289000000000001,48.566000000000003,52.006999999999998,"...","..."]
["WZ08-53","Post-, Kurier- und Expressdienste",11.936999999999999,11.802,11.763999999999999,12.166,12.047000000000001,12.048,12.238,12.367000000000001,12.455,12.988,12.929,13.35,13.807,13.291,12.891,12.829000000000001,13.308999999999999,13.590999999999999,14.67,13.016999999999999,12.81,12.612,13.795,14.266999999999999,15.172000000000001,16.13,16.66,16.588000000000001,"...","..."]
["WZ08-I","Gastgewerbe",20.617999999999999,22.285,23.850999999999999,25.231000000000002,25.677,25.722999999999999,26.385000000000002,27.754000000000001,28.526,30.303999999999998,31.209,30.462,29.997,30.338999999999999,30.683,31.050999999999998,32.972000000000001,32.627000000000002,31.125,32.686,34.841999999999999,36.92,36.241,38.805,41.591000000000001,44.08,46.405000000000001,48.991999999999997,51.527999999999999,30.387]
["WZ08-J","Information und Kommunikation",50.765000000000001,58.110999999999997,61.823,62.485999999999997,66.34,67.573999999999998,73.87,82.816999999999993,83.146000000000001,87.114000000000004,95.225999999999999,97.947999999999993,89.960999999999999,96.998999999999995,96.018000000000001,101.82599999999999,107.17700000000001,106.277,101.75,99.650999999999996,108.62,112.688,118.791,124.295,126.057,129.84200000000001,135.393,145.47999999999999,153.18299999999999,155.352]
["WZ08-58-01","Verlagswesen, audio-visual media and Rundfunk",16.157,19.404,19.63,20.123999999999999,21.754000000000001,22.327000000000002,24.521999999999998,25.984000000000002,26.219000000000001,26.818000000000001,26.613,24.34,23.87,24.577000000000002,25.666,25.727,27.094999999999999,26.288,25.789000000000001,26.058,27.585999999999999,28.350999999999999,29.856000000000002,29.696999999999999,29.268999999999998,30.478000000000002,30.535,31.023,"...","..."]
["WZ08-58","Verlagswesen",8.7289999999999992,9.3260000000000005,9.4160000000000004,9.3079999999999998,10.021000000000001,10.342000000000001,10.605,10.698,11.117000000000001,11.657999999999999,11.112,10.568,10.353,10.7,10.853999999999999,11.196,12.398999999999999,13.744999999999999,12.74,13.196999999999999,14.43,14.478999999999999,14.439,14.339,14.115,14.282999999999999,14.565,14.638,"...","..."]
["WZ08-59-01","Audiovisuelle Medien und Rundfunk",7.4279999999999999,10.077999999999999,10.214,10.816000000000001,11.733000000000001,11.984999999999999,13.917,15.286,15.102,15.16,15.500999999999999,13.772,13.516999999999999,13.877000000000001,14.811999999999999,14.531000000000001,14.696,12.542999999999999,13.048999999999999,12.861000000000001,13.156000000000001,13.872,15.417,15.358000000000001,15.154,16.195,15.97,16.385000000000002,"...","..."]
["WZ08-61","Telekommunikation",21.777999999999999,24.689,26.616,27.553000000000001,28.815000000000001,27.43,29.218,31.981999999999999,30.914999999999999,30.763000000000002,34.152000000000001,38.064,31.957000000000001,36.622,32.204000000000001,35.639000000000003,34.104999999999997,33.238999999999997,30.495000000000001,26.998000000000001,26.678000000000001,26.055,24.297000000000001,25.733000000000001,26.626999999999999,25.234000000000002,26.366,26.600999999999999,"...","..."]
["WZ08-62-01","IT- und Informationsdienstleister",12.83,14.018000000000001,15.577,14.808999999999999,15.771000000000001,17.817,20.13,24.850999999999999,26.012,29.533000000000001,34.460999999999999,35.543999999999997,34.134,35.799999999999997,38.148000000000003,40.46,45.976999999999997,46.75,45.466000000000001,46.594999999999999,54.356000000000002,58.281999999999996,64.638000000000005,68.864999999999995,70.161000000000001,74.13,78.492000000000004,87.855999999999995,"...","..."]
["WZ08-K","Erbringung von Finanz- und Versicherungsleistungen",67.87,72.287000000000006,80.081999999999994,79.001000000000005,78.578000000000003,82.763000000000005,85.495000000000005,83.212000000000003,99.956999999999994,85.245000000000005,88.075999999999993,94.795000000000002,104.732,116.682,114.22199999999999,113.46299999999999,106.99,98.465999999999994,112.16,115.217,116.117,118.417,116.708,117.468,119.828,118.113,117.92400000000001,115.756,116.895,116.907]
["WZ08-64","Erbringung von Finanzdienstleistungen",47.332000000000001,50.305999999999997,55.57,54.167000000000002,52.719000000000001,55.38,56.414999999999999,52.7,67.149000000000001,54.231999999999999,55.652999999999999,61.408999999999999,75.926000000000002,80.058000000000007,78.328000000000003,75.436000000000007,66.427000000000007,63.146000000000001,75.665000000000006,81.566999999999993,81.137,80.944000000000003,79.126000000000005,79.459999999999994,78.162999999999997,74.971999999999994,71.891000000000005,68.606999999999999,"...","..."]
["WZ08-65","Versicherungen, Rückversicherungen, Pensionskassen",13.209,14.553000000000001,16.498999999999999,16.562999999999999,17.722000000000001,18.777000000000001,19.978999999999999,20.983000000000001,21.643999999999998,19.681999999999999,20.888999999999999,21.530999999999999,16.102,21.963999999999999,22.181000000000001,23.818999999999999,25.577000000000002,20.782,24.434000000000001,21.792000000000002,22.431999999999999,24.74,23.978999999999999,22.652999999999999,25.809000000000001,26.734000000000002,28.265999999999998,28.893000000000001,"...","..."]
["WZ08-66","Mit Finanz- u. Versicherungsdienstl. verb. Tätigk.",7.3289999999999997,7.4279999999999999,8.0129999999999999,8.2710000000000008,8.1370000000000005,8.6059999999999999,9.1010000000000009,9.5289999999999999,11.164,11.331,11.534000000000001,11.855,12.704000000000001,14.66,13.712999999999999,14.208,14.986000000000001,14.538,12.061,11.858000000000001,12.548,12.733000000000001,13.603,15.355,15.856,16.407,17.766999999999999,18.256,"...","..."]
["WZ08-L","Grundstücks- und Wohnungswesen",124.765,141.22900000000001,157.77099999999999,171.99799999999999,185.24299999999999,192.89099999999999,196.81899999999999,199.88499999999999,198.298,206.251,216.52699999999999,223.16399999999999,222.87899999999999,224.06399999999999,228.10300000000001,240.70699999999999,255.67,265.661,260.505,261.87400000000002,277.95999999999998,273.35500000000002,283.30399999999997,288.92200000000003,299.286,305.68200000000002,310.93200000000002,317.78399999999999,327.24799999999999,334.37400000000002]
["WZ08-M-02","Unternehmensdienstleister",132.346,146.70699999999999,157.61500000000001,159.84899999999999,167.83799999999999,174.709,178.54400000000001,186.62200000000001,196.18299999999999,207.375,214.39,216.917,217.815,217.982,224.12700000000001,232.69499999999999,249.393,258.74900000000002,235.49799999999999,247.804,257.33699999999999,267.25799999999998,281.50400000000002,295.98200000000003,306.85399999999998,316.87900000000002,336.91199999999998,351.68700000000001,361.30500000000001,337.62299999999999]
["WZ08-M","Freiberufliche, wiss. u. techn. Dienstleistungen",85.037000000000006,94.138000000000005,103.726,105.22499999999999,110.372,113.60899999999999,114.98699999999999,118.806,125.429,131.00399999999999,136.04400000000001,136.66999999999999,136.24299999999999,133.00200000000001,134.959,140.94399999999999,148.27500000000001,153.63,137.167,141.96700000000001,144.947,152.54,160.36799999999999,163.73099999999999,170.37,176.41200000000001,189.22900000000001,194.315,202.32499999999999,"..."]
["WZ08-69-01","Unternehmensnahe Beratungsleistungen",57.426000000000002,64.233000000000004,72.084000000000003,73.314999999999998,77.441999999999993,80.744,79.784000000000006,84.4,90.051000000000002,93.301000000000002,100.22199999999999,101.065,100.129,96.832999999999998,98.753,103.13800000000001,108.657,112.92100000000001,98.713999999999999,102.504,104.78100000000001,110.283,115.249,118.35899999999999,122.755,124.37,137.74700000000001,140.62799999999999,"...","..."]
["WZ08-69-02","Rechts- und Steuerberatung, Unternehmensberatung",36.579000000000001,38.636000000000003,45.261000000000003,44.866,47.87,51.234000000000002,51.487000000000002,55.514000000000003,60.960999999999999,64.012,70.239999999999995,72.786000000000001,72.516000000000005,70.515000000000001,71.724999999999994,74.778000000000006,79.724999999999994,82.887,69.483999999999995,71.483000000000004,72.457999999999998,75.858000000000004,77.828000000000003,79.688999999999993,81.028999999999996,83.600999999999999,93.486999999999995,97.558000000000007,"...","..."]
["WZ08-71","Architektur-,Ing.büros,techn.,physik.Untersuchung",20.847000000000001,25.597000000000001,26.823,28.449000000000002,29.571999999999999,29.51,28.297000000000001,28.885999999999999,29.09,29.289000000000001,29.981999999999999,28.279,27.613,26.318000000000001,27.027999999999999,28.36,28.931999999999999,30.033999999999999,29.23,31.021000000000001,32.323,34.424999999999997,37.420999999999999,38.67,41.725999999999999,40.768999999999998,44.26,43.07,"...","..."]
["WZ08-72","Forschung und Entwicklung",8.31,8.734,9.2550000000000008,9.298,9.8610000000000007,10.355,10.598000000000001,11.382999999999999,12.036,13.412000000000001,12.984,13.518000000000001,14.260999999999999,14.477,14.696,14.666,15.614000000000001,16.324000000000002,16.931000000000001,17.295000000000002,17.984999999999999,19.094999999999999,20.103999999999999,20.821000000000002,22.751000000000001,22.94,24.204000000000001,25.396999999999998,"...","..."]
["WZ08-73-01","Sonst.freiberufl., wissenschaftl., techn. Dienstl.",19.300999999999998,21.170999999999999,22.387,22.611999999999998,23.068999999999999,22.51,24.605,23.023,23.341999999999999,24.291,22.838000000000001,22.087,21.853000000000002,21.692,21.51,23.14,24.004000000000001,24.385000000000002,21.521999999999998,22.167999999999999,22.181000000000001,23.161999999999999,25.015000000000001,24.550999999999998,24.864000000000001,29.102,27.277999999999999,28.29,"...","..."]
["WZ08-73","Werbung und Marktforschung",11.446,11.923,13.092000000000001,13.484,13.44,13.173999999999999,14.212999999999999,13.164999999999999,14.250999999999999,14.648,13.212,11.784000000000001,12.231999999999999,12.3,11.725,13.127000000000001,14.053000000000001,14.305999999999999,11.694000000000001,12.207000000000001,12.063000000000001,11.852,13.122,12.79,12.613,12.935,13.032999999999999,12.510999999999999,"...","..."]
["WZ08-74-01","Freiberufl.,wiss.,techn.DL a.n.g., Veterinärwesen",7.8550000000000004,9.2479999999999993,9.2949999999999999,9.1280000000000001,9.6289999999999996,9.3360000000000003,10.391999999999999,9.8580000000000005,9.0909999999999993,9.6430000000000007,9.6259999999999994,10.303000000000001,9.6210000000000004,9.3919999999999995,9.7850000000000001,10.013,9.9510000000000005,10.079000000000001,9.8279999999999994,9.9610000000000003,10.118,11.31,11.893000000000001,11.760999999999999,12.250999999999999,16.167000000000002,14.244999999999999,15.779,"...","..."]
["WZ08-N","Sonstige wirtschaftliche Dienstleistungen",47.308999999999997,52.569000000000003,53.889000000000003,54.624000000000002,57.466000000000001,61.1,63.557000000000002,67.816000000000003,70.754000000000005,76.370999999999995,78.346000000000004,80.247,81.572000000000003,84.98,89.168000000000006,91.751000000000005,101.11799999999999,105.119,98.331000000000003,105.837,112.39,114.718,121.136,132.251,136.48400000000001,140.46700000000001,147.68299999999999,157.37200000000001,158.97999999999999,"..."]
["WZ08-77","Vermietung von beweglichen Sachen",21.059000000000001,23.032,23.664999999999999,24.524999999999999,25.553000000000001,27.361999999999998,28.535,31.346,32.408999999999999,36.445999999999998,36.600999999999999,38.805,39.322000000000003,39.627000000000002,39.981999999999999,39.973999999999997,43.825000000000003,42.863999999999997,40.298999999999999,39.814999999999998,40.189,38.356000000000002,38.281999999999996,40.908000000000001,42.866999999999997,45.7,46.978999999999999,48.47,"...","..."]
["WZ08-78","Vermittlung und Überlassung von Arbeitskräften",2.323,2.6259999999999999,2.8380000000000001,2.8809999999999998,3.5510000000000002,4.1280000000000001,4.7720000000000002,5.843,6.7569999999999997,8.3179999999999996,8.766,7.95,8.4169999999999998,9.3870000000000005,10.305999999999999,13.581,16.555,18.231999999999999,15.305,20.515000000000001,24.786000000000001,25.231000000000002,28.306999999999999,30.393000000000001,31.294,28.710999999999999,30.643999999999998,30.038,"...","..."]
["WZ08-79","Reisebüros, -veranstalter u. sonst. Reservierungen",3.03,3.7440000000000002,4.4649999999999999,4.9290000000000003,5.32,5.42,5.718,5.9749999999999996,6.25,5.9580000000000002,6.5970000000000004,5.2430000000000003,5.1369999999999996,6.1369999999999996,5.7169999999999996,4.859,5.1109999999999998,5.593,5.1470000000000002,6.2380000000000004,6.2380000000000004,6.27,6.63,6.9530000000000003,7.1349999999999998,6.2329999999999997,6.7830000000000004,7.7229999999999999,"...","..."]
["WZ08-80-01","Unternehmensdienstleister a.n.g.",20.896999999999998,23.167000000000002,22.920999999999999,22.289000000000001,23.042000000000002,24.19,24.532,24.652000000000001,25.338000000000001,25.649000000000001,26.382000000000001,28.248999999999999,28.696000000000002,29.829000000000001,33.162999999999997,33.337000000000003,35.627000000000002,38.43,37.58,39.268999999999998,41.177,44.860999999999997,47.917000000000002,53.997,55.188000000000002,59.823,63.277000000000001,71.141000000000005,"...","..."]
["WZ08-O-03","Öffentliche Dienstleister, Erziehung, Gesundheit",228.732,253.81200000000001,266.87200000000001,278.892,293.08499999999998,303.75700000000001,308.57799999999997,313.327,320.20299999999997,325.72199999999998,333.92599999999999,346.572,350.40100000000001,356.024,359.16199999999998,363.5,368.822,381.553,398.262,412.19200000000001,425.435,440.66399999999999,456.67099999999999,475.52300000000002,490.34899999999999,510.20400000000001,532.33000000000004,554.29399999999998,581.55799999999999,591.70399999999995]
["WZ08-O","Öff. Verwaltung, Verteidigung, Sozialversicherung",98.393000000000001,106.444,111.027,114.227,118.137,120.01300000000001,120.613,121.29,124.018,124.884,126.681,129.06200000000001,130.238,130.17699999999999,130.50700000000001,131.92099999999999,133.626,138.102,143.40799999999999,146.90899999999999,149.97999999999999,153.26599999999999,157.50800000000001,161.50700000000001,165.07900000000001,170.548,177.602,185.50700000000001,194.66300000000001,"..."]
["WZ08-P","Erziehung und Unterricht",57.762999999999998,64.132000000000005,68.061999999999998,70.308000000000007,73.86,76.179000000000002,77.965000000000003,79.244,81.576999999999998,83.058000000000007,85.912000000000006,88.763999999999996,89.248999999999995,90.960999999999999,91.894000000000005,91.888999999999996,94.105000000000004,96.602999999999994,100.075,103.444,106.998,111.42400000000001,114.98399999999999,119.508,122.747,128.04400000000001,132.73500000000001,136.934,143.26300000000001,"..."]
["WZ08-Q","Gesundheits- und Sozialwesen",72.575999999999993,83.236000000000004,87.783000000000001,94.356999999999999,101.08799999999999,107.565,110,112.79300000000001,114.608,117.78,121.333,128.74600000000001,130.91399999999999,134.886,136.761,139.69,141.09100000000001,146.84800000000001,154.779,161.839,168.45699999999999,175.97399999999999,184.179,194.50800000000001,202.523,211.61199999999999,221.99299999999999,231.85300000000001,243.63200000000001,"..."]
["WZ08-86","Gesundheitswesen",56.704999999999998,65.411000000000001,68.906000000000006,74.057000000000002,79.162000000000006,81.512,83.180999999999997,85.013999999999996,85.466999999999999,87.590999999999994,90.551000000000002,96.132000000000005,97.186000000000007,100.072,100.807,103.02200000000001,103.34399999999999,107.792,113.27,118.113,122.35,127.334,133.292,140.14699999999999,145.07499999999999,150.46,155.98400000000001,162.297,"...","..."]
["WZ08-87-01","Heime und Sozialwesen",15.871,17.824999999999999,18.876999999999999,20.3,21.925999999999998,26.053000000000001,26.818999999999999,27.779,29.140999999999998,30.189,30.782,32.613999999999997,33.728000000000002,34.814,35.954000000000001,36.667999999999999,37.747,39.055999999999997,41.509,43.725999999999999,46.106999999999999,48.64,50.887,54.360999999999997,57.448,61.152000000000001,66.009,69.555999999999997,"...","..."]
["WZ08-R-02","Sonstige Dienstleister",57.354999999999997,64.501999999999995,65.33,70.183999999999997,72.084999999999994,74.17,75.415999999999997,76.540000000000006,78.909000000000006,82.150999999999996,83.613,84.456000000000003,85.93,88.435000000000002,90.004999999999995,92.951999999999998,94.302000000000007,97.914000000000001,94.152000000000001,95.474000000000004,98.367000000000004,100.114,102.354,104.017,108.196,108.393,111.5,115.249,119.215,109.15600000000001]
["WZ08-R","Kunst, Unterhaltung und Erholung",18.222999999999999,20.963000000000001,20.411999999999999,20.992999999999999,21.399000000000001,22.026,22.72,23.561,24.704000000000001,25.821000000000002,26.053000000000001,26.501999999999999,26.472000000000001,27.045000000000002,27.861000000000001,28.335000000000001,29.59,30.433,30.367000000000001,30.518000000000001,31.943999999999999,32.851999999999997,33.942999999999998,35.192,37.101999999999997,37.701999999999998,39.466999999999999,40.93,42.265000000000001,"..."]
["WZ08-90-01","Kunst und Kultur, Glücksspiel",13.43,15.476000000000001,14.704000000000001,14.563000000000001,14.725,15.077999999999999,15.41,15.816000000000001,16.382000000000001,16.678999999999998,16.701000000000001,16.673999999999999,16.352,16.718,16.975000000000001,17.033000000000001,17.698,18.055,18.084,18.053999999999998,18.315999999999999,18.952999999999999,19.364000000000001,19.867000000000001,20.936,21.38,22.172000000000001,22.637,"...","..."]
["WZ08-93","Dienstleistungen d.Sports,d.Unterhaltg.u.Erholung",4.7930000000000001,5.4870000000000001,5.7080000000000002,6.43,6.6740000000000004,6.9480000000000004,7.31,7.7450000000000001,8.3219999999999992,9.1419999999999995,9.3520000000000003,9.8279999999999994,10.119999999999999,10.327,10.885999999999999,11.302,11.891999999999999,12.378,12.282999999999999,12.464,13.628,13.898999999999999,14.579000000000001,15.324999999999999,16.166,16.321999999999999,17.295000000000002,18.292999999999999,"...","..."]
["WZ08-S","Erbringung von sonstigen Dienstleistungen",35.865000000000002,40.006999999999998,41.188000000000002,45.113,46.329000000000001,47.561,47.841000000000001,47.896999999999998,48.91,50.865000000000002,52.043999999999997,52.468000000000004,53.719000000000001,55.545000000000002,56.25,58.615000000000002,58.527999999999999,61.337000000000003,57.494,58.975000000000001,60.234999999999999,61.069000000000003,61.97,62.307000000000002,64.266999999999996,63.682000000000002,64.828999999999994,66.924000000000007,69.352000000000004,"..."]
["WZ08-94","Interessenvertr., kirchl. u. sonst. Vereinigungen",13.07,14.868,15.898,17.186,18.416,19.193999999999999,19.465,19.879000000000001,20.847000000000001,21.544,21.888000000000002,22.352,22.978999999999999,23.184999999999999,22.265999999999998,22.483000000000001,22.864000000000001,23.434000000000001,23.960999999999999,24.846,25.832999999999998,26.728999999999999,26.951000000000001,27.524999999999999,28.030999999999999,28.943999999999999,30.091999999999999,31.385999999999999,"...","..."]
["WZ08-95","Reparatur von DV-Geräten und Gebrauchsgütern",1.0389999999999999,1.099,1.0920000000000001,1.2410000000000001,1.357,1.6519999999999999,1.7370000000000001,1.766,1.627,1.698,1.6140000000000001,1.37,1.2749999999999999,1.3540000000000001,1.484,1.7210000000000001,1.494,1.7410000000000001,1.49,1.5269999999999999,1.4650000000000001,1.5980000000000001,1.6060000000000001,1.641,1.6759999999999999,1.702,1.748,1.7110000000000001,"...","..."]
["WZ08-96","Sonstige überwiegend persönliche Dienstleistungen",21.756,24.04,24.198,26.686,26.556000000000001,26.715,26.638999999999999,26.251999999999999,26.436,27.623000000000001,28.542000000000002,28.745999999999999,29.465,31.006,32.5,34.411000000000001,34.17,36.161999999999999,32.042999999999999,32.601999999999997,32.936999999999998,32.741999999999997,33.412999999999997,33.140999999999998,34.56,33.036000000000001,32.988999999999997,33.826999999999998,"...","..."]
["WZ08-T","Private Haushalte",3.2669999999999999,3.532,3.73,4.0780000000000003,4.3570000000000002,4.5830000000000002,4.8550000000000004,5.0819999999999999,5.2949999999999999,5.4649999999999999,5.516,5.4859999999999998,5.7389999999999999,5.8449999999999998,5.8940000000000001,6.0019999999999998,6.1840000000000002,6.1440000000000001,6.2910000000000004,5.9809999999999999,6.1879999999999997,6.1929999999999996,6.4409999999999998,6.5179999999999998,6.827,7.0090000000000003,7.2039999999999997,7.3949999999999996,7.5979999999999999,"..."]
["WZ08-A-02","Alle Wirtschaftsbereiche",1442.9960000000001,1547.2529999999999,1588.4010000000001,1651.6389999999999,1716.521,1741.6579999999999,1779.0730000000001,1825.86,1856.6189999999999,1901.809,1962.576,1987.125,1996.5239999999999,2049.674,2069.6579999999999,2156.9569999999999,2247.83,2289.5529999999999,2192.8339999999998,2305.6840000000002,2418.0990000000002,2465.8000000000002,2527.8829999999998,2635.393,2722.02,2822.4430000000002,2936.703,3024.422,3106.1570000000002,3013.8850000000002]
["preisbereinigt, Kettenindex (2015=100)"]
["WZ08-A","Land- und Forstwirtschaft, Fischerei",133.74,130.34,117.68,86.95,88.89,92.13,92.94,91.06,98.62,94.77,91.55,90.44,92.27,120.44,87.88,82.39,102.96,122.37,118.64,104.96,100.26,103.15,105.77,116,100,98.25,94.7,81.28,84.26,83.67]
["WZ08-01","Landwirtschaft, Jagd und verbundene Tätigkeiten",139.62,134.53,123.33,85.52,88.83,91.76,92.45,90.88,100,96.95,92.66,90.94,93.36,124.46,86.29,80.92,102.85,127.67,125.35,113.69,104.52,105.85,109.66,120.71,100,97.54,93.43,78.27,"...","..."]
["WZ08-021","Forstwirtschaft",104.36,109.9,88.85,94.14,84.93,90.57,92.38,89.03,86.03,77.099999999999994,84.39,91.25,87.71,93.89,103.7,96.47,106.75,94.75,84.69,57.74,77.680000000000007,90.73,87.46,93.2,100,102.09,101.32,98.74,"...","..."]
["WZ08-031","Fischerei",123.73,113.66,124.06,124.06,130.91,128.36000000000001,129.16,109.4,104.57,104.57,86.96,68.92,71.790000000000006,79.430000000000007,89.67,87.89,98.4,91.87,69.680000000000007,89.17,98.56,94.99,89.62,98.7,100,89.18,88.82,97.94,"...","..."]
["WZ08-B-05","Produzierendes Gewerbe",84.5,83.39,78.86,81.05,80.5,78.23,79.81,79.95,80.3,84.09,83.75,81.94,81.790000000000006,84.25,84.73,89.24,92.65,91.5,78.95,90.7,95.28,95.21,94.51,98.69,100,104.06,107.52,108.41,105.77,97.88]
["WZ08-B-18","Produzierendes Gewerbe ohne Baugewerbe",78.739999999999995,76.47,71.37,72.92,72.94,71.34,73.510000000000005,74.23,74.760000000000005,79.400000000000006,79.989999999999995,78.58,79.08,82.27,83.36,88.49,92.47,91.23,77.239999999999995,89.73,94.49,94.61,94.2,98.44,100,104.45,108.55,109.27,105.36,95.12]
["WZ08-B","Bergbau und Gewinnung von Steinen und Erden",286.39999999999998,278.52,275.82,256.39,250.28,173.26,179.48,182.14,163.97,159.74,115.17,131.31,116.27,121.41,104.96,112.15,120.87,127.92,120.12,118.91,109.87,107.03,94.01,94.69,100,96.14,99.57,92.28,79.819999999999993,"..."]
["WZ08-C","Verarbeitendes Gewerbe",77.62,75.260000000000005,69.63,71.650000000000006,71.34,69.430000000000007,72.16,72.92,73.69,78.989999999999995,80.09,78.14,78.94,81.819999999999993,83.21,90.37,94.19,92.22,74.41,88.62,96,94.28,94.22,98.93,100,103.91,107.52,108.32,104.58,93.63]
["WZ08-10-01","Ernährungsgewerbe und Tabakverarbeitung",112.2,99.68,98.93,106.14,99.8,96.2,100.52,95.17,97.42,103.47,97.98,95.42,95.92,96.08,95.86,99,95.64,85.55,82.21,99.18,96.25,91.51,90.36,91.79,100,104.84,104.92,102.27,"...","..."]
["WZ08-13-01","Textil- und Bekleidungsgewerbe",220.36,199.88,179.85,173.65,158.01,146.91999999999999,146.38999999999999,144.11000000000001,132.54,137.28,132.06,123.4,118.62,120.17,115.85,119.58,120.22,116.33,93.49,104.62,114.07,105.8,102.32,108.04,100,101.12,106.05,112.42,"...","..."]
["WZ08-16-01","H.v. Holzwaren, Papier und Druckerzeugnissen",98.34,102.08,99.75,103.55,100.05,96.77,99.06,98.22,100.05,101.72,96.53,92.7,87.61,94.26,97.7,101.46,99.53,96.54,88.63,96.47,96.19,98.58,96.36,96.34,100,99.18,101.42,98.81,"...","..."]
["WZ08-16","H.v. Holz-, Flecht-, Korb-u.Korkwaren (ohne Möbel)",100.22,110.62,114.04,126.27,124.74,119.77,126.19,121.06,121.42,122.85,112.65,111.75,107.36,114.46,111.27,113.23,106.3,98.23,88.06,98.57,96.8,91.4,90.27,89.73,100,96.86,96.76,91.25,"...","..."]
["WZ08-17","Herstellung von Papier, Pappe und Waren daraus",76.27,78.92,75.010000000000005,79.22,67.55,72.81,79.16,78.739999999999995,81.19,80.680000000000007,76.97,75.53,75.14,80.09,83.51,88.59,88.61,86.74,80.349999999999994,86.94,85.9,94.39,94.68,97.3,100,96.78,102.51,105.34,"...","..."]
["WZ08-18","H.v. Druckerz., Vervielf.v.Ton-,Bild-,Datenträgern",129.25,129.9,125.84,123.83,128.88999999999999,115.3,109.83,111.08,113.14,117.61,113.53,104.57,92.48,101.18,108.77,111.93,110.76,110,101.57,109.31,111.3,111.34,104.47,101.18,100,104.95,103.94,95.86,"...","..."]
["WZ08-19","Kokerei und Mineralölverarbeitung",1864.1,538.65,518.46,544.91,277.58,457.59,709,103.51,113.6,343.96,530.20000000000005,343.48,253.52,255.27,253.93,377.53,207.97,221.89,137.96,194.03,84.37,57.1,98.9,113.4,100,128.62,106.35,79.39,"...","..."]
["WZ08-20","Herstellung von chemischen Erzeugnissen",74.34,75.489999999999995,75.67,79.12,79.56,80.959999999999994,83.09,81.53,81.8,87.17,89.07,93.34,90.33,92.24,91.05,93.4,98.3,96.6,79.34,96.98,96.06,90.91,90.59,95.84,100,104.36,110.17,103.11,"...","..."]
["WZ08-21","Herstellung von pharmazeutischen Erzeugnissen",49.69,48.61,46.09,49.19,55.13,53.27,55.29,53.83,55.59,59.34,61.5,60.91,69.7,76.16,88.6,92.42,97.43,104.34,95.15,95.13,101.61,104.07,104.27,106.43,100,109.68,94.75,113.09,"...","..."]
["WZ08-22-01","H.v. Gummi-, Kunststoff-, Glaswaren, Keramik u.Ä.",74.84,75.47,75.22,78.900000000000006,81.39,77.63,78.97,80.33,81.23,83.92,81.349999999999994,80.81,79.98,84.42,85.27,93.27,95.75,96.08,77.760000000000005,89.03,99.02,96.58,96.76,99.92,100,103.68,107.89,111.76,"...","..."]
["WZ08-22","Herstellung von Gummi- und Kunststoffwaren",61.56,61.56,59.85,61.17,64.87,63,66.23,67.63,67.739999999999995,71.06,70.19,71.58,70.53,76.44,78.59,86.23,89.59,91.78,73.650000000000006,86.71,97.11,94.07,94.43,96.27,100,103.5,109.44,113.07,"...","..."]
["WZ08-23","H.v.Glas,-waren,Keramik,Verarb. v.Steinen u.Erden",99.74,101.59,104.16,112.33,112.62,105.39,103.21,104.52,106.91,108.4,102.65,98.36,97.98,99.23,97.45,106.07,106.84,103.82,85.16,93.1,102.39,100.98,100.83,106.32,100,103.99,105.27,109.54,"...","..."]
["WZ08-24-01","Metallgewerbe",83.47,80.41,77.97,79.89,80.430000000000007,77.83,79.94,83.2,84.88,89.44,90.87,87.19,87.22,88.05,87.67,95.31,97.48,96.88,73.63,85.53,96.61,95.75,96.69,99.65,100,101.96,103.57,105.66,"...","..."]
["WZ08-24","Metallerzeugung und -bearbeitung",107.78,107.8,101.72,99.84,99.35,98.82,101.76,106.79,107.72,106.18,111.51,115.3,108.3,102.88,98.33,100.18,103.03,103.02,86.9,84.31,94.92,98.37,98.91,101.94,100,99.29,98.55,100.4,"...","..."]
["WZ08-25","Herstellung von Metallerzeugnissen",76.37,71.98,70.83,74.05,74.94,71.489999999999995,73.33,76.03,77.989999999999995,84.47,84.55,78.349999999999994,80.62,83.56,84.82,95.16,97.07,96.13,68.78,86.15,97.43,94.73,95.85,98.77,100,103.02,105.52,107.71,"...","..."]
["WZ08-26","H.v. DV-Geräten, elektron. u. opt. Erzeugnissen",24.2,22.9,20.55,21,20.55,19.309999999999999,20.75,21.76,24.55,32.549999999999997,32.94,34.25,37.71,43.39,47.59,55.08,70.72,73.790000000000006,59.45,71,84.47,85.41,86.48,91.62,100,105.45,106.14,114.11,"...","..."]
["WZ08-27","Herstellung von elektrischen Ausrüstungen",110.58,109.87,101.13,102.59,96.77,94.5,94.96,93.69,96.95,106.16,95.17,94.66,93.98,101.15,97.43,107.79,101.4,102.34,88.56,103.02,108.27,103.45,101.79,105.66,100,101.8,106.16,107.93,"...","..."]
["WZ08-28","Maschinenbau",105.04,97.16,85.49,85.65,89.6,86.41,87.74,91.88,88.08,94.52,95.67,91.05,90.15,95.65,96.3,102.92,109.69,109.94,79.05,91.61,102.61,100.02,97.74,100.23,100,100.17,106.76,109.86,"...","..."]
["WZ08-29-01","Fahrzeugbau",59.21,59.62,47.7,49.9,51.79,50.14,54.46,57.87,57.02,56.04,63.41,62.38,65.709999999999994,64.180000000000007,65.11,73.17,79.319999999999993,73.459999999999994,55.11,76.59,87.21,87.75,88.78,99.58,100,108.29,116.02,114.81,"...","..."]
["WZ08-29","Herstellung von Kraftwagen und Kraftwagenteilen",59.76,59.63,47.88,50.92,53.95,51,54.9,58.32,56.22,55.3,62.61,61.71,65.819999999999993,64.900000000000006,64.45,73.42,79.67,72.86,52.67,75.16,86.88,86.83,88.56,99.67,100,108.69,114.95,116.03,"...","..."]
["WZ08-30","Sonstiger Fahrzeugbau",58.25,61.89,48.42,45.4,39.96,46.61,53.98,57.52,65.73,64.2,72.41,70.23,66.8,59.91,73.099999999999994,73.38,78.89,81.150000000000006,77.3,89.59,90.1,96.07,90.72,98.79,100,104.73,125.46,104.52,"...","..."]
["WZ08-31-01","Möbelherstellung, Installation von Maschinen",85.68,86.93,79.88,78.02,76.599999999999994,75.69,78.959999999999994,79.81,81.599999999999994,85.71,86.1,81.77,84.82,87.4,92.63,99.56,102.42,96.24,86.39,94.5,102.05,100.12,95.72,97.5,100,97.8,100.81,96.57,"...","..."]
["WZ08-31-02","Herstellung von Möbeln und sonstigen Waren",122.56,123.97,112.56,105.12,101.75,100.23,101.52,100.66,98.93,101.62,101.6,92.25,93.68,92.72,93.83,103.74,102.91,97.31,83.87,95.92,105.06,101.58,96.23,98.57,100,98.53,108.03,103.1,"...","..."]
["WZ08-33","Reparatur u.Installation von Masch.u.Ausrüstungen",47.23,48.14,45.11,47.47,47.71,47.41,52.09,54.42,59.43,64.75,65.599999999999994,67.37,72.39,79.67,90.75,93.19,101.6,94.56,90.05,92.38,97.56,97.97,94.96,95.93,100,96.71,90.25,86.99,"...","..."]
["WZ08-D","Energieversorgung",74.790000000000006,73.33,74.22,73.41,80.290000000000006,93.51,90.91,92.09,91.73,90.93,89.74,92.8,90.17,100.02,97.84,83.13,90.91,93.61,104.58,107.98,87.1,104.78,99.28,96.08,100,112.02,126.37,122.02,114.39,"..."]
["WZ08-E","Wasserversorg.,Entsorg.,Beseitig.v.Umweltverschm.",102.04,101.7,98.22,95.36,91.18,83.77,78.8,77.92,76.39,75.44,73.099999999999994,74.739999999999995,74.989999999999995,76.17,77.81,70.89,71.41,75.56,82.3,77.81,78.37,81.88,85.19,93.08,100,105.29,103.81,111.75,111.87,"..."]
["WZ08-36","Wasserversorgung",106.85,107.37,100.73,111.59,106.5,102.4,112.48,119.94,119.08,118,119.74,118.95,119.88,121.5,120.05,117.27,118.13,119.48,97.66,100.25,104.57,99.56,99.72,99.72,100,104.3,100.33,103.49,"...","..."]
["WZ08-37-01","Abwasser-, Abfallentsorgung, Rückgewinnung",104.02,103.42,100.7,94.1,90.02,81.61,72.97,70.2,68.5,67.569999999999993,64.319999999999993,66.489999999999995,66.599999999999994,67.7,69.989999999999995,62.14,62.59,67.23,79.45,73.319999999999993,73.13,78.19,82.1,91.64,100,105.52,104.65,113.68,"...","..."]
["WZ08-F","Baugewerbe",124.49,132.88,132.76,139.63999999999999,135.06,128.02000000000001,125.41,121.36,120.41,117.92,110.64,105.91,101.05,98.02,93.99,93.94,93.23,92.72,89.74,96.61,99.96,98.72,96.28,100.13,100,101.89,101.95,103.66,107.25,110.25]
["WZ08-G-04","Dienstleistungsbereiche",65.739999999999995,68.319999999999993,69.41,70.930000000000007,73.099999999999994,75.180000000000007,76.739999999999995,79.180000000000007,80.900000000000006,83.08,85.73,86.63,85.89,86.48,87.48,90.45,93.32,95.04,92.16,92.6,95.82,96.54,97.47,98.64,100,101.51,104.04,105.83,107.6,102.94]
["WZ08-G-01","Handel, Verkehr, Gastgewerbe",70.760000000000005,71.040000000000006,69.5,70.739999999999995,71.88,71.8,72.89,75,75.66,78.28,81.83,82.88,84.46,86.65,88.82,96.05,98.29,98.86,92.9,91,94.85,97.48,96.73,98.47,100,102.25,105.03,107.49,109.74,103.04]
["WZ08-G","Handel, Instandhaltung und Reparatur von Kfz",69.09,70.430000000000007,68.37,69.16,69.849999999999994,69,69.92,72.88,72.81,76.13,80.790000000000006,82.23,85.16,86.19,88.16,96.87,97.02,96.75,91.02,88.2,92.3,96.02,94.39,97.66,100,103.47,106.41,107.8,110.89,112.73]
["WZ08-45","Kfz-Handel, Instandhaltung und Reparatur von Kfz",68.31,69.2,57.7,58.64,59.06,59.37,61.99,64.72,68.3,68.83,68.67,73.17,85.54,91.65,92.1,98.72,94.88,98,97.25,88.62,98.07,96.03,94.13,98.42,100,107.5,105.49,104.81,"...","..."]
["WZ08-46","Großhandel (ohne Handel mit Kraftfahrzeugen)",58.35,59.18,61.26,60.54,60.36,59.1,60.17,64.52,61.94,67.52,77.11,81.53,83,83.65,90.16,103.26,104.87,104.05,90.43,85.84,91.81,100.09,97.79,100.98,100,102.17,106.82,110.35,"...","..."]
["WZ08-47","Einzelhandel (ohne Handel mit Kraftfahrzeugen)",82.49,84.77,81.510000000000005,84.4,86.63,85.83,85.64,86.67,88.31,89.96,91.13,87.41,86.85,85.78,83.49,88.39,88.95,87.68,89.21,91.71,90.46,90.5,89.92,92.82,100,103.35,106.26,105.64,"...","..."]
["WZ08-H","Verkehr und Lagerei",65.599999999999994,63.43,62.94,64.77,67.72,70.42,72.02,71.98,74.959999999999994,75.41,76.92,79.62,78.849999999999994,84.41,87.75,93.68,98.95,102.47,96.8,97.65,100.05,100.08,102.68,100.3,100,99.58,101.73,106.14,106.35,96.13]
["WZ08-49","Landverkehr und Transport in Rohrfernleitungen",87.96,81.98,80.959999999999994,83.81,94.46,98.89,94,93.68,97.76,91.58,89.45,87.18,82.88,83.22,86.9,95.06,96.85,99.03,91.03,93.63,98.94,100.37,100.15,102.73,100,98.22,101.02,104.87,"...","..."]
["WZ08-50","Schifffahrt",20.29,20.6,23.13,24.3,24.14,28.41,40.54,34.729999999999997,42.09,41.45,52.02,64.44,52.24,73.22,83.9,72.53,107.69,167.37,218.09,146.55000000000001,156.46,146.88999999999999,157.63999999999999,100.26,100,96.95,69.19,68.819999999999993,"...","..."]
["WZ08-51","Luftfahrt",100.96,119.37,147.72999999999999,151.53,140.83000000000001,152.19999999999999,160.97999999999999,159.30000000000001,162.49,190.2,144.36000000000001,131.82,134.72999999999999,157.80000000000001,155.9,182.67,202.91,171.67,132.94999999999999,183.72,155.13999999999999,131.08000000000001,143.26,78.400000000000006,100,85.45,92.33,102.1,"...","..."]
["WZ08-52","Lagerei, sonstige Dienstleistungen für den Verkehr",45.95,45.55,45.2,47.39,46.23,47.9,52.88,56.06,58.3,60.99,67.88,74.64,77.3,87.76,92.55,100.85,103.1,101.36,88.32,93.64,94.91,96.28,99.2,101.83,100,103.18,106.47,113.07,"...","..."]
["WZ08-53","Post-, Kurier- und Expressdienste",100.68,97.19,87.7,86.39,83.79,82.49,81.36,78.17,78.36,83.11,82.12,84.57,88.42,84.97,81.900000000000006,82.66,88.17,92.5,98.61,86.98,88.68,89.61,94.47,97.89,100,101.89,104.18,103.42,"...","..."]
["WZ08-I","Gastgewerbe",105.14,106.24,105.23,108.13,105.88,102.27,102.93,104.96,103.76,107.9,108.89,100.32,98.93,98.4,98.24,98.28,105.64,102.67,94.02,90.53,96.9,99.42,94.5,98.34,100,102.45,106.03,109.56,112.27,63.17]
["WZ08-J","Information und Kommunikation",27.8,30.64,32.700000000000003,32.6,34.450000000000003,36.4,40.15,45.76,49.15,52.9,58.62,61.01,55.93,60.92,60.1,66.040000000000006,74.55,77.400000000000006,76.540000000000006,75.98,84.93,88.28,93.45,98.62,100,103.03,108.18,115.8,120.15,119.05]
["WZ08-58-01","Verlagswesen, audio-visual media and Rundfunk",79.95,93.67,94.44,92.24,95.22,93.72,99.25,105.28,106.44,106.41,104.78,96.86,94.23,99.64,102.47,104.6,108.72,102.7,99.18,95.61,100.79,101.33,104.77,104.05,100,99.05,97.52,97.91,"...","..."]
["WZ08-58","Verlagswesen",161.68,163.80000000000001,154.28,144.02000000000001,145.58000000000001,141.44,139.08000000000001,132.78,131.66,133.38999999999999,121.85,111.46,104.87,104.96,102.36,103.89,110.55,119.16,106.26,103.57,114.61,112.15,108.94,105.31,100,95.1,91.85,88.58,"...","..."]
["WZ08-59-01","Audiovisuelle Medien und Rundfunk",44.76,60.79,65.02,66.09,69.44,69.11,77.7,88.7,90.88,89.96,93.51,87.08,86.86,95.61,102.25,104.81,106.93,88.99,93.17,88.83,88.87,91.96,101.09,102.91,100,102.73,102.83,106.97,"...","..."]
["WZ08-61","Telekommunikation",26.38,28.38,30.89,32.14,34.340000000000003,36.65,41.05,46.43,52.61,57,66.02,74.64,62.25,72.48,64.239999999999995,73.23,79.36,86.43,87.52,85.66,91.17,91.51,87.5,94.44,100,97.8,106.88,106.42,"...","..."]
["WZ08-62-01","IT- und Informationsdienstleister",14.62,15.49,17.2,16.32,17.440000000000001,19.82,22.42,27.99,29.8,34.11,39.85,41.51,40.14,41.79,44.31,49.47,60.64,64.02,63.06,64.2,76.05,81.69,91.19,98.04,100,106.68,113.33,127.08,"...","..."]
["WZ08-K","Erbringung von Finanz- und Versicherungsleistungen",126.33,129.30000000000001,135.9,136.63999999999999,131.38,132.16,133.74,136.07,146.29,135.07,143.11000000000001,134.69999999999999,113.71,104.79,102.71,100.36,102.27,100.59,96.57,100.02,102.03,100.15,106.35,100.9,100,96.7,100.77,97.11,99.09,98.93]
["WZ08-64","Erbringung von Finanzdienstleistungen",90.7,89.45,93.57,95.45,92.19,96.62,103.27,108.62,113.8,111.82,102.18,100.31,95.27,95.66,93.06,98.03,98.47,99.47,91.76,93.58,94.14,98.17,100.21,100.37,100,99.59,98.11,95.56,"...","..."]
["WZ08-65","Versicherungen, Rückversicherungen, Pensionskassen",556.97,591.46,665.63,664.98,628.89,581.69000000000005,512.29999999999995,491.76,613.46,444.54,654.36,496.01,252.6,153.47,152.83000000000001,116.51,129.18,115.85,112.23,122.32,136.44999999999999,111.64,141.80000000000001,107.13,100,88.13,112.72,110.98,"...","..."]
["WZ08-66","Mit Finanz- u. Versicherungsdienstl. verb. Tätigk.",249.16,297.81,279.77,256.41000000000003,247.36,225.17,209.81,195.24,165.39,157.41999999999999,163.84,176.58,159.88,132.02000000000001,131.61000000000001,117.01,110.73,112.22,124.65,127.86,120.37,105.7,97.1,95.33,100,96.38,88.38,78.53,"...","..."]
["WZ08-L","Grundstücks- und Wohnungswesen",50.68,53.19,55.74,58.9,64.44,70.11,72.42,75.010000000000005,74.5,77.290000000000006,80.47,82.86,84.61,85.05,86.89,89.13,91.72,93.1,94.87,93.79,97.98,95.58,98.09,98.63,100,100.56,100.42,100.75,101.77,101.28]
["WZ08-M-02","Unternehmensdienstleister",62.63,66.02,68.650000000000006,68.650000000000006,71.44,73.22,73.5,76.64,79.819999999999993,84.07,85.88,86.34,86.57,85.88,87.73,90.02,95.04,97.25,87.16,90.3,92.59,94,95.26,98.02,100,102.24,107.16,109.76,110.78,101.85]
["WZ08-M","Freiberufliche, wiss. u. techn. Dienstleistungen",69.5,73.58,78.790000000000006,79.39,82.27,83.17,82.41,85.15,89.22,93.67,96.64,97.17,97.36,94.24,95.22,98.7,101.85,103.89,91.7,93.18,94.04,97,97.67,97.34,100,102.27,108.64,109.97,112.46,"..."]
["WZ08-69-01","Unternehmensnahe Beratungsleistungen",63.5,67.72,73.97,75.27,78.41,80.55,78.38,83.16,88.59,92.51,99.22,101.32,101.8,97.57,99.14,102.62,105.55,107.98,93.17,94.71,95.53,98.55,97.67,97.59,100,100.53,110.82,112.14,"...","..."]
["WZ08-69-02","Rechts- und Steuerberatung, Unternehmensberatung",57.58,59.24,67.680000000000007,67.709999999999994,71.36,74.260000000000005,72.489999999999995,78.02,84.94,89.77,97.99,102.48,103.6,100.07,101.4,105.16,110.08,113.19,94.6,97.82,98.39,101.16,98.73,99.68,100,102.51,114.27,118.74,"...","..."]
["WZ08-71","Architektur-,Ing.büros,techn.,physik.Untersuchung",78.36,88.75,90.22,94.39,96.52,97.07,93.96,97.05,99.02,100.79,103.93,100.11,98.99,92.95,95.12,97.97,96.05,96.87,90.81,88.54,89.89,93.43,95.69,93.55,100,96.68,104.13,99.38,"...","..."]
["WZ08-72","Forschung und Entwicklung",51.1,51.76,53.04,52.82,55.49,57.72,58.75,63.04,66.040000000000006,73.11,69.98,72.05,74.849999999999994,74.92,76.08,75.819999999999993,80.819999999999993,82.99,85.36,86.79,87.76,89.87,92.97,93.87,100,99.83,103.41,104.66,"...","..."]
["WZ08-73-01","Sonst.freiberufl., wissenschaftl., techn. Dienstl.",117.86,124.35,127.46,124.97,126.56,119.41,124.41,115.27,113.41,118.14,108.26,99.89,96.54,95.56,93.82,100.45,102.96,103.23,90.49,91.75,92.7,96.09,101.84,99.21,100,113.06,103.16,104.59,"...","..."]
["WZ08-73","Werbung und Marktforschung",132.87,131.97999999999999,140.97,142.57,143.97999999999999,135.56,139.38999999999999,127.49,131.15,135.53,119.5,102.82,105.21,107.48,101.35,111.14,113.7,115.55,94.62,97.12,98.48,96.83,105.24,101.86,100,99.33,96.07,88.99,"...","..."]
["WZ08-74-01","Freiberufl.,wiss.,techn.DL a.n.g., Veterinärwesen",101.63,116.39,112.83,105.7,107.5,101.72,107.93,101.76,94.03,99.17,96.11,96.88,87.35,82.94,85.64,89.03,91.49,89.97,86.22,86.15,86.65,95.32,98.34,96.49,100,127.21,110.48,120.88,"...","..."]
["WZ08-N","Sonstige wirtschaftliche Dienstleistungen",54.23,56.71,55.84,55,57.71,60.68,62.4,66.13,68.14,72.17,72.459999999999994,72.83,73.13,75.48,78.430000000000007,79.239999999999995,86.55,88.96,81.52,86.71,90.77,90.28,92.25,98.89,100,102.2,105.3,109.48,108.68,"..."]
["WZ08-77","Vermietung von beweglichen Sachen",60.31,63.1,62.16,61.93,64.489999999999995,70.989999999999995,74.11,81.849999999999994,84.64,95.26,94.23,98.3,98.94,99.26,100.17,99.12,108.16,105.36,94.55,93.73,95.88,90.64,89.71,96.69,100,106.94,109.02,111.59,"...","..."]
["WZ08-78","Vermittlung und Überlassung von Arbeitskräften",13.83,14.69,15.39,15.12,17.829999999999998,19.88,22.14,26.19,28.69,35.69,37.58,33.11,35.229999999999997,38.06,41.27,54.09,65.25,71.17,60.24,79.180000000000007,92.28,90.46,96.83,100.29,100,89.7,93.57,89.19,"...","..."]
["WZ08-79","Reisebüros, -veranstalter u. sonst. Reservierungen",80.36,90.68,103.42,120.4,123.28,123.93,132.76,134.96,137.38,118.72,118.02,89.18,86.83,108.64,99.95,83.04,83.71,88.88,76.25,94.4,93.78,89.49,90.93,94.06,100,99.83,96.88,99.56,"...","..."]
["WZ08-80-01","Unternehmensdienstleister a.n.g.",70.48,72.69,69.180000000000007,64.95,67.989999999999995,67.84,66.91,66.5,67.38,65.59,66.319999999999993,70.040000000000006,69.319999999999993,70.59,76.87,74.8,79.22,83.99,82.25,83.5,84.96,89.81,91.86,100.49,100,105.91,110.01,120.44,"...","..."]
["WZ08-O-03","Öffentliche Dienstleister, Erziehung, Gesundheit",72.510000000000005,75.75,76.41,78.27,79.849999999999994,81.81,83.35,84.14,85.25,86.59,86.94,88.35,88.44,88.4,88.75,88.99,89.89,92.81,94.41,96.07,97.72,98.41,97.57,98.65,100,102.49,104.19,105.66,107.39,104.22]
["WZ08-O","Öff. Verwaltung, Verteidigung, Sozialversicherung",84.34,86.5,85.99,88.77,90.31,90.96,91.06,91.59,92.55,93.23,93.71,93.69,92.83,92.05,91.88,92.57,93.12,94.5,95.96,97.78,97.86,97.45,98.27,98.97,100,102.37,104.5,106.68,108.73,"..."]
["WZ08-P","Erziehung und Unterricht",96.22,100.65,101.81,101.67,102.45,102.57,103.09,103.48,103.07,104.2,102.34,102.18,102.29,102.41,101.67,101.06,99.83,99.73,99.62,99.27,100.42,99.52,98.34,98.65,100,103.87,102.76,101.82,101.84,"..."]
["WZ08-Q","Gesundheits- und Sozialwesen",51.02,54.57,55.94,57.84,59.76,63.44,66.510000000000005,67.680000000000007,69.599999999999994,71.55,72.86,76.209999999999994,77.06,77.56,78.88,79.19,81.47,87.28,89.99,92.69,95.98,98.61,96.52,98.37,100,101.75,104.78,107.14,109.68,"..."]
["WZ08-86","Gesundheitswesen",54.66,58.53,60.06,61.71,63.42,65.64,69.53,70.41,72.19,74.180000000000007,75.95,79.61,80.709999999999994,80.95,81.62,81.48,83.81,91.02,93.31,95.93,99.55,101.75,98.11,99,100,100.78,102.9,105.08,"...","..."]
["WZ08-87-01","Heime und Sozialwesen",41.62,44.31,45.26,47.88,50.42,58.38,59.21,61.16,63.47,65.33,65.48,68.069999999999993,68.3,69.41,72.319999999999993,73.77,75.94,78.31,81.99,84.9,87.39,91.02,92.55,96.81,100,104.18,109.55,112.35,"...","..."]
["WZ08-R-02","Sonstige Dienstleister",89.36,95.48,92.9,96.75,96.76,97.77,96.99,97.79,99.5,102.65,101.17,99.14,98.38,100.69,101.71,104.2,104.5,107.18,101.68,101.02,102.04,101.6,99.96,98.68,100,98.23,99.44,101.02,102.14,90.5]
["WZ08-R","Kunst, Unterhaltung und Erholung",88.09,95.23,88.71,89.01,88.06,88.57,87.59,90.53,94.49,99.07,95.84,93.72,91.83,92.49,94.04,94.12,95.75,96.94,95.58,94.45,97.39,98.3,96.11,96.61,100,99.61,103.16,105.84,107.46,"..."]
["WZ08-90-01","Kunst und Kultur, Glücksspiel",107.98,116.21,105.82,102.52,100.92,100.77,97.94,100.58,103.74,106.35,101.14,96.86,94.48,96.05,97.32,96.71,100.15,100.92,100.38,99.15,99.93,102.1,96.83,95.83,100,100.41,103.38,104.6,"...","..."]
["WZ08-93","Dienstleistungen d.Sports,d.Unterhaltg.u.Erholung",58.41,63.92,63.33,69.180000000000007,69.2,70.73,72.56,76,81.239999999999995,88.89,88.65,89.9,88.74,88.06,90.03,91.09,90.18,91.93,89.47,88.48,94.2,93.53,95.19,97.64,100,98.58,102.88,107.41,"...","..."]
["WZ08-S","Erbringung von sonstigen Dienstleistungen",90.85,96.9,95.77,101.84,102.19,103.47,102.29,101.67,101.89,104.38,103.77,101.75,101.32,104.74,105.62,109.57,108.87,112.75,104.24,104.44,104.3,103.39,102.07,99.76,100,97.06,97.04,98.23,99.18,"..."]
["WZ08-94","Interessenvertr., kirchl. u. sonst. Vereinigungen",66.23,73.540000000000006,76.58,81.02,86.87,90.76,92.1,94.77,97.65,101.04,100.21,99.67,97.6,98.14,95.22,96.03,97.45,99.01,99.8,100.2,100.3,101.42,99.98,99.87,100,101.61,103.8,105.94,"...","..."]
["WZ08-95","Reparatur von DV-Geräten und Gebrauchsgütern",100.91,101.01,96.6,107.13,113.6,135.37,139.79,141.56,130.34,136.99,128.84,105.53,97.98,105.21,112.9,128.19,109.27,123.39,102.9,103.6,97.96,103.65,100.99,100.67,100,97.91,98.77,93.86,"...","..."]
["WZ08-96","Sonstige überwiegend persönliche Dienstleistungen",112.94,117.85,112.78,120.09,114.87,112.68,108.98,105.38,103.95,105.47,105.4,103.18,104.39,110.04,113.79,119.79,118.21,123.49,108.04,108.05,107.98,105.04,103.88,99.62,100,93.32,91.49,92.21,"...","..."]
["WZ08-T","Private Haushalte",85.45,87.2,91.01,91.84,93.57,94.56,98.56,101.69,105.67,107.74,106.88,105.15,107.36,107.45,107.06,108.48,111.23,110.51,111.17,104.62,106.42,102.96,101.13,99.88,100,101.71,101.84,101.12,101.15,"..."]
["WZ08-A-02","Alle Wirtschaftsbereiche",71.989999999999995,73.37,72.599999999999994,74.12,75.459999999999994,76.209999999999994,77.760000000000005,79.45,80.8,83.42,85.1,85.15,84.62,86,86.59,89.95,93.14,94.12,88.27,92.12,95.68,96.19,96.63,98.81,100,102.25,105.02,106.38,106.85,101.26]
[]
["Bruttoanlagevermögen (jew. ME)"]
["Wirtschaftsbereiche (WZ2008)",null,"1991","1992","1993","1994","1995","1996","1997","1998","1999","2000","2001","2002","2003","2004","2005","2006","2007","2008","2009","2010","2011","2012","2013","2014","2015","2016","2017","2018","2019"]
["Anlagen"]
["Wiederbeschaffungspreise (Mrd. EUR)"]
["WZ08-A","Land- und Forstwirtschaft, Fischerei",216.774,230.238,237.81,242.06200000000001,247.233,248.215,249.74299999999999,251.00399999999999,251.59299999999999,253.29400000000001,253.31299999999999,254.381,254.63200000000001,256.97699999999998,261.94,269.04300000000001,278.65800000000002,289.85700000000003,293.959,297.42899999999997,304.08600000000001,312.22300000000001,319.29899999999998,325.44099999999997,330.87200000000001,334.06799999999998,342.31200000000001,353.28100000000001,363.68599999999998]
["WZ08-01","Landwirtschaft, Jagd und verbundene Tätigkeiten",194.02,206.28299999999999,213.18799999999999,217.089,221.90199999999999,222.99199999999999,224.62700000000001,226.04300000000001,226.81700000000001,228.58799999999999,228.767,229.99199999999999,230.381,232.65100000000001,237.416,244.16499999999999,253.077,263.60399999999998,267.77499999999998,271.21600000000001,277.41199999999998,285.173,291.83100000000002,297.66000000000003,302.99099999999999,306.02100000000002,313.75900000000001,323.85700000000003,"..."]
["WZ08-021","Forstwirtschaft",19.260000000000002,20.303999999999998,20.896000000000001,21.213999999999999,21.526,21.446999999999999,21.363,21.231000000000002,21.082999999999998,21.026,20.888999999999999,20.757000000000001,20.637,20.693999999999999,20.85,21.128,21.704000000000001,22.262,22.198,22.181999999999999,22.556000000000001,22.869,23.219000000000001,23.489000000000001,23.579000000000001,23.725000000000001,24.155000000000001,24.920999999999999,"..."]
["WZ08-031","Fischerei",3.4940000000000002,3.6509999999999998,3.726,3.7589999999999999,3.8050000000000002,3.7759999999999998,3.7530000000000001,3.73,3.6930000000000001,3.68,3.657,3.6320000000000001,3.6139999999999999,3.6320000000000001,3.6739999999999999,3.75,3.8769999999999998,3.9910000000000001,3.9860000000000002,4.0309999999999997,4.1180000000000003,4.181,4.2489999999999997,4.2919999999999998,4.3019999999999996,4.3220000000000001,4.3979999999999997,4.5030000000000001,"..."]
["WZ08-B-05","Produzierendes Gewerbe",1646.029,1769.7539999999999,1859.6179999999999,1918.5730000000001,1973.104,2001.61,2028.68,2055.6190000000001,2076.6669999999999,2122.6129999999998,2155.8359999999998,2164.0140000000001,2168.4250000000002,2187.1280000000002,2197.0450000000001,2225.1619999999998,2299.7840000000001,2370.9070000000002,2381.4050000000002,2400.6410000000001,2424.5830000000001,2471.4479999999999,2502.2800000000002,2549.8470000000002,2598.0419999999999,2635.3029999999999,2721.741,2843.2240000000002,2949.9250000000002]
["WZ08-B-18","Produzierendes Gewerbe ohne Baugewerbe",1575.1079999999999,1691.134,1773.673,1827.009,1876.97,1902.6690000000001,1928.2639999999999,1953.9849999999999,1974.037,2018.9159999999999,2052.9650000000001,2063.3049999999998,2070.4450000000002,2091.395,2103.625,2133.558,2207.0859999999998,2277.7710000000002,2288.7460000000001,2307.79,2331.2370000000001,2375.9859999999999,2405.192,2450.2069999999999,2496.0329999999999,2530.6080000000002,2612.5210000000002,2727.7190000000001,2827.7489999999998]
["WZ08-B","Bergbau und Gewinnung von Steinen und Erden",47.719000000000001,49.966000000000001,50.957999999999998,50.587000000000003,50.631,49.718000000000004,48.633000000000003,47.575000000000003,46.322000000000003,45.280999999999999,38.280999999999999,36.960999999999999,35.701000000000001,34.991,34.771999999999998,35.054000000000002,35.695,36.03,35.383000000000003,35.075000000000003,34.64,33.988,33.292000000000002,33.067,32.125,31.472000000000001,31.137,31.186,31.132999999999999]
["WZ08-C","Verarbeitendes Gewerbe",1041.402,1108.221,1154.501,1178.6089999999999,1201.71,1218.78,1234.788,1253.124,1268.6579999999999,1296.2639999999999,1323.8589999999999,1334.3910000000001,1341.356,1348.6289999999999,1350.84,1361.921,1398.6559999999999,1435.49,1439.4,1450.0509999999999,1467.732,1497.0909999999999,1514.7539999999999,1541.682,1571.297,1595.6120000000001,1638.674,1701.903,1760.7660000000001]
["WZ08-10-01","Ernährungsgewerbe und Tabakverarbeitung",99.498000000000005,107.09,112.539,115.023,116.899,117.098,117.035,117.253,116.26600000000001,116.28100000000001,116.123,115.02800000000001,114.179,113.399,112.027,111.429,113.64,114.42700000000001,113.971,113.498,111.575,112.218,112.664,113.646,114.79300000000001,115.627,117.66200000000001,120.276,"..."]
["WZ08-13-01","Textil- und Bekleidungsgewerbe",37.765000000000001,39.19,40.014000000000003,39.960999999999999,39.520000000000003,38.472000000000001,37.802,37.063000000000002,36.011000000000003,35.234000000000002,34.192,32.722999999999999,31.434000000000001,30.42,29.192,28.283000000000001,28.122,27.47,26.594999999999999,25.812000000000001,25.18,24.643999999999998,24.001999999999999,23.544,23.143999999999998,22.597000000000001,22.507999999999999,22.594999999999999,"..."]
["WZ08-16-01","H.v. Holzwaren, Papier und Druckerzeugnissen",63.091000000000001,67.313999999999993,70.611000000000004,72.542000000000002,73.774000000000001,74.207999999999998,74.754000000000005,75.813000000000002,76.783000000000001,77.91,78.549000000000007,77.599999999999994,76.450999999999993,75.968999999999994,74.623999999999995,74.066999999999993,75.299000000000007,75.319000000000003,74.680000000000007,74.069999999999993,72.554000000000002,71.697000000000003,70.694000000000003,69.83,68.784999999999997,67.784000000000006,67.334000000000003,67.518000000000001,"..."]
["WZ08-16","H.v. Holz-, Flecht-, Korb-u.Korkwaren (ohne Möbel)",14.058,15.112,15.898,16.433,16.850999999999999,17.114999999999998,17.245999999999999,17.283999999999999,17.385999999999999,17.602,17.599,17.210999999999999,16.690999999999999,16.318999999999999,16.027999999999999,15.959,16.954000000000001,17.135000000000002,16.940000000000001,16.858000000000001,16.446000000000002,16.343,16.196000000000002,16.103000000000002,16.055,15.936,15.956,16.050999999999998,"..."]
["WZ08-17","Herstellung von Papier, Pappe und Waren daraus",27.963999999999999,29.826000000000001,31.361000000000001,32.049999999999997,32.406999999999996,32.408999999999999,32.625999999999998,33.276000000000003,33.951999999999998,34.466999999999999,34.851999999999997,34.683999999999997,34.816000000000003,35.189,34.847999999999999,34.524000000000001,34.701999999999998,34.83,34.433,34.143999999999998,33.518999999999998,33.232999999999997,32.868000000000002,32.499000000000002,31.966000000000001,31.577999999999999,31.413,31.844000000000001,"..."]
["WZ08-18","H.v. Druckerz., Vervielf.v.Ton-,Bild-,Datenträgern",21.068999999999999,22.376000000000001,23.352,24.059000000000001,24.515999999999998,24.684000000000001,24.882000000000001,25.253,25.445,25.841000000000001,26.097999999999999,25.704999999999998,24.943999999999999,24.460999999999999,23.748000000000001,23.584,23.643000000000001,23.353999999999999,23.306999999999999,23.068000000000001,22.588999999999999,22.120999999999999,21.63,21.228000000000002,20.763999999999999,20.27,19.965,19.623000000000001,"..."]
["WZ08-19","Kokerei und Mineralölverarbeitung",15.973000000000001,16.579000000000001,16.805,16.721,17.173999999999999,17.369,17.475000000000001,17.257999999999999,16.619,16.370999999999999,15.997,15.547000000000001,15.173999999999999,14.72,14.353,14.535,15.455,15.815,15.948,16.042000000000002,15.596,15.473000000000001,15.372,15.507,15.448,15.481,15.678000000000001,16.013999999999999,"..."]
["WZ08-20","Herstellung von chemischen Erzeugnissen",118.614,125.06399999999999,129.40100000000001,131.99600000000001,134.83099999999999,137.75299999999999,140.375,143.524,145.90899999999999,150.11199999999999,153.40100000000001,155.56100000000001,156.54400000000001,157.12299999999999,157.685,158.35400000000001,161.178,164.416,164.523,165.28899999999999,167.136,168.75299999999999,169.19499999999999,170.65,171.59200000000001,171.523,173.59899999999999,176.959,"..."]
["WZ08-21","Herstellung von pharmazeutischen Erzeugnissen",52.966000000000001,56.311999999999998,59.112000000000002,61.54,64.043999999999997,66.614999999999995,68.873000000000005,71.111999999999995,73.076999999999998,76.334000000000003,79.224999999999994,81.909000000000006,84.661000000000001,87.18,89.408000000000001,92.391999999999996,95.811000000000007,99.608000000000004,101.429,103.996,107.47199999999999,110.62,113.37,117.125,120.934,124.985,128.38900000000001,135.32599999999999,"..."]
["WZ08-22-01","H.v. Gummi-, Kunststoff-, Glaswaren, Keramik u.Ä.",77.16,83.016000000000005,87.819000000000003,90.884,93.694000000000003,95.441000000000003,97.378,99.028000000000006,99.927999999999997,101.592,102.563,101.58499999999999,100.55500000000001,99.706999999999994,98.59,98.316999999999993,100.17700000000001,101.65900000000001,100.86499999999999,100.13500000000001,99.554000000000002,100.381,100.423,101.057,102.34099999999999,103.04,104.938,107.824,"..."]
["WZ08-22","Herstellung von Gummi- und Kunststoffwaren",35.031999999999996,37.799999999999997,39.869,41.082000000000001,42.366,43.185000000000002,44.526000000000003,45.73,46.901000000000003,48.421999999999997,49.607999999999997,49.826999999999998,50.259,50.677,50.819000000000003,51.448,53.305999999999997,54.898000000000003,55.054000000000002,55.283999999999999,55.652000000000001,56.963000000000001,57.604999999999997,58.698999999999998,60.353000000000002,61.43,63.033999999999999,65.108999999999995,"..."]
["WZ08-23","H.v.Glas,-waren,Keramik,Verarb. v.Steinen u.Erden",42.128,45.216000000000001,47.95,49.802,51.328000000000003,52.256,52.851999999999997,53.298000000000002,53.027000000000001,53.17,52.954999999999998,51.758000000000003,50.295999999999999,49.03,47.771000000000001,46.869,46.871000000000002,46.761000000000003,45.811,44.850999999999999,43.902000000000001,43.417999999999999,42.817999999999998,42.357999999999997,41.988,41.61,41.904000000000003,42.715000000000003,"..."]
["WZ08-24-01","Metallgewerbe",115.836,121.764,125.402,125.94799999999999,126.456,126.419,126.56,127.961,129.512,131.04400000000001,132.38900000000001,131.66200000000001,130.328,129.21899999999999,128.672,130.048,134.428,139.096,139.322,139.40899999999999,139.84100000000001,141.50700000000001,142.40100000000001,143.35599999999999,144.34100000000001,145.15100000000001,146.96700000000001,150.244,"..."]
["WZ08-24","Metallerzeugung und -bearbeitung",58.393999999999998,60.384999999999998,61.421999999999997,60.994999999999997,60.222999999999999,59.356000000000002,58.52,58.283000000000001,58.098999999999997,57.826999999999998,57.616,56.732999999999997,55.807000000000002,54.841000000000001,54.366999999999997,54.895000000000003,56.624000000000002,58.307000000000002,58.145000000000003,58.061,58.228999999999999,58.484999999999999,58.728000000000002,58.76,58.503999999999998,58.218000000000004,58.372,59.18,"..."]
["WZ08-25","Herstellung von Metallerzeugnissen",57.442,61.378999999999998,63.98,64.953000000000003,66.233000000000004,67.063000000000002,68.040000000000006,69.677999999999997,71.412999999999997,73.216999999999999,74.772999999999996,74.929000000000002,74.521000000000001,74.378,74.305000000000007,75.153000000000006,77.804000000000002,80.789000000000001,81.177000000000007,81.347999999999999,81.611999999999995,83.022000000000006,83.673000000000002,84.596000000000004,85.837000000000003,86.933000000000007,88.594999999999999,91.063999999999993,"..."]
["WZ08-26","H.v. DV-Geräten, elektron. u. opt. Erzeugnissen",78.227000000000004,82.796000000000006,86.093000000000004,87.893000000000001,89.632000000000005,91.238,92.293000000000006,93.400999999999996,94.86,98.691999999999993,103.82899999999999,105.44799999999999,105.852,107.29300000000001,108.76,110.992,114.71599999999999,117.736,117.011,117.964,121.056,123.54600000000001,124.15300000000001,125.04900000000001,125.931,125.75,126.878,129.96899999999999,"..."]
["WZ08-27","Herstellung von elektrischen Ausrüstungen",65.826999999999998,70.364000000000004,73.402000000000001,74.915000000000006,76.155000000000001,76.367000000000004,76.040999999999997,75.989000000000004,75.575000000000003,75.986000000000004,76.522999999999996,75.986000000000004,74.534000000000006,73.397000000000006,72.456999999999994,71.899000000000001,72.655000000000001,73.596000000000004,73.146000000000001,72.831000000000003,73.411000000000001,74.778999999999996,75.356999999999999,75.757999999999996,76.442999999999998,77.367999999999995,78.947000000000003,81.382000000000005,"..."]
["WZ08-28","Maschinenbau",126.441,133.886,138.126,139.49,141.27199999999999,142.43600000000001,143.523,145.41999999999999,147.251,150.06299999999999,152.56,153.27600000000001,153.43100000000001,154.05600000000001,154.40100000000001,156.149,161.858,168.697,170.28,172.005,175.10599999999999,179.57400000000001,182.29900000000001,186.434,190.43299999999999,193.352,199.012,207.08099999999999,"..."]
["WZ08-29-01","Fahrzeugbau",147.08799999999999,158.959,167.40799999999999,172.79900000000001,178.30699999999999,184.935,191.79900000000001,198.23099999999999,205.714,215.04,226.65100000000001,236.56100000000001,247.31700000000001,255.577,260.43900000000002,265.22399999999999,273.762,284.74599999999998,288.14999999999998,294.66399999999999,303.565,316.85000000000002,326.83999999999997,340.33499999999998,355.51400000000001,370.05900000000003,392.57400000000001,420.65199999999999,"..."]
["WZ08-29","Herstellung von Kraftwagen und Kraftwagenteilen",125.31,135.1,141.785,145.62,149.483,154.74700000000001,160.358,165.93100000000001,172.83,181.386,192.328,201.947,212.66900000000001,221.41200000000001,226.83600000000001,232.196,240.96899999999999,252.12299999999999,256.24,263.32799999999997,272.33699999999999,285.363,295.63200000000001,309.18099999999998,324.04599999999999,338.32100000000003,360.387,387.61700000000002,"..."]
["WZ08-30","Sonstiger Fahrzeugbau",21.777999999999999,23.859000000000002,25.623000000000001,27.178999999999998,28.824000000000002,30.187999999999999,31.440999999999999,32.299999999999997,32.884,33.654000000000003,34.323,34.613999999999997,34.648000000000003,34.164999999999999,33.603000000000002,33.027999999999999,32.792999999999999,32.622999999999998,31.91,31.335999999999999,31.228000000000002,31.486999999999998,31.207999999999998,31.154,31.468,31.738,32.186999999999998,33.034999999999997,"..."]
["WZ08-31-01","Möbelherstellung, Installation von Maschinen",42.915999999999997,45.887,47.768999999999998,48.896999999999998,49.951999999999998,50.429000000000002,50.88,51.070999999999998,51.152999999999999,51.604999999999997,51.856999999999999,51.505000000000003,50.896000000000001,50.569000000000003,50.231999999999999,50.231999999999999,51.555,52.905000000000001,53.48,54.335999999999999,55.686,57.048999999999999,57.984000000000002,59.390999999999998,61.597999999999999,62.895000000000003,64.188000000000002,66.063000000000002,"..."]
["WZ08-31-02","Herstellung von Möbeln und sonstigen Waren",33.377000000000002,35.688000000000002,37.097999999999999,37.938000000000002,38.615000000000002,38.923999999999999,39.313000000000002,39.472999999999999,39.499000000000002,39.787999999999997,39.863,39.484999999999999,38.901000000000003,38.566000000000003,38.186999999999998,38.049999999999997,38.965000000000003,39.762999999999998,39.835000000000001,40.241,40.908000000000001,41.777000000000001,42.348999999999997,43.329000000000001,44.436,44.932000000000002,46.325000000000003,48.213999999999999,"..."]
["WZ08-33","Reparatur u.Installation von Masch.u.Ausrüstungen",9.5389999999999997,10.199,10.670999999999999,10.959,11.337,11.505000000000001,11.567,11.598000000000001,11.654,11.817,11.994,12.02,11.994999999999999,12.003,12.045,12.182,12.59,13.141999999999999,13.645,14.095000000000001,14.778,15.272,15.635,16.062000000000001,17.161999999999999,17.963000000000001,17.863,17.849,"..."]
["WZ08-D","Energieversorgung",217.553,235.74100000000001,249.803,260.40600000000001,269.238,273.24400000000003,276.94400000000002,280.35000000000002,281.42399999999998,287.90800000000002,295.745,295.61799999999999,294.67399999999998,298.47699999999998,301.41699999999997,308.26499999999999,321.92,335.89600000000002,340.82299999999998,346.46499999999997,340.74,348.27499999999998,354.32,363.85399999999998,373.62799999999999,380.50599999999997,398.21199999999999,420.75900000000001,438.87599999999998]
["WZ08-E","Wasserversorg.,Entsorg.,Beseitig.v.Umweltverschm.",268.43400000000003,297.20600000000002,318.411,337.40699999999998,355.39100000000002,360.92700000000002,367.899,372.93599999999998,377.63299999999998,389.46300000000002,395.08,396.33499999999998,398.714,409.298,416.596,428.31799999999998,450.815,470.35500000000002,473.14,476.19900000000001,488.125,496.63200000000001,502.82600000000002,511.60399999999998,518.98299999999995,523.01800000000003,544.49800000000005,573.87099999999998,596.97400000000005]
["WZ08-36","Wasserversorgung",46.100999999999999,50.55,53.600999999999999,56.811,59.555999999999997,60.863999999999997,62.643000000000001,64.850999999999999,66.814999999999998,70.247,72.370999999999995,73.668000000000006,74.994,77.801000000000002,80.028999999999996,83.046999999999997,87.924999999999997,92.584000000000003,93.685000000000002,94.656999999999996,97.635999999999996,99.649000000000001,101.449,103.848,106.03700000000001,107.515,112.711,119.496,"..."]
["WZ08-37-01","Abwasser-, Abfallentsorgung, Rückgewinnung",222.333,246.65600000000001,264.81,280.596,295.83499999999998,300.06299999999999,305.25599999999997,308.08499999999998,310.81799999999998,319.21600000000001,322.709,322.66699999999997,323.72000000000003,331.49700000000001,336.56700000000001,345.27100000000002,362.89,377.77100000000002,379.45499999999998,381.54199999999997,390.48899999999998,396.983,401.37700000000001,407.75599999999997,412.94600000000003,415.50299999999999,431.78699999999998,454.375,"..."]
["WZ08-F","Baugewerbe",70.921000000000006,78.62,85.944999999999993,91.563999999999993,96.134,98.941000000000003,100.416,101.634,102.63,103.697,102.871,100.709,97.98,95.733000000000004,93.42,91.603999999999999,92.697999999999993,93.135999999999996,92.659000000000006,92.850999999999999,93.346000000000004,95.462000000000003,97.087999999999994,99.64,102.009,104.69499999999999,109.22,115.505,122.176]
["WZ08-G-04","Dienstleistungsbereiche",6019.518,6557.0469999999996,7010.8819999999996,7353.7139999999999,7710.2049999999999,7896.1360000000004,8107.11,8317.01,8500.1560000000009,8781.4410000000007,8995.1810000000005,9152.4330000000009,9315.384,9583.8430000000008,9826.1560000000009,10192.722,10915.991,11434.303,11738.66,12079.102999999999,12610.504999999999,13135.379000000001,13633.307000000001,14109.668,14551.164000000001,15014.727000000001,15683.4,16570.052,17483.52]
["WZ08-G-01","Handel, Verkehr, Gastgewerbe",537.93899999999996,589.01499999999999,631.14,664.08199999999999,696.39499999999998,713.26499999999999,737.09199999999998,760.00699999999995,779.18700000000001,809.98699999999997,829.54100000000005,839.09699999999998,849.08399999999995,873.18899999999996,896.75699999999995,931.11900000000003,992.31899999999996,1043.8019999999999,1069.3420000000001,1106.28,1152.604,1192.23,1227.4090000000001,1267.2249999999999,1305.5989999999999,1337.643,1401.9159999999999,1477.7629999999999,1548.979]
["WZ08-G","Handel, Instandhaltung und Reparatur von Kfz",195.626,215.608,233.197,245.98599999999999,257.64400000000001,265.15499999999997,275.63,285.59699999999998,293.43599999999998,305,311.34899999999999,314.66399999999999,314.904,318.726,321.97300000000001,326.79300000000001,342.959,355.43299999999999,362.57600000000002,370.72699999999998,385.36200000000002,400.21199999999999,413.10599999999999,425.57100000000003,438.53699999999998,448.702,468.44299999999998,491.27199999999999,514.48699999999997]
["WZ08-45","Kfz-Handel, Instandhaltung und Reparatur von Kfz",41.970999999999997,44.984999999999999,47.622,49.390999999999998,50.911999999999999,51.731000000000002,53.180999999999997,54.703000000000003,55.453000000000003,56.798999999999999,57.655999999999999,58.003999999999998,58.354999999999997,59.457000000000001,60.219000000000001,61.353999999999999,64.331999999999994,66.162000000000006,66.837999999999994,67.847999999999999,70.144000000000005,71.823999999999998,73.319000000000003,74.665999999999997,76.784999999999997,78.302999999999997,81.540000000000006,85.453999999999994,"..."]
["WZ08-46","Großhandel (ohne Handel mit Kraftfahrzeugen)",92.88,102.389,110.07599999999999,115.462,120.48699999999999,123.813,128.44399999999999,132.471,135.678,140.172,143.143,145.096,144.47300000000001,145.81399999999999,146.57599999999999,148.197,155.34200000000001,161.358,164.17400000000001,168.11099999999999,175.46600000000001,183.47300000000001,190.09100000000001,196.16900000000001,202.46299999999999,207.26900000000001,216.60300000000001,227.43199999999999,"..."]
["WZ08-47","Einzelhandel (ohne Handel mit Kraftfahrzeugen)",60.774999999999999,68.233999999999995,75.498999999999995,81.132999999999996,86.245000000000005,89.611000000000004,94.004999999999995,98.423000000000002,102.30500000000001,108.029,110.55,111.56399999999999,112.07599999999999,113.455,115.178,117.242,123.285,127.913,131.56399999999999,134.768,139.75200000000001,144.91499999999999,149.696,154.73599999999999,159.28899999999999,163.13,170.3,178.386,"..."]
["WZ08-H","Verkehr und Lagerei",290.71600000000001,317.39499999999998,337.51400000000001,354.56200000000001,372.697,380.78699999999998,392.30099999999999,403.62900000000002,414.18599999999998,432.02300000000002,444.57900000000001,451.04700000000003,460.87900000000002,480.32799999999997,499.84899999999999,528.28800000000001,569.14599999999996,605.44500000000005,622.21500000000003,648.30999999999995,676.51599999999996,697.55399999999997,716.43899999999996,740.66800000000001,762.92399999999998,782.79600000000005,822.84500000000003,870.30399999999997,912.476]
["WZ08-49","Landverkehr und Transport in Rohrfernleitungen",151.10400000000001,166.99,179.64400000000001,190.17,200.726,206.416,213.54900000000001,220.40600000000001,135.017,140.137,143.19499999999999,145.06899999999999,146.59100000000001,149.10499999999999,152.03200000000001,155.93700000000001,162.92099999999999,169.24100000000001,170.709,173.17099999999999,178.12700000000001,179.91399999999999,180.17500000000001,184.35499999999999,187.279,189.221,195.28700000000001,202.875,"..."]
["WZ08-50","Schifffahrt",24.867000000000001,26.077999999999999,26.794,27.670999999999999,29.234000000000002,29.911000000000001,31.143000000000001,32.350999999999999,33.131999999999998,34.9,36.973999999999997,38.048000000000002,40.185000000000002,42.929000000000002,46.3,53.898000000000003,61.948,69.049000000000007,71.36,80.831000000000003,84.394000000000005,87.566999999999993,90.15,91.936000000000007,92.832999999999998,94.563999999999993,97.575000000000003,99.448999999999998,"..."]
["WZ08-51","Luftfahrt",12.616,13.103999999999999,13.464,13.823,14.233000000000001,14.42,14.398999999999999,14.617000000000001,14.84,15.891999999999999,16.334,16.379000000000001,16.521999999999998,17.187999999999999,18.736000000000001,21.149000000000001,23.82,24.548999999999999,25.048999999999999,25.678000000000001,25.157,25.71,26.372,27.364999999999998,28.33,28.622,29.021999999999998,29.984000000000002,"..."]
["WZ08-52","Lagerei, sonstige Dienstleistungen für den Verkehr",94.358000000000004,102.36499999999999,107.59699999999999,111.232,115.429,116.274,118.61,121.32899999999999,215.92,224.56800000000001,230.834,234.00700000000001,239.74299999999999,252.477,263.23599999999999,276.85399999999998,299.06599999999997,320.81200000000001,332.90899999999999,345.81,365.17099999999999,380.13,394.76299999999998,411.52300000000002,428.392,443.97800000000001,473.30599999999998,508.84300000000002,"..."]
["WZ08-53","Post-, Kurier- und Expressdienste",7.7709999999999999,8.8580000000000005,10.015000000000001,11.666,13.074999999999999,13.766,14.6,14.926,15.276999999999999,16.526,17.242000000000001,17.544,17.838000000000001,18.629000000000001,19.545000000000002,20.45,21.390999999999998,21.794,22.187999999999999,22.82,23.667000000000002,24.233000000000001,24.978999999999999,25.489000000000001,26.09,26.411000000000001,27.655000000000001,29.152999999999999,"..."]
["WZ08-I","Gastgewerbe",51.597000000000001,56.012,60.429000000000002,63.533999999999999,66.054000000000002,67.322999999999993,69.161000000000001,70.781000000000006,71.564999999999998,72.963999999999999,73.613,73.385999999999996,73.301000000000002,74.135000000000005,74.935000000000002,76.037999999999997,80.213999999999999,82.924000000000007,84.551000000000002,87.242999999999995,90.725999999999999,94.463999999999999,97.864000000000004,100.986,104.13800000000001,106.145,110.628,116.187,122.01600000000001]
["WZ08-J","Information und Kommunikation",175.61699999999999,196.065,211.065,220.815,226.5,228.07,230.005,231.1,233.26300000000001,241.25899999999999,248.982,248.85499999999999,245.864,249.05500000000001,250.001,252.77799999999999,260.12,267.20800000000003,270.23399999999998,272.86799999999999,282.24299999999999,286.19499999999999,290.63799999999998,295.40899999999999,303.64600000000002,309.75900000000001,319.21699999999998,331.58100000000002,342.97]
["WZ08-58-01","Verlagswesen, audio-visual media and Rundfunk",23.177,27.004000000000001,29.954000000000001,32.801000000000002,35.116999999999997,36.979999999999997,39.052999999999997,41.334000000000003,43.326999999999998,45.298000000000002,46.72,46.576999999999998,45.478000000000002,44.798000000000002,44.249000000000002,43.866,44.381999999999998,44.82,45.786000000000001,46.305,47.055,47.664000000000001,48.430999999999997,48.722000000000001,49.892000000000003,51.23,50.468000000000004,51.926000000000002,"..."]
["WZ08-58","Verlagswesen",9.3559999999999999,10.013,10.539,10.853999999999999,11.087,11.218,11.484999999999999,11.766,12.093999999999999,12.577999999999999,12.984,13.007,12.848000000000001,12.832000000000001,12.76,12.797000000000001,12.945,12.942,13.06,13.137,13.172000000000001,13.256,13.377000000000001,13.326000000000001,13.518000000000001,13.936999999999999,14.577999999999999,15.464,"..."]
["WZ08-59-01","Audiovisuelle Medien und Rundfunk",13.821,16.991,19.414999999999999,21.946999999999999,24.03,25.762,27.568000000000001,29.568000000000001,31.233000000000001,32.72,33.735999999999997,33.57,32.630000000000003,31.966000000000001,31.489000000000001,31.068999999999999,31.437000000000001,31.878,32.725999999999999,33.167999999999999,33.883000000000003,34.408000000000001,35.054000000000002,35.396000000000001,36.374000000000002,37.292999999999999,35.89,36.462000000000003,"..."]
["WZ08-61","Telekommunikation",142.49,158.161,169.268,175.14699999999999,177.636,176.268,174.49299999999999,171.21299999999999,168.29900000000001,169.87100000000001,170.82,168.696,165.32599999999999,167.02199999999999,166.80600000000001,168.38300000000001,173.40899999999999,177.614,177.93299999999999,177.50800000000001,182.495,182.39400000000001,182.04400000000001,182.43700000000001,185.255,185.44300000000001,189.464,193.56299999999999,"..."]
["WZ08-62-01","IT- und Informationsdienstleister",9.9499999999999993,10.9,11.843,12.867000000000001,13.747,14.821999999999999,16.459,18.553000000000001,21.637,26.09,31.442,33.582000000000001,35.06,37.234999999999999,38.945999999999998,40.529000000000003,42.329000000000001,44.774000000000001,46.515000000000001,49.055,52.692999999999998,56.137,60.162999999999997,64.25,68.498999999999995,73.085999999999999,79.284999999999997,86.091999999999999,"..."]
["WZ08-K","Erbringung von Finanz- und Versicherungsleistungen",147.428,161.72499999999999,173.69300000000001,182.82400000000001,192.06700000000001,196.167,203.399,207.63900000000001,209.053,216.16300000000001,217.40199999999999,216.74299999999999,214.78200000000001,219.47900000000001,221.387,221.482,228.71,234.596,239.191,246.197,258.49599999999998,268.51499999999999,278.90600000000001,288.59100000000001,298.81200000000001,303.16699999999997,316.92,334.33199999999999,351.40899999999999]
["WZ08-64","Erbringung von Finanzdienstleistungen",82.397999999999996,90.581999999999994,97.649000000000001,103.657,110.15300000000001,113.621,118.748,121.922,123.68899999999999,128.95099999999999,130.417,129.57300000000001,127.768,130.994,130.983,130.791,136.16499999999999,139.52500000000001,142.09,146.00800000000001,154.86600000000001,161.77699999999999,168.65600000000001,174.76499999999999,182.351,186.13499999999999,195.63200000000001,207.49199999999999,"..."]
["WZ08-65","Versicherungen, Rückversicherungen, Pensionskassen",64.165999999999997,70.247,75.100999999999999,78.16,80.819999999999993,81.396000000000001,83.438999999999993,84.516999999999996,84.186999999999998,85.950999999999993,85.683999999999997,85.799000000000007,85.58,86.911000000000001,88.694999999999993,88.921000000000006,90.736999999999995,93.254000000000005,95.168999999999997,98.18,101.428,104.404,107.67100000000001,111.03700000000001,113.521,113.988,118.21299999999999,123.72499999999999,"..."]
["WZ08-66","Mit Finanz- u. Versicherungsdienstl. verb. Tätigk.",0.86399999999999999,0.89600000000000002,0.94299999999999995,1.0069999999999999,1.0940000000000001,1.1499999999999999,1.212,1.2,1.177,1.2609999999999999,1.3009999999999999,1.371,1.4339999999999999,1.5740000000000001,1.7090000000000001,1.77,1.8080000000000001,1.8169999999999999,1.9319999999999999,2.0089999999999999,2.202,2.3340000000000001,2.5790000000000002,2.7890000000000001,2.94,3.044,3.0750000000000002,3.1150000000000002,"..."]
["WZ08-L","Grundstücks- und Wohnungswesen",3278.3609999999999,3593.306,3875.752,4098.6239999999998,4337.6239999999998,4465.7489999999998,4604.5529999999999,4734.9520000000002,4848.6440000000002,4991.4799999999996,5107.759,5211.393,5322.451,5494.0249999999996,5639.7430000000004,5865.357,6323.0829999999996,6626.4979999999996,6807.5649999999996,7007.1090000000004,7340.7879999999996,7682,8025.6909999999998,8344.3230000000003,8625.8490000000002,8952.8459999999995,9372.2369999999992,9936.4590000000007,10519.49]
["WZ08-M-02","Unternehmensdienstleister",331.97300000000001,351.03300000000002,363.55900000000003,372.07299999999998,381.91399999999999,393.36099999999999,407.92700000000002,429.57400000000001,450.97199999999998,488.51499999999999,515.04499999999996,533.62099999999998,548.45299999999997,568.11900000000003,592.50400000000002,619.93899999999996,662.178,699.024,715.55600000000004,734.38499999999999,752.05600000000004,773.31700000000001,787.63400000000001,807.32100000000003,830.36900000000003,848.91,877.06899999999996,908.23299999999995,945.07600000000002]
["WZ08-M","Freiberufliche, wiss. u. techn. Dienstleistungen",129.15100000000001,133.85499999999999,137.77000000000001,139.80099999999999,143.40799999999999,146.78399999999999,150.1,153.70099999999999,157.505,167.00399999999999,172.32400000000001,177.18,181.51400000000001,186.70699999999999,191.21899999999999,197.102,206.66499999999999,216.809,223.905,232.38200000000001,243.626,253.55799999999999,262.322,273.14999999999998,283.32400000000001,293.61799999999999,308.69900000000001,325.62599999999998,343.48700000000002]
["WZ08-69-01","Unternehmensnahe Beratungsleistungen",53.19,53.856000000000002,53.866999999999997,53.694000000000003,54.728999999999999,55.615000000000002,57.347999999999999,59.222000000000001,60.786000000000001,66.97,69.057000000000002,70.637,72.400000000000006,74.48,76.423000000000002,79.069000000000003,84.343000000000004,89.295000000000002,92.605000000000004,96.138999999999996,100.035,103.35899999999999,106.642,110.899,115.146,120.104,128.167,136.792,"..."]
["WZ08-69-02","Rechts- und Steuerberatung, Unternehmensberatung",42.603999999999999,43.258000000000003,43.244999999999997,43.185000000000002,44.118000000000002,44.863,46.366,47.95,49.225999999999999,54.930999999999997,56.622999999999998,57.933999999999997,59.332000000000001,60.984999999999999,62.337000000000003,64.296000000000006,68.265000000000001,71.278000000000006,72.325000000000003,73.436000000000007,75.522999999999996,77.466999999999999,79.366,82.046000000000006,84.457999999999998,87.453000000000003,92.097999999999999,98.605999999999995,"..."]
["WZ08-71","Architektur-,Ing.büros,techn.,physik.Untersuchung",10.586,10.598000000000001,10.622,10.509,10.611000000000001,10.752000000000001,10.981999999999999,11.272,11.56,12.039,12.433999999999999,12.702999999999999,13.068,13.494999999999999,14.086,14.773,16.077999999999999,18.016999999999999,20.28,22.702999999999999,24.512,25.891999999999999,27.276,28.853000000000002,30.687999999999999,32.651000000000003,36.069000000000003,38.186,"..."]
["WZ08-72","Forschung und Entwicklung",64.070999999999998,68.334999999999994,72.524000000000001,75.106999999999999,77.906999999999996,80.614999999999995,82.302999999999997,84.078000000000003,86.308000000000007,89.451999999999998,92.597999999999999,95.873000000000005,98.430999999999997,101.48099999999999,103.961,107.01300000000001,110.791,115.517,119.14400000000001,123.715,130.68600000000001,136.83699999999999,142.018,148.071,153.584,158.398,164.56399999999999,172,"..."]
["WZ08-73-01","Sonst.freiberufl., wissenschaftl., techn. Dienstl.",11.89,11.664,11.379,11,10.772,10.554,10.449,10.401,10.411,10.582000000000001,10.669,10.67,10.683,10.746,10.835000000000001,11.02,11.531000000000001,11.997,12.156000000000001,12.528,12.904999999999999,13.362,13.662000000000001,14.18,14.593999999999999,15.116,15.968,16.834,"..."]
["WZ08-73","Werbung und Marktforschung",5.0709999999999997,4.9489999999999998,4.8079999999999998,4.6289999999999996,4.5599999999999996,4.5119999999999996,4.524,4.5640000000000001,4.6280000000000001,4.734,4.7910000000000004,4.7990000000000004,4.7939999999999996,4.7649999999999997,4.7460000000000004,4.7869999999999999,4.9610000000000003,5.1520000000000001,5.1639999999999997,5.3109999999999999,5.4169999999999998,5.4850000000000003,5.492,5.5449999999999999,5.633,5.71,5.7839999999999998,6.0229999999999997,"..."]
["WZ08-74-01","Freiberufl.,wiss.,techn.DL a.n.g., Veterinärwesen",6.819,6.7149999999999999,6.5709999999999997,6.3710000000000004,6.2119999999999997,6.0419999999999998,5.9249999999999998,5.8369999999999997,5.7830000000000004,5.8479999999999999,5.8780000000000001,5.8710000000000004,5.8890000000000002,5.9809999999999999,6.0890000000000004,6.2329999999999997,6.57,6.8449999999999998,6.992,7.2169999999999996,7.4880000000000004,7.8769999999999998,8.17,8.6349999999999998,8.9610000000000003,9.4060000000000006,10.183999999999999,10.811,"..."]
["WZ08-N","Sonstige wirtschaftliche Dienstleistungen",202.822,217.178,225.78899999999999,232.27199999999999,238.506,246.577,257.827,275.87299999999999,293.46699999999998,321.51100000000002,342.721,356.44099999999997,366.93900000000002,381.41199999999998,401.28500000000003,422.83699999999999,455.51299999999998,482.21499999999997,491.65100000000001,502.00299999999999,508.43,519.75900000000001,525.31200000000001,534.17100000000005,547.04499999999996,555.29200000000003,568.37,582.60699999999997,601.58900000000006]
["WZ08-77","Vermietung von beweglichen Sachen",170.286,184.64699999999999,193.68799999999999,200.941,207.542,216.03800000000001,227.43199999999999,245.434,262.99099999999999,290.70800000000003,311.42200000000003,324.61599999999999,334.56299999999999,348.19499999999999,367.21699999999998,388.04199999999997,418.81299999999999,443.73899999999998,451.44200000000001,459.721,464.36399999999998,473.73099999999999,477.44799999999998,484.12799999999999,494.96100000000001,501.125,511.1,521.83699999999999,"..."]
["WZ08-78","Vermittlung und Überlassung von Arbeitskräften",1.5720000000000001,1.526,1.4770000000000001,1.4339999999999999,1.43,1.4330000000000001,1.45,1.4710000000000001,1.504,1.5589999999999999,1.591,1.613,1.639,1.66,1.6910000000000001,1.7350000000000001,1.865,1.9379999999999999,1.9870000000000001,2.1800000000000002,2.5249999999999999,2.7189999999999999,2.92,3.137,3.286,3.375,3.4449999999999998,3.53,"..."]
["WZ08-79","Reisebüros, -veranstalter u. sonst. Reservierungen",1.792,1.9119999999999999,1.9950000000000001,2.0139999999999998,2.0510000000000002,2.0699999999999998,2.121,2.2320000000000002,2.36,2.4870000000000001,2.597,2.6749999999999998,2.7120000000000002,2.8210000000000002,2.8490000000000002,2.8660000000000001,2.9369999999999998,3.0369999999999999,3.1429999999999998,3.2040000000000002,3.319,3.4350000000000001,3.504,3.5979999999999999,3.6890000000000001,3.734,3.8420000000000001,4.0869999999999997,"..."]
["WZ08-80-01","Unternehmensdienstleister a.n.g.",29.172000000000001,29.093,28.629000000000001,27.882999999999999,27.483000000000001,27.036000000000001,26.824000000000002,26.736000000000001,26.611999999999998,26.757000000000001,27.111000000000001,27.536999999999999,28.024999999999999,28.736000000000001,29.527999999999999,30.193999999999999,31.898,33.500999999999998,35.079000000000001,36.898000000000003,38.222000000000001,39.874000000000002,41.44,43.308,45.109000000000002,47.058,49.982999999999997,53.152999999999999,"..."]
["WZ08-O-03","Öffentliche Dienstleister, Erziehung, Gesundheit",1351.4369999999999,1451.79,1527.681,1577.95,1628.6780000000001,1647.4079999999999,1667.8689999999999,1692.452,1714.528,1762.28,1798.7170000000001,1820.6980000000001,1848.1220000000001,1886.904,1924.9559999999999,1990.951,2116.6889999999999,2216.13,2280.2339999999999,2346.9650000000001,2446.366,2543.4650000000001,2623.7420000000002,2698.0740000000001,2768.355,2834.3159999999998,2953.7710000000002,3119.7150000000001,3291.5909999999999]
["WZ08-O","Öff. Verwaltung, Verteidigung, Sozialversicherung",745.49699999999996,794.82600000000002,829.43200000000002,848.82299999999998,867.02700000000004,866.952,865.85400000000004,869.04,877.79100000000005,897.73599999999999,912.16300000000001,917.14,924.91399999999999,936.76099999999997,951.03200000000004,986.24099999999999,1044.73,1093.71,1120.4190000000001,1146.23,1187.2619999999999,1232.3630000000001,1262.0719999999999,1289.5070000000001,1313.9390000000001,1341.944,1397.8510000000001,1484.117,1567.481]
["WZ08-P","Erziehung und Unterricht",295.72500000000002,319.04899999999998,337.07,348.72699999999998,361.82499999999999,369.04,373.93799999999999,380.71300000000002,382.79599999999999,390.399,398.13900000000001,403.86,411.04700000000003,418.84699999999998,426.26600000000002,437.37099999999998,462.67599999999999,480.54599999999999,494.76900000000001,511.36399999999998,533.18799999999999,552.80600000000004,570.92600000000004,587.22500000000002,602.59199999999998,619.91899999999998,641.85299999999995,671.54,706.77700000000004]
["WZ08-Q","Gesundheits- und Sozialwesen",310.21499999999997,337.91500000000002,361.17899999999997,380.4,399.82600000000002,411.416,428.077,442.69900000000001,453.94099999999997,474.14499999999998,488.41500000000002,499.69799999999998,512.16099999999994,531.29600000000005,547.65800000000002,567.33900000000006,609.28300000000002,641.87400000000002,665.04600000000005,689.37099999999998,725.91600000000005,758.29600000000005,790.74400000000003,821.34199999999998,851.82399999999996,872.45299999999997,914.06700000000001,964.05799999999999,1017.333]
["WZ08-86","Gesundheitswesen",221.30099999999999,241.02699999999999,257.90499999999997,271.97399999999999,286.43900000000002,295.75200000000001,308.61099999999999,320.17599999999999,329.14600000000002,344.84399999999999,355.666,363.97300000000001,372.81299999999999,386.58499999999998,397.928,411.11500000000001,439.41199999999998,461.005,475.54,490.84300000000002,514.09699999999998,533.91300000000001,553.44100000000003,571.28499999999997,588.18499999999995,597.79700000000003,622.20799999999997,652.42100000000005,"..."]
["WZ08-87-01","Heime und Sozialwesen",88.914000000000001,96.888000000000005,103.274,108.426,113.387,115.664,119.46599999999999,122.523,124.795,129.30099999999999,132.749,135.72499999999999,139.34800000000001,144.71100000000001,149.72999999999999,156.22399999999999,169.87100000000001,180.869,189.506,198.52799999999999,211.81899999999999,224.38300000000001,237.303,250.05699999999999,263.63900000000001,274.65600000000001,291.85899999999998,311.637,"..."]
["WZ08-R-02","Sonstige Dienstleister",196.76300000000001,214.113,227.99199999999999,237.346,247.02699999999999,252.11600000000001,256.26499999999999,261.286,264.50900000000001,271.75700000000001,277.73500000000001,282.02600000000001,286.62799999999999,293.072,300.80799999999999,311.096,332.892,347.04500000000002,356.53800000000001,365.29899999999998,377.952,389.65699999999998,399.28699999999998,408.72500000000002,418.53399999999999,428.08600000000001,442.27,461.96899999999999,484.005]
["WZ08-R","Kunst, Unterhaltung und Erholung",148.98699999999999,161.703,171.261,177.27600000000001,183.59399999999999,186.50800000000001,188.88300000000001,192.42,194.446,199.43799999999999,204.24600000000001,207.24100000000001,210.749,215.636,221.69,229.78399999999999,246.286,256.77300000000002,264.22399999999999,271.37,280.90899999999999,289.50700000000001,297.15300000000002,304.67700000000002,312.58800000000002,320.32600000000002,331.274,346.59899999999999,363.94200000000001]
["WZ08-90-01","Kunst und Kultur, Glücksspiel",53.527000000000001,58.854999999999997,62.887,65.617999999999995,68.317999999999998,69.765000000000001,71.2,72.828000000000003,74.012,76.349999999999994,78.545000000000002,79.924000000000007,81.307000000000002,83.328999999999994,85.194000000000003,87.721999999999994,93.286000000000001,97.259,100.649,103.684,107.491,111.066,114.295,117.562,121.336,124.544,129.34700000000001,135.52500000000001,"..."]
["WZ08-93","Dienstleistungen d.Sports,d.Unterhaltg.u.Erholung",95.46,102.848,108.374,111.658,115.276,116.74299999999999,117.68300000000001,119.592,120.434,123.08799999999999,125.70099999999999,127.31699999999999,129.44200000000001,132.30699999999999,136.49600000000001,142.06200000000001,153,159.51400000000001,163.57499999999999,167.68600000000001,173.41800000000001,178.441,182.858,187.11500000000001,191.25200000000001,195.78200000000001,201.92699999999999,211.07400000000001,"..."]
["WZ08-S","Erbringung von sonstigen Dienstleistungen",47.776000000000003,52.41,56.731000000000002,60.07,63.433,65.608000000000004,67.382000000000005,68.866,70.063000000000002,72.319000000000003,73.489000000000004,74.784999999999997,75.879000000000005,77.436000000000007,79.117999999999995,81.311999999999998,86.605999999999995,90.272000000000006,92.313999999999993,93.929000000000002,97.043000000000006,100.15,102.134,104.048,105.946,107.76,110.996,115.37,120.063]
["WZ08-94","Interessenvertr., kirchl. u. sonst. Vereinigungen",29.565999999999999,32.384,35.243000000000002,37.185000000000002,39.079000000000001,40.131,41.034999999999997,42.003999999999998,42.951000000000001,44.384999999999998,45.021000000000001,45.985999999999997,46.927999999999997,47.957999999999998,48.96,50.259,54.027999999999999,56.517000000000003,57.936,59.042000000000002,61.401000000000003,64.045000000000002,65.843000000000004,67.453000000000003,69.028999999999996,70.674999999999997,73.491,77.216999999999999,"..."]
["WZ08-95","Reparatur von DV-Geräten und Gebrauchsgütern",0.36199999999999999,0.40100000000000002,0.442,0.48,0.52200000000000002,0.55100000000000005,0.59299999999999997,0.63600000000000001,0.69099999999999995,0.77500000000000002,0.84299999999999997,0.85799999999999998,0.86499999999999999,0.88600000000000001,0.90200000000000002,0.91600000000000004,0.94299999999999995,0.97899999999999998,1.0820000000000001,1.179,1.2889999999999999,1.353,1.4259999999999999,1.4750000000000001,1.53,1.548,1.5620000000000001,1.6180000000000001,"..."]
["WZ08-96","Sonstige überwiegend persönliche Dienstleistungen",17.847999999999999,19.625,21.045999999999999,22.405000000000001,23.832000000000001,24.925999999999998,25.754000000000001,26.225999999999999,26.420999999999999,27.158999999999999,27.625,27.940999999999999,28.085999999999999,28.591999999999999,29.256,30.137,31.635000000000002,32.776000000000003,33.295999999999999,33.707999999999998,34.353000000000002,34.752000000000002,34.865000000000002,35.119999999999997,35.387,35.536999999999999,35.942999999999998,36.534999999999997,"..."]
["WZ08-T","Private Haushalte",0,0,0,0,0,0,0,0,0,0,0,0,0,0,0,0,0,0,0,0,0,0,0,0,0,0,0,0,0]
["WZ08-A-02","Alle Wirtschaftsbereiche",7882.3209999999999,8557.0390000000007,9108.31,9514.3490000000002,9930.5419999999995,10145.960999999999,10385.532999999999,10623.633,10828.415999999999,11157.348,11404.33,11570.828,11738.441000000001,12027.948,12285.141,12686.927,13494.433000000001,14095.066999999999,14414.023999999999,14777.173000000001,15339.174000000001,15919.05,16454.885999999999,16984.955999999998,17480.078000000001,17984.098000000002,18747.453000000001,19766.557000000001,20797.131000000001]
["preisbereinigt, Kettenindex (2015=100)"]
["WZ08-A","Land- und Forstwirtschaft, Fischerei",95.91,96.79,97.27,97.71,98.2,98.66,98.87,99.2,99.49,99.71,99.79,99.69,99.3,98.83,98.75,99.08,99.21,99.68,99.75,99.51,99.95,100.02,100.05,100.09,100,99.61,99.45,99.15,98.73]
["WZ08-01","Landwirtschaft, Jagd und verbundene Tätigkeiten",93.74,94.7,95.25,95.77,96.34,96.89,97.17,97.56,97.93,98.21,98.36,98.34,98.01,97.59,97.6,98.06,98.28,98.89,99.09,98.94,99.52,99.7,99.83,99.99,100,99.69,99.63,99.42,"..."]
["WZ08-021","Forstwirtschaft",120.47,120.46,120.22,119.92,119.62,119.24,118.72,118.26,117.83,117.34,116.67,115.74,114.71,113.6,112.41,111.26,110.12,108.96,107.5,105.95,104.88,103.62,102.42,101.24,100,98.74,97.49,96.31,"..."]
["WZ08-031","Fischerei",115.75,115.16,114.37,113.57,112.97,112.23,111.6,111.01,110.29,109.66,109.04,108.2,107.43,106.63,105.95,105.58,105.27,104.86,104.2,104.05,103.68,102.93,102.09,101.08,100,98.91,97.76,96.23,"..."]
["WZ08-B-05","Produzierendes Gewerbe",85.56,88.54,90.76,92.67,94.39,95.81,96.95,98.03,99.16,100.13,100.99,101.28,101.33,101.19,100.81,100.61,100.74,101.06,100.64,100.21,99.5,99.58,99.53,99.75,100,100.5,101.18,102.25,103.25]
["WZ08-B-18","Produzierendes Gewerbe ohne Baugewerbe",85.09,87.93,89.99,91.73,93.32,94.65,95.79,96.88,98.02,99.02,99.99,100.4,100.61,100.62,100.38,100.32,100.57,100.98,100.65,100.26,99.56,99.63,99.59,99.77,100,100.44,101.06,102.06,102.99]
["WZ08-B","Bergbau und Gewinnung von Steinen und Erden",212.87,214.04,212.93,210.41,209.02,205.32,200.57,195.48,189.99,183.73,154.51,149.19,143.77000000000001,139,134.28,129.82,126.28,122.77,119.63,116.32,112.25,108.64,105.32,103.05,100,97.09,94.09,91.08,88.39]
["WZ08-C","Verarbeitendes Gewerbe",90.85,93.51,94.9,95.78,96.61,97.33,97.92,98.74,99.66,100.57,101.61,101.94,102,101.72,101.13,100.79,100.98,101.38,100.67,99.87,99.68,99.72,99.61,99.72,100,100.66,101.61,103.09,104.59]
["WZ08-10-01","Ernährungsgewerbe und Tabakverarbeitung",123.04,126.99,129.21,130.41,130.81,130.5,129.4,128.4,127.26,125.87,124.2,122.51,120.52,118.54,116.29,114.15,112.38,110.25,108.16,105.98,104.2,102.71,101.26,100.37,100,99.83,99.56,99.49,"..."]
["WZ08-13-01","Textil- und Bekleidungsgewerbe",230.71,229.16,225.8,222.19,217.38,212.11,206.85,202.04,196.66,190.92,184.34,176.57,168.78,161.41999999999999,153.96,147.4,141.66,135.66999999999999,128.97999999999999,122.77,117.5,112.46,107.7,103.54,100,96.82,94.07,91.54,"..."]
["WZ08-16-01","H.v. Holzwaren, Papier und Druckerzeugnissen",121.43,125.93,128.87,130.44,131.44999999999999,131.68,131.66,132.19,133.94,135.02000000000001,134.47999999999999,132.75,130.44999999999999,128.69,126.14,124.32,123.02,121.78,118.36,115.14,112.08,108.97,105.78,102.87,100,97.76,95.27,93.38,"..."]
["WZ08-16","H.v. Holz-, Flecht-, Korb-u.Korkwaren (ohne Möbel)",125.09,128.54,131.01,133.30000000000001,135.30000000000001,135.88999999999999,135.74,135.66999999999999,135.91999999999999,136.5,135.43,132.05000000000001,127.6,123.31,119.96,118.41,121.28,119.52,115.9,113.06,110.1,107.22,104.37,101.93,100,98.22,96.06,94.15,"..."]
["WZ08-17","Herstellung von Papier, Pappe und Waren daraus",118.61,122.91,125.6,126.34,126.33,126.02,125.71,126.14,128.83000000000001,130.02000000000001,129.47999999999999,128.57,128.21,128.61000000000001,126.79,124.63,122.12,121.25,117.6,114.22,111.34,108.53,105.73,102.89,100,98.01,95.73,94.93,"..."]
["WZ08-18","H.v. Druckerz., Vervielf.v.Ton-,Bild-,Datenträgern",123.37,128.86000000000001,132.47999999999999,134.72999999999999,136.53,137.27000000000001,137.75,138.83000000000001,140.29,141.57,141.38999999999999,139.63999999999999,136.01,132.86000000000001,129.79,128.27000000000001,125.74,124.34,121.42,118.13,114.73,110.98,106.93,103.58,100,97.02,93.96,90.4,"..."]
["WZ08-19","Kokerei und Mineralölverarbeitung",133.91,134.53,132.97999999999999,131.16,133.38999999999999,134.46,134.77000000000001,132.41,128.08000000000001,124.82,121.07,116.85,113.78,109.74,106.3,106.21,109.69,110.36,110.04,108.92,105.58,103.65,101.62,101.16,100,99.29,99.1,99.58,"..."]
["WZ08-20","Herstellung von chemischen Erzeugnissen",93.85,95.86,96.9,97.71,98.65,100.08,101.38,103.08,104.77,106.25,107.45,108.28,108.49,107.98,107.58,106.79,106.26,106.13,105.53,104.51,103.72,102.85,101.88,101.05,100,99.19,98.61,98.16,"..."]
["WZ08-21","Herstellung von pharmazeutischen Erzeugnissen",63.11,65.22,66.989999999999995,68.56,70.180000000000007,71.900000000000006,73.72,75.63,77.36,79.33,81.14,83,84.92,86.42,87.78,89.53,91,92.46,94,94.98,95.48,96.26,97.42,98.71,100,102.42,103.27,105.99,"..."]
["WZ08-22-01","H.v. Gummi-, Kunststoff-, Glaswaren, Keramik u.Ä.",102.43,106.29,109.26,111.89,114.48,116.16,117.46,118.58,119.3,119.75,119.6,118.36,116.65,114.89,112.96,111.3,110.12,109.16,106.99,104.79,103.5,102.43,101.09,100.18,100,99.8,99.77,100.32,"..."]
["WZ08-22","Herstellung von Gummi- und Kunststoffwaren",78.88,82.18,84.39,86.01,88.03,89.49,91.2,93.03,94.85,96.53,97.74,98.18,98.38,98.56,98.22,98.39,99.03,99.66,98.81,97.98,98.2,98.58,98.41,98.73,100,100.95,101.77,103,"..."]
["WZ08-23","H.v.Glas,-waren,Keramik,Verarb. v.Steinen u.Erden",136.41999999999999,141.1,145.18,149.26,152.65,154.66,155.37,155.49,154.63,153.30000000000001,151.18,147.5,143.03,138.46,134.22,129.91,126.09,122.83,118.77,114.56,111.11,107.95,104.94,102.28,100,98.15,96.91,96.48,"..."]
["WZ08-24-01","Metallgewerbe",111.58,113.11,113.11,112.71,112.25,111.74,111.11,111.48,112.26,112.4,112.53,111.53,109.95,108.25,106.5,105.45,105.66,106.48,105.15,103.31,102.69,102.12,101.42,100.61,100,99.63,99.3,99.34,"..."]
["WZ08-24","Metallerzeugung und -bearbeitung",141.77000000000001,141.35,139.43,137.44,134.79,132.47,129.74,128.18,127.24,125.43,123.9,121.6,118.89,115.91,113,110.5,109.84,109.84,108.36,106.01,104.6,103.61,102.78,101.34,100,98.66,97.43,96.58,"..."]
["WZ08-25","Herstellung von Metallerzeugnissen",91.63,94.44,95.71,96.35,97.33,98.02,98.76,100.39,102.3,103.72,104.93,104.78,103.94,103.08,102.09,102,102.79,104.17,102.94,101.45,101.37,101.1,100.49,100.11,100,100.3,100.57,101.22,"..."]
["WZ08-26","H.v. DV-Geräten, elektron. u. opt. Erzeugnissen",84.55,87.1,88.62,89.34,89.99,90.56,90.97,91.61,92.61,94.92,98.77,99.66,99.61,100.12,100.84,101.97,103.5,104.06,102.96,102.38,102.83,102.88,102.18,101.14,100,98.99,98.2,98.17,"..."]
["WZ08-27","Herstellung von elektrischen Ausrüstungen",115.38,119.55,121.71,122.98,123.77,123.3,121.97,121.25,120.09,119.29,118.95,117.66,115.26,112.79,110.68,108.83,107.46,106.53,104.72,102.77,102.3,102.21,101.73,100.73,100,100.34,100.67,101.42,"..."]
["WZ08-28","Maschinenbau",91.07,93.41,93.98,93.95,94.19,94.28,94.38,95.04,95.79,96.39,96.97,96.96,96.7,96.32,95.78,95.82,97.01,98.83,98.81,98.29,98.41,98.85,99.05,99.62,100,100.64,101.79,103.35,"..."]
["WZ08-29-01","Fahrzeugbau",55.9,58.58,60.25,61.56,62.89,64.61,66.61,68.489999999999995,70.709999999999994,72.94,76,78.849999999999994,82.1,84.21,85.18,85.91,86.96,88.52,88.9,89.61,91.02,93.08,95.03,97.41,100,103.16,107.81,112.97,"..."]
["WZ08-29","Herstellung von Kraftwagen und Kraftwagenteilen",51.86,54.25,55.59,56.58,57.56,59.03,60.83,62.61,64.849999999999994,67.2,70.44,73.55,77.180000000000007,79.83,81.2,82.35,83.86,85.9,86.63,87.74,89.53,91.92,94.28,97.08,100,103.47,108.63,114.3,"..."]
["WZ08-30","Sonstiger Fahrzeugbau",98.09,104.02,109.12,113.9,118.96,123.27,127.52,130.38,132.34,133.27000000000001,134.29,134.41999999999999,133.47,129.96,126.58,122.98,119.17,115.69,112.48,109,106.41,105.09,102.8,100.81,100,99.99,99.38,99.22,"..."]
["WZ08-31-01","Möbelherstellung, Installation von Maschinen",96.76,99.54,100.82,101.73,102.69,103.08,103.24,103.18,103.19,102.98,102.69,101.79,100.27,98.61,97.24,96.35,95.99,96.27,96.19,96.15,97.06,97.39,97.49,98.16,100,101.28,101.33,101.65,"..."]
["WZ08-31-02","Herstellung von Möbeln und sonstigen Waren",105.09,107.94,109.05,109.82,110.42,110.69,110.92,110.87,110.82,110.49,109.89,108.72,106.84,104.8,103.02,101.74,100.93,100.62,99.53,98.84,99.02,99,98.76,99.29,100,100.31,101.31,102.7,"..."]
["WZ08-33","Reparatur u.Installation von Masch.u.Ausrüstungen",75.42,78.05,79.760000000000005,81,82.91,83.58,83.56,83.48,83.62,83.74,84.24,84.01,83.42,82.74,82.41,82.5,83.3,85.07,87.56,89.21,92.01,93.21,94.23,95.21,100,103.79,101.38,98.93,"..."]
["WZ08-D","Energieversorgung",74.900000000000006,77.78,80.760000000000005,83.51,85.78,88.06,89.93,91.33,92.67,93.58,95.95,96.23,96.37,96.52,96.7,97.12,97.53,98.32,99.13,100.14,96.68,97.41,97.98,99.02,100,100.83,101.67,102.59,103.2]
["WZ08-E","Wasserversorg.,Entsorg.,Beseitig.v.Umweltverschm.",68,71.42,74.84,78.540000000000006,81.93,84.67,87.19,89.22,91.24,93.02,94.5,95.6,96.66,97.79,98.61,99.37,99.91,100.33,100.49,100.53,100.46,100.4,100.32,100.27,100,99.69,99.39,99.26,99.01]
["WZ08-36","Wasserversorgung",55.75,58.28,60.63,63.73,66.25,68.81,71.52,74.63,77.87,80.81,83.36,85.53,87.56,89.54,91.26,93.02,94.45,95.79,96.62,97.21,97.89,98.4,98.99,99.59,100,100.41,100.72,101.2,"..."]
["WZ08-37-01","Abwasser-, Abfallentsorgung, Rückgewinnung",71.2,74.84,78.540000000000006,82.4,86.02,88.8,91.27,93.02,94.72,96.2,97.4,98.22,99.03,99.93,100.52,101.01,101.32,101.51,101.48,101.38,101.13,100.92,100.66,100.44,100,99.5,99.05,98.76,"..."]
["WZ08-F","Baugewerbe",97.17,103.69,110.02,116.24,121.29,124.74,125.94,126.81,127.71,127.86,126.01,123.21,119.58,115.63,111.47,107.83,105.18,102.88,100.38,98.9,98.13,98.24,98.25,99.07,100,101.95,104.08,106.96,109.82]
["WZ08-G-04","Dienstleistungsbereiche",59.7,61.67,63.54,65.540000000000006,67.5,69.41,71.33,73.33,75.41,77.510000000000005,79.430000000000007,81.02,82.58,84.06,85.53,87.16,88.81,90.39,91.65,93.03,94.56,95.99,97.26,98.63,100,101.43,102.87,104.32,105.82]
["WZ08-G-01","Handel, Verkehr, Gastgewerbe",55.95,58.72,61.31,63.79,66.19,68.290000000000006,70.459999999999994,72.680000000000007,75.040000000000006,77.19,78.930000000000007,80.19,81.38,82.62,83.96,85.79,87.78,89.68,90.87,92.83,94.58,96,97.18,98.57,100,101.72,103.34,104.9,106.33]
["WZ08-G","Handel, Instandhaltung und Reparatur von Kfz",61.61,65.2,68.510000000000005,71.44,74.05,76.44,78.94,81.67,84.44,86.88,88.55,89.81,90.17,90.24,90.41,90.73,91.48,92.45,92.92,93.55,94.97,96.48,97.59,98.74,100,101.63,103.16,104.43,105.67]
["WZ08-45","Kfz-Handel, Instandhaltung und Reparatur von Kfz",78.37,80.010000000000005,81.98,83.83,85.31,86.9,88.71,90.98,92.68,93.91,95.1,95.89,96.41,96.86,97.18,97.69,98.13,98.33,97.69,97.67,98.5,98.66,98.73,98.82,100,101.32,102.56,103.68,"..."]
["WZ08-46","Großhandel (ohne Handel mit Kraftfahrzeugen)",63.06,66.900000000000006,69.94,72.540000000000006,74.91,77.2,79.55,81.95,84.53,86.46,88.16,89.68,89.58,89.37,89.11,89.15,89.85,91.01,91.28,91.98,93.72,95.84,97.29,98.59,100,101.7,103.43,104.97,"..."]
["WZ08-47","Einzelhandel (ohne Handel mit Kraftfahrzeugen)",51.91,56.08,60.36,64.180000000000007,67.61,70.5,73.52,76.87,80.38,84.03,85.88,87.04,87.91,88.15,88.79,89.38,90.36,91.44,92.71,93.54,94.86,96.23,97.42,98.89,100,101.7,103.11,104.11,"..."]
["WZ08-H","Verkehr und Lagerei",50.43,52.72,54.82,57.02,59.32,61.31,63.37,65.37,67.63,69.81,71.75,73.2,75.040000000000006,77.14,79.31,82.21,85.1,87.73,89.45,92.26,94.24,95.62,96.85,98.43,100,101.83,103.57,105.37,106.95]
["WZ08-49","Landverkehr und Transport in Rohrfernleitungen",109.51,115.46,121.01,126.62,132.33000000000001,137.57,142.44,147.21,90.65,93.16,94.91,96.45,97.57,98.13,98.39,98.67,98.92,99.5,99.21,99.67,99.84,99.64,98.75,99.46,100,100.36,101.09,102.25,"..."]
["WZ08-50","Schifffahrt",34.75,35.42,36.17,37.159999999999997,38.520000000000003,39.380000000000003,40.869999999999997,41.78,42.94,44.63,46.62,47.91,50.82,53.45,56.53,63.81,71.709999999999994,78.33,81.13,90.6,94.45,96.92,98.63,99.3,100,101.62,102.42,102.13,"..."]
["WZ08-51","Luftfahrt",41.34,43.53,44.7,46.14,47.56,49.35,51.14,53.41,55.64,60.37,62.76,63.4,64.44,67.08,72.849999999999994,82.33,91.04,92.49,93.39,94.29,95.12,95.62,96.47,98.29,100,100.1,99.46,100.58,"..."]
["WZ08-52","Lagerei, sonstige Dienstleistungen für den Verkehr",29.7,30.7,31.54,32.28,33.159999999999997,33.89,34.770000000000003,35.770000000000003,64.23,65.98,67.83,69.28,71.180000000000007,73.739999999999995,76.11,78.569999999999993,81.069999999999993,83.9,86.39,88.94,91.45,93.42,95.52,97.73,100,102.71,105.23,107.76,"..."]
["WZ08-53","Post-, Kurier- und Expressdienste",35.659999999999997,38.950000000000003,42.8,49.15,54.64,58.07,61.41,63.49,66.23,71.09,75.06,77.400000000000006,80.150000000000006,83.33,87.92,92.34,94.24,94.71,95.37,96.85,97.64,97.93,99.04,99.37,100,100.57,102.75,104.94,"..."]
["WZ08-I","Gastgewerbe",74.11,76.88,80.239999999999995,83,85.06,86.84,88.34,89.93,91.24,91.97,92.37,92.25,91.99,91.7,91.87,91.92,92.37,92.66,92.83,94.06,95.47,96.83,97.89,98.96,100,101.22,102.34,103.42,104.56]
["WZ08-J","Information und Kommunikation",64.819999999999993,70.16,74.44,77.39,79.180000000000007,80.739999999999995,81.77,83.02,85.01,87.09,90.38,91.27,91.49,92.34,92.93,93.88,94.66,95.75,96.58,96.84,98.08,98.01,98.46,98.83,100,101.27,102.28,103.36,104.32]
["WZ08-58-01","Verlagswesen, audio-visual media and Rundfunk",56.44,63.95,69.62,75.02,79.55,83.41,86.9,92.03,97.47,101.15,103.69,103.32,101.27,99.91,98.8,98.41,98.09,98.15,99.33,99.14,99.1,98.9,99.26,99.18,100,101.51,100.13,101.74,"..."]
["WZ08-58","Verlagswesen",80.12,83.78,86.44,88.18,89.57,90.86,92.7,94.89,98.13,101.51,104.38,105.22,104.69,104.15,103.9,103.98,103.6,103.47,103.49,102.83,102.08,101.27,100.98,99.67,100,102.77,106.17,110.54,"..."]
["WZ08-59-01","Audiovisuelle Medien und Rundfunk",47.15,56.22,63.09,69.95,75.72,80.58,84.7,90.95,97.23,101.03,103.44,102.62,100,98.33,96.89,96.32,96.02,96.16,97.78,97.76,97.99,98.02,98.62,99,100,101.03,97.91,98.48,"..."]
["WZ08-61","Telekommunikation",88.67,95.23,100.49,103.49,104.79,105.71,105.49,104.74,104.41,104.27,105.45,105.3,104.53,104.76,104.6,104.89,104.88,104.93,104.8,103.95,104.39,102.75,101.35,100.06,100,99.34,98.52,97.02,"..."]
["WZ08-62-01","IT- und Informationsdienstleister",12.97,14.04,15.14,16.41,17.57,19.11,21.33,24.52,29.31,35.130000000000003,43.3,47.24,51.09,54.78,58.25,61.62,65.05,69.489999999999995,72.59,76.11,80.41,84.64,90.08,95.28,100,106.31,114.05,121.88,"..."]
["WZ08-K","Erbringung von Finanz- und Versicherungsleistungen",65.63,68.88,72,74.59,77.41,79.92,82.41,85.03,87.35,89.53,90.92,92.03,92.35,93.14,93.78,93.17,92.35,92.57,93.05,94.05,94.93,96.15,97.25,98.56,100,100.88,102.03,103.17,104.14]
["WZ08-64","Erbringung von Finanzdienstleistungen",56.35,59.58,62.76,65.760000000000005,69.34,72.53,75.569999999999993,78.83,81.94,84.75,86.82,87.89,88.21,89.49,89.56,89.08,89.36,89.73,90.22,91.13,92.89,94.72,96.25,97.77,100,101.53,103.37,105.28,"..."]
["WZ08-65","Versicherungen, Rückversicherungen, Pensionskassen",83.77,87.1,90.09,91.89,93.26,94.5,95.96,97.44,98.38,99.44,99.55,100.62,100.76,100.55,101.92,100.95,98.12,98.01,98.33,99.41,98.72,98.86,99.08,99.91,100,99.78,99.83,99.78,"..."]
["WZ08-66","Mit Finanz- u. Versicherungsdienstl. verb. Tätigk.",17.149999999999999,17.96,19.239999999999998,20.84,23.11,24.99,26.95,28.15,29.02,31.26,33.590000000000003,36.950000000000003,41.18,46.12,51.86,55.83,59.53,62.32,67.849999999999994,70.94,76.44,80.819999999999993,88.92,95.64,100,103.37,103.47,103.4,"..."]
["WZ08-L","Grundstücks- und Wohnungswesen",57.94,59.74,61.63,63.79,65.95,68.05,70.17,72.260000000000005,74.36,76.39,78.290000000000006,80.010000000000005,81.72,83.31,84.77,86.38,87.95,89.4,90.71,92.09,93.73,95.37,96.91,98.49,100,101.56,103.13,104.72,106.38]
["WZ08-M-02","Unternehmensdienstleister",47.05,48.41,48.94,49.87,51,52.57,54.5,57.48,60.75,65.31,68.8,71.430000000000007,74,76.47,79.61,83.03,87.02,90.82,92.1,93.61,95.16,96.44,97.3,98.53,100,101.49,103.18,104.78,106.63]
["WZ08-M","Freiberufliche, wiss. u. techn. Dienstleistungen",59.75,60.02,60.1,60.4,61.4,62.68,63.93,65.44,67.34,70.72,72.66,74.58,76.33,77.86,79.36,81.06,82.9,85.4,87.43,89.72,91.91,93.79,95.54,97.84,100,102.79,105.81,108.55,111.36]
["WZ08-69-01","Unternehmensnahe Beratungsleistungen",62.96,61.63,59.97,59.15,59.71,60.7,62.16,63.92,65.94,71.98,74.05,75.94,78.010000000000005,79.45,81,83.04,85.32,88.28,90.22,92.19,93.76,94.77,95.91,98,100,103.58,107.69,111.13,"..."]
["WZ08-69-02","Rechts- und Steuerberatung, Unternehmensberatung",69.86,68.400000000000006,66.48,65.61,66.31,67.489999999999995,69.209999999999994,71.25,73.56,81.319999999999993,83.69,85.88,88.15,89.64,91.05,92.98,94.89,96.74,96.58,96.46,96.88,97.12,97.41,98.88,100,102.84,105.26,108.67,"..."]
["WZ08-71","Architektur-,Ing.büros,techn.,physik.Untersuchung",44.34,43.34,42.38,41.71,41.9,42.39,43.13,44.14,45.4,46.88,48.15,49.23,50.76,52.05,53.97,56.26,59.51,65.44,72.97,80.569999999999993,85.23,88.35,91.77,95.57,100,105.63,114.37,117.91,"..."]
["WZ08-72","Forschung und Entwicklung",54.01,55.82,57.51,58.96,60.58,62.35,63.68,65.2,67.17,68.900000000000006,70.88,72.98,74.61,76.33,77.849999999999994,79.34,80.81,82.96,85.22,87.76,90.48,92.98,95.27,97.69,100,102.15,104.24,106.37,"..."]
["WZ08-73-01","Sonst.freiberufl., wissenschaftl., techn. Dienstl.",92.69,89.28,85.77,82.72,80.819999999999993,79.38,78.38,78.05,78.41,79.260000000000005,79.87,80.22,80.86,81.290000000000006,82.09,83.55,85.91,88.48,89.05,90.99,92.53,94.51,95.62,98.21,100,103.32,107.53,111.11,"..."]
["WZ08-73","Werbung und Marktforschung",100.08,96.02,91.94,88.5,87.18,86.47,86.4,86.84,87.92,89.33,90.14,90.4,90.83,90.34,90.25,91.03,93.16,96.03,95.73,97.77,99.26,99.56,99.23,99.35,100,101.17,101.46,104,"..."]
["WZ08-74-01","Freiberufl.,wiss.,techn.DL a.n.g., Veterinärwesen",87.91,84.91,81.78,78.98,76.709999999999994,74.78,73.2,72.36,72.260000000000005,72.75,73.22,73.63,74.41,75.459999999999994,76.84,78.760000000000005,81.28,83.65,84.79,86.68,88.24,91.32,93.34,97.48,100,104.68,111.34,115.57,"..."]
["WZ08-N","Sonstige wirtschaftliche Dienstleistungen",41.3,43.14,43.86,45.07,46.26,47.96,50.2,53.86,57.75,62.86,67.069999999999993,70.03,72.98,75.900000000000006,79.819999999999993,84.07,89.1,93.55,94.45,95.58,96.82,97.8,98.2,98.89,100,100.81,101.82,102.83,104.17]
["WZ08-77","Vermietung von beweglichen Sachen",37.549999999999997,39.79,40.82,42.35,43.78,45.73,48.24,52.25,56.49,62.04,66.569999999999993,69.69,72.8,75.88,80.040000000000006,84.6,89.99,94.67,95.44,96.38,97.48,98.34,98.56,99.03,100,100.55,101.29,102.03,"..."]
["WZ08-78","Vermittlung und Überlassung von Arbeitskräften",51.63,49.66,47.77,46.28,46.06,46.19,46.67,47.6,49,50.59,51.86,52.83,54.14,54.74,55.83,57.35,60.52,62.6,63.92,69.45,79.650000000000006,84.6,90.2,96.26,100,102.37,103.13,103.79,"..."]
["WZ08-79","Reisebüros, -veranstalter u. sonst. Reservierungen",60.63,62.73,63.62,63.71,64.53,65.319999999999993,66.739999999999995,70.23,74.67,78.31,81.36,83.99,85.41,88.37,88.65,88.71,88.28,89.54,91.34,92.15,94.34,96.22,97.06,98.44,100,100.79,102.03,106.25,"..."]
["WZ08-80-01","Unternehmensdienstleister a.n.g.",88.74,85.37,82.06,79.23,77.400000000000006,75.97,74.77,74.02,73.67,73.44,73.930000000000007,75.069999999999993,76.34,77.48,78.98,79.89,81.41,83.5,85.79,88.9,90.95,92.93,94.94,97.56,100,103.52,107.46,111.14,"..."]
["WZ08-O-03","Öffentliche Dienstleister, Erziehung, Gesundheit",69.150000000000006,70.8,72.290000000000006,73.77,75.150000000000006,76.55,77.83,79.19,80.680000000000007,82.17,83.6,84.8,86.06,87.16,88.32,89.64,90.88,92.21,93.44,94.73,96.03,97.16,98.02,99.01,100,101.09,102.16,103.33,104.52]
["WZ08-O","Öff. Verwaltung, Verteidigung, Sozialversicherung",78.69,80.180000000000007,81.510000000000005,82.7,83.67,84.66,85.5,86.45,87.6,88.67,89.72,90.44,91.34,92,92.77,93.7,94.36,95.17,96.07,96.95,97.86,98.59,98.86,99.38,100,100.71,101.52,102.53,103.54]
["WZ08-P","Erziehung und Unterricht",71.87,73.36,74.8,76.36,77.760000000000005,79.180000000000007,80.510000000000005,81.709999999999994,82.92,84.07,85.21,86.23,87.24,88.07,88.86,89.84,90.85,91.95,93.16,94.68,96.18,97.29,98.33,99.23,100,100.87,101.7,102.56,103.56]
["WZ08-Q","Gesundheits- und Sozialwesen",52.48,54.53,56.31,58.2,60.22,62.24,64.180000000000007,66.27,68.47,70.8,73,75.06,77.069999999999993,79.010000000000005,81.03,83.18,85.48,87.75,89.54,91.3,93.09,94.85,96.48,98.27,100,101.83,103.48,105.12,106.74]
["WZ08-86","Gesundheitswesen",54.22,56.36,58.27,60.31,62.55,64.86,67.08,69.48,71.97,74.64,77.06,79.239999999999995,81.31,83.34,85.36,87.39,89.39,91.38,92.84,94.24,95.57,96.78,97.85,99.01,100,101.03,101.95,102.87,"..."]
["WZ08-87-01","Heime und Sozialwesen",48.6,50.46,51.93,53.49,55.04,56.42,57.73,59.11,60.68,62.26,63.99,65.75,67.63,69.38,71.41,73.819999999999993,76.77,79.680000000000007,82.19,84.73,87.58,90.53,93.43,96.61,100,103.63,106.9,110.16,"..."]
["WZ08-R-02","Sonstige Dienstleister",65.650000000000006,67.849999999999994,69.709999999999994,71.62,73.42,75.069999999999993,76.62,78.27,80.06,81.84,83.56,84.93,86.29,87.53,89.18,91.01,92.98,94.53,95.78,96.85,97.72,98.26,98.78,99.36,100,100.47,101,101.47,101.94]
["WZ08-R","Kunst, Unterhaltung und Erholung",68.36,70.22,71.8,73.31,74.66,75.88,77.069999999999993,78.48,80.14,81.790000000000006,83.41,84.68,85.97,87.2,88.95,90.84,92.91,94.41,95.73,96.79,97.62,98.11,98.66,99.28,100,100.53,101.14,101.68,102.19]
["WZ08-90-01","Kunst und Kultur, Glücksspiel",62.34,65.099999999999994,67.28,69.23,70.959999999999994,72.5,73.91,75.62,77.63,79.62,81.58,83.07,84.55,85.93,87.3,88.71,90.29,91.87,93.75,95.12,96.09,96.88,97.7,98.69,100,100.92,102.02,102.87,"..."]
["WZ08-93","Dienstleistungen d.Sports,d.Unterhaltg.u.Erholung",72.23,73.510000000000005,74.7,75.92,77.03,78.05,79.099999999999994,80.31,81.739999999999995,83.18,84.58,85.69,86.86,87.99,89.99,92.18,94.58,96.03,96.99,97.86,98.59,98.89,99.26,99.66,100,100.28,100.58,100.92,"..."]
["WZ08-S","Erbringung von sonstigen Dienstleistungen",58.34,61.42,64.05,67.05,70.069999999999993,72.849999999999994,75.38,77.69,79.87,81.97,84,85.67,87.19,88.48,89.84,91.49,93.18,94.89,95.94,97,98.03,98.71,99.15,99.58,100,100.31,100.6,100.86,101.19]
["WZ08-94","Interessenvertr., kirchl. u. sonst. Vereinigungen",60.14,62.86,65.28,67.83,70.150000000000006,72.33,74.489999999999995,76.64,78.819999999999993,80.95,82.95,84.67,86.23,87.3,88.21,89.4,90.72,92.04,93.24,94.63,95.98,97.15,98.15,99.07,100,100.85,101.64,102.36,"..."]
["WZ08-95","Reparatur von DV-Geräten und Gebrauchsgütern",21.77,23.87,26.14,28.38,30.87,33.049999999999997,35.69,39.119999999999997,43.55,48.59,53.99,56.04,58.19,59.94,61.7,63.41,65.349999999999994,68.05,75.349999999999994,81.62,87.78,91.11,95.02,97.55,100,101.11,100.46,101.94,"..."]
["WZ08-96","Sonstige überwiegend persönliche Dienstleistungen",57.43,61.15,64.13,67.92,72.11,75.95,79.11,81.650000000000006,83.7,85.63,87.55,89.11,90.54,92.17,94.32,96.82,99.17,101.57,102.05,102.26,102.44,102.06,101.29,100.68,100,99.23,98.57,97.87,"..."]
["WZ08-T","Private Haushalte",0,0,0,0,0,0,0,0,0,0,0,0,0,0,0,0,0,0,0,0,0,0,0,0,0,0,0,0,0]
["WZ08-A-02","Alle Wirtschaftsbereiche",64.349999999999994,66.45,68.349999999999994,70.31,72.2,74.02,75.790000000000006,77.62,79.52,81.41,83.13,84.49,85.78,86.97,88.12,89.44,90.82,92.19,93.16,94.24,95.41,96.6,97.65,98.82,100,101.26,102.55,103.92,105.31]
[]
["Vorleistungen (jew. ME)"]
["Wirtschaftsbereiche (WZ2008)",null,"1991","1992","1993","1994","1995","1996","1997","1998","1999","2000","2001","2002","2003","2004","2005","2006","2007","2008","2009","2010","2011","2012","2013","2014","2015","2016","2017","2018","2019","2020"]
["in jeweiligen Preisen (Mrd. EUR)"]
["WZ08-A","Land- und Forstwirtschaft, Fischerei",22.49,22.263999999999999,21.718,21.498000000000001,21.765999999999998,21.634,21.864999999999998,21.427,21.189,22.120999999999999,21.952000000000002,22.446000000000002,22.956,23.204999999999998,23.111000000000001,23.823,27.658999999999999,29.308,27.087,28.991,32.029000000000003,33.383000000000003,34.837000000000003,34.261000000000003,34.348999999999997,32.756999999999998,33.014000000000003,33.802999999999997,35.457999999999998,34.816000000000003]
["WZ08-01","Landwirtschaft, Jagd und verbundene Tätigkeiten",21.260999999999999,20.843,20.363,20.167000000000002,20.448,20.327999999999999,20.565999999999999,20.091999999999999,19.829000000000001,20.434000000000001,20.541,21.065000000000001,21.57,21.655000000000001,21.349,21.786000000000001,25.366,27.103000000000002,24.823,26.809000000000001,29.475000000000001,30.891999999999999,32.094000000000001,31.547999999999998,31.451000000000001,30.062999999999999,30.187000000000001,30.724,"...","..."]
["WZ08-021","Forstwirtschaft",1.093,1.2909999999999999,1.2270000000000001,1.2090000000000001,1.1950000000000001,1.17,1.159,1.1830000000000001,1.1950000000000001,1.5269999999999999,1.254,1.2190000000000001,1.2250000000000001,1.3879999999999999,1.591,1.8560000000000001,2.1230000000000002,2.0249999999999999,2.077,2.0129999999999999,2.3679999999999999,2.351,2.5819999999999999,2.5409999999999999,2.7130000000000001,2.5,2.6139999999999999,2.8639999999999999,"...","..."]
["WZ08-031","Fischerei",0.13600000000000001,0.13,0.128,0.122,0.123,0.13600000000000001,0.14000000000000001,0.152,0.16500000000000001,0.16,0.157,0.16200000000000001,0.161,0.16200000000000001,0.17100000000000001,0.18099999999999999,0.17,0.18,0.187,0.16900000000000001,0.186,0.14000000000000001,0.161,0.17199999999999999,0.185,0.19400000000000001,0.21299999999999999,0.215,"...","..."]
["WZ08-B-05","Produzierendes Gewerbe",766.89200000000005,783.79399999999998,750.88499999999999,787.11699999999996,839.24,837.21799999999996,869.25,901.29,935.21699999999998,1024.2439999999999,1047.575,1012.216,1030.9449999999999,1082.413,1143.8430000000001,1258.6279999999999,1367.7619999999999,1421.1880000000001,1185.4570000000001,1314.924,1489.297,1479.9649999999999,1467.73,1480.9929999999999,1486.5260000000001,1501.2539999999999,1602.6279999999999,1657.269,1610.4369999999999,1474.49]
["WZ08-B-18","Produzierendes Gewerbe ohne Baugewerbe",673.96900000000005,674.70899999999995,631.72900000000004,653.79899999999998,705.20600000000002,702.923,736.30499999999995,771.06600000000003,800.274,890.85699999999997,919.55600000000004,896.16899999999998,915.18100000000004,971.08600000000001,1034.973,1139.08,1243.654,1287.6079999999999,1052.057,1178.6959999999999,1340.0319999999999,1327.0119999999999,1312.6310000000001,1320.7529999999999,1327.3389999999999,1334.5319999999999,1427.6669999999999,1464.38,1408.7660000000001,1269.0940000000001]
["WZ08-B","Bergbau und Gewinnung von Steinen und Erden",14.315,13.052,12.173,12.188000000000001,12.061999999999999,10.65,9.8800000000000008,9.4689999999999994,7.8490000000000002,7.907,7.2549999999999999,7.3849999999999998,9.4610000000000003,8.4640000000000004,8.2189999999999994,8.1620000000000008,8.6460000000000008,7.3860000000000001,6.51,7.3520000000000003,7.5,6.8330000000000002,6.7409999999999997,7.0419999999999998,7.0830000000000002,6.6059999999999999,6.6379999999999999,6.3109999999999999,5.4080000000000004,"..."]
["WZ08-C","Verarbeitendes Gewerbe",621.245,620.83399999999995,577.09,597.73900000000003,649.63099999999997,649.64300000000003,683.39300000000003,715.89200000000005,744.053,833.47500000000002,858.54200000000003,831.54300000000001,845.91399999999999,897.94,954.82899999999995,1048.2940000000001,1142.3579999999999,1182.4849999999999,946.221,1062.528,1213.8530000000001,1204.441,1191.8019999999999,1199.835,1203.8040000000001,1207.7370000000001,1293.002,1324.069,1272.7760000000001,1140.173]
["WZ08-10-01","Ernährungsgewerbe und Tabakverarbeitung",92.86,94.483999999999995,91.173000000000002,91.566999999999993,93.046000000000006,93.608000000000004,96.126000000000005,93.108000000000004,92.242000000000004,95.95,101.193,99.54,103.239,104.023,106.93899999999999,113.461,118.901,128.96299999999999,116.72199999999999,121.908,133.483,137.98400000000001,141.964,139.72800000000001,134.774,137.00899999999999,148.446,147.21199999999999,"...","..."]
["WZ08-13-01","Textil- und Bekleidungsgewerbe",25.51,23.731999999999999,21.765000000000001,20.827000000000002,20.193000000000001,19.587,19.802,19.747,19.218,19.602,19.809999999999999,17.841000000000001,16.704000000000001,16.608000000000001,16.138999999999999,16.818999999999999,17.57,16.294,13.587999999999999,14.835000000000001,16.739999999999998,15.117000000000001,14.983000000000001,15.869,15.265000000000001,15.471,15.733000000000001,16.245999999999999,"...","..."]
["WZ08-16-01","H.v. Holzwaren, Papier und Druckerzeugnissen",40.177999999999997,39.679000000000002,37.89,40.576000000000001,43.905999999999999,40.064,41.981000000000002,42.234999999999999,44.2,48.412999999999997,47.289000000000001,47.503999999999998,45.238,47.216000000000001,49.84,54.118000000000002,57.783999999999999,56.939,51.512999999999998,56.92,60.588000000000001,58.167999999999999,57.564999999999998,56.887,56.662999999999997,56.78,58.87,57.673000000000002,"...","..."]
["WZ08-16","H.v. Holz-, Flecht-, Korb-u.Korkwaren (ohne Möbel)",10.023,10.494999999999999,10.377000000000001,12.215999999999999,13.831,12.587,12.916,12.914999999999999,13.191000000000001,13.169,12.648,13.622999999999999,12.901,13.744,14.56,15.983000000000001,17.518000000000001,15.375999999999999,14.227,15.499000000000001,16.419,16.911999999999999,17.571999999999999,18.149000000000001,18.526,17.533000000000001,17.542999999999999,17.622,"...","..."]
["WZ08-17","Herstellung von Papier, Pappe und Waren daraus",18.681999999999999,17.620999999999999,16.143999999999998,16.667000000000002,17.788,16.494,18.084,17.847000000000001,18.75,22.068000000000001,21.187000000000001,21.05,20.561,21.048999999999999,21.902999999999999,23.936,26.123999999999999,27.632999999999999,23.491,27.794,29.972999999999999,27.984999999999999,27.619,26.954000000000001,27.023,27.298999999999999,28.847999999999999,29.364999999999998,"...","..."]
["WZ08-18","H.v. Druckerz., Vervielf.v.Ton-,Bild-,Datenträgern",11.473000000000001,11.563000000000001,11.369,11.693,12.287000000000001,10.983000000000001,10.981,11.473000000000001,12.259,13.176,13.454000000000001,12.831,11.776,12.423,13.377000000000001,14.199,14.141999999999999,13.93,13.795,13.627000000000001,14.196,13.271000000000001,12.374000000000001,11.784000000000001,11.114000000000001,11.948,12.478999999999999,10.686,"...","..."]
["WZ08-19","Kokerei und Mineralölverarbeitung",23.696999999999999,21.506,19.989000000000001,20.768000000000001,21.199000000000002,21.353999999999999,20.756,18.344000000000001,22.832999999999998,34.131999999999998,32.246000000000002,33.598999999999997,37.573,44.518000000000001,53.896999999999998,57.088000000000001,56.009,73.138999999999996,46.238,57.073999999999998,72.144999999999996,77.613,73.394000000000005,65.983999999999995,49.472000000000001,44.055999999999997,47.536000000000001,53.609000000000002,"...","..."]
["WZ08-20","Herstellung von chemischen Erzeugnissen",48.344000000000001,47.127000000000002,44.514000000000003,48.146000000000001,54.988,53.048000000000002,55.835999999999999,55.189,57.405999999999999,66.991,67.311999999999998,63.055,65.036000000000001,67.215000000000003,69.162000000000006,76.599000000000004,82.641000000000005,86.317999999999998,72.650000000000006,85.347999999999999,95.745999999999995,93.638999999999996,96.126999999999995,94.171000000000006,92.274000000000001,85.727000000000004,101.71299999999999,95.555999999999997,"...","..."]
["WZ08-21","Herstellung von pharmazeutischen Erzeugnissen",8.6150000000000002,8.3829999999999991,7.9370000000000003,8.6219999999999999,9.8119999999999994,10.441000000000001,11.808999999999999,12.53,12.853999999999999,13.853999999999999,14.492000000000001,14.698,16.417000000000002,16.687000000000001,17.745999999999999,18.577000000000002,21.78,20.846,18.292999999999999,17.905000000000001,18.96,20.338000000000001,22.959,22.591000000000001,23.728999999999999,24.187000000000001,19.189,31.521999999999998,"...","..."]
["WZ08-22-01","H.v. Gummi-, Kunststoff-, Glaswaren, Keramik u.Ä.",44.588000000000001,47.084000000000003,46.124000000000002,48.08,52.436999999999998,49.552,51.271000000000001,51.578000000000003,53.110999999999997,56.514000000000003,55.921999999999997,55.295000000000002,54.762999999999998,58.11,60.360999999999997,66.813999999999993,70.102000000000004,70.927999999999997,61.207000000000001,67.972999999999999,78.593999999999994,76.393000000000001,77.393000000000001,78.959999999999994,78.56,79.822999999999993,85.483999999999995,88.09,"...","..."]
["WZ08-22","Herstellung von Gummi- und Kunststoffwaren",24.943000000000001,25.727,24.175000000000001,24.632000000000001,27.981000000000002,26.582000000000001,28.327000000000002,29.02,29.734999999999999,32.463999999999999,32.881999999999998,32.887,33.19,35.679000000000002,37.47,41.539000000000001,43.744999999999997,43.890999999999998,36.731000000000002,43.08,49.345999999999997,48.316000000000003,48.722000000000001,49.875,50.59,51.338000000000001,54.966000000000001,55.901000000000003,"...","..."]
["WZ08-23","H.v.Glas,-waren,Keramik,Verarb. v.Steinen u.Erden",19.645,21.356999999999999,21.949000000000002,23.448,24.456,22.97,22.943999999999999,22.558,23.376000000000001,24.05,23.04,22.408000000000001,21.573,22.431000000000001,22.890999999999998,25.274999999999999,26.356999999999999,27.036999999999999,24.475999999999999,24.893000000000001,29.248000000000001,28.077000000000002,28.670999999999999,29.085000000000001,27.97,28.484999999999999,30.518000000000001,32.189,"...","..."]
["WZ08-24-01","Metallgewerbe",77.343000000000004,76.135000000000005,68.718000000000004,72.126000000000005,82.203000000000003,77.53,82.332999999999998,85.667000000000002,82.04,94.120999999999995,96.284999999999997,91.637,93.192999999999998,106.465,117.509,137.86699999999999,158.44,161.952,113.44499999999999,139.673,169.17599999999999,159.94999999999999,152.595,151.28100000000001,150.34700000000001,146.85900000000001,163.34399999999999,169.19499999999999,"...","..."]
["WZ08-24","Metallerzeugung und -bearbeitung",36.433,34.244,29.248999999999999,30.631,38.314999999999998,34.893000000000001,39.073,39.5,35.851999999999997,43.823999999999998,45.322000000000003,44.23,43.622999999999998,52.84,60.023000000000003,74.617999999999995,84.328999999999994,86.93,54.732999999999997,73.885999999999996,91.808000000000007,86.412999999999997,78.828000000000003,76.861999999999995,77.307000000000002,71.372,82.575999999999993,85.608999999999995,"...","..."]
["WZ08-25","Herstellung von Metallerzeugnissen",40.909999999999997,41.890999999999998,39.469000000000001,41.494999999999997,43.887999999999998,42.637,43.26,46.167000000000002,46.188000000000002,50.296999999999997,50.963000000000001,47.406999999999996,49.57,53.625,57.485999999999997,63.249000000000002,74.111000000000004,75.022000000000006,58.712000000000003,65.787000000000006,77.367999999999995,73.537000000000006,73.766999999999996,74.418999999999997,73.040000000000006,75.486999999999995,80.768000000000001,83.585999999999999,"...","..."]
["WZ08-26","H.v. DV-Geräten, elektron. u. opt. Erzeugnissen",28.984999999999999,29.367999999999999,25.838000000000001,26.443999999999999,28.2,27.972000000000001,29.518000000000001,31.22,35.406999999999996,46.779000000000003,45.372999999999998,40.054000000000002,40.649000000000001,40.235999999999997,41.412999999999997,46.100999999999999,54.648000000000003,48.701999999999998,34.515999999999998,38.183999999999997,41.936,39.15,39.673000000000002,39.094000000000001,44.631,47.179000000000002,47.72,50.805,"...","..."]
["WZ08-27","Herstellung von elektrischen Ausrüstungen",37.475000000000001,38.134,40.176000000000002,41.423999999999999,41.750999999999998,41.889000000000003,45.938000000000002,49.865000000000002,49.320999999999998,50.71,57.017000000000003,51.209000000000003,50.594999999999999,54.761000000000003,56.237000000000002,62.293999999999997,59.777000000000001,62.774000000000001,52.350999999999999,56.875,65.728999999999999,63.671999999999997,60.802999999999997,61.216999999999999,60.942999999999998,61.152999999999999,64.616,63.917999999999999,"...","..."]
["WZ08-28","Maschinenbau",72.771000000000001,71.052000000000007,63.393000000000001,64.634,72.75,74.296999999999997,76.233999999999995,81.896000000000001,81.787000000000006,90.033000000000001,94.712999999999994,90.664000000000001,95.519000000000005,101.41200000000001,108.633,122.866,140.02699999999999,149.87799999999999,114.54900000000001,124.705,145.97,146.61000000000001,146.495,149.648,151.779,156.05600000000001,168.483,174.005,"...","..."]
["WZ08-29-01","Fahrzeugbau",89.587999999999994,92.144999999999996,79.004999999999995,83.927999999999997,96.713999999999999,107.566,118.214,139.34299999999999,156.797,176.67699999999999,186.54499999999999,188.65700000000001,187.88300000000001,201.11,215.154,229.50700000000001,252.672,254.066,203.93700000000001,232.624,262.649,265.00200000000001,256.48200000000003,272.15699999999998,293.00200000000001,296.95299999999997,312.315,315.67099999999999,"...","..."]
["WZ08-29","Herstellung von Kraftwagen und Kraftwagenteilen",80.614999999999995,82.784000000000006,70.239999999999995,75.108999999999995,87.644000000000005,97.283000000000001,107.056,127.658,144.05500000000001,162.36500000000001,170.58600000000001,173.958,172.55,185.89400000000001,198.64599999999999,211.14400000000001,232.21,231.96199999999999,182.43799999999999,210.29,239.75200000000001,240.559,229.59800000000001,243.798,262.89299999999997,265.44299999999998,276.04399999999998,279.303,"...","..."]
["WZ08-30","Sonstiger Fahrzeugbau",8.9730000000000008,9.3610000000000007,8.7650000000000006,8.8190000000000008,9.07,10.282999999999999,11.157999999999999,11.685,12.742000000000001,14.311999999999999,15.959,14.699,15.333,15.215999999999999,16.507999999999999,18.363,20.462,22.103999999999999,21.498999999999999,22.334,22.896999999999998,24.443000000000001,26.884,28.359000000000002,30.109000000000002,31.51,36.271000000000001,36.368000000000002,"...","..."]
["WZ08-31-01","Möbelherstellung, Installation von Maschinen",31.291,32.005000000000003,30.568000000000001,30.597000000000001,32.432000000000002,32.734999999999999,33.575000000000003,35.17,36.837000000000003,39.698999999999998,40.344999999999999,37.79,39.104999999999997,39.579000000000001,41.798999999999999,46.183,52.006999999999998,51.686,47.212000000000003,48.503999999999998,52.137,50.805,51.369,52.247999999999998,52.365000000000002,56.484000000000002,59.552999999999997,60.567,"...","..."]
["WZ08-31-02","Herstellung von Möbeln und sonstigen Waren",19.003,19.47,18.606999999999999,18.236999999999998,19.388999999999999,19.175000000000001,19.843,20.876000000000001,21.402999999999999,23.050999999999998,23.065999999999999,22.206,22.331,22.472000000000001,23.427,25.675999999999998,28.108000000000001,28.943000000000001,24.550999999999998,26.731000000000002,28.713999999999999,28.608000000000001,27.765999999999998,27.663,29.167000000000002,31.26,32.241999999999997,34.142000000000003,"...","..."]
["WZ08-33","Reparatur u.Installation von Masch.u.Ausrüstungen",12.288,12.535,11.961,12.36,13.042999999999999,13.56,13.731999999999999,14.294,15.433999999999999,16.648,17.279,15.584,16.774000000000001,17.106999999999999,18.372,20.507000000000001,23.899000000000001,22.742999999999999,22.661000000000001,21.773,23.422999999999998,22.196999999999999,23.603000000000002,24.585000000000001,23.198,25.224,27.311,26.425000000000001,"...","..."]
["WZ08-D","Energieversorgung",28.192,29.207999999999998,30.01,30.215,29.545999999999999,27.951000000000001,27.623999999999999,29.678000000000001,31.388000000000002,31.587,35.924999999999997,38.652000000000001,41.244999999999997,45.325000000000003,50.851999999999997,59.258000000000003,67.766999999999996,72.778999999999996,75.599999999999994,82.352000000000004,88.427000000000007,85.281000000000006,83.768000000000001,79.912000000000006,83.08,85.55,90.103999999999999,93.444000000000003,89.331999999999994,"..."]
["WZ08-E","Wasserversorg.,Entsorg.,Beseitig.v.Umweltverschm.",10.217000000000001,11.615,12.456,13.657,13.967000000000001,14.679,15.407999999999999,16.027000000000001,16.984000000000002,17.888000000000002,17.834,18.588999999999999,18.561,19.356999999999999,21.073,23.366,24.882999999999999,24.957999999999998,23.725999999999999,26.463999999999999,30.251999999999999,30.457000000000001,30.32,33.963999999999999,33.372,34.639000000000003,37.923000000000002,40.555999999999997,41.25,"..."]
["WZ08-36","Wasserversorgung",1.87,2.1030000000000002,2.0489999999999999,2.2389999999999999,2.0670000000000002,2.2290000000000001,2.4289999999999998,2.9020000000000001,2.9460000000000002,2.9750000000000001,2.8780000000000001,2.9119999999999999,3.0169999999999999,3.093,3.1829999999999998,3.323,3.3109999999999999,3.5339999999999998,3.367,3.3980000000000001,3.7170000000000001,3.5939999999999999,3.7050000000000001,3.64,3.7050000000000001,3.9489999999999998,4.0640000000000001,4.1879999999999997,"...","..."]
["WZ08-37-01","Abwasser-, Abfallentsorgung, Rückgewinnung",8.3469999999999995,9.5120000000000005,10.407,11.417999999999999,11.9,12.45,12.978999999999999,13.125,14.038,14.913,14.956,15.677,15.544,16.263999999999999,17.89,20.042999999999999,21.571999999999999,21.423999999999999,20.359000000000002,23.065999999999999,26.535,26.863,26.614999999999998,30.324000000000002,29.667000000000002,30.69,33.859000000000002,36.368000000000002,"...","..."]
["WZ08-F","Baugewerbe",92.923000000000002,109.08499999999999,119.15600000000001,133.31800000000001,134.03399999999999,134.29499999999999,132.94499999999999,130.22399999999999,134.94300000000001,133.387,128.01900000000001,116.047,115.764,111.327,108.87,119.548,124.108,133.58000000000001,133.4,136.22800000000001,149.26499999999999,152.953,155.09899999999999,160.24,159.18700000000001,166.72200000000001,174.96100000000001,192.88900000000001,201.67099999999999,205.39599999999999]
["WZ08-G-04","Dienstleistungsbereiche",505.76100000000002,549.00300000000004,572.20000000000005,598.79100000000005,620.54100000000005,650.029,675.46600000000001,710.28700000000003,770.375,817.44899999999996,848.38699999999994,844.50300000000004,883.31200000000001,909.21400000000006,955.44600000000003,989.99400000000003,1035.6400000000001,1100.079,1100.0429999999999,1169.2539999999999,1220.6120000000001,1220.241,1225.2080000000001,1286.42,1331.9,1388.038,1442.7809999999999,1512.367,1552.7909999999999,1490.4380000000001]
["WZ08-G-01","Handel, Verkehr, Gastgewerbe",202.58799999999999,212.61199999999999,214.46299999999999,222.81100000000001,228.97499999999999,230.90700000000001,239.49199999999999,248.31100000000001,262.30599999999998,277.27600000000001,284.779,282.26299999999998,286.988,303.91199999999998,317.98,334.43099999999998,350.04599999999999,378.78399999999999,350.91699999999997,393.447,417.09500000000003,409.38200000000001,413.42200000000003,435.69900000000001,444.065,451.346,474.113,506.976,520.48699999999997,484.262]
["WZ08-G","Handel, Instandhaltung und Reparatur von Kfz",106.595,111.468,110.83799999999999,114.08799999999999,117.815,118.268,122.592,127.96,136.6,139.15,142.083,139.322,144.041,154.459,158.273,164.608,167.809,181.05,169.798,191.34399999999999,198.74600000000001,186.35400000000001,188.28299999999999,199.12100000000001,200.17599999999999,208.584,219.517,236.983,242.55199999999999,244.815]
["WZ08-45","Kfz-Handel, Instandhaltung und Reparatur von Kfz",11.706,12.394,11.852,12.289,12.567,12.991,13.507,14.478,16.172000000000001,15.882999999999999,16.472000000000001,18.082000000000001,19.512,18.815000000000001,19.489999999999998,20.009,19.805,21.213000000000001,19.905999999999999,21.074000000000002,21.646999999999998,20.009,20.57,20.975999999999999,21.167999999999999,24.251999999999999,25.666,27.866,"...","..."]
["WZ08-46","Großhandel (ohne Handel mit Kraftfahrzeugen)",55.152000000000001,56.234000000000002,55.084000000000003,56.835999999999999,59.316000000000003,58.642000000000003,62.045000000000002,64.900999999999996,68.492999999999995,66.864000000000004,65.867999999999995,60.53,63.569000000000003,72.438000000000002,71.662999999999997,77.191999999999993,79.031999999999996,87.373000000000005,80.921999999999997,98.406999999999996,101.825,89.756,89.986999999999995,99.263000000000005,100.264,101.816,107.709,118.59,"...","..."]
["WZ08-47","Einzelhandel (ohne Handel mit Kraftfahrzeugen)",39.737000000000002,42.84,43.902000000000001,44.963000000000001,45.932000000000002,46.634999999999998,47.04,48.581000000000003,51.935000000000002,56.402999999999999,59.743000000000002,60.71,60.96,63.206000000000003,67.12,67.406999999999996,68.971999999999994,72.463999999999999,68.97,71.863,75.274000000000001,76.588999999999999,77.725999999999999,78.882000000000005,78.744,82.516000000000005,86.141999999999996,90.527000000000001,"...","..."]
["WZ08-H","Verkehr und Lagerei",69.433000000000007,72.724999999999994,74.441000000000003,78.69,80.649000000000001,82.438999999999993,86.513999999999996,90.126999999999995,93.825000000000003,105.52200000000001,110.76,111.804,112.524,118.78700000000001,128.08099999999999,136.756,149.095,163.28700000000001,145.28100000000001,162.99299999999999,177.76900000000001,181.61199999999999,181.20699999999999,191.44499999999999,198.17099999999999,195.28800000000001,205.57,218.99,224.85599999999999,202.822]
["WZ08-49","Landverkehr und Transport in Rohrfernleitungen",26.975000000000001,28.443999999999999,26.678000000000001,26.995000000000001,27.664999999999999,28.547999999999998,29.957000000000001,29.957000000000001,30.591999999999999,36.610999999999997,37.146999999999998,35.122999999999998,36.098999999999997,36.055999999999997,38.892000000000003,41.558999999999997,43.567999999999998,46.475999999999999,43.573,45.814,47.317,48.567,49.222000000000001,49.540999999999997,51.848999999999997,53.116999999999997,55.527999999999999,59.222000000000001,"...","..."]
["WZ08-50","Schifffahrt",3.6,3.448,3.7919999999999998,4.1289999999999996,4.4420000000000002,4.5259999999999998,4.2699999999999996,4.9379999999999997,5.21,6.6609999999999996,7.2869999999999999,7.4649999999999999,7.2309999999999999,8.6790000000000003,8.6839999999999993,9.6180000000000003,13.301,16.504999999999999,12.102,15.941000000000001,17.649999999999999,18.43,17.387,17.338999999999999,21.326000000000001,16.245000000000001,17.611000000000001,19.939,"...","..."]
["WZ08-51","Luftfahrt",5.2969999999999997,5.8609999999999998,6.1529999999999996,7.3230000000000004,7.3659999999999997,7.4969999999999999,7.8949999999999996,8.2710000000000008,8.9570000000000007,11.238,11.077999999999999,12.166,12.445,13.662000000000001,15.327,16.550999999999998,17.055,18.844999999999999,15.521000000000001,17.164999999999999,19.190000000000001,20.088999999999999,19.219000000000001,21.446000000000002,18.562000000000001,17.952000000000002,17.893999999999998,18.544,"...","..."]
["WZ08-52","Lagerei, sonstige Dienstleistungen für den Verkehr",31.103999999999999,32.198999999999998,34.616,36.533000000000001,37.067,37.244,39.130000000000003,40.972000000000001,42.027999999999999,42.893999999999998,45.79,46.334000000000003,45.853999999999999,47.929000000000002,51.177,54.628,60.44,65.459000000000003,57.832000000000001,65.55,73.968999999999994,74.893000000000001,75.126000000000005,81.882000000000005,81.192999999999998,83.88,89.570999999999998,94.849000000000004,"...","..."]
["WZ08-53","Post-, Kurier- und Expressdienste",2.4569999999999999,2.7730000000000001,3.202,3.71,4.109,4.6239999999999997,5.2619999999999996,5.9889999999999999,7.0380000000000003,8.1180000000000003,9.4580000000000002,10.715999999999999,10.895,12.461,14.000999999999999,14.4,14.731,16.001999999999999,16.253,18.523,19.643000000000001,19.632999999999999,20.253,21.236999999999998,25.241,24.094000000000001,24.966000000000001,26.436,"...","..."]
["WZ08-I","Gastgewerbe",26.56,28.419,29.184000000000001,30.033000000000001,30.510999999999999,30.2,30.385999999999999,30.224,31.881,32.603999999999999,31.936,31.137,30.422999999999998,30.666,31.626000000000001,33.067,33.142000000000003,34.447000000000003,35.838000000000001,39.11,40.58,41.415999999999997,43.932000000000002,45.133000000000003,45.718000000000004,47.473999999999997,49.026000000000003,51.003,53.079000000000001,36.625]
["WZ08-J","Information und Kommunikation",27.164000000000001,30.248000000000001,33.222999999999999,34.738999999999997,36.081000000000003,40.228000000000002,44.378999999999998,50.344000000000001,61.790999999999997,72.97,80.900000000000006,78.783000000000001,89.727999999999994,87.614999999999995,96.138000000000005,95.262,103.95399999999999,116.949,117.95399999999999,115.992,119.102,117.43899999999999,120.857,124.639,128.476,133.815,141.49299999999999,151.75299999999999,155.02199999999999,151.684]
["WZ08-58-01","Verlagswesen, audio-visual media and Rundfunk",16.798999999999999,18.041,19.094999999999999,20.422000000000001,21.478999999999999,23.077000000000002,24.259,26.032,28.047999999999998,30.709,29.739000000000001,28.414000000000001,27.942,28.343,28.167000000000002,29.428999999999998,30.8,34.103999999999999,32.790999999999997,33.189,35.494999999999997,34.466999999999999,35.69,35.167000000000002,36.865000000000002,38.292000000000002,40.512999999999998,41.665999999999997,"...","..."]
["WZ08-58","Verlagswesen",11.497999999999999,11.566000000000001,11.448,11.683999999999999,12.118,12.576000000000001,12.718999999999999,13.182,14.099,14.895,14.98,14.058,13.552,13.438000000000001,13.611000000000001,14.082000000000001,15.62,17.117000000000001,16.806000000000001,16.835000000000001,18.411999999999999,17.382999999999999,18.539000000000001,18.152999999999999,18.706,19.088999999999999,19.617000000000001,20.181999999999999,"...","..."]
["WZ08-59-01","Audiovisuelle Medien und Rundfunk",5.3010000000000002,6.4749999999999996,7.6470000000000002,8.7379999999999995,9.3610000000000007,10.500999999999999,11.54,12.85,13.949,15.814,14.759,14.356,14.39,14.904999999999999,14.555999999999999,15.347,15.18,16.986999999999998,15.984999999999999,16.353999999999999,17.082999999999998,17.084,17.151,17.013999999999999,18.158999999999999,19.202999999999999,20.896000000000001,21.484000000000002,"...","..."]
["WZ08-61","Telekommunikation",5.2050000000000001,6.593,7.6379999999999999,7.8540000000000001,7.3289999999999997,8.1690000000000005,9.7949999999999999,10.896000000000001,18.318999999999999,23.846,28.39,29.829000000000001,39.817,37.652000000000001,42.811999999999998,39.988,44.058,47.601999999999997,50.097000000000001,44.503,42.293999999999997,37.485999999999997,37.307000000000002,39.463000000000001,40.139000000000003,42.69,42.435000000000002,42.018999999999998,"...","..."]
["WZ08-62-01","IT- und Informationsdienstleister",5.16,5.6139999999999999,6.49,6.4630000000000001,7.2729999999999997,8.9819999999999993,10.324999999999999,13.416,15.423999999999999,18.414999999999999,22.771000000000001,20.54,21.969000000000001,21.62,25.158999999999999,25.844999999999999,29.096,35.243000000000002,35.066000000000003,38.299999999999997,41.313000000000002,45.485999999999997,47.86,50.009,51.472000000000001,52.832999999999998,58.545000000000002,68.067999999999998,"...","..."]
["WZ08-K","Erbringung von Finanz- und Versicherungsleistungen",47.005000000000003,49.646000000000001,51.988999999999997,55.462000000000003,59.253,64.259,69.834000000000003,75.289000000000001,80.965000000000003,94.168000000000006,92.483999999999995,99.185000000000002,110.289,113.28700000000001,114.36199999999999,119.624,122.389,126.509,129.12700000000001,130.86000000000001,129.68,134.08199999999999,132.42099999999999,138.56399999999999,144.88999999999999,144.99199999999999,144.63399999999999,147.977,150.333,151.07499999999999]
["WZ08-64","Erbringung von Finanzdienstleistungen",20.911999999999999,22.777000000000001,23.716000000000001,24.641999999999999,26.675000000000001,29.695,33.040999999999997,37.607999999999997,42.432000000000002,51.234999999999999,53.993000000000002,52.432000000000002,54.591999999999999,53.378999999999998,58.279000000000003,60.835000000000001,65.665000000000006,67.936000000000007,68.742999999999995,70.05,69.674000000000007,69.048000000000002,70.861999999999995,72.644999999999996,76.653000000000006,76.132999999999996,76.552000000000007,77.397999999999996,"...","..."]
["WZ08-65","Versicherungen, Rückversicherungen, Pensionskassen",20.146999999999998,20.771999999999998,21.516999999999999,23.510999999999999,25.251999999999999,26.698,28.417999999999999,28.71,27.971,32.128,27.582999999999998,35.819000000000003,43.808,46.264000000000003,43.095999999999997,44.963000000000001,42.384999999999998,44.183999999999997,45.216999999999999,44.906999999999996,43.405000000000001,47.006,43.723999999999997,49.749000000000002,52.804000000000002,53.287999999999997,51.805,53.21,"...","..."]
["WZ08-66","Mit Finanz- u. Versicherungsdienstl. verb. Tätigk.",5.9459999999999997,6.0970000000000004,6.7560000000000002,7.3090000000000002,7.3259999999999996,7.8659999999999997,8.375,8.9710000000000001,10.561999999999999,10.805,10.907999999999999,10.933999999999999,11.888999999999999,13.644,12.987,13.826000000000001,14.339,14.388999999999999,15.167,15.903,16.600999999999999,18.027999999999999,17.835000000000001,16.170000000000002,15.433,15.571,16.277000000000001,17.369,"...","..."]
["WZ08-L","Grundstücks- und Wohnungswesen",50.67,58.487000000000002,64.715000000000003,68.718000000000004,71.177999999999997,77.319999999999993,76.716999999999999,79.47,84.233000000000004,80.364000000000004,83.406000000000006,79.801000000000002,83.635999999999996,84.087000000000003,87.182000000000002,87.430999999999997,85.998999999999995,85.238,100.681,100.744,100.99,96.590999999999994,94.566000000000003,96.76,94.504000000000005,100.86799999999999,105.11199999999999,111.26300000000001,113.508,110.02500000000001]
["WZ08-M-02","Unternehmensdienstleister",65.92,74.722999999999999,81.813000000000002,85.99,89.664000000000001,96.003,101.053,109.44499999999999,122.52,131.19,138.79599999999999,133.02099999999999,138.185,144.215,157.99799999999999,165.423,176.64099999999999,184.68899999999999,177.238,194.61500000000001,210.10499999999999,216.56800000000001,207.196,224.18,243.9,262.99299999999999,269.85500000000002,277.29300000000001,282.56900000000002,251.65700000000001]
["WZ08-M","Freiberufliche, wiss. u. techn. Dienstleistungen",37.923999999999999,42.896000000000001,47.960999999999999,49.773000000000003,52.356000000000002,55.783999999999999,57.866,63.139000000000003,70.873999999999995,75.307000000000002,81.347999999999999,84.378,87.69,89.995999999999995,97.296000000000006,105.771,115.363,119.03100000000001,111.667,119.009,129.405,134.15700000000001,123.13500000000001,138.71899999999999,152.83000000000001,164.08600000000001,164.197,164.512,169.64,"..."]
["WZ08-69-01","Unternehmensnahe Beratungsleistungen",26.263000000000002,29.282,33.226999999999997,34.015999999999998,35.323999999999998,37.936,38.435000000000002,42,47.874000000000002,48.755000000000003,54.287999999999997,56.395000000000003,62.509,63.936999999999998,69.5,77.578999999999994,85.74,89.353999999999999,82.826999999999998,88.893000000000001,97.46,101.67400000000001,90.527000000000001,100.682,109.947,117.82299999999999,115.98399999999999,115.13500000000001,"...","..."]
["WZ08-69-02","Rechts- und Steuerberatung, Unternehmensberatung",16.645,17.626000000000001,21.170999999999999,21.341000000000001,22.646999999999998,24.893999999999998,25.488,28.222999999999999,32.805,33.176000000000002,38.316000000000003,40.051000000000002,46.7,48.173000000000002,52.143000000000001,58.500999999999998,64.363,65.742999999999995,58.543999999999997,63.100999999999999,69.215999999999994,74.171000000000006,64.731999999999999,73.483999999999995,82.459000000000003,87.093000000000004,85.905000000000001,81.257999999999996,"...","..."]
["WZ08-71","Architektur-,Ing.büros,techn.,physik.Untersuchung",9.6180000000000003,11.656000000000001,12.055999999999999,12.675000000000001,12.677,13.042,12.946999999999999,13.776999999999999,15.069000000000001,15.579000000000001,15.972,16.344000000000001,15.808999999999999,15.763999999999999,17.356999999999999,19.077999999999999,21.376999999999999,23.611000000000001,24.283000000000001,25.792000000000002,28.244,27.503,25.795000000000002,27.198,27.488,30.73,30.079000000000001,33.877000000000002,"...","..."]
["WZ08-72","Forschung und Entwicklung",3.274,3.4540000000000002,3.6080000000000001,3.77,3.9550000000000001,3.847,4.1509999999999998,4.7690000000000001,5.0270000000000001,6.6159999999999997,6.46,6.6029999999999998,6.8920000000000003,7.3789999999999996,7.5380000000000003,7.359,7.9509999999999996,9.35,9.2850000000000001,9.6769999999999996,9.7370000000000001,10.252000000000001,10.95,12.422000000000001,14.657999999999999,15.18,17.303000000000001,17.157,"...","..."]
["WZ08-73-01","Sonst.freiberufl., wissenschaftl., techn. Dienstl.",8.3870000000000005,10.16,11.125999999999999,11.987,13.077,14.000999999999999,15.28,16.37,17.972999999999999,19.936,20.6,21.38,18.289000000000001,18.68,20.257999999999999,20.832999999999998,21.672000000000001,20.327000000000002,19.555,20.439,22.207999999999998,22.231000000000002,21.658000000000001,25.614999999999998,28.225000000000001,31.082999999999998,30.91,32.22,"...","..."]
["WZ08-73","Werbung und Marktforschung",3.5670000000000002,4.2300000000000004,4.97,5.6639999999999997,6.21,7.04,7.141,8.2530000000000001,9.8759999999999994,10.958,11.212,11.295999999999999,10.143000000000001,11.081,11.858000000000001,11.68,11.85,11.744,12.029,11.891,11.531000000000001,11.177,10.205,11.045999999999999,11.561,12.804,13.244,13.781000000000001,"...","..."]
["WZ08-74-01","Freiberufl.,wiss.,techn.DL a.n.g., Veterinärwesen",4.82,5.93,6.1559999999999997,6.3230000000000004,6.867,6.9610000000000003,8.1389999999999993,8.1170000000000009,8.0969999999999995,8.9779999999999998,9.3879999999999999,10.084,8.1460000000000008,7.5990000000000002,8.4,9.1530000000000005,9.8219999999999992,8.5830000000000002,7.5259999999999998,8.548,10.677,11.054,11.452999999999999,14.569000000000001,16.664000000000001,18.279,17.666,18.439,"...","..."]
["WZ08-N","Sonstige wirtschaftliche Dienstleistungen",27.995999999999999,31.827000000000002,33.851999999999997,36.216999999999999,37.308,40.219000000000001,43.186999999999998,46.305999999999997,51.646000000000001,55.883000000000003,57.448,48.643000000000001,50.494999999999997,54.219000000000001,60.701999999999998,59.652000000000001,61.277999999999999,65.658000000000001,65.570999999999998,75.605999999999995,80.7,82.411000000000001,84.061000000000007,85.460999999999999,91.07,98.906999999999996,105.658,112.78100000000001,112.929,"..."]
["WZ08-77","Vermietung von beweglichen Sachen",9.5489999999999995,10.097,10.220000000000001,10.73,10.651999999999999,11.21,11.602,12.64,13.5,14.856999999999999,17.395,12.164,15.186,18.105,19.7,18.183,17.957000000000001,19.021000000000001,17.826000000000001,18.927,19.283000000000001,20.809000000000001,20.54,19.651,21.257000000000001,20.161999999999999,19.318000000000001,20.03,"...","..."]
["WZ08-78","Vermittlung und Überlassung von Arbeitskräften",0.79600000000000004,0.81299999999999994,0.79700000000000004,0.70299999999999996,0.81,0.87,0.94599999999999995,1.105,1.35,1.571,1.7470000000000001,1.556,1.4570000000000001,1.7949999999999999,2.0419999999999998,2.452,2.6509999999999998,2.7090000000000001,2.7610000000000001,8.4689999999999994,10.696,9.1530000000000005,7.9669999999999996,7.4880000000000004,6.8630000000000004,8.8140000000000001,9.2639999999999993,10.632999999999999,"...","..."]
["WZ08-79","Reisebüros, -veranstalter u. sonst. Reservierungen",8.3490000000000002,10.189,11.987,13.16,13.407,13.615,14.512,15.275,16.704999999999998,17.75,17.402999999999999,13.61,13.023,13.2,15.000999999999999,15.878,16.055,16.620999999999999,16.404,17.198,19.34,20.898,22.099,22.175999999999998,24.178000000000001,25.224,28.265999999999998,28.611999999999998,"...","..."]
["WZ08-80-01","Unternehmensdienstleister a.n.g.",9.3019999999999996,10.728,10.848000000000001,11.624000000000001,12.439,14.523999999999999,16.126999999999999,17.286000000000001,20.091000000000001,21.704999999999998,20.902999999999999,21.312999999999999,20.829000000000001,21.119,23.959,23.138999999999999,24.614999999999998,27.306999999999999,28.58,31.012,31.381,31.550999999999998,33.454999999999998,36.146000000000001,38.771999999999998,44.707000000000001,48.81,53.506,"...","..."]
["WZ08-O-03","Öffentliche Dienstleister, Erziehung, Gesundheit",85.221000000000004,93.712000000000003,95.869,98.731999999999999,102.23699999999999,107.258,109.325,111.59699999999999,120.155,121.84699999999999,127.508,131.995,134.09700000000001,135.72499999999999,141.15100000000001,146.48599999999999,154.01900000000001,164.20500000000001,179.00899999999999,187.52799999999999,196.39099999999999,199.88399999999999,209.202,218.095,226.53299999999999,243.066,254.18199999999999,262.173,274.726,289.84199999999998]
["WZ08-O","Öff. Verwaltung, Verteidigung, Sozialversicherung",36.473999999999997,39.838000000000001,40.594000000000001,40.360999999999997,39.633000000000003,40.585000000000001,40.774999999999999,41.994999999999997,46.439,45.453000000000003,47.805,50.287999999999997,49.636000000000003,50.427,53.938000000000002,55.389000000000003,57.109000000000002,63.347999999999999,70.191999999999993,75.153999999999996,80.069000000000003,81.647999999999996,85.216999999999999,88.852000000000004,93.48,98.125,102.572,106.04600000000001,112.83499999999999,"..."]
["WZ08-P","Erziehung und Unterricht",13.465999999999999,14.183,14.153,14.281000000000001,14.91,15.27,15.765000000000001,16.172000000000001,16.898,17.853000000000002,20.045000000000002,20.516999999999999,20.672000000000001,21.172999999999998,22.279,23.341999999999999,25.335000000000001,26.277000000000001,27.556000000000001,28.541,29.273,31.515000000000001,33.880000000000003,35.216000000000001,36.171999999999997,38.198,40.463000000000001,41.633000000000003,43.747,"..."]
["WZ08-Q","Gesundheits- und Sozialwesen",35.280999999999999,39.691000000000003,41.122,44.09,47.694000000000003,51.402999999999999,52.784999999999997,53.43,56.817999999999998,58.540999999999997,59.658000000000001,61.19,63.789000000000001,64.125,64.933999999999997,67.754999999999995,71.575000000000003,74.58,81.260999999999996,83.832999999999998,87.049000000000007,86.721000000000004,90.105000000000004,94.027000000000001,96.881,106.74299999999999,111.14700000000001,114.494,118.14400000000001,"..."]
["WZ08-86","Gesundheitswesen",28.981999999999999,32.631999999999998,33.496000000000002,36.064,38.966000000000001,39.984000000000002,40.917000000000002,40.716999999999999,42.722999999999999,43.86,45.095999999999997,46.165999999999997,48.185000000000002,48.106999999999999,48.033999999999999,50.128999999999998,52.392000000000003,54.759,59.476999999999997,61.042999999999999,63.194000000000003,62.347999999999999,64.998000000000005,67.153999999999996,67.783000000000001,71.638000000000005,75.081999999999994,77.707999999999998,"...","..."]
["WZ08-87-01","Heime und Sozialwesen",6.2990000000000004,7.0590000000000002,7.6260000000000003,8.0259999999999998,8.7279999999999998,11.419,11.868,12.712999999999999,14.095000000000001,14.680999999999999,14.561999999999999,15.023999999999999,15.603999999999999,16.018000000000001,16.899999999999999,17.626000000000001,19.183,19.821000000000002,21.783999999999999,22.79,23.855,24.373000000000001,25.106999999999999,26.873000000000001,29.097999999999999,35.104999999999997,36.064999999999998,36.786000000000001,"...","..."]
["WZ08-R-02","Sonstige Dienstleister",27.193000000000001,29.574999999999999,30.128,32.338999999999999,33.152999999999999,34.054000000000002,34.665999999999997,35.831000000000003,38.405000000000001,39.634,40.514000000000003,39.454999999999998,40.389000000000003,40.372999999999998,40.634999999999998,41.337000000000003,42.591999999999999,43.704999999999998,45.116999999999997,46.067999999999998,47.249000000000002,46.295000000000002,47.543999999999997,48.482999999999997,49.531999999999996,50.957999999999998,53.392000000000003,54.932000000000002,56.146000000000001,51.893000000000001]
["WZ08-R","Kunst, Unterhaltung und Erholung",9.1379999999999999,9.9469999999999992,9.6630000000000003,9.7569999999999997,10.07,10.32,10.721,11.510999999999999,13.028,14.025,14.736000000000001,14.622,14.781000000000001,15.016,15.476000000000001,16.134,17.103000000000002,17.742999999999999,18.692,19.190999999999999,19.957000000000001,19.600999999999999,20.256,21.14,21.739000000000001,22.847999999999999,24.477,25.369,25.927,"..."]
["WZ08-90-01","Kunst und Kultur, Glücksspiel",6.61,7.1109999999999998,6.7290000000000001,6.49,6.649,6.8109999999999999,6.931,7.2779999999999996,8.0139999999999993,8.4489999999999998,8.9529999999999994,8.7460000000000004,8.8510000000000009,9.0809999999999995,9.1140000000000008,9.2010000000000005,9.6989999999999998,9.859,10.096,10.336,10.132,10.039,10.333,10.845000000000001,11.1,11.788,12.435,12.683,"...","..."]
["WZ08-93","Dienstleistungen d.Sports,d.Unterhaltg.u.Erholung",2.528,2.8359999999999999,2.9340000000000002,3.2669999999999999,3.4209999999999998,3.5089999999999999,3.79,4.2329999999999997,5.0140000000000002,5.5759999999999996,5.7830000000000004,5.8760000000000003,5.93,5.9349999999999996,6.3620000000000001,6.9329999999999998,7.4039999999999999,7.8840000000000003,8.5960000000000001,8.8550000000000004,9.8249999999999993,9.5619999999999994,9.923,10.295,10.638999999999999,11.06,12.042,12.686,"...","..."]
["WZ08-S","Erbringung von sonstigen Dienstleistungen",18.055,19.628,20.465,22.582000000000001,23.082999999999998,23.734000000000002,23.945,24.32,25.376999999999999,25.609000000000002,25.777999999999999,24.832999999999998,25.608000000000001,25.356999999999999,25.158999999999999,25.202999999999999,25.489000000000001,25.962,26.425000000000001,26.876999999999999,27.292000000000002,26.693999999999999,27.288,27.343,27.792999999999999,28.11,28.914999999999999,29.562999999999999,30.219000000000001,"..."]
["WZ08-94","Interessenvertr., kirchl. u. sonst. Vereinigungen",6.4130000000000003,6.79,7.3579999999999997,8.0670000000000002,8.2330000000000005,8.3529999999999998,8.17,8.19,8.7639999999999993,8.8279999999999994,8.8989999999999991,9.0250000000000004,9.5879999999999992,9.4489999999999998,9.0760000000000005,9.1440000000000001,9.141,9.1669999999999998,9.7309999999999999,10.204000000000001,10.438000000000001,10.596,10.842000000000001,11.071999999999999,11.226000000000001,11.664999999999999,12.117000000000001,12.538,"...","..."]
["WZ08-95","Reparatur von DV-Geräten und Gebrauchsgütern",0.629,0.65600000000000003,0.69699999999999995,0.71,0.71199999999999997,0.875,0.79300000000000004,0.78900000000000003,0.81599999999999995,0.81599999999999995,0.92200000000000004,0.77700000000000002,0.77400000000000002,0.76500000000000001,0.82299999999999995,0.51,0.877,0.91900000000000004,0.79500000000000004,0.74099999999999999,0.76900000000000002,0.86599999999999999,0.80300000000000005,0.81100000000000005,0.84,0.93400000000000005,0.92,0.92600000000000005,"...","..."]
["WZ08-96","Sonstige überwiegend persönliche Dienstleistungen",11.013,12.182,12.41,13.805,14.138,14.506,14.981999999999999,15.340999999999999,15.797000000000001,15.965,15.957000000000001,15.031000000000001,15.246,15.143000000000001,15.26,15.548999999999999,15.471,15.875999999999999,15.898999999999999,15.932,16.085000000000001,15.231999999999999,15.643000000000001,15.46,15.727,15.510999999999999,15.878,16.099,"...","..."]
["WZ08-T","Private Haushalte",0,0,0,0,0,0,0,0,0,0,0,0,0,0,0,0,0,0,0,0,0,0,0,0,0,0,0,0,0,"..."]
["WZ08-A-02","Alle Wirtschaftsbereiche",1295.143,1355.0609999999999,1344.8030000000001,1407.4059999999999,1481.547,1508.8810000000001,1566.5809999999999,1633.0039999999999,1726.7809999999999,1863.8140000000001,1917.914,1879.165,1937.213,2014.8320000000001,2122.4,2272.4450000000002,2431.0610000000001,2550.5749999999998,2312.587,2513.1689999999999,2741.9380000000001,2733.5889999999999,2727.7750000000001,2801.674,2852.7750000000001,2922.049,3078.4229999999998,3203.4389999999999,3198.6860000000001,2999.7440000000001]
["preisbereinigt, Kettenindex (2015=100)"]
["WZ08-A","Land- und Forstwirtschaft, Fischerei",77.930000000000007,78.12,85.03,100.62,100.91,103.37,103.88,107.7,109.09,110.73,117.46,110.86,110.44,110.33,112.87,114.52,93.75,89.24,90.11,92.08,94.76,92.89,96.79,98.49,100,99.09,98.63,102.65,107.07,106.19]
["WZ08-01","Landwirtschaft, Jagd und verbundene Tätigkeiten",".",".",".",".",".",".",".",".",".",".",".",".",".",".",".",".",".",".",".",".",".",".",".",".",".",".",".",".",".","."]
["WZ08-021","Forstwirtschaft",".",".",".",".",".",".",".",".",".",".",".",".",".",".",".",".",".",".",".",".",".",".",".",".",".",".",".",".",".","."]
["WZ08-031","Fischerei",".",".",".",".",".",".",".",".",".",".",".",".",".",".",".",".",".",".",".",".",".",".",".",".",".",".",".",".",".","."]
["WZ08-B-05","Produzierendes Gewerbe",64.760000000000005,66.03,63.34,65.510000000000005,69,69.53,71.239999999999995,74.77,78.099999999999994,81.83,82.9,80.62,81.900000000000006,84.38,86.19,91.53,97.49,98.05,86.02,92.01,98.74,97.28,96.76,97.84,100,102.37,105.22,105.97,102.15,94.09]
["WZ08-B-18","Produzierendes Gewerbe ohne Baugewerbe",62.69,62.85,59.18,60.51,64.430000000000007,65.02,67.16,71.349999999999994,74.650000000000006,79.260000000000005,80.98,79.56,81.069999999999993,84.42,86.87,92.1,98.61,98.69,85.39,91.99,98.86,97.08,96.47,97.48,100,102.18,105.09,105.1,100.35,91.02]
["WZ08-B","Bergbau und Gewinnung von Steinen und Erden",276.54000000000002,247.02,226.32,223.51,219.88,196.27,180.65,172.22,142.88,142.59,128.63,130.26,164.45,145.19,136.05000000000001,130.32,135.33000000000001,110.41,100.08,111.43,108.49,96.97,95.06,98.7,100,94.1,92.2,84.58,73.209999999999994,"..."]
["WZ08-C","Verarbeitendes Gewerbe",62.9,63.03,59.06,60.46,64.849999999999994,65.62,68.05,72.37,75.86,81,82.72,80.819999999999993,82.16,85.63,87.98,93.1,99.37,99.49,84.6,91.03,98.24,96.83,96.4,97.51,100,102,105.33,105.32,100.6,90.8]
["WZ08-10-01","Ernährungsgewerbe und Tabakverarbeitung",".",".",".",".",".",".",".",".",".",".",".",".",".",".",".",".",".",".",".",".",".",".",".",".",".",".",".",".",".","."]
["WZ08-13-01","Textil- und Bekleidungsgewerbe",".",".",".",".",".",".",".",".",".",".",".",".",".",".",".",".",".",".",".",".",".",".",".",".",".",".",".",".",".","."]
["WZ08-16-01","H.v. Holzwaren, Papier und Druckerzeugnissen",".",".",".",".",".",".",".",".",".",".",".",".",".",".",".",".",".",".",".",".",".",".",".",".",".",".",".",".",".","."]
["WZ08-16","H.v. Holz-, Flecht-, Korb-u.Korkwaren (ohne Möbel)",".",".",".",".",".",".",".",".",".",".",".",".",".",".",".",".",".",".",".",".",".",".",".",".",".",".",".",".",".","."]
["WZ08-17","Herstellung von Papier, Pappe und Waren daraus",".",".",".",".",".",".",".",".",".",".",".",".",".",".",".",".",".",".",".",".",".",".",".",".",".",".",".",".",".","."]
["WZ08-18","H.v. Druckerz., Vervielf.v.Ton-,Bild-,Datenträgern",".",".",".",".",".",".",".",".",".",".",".",".",".",".",".",".",".",".",".",".",".",".",".",".",".",".",".",".",".","."]
["WZ08-19","Kokerei und Mineralölverarbeitung",".",".",".",".",".",".",".",".",".",".",".",".",".",".",".",".",".",".",".",".",".",".",".",".",".",".",".",".",".","."]
["WZ08-20","Herstellung von chemischen Erzeugnissen",".",".",".",".",".",".",".",".",".",".",".",".",".",".",".",".",".",".",".",".",".",".",".",".",".",".",".",".",".","."]
["WZ08-21","Herstellung von pharmazeutischen Erzeugnissen",".",".",".",".",".",".",".",".",".",".",".",".",".",".",".",".",".",".",".",".",".",".",".",".",".",".",".",".",".","."]
["WZ08-22-01","H.v. Gummi-, Kunststoff-, Glaswaren, Keramik u.Ä.",".",".",".",".",".",".",".",".",".",".",".",".",".",".",".",".",".",".",".",".",".",".",".",".",".",".",".",".",".","."]
["WZ08-22","Herstellung von Gummi- und Kunststoffwaren",".",".",".",".",".",".",".",".",".",".",".",".",".",".",".",".",".",".",".",".",".",".",".",".",".",".",".",".",".","."]
["WZ08-23","H.v.Glas,-waren,Keramik,Verarb. v.Steinen u.Erden",".",".",".",".",".",".",".",".",".",".",".",".",".",".",".",".",".",".",".",".",".",".",".",".",".",".",".",".",".","."]
["WZ08-24-01","Metallgewerbe",".",".",".",".",".",".",".",".",".",".",".",".",".",".",".",".",".",".",".",".",".",".",".",".",".",".",".",".",".","."]
["WZ08-24","Metallerzeugung und -bearbeitung",".",".",".",".",".",".",".",".",".",".",".",".",".",".",".",".",".",".",".",".",".",".",".",".",".",".",".",".",".","."]
["WZ08-25","Herstellung von Metallerzeugnissen",".",".",".",".",".",".",".",".",".",".",".",".",".",".",".",".",".",".",".",".",".",".",".",".",".",".",".",".",".","."]
["WZ08-26","H.v. DV-Geräten, elektron. u. opt. Erzeugnissen",".",".",".",".",".",".",".",".",".",".",".",".",".",".",".",".",".",".",".",".",".",".",".",".",".",".",".",".",".","."]
["WZ08-27","Herstellung von elektrischen Ausrüstungen",".",".",".",".",".",".",".",".",".",".",".",".",".",".",".",".",".",".",".",".",".",".",".",".",".",".",".",".",".","."]
["WZ08-28","Maschinenbau",".",".",".",".",".",".",".",".",".",".",".",".",".",".",".",".",".",".",".",".",".",".",".",".",".",".",".",".",".","."]
["WZ08-29-01","Fahrzeugbau",".",".",".",".",".",".",".",".",".",".",".",".",".",".",".",".",".",".",".",".",".",".",".",".",".",".",".",".",".","."]
["WZ08-29","Herstellung von Kraftwagen und Kraftwagenteilen",".",".",".",".",".",".",".",".",".",".",".",".",".",".",".",".",".",".",".",".",".",".",".",".",".",".",".",".",".","."]
["WZ08-30","Sonstiger Fahrzeugbau",".",".",".",".",".",".",".",".",".",".",".",".",".",".",".",".",".",".",".",".",".",".",".",".",".",".",".",".",".","."]
["WZ08-31-01","Möbelherstellung, Installation von Maschinen",".",".",".",".",".",".",".",".",".",".",".",".",".",".",".",".",".",".",".",".",".",".",".",".",".",".",".",".",".","."]
["WZ08-31-02","Herstellung von Möbeln und sonstigen Waren",".",".",".",".",".",".",".",".",".",".",".",".",".",".",".",".",".",".",".",".",".",".",".",".",".",".",".",".",".","."]
["WZ08-33","Reparatur u.Installation von Masch.u.Ausrüstungen",".",".",".",".",".",".",".",".",".",".",".",".",".",".",".",".",".",".",".",".",".",".",".",".",".",".",".",".",".","."]
["WZ08-D","Energieversorgung",48.72,50.26,50.91,50.66,49.16,48.05,47.16,51.32,54.54,51.85,56.09,61.47,63.82,68.349999999999994,72.37,80.11,92.23,94.9,100.03,109.66,111.86,104.12,100.59,96.12,100,104.22,101.59,100.78,94.24,"..."]
["WZ08-E","Wasserversorg.,Entsorg.,Beseitig.v.Umweltverschm.",44.44,48.58,50.46,53.81,54.02,56.49,58.58,60.61,64.010000000000005,66.209999999999994,65.459999999999994,65.819999999999993,65.02,65.98,70.680000000000007,76.02,78.62,76.05,76.55,80.86,88.34,89.28,89.18,99.6,100,105.2,108.18,112.53,112.64,"..."]
["WZ08-36","Wasserversorgung",".",".",".",".",".",".",".",".",".",".",".",".",".",".",".",".",".",".",".",".",".",".",".",".",".",".",".",".",".","."]
["WZ08-37-01","Abwasser-, Abfallentsorgung, Rückgewinnung",".",".",".",".",".",".",".",".",".",".",".",".",".",".",".",".",".",".",".",".",".",".",".",".",".",".",".",".",".","."]
["WZ08-F","Baugewerbe",80.94,92.66,98.92,108.54,108.11,108.23,106.1,103.79,107.42,103.57,98.93,89.21,88.44,83.41,79.77,86.05,86.95,91.78,91.19,92.04,97.57,98.9,99.21,100.9,100,103.99,106.3,113.18,116.92,119.21]
["WZ08-G-04","Dienstleistungsbereiche",47.23,49.94,50.91,52.43,54.06,56.15,57.77,60.74,65.540000000000006,69.08,71.14,69.73,72.44,73.89,77.17,79.790000000000006,83.28,87.26,86.6,91.95,94.15,93.03,92.74,96.34,100,103.88,106.13,108.61,110.13,105.42]
["WZ08-G-01","Handel, Verkehr, Gastgewerbe",59.74,61.4,60.86,62.62,65.13,65.790000000000006,67.400000000000006,70.03,73.540000000000006,75.709999999999994,76.34,74.489999999999995,75.42,78.209999999999994,80.150000000000006,82.56,84.96,88.64,84.33,93.62,95.61,92.18,92.69,96.83,100,102.14,104.88,109.05,110.69,102.8]
["WZ08-G","Handel, Instandhaltung und Reparatur von Kfz",67.47,68.73,67.22,68.31,71.39,72.290000000000006,74.09,77.36,81.87,81.489999999999995,82.02,79.209999999999994,81.75,86.92,88.04,89.88,90.39,94.97,90.04,101.27,101.92,94.48,94.94,99.45,100,104.02,107.34,112.74,115.16,117.07]
["WZ08-45","Kfz-Handel, Instandhaltung und Reparatur von Kfz",".",".",".",".",".",".",".",".",".",".",".",".",".",".",".",".",".",".",".",".",".",".",".",".",".",".",".",".",".","."]
["WZ08-46","Großhandel (ohne Handel mit Kraftfahrzeugen)",".",".",".",".",".",".",".",".",".",".",".",".",".",".",".",".",".",".",".",".",".",".",".",".",".",".",".",".",".","."]
["WZ08-47","Einzelhandel (ohne Handel mit Kraftfahrzeugen)",".",".",".",".",".",".",".",".",".",".",".",".",".",".",".",".",".",".",".",".",".",".",".",".",".",".",".",".",".","."]
["WZ08-H","Verkehr und Lagerei",48.82,50.57,50.63,53.34,55.56,56.17,58.01,60.56,62.53,67.680000000000007,69.319999999999993,68.72,68.77,69.650000000000006,72.45,75.42,80.540000000000006,83.94,78.69,86.39,90.06,89.58,89.33,93.8,100,100.07,102.66,106.14,106.89,95.65]
["WZ08-49","Landverkehr und Transport in Rohrfernleitungen",".",".",".",".",".",".",".",".",".",".",".",".",".",".",".",".",".",".",".",".",".",".",".",".",".",".",".",".",".","."]
["WZ08-50","Schifffahrt",".",".",".",".",".",".",".",".",".",".",".",".",".",".",".",".",".",".",".",".",".",".",".",".",".",".",".",".",".","."]
["WZ08-51","Luftfahrt",".",".",".",".",".",".",".",".",".",".",".",".",".",".",".",".",".",".",".",".",".",".",".",".",".",".",".",".",".","."]
["WZ08-52","Lagerei, sonstige Dienstleistungen für den Verkehr",".",".",".",".",".",".",".",".",".",".",".",".",".",".",".",".",".",".",".",".",".",".",".",".",".",".",".",".",".","."]
["WZ08-53","Post-, Kurier- und Expressdienste",".",".",".",".",".",".",".",".",".",".",".",".",".",".",".",".",".",".",".",".",".",".",".",".",".",".",".",".",".","."]
["WZ08-I","Gastgewerbe",71.599999999999994,74.72,76.040000000000006,77.06,78.400000000000006,78.3,78.33,78.64,83.97,85.69,82.6,79.86,77.2,77.42,79.36,81.819999999999993,80.599999999999994,81.58,84.39,91.99,92.51,93.65,97.85,98.93,100,102.88,103.79,105.58,107.6,72.06]
["WZ08-J","Information und Kommunikation",21.57,23.15,25.06,25.85,26.66,29.71,32.06,36.26,44.85,52.51,57.82,55.88,64.17,62.75,68.91,69.19,77.680000000000007,89.11,90.51,90.07,92.63,91.69,94.58,97.14,100,103.64,109.06,115.1,117.29,115.37]
["WZ08-58-01","Verlagswesen, audio-visual media and Rundfunk",".",".",".",".",".",".",".",".",".",".",".",".",".",".",".",".",".",".",".",".",".",".",".",".",".",".",".",".",".","."]
["WZ08-58","Verlagswesen",".",".",".",".",".",".",".",".",".",".",".",".",".",".",".",".",".",".",".",".",".",".",".",".",".",".",".",".",".","."]
["WZ08-59-01","Audiovisuelle Medien und Rundfunk",".",".",".",".",".",".",".",".",".",".",".",".",".",".",".",".",".",".",".",".",".",".",".",".",".",".",".",".",".","."]
["WZ08-61","Telekommunikation",".",".",".",".",".",".",".",".",".",".",".",".",".",".",".",".",".",".",".",".",".",".",".",".",".",".",".",".",".","."]
["WZ08-62-01","IT- und Informationsdienstleister",".",".",".",".",".",".",".",".",".",".",".",".",".",".",".",".",".",".",".",".",".",".",".",".",".",".",".",".",".","."]
["WZ08-K","Erbringung von Finanz- und Versicherungsleistungen",27.39,28.29,29.2,30.78,33.17,36.01,39.46,42.81,47.58,57.83,57.41,61.02,67.86,70.47,72.8,77.87,80.56,83.95,85.43,86.81,87.48,90.48,89.95,95.1,100,100.66,99.75,100.86,101.53,102.6]
["WZ08-64","Erbringung von Finanzdienstleistungen",".",".",".",".",".",".",".",".",".",".",".",".",".",".",".",".",".",".",".",".",".",".",".",".",".",".",".",".",".","."]
["WZ08-65","Versicherungen, Rückversicherungen, Pensionskassen",".",".",".",".",".",".",".",".",".",".",".",".",".",".",".",".",".",".",".",".",".",".",".",".",".",".",".",".",".","."]
["WZ08-66","Mit Finanz- u. Versicherungsdienstl. verb. Tätigk.",".",".",".",".",".",".",".",".",".",".",".",".",".",".",".",".",".",".",".",".",".",".",".",".",".",".",".",".",".","."]
["WZ08-L","Grundstücks- und Wohnungswesen",109.95,120.37,126.19,128.01,123.84,124.79,119.28,120.88,122.19,117.47,121.57,113.38,112.99,110.69,113.65,116.53,116.94,116.63,120.24,120.98,119.83,111,105.42,103.35,100,104.55,106.33,108.08,107.69,104.25]
["WZ08-M-02","Unternehmensdienstleister",35.299999999999997,38.99,41.69,42.91,44.59,47.73,49.96,54.29,60.42,63.12,66.53,62.35,63.75,66.36,72.11,74.83,79.150000000000006,81.36,76.73,84.55,89.73,91.62,86.52,92.45,100,106.72,107.89,108.59,109.35,97.39]
["WZ08-M","Freiberufliche, wiss. u. techn. Dienstleistungen",32.17,35.5,38.97,39.43,40.98,43.33,44.93,49.56,55.16,57.27,61.74,62.5,63.74,65.5,70.5,76.25,82.4,83.57,77.540000000000006,82.69,88.44,90.89,82.16,91.35,100,106.24,104.81,102.93,104.73,"..."]
["WZ08-69-01","Unternehmensnahe Beratungsleistungen",".",".",".",".",".",".",".",".",".",".",".",".",".",".",".",".",".",".",".",".",".",".",".",".",".",".",".",".",".","."]
["WZ08-69-02","Rechts- und Steuerberatung, Unternehmensberatung",".",".",".",".",".",".",".",".",".",".",".",".",".",".",".",".",".",".",".",".",".",".",".",".",".",".",".",".",".","."]
["WZ08-71","Architektur-,Ing.büros,techn.,physik.Untersuchung",".",".",".",".",".",".",".",".",".",".",".",".",".",".",".",".",".",".",".",".",".",".",".",".",".",".",".",".",".","."]
["WZ08-72","Forschung und Entwicklung",".",".",".",".",".",".",".",".",".",".",".",".",".",".",".",".",".",".",".",".",".",".",".",".",".",".",".",".",".","."]
["WZ08-73-01","Sonst.freiberufl., wissenschaftl., techn. Dienstl.",".",".",".",".",".",".",".",".",".",".",".",".",".",".",".",".",".",".",".",".",".",".",".",".",".",".",".",".",".","."]
["WZ08-73","Werbung und Marktforschung",".",".",".",".",".",".",".",".",".",".",".",".",".",".",".",".",".",".",".",".",".",".",".",".",".",".",".",".",".","."]
["WZ08-74-01","Freiberufl.,wiss.,techn.DL a.n.g., Veterinärwesen",".",".",".",".",".",".",".",".",".",".",".",".",".",".",".",".",".",".",".",".",".",".",".",".",".",".",".",".",".","."]
["WZ08-N","Sonstige wirtschaftliche Dienstleistungen",40.69,45,46.39,48.92,50.8,55.32,58.67,62.46,69.489999999999995,73.209999999999994,74.81,62.13,63.81,67.91,74.95,72.52,73.760000000000005,77.709999999999994,75.430000000000007,87.7,91.91,92.89,93.81,94.31,100,107.53,113.06,118.09,117.1,"..."]
["WZ08-77","Vermietung von beweglichen Sachen",".",".",".",".",".",".",".",".",".",".",".",".",".",".",".",".",".",".",".",".",".",".",".",".",".",".",".",".",".","."]
["WZ08-78","Vermittlung und Überlassung von Arbeitskräften",".",".",".",".",".",".",".",".",".",".",".",".",".",".",".",".",".",".",".",".",".",".",".",".",".",".",".",".",".","."]
["WZ08-79","Reisebüros, -veranstalter u. sonst. Reservierungen",".",".",".",".",".",".",".",".",".",".",".",".",".",".",".",".",".",".",".",".",".",".",".",".",".",".",".",".",".","."]
["WZ08-80-01","Unternehmensdienstleister a.n.g.",".",".",".",".",".",".",".",".",".",".",".",".",".",".",".",".",".",".",".",".",".",".",".",".",".",".",".",".",".","."]
["WZ08-O-03","Öffentliche Dienstleister, Erziehung, Gesundheit",42.07,45.39,45.74,46.79,48.14,50.46,51.56,53.03,56.7,58.24,60.68,62.22,63.8,64.489999999999995,67.349999999999994,70.260000000000005,73.680000000000007,77.849999999999994,84.04,87.95,89.87,90.59,93.9,96.51,100,106.59,109.43,110.22,113.44,118.21]
["WZ08-O","Öff. Verwaltung, Verteidigung, Sozialversicherung",36.840000000000003,39.57,39.78,39.6,38.74,39.869999999999997,39.869999999999997,41.87,45.49,47.22,49.74,52.04,53.06,54.27,59.39,62.66,66.12,73.36,80.25,85.73,89.05,89.43,92.49,95.02,100,104.81,108.18,109.62,114.7,"..."]
["WZ08-P","Erziehung und Unterricht",42.28,43.33,42.36,42.38,43.72,45.16,46.99,48.46,51.23,53.77,60.25,60.98,61.44,62.8,66.209999999999994,69.489999999999995,75.290000000000006,77.44,81.42,84.05,84.61,89.76,95.28,97.88,100,104.77,108.7,108.91,112.25,"..."]
["WZ08-Q","Gesundheits- und Sozialwesen",46.53,51.4,52.47,55.5,59.63,63.73,65.849999999999994,66.58,70.53,71.34,72,72.930000000000007,75.569999999999993,75.41,75.53,77.89,80.319999999999993,82.29,88.65,91.51,92.61,92.01,94.74,97.43,100,108.99,110.91,111.31,112.73,"..."]
["WZ08-86","Gesundheitswesen",".",".",".",".",".",".",".",".",".",".",".",".",".",".",".",".",".",".",".",".",".",".",".",".",".",".",".",".",".","."]
["WZ08-87-01","Heime und Sozialwesen",".",".",".",".",".",".",".",".",".",".",".",".",".",".",".",".",".",".",".",".",".",".",".",".",".",".",".",".",".","."]
["WZ08-R-02","Sonstige Dienstleister",77.37,81.510000000000005,80.680000000000007,84.65,85.6,87.37,88.13,90.25,96.34,97.16,98.05,93.53,94.45,93.17,92.42,93.02,94.82,95.79,97.6,99.43,99.83,97,98.27,98.54,100,101.76,104.3,104.58,105.4,95.24]
["WZ08-R","Kunst, Unterhaltung und Erholung",60.4,63.57,59.96,59.16,59.97,60.89,62.05,66.09,74.75,78.44,81.010000000000005,78.52,78.38,78.75,80.14,82.81,86.72,88.62,92.37,94.71,96.69,93.9,95.22,97.79,100,103.92,109.09,110.48,111.8,"..."]
["WZ08-90-01","Kunst und Kultur, Glücksspiel",".",".",".",".",".",".",".",".",".",".",".",".",".",".",".",".",".",".",".",".",".",".",".",".",".",".",".",".",".","."]
["WZ08-93","Dienstleistungen d.Sports,d.Unterhaltg.u.Erholung",".",".",".",".",".",".",".",".",".",".",".",".",".",".",".",".",".",".",".",".",".",".",".",".",".",".",".",".",".","."]
["WZ08-S","Erbringung von sonstigen Dienstleistungen",90.76,95.65,96.94,104.57,105.64,108.07,108.53,109.13,113.23,111.82,111.4,105.27,107.04,104.45,102.03,101,101.15,101.39,101.69,103.12,102.3,99.42,100.66,99.12,100,100.08,100.55,99.97,100.39,"..."]
["WZ08-94","Interessenvertr., kirchl. u. sonst. Vereinigungen",".",".",".",".",".",".",".",".",".",".",".",".",".",".",".",".",".",".",".",".",".",".",".",".",".",".",".",".",".","."]
["WZ08-95","Reparatur von DV-Geräten und Gebrauchsgütern",".",".",".",".",".",".",".",".",".",".",".",".",".",".",".",".",".",".",".",".",".",".",".",".",".",".",".",".",".","."]
["WZ08-96","Sonstige überwiegend persönliche Dienstleistungen",".",".",".",".",".",".",".",".",".",".",".",".",".",".",".",".",".",".",".",".",".",".",".",".",".",".",".",".",".","."]
["WZ08-T","Private Haushalte",0,0,0,0,0,0,0,0,0,0,0,0,0,0,0,0,0,0,0,0,0,0,0,0,0,0,0,0,0,"..."]
["WZ08-A-02","Alle Wirtschaftsbereiche",56.55,58.48,57.64,59.65,62.22,63.52,65.180000000000007,68.45,72.5,76.13,77.73,75.83,77.8,79.760000000000005,82.3,86.32,90.91,93.01,86.36,92,96.57,95.26,94.9,97.15,100,103.03,105.57,107.16,105.92,99.5]
[]
["Arbeitsstunden der Erwerbstätigen (Mill. Std.)"]
["Wirtschaftsbereiche (WZ2008)",null,"1991","1992","1993","1994","1995","1996","1997","1998","1999","2000","2001","2002","2003","2004","2005","2006","2007","2008","2009","2010","2011","2012","2013","2014","2015","2016","2017","2018","2019","2020"]
["WZ08-A","Land- und Forstwirtschaft, Fischerei",2394,2234,2086,2012,1885,1738,1668,1635,1618,1581,1491,1438,1390,1358,1310,1277,1281,1269,1241,1223,1231,1199,1170,1147,1129,1103,1074,1055,1029,983]
["WZ08-01","Landwirtschaft, Jagd und verbundene Tätigkeiten",".",".",".",".",".",".",".",".",".",".",".",".",".",".",".",".",".",".",".",".",".",".",".",".",".",".",".",".",".","."]
["WZ08-021","Forstwirtschaft",".",".",".",".",".",".",".",".",".",".",".",".",".",".",".",".",".",".",".",".",".",".",".",".",".",".",".",".",".","."]
["WZ08-031","Fischerei",".",".",".",".",".",".",".",".",".",".",".",".",".",".",".",".",".",".",".",".",".",".",".",".",".",".",".",".",".","."]
["WZ08-B-05","Produzierendes Gewerbe",21294,20906,19561,19164,18962,18295,17912,17930,17764,17485,17028,16497,16004,15880,15416,15484,15740,15978,14910,15209,15643,15593,15624,15852,15928,15917,15938,16168,16195,15445]
["WZ08-B-18","Produzierendes Gewerbe ohne Baugewerbe",16466,15773,14375,13734,13474,13063,12803,12942,12836,12748,12633,12348,12051,12029,11715,11698,11864,12100,11071,11312,11684,11653,11712,11901,11973,11954,11976,12143,12160,11450]
["WZ08-B","Bergbau und Gewinnung von Steinen und Erden",418,374,321,281,274,254,226,208,195,184,151,149,149,142,135,130,126,122,113,111,108,102,98,96,91,85,82,75,71,"..."]
["WZ08-C","Verarbeitendes Gewerbe",15086,14439,13099,12504,12267,11889,11686,11853,11782,11753,11687,11411,11137,11102,10813,10800,10971,11207,10190,10422,10785,10763,10819,10999,11081,11066,11082,11231,11238,10526]
["WZ08-10-01","Ernährungsgewerbe und Tabakverarbeitung",1440,1432,1357,1335,1324,1300,1312,1334,1355,1362,1351,1350,1372,1376,1357,1325,1327,1352,1301,1327,1327,1296,1288,1302,1319,1319,1322,1325,"...","."]
["WZ08-13-01","Textil- und Bekleidungsgewerbe",896,723,614,559,518,474,443,429,403,388,372,339,309,295,274,274,262,247,216,217,223,215,209,211,208,203,200,199,"...","."]
["WZ08-16-01","H.v. Holzwaren, Papier und Druckerzeugnissen",1136,1143,1078,1057,1056,1027,1001,1002,907,905,878,844,809,799,773,761,763,770,701,699,699,675,675,673,664,657,646,642,"...","."]
["WZ08-16","H.v. Holz-, Flecht-, Korb-u.Korkwaren (ohne Möbel)",".",".",".",".",".",".",".",".",".",".",".",".",".",".",".",".",".",".",".",".",".",".",".",".",".",".",".",".",".","."]
["WZ08-17","Herstellung von Papier, Pappe und Waren daraus",".",".",".",".",".",".",".",".",".",".",".",".",".",".",".",".",".",".",".",".",".",".",".",".",".",".",".",".",".","."]
["WZ08-18","H.v. Druckerz., Vervielf.v.Ton-,Bild-,Datenträgern",".",".",".",".",".",".",".",".",".",".",".",".",".",".",".",".",".",".",".",".",".",".",".",".",".",".",".",".",".","."]
["WZ08-19","Kokerei und Mineralölverarbeitung",61,56,51,42,36,33,30,30,34,33,34,34,29,30,26,28,26,28,26,26,26,25,25,25,28,28,27,31,"...","."]
["WZ08-20","Herstellung von chemischen Erzeugnissen",852,817,733,693,672,646,620,602,596,582,572,561,553,525,503,512,519,524,484,493,511,508,518,537,534,528,548,549,"...","."]
["WZ08-21","Herstellung von pharmazeutischen Erzeugnissen",236,227,205,194,187,181,175,169,168,165,161,163,166,170,167,172,173,174,166,171,173,174,181,186,191,196,185,193,"...","."]
["WZ08-22-01","H.v. Gummi-, Kunststoff-, Glaswaren, Keramik u.Ä.",1287,1277,1188,1169,1183,1129,1101,1121,1118,1118,1100,1059,1011,1022,986,990,1003,1035,934,959,995,993,1000,1026,1040,1035,1036,1060,"...","."]
["WZ08-22","Herstellung von Gummi- und Kunststoffwaren",".",".",".",".",".",".",".",".",".",".",".",".",".",".",".",".",".",".",".",".",".",".",".",".",".",".",".",".",".","."]
["WZ08-23","H.v.Glas,-waren,Keramik,Verarb. v.Steinen u.Erden",".",".",".",".",".",".",".",".",".",".",".",".",".",".",".",".",".",".",".",".",".",".",".",".",".",".",".",".",".","."]
["WZ08-24-01","Metallgewerbe",2175,2142,1947,1857,1849,1770,1734,1790,1790,1765,1765,1693,1670,1674,1672,1662,1729,1797,1569,1618,1703,1703,1700,1723,1736,1732,1732,1765,"...","."]
["WZ08-24","Metallerzeugung und -bearbeitung",".",".",".",".",".",".",".",".",".",".",".",".",".",".",".",".",".",".",".",".",".",".",".",".",".",".",".",".",".","."]
["WZ08-25","Herstellung von Metallerzeugnissen",".",".",".",".",".",".",".",".",".",".",".",".",".",".",".",".",".",".",".",".",".",".",".",".",".",".",".",".",".","."]
["WZ08-26","H.v. DV-Geräten, elektron. u. opt. Erzeugnissen",758,699,609,567,541,509,509,506,509,518,514,500,490,490,474,482,496,508,448,453,477,475,475,484,505,515,519,537,"...","."]
["WZ08-27","Herstellung von elektrischen Ausrüstungen",1090,988,875,845,847,808,786,801,786,802,817,795,764,757,737,738,741,748,685,710,742,741,739,741,723,712,709,720,"...","."]
["WZ08-28","Maschinenbau",2245,2096,1834,1706,1638,1598,1571,1597,1596,1589,1613,1578,1556,1546,1500,1522,1575,1652,1483,1502,1594,1629,1654,1683,1692,1694,1708,1758,"...","."]
["WZ08-29-01","Fahrzeugbau",1592,1573,1427,1361,1328,1367,1375,1439,1500,1511,1511,1520,1469,1481,1434,1426,1432,1412,1240,1284,1336,1351,1373,1417,1452,1462,1468,1473,"...","."]
["WZ08-29","Herstellung von Kraftwagen und Kraftwagenteilen",".",".",".",".",".",".",".",".",".",".",".",".",".",".",".",".",".",".",".",".",".",".",".",".",".",".",".",".",".","."]
["WZ08-30","Sonstiger Fahrzeugbau",".",".",".",".",".",".",".",".",".",".",".",".",".",".",".",".",".",".",".",".",".",".",".",".",".",".",".",".",".","."]
["WZ08-31-01","Möbelherstellung, Installation von Maschinen",1319,1266,1181,1118,1088,1048,1029,1031,1019,1014,1001,973,940,938,909,910,924,959,935,962,981,978,982,991,990,986,983,979,"...","."]
["WZ08-31-02","Herstellung von Möbeln und sonstigen Waren",".",".",".",".",".",".",".",".",".",".",".",".",".",".",".",".",".",".",".",".",".",".",".",".",".",".",".",".",".","."]
["WZ08-33","Reparatur u.Installation von Masch.u.Ausrüstungen",".",".",".",".",".",".",".",".",".",".",".",".",".",".",".",".",".",".",".",".",".",".",".",".",".",".",".",".",".","."]
["WZ08-D","Energieversorgung",603,582,570,546,532,515,497,487,458,415,400,397,381,395,384,384,380,377,379,386,390,385,387,389,382,383,389,393,397,"..."]
["WZ08-E","Wasserversorg.,Entsorg.,Beseitig.v.Umweltverschm.",359,378,385,403,401,404,394,394,400,396,395,392,384,390,384,383,388,395,390,394,400,402,408,417,419,419,424,444,455,"..."]
["WZ08-36","Wasserversorgung",".",".",".",".",".",".",".",".",".",".",".",".",".",".",".",".",".",".",".",".",".",".",".",".",".",".",".",".",".","."]
["WZ08-37-01","Abwasser-, Abfallentsorgung, Rückgewinnung",".",".",".",".",".",".",".",".",".",".",".",".",".",".",".",".",".",".",".",".",".",".",".",".",".",".",".",".",".","."]
["WZ08-F","Baugewerbe",4827,5133,5186,5430,5489,5232,5109,4988,4929,4737,4395,4149,3953,3851,3701,3786,3875,3878,3839,3897,3959,3940,3912,3951,3955,3964,3962,4025,4035,3994]
["WZ08-G-04","Dienstleistungsbereiche",36721,36897,36669,37027,37378,37690,37772,38352,38966,39529,39602,39537,39241,39545,39583,40778,41539,41859,41319,42092,42405,42370,42346,42828,43354,43913,44470,45005,45372,43208]
["WZ08-G-01","Handel, Verkehr, Gastgewerbe",14157,14061,13907,13863,13834,13768,13656,13765,13845,13877,13759,13577,13272,13334,13163,13311,13493,13567,13301,13320,13447,13371,13281,13346,13412,13499,13570,13751,13822,12745]
["WZ08-G","Handel, Instandhaltung und Reparatur von Kfz",8667,8669,8595,8588,8593,8590,8560,8596,8615,8653,8541,8420,8234,8263,8138,8192,8254,8295,8112,8103,8149,8056,7967,7983,7975,7990,7980,8028,8037,7674]
["WZ08-45","Kfz-Handel, Instandhaltung und Reparatur von Kfz",".",".",".",".",".",".",".",".",".",".",".",".",".",".",".",".",".",".",".",".",".",".",".",".",".",".",".",".",".","."]
["WZ08-46","Großhandel (ohne Handel mit Kraftfahrzeugen)",".",".",".",".",".",".",".",".",".",".",".",".",".",".",".",".",".",".",".",".",".",".",".",".",".",".",".",".",".","."]
["WZ08-47","Einzelhandel (ohne Handel mit Kraftfahrzeugen)",".",".",".",".",".",".",".",".",".",".",".",".",".",".",".",".",".",".",".",".",".",".",".",".",".",".",".",".",".","."]
["WZ08-H","Verkehr und Lagerei",3605,3499,3373,3254,3131,3004,2905,2939,2949,2912,2905,2868,2834,2860,2834,2898,2962,3005,2910,2914,2989,2994,3004,3065,3125,3180,3246,3367,3396,3236]
["WZ08-49","Landverkehr und Transport in Rohrfernleitungen",".",".",".",".",".",".",".",".",".",".",".",".",".",".",".",".",".",".",".",".",".",".",".",".",".",".",".",".",".","."]
["WZ08-50","Schifffahrt",".",".",".",".",".",".",".",".",".",".",".",".",".",".",".",".",".",".",".",".",".",".",".",".",".",".",".",".",".","."]
["WZ08-51","Luftfahrt",".",".",".",".",".",".",".",".",".",".",".",".",".",".",".",".",".",".",".",".",".",".",".",".",".",".",".",".",".","."]
["WZ08-52","Lagerei, sonstige Dienstleistungen für den Verkehr",".",".",".",".",".",".",".",".",".",".",".",".",".",".",".",".",".",".",".",".",".",".",".",".",".",".",".",".",".","."]
["WZ08-53","Post-, Kurier- und Expressdienste",".",".",".",".",".",".",".",".",".",".",".",".",".",".",".",".",".",".",".",".",".",".",".",".",".",".",".",".",".","."]
["WZ08-I","Gastgewerbe",1885,1893,1938,2021,2110,2174,2191,2230,2280,2311,2313,2289,2204,2211,2191,2221,2278,2267,2279,2303,2310,2321,2310,2298,2312,2329,2344,2356,2389,1835]
["WZ08-J","Information und Kommunikation",1435,1448,1431,1435,1433,1434,1428,1472,1483,1599,1680,1679,1648,1673,1696,1759,1807,1823,1774,1734,1761,1775,1803,1833,1851,1894,1947,2008,2087,2062]
["WZ08-58-01","Verlagswesen, audio-visual media and Rundfunk",504,509,494,495,499,502,505,517,467,480,485,477,458,459,457,459,459,454,449,451,449,444,443,435,416,416,415,409,"...","."]
["WZ08-58","Verlagswesen",".",".",".",".",".",".",".",".",".",".",".",".",".",".",".",".",".",".",".",".",".",".",".",".",".",".",".",".",".","."]
["WZ08-59-01","Audiovisuelle Medien und Rundfunk",".",".",".",".",".",".",".",".",".",".",".",".",".",".",".",".",".",".",".",".",".",".",".",".",".",".",".",".",".","."]
["WZ08-61","Telekommunikation",523,508,493,475,448,422,392,375,357,354,359,344,327,319,312,320,326,314,273,230,220,204,200,199,197,192,183,176,"...","."]
["WZ08-62-01","IT- und Informationsdienstleister",409,431,443,466,486,510,531,580,659,765,837,857,863,895,927,979,1022,1055,1052,1053,1092,1126,1160,1199,1238,1286,1349,1424,"...","."]
["WZ08-K","Erbringung von Finanz- und Versicherungsleistungen",2062,2106,2099,2064,2028,2003,1993,2005,2017,2034,2026,2020,1983,1962,1941,1963,1915,1882,1853,1848,1824,1799,1788,1777,1771,1742,1683,1644,1622,1569]
["WZ08-64","Erbringung von Finanzdienstleistungen",".",".",".",".",".",".",".",".",".",".",".",".",".",".",".",".",".",".",".",".",".",".",".",".",".",".",".",".",".","."]
["WZ08-65","Versicherungen, Rückversicherungen, Pensionskassen",".",".",".",".",".",".",".",".",".",".",".",".",".",".",".",".",".",".",".",".",".",".",".",".",".",".",".",".",".","."]
["WZ08-66","Mit Finanz- u. Versicherungsdienstl. verb. Tätigk.",".",".",".",".",".",".",".",".",".",".",".",".",".",".",".",".",".",".",".",".",".",".",".",".",".",".",".",".",".","."]
["WZ08-L","Grundstücks- und Wohnungswesen",422,450,478,507,528,545,568,613,636,632,621,612,602,599,599,619,622,619,594,597,589,585,584,584,579,578,589,594,597,568]
["WZ08-M-02","Unternehmensdienstleister",3646,3735,3758,3938,4153,4327,4538,4861,5162,5467,5566,5572,5658,5822,6042,6558,7000,7179,6959,7321,7595,7642,7666,7836,7987,8178,8422,8533,8510,7899]
["WZ08-M","Freiberufliche, wiss. u. techn. Dienstleistungen",1765,1846,1905,2009,2129,2241,2339,2490,2639,2786,2859,2907,2969,3082,3162,3343,3518,3642,3631,3708,3773,3835,3923,3985,4047,4115,4209,4300,4374,"..."]
["WZ08-69-01","Unternehmensnahe Beratungsleistungen",1310,1370,1413,1497,1589,1672,1751,1866,1983,2092,2139,2173,2228,2326,2392,2534,2681,2790,2786,2839,2879,2920,2986,3035,3095,3141,3208,3290,"...","."]
["WZ08-69-02","Rechts- und Steuerberatung, Unternehmensberatung",".",".",".",".",".",".",".",".",".",".",".",".",".",".",".",".",".",".",".",".",".",".",".",".",".",".",".",".",".","."]
["WZ08-71","Architektur-,Ing.büros,techn.,physik.Untersuchung",".",".",".",".",".",".",".",".",".",".",".",".",".",".",".",".",".",".",".",".",".",".",".",".",".",".",".",".",".","."]
["WZ08-72","Forschung und Entwicklung",154,160,163,163,169,177,177,192,200,204,210,221,222,215,210,221,233,241,243,248,257,270,288,294,295,304,318,327,"...","."]
["WZ08-73-01","Sonst.freiberufl., wissenschaftl., techn. Dienstl.",301,316,329,349,372,391,410,432,456,491,510,512,519,541,560,587,604,611,603,620,637,645,649,655,657,671,683,683,"...","."]
["WZ08-73","Werbung und Marktforschung",".",".",".",".",".",".",".",".",".",".",".",".",".",".",".",".",".",".",".",".",".",".",".",".",".",".",".",".",".","."]
["WZ08-74-01","Freiberufl.,wiss.,techn.DL a.n.g., Veterinärwesen",".",".",".",".",".",".",".",".",".",".",".",".",".",".",".",".",".",".",".",".",".",".",".",".",".",".",".",".",".","."]
["WZ08-N","Sonstige wirtschaftliche Dienstleistungen",1881,1889,1853,1929,2023,2086,2199,2372,2523,2681,2707,2665,2689,2740,2880,3215,3482,3538,3328,3613,3822,3807,3744,3851,3940,4062,4213,4232,4137,"..."]
["WZ08-77","Vermietung von beweglichen Sachen",".",".",".",".",".",".",".",".",".",".",".",".",".",".",".",".",".",".",".",".",".",".",".",".",".",".",".",".",".","."]
["WZ08-78","Vermittlung und Überlassung von Arbeitskräften",".",".",".",".",".",".",".",".",".",".",".",".",".",".",".",".",".",".",".",".",".",".",".",".",".",".",".",".",".","."]
["WZ08-79","Reisebüros, -veranstalter u. sonst. Reservierungen",".",".",".",".",".",".",".",".",".",".",".",".",".",".",".",".",".",".",".",".",".",".",".",".",".",".",".",".",".","."]
["WZ08-80-01","Unternehmensdienstleister a.n.g.",".",".",".",".",".",".",".",".",".",".",".",".",".",".",".",".",".",".",".",".",".",".",".",".",".",".",".",".",".","."]
["WZ08-O-03","Öffentliche Dienstleister, Erziehung, Gesundheit",12097,12174,12076,12246,12385,12554,12522,12518,12619,12640,12655,12811,12835,12873,12847,13183,13259,13323,13399,13825,13771,13799,13865,14113,14404,14679,14902,15141,15371,15285]
["WZ08-O","Öff. Verwaltung, Verteidigung, Sozialversicherung",4906,4875,4706,4636,4582,4581,4480,4398,4333,4236,4205,4154,4116,4055,3994,4060,4022,3966,3930,3983,3809,3717,3665,3667,3687,3734,3783,3830,3870,"..."]
["WZ08-P","Erziehung und Unterricht",2458,2505,2527,2548,2577,2607,2607,2610,2658,2692,2744,2803,2811,2815,2802,2908,2920,2946,2977,3066,3102,3131,3164,3208,3239,3261,3294,3337,3385,"..."]
["WZ08-Q","Gesundheits- und Sozialwesen",4733,4794,4843,5061,5225,5366,5434,5510,5629,5711,5706,5853,5908,6002,6050,6215,6317,6411,6492,6776,6860,6952,7036,7238,7477,7684,7825,7974,8116,"..."]
["WZ08-86","Gesundheitswesen",2823,2854,2885,3033,3153,3248,3285,3336,3408,3457,3438,3530,3560,3604,3590,3659,3730,3742,3750,3889,3926,3974,4007,4131,4248,4321,4358,4412,"...","."]
["WZ08-87-01","Heime und Sozialwesen",1910,1940,1958,2028,2072,2118,2149,2174,2220,2254,2268,2323,2348,2398,2460,2556,2587,2669,2742,2886,2935,2978,3029,3107,3229,3363,3467,3562,"...","."]
["WZ08-R-02","Sonstige Dienstleister",2902,2923,2921,2975,3017,3059,3068,3117,3204,3279,3295,3268,3244,3282,3295,3385,3443,3466,3441,3448,3419,3399,3360,3339,3350,3343,3357,3334,3363,3080]
["WZ08-R","Kunst, Unterhaltung und Erholung",632,648,640,643,671,693,709,725,756,789,804,804,797,817,836,855,874,892,892,909,915,921,921,932,938,939,940,939,953,"..."]
["WZ08-90-01","Kunst und Kultur, Glücksspiel",".",".",".",".",".",".",".",".",".",".",".",".",".",".",".",".",".",".",".",".",".",".",".",".",".",".",".",".",".","."]
["WZ08-93","Dienstleistungen d.Sports,d.Unterhaltg.u.Erholung",".",".",".",".",".",".",".",".",".",".",".",".",".",".",".",".",".",".",".",".",".",".",".",".",".",".",".",".",".","."]
["WZ08-S","Erbringung von sonstigen Dienstleistungen",1777,1778,1794,1840,1846,1849,1834,1859,1917,1950,1957,1945,1931,1950,1933,1989,2017,2024,1998,2016,1983,1967,1931,1901,1893,1885,1885,1874,1885,"..."]
["WZ08-94","Interessenvertr., kirchl. u. sonst. Vereinigungen",".",".",".",".",".",".",".",".",".",".",".",".",".",".",".",".",".",".",".",".",".",".",".",".",".",".",".",".",".","."]
["WZ08-95","Reparatur von DV-Geräten und Gebrauchsgütern",".",".",".",".",".",".",".",".",".",".",".",".",".",".",".",".",".",".",".",".",".",".",".",".",".",".",".",".",".","."]
["WZ08-96","Sonstige überwiegend persönliche Dienstleistungen",".",".",".",".",".",".",".",".",".",".",".",".",".",".",".",".",".",".",".",".",".",".",".",".",".",".",".",".",".","."]
["WZ08-T","Private Haushalte",493,497,488,492,500,517,525,532,530,540,534,519,516,515,527,541,553,550,551,523,522,510,507,506,520,519,532,521,525,"..."]
["WZ08-A-02","Alle Wirtschaftsbereiche",60408,60037,58316,58204,58226,57723,57352,57918,58348,58595,58121,57473,56635,56783,56310,57539,58559,59106,57471,58524,59279,59162,59140,59827,60412,60933,61483,62229,62596,59636]
[]
["Arbeitnehmer (1000)"]
["Wirtschaftsbereiche (WZ2008)",null,"1991","1992","1993","1994","1995","1996","1997","1998","1999","2000","2001","2002","2003","2004","2005","2006","2007","2008","2009","2010","2011","2012","2013","2014","2015","2016","2017","2018","2019","2020"]
["WZ08-A","Land- und Forstwirtschaft, Fischerei",509,394,349,344,339,323,321,324,325,330,310,304,306,315,303,297,304,305,311,310,321,328,334,345,353,352,352,355,358,359]
["WZ08-01","Landwirtschaft, Jagd und verbundene Tätigkeiten",417,308,271,268,266,255,260,265,267,273,263,261,264,274,266,262,268,272,279,278,287,294,300,311,317,316,317,321,"...","..."]
["WZ08-021","Forstwirtschaft",86,81,73,71,69,65,58,56,55,54,44,40,39,38,34,32,33,30,29,29,31,31,31,31,33,33,32,31,"...","..."]
["WZ08-031","Fischerei",6,5,5,5,4,3,3,3,3,3,3,3,3,3,3,3,3,3,3,3,3,3,3,3,3,3,3,3,"...","..."]
["WZ08-B-05","Produzierendes Gewerbe",13264,12543,11956,11612,11451,11111,10833,10764,10660,10645,10441,10110,9768,9567,9327,9222,9360,9530,9368,9248,9435,9595,9639,9705,9738,9792,9910,10098,10200,10053]
["WZ08-B-18","Produzierendes Gewerbe ohne Baugewerbe",10652,9837,9150,8681,8478,8260,8102,8140,8099,8169,8161,7985,7764,7645,7510,7424,7534,7715,7545,7410,7565,7702,7737,7788,7812,7835,7914,8058,8115,7934]
["WZ08-B","Bergbau und Gewinnung von Steinen und Erden",297,241,211,189,178,163,143,133,123,116,97,95,92,88,84,80,78,74,72,69,66,65,61,60,57,53,51,46,44,"..."]
["WZ08-C","Verarbeitendes Gewerbe",9756,9006,8350,7904,7718,7524,7400,7457,7444,7540,7560,7392,7190,7068,6943,6866,6977,7160,6985,6852,7003,7136,7165,7216,7249,7273,7344,7477,7525,7337]
["WZ08-10-01","Ernährungsgewerbe und Tabakverarbeitung",901,865,839,820,813,810,817,848,864,886,880,883,890,881,875,848,849,870,873,875,874,875,871,872,881,890,898,904,"...","..."]
["WZ08-13-01","Textil- und Bekleidungsgewerbe",566,452,394,359,333,305,285,273,258,251,241,221,200,189,175,173,166,160,150,143,145,144,141,139,136,134,131,131,"...","..."]
["WZ08-16-01","H.v. Holzwaren, Papier und Druckerzeugnissen",701,682,655,641,635,620,611,607,559,567,553,532,505,493,481,470,471,472,451,438,436,432,428,423,416,412,409,407,"...","..."]
["WZ08-16","H.v. Holz-, Flecht-, Korb-u.Korkwaren (ohne Möbel)",192,190,185,185,186,181,172,168,165,165,156,146,138,135,129,127,130,132,124,120,123,123,123,122,121,121,122,123,"...","..."]
["WZ08-17","Herstellung von Papier, Pappe und Waren daraus",195,185,173,167,166,161,161,161,162,165,163,162,159,158,156,151,147,148,145,144,145,144,146,145,143,143,143,145,"...","..."]
["WZ08-18","H.v. Druckerz., Vervielf.v.Ton-,Bild-,Datenträgern",314,307,297,289,283,278,278,278,232,237,234,224,208,200,196,192,194,192,182,174,168,165,159,156,152,148,144,139,"...","..."]
["WZ08-19","Kokerei und Mineralölverarbeitung",39,34,31,26,23,21,19,19,21,21,22,22,19,19,17,18,17,18,18,17,17,17,16,17,18,18,18,20,"...","..."]
["WZ08-20","Herstellung von chemischen Erzeugnissen",543,505,464,438,423,409,394,379,377,374,372,366,361,337,327,329,331,337,330,324,331,335,340,347,344,341,354,355,"...","..."]
["WZ08-21","Herstellung von pharmazeutischen Erzeugnissen",156,145,133,126,122,118,114,110,109,109,107,109,110,112,111,113,115,117,118,117,118,121,124,127,130,132,126,132,"...","..."]
["WZ08-22-01","H.v. Gummi-, Kunststoff-, Glaswaren, Keramik u.Ä.",827,791,752,736,740,711,698,704,702,711,703,679,647,641,624,619,627,648,621,612,630,641,644,653,658,656,664,679,"...","..."]
["WZ08-22","Herstellung von Gummi- und Kunststoffwaren",451,441,414,403,408,396,400,410,407,417,421,411,395,397,388,385,392,408,388,386,401,410,412,420,426,427,433,443,"...","..."]
["WZ08-23","H.v.Glas,-waren,Keramik,Verarb. v.Steinen u.Erden",376,350,338,333,332,315,298,294,295,294,282,268,252,244,236,234,235,240,233,226,229,231,232,233,232,229,231,236,"...","..."]
["WZ08-24-01","Metallgewerbe",1414,1328,1233,1157,1147,1104,1081,1102,1103,1103,1115,1073,1058,1044,1049,1034,1076,1126,1068,1044,1086,1109,1105,1111,1114,1116,1129,1154,"...","..."]
["WZ08-24","Metallerzeugung und -bearbeitung",487,429,375,339,321,303,292,292,279,279,285,280,267,266,262,260,264,276,265,254,262,266,265,267,265,263,264,269,"...","..."]
["WZ08-25","Herstellung von Metallerzeugnissen",927,899,858,818,826,801,789,810,824,824,830,793,791,778,787,774,812,850,803,790,824,843,840,844,849,853,865,885,"...","..."]
["WZ08-26","H.v. DV-Geräten, elektron. u. opt. Erzeugnissen",524,463,416,382,361,341,339,332,333,344,344,334,324,319,312,313,324,335,319,305,315,323,325,328,339,349,354,367,"...","..."]
["WZ08-27","Herstellung von elektrischen Ausrüstungen",718,637,575,555,554,532,515,522,513,531,545,529,510,500,493,487,489,497,487,482,497,506,505,503,489,484,487,496,"...","..."]
["WZ08-28","Maschinenbau",1472,1329,1190,1098,1051,1027,1005,1009,1016,1024,1047,1022,1006,987,966,971,1005,1063,1052,1019,1049,1086,1101,1109,1117,1122,1138,1175,"...","..."]
["WZ08-29-01","Fahrzeugbau",1093,1027,957,899,870,901,903,936,977,998,1013,1019,981,977,959,943,949,946,916,896,914,946,962,982,1003,1014,1026,1041,"...","..."]
["WZ08-29","Herstellung von Kraftwagen und Kraftwagenteilen",924,873,808,764,747,781,791,826,860,879,894,898,866,859,846,828,830,826,796,777,795,822,833,852,869,876,889,903,"...","..."]
["WZ08-30","Sonstiger Fahrzeugbau",169,154,149,135,123,120,112,110,117,119,119,121,115,118,113,115,119,120,120,119,119,124,129,130,134,138,137,138,"...","..."]
["WZ08-31-01","Möbelherstellung, Installation von Maschinen",802,748,711,667,646,625,619,616,612,621,618,603,579,569,554,548,558,571,582,580,591,601,603,605,604,605,610,616,"...","..."]
["WZ08-31-02","Herstellung von Möbeln und sonstigen Waren",548,516,496,467,453,439,437,434,427,433,428,417,397,388,376,368,374,373,366,362,367,371,371,373,374,375,378,382,"...","..."]
["WZ08-33","Reparatur u.Installation von Masch.u.Ausrüstungen",254,232,215,200,193,186,182,182,185,188,190,186,182,181,178,180,184,198,216,218,224,230,232,232,230,230,232,234,"...","..."]
["WZ08-D","Energieversorgung",378,361,354,342,335,324,313,304,286,265,257,255,246,252,248,246,244,242,248,249,252,253,257,255,250,251,255,259,262,"..."]
["WZ08-E","Wasserversorg.,Entsorg.,Beseitig.v.Umweltverschm.",221,229,235,246,247,249,246,246,246,248,247,243,236,237,235,232,235,239,240,240,244,248,254,257,256,258,264,276,284,"..."]
["WZ08-36","Wasserversorgung",60,59,54,57,51,49,49,47,49,49,50,48,46,47,47,46,45,45,40,40,40,39,39,38,36,35,35,35,"...","..."]
["WZ08-37-01","Abwasser-, Abfallentsorgung, Rückgewinnung",161,170,181,189,196,200,197,199,197,199,197,195,190,190,188,186,190,194,200,200,204,209,215,219,220,223,229,241,"...","..."]
["WZ08-F","Baugewerbe",2612,2706,2806,2931,2973,2851,2731,2624,2561,2476,2280,2125,2004,1922,1817,1798,1826,1815,1823,1838,1870,1893,1902,1917,1926,1957,1996,2040,2085,2119]
["WZ08-G-04","Dienstleistungsbereiche",21535,21815,21889,22176,22455,22767,22971,23444,24144,24983,25081,25190,25029,25219,25300,25640,26139,26524,26732,26975,27261,27574,27882,28212,28626,29176,29727,30192,30559,30372]
["WZ08-G-01","Handel, Verkehr, Gastgewerbe",7783,7781,7746,7696,7658,7663,7673,7785,7947,8181,8149,8120,7986,8052,8012,8061,8198,8306,8349,8363,8509,8626,8697,8772,8852,8977,9115,9271,9380,9215]
["WZ08-G","Handel, Instandhaltung und Reparatur von Kfz",4893,4903,4903,4913,4934,4977,5020,5075,5147,5302,5251,5219,5094,5095,5045,5048,5105,5160,5146,5134,5211,5244,5247,5262,5260,5308,5363,5422,5467,5455]
["WZ08-45","Kfz-Handel, Instandhaltung und Reparatur von Kfz",606,593,590,586,583,591,603,617,643,672,673,685,685,689,684,688,701,702,684,680,691,703,706,711,713,729,745,756,"...","..."]
["WZ08-46","Großhandel (ohne Handel mit Kraftfahrzeugen)",1844,1851,1842,1815,1817,1820,1816,1808,1798,1834,1813,1784,1731,1720,1701,1702,1720,1742,1727,1704,1728,1738,1725,1710,1694,1694,1712,1753,"...","..."]
["WZ08-47","Einzelhandel (ohne Handel mit Kraftfahrzeugen)",2443,2459,2471,2512,2534,2566,2601,2650,2706,2796,2765,2750,2678,2686,2660,2658,2684,2716,2735,2750,2792,2803,2816,2841,2853,2885,2906,2913,"...","..."]
["WZ08-H","Verkehr und Lagerei",2076,2030,1967,1896,1821,1756,1692,1702,1727,1745,1758,1747,1744,1757,1750,1776,1817,1852,1841,1846,1889,1927,1958,1991,2041,2085,2138,2211,2249,2242]
["WZ08-49","Landverkehr und Transport in Rohrfernleitungen",1067,1023,980,935,900,861,817,818,749,732,726,720,714,719,704,706,719,727,732,748,765,780,794,801,814,828,841,861,"...","..."]
["WZ08-50","Schifffahrt",38,36,32,29,27,26,25,25,25,23,22,22,21,22,24,25,25,27,27,27,26,26,25,24,23,23,22,22,"...","..."]
["WZ08-51","Luftfahrt",53,54,52,51,47,47,47,47,50,53,54,53,55,56,58,59,59,62,61,61,63,65,65,65,65,66,68,68,"...","..."]
["WZ08-52","Lagerei, sonstige Dienstleistungen für den Verkehr",425,432,426,426,419,418,422,438,533,549,552,550,555,558,561,575,594,610,591,581,604,619,628,650,675,699,718,753,"...","..."]
["WZ08-53","Post-, Kurier- und Expressdienste",493,485,477,455,428,404,381,374,370,388,404,402,399,402,403,411,420,426,430,429,431,437,446,451,464,469,489,507,"...","..."]
["WZ08-I","Gastgewerbe",814,848,876,887,903,930,961,1008,1073,1134,1140,1154,1148,1200,1217,1237,1276,1294,1362,1383,1409,1455,1492,1519,1551,1584,1614,1638,1664,1518]
["WZ08-J","Information und Kommunikation",917,917,908,900,887,876,870,893,910,992,1040,1034,1004,1003,1002,1016,1041,1060,1045,1016,1028,1048,1072,1088,1077,1108,1142,1188,1240,1264]
["WZ08-58-01","Verlagswesen, audio-visual media and Rundfunk",364,361,353,349,345,345,355,365,348,370,373,367,353,356,350,344,340,337,341,339,338,338,336,327,294,292,287,284,"...","..."]
["WZ08-58","Verlagswesen",283,278,270,265,260,258,265,268,245,259,260,252,242,247,243,237,231,227,229,227,226,225,223,213,182,179,174,169,"...","..."]
["WZ08-59-01","Audiovisuelle Medien und Rundfunk",81,83,83,84,85,87,90,97,103,111,113,115,111,109,107,107,109,110,112,112,112,113,113,114,112,113,113,115,"...","..."]
["WZ08-61","Telekommunikation",325,318,311,299,282,265,244,230,219,218,221,213,202,194,190,192,195,190,166,137,129,123,121,120,119,116,111,106,"...","..."]
["WZ08-62-01","IT- und Informationsdienstleister",228,238,244,252,260,266,271,298,343,404,446,454,449,453,462,480,506,533,538,540,561,587,615,641,664,700,744,798,"...","..."]
["WZ08-K","Erbringung von Finanz- und Versicherungsleistungen",1098,1132,1154,1159,1144,1133,1126,1127,1134,1157,1161,1162,1135,1116,1103,1092,1072,1067,1071,1063,1052,1052,1050,1043,1039,1019,991,973,964,960]
["WZ08-64","Erbringung von Finanzdienstleistungen",761,781,795,801,801,797,793,791,790,799,798,787,758,737,727,721,707,703,698,688,680,678,675,671,666,648,627,607,"...","..."]
["WZ08-65","Versicherungen, Rückversicherungen, Pensionskassen",235,244,247,244,238,235,234,234,234,235,237,245,245,240,234,224,209,199,197,192,189,189,188,184,181,173,158,154,"...","..."]
["WZ08-66","Mit Finanz- u. Versicherungsdienstl. verb. Tätigk.",102,107,112,114,105,101,99,102,110,123,126,130,132,139,142,147,156,165,176,183,183,185,187,188,192,198,206,212,"...","..."]
["WZ08-L","Grundstücks- und Wohnungswesen",218,235,253,271,292,304,330,360,385,396,391,393,394,399,400,405,405,408,394,393,392,396,400,407,411,413,418,422,429,430]
["WZ08-M-02","Unternehmensdienstleister",1887,1919,1952,2079,2217,2336,2471,2689,2968,3253,3324,3343,3382,3506,3614,3847,4093,4222,4175,4371,4527,4630,4695,4795,4933,5090,5256,5342,5324,5183]
["WZ08-M","Freiberufliche, wiss. u. techn. Dienstleistungen",868,916,947,996,1046,1097,1140,1224,1339,1475,1534,1564,1578,1614,1633,1683,1741,1799,1805,1835,1873,1931,1994,2042,2099,2150,2212,2287,2338,"..."]
["WZ08-69-01","Unternehmensnahe Beratungsleistungen",634,669,692,729,768,805,835,894,984,1078,1111,1130,1144,1174,1187,1221,1265,1318,1330,1355,1389,1433,1482,1525,1580,1616,1665,1729,"...","..."]
["WZ08-69-02","Rechts- und Steuerberatung, Unternehmensberatung",431,455,471,496,522,547,567,607,669,734,756,774,784,804,811,824,839,870,882,901,920,945,971,997,1037,1051,1078,1118,"...","..."]
["WZ08-71","Architektur-,Ing.büros,techn.,physik.Untersuchung",203,214,221,233,246,258,268,287,315,344,355,356,360,370,376,397,426,448,448,454,469,488,511,528,543,565,587,611,"...","..."]
["WZ08-72","Forschung und Entwicklung",103,108,111,111,113,116,118,128,131,133,137,145,144,140,139,141,147,154,159,162,166,176,190,194,195,201,210,218,"...","..."]
["WZ08-73-01","Sonst.freiberufl., wissenschaftl., techn. Dienstl.",131,139,144,156,165,176,187,202,224,264,286,289,290,300,307,321,329,327,316,318,318,322,322,323,324,333,337,340,"...","..."]
["WZ08-73","Werbung und Marktforschung",89,94,98,107,115,124,132,144,163,198,217,219,218,225,230,241,246,242,222,218,217,216,211,208,206,210,209,207,"...","..."]
["WZ08-74-01","Freiberufl.,wiss.,techn.DL a.n.g., Veterinärwesen",42,45,46,49,50,52,55,58,61,66,69,70,72,75,77,80,83,85,94,100,101,106,111,115,118,123,128,133,"...","..."]
["WZ08-N","Sonstige wirtschaftliche Dienstleistungen",1019,1003,1005,1083,1171,1239,1331,1465,1629,1778,1790,1779,1804,1892,1981,2164,2352,2423,2370,2536,2654,2699,2701,2753,2834,2940,3044,3055,2986,"..."]
["WZ08-77","Vermietung von beweglichen Sachen",62,65,67,68,68,70,72,77,85,92,94,94,95,98,99,99,101,105,102,99,99,101,101,103,106,108,112,117,"...","..."]
["WZ08-78","Vermittlung und Überlassung von Arbeitskräften",133,131,118,139,171,183,209,255,288,341,354,334,348,408,466,603,739,763,645,798,900,902,871,900,927,958,1007,987,"...","..."]
["WZ08-79","Reisebüros, -veranstalter u. sonst. Reservierungen",53,54,54,54,54,53,54,57,67,70,71,71,72,73,74,75,78,80,80,79,80,83,84,87,88,88,90,93,"...","..."]
["WZ08-80-01","Unternehmensdienstleister a.n.g.",771,753,766,822,878,933,996,1076,1189,1275,1271,1280,1289,1313,1342,1387,1434,1475,1543,1560,1575,1613,1645,1663,1713,1786,1835,1858,"...","..."]
["WZ08-O-03","Öffentliche Dienstleister, Erziehung, Gesundheit",7805,7930,7948,8064,8183,8333,8340,8371,8498,8622,8628,8748,8741,8721,8753,8785,8839,8961,9169,9314,9288,9375,9494,9639,9826,10052,10253,10434,10637,10799]
["WZ08-O","Öff. Verwaltung, Verteidigung, Sozialversicherung",3283,3255,3173,3136,3113,3106,3046,3000,2984,2946,2910,2878,2837,2782,2769,2757,2742,2729,2753,2747,2631,2572,2553,2550,2559,2582,2616,2646,2686,"..."]
["WZ08-P","Erziehung und Unterricht",1629,1657,1696,1716,1742,1760,1758,1766,1815,1867,1905,1945,1953,1944,1944,1973,1996,2036,2086,2125,2131,2162,2201,2229,2237,2253,2288,2322,2359,"..."]
["WZ08-Q","Gesundheits- und Sozialwesen",2893,3018,3079,3212,3328,3467,3536,3605,3699,3809,3813,3925,3951,3995,4040,4055,4101,4196,4330,4442,4526,4641,4740,4860,5030,5217,5349,5466,5592,"..."]
["WZ08-86","Gesundheitswesen",1670,1740,1773,1853,1927,2016,2054,2095,2146,2206,2198,2265,2271,2286,2275,2262,2279,2320,2371,2418,2452,2506,2544,2612,2698,2768,2808,2849,"...","..."]
["WZ08-87-01","Heime und Sozialwesen",1223,1278,1306,1359,1401,1451,1482,1510,1553,1603,1615,1660,1680,1709,1765,1793,1822,1876,1959,2024,2074,2135,2196,2248,2332,2449,2541,2617,"...","..."]
["WZ08-R-02","Sonstige Dienstleister",1827,1901,1928,2007,2074,2122,2161,2219,2302,2382,2388,2390,2387,2422,2416,2434,2491,2500,2529,2455,2465,2447,2474,2468,2488,2517,2552,2562,2585,2521]
["WZ08-R","Kunst, Unterhaltung und Erholung",302,310,310,312,319,324,332,347,369,395,399,405,402,408,418,424,429,436,440,440,441,457,469,477,484,491,507,515,524,"..."]
["WZ08-90-01","Kunst und Kultur, Glücksspiel",184,190,190,188,190,192,193,200,211,226,227,229,224,225,227,230,232,232,234,233,238,249,254,256,258,258,263,264,"...","..."]
["WZ08-93","Dienstleistungen d.Sports,d.Unterhaltg.u.Erholung",118,120,120,124,129,132,139,147,158,169,172,176,178,183,191,194,197,204,206,207,203,208,215,221,226,233,244,251,"...","..."]
["WZ08-S","Erbringung von sonstigen Dienstleistungen",906,944,967,1005,1035,1056,1060,1081,1126,1163,1161,1162,1152,1179,1162,1171,1194,1215,1225,1225,1215,1210,1197,1190,1171,1184,1189,1186,1191,"..."]
["WZ08-94","Interessenvertr., kirchl. u. sonst. Vereinigungen",504,544,565,599,625,639,638,647,671,687,681,680,674,677,661,664,671,679,690,693,688,691,683,677,667,679,691,702,"...","..."]
["WZ08-95","Reparatur von DV-Geräten und Gebrauchsgütern",29,29,29,29,29,30,30,32,33,35,35,35,34,35,35,35,36,36,35,33,33,33,32,33,32,33,33,34,"...","..."]
["WZ08-96","Sonstige überwiegend persönliche Dienstleistungen",373,371,373,377,381,387,392,402,422,441,445,447,444,467,466,472,487,500,500,499,494,486,482,480,472,472,465,450,"...","..."]
["WZ08-T","Private Haushalte",619,647,651,690,720,742,769,791,807,824,828,823,833,835,836,839,868,849,864,790,809,780,808,801,833,842,856,861,870,"..."]
["WZ08-A-02","Alle Wirtschaftsbereiche",35308,34752,34194,34132,34245,34201,34125,34532,35129,35958,35832,35604,35103,35101,34930,35159,35803,36359,36411,36533,37017,37497,37855,38262,38717,39320,39989,40645,41117,40784]
[]
["Arbeitnehmerentgelt (Mrd. EUR)"]
["Wirtschaftsbereiche (WZ2008)",null,"1991","1992","1993","1994","1995","1996","1997","1998","1999","2000","2001","2002","2003","2004","2005","2006","2007","2008","2009","2010","2011","2012","2013","2014","2015","2016","2017","2018","2019","2020"]
["WZ08-A","Land- und Forstwirtschaft, Fischerei",7.5060000000000002,6.6210000000000004,6.5119999999999996,6.7220000000000004,6.8310000000000004,6.6210000000000004,6.4740000000000002,6.4740000000000002,6.64,6.6820000000000004,6.1790000000000003,6.0369999999999999,5.976,5.9710000000000001,5.6379999999999999,5.5739999999999998,5.7789999999999999,5.8849999999999998,6.008,6.0469999999999997,6.57,6.7679999999999998,7.085,7.4059999999999997,7.657,7.8940000000000001,7.9459999999999997,8.048,8.23,8.2799999999999994]
["WZ08-01","Landwirtschaft, Jagd und verbundene Tätigkeiten",5.4080000000000004,4.3940000000000001,4.327,4.5389999999999997,4.6500000000000004,4.5170000000000003,4.6109999999999998,4.6420000000000003,4.7809999999999997,4.8460000000000001,4.68,4.6630000000000003,4.641,4.6509999999999998,4.5199999999999996,4.5389999999999997,4.7320000000000002,4.9260000000000002,5.1210000000000004,5.21,5.4770000000000003,5.694,5.9740000000000002,6.2430000000000003,6.45,6.641,6.726,6.8440000000000003,"...","..."]
["WZ08-021","Forstwirtschaft",2.0129999999999999,2.1469999999999998,2.105,2.101,2.1080000000000001,2.0369999999999999,1.8,1.77,1.79,1.772,1.4330000000000001,1.31,1.272,1.2569999999999999,1.0569999999999999,0.97399999999999998,0.98299999999999998,0.89400000000000002,0.82,0.76800000000000002,1.0229999999999999,1.0029999999999999,1.04,1.091,1.133,1.173,1.1379999999999999,1.1200000000000001,"...","..."]
["WZ08-031","Fischerei",8.5000000000000006E-2,0.08,0.08,8.2000000000000003E-2,7.2999999999999995E-2,6.7000000000000004E-2,6.3E-2,6.2E-2,6.9000000000000006E-2,6.4000000000000001E-2,6.6000000000000003E-2,6.4000000000000001E-2,6.3E-2,6.3E-2,6.0999999999999999E-2,6.0999999999999999E-2,6.4000000000000001E-2,6.5000000000000002E-2,6.7000000000000004E-2,6.9000000000000006E-2,7.0000000000000007E-2,7.0999999999999994E-2,7.0999999999999994E-2,7.1999999999999995E-2,7.3999999999999996E-2,0.08,8.2000000000000003E-2,8.4000000000000005E-2,"...","..."]
["WZ08-B-05","Produzierendes Gewerbe",355.93400000000003,378.82600000000002,374.32900000000001,380.65499999999997,389.29300000000001,385.58600000000001,381.673,385.96899999999999,391.053,403.29,402.36500000000001,395.09899999999999,392.01600000000002,390.52600000000001,384.80799999999999,392.23399999999998,405.43599999999998,417.33199999999999,404.83699999999999,415.899,436.78500000000003,451.87799999999999,466.49799999999999,481.74900000000002,496.70499999999998,509.76,525.57000000000005,547.74199999999996,565.89800000000002,547.30499999999995]
["WZ08-B-18","Produzierendes Gewerbe ohne Baugewerbe",290.07,304.125,293.904,293.52999999999997,300.54399999999998,299.69600000000003,299.30700000000002,306.762,313.37700000000001,327.06799999999998,330.86599999999999,327.733,327.18400000000003,328.21,326.42099999999999,333.72399999999999,345.31799999999998,356.738,341.64100000000002,351.48,369.48399999999998,382.274,396.73200000000003,409.55799999999999,422.24900000000002,432.76600000000002,445.29399999999998,463.12200000000001,476.58800000000002,454.84500000000003]
["WZ08-B","Bergbau und Gewinnung von Steinen und Erden",9.0310000000000006,9.1389999999999993,8.5830000000000002,7.79,7.7249999999999996,7.4109999999999996,6.7880000000000003,6.2430000000000003,5.6609999999999996,5.8869999999999996,5.593,4.7779999999999996,4.7130000000000001,5.4720000000000004,4.5209999999999999,4.2050000000000001,4.2519999999999998,3.694,4.101,3.919,4.8209999999999997,3.8610000000000002,3.9420000000000002,3.7869999999999999,3.8149999999999999,3.38,3.6859999999999999,3.4329999999999998,3.0009999999999999,"..."]
["WZ08-C","Verarbeitendes Gewerbe",261.74200000000002,273.74700000000001,263.24799999999999,263.20100000000002,270.35500000000002,269.488,269.80799999999999,277.48399999999998,285.15300000000002,298.31200000000001,303.64,300.38400000000001,300.01,299.95699999999999,298.358,305.58699999999999,316.55500000000001,329.42599999999999,311.471,321.35000000000002,338.40899999999999,349.98500000000001,363.44799999999998,376.81400000000002,388.31200000000001,398.41500000000002,409.89800000000002,426.11399999999998,438.35399999999998,415.971]
["WZ08-10-01","Ernährungsgewerbe und Tabakverarbeitung",20.347999999999999,21.869,22.312000000000001,22.558,22.704000000000001,22.937999999999999,23.236999999999998,24.058,24.85,25.727,26.515000000000001,26.751999999999999,27.605,27.231999999999999,26.942,25.745999999999999,26.064,27.693000000000001,27.818000000000001,28.437999999999999,28.928999999999998,29.399000000000001,30.087,30.91,31.940999999999999,32.878,33.591000000000001,34.344000000000001,"...","..."]
["WZ08-13-01","Textil- und Bekleidungsgewerbe",10.225,9.3629999999999995,8.7390000000000008,8.3520000000000003,8.0220000000000002,7.6280000000000001,7.3280000000000003,7.24,6.82,6.9720000000000004,6.681,6.2039999999999997,5.8810000000000002,5.673,5.38,5.3230000000000004,5.2859999999999996,5.2930000000000001,4.8250000000000002,4.8689999999999998,5.1689999999999996,5.1829999999999998,5.1639999999999997,5.2320000000000002,5.2869999999999999,5.2869999999999999,5.2649999999999997,5.3719999999999999,"...","..."]
["WZ08-16-01","H.v. Holzwaren, Papier und Druckerzeugnissen",17.32,18.395,18.623999999999999,19.260999999999999,20.148,19.966000000000001,20.184000000000001,20.291,18.254000000000001,19.004000000000001,18.565000000000001,17.887,17.390999999999998,17.149999999999999,16.474,16.288,16.503,16.565999999999999,15.722,15.659000000000001,15.86,15.907,16,16.25,16.155999999999999,16.21,16.303000000000001,16.474,"...","..."]
["WZ08-16","H.v. Holz-, Flecht-, Korb-u.Korkwaren (ohne Möbel)",4.7880000000000003,5.3070000000000004,5.4390000000000001,5.6289999999999996,5.9379999999999997,5.8239999999999998,5.5860000000000003,5.4470000000000001,5.4980000000000002,5.468,5.2320000000000002,4.8239999999999998,4.6669999999999998,4.601,4.359,4.4509999999999996,4.5140000000000002,4.5609999999999999,4.1820000000000004,4.1849999999999996,4.38,4.4779999999999998,4.5540000000000003,4.6929999999999996,4.7069999999999999,4.7990000000000004,4.9009999999999998,5.0590000000000002,"...","..."]
["WZ08-17","Herstellung von Papier, Pappe und Waren daraus",5.181,5.3479999999999999,5.2370000000000001,5.3129999999999997,5.4720000000000004,5.5119999999999996,5.64,5.774,5.7439999999999998,6.1779999999999999,6.3070000000000004,6.16,6.2130000000000001,6.335,6.1669999999999998,5.976,6.07,6.2519999999999998,6.05,6.202,6.3819999999999997,6.4370000000000003,6.657,6.7759999999999998,6.7839999999999998,6.8730000000000002,7.0229999999999997,7.1520000000000001,"...","..."]
["WZ08-18","H.v. Druckerz., Vervielf.v.Ton-,Bild-,Datenträgern",7.351,7.74,7.9480000000000004,8.3190000000000008,8.7379999999999995,8.6300000000000008,8.9580000000000002,9.07,7.0119999999999996,7.3579999999999997,7.0259999999999998,6.9029999999999996,6.5110000000000001,6.2140000000000004,5.9480000000000004,5.8609999999999998,5.9189999999999996,5.7530000000000001,5.49,5.2720000000000002,5.0979999999999999,4.992,4.7889999999999997,4.7809999999999997,4.665,4.5380000000000003,4.3789999999999996,4.2629999999999999,"...","..."]
["WZ08-19","Kokerei und Mineralölverarbeitung",1.3,1.3280000000000001,1.2989999999999999,1.113,1.0189999999999999,1.18,1.137,1.147,1.08,1.3879999999999999,1.5109999999999999,1.8440000000000001,1.081,1.3680000000000001,1.2829999999999999,1.2350000000000001,1.331,1.1459999999999999,1.288,1.204,1.2709999999999999,1.37,1.2989999999999999,1.3089999999999999,1.508,1.476,1.4730000000000001,1.679,"...","..."]
["WZ08-20","Herstellung von chemischen Erzeugnissen",18.100000000000001,18.783999999999999,18.224,18.012,18.486000000000001,17.806000000000001,17.190000000000001,17.538,17.186,19.038,18.256,18.172999999999998,18.43,17.766999999999999,17.728000000000002,18.431000000000001,18.744,20.068000000000001,19.38,20.053000000000001,21.292999999999999,21.669,22.85,23.722999999999999,24.027999999999999,24.385000000000002,25.780999999999999,26.364000000000001,"...","..."]
["WZ08-21","Herstellung von pharmazeutischen Erzeugnissen",5.2560000000000002,5.5890000000000004,5.3929999999999998,5.319,5.4710000000000001,5.266,5.09,5.18,5.0819999999999999,5.7190000000000003,5.3849999999999998,5.54,5.75,5.9660000000000002,6.0960000000000001,6.3979999999999997,6.5709999999999997,6.6379999999999999,7.0069999999999997,7.14,7.2619999999999996,7.7590000000000003,8.0820000000000007,8.5039999999999996,8.9090000000000007,9.3360000000000003,9.0939999999999994,9.5340000000000007,"...","..."]
["WZ08-22-01","H.v. Gummi-, Kunststoff-, Glaswaren, Keramik u.Ä.",21.169,22.734000000000002,22.692,23.2,23.922999999999998,23.567,23.492999999999999,24.163,24.146999999999998,25.207999999999998,25.427,24.427,23.661000000000001,23.849,23.465,23.527000000000001,23.881,25.591999999999999,23.815999999999999,24.827000000000002,26.023,26.818999999999999,27.510999999999999,28.495999999999999,29.393999999999998,30.04,30.925000000000001,32.067,"...","..."]
["WZ08-22","Herstellung von Gummi- und Kunststoffwaren",11.88,12.692,12.307,12.478999999999999,13.052,12.958,13.276999999999999,13.869,13.734,14.529,15.012,14.553000000000001,14.233000000000001,14.554,14.285,14.367000000000001,14.875999999999999,15.861000000000001,14.645,15.582000000000001,16.331,16.861000000000001,17.373999999999999,18.096,18.768000000000001,19.291,19.959,20.571000000000002,"...","..."]
["WZ08-23","H.v.Glas,-waren,Keramik,Verarb. v.Steinen u.Erden",9.2889999999999997,10.042,10.385,10.721,10.871,10.609,10.215999999999999,10.294,10.413,10.679,10.414999999999999,9.8740000000000006,9.4280000000000008,9.2949999999999999,9.18,9.16,9.0050000000000008,9.7309999999999999,9.1709999999999994,9.2449999999999992,9.6920000000000002,9.9580000000000002,10.137,10.4,10.625999999999999,10.749000000000001,10.965999999999999,11.496,"...","..."]
["WZ08-24-01","Metallgewerbe",38.183,40.1,38.11,37.639000000000003,39.640999999999998,38.774999999999999,38.530999999999999,39.792999999999999,39.988,41.633000000000003,43.152999999999999,41.101999999999997,40.83,41.430999999999997,41.911999999999999,42.820999999999998,44.962000000000003,47.225000000000001,41.981999999999999,44.152999999999999,47.578000000000003,49.436,50.56,51.994999999999997,53.109000000000002,54.09,55.926000000000002,58.216000000000001,"...","..."]
["WZ08-24","Metallerzeugung und -bearbeitung",12.926,13.000999999999999,11.88,11.477,11.563000000000001,11.436,11.227,11.327,10.656000000000001,11.702,11.965999999999999,11.486000000000001,11.206,11.901,11.638,12.558999999999999,12.782999999999999,13.477,11.891,12.398,13.234,13.672000000000001,13.989000000000001,14.332000000000001,14.593999999999999,14.85,15.256,15.715,"...","..."]
["WZ08-25","Herstellung von Metallerzeugnissen",25.257000000000001,27.099,26.23,26.161999999999999,28.077999999999999,27.338999999999999,27.303999999999998,28.466000000000001,29.332000000000001,29.931000000000001,31.187000000000001,29.616,29.623999999999999,29.53,30.274000000000001,30.262,32.179000000000002,33.747999999999998,30.091000000000001,31.754999999999999,34.344000000000001,35.764000000000003,36.570999999999998,37.662999999999997,38.515000000000001,39.24,40.67,42.500999999999998,"...","..."]
["WZ08-26","H.v. DV-Geräten, elektron. u. opt. Erzeugnissen",15.603999999999999,15.846,14.266999999999999,14.156000000000001,14.106,13.616,13.789,13.832000000000001,14.145,15.08,16.468,14.968,15.521000000000001,15.223000000000001,14.685,15.948,17.408000000000001,19.297000000000001,17.318999999999999,17.747,18.100000000000001,18.175000000000001,19.202000000000002,20.04,21.047999999999998,22.381,23.01,24.138999999999999,"...","..."]
["WZ08-27","Herstellung von elektrischen Ausrüstungen",17.963999999999999,18.276,17.425000000000001,18.02,18.952000000000002,18.451000000000001,18.363,18.823,22.907,21.55,22.266999999999999,23.111000000000001,22.635999999999999,22.396999999999998,22.722000000000001,23.138000000000002,23.46,26.417000000000002,24.033000000000001,25.087,26.042999999999999,25.911999999999999,27.213999999999999,28.393999999999998,28.370999999999999,29.071000000000002,30.068000000000001,31.045000000000002,"...","..."]
["WZ08-28","Maschinenbau",41.356999999999999,43.765999999999998,40.170999999999999,39.982999999999997,40.787999999999997,41.069000000000003,40.729999999999997,42.18,42.942,44.933,46.99,46.494999999999997,46.813000000000002,47.320999999999998,46.354999999999997,48.021000000000001,51.055,53.566000000000003,50.573999999999998,51.838000000000001,56.225999999999999,59.676000000000002,61.753999999999998,64.040999999999997,66.147999999999996,67.744,70.631,74.798000000000002,"...","..."]
["WZ08-29-01","Fahrzeugbau",34.612000000000002,36.039000000000001,34.488999999999997,34.482999999999997,35.673999999999999,38.023000000000003,39.423999999999999,41.609000000000002,45.744,48.723999999999997,49.015000000000001,51.091999999999999,51.631,51.673000000000002,53.006,55.658999999999999,57.475000000000001,55.101999999999997,52.119,54.215000000000003,57.527999999999999,60.866999999999997,65.209999999999994,68.960999999999999,72.784000000000006,75.037999999999997,77.025000000000006,80.558000000000007,"...","..."]
["WZ08-29","Herstellung von Kraftwagen und Kraftwagenteilen",30.321000000000002,31.565000000000001,29.856999999999999,30.001999999999999,31.303999999999998,33.530999999999999,35.076000000000001,37.171999999999997,40.963999999999999,43.311,43.454999999999998,45.468000000000004,46.122999999999998,46.055,47.194000000000003,49.634,51.115000000000002,48.17,45.064999999999998,46.863,49.930999999999997,52.905000000000001,56.463999999999999,59.835999999999999,63.165999999999997,64.727999999999994,66.563000000000002,69.94,"...","..."]
["WZ08-30","Sonstiger Fahrzeugbau",4.2910000000000004,4.4740000000000002,4.6319999999999997,4.4809999999999999,4.37,4.492,4.3479999999999999,4.4370000000000003,4.78,5.4130000000000003,5.56,5.6239999999999997,5.508,5.6180000000000003,5.8120000000000003,6.0250000000000004,6.36,6.9320000000000004,7.0540000000000003,7.3520000000000003,7.5970000000000004,7.9619999999999997,8.7460000000000004,9.125,9.6180000000000003,10.31,10.462,10.618,"...","..."]
["WZ08-31-01","Möbelherstellung, Installation von Maschinen",20.303999999999998,21.658000000000001,21.503,21.105,21.420999999999999,21.202999999999999,21.312000000000001,21.63,22.007999999999999,23.335999999999999,23.407,22.789000000000001,22.78,22.907,22.31,23.052,23.815000000000001,24.823,25.588000000000001,26.12,27.126999999999999,27.812999999999999,28.515000000000001,28.959,29.629000000000001,30.478999999999999,30.806000000000001,31.524000000000001,"...","..."]
["WZ08-31-02","Herstellung von Möbeln und sonstigen Waren",12.87,13.837,13.945,13.635999999999999,13.79,13.603,13.781000000000001,13.912000000000001,13.936999999999999,14.785,14.568,14.077999999999999,14.037000000000001,14.045,13.545,13.853999999999999,14.195,14.359,13.959,14.294,14.82,15.425000000000001,15.782,16.276,16.768999999999998,17.309000000000001,17.760999999999999,18.294,"...","..."]
["WZ08-33","Reparatur u.Installation von Masch.u.Ausrüstungen",7.4340000000000002,7.8209999999999997,7.5579999999999998,7.4690000000000003,7.6310000000000002,7.6,7.5309999999999997,7.718,8.0709999999999997,8.5510000000000002,8.8390000000000004,8.7110000000000003,8.7430000000000003,8.8620000000000001,8.7650000000000006,9.1980000000000004,9.6199999999999992,10.464,11.629,11.826000000000001,12.307,12.388,12.733000000000001,12.683,12.86,13.17,13.045,13.23,"...","..."]
["WZ08-D","Energieversorgung",13.307,14.384,14.734,14.63,14.651,14.852,14.746,14.927,14.348000000000001,14.444000000000001,13.023999999999999,14.031000000000001,13.923,14.122,14.791,15.15,15.616,14.358000000000001,16.591000000000001,16.538,16.184999999999999,17.920999999999999,18.481999999999999,17.706,18.754000000000001,19.167999999999999,19.387,20.413,21.317,"..."]
["WZ08-E","Wasserversorg.,Entsorg.,Beseitig.v.Umweltverschm.",5.99,6.8550000000000004,7.3390000000000004,7.9089999999999998,7.8129999999999997,7.9450000000000003,7.9649999999999999,8.1080000000000005,8.2149999999999999,8.4250000000000007,8.609,8.5399999999999991,8.5380000000000003,8.6590000000000007,8.7509999999999994,8.782,8.8949999999999996,9.26,9.4779999999999998,9.673,10.069000000000001,10.507,10.86,11.250999999999999,11.368,11.803000000000001,12.323,13.162000000000001,13.916,"..."]
["WZ08-36","Wasserversorgung",1.6339999999999999,1.873,1.847,2.0030000000000001,1.8380000000000001,1.7509999999999999,1.782,1.79,1.851,1.899,1.974,1.927,1.88,1.98,2.0059999999999998,2.024,1.99,2.0099999999999998,1.9359999999999999,1.919,1.883,1.907,1.9890000000000001,2.0070000000000001,1.9390000000000001,1.9179999999999999,1.9330000000000001,1.9870000000000001,"...","..."]
["WZ08-37-01","Abwasser-, Abfallentsorgung, Rückgewinnung",4.3559999999999999,4.9820000000000002,5.492,5.9059999999999997,5.9749999999999996,6.194,6.1829999999999998,6.3179999999999996,6.3639999999999999,6.5259999999999998,6.6349999999999998,6.6130000000000004,6.6580000000000004,6.6790000000000003,6.7450000000000001,6.758,6.9050000000000002,7.25,7.5419999999999998,7.7539999999999996,8.1859999999999999,8.6,8.8710000000000004,9.2439999999999998,9.4290000000000003,9.8849999999999998,10.39,11.175000000000001,"...","..."]
["WZ08-F","Baugewerbe",65.864000000000004,74.700999999999993,80.424999999999997,87.125,88.748999999999995,85.89,82.366,79.206999999999994,77.676000000000002,76.221999999999994,71.498999999999995,67.366,64.831999999999994,62.316000000000003,58.387,58.51,60.118000000000002,60.594000000000001,63.195999999999998,64.418999999999997,67.301000000000002,69.603999999999999,69.766000000000005,72.191000000000003,74.456000000000003,76.994,80.275999999999996,84.62,89.31,92.46]
["WZ08-G-04","Dienstleistungsbereiche",490.01900000000001,540.98,568.01400000000001,587.28599999999994,615.26099999999997,628.45399999999995,636.59199999999998,654.44399999999996,679.39,710.375,729.82600000000002,743.93399999999997,750.72299999999996,755.79899999999998,760.31500000000005,772.92,793.06399999999996,827.49099999999999,846.06899999999996,871.66,906.48699999999997,944.86699999999996,970.58799999999997,1012.614,1057.614,1105.0740000000001,1159.68,1215.066,1271.0550000000001,1283.7719999999999]
["WZ08-G-01","Handel, Verkehr, Gastgewerbe",159.35300000000001,175.12100000000001,181.54300000000001,183.941,188.44,188.4,188.60300000000001,190.98,195.98,202.57599999999999,206.81200000000001,207.614,207.66499999999999,207.65299999999999,208.01599999999999,211.06200000000001,216.51900000000001,224.77500000000001,225.81800000000001,230.40899999999999,238.506,248.43,254.24199999999999,263.35500000000002,272.99299999999999,286.63,297.43299999999999,312,327.25700000000001,316.99799999999999]
["WZ08-G","Handel, Instandhaltung und Reparatur von Kfz",98.036000000000001,108.34399999999999,113.774,115.402,118.598,120.569,122.01900000000001,123.547,126.94199999999999,133.06399999999999,136.28200000000001,136.84,136.52699999999999,135.93,135.672,136.96899999999999,139.64400000000001,144.98699999999999,145.041,147.464,152.77099999999999,158.36500000000001,161.90899999999999,167.24,171.995,179.28299999999999,186.423,194.566,204.34700000000001,201.44399999999999]
["WZ08-45","Kfz-Handel, Instandhaltung und Reparatur von Kfz",12.888,14.005000000000001,14.516999999999999,14.852,15.285,15.664,15.993,16.628,17.811,18.77,19.196999999999999,19.968,20.206,20.501000000000001,20.356999999999999,20.603000000000002,21.085000000000001,21.481999999999999,21.04,21.222999999999999,21.969000000000001,22.858000000000001,23.228000000000002,24.238,25.038,26.286999999999999,27.686,28.759,"...","..."]
["WZ08-46","Großhandel (ohne Handel mit Kraftfahrzeugen)",48.076000000000001,53.15,56.103000000000002,56.478999999999999,58.173999999999999,58.414999999999999,58.887,59.122,59.808,63.01,64.58,64.063000000000002,63.939,63.384999999999998,63.280999999999999,63.448999999999998,65.694000000000003,68.581999999999994,68.316999999999993,68.688999999999993,71.77,74.233999999999995,76.037000000000006,77.341999999999999,79.406000000000006,82.378,85.721000000000004,89.882999999999996,"...","..."]
["WZ08-47","Einzelhandel (ohne Handel mit Kraftfahrzeugen)",37.072000000000003,41.189,43.154000000000003,44.070999999999998,45.139000000000003,46.49,47.139000000000003,47.796999999999997,49.323,51.283999999999999,52.505000000000003,52.808999999999997,52.381999999999998,52.043999999999997,52.033999999999999,52.917000000000002,52.865000000000002,54.923000000000002,55.683999999999997,57.552,59.031999999999996,61.273000000000003,62.643999999999998,65.66,67.551000000000002,70.617999999999995,73.016000000000005,75.924000000000007,"...","..."]
["WZ08-H","Verkehr und Lagerei",48.341000000000001,52.12,53.017000000000003,52.914000000000001,52.677,52.094999999999999,50.414999999999999,50.756,51.421999999999997,51.070999999999998,51.652000000000001,51.552,52.366,52.847000000000001,53.14,54.456000000000003,56.415999999999997,58.645000000000003,58.887999999999998,60.405999999999999,62.38,65.388000000000005,66.706999999999994,69.341999999999999,72.387,76.983000000000004,78.89,83.724999999999994,87.378,86.837999999999994]
["WZ08-49","Landverkehr und Transport in Rohrfernleitungen",24.358000000000001,25.707000000000001,25.991,25.45,24.763999999999999,24.062000000000001,22.795000000000002,22.681000000000001,20.245000000000001,19.773,19.588999999999999,19.538,19.524999999999999,19.619,19.202000000000002,19.413,19.959,20.523,20.896999999999998,21.725000000000001,22.465,23.49,24.056000000000001,24.681000000000001,25.626000000000001,26.757000000000001,27.616,28.821999999999999,"...","..."]
["WZ08-50","Schifffahrt",1.157,1.1499999999999999,1.0609999999999999,0.998,0.95699999999999996,0.95799999999999996,0.94699999999999995,0.94899999999999995,0.95199999999999996,0.90800000000000003,0.91300000000000003,0.89700000000000002,0.92500000000000004,0.95099999999999996,1.105,1.1539999999999999,1.18,1.2909999999999999,1.367,1.3280000000000001,1.35,1.337,1.3160000000000001,1.292,1.27,1.2450000000000001,1.2250000000000001,1.2350000000000001,"...","..."]
["WZ08-51","Luftfahrt",1.9950000000000001,2.1840000000000002,2.17,2.2480000000000002,2.1960000000000002,2.3330000000000002,2.3839999999999999,2.4700000000000002,2.6840000000000002,3.0339999999999998,3.3420000000000001,3.3109999999999999,3.7069999999999999,3.7130000000000001,3.887,3.9969999999999999,4.0430000000000001,4.3630000000000004,4.351,4.4400000000000004,4.63,4.8499999999999996,4.8570000000000002,4.9550000000000001,5.0039999999999996,5.04,5.2690000000000001,5.3090000000000002,"...","..."]
["WZ08-52","Lagerei, sonstige Dienstleistungen für den Verkehr",10.112,11.191000000000001,11.439,12.016,11.944000000000001,12.317,12.478999999999999,13.164,16.332999999999998,17.216000000000001,17.641999999999999,17.952999999999999,18.539000000000001,19.116,19.625,20.236999999999998,21.032,22.327999999999999,21.864000000000001,22.013999999999999,23.178999999999998,24.86,25.082999999999998,26.722000000000001,28.158000000000001,29.998000000000001,31.457000000000001,33.917999999999999,"...","..."]
["WZ08-53","Post-, Kurier- und Expressdienste",10.718999999999999,11.888,12.356,12.202,12.816000000000001,12.425000000000001,11.81,11.492000000000001,11.208,10.14,10.166,9.8529999999999998,9.67,9.4480000000000004,9.3209999999999997,9.6549999999999994,10.202,10.14,10.409000000000001,10.898999999999999,10.756,10.851000000000001,11.395,11.692,12.329000000000001,13.943,13.323,14.441000000000001,"...","..."]
["WZ08-I","Gastgewerbe",12.976000000000001,14.657,14.752000000000001,15.625,17.164999999999999,15.736000000000001,16.169,16.677,17.616,18.440999999999999,18.878,19.222000000000001,18.771999999999998,18.876000000000001,19.204000000000001,19.637,20.459,21.143000000000001,21.888999999999999,22.539000000000001,23.355,24.677,25.626000000000001,26.773,28.611000000000001,30.364000000000001,32.119999999999997,33.709000000000003,35.531999999999996,28.716000000000001]
["WZ08-J","Information und Kommunikation",27.129000000000001,30.393999999999998,31.783999999999999,32.715000000000003,34.457000000000001,35.308,35.36,37.512,38.945,42.750999999999998,46.179000000000002,46.843000000000004,46.820999999999998,47.280999999999999,47.904000000000003,49.354999999999997,51.759,54.584000000000003,54.552,54.718000000000004,56.856999999999999,61.176000000000002,62.356999999999999,66.305999999999997,69.281000000000006,72.588999999999999,77.12,83.545000000000002,90.775999999999996,94.176000000000002]
["WZ08-58-01","Verlagswesen, audio-visual media and Rundfunk",10.382,11.445,11.577,11.95,12.423999999999999,12.888,13.058999999999999,13.737,12.499000000000001,13.215999999999999,13.545999999999999,13.241,13.202,13.156000000000001,13.263,13.507,13.519,13.589,14.271000000000001,14.483000000000001,14.419,15.506,15.872,15.898999999999999,15.986000000000001,15.486000000000001,15.557,16.338000000000001,"...","..."]
["WZ08-58","Verlagswesen",7.0620000000000003,7.8230000000000004,7.9029999999999996,8.1050000000000004,8.3559999999999999,8.4149999999999991,8.4719999999999995,8.6760000000000002,7.0309999999999997,7.4580000000000002,7.6020000000000003,7.5640000000000001,7.3010000000000002,7.2610000000000001,7.2619999999999996,7.4219999999999997,7.5419999999999998,7.6550000000000002,7.5350000000000001,7.7990000000000004,8.048,8.3339999999999996,8.4469999999999992,8.2409999999999997,8.016,8.0660000000000007,8.24,8.1850000000000005,"...","..."]
["WZ08-59-01","Audiovisuelle Medien und Rundfunk",3.32,3.6219999999999999,3.6739999999999999,3.8450000000000002,4.0679999999999996,4.4729999999999999,4.5869999999999997,5.0609999999999999,5.468,5.758,5.944,5.6769999999999996,5.9009999999999998,5.8949999999999996,6.0010000000000003,6.085,5.9770000000000003,5.9340000000000002,6.7359999999999998,6.6840000000000002,6.3710000000000004,7.1719999999999997,7.4249999999999998,7.6580000000000004,7.97,7.42,7.3170000000000002,8.1530000000000005,"...","..."]
["WZ08-61","Telekommunikation",10.76,11.973000000000001,12.456,12.333,12.759,12.356999999999999,11.645,11.266,11.092000000000001,10.525,10.875,10.882,10.622,10.327999999999999,10.247,10.585000000000001,10.967000000000001,11.217000000000001,9.7769999999999992,8.3480000000000008,8.3190000000000008,8.1029999999999998,7.8780000000000001,8.2140000000000004,8.3800000000000008,8.4670000000000005,8.2590000000000003,8.1080000000000005,"...","..."]
["WZ08-62-01","IT- und Informationsdienstleister",5.9870000000000001,6.976,7.7510000000000003,8.4320000000000004,9.2739999999999991,10.063000000000001,10.656000000000001,12.509,15.353999999999999,19.010000000000002,21.757999999999999,22.72,22.997,23.797000000000001,24.393999999999998,25.263000000000002,27.273,29.777999999999999,30.504000000000001,31.887,34.119,37.567,38.606999999999999,42.192999999999998,44.914999999999999,48.636000000000003,53.304000000000002,59.098999999999997,"...","..."]
["WZ08-K","Erbringung von Finanz- und Versicherungsleistungen",41.793999999999997,46.558,49.085999999999999,50.877000000000002,52.552,52.393000000000001,52.738999999999997,53.966000000000001,54.975999999999999,59,60.176000000000002,61.619,61.024000000000001,61.344999999999999,61.405999999999999,61.613,62.371000000000002,64.358999999999995,63.954000000000001,63.298000000000002,65.56,67.347999999999999,69.272000000000006,71.424000000000007,72.238,73.531000000000006,71.012,70.893000000000001,72.602000000000004,73.545000000000002]
["WZ08-64","Erbringung von Finanzdienstleistungen",28.994,32.08,34.063000000000002,35.177,36.969000000000001,36.951999999999998,37.353999999999999,37.997999999999998,38.600999999999999,40.835999999999999,41.585000000000001,41.475999999999999,40.951999999999998,40.988,40.927,40.927999999999997,41.88,43.503999999999998,42.055999999999997,41.104999999999997,42.561,43.651000000000003,44.777999999999999,46.347999999999999,46.457999999999998,45.64,45.360999999999997,44.143999999999998,"...","..."]
["WZ08-65","Versicherungen, Rückversicherungen, Pensionskassen",9.2200000000000006,10.393000000000001,10.56,10.984,11.132,11.066000000000001,11.173999999999999,11.43,11.544,12.554,12.811,14.000999999999999,13.782,13.74,13.670999999999999,13.493,11.834,11.916,12.412000000000001,11.968999999999999,12.56,12.977,13.221,13.311999999999999,13.738,14.895,12.619,12.43,"...","..."]
["WZ08-66","Mit Finanz- u. Versicherungsdienstl. verb. Tätigk.",3.58,4.085,4.4630000000000001,4.7160000000000002,4.4509999999999996,4.375,4.2110000000000003,4.5380000000000003,4.8310000000000004,5.61,5.78,6.1420000000000003,6.29,6.617,6.8079999999999998,7.1920000000000002,8.657,8.9390000000000001,9.4860000000000007,10.224,10.439,10.72,11.273,11.763999999999999,12.042,12.996,13.032,14.319000000000001,"...","..."]
["WZ08-L","Grundstücks- und Wohnungswesen",5.3019999999999996,6.0940000000000003,6.8769999999999998,7.5119999999999996,8.0559999999999992,8.5459999999999994,8.7949999999999999,9.7260000000000009,10.122,10.582000000000001,10.726000000000001,10.798999999999999,11.217000000000001,10.853,11.08,11.087,11.035,11.116,10.972,11.11,11.522,11.958,11.885,12.486000000000001,13.055999999999999,13.858000000000001,14.635999999999999,15.5,16.178000000000001,16.673999999999999]
["WZ08-M-02","Unternehmensdienstleister",38.985999999999997,43.435000000000002,46.622999999999998,49.750999999999998,54.005000000000003,58,60.91,66.284999999999997,72.197000000000003,81.105000000000004,84.745999999999995,86.864999999999995,89.47,93.069000000000003,98.066999999999993,104.235,112.428,121.964,121.461,130.959,142.56700000000001,153.184,156.547,166.63399999999999,179.619,186.72,205.72,218.30600000000001,222.078,217.941]
["WZ08-M","Freiberufliche, wiss. u. techn. Dienstleistungen",24.954000000000001,28.222999999999999,30.513000000000002,32.356000000000002,34.905000000000001,37.326999999999998,38.939,42.210999999999999,45.8,51.006,53.738999999999997,55.720999999999997,57.475999999999999,59.255000000000003,61.67,64.165999999999997,67.775999999999996,75.132000000000005,75.816000000000003,81.168000000000006,87.69,95.203000000000003,96.793000000000006,103.392,111.929,113.79,127.307,135.81399999999999,138.30199999999999,"..."]
["WZ08-69-01","Unternehmensnahe Beratungsleistungen",19.013000000000002,21.562000000000001,23.355,24.870999999999999,26.902000000000001,28.841000000000001,30.106999999999999,32.421999999999997,35.404000000000003,39.616999999999997,41.706000000000003,43.146999999999998,44.558,46.48,48.487000000000002,50.366,53.235999999999997,59.795000000000002,59.825000000000003,64.691999999999993,70.159000000000006,76.38,76.707999999999998,82.033000000000001,89.188000000000002,89.572999999999993,100.755,107.512,"...","..."]
["WZ08-69-02","Rechts- und Steuerberatung, Unternehmensberatung",13.628,15.458,16.742000000000001,17.824000000000002,19.276,20.655000000000001,21.556000000000001,23.222999999999999,25.366,28.344000000000001,29.779,30.946999999999999,31.946999999999999,33.262999999999998,34.56,35.433999999999997,36.841999999999999,41.591999999999999,41.728000000000002,45.411000000000001,50.027000000000001,54.533000000000001,54.161000000000001,57.716999999999999,63.241,61.978999999999999,70.239000000000004,75.162999999999997,"...","..."]
["WZ08-71","Architektur-,Ing.büros,techn.,physik.Untersuchung",5.3849999999999998,6.1040000000000001,6.6130000000000004,7.0469999999999997,7.6260000000000003,8.1859999999999999,8.5510000000000002,9.1989999999999998,10.038,11.273,11.927,12.2,12.611000000000001,13.217000000000001,13.927,14.932,16.393999999999998,18.202999999999999,18.097000000000001,19.280999999999999,20.132000000000001,21.847000000000001,22.547000000000001,24.315999999999999,25.946999999999999,27.594000000000001,30.515999999999998,32.348999999999997,"...","..."]
["WZ08-72","Forschung und Entwicklung",3.39,3.7919999999999998,4.0419999999999998,4.1689999999999996,4.4119999999999999,4.6420000000000003,4.82,5.4969999999999999,5.7320000000000002,6.0179999999999998,6.2530000000000001,6.6669999999999998,6.9859999999999998,6.64,6.7320000000000002,7.0839999999999996,7.415,7.8860000000000001,8.0510000000000002,8.27,8.6440000000000001,9.2200000000000006,10.01,10.766999999999999,11.289,11.958,13.064,13.827,"...","..."]
["WZ08-73-01","Sonst.freiberufl., wissenschaftl., techn. Dienstl.",2.5510000000000002,2.8690000000000002,3.1160000000000001,3.3159999999999998,3.5910000000000002,3.8439999999999999,4.0119999999999996,4.2919999999999998,4.6639999999999997,5.3710000000000004,5.78,5.907,5.9320000000000004,6.1349999999999998,6.4509999999999996,6.7160000000000002,7.125,7.4509999999999996,7.94,8.2059999999999995,8.8870000000000005,9.6029999999999998,10.074999999999999,10.592000000000001,11.452,12.259,13.488,14.475,"...","..."]
["WZ08-73","Werbung und Marktforschung",1.6040000000000001,1.82,1.9870000000000001,2.1269999999999998,2.3119999999999998,2.4940000000000002,2.6150000000000002,2.8260000000000001,3.11,3.6659999999999999,3.9750000000000001,4.0119999999999996,3.9630000000000001,4.0449999999999999,4.2210000000000001,4.3879999999999999,4.6310000000000002,4.8579999999999997,4.8529999999999998,4.9329999999999998,5.391,5.7779999999999996,5.86,6.1310000000000002,6.7370000000000001,7.1929999999999996,7.9059999999999997,8.4710000000000001,"...","..."]
["WZ08-74-01","Freiberufl.,wiss.,techn.DL a.n.g., Veterinärwesen",0.94699999999999995,1.0489999999999999,1.129,1.1890000000000001,1.2789999999999999,1.35,1.397,1.466,1.554,1.7050000000000001,1.8049999999999999,1.895,1.9690000000000001,2.09,2.23,2.3279999999999998,2.4940000000000002,2.593,3.0870000000000002,3.2730000000000001,3.496,3.8250000000000002,4.2149999999999999,4.4610000000000003,4.7149999999999999,5.0659999999999998,5.5819999999999999,6.0039999999999996,"...","..."]
["WZ08-N","Sonstige wirtschaftliche Dienstleistungen",14.032,15.212,16.11,17.395,19.100000000000001,20.672999999999998,21.971,24.074000000000002,26.396999999999998,30.099,31.007000000000001,31.143999999999998,31.994,33.814,36.396999999999998,40.069000000000003,44.652000000000001,46.832000000000001,45.645000000000003,49.790999999999997,54.877000000000002,57.981000000000002,59.753999999999998,63.241999999999997,67.69,72.930000000000007,78.412999999999997,82.492000000000004,83.775999999999996,"..."]
["WZ08-77","Vermietung von beweglichen Sachen",1.472,1.675,1.8089999999999999,1.855,1.9179999999999999,1.988,2.052,2.1749999999999998,2.36,2.5920000000000001,2.6819999999999999,2.7330000000000001,2.7589999999999999,2.766,2.78,2.8370000000000002,2.9449999999999998,3.34,3.1349999999999998,3.1560000000000001,3.3010000000000002,3.5960000000000001,3.5379999999999998,3.9180000000000001,3.98,4.3090000000000002,4.6180000000000003,5.016,"...","..."]
["WZ08-78","Vermittlung und Überlassung von Arbeitskräften",2.0339999999999998,2.1240000000000001,2.016,2.3929999999999998,3.0409999999999999,3.5379999999999998,4.0720000000000001,4.9649999999999999,5.444,6.9569999999999999,7.2030000000000003,6.8849999999999998,7.202,8.4469999999999992,10.176,12.831,15.743,15.997999999999999,13.63,17.021000000000001,20.381,21.047000000000001,21.393999999999998,22.93,24.361000000000001,25.876999999999999,28.364999999999998,29.062999999999999,"...","..."]
["WZ08-79","Reisebüros, -veranstalter u. sonst. Reservierungen",1.0920000000000001,1.206,1.2310000000000001,1.284,1.3080000000000001,1.3580000000000001,1.385,1.4450000000000001,1.72,1.823,1.8779999999999999,1.917,1.9690000000000001,2.036,2.0790000000000002,2.1419999999999999,2.2349999999999999,2.3039999999999998,2.3439999999999999,2.343,2.3769999999999998,2.4630000000000001,2.5150000000000001,2.6659999999999999,2.7650000000000001,2.82,3.0089999999999999,3.234,"...","..."]
["WZ08-80-01","Unternehmensdienstleister a.n.g.",9.4339999999999993,10.207000000000001,11.054,11.863,12.833,13.789,14.462,15.489000000000001,16.873000000000001,18.727,19.244,19.609000000000002,20.064,20.565000000000001,21.361999999999998,22.259,23.728999999999999,25.19,26.536000000000001,27.271000000000001,28.818000000000001,30.875,32.307000000000002,33.728000000000002,36.584000000000003,39.923999999999999,42.420999999999999,45.179000000000002,"...","..."]
["WZ08-O-03","Öffentliche Dienstleister, Erziehung, Gesundheit",188.31299999999999,206.494,217.149,225.732,239.13900000000001,245.892,249.64099999999999,254.072,263.09500000000003,268.66500000000002,274.90899999999999,283.38299999999998,287.04899999999998,287.98200000000003,287.13099999999997,288.24099999999999,290.60300000000001,300.99900000000002,318.03300000000002,328.995,337.54899999999998,347.60599999999999,360.09500000000003,374.64400000000001,390.31900000000002,409.14299999999997,428.57400000000001,447.1,471.11200000000002,493.48599999999999]
["WZ08-O","Öff. Verwaltung, Verteidigung, Sozialversicherung",79.269000000000005,86.626999999999995,90.350999999999999,92.843999999999994,96.414000000000001,98.311000000000007,98.802000000000007,99.56,102.074,102.499,103.908,106.124,107.116,106.788,107.04600000000001,107.80200000000001,108.223,111.68600000000001,116.47499999999999,119.312,121.131,123.101,126.39400000000001,129.63300000000001,132.47300000000001,137.202,142.88900000000001,148.68299999999999,155.642,"..."]
["WZ08-P","Erziehung und Unterricht",47.115000000000002,52.28,55.645000000000003,57.927999999999997,61.901000000000003,64.02,65.364000000000004,66.819000000000003,69.902000000000001,72.091999999999999,75.483000000000004,77.453000000000003,78.031999999999996,78.308999999999997,77.378,77.622,78.183999999999997,79.738,84.238,87.290999999999997,89.637,92.25,95.343000000000004,99.539000000000001,101.91,105.49,109.637,113.21599999999999,118.486,"..."]
["WZ08-Q","Gesundheits- und Sozialwesen",61.929000000000002,67.587000000000003,71.153000000000006,74.959999999999994,80.823999999999998,83.561000000000007,85.474999999999994,87.692999999999998,91.119,94.073999999999998,95.518000000000001,99.805999999999997,101.901,102.88500000000001,102.70699999999999,102.81699999999999,104.196,109.575,117.32,122.392,126.78100000000001,132.255,138.358,145.47200000000001,155.93600000000001,166.45099999999999,176.048,185.20099999999999,196.98400000000001,"..."]
["WZ08-86","Gesundheitswesen",42.180999999999997,45.642000000000003,47.923999999999999,50.49,54.731999999999999,56.939,58.192999999999998,59.734999999999999,61.959000000000003,63.972000000000001,64.772000000000006,67.727000000000004,68.733000000000004,69.231999999999999,68.793999999999997,68.453000000000003,69.17,72.616,77.066999999999993,79.825999999999993,82.043000000000006,85.700999999999993,89.253,93.655000000000001,100.084,105.59399999999999,110.619,115.334,"...","..."]
["WZ08-87-01","Heime und Sozialwesen",19.748000000000001,21.945,23.228999999999999,24.47,26.091999999999999,26.622,27.282,27.957999999999998,29.16,30.102,30.745999999999999,32.079000000000001,33.167999999999999,33.652999999999999,33.912999999999997,34.363999999999997,35.026000000000003,36.959000000000003,40.253,42.566000000000003,44.738,46.554000000000002,49.104999999999997,51.817,55.851999999999997,60.856999999999999,65.429000000000002,69.867000000000004,"...","..."]
["WZ08-R-02","Sonstige Dienstleister",29.141999999999999,32.884,34.951999999999998,36.758000000000003,38.612000000000002,39.914999999999999,40.543999999999997,41.902999999999999,44.075000000000003,45.695999999999998,46.277999999999999,46.811,47.476999999999997,47.616,46.710999999999999,47.326999999999998,48.348999999999997,49.694000000000003,51.279000000000003,52.170999999999999,53.926000000000002,55.164999999999999,56.19,57.765000000000001,60.107999999999997,62.603000000000002,65.185000000000002,67.721999999999994,71.052000000000007,70.951999999999998]
["WZ08-R","Kunst, Unterhaltung und Erholung",7.57,8.7219999999999995,9.1479999999999997,9.1720000000000006,9.3960000000000008,9.6020000000000003,9.8070000000000004,10.331,10.882,11.388,11.532,11.693,11.624000000000001,11.458,11.241,11.260999999999999,11.379,11.875999999999999,12.138,12.426,13.282999999999999,13.826000000000001,14.367000000000001,14.994,16.198,17.145,18.07,19.331,20.675000000000001,"..."]
["WZ08-90-01","Kunst und Kultur, Glücksspiel",4.9039999999999999,5.8079999999999998,6.0679999999999996,6.0309999999999997,6.1390000000000002,6.2480000000000002,6.3390000000000004,6.601,6.8559999999999999,7.1050000000000004,7.16,7.218,7.0919999999999996,6.9749999999999996,6.8209999999999997,6.8090000000000002,6.89,7.1260000000000003,7.15,7.2679999999999998,7.2889999999999997,7.5060000000000002,7.7880000000000003,8.0250000000000004,8.5619999999999994,8.8360000000000003,9.1780000000000008,9.6449999999999996,"...","..."]
["WZ08-93","Dienstleistungen d.Sports,d.Unterhaltg.u.Erholung",2.6659999999999999,2.9140000000000001,3.08,3.141,3.2570000000000001,3.3540000000000001,3.468,3.73,4.0259999999999998,4.2830000000000004,4.3719999999999999,4.4749999999999996,4.532,4.4829999999999997,4.42,4.452,4.4889999999999999,4.75,4.9880000000000004,5.1580000000000004,5.9939999999999998,6.32,6.5789999999999997,6.9690000000000003,7.6360000000000001,8.3089999999999993,8.8919999999999995,9.6859999999999999,"...","..."]
["WZ08-S","Erbringung von sonstigen Dienstleistungen",18.305,20.63,22.074000000000002,23.507999999999999,24.859000000000002,25.73,25.882000000000001,26.49,27.898,28.843,29.23,29.632000000000001,30.114000000000001,30.312999999999999,29.576000000000001,30.064,30.786000000000001,31.673999999999999,32.85,33.764000000000003,34.454999999999998,35.146000000000001,35.381999999999998,36.253,37.082999999999998,38.448999999999998,39.911000000000001,40.996000000000002,42.779000000000003,"..."]
["WZ08-94","Interessenvertr., kirchl. u. sonst. Vereinigungen",12.565,14.497999999999999,15.619,16.882000000000001,18.123000000000001,18.995999999999999,19.052,19.501999999999999,20.567,21.074999999999999,21.262,21.484999999999999,21.978000000000002,21.963000000000001,21.071999999999999,21.315999999999999,21.623999999999999,22.140999999999998,23.12,23.853999999999999,24.422000000000001,25.030999999999999,25.175000000000001,25.670999999999999,26.079000000000001,27.021000000000001,28.163,29.361000000000001,"...","..."]
["WZ08-95","Reparatur von DV-Geräten und Gebrauchsgütern",0.90400000000000003,1.02,0.999,1.034,0.99,0.92900000000000005,0.94799999999999995,0.98899999999999999,1.0229999999999999,1.131,1.165,1.159,1.1020000000000001,1.1479999999999999,1.173,1.194,1.214,1.2,1.2110000000000001,1.151,1.145,1.163,1.1910000000000001,1.2210000000000001,1.218,1.2649999999999999,1.3029999999999999,1.351,"...","..."]
["WZ08-96","Sonstige überwiegend persönliche Dienstleistungen",4.8360000000000003,5.1120000000000001,5.4560000000000004,5.5919999999999996,5.7460000000000004,5.8049999999999997,5.8819999999999997,5.9989999999999997,6.3079999999999998,6.6369999999999996,6.8029999999999999,6.9880000000000004,7.0339999999999998,7.202,7.3310000000000004,7.5540000000000003,7.9480000000000004,8.3330000000000002,8.5190000000000001,8.7590000000000003,8.8879999999999999,8.952,9.016,9.3610000000000007,9.7859999999999996,10.163,10.445,10.284000000000001,"...","..."]
["WZ08-T","Private Haushalte",3.2669999999999999,3.532,3.73,4.0780000000000003,4.3570000000000002,4.5830000000000002,4.8550000000000004,5.0819999999999999,5.2949999999999999,5.4649999999999999,5.516,5.4859999999999998,5.7389999999999999,5.8449999999999998,5.8940000000000001,6.0019999999999998,6.1840000000000002,6.1440000000000001,6.2910000000000004,5.9809999999999999,6.1879999999999997,6.1929999999999996,6.4409999999999998,6.5179999999999998,6.827,7.0090000000000003,7.2039999999999997,7.3949999999999996,7.5979999999999999,"..."]
["WZ08-A-02","Alle Wirtschaftsbereiche",853.45899999999995,926.42700000000002,948.85500000000002,974.66300000000001,1011.385,1020.6609999999999,1024.739,1046.8869999999999,1077.0830000000001,1120.347,1138.3699999999999,1145.07,1148.7149999999999,1152.296,1150.761,1170.7280000000001,1204.279,1250.7080000000001,1256.914,1293.606,1349.8420000000001,1403.5129999999999,1444.171,1501.769,1561.9760000000001,1622.7280000000001,1693.1959999999999,1770.856,1845.183,1839.357]
[]
["Erwerbstätige (1000)"]
["Wirtschaftsbereiche (WZ2008)",null,"1991","1992","1993","1994","1995","1996","1997","1998","1999","2000","2001","2002","2003","2004","2005","2006","2007","2008","2009","2010","2011","2012","2013","2014","2015","2016","2017","2018","2019","2020"]
["WZ08-A","Land- und Forstwirtschaft, Fischerei",1174,1037,958,920,865,809,784,778,772,766,733,714,705,702,679,663,663,657,652,645,650,647,641,638,633,623,615,608,599,578]
["WZ08-01","Landwirtschaft, Jagd und verbundene Tätigkeiten",1076,944,873,836,784,733,715,711,706,702,679,664,655,653,633,619,617,614,609,602,604,601,596,593,587,577,570,564,"...","..."]
["WZ08-021","Forstwirtschaft",90,85,77,76,74,70,63,61,60,59,49,45,45,44,41,39,41,38,38,38,41,41,40,40,41,41,40,39,"...","..."]
["WZ08-031","Fischerei",8,8,8,8,7,6,6,6,6,5,5,5,5,5,5,5,5,5,5,5,5,5,5,5,5,5,5,5,"...","..."]
["WZ08-B-05","Produzierendes Gewerbe",13856,13155,12589,12265,12125,11807,11534,11469,11373,11363,11159,10834,10495,10303,10092,9999,10146,10318,10155,10034,10226,10390,10434,10491,10508,10553,10654,10826,10912,10739]
["WZ08-B-18","Produzierendes Gewerbe ohne Baugewerbe",10968,10155,9475,9010,8805,8585,8424,8459,8410,8475,8464,8286,8066,7954,7822,7733,7841,8023,7849,7709,7858,7989,8019,8064,8082,8103,8175,8311,8360,8169]
["WZ08-B","Bergbau und Gewinnung von Steinen und Erden",301,245,215,193,182,166,146,136,126,119,100,98,95,91,87,83,80,76,74,71,68,67,63,62,59,55,53,48,46,"..."]
["WZ08-C","Verarbeitendes Gewerbe",10064,9316,8667,8225,8037,7841,7714,7768,7747,7838,7855,7685,7483,7368,7245,7165,7274,7458,7278,7140,7285,7412,7436,7481,7508,7530,7594,7719,7758,7561]
["WZ08-10-01","Ernährungsgewerbe und Tabakverarbeitung",936,901,876,859,852,849,858,889,904,927,922,926,935,927,921,893,894,915,918,919,917,917,911,911,919,927,934,939,"...","..."]
["WZ08-13-01","Textil- und Bekleidungsgewerbe",590,476,418,382,356,327,306,293,277,269,258,237,216,204,190,187,180,172,161,154,155,154,150,148,145,143,141,141,"...","..."]
["WZ08-16-01","H.v. Holzwaren, Papier und Druckerzeugnissen",750,731,706,691,686,669,659,655,606,614,599,578,550,538,526,513,512,513,490,476,473,467,463,457,449,445,441,438,"...","..."]
["WZ08-16","H.v. Holz-, Flecht-, Korb-u.Korkwaren (ohne Möbel)",212,210,206,206,207,201,192,187,184,183,174,164,156,153,147,144,147,150,142,138,141,140,140,139,137,137,137,137,"...","..."]
["WZ08-17","Herstellung von Papier, Pappe und Waren daraus",196,186,174,168,167,162,162,162,163,167,165,164,161,160,158,153,149,151,147,146,147,146,148,147,145,145,145,147,"...","..."]
["WZ08-18","H.v. Druckerz., Vervielf.v.Ton-,Bild-,Datenträgern",342,335,326,317,312,306,305,306,259,264,260,250,233,225,221,216,216,212,201,192,185,181,175,171,167,163,159,154,"...","..."]
["WZ08-19","Kokerei und Mineralölverarbeitung",39,34,31,26,23,21,19,19,21,21,22,22,19,19,17,18,17,18,18,17,17,17,16,17,18,18,18,20,"...","..."]
["WZ08-20","Herstellung von chemischen Erzeugnissen",546,508,467,441,426,413,397,382,381,378,376,370,365,342,332,334,336,342,335,329,336,339,344,351,348,345,359,360,"...","..."]
["WZ08-21","Herstellung von pharmazeutischen Erzeugnissen",157,146,134,127,123,119,115,111,110,110,108,110,111,113,112,114,116,118,119,118,119,122,125,128,131,133,127,133,"...","..."]
["WZ08-22-01","H.v. Gummi-, Kunststoff-, Glaswaren, Keramik u.Ä.",853,818,780,763,768,737,722,729,727,735,727,702,669,664,647,643,651,674,647,637,654,665,667,676,681,679,685,700,"...","..."]
["WZ08-22","Herstellung von Gummi- und Kunststoffwaren",460,450,423,411,417,405,408,419,416,426,430,420,404,407,398,395,402,419,399,397,411,420,422,430,436,437,442,452,"...","..."]
["WZ08-23","H.v.Glas,-waren,Keramik,Verarb. v.Steinen u.Erden",393,368,357,352,351,332,314,310,311,309,297,282,265,257,249,248,249,255,248,240,243,245,245,246,245,242,243,248,"...","..."]
["WZ08-24-01","Metallgewerbe",1478,1394,1299,1225,1215,1172,1149,1170,1169,1167,1178,1134,1118,1106,1113,1097,1141,1193,1135,1110,1150,1170,1165,1170,1172,1173,1185,1208,"...","..."]
["WZ08-24","Metallerzeugung und -bearbeitung",490,432,378,342,324,306,295,295,282,282,288,283,270,269,265,263,269,281,270,259,266,269,268,270,268,266,267,272,"...","..."]
["WZ08-25","Herstellung von Metallerzeugnissen",988,962,921,883,891,866,854,875,887,885,890,851,848,837,848,834,872,912,865,851,884,901,897,900,904,907,918,936,"...","..."]
["WZ08-26","H.v. DV-Geräten, elektron. u. opt. Erzeugnissen",534,473,426,392,371,351,350,343,345,356,356,346,336,332,325,326,337,347,331,317,327,333,335,338,349,359,362,375,"...","..."]
["WZ08-27","Herstellung von elektrischen Ausrüstungen",727,646,584,564,563,541,524,531,522,541,555,539,519,508,501,495,497,506,496,491,506,515,514,511,497,492,495,504,"...","..."]
["WZ08-28","Maschinenbau",1492,1347,1210,1119,1070,1047,1026,1028,1032,1039,1062,1038,1023,1006,986,992,1025,1082,1069,1035,1065,1106,1122,1129,1135,1141,1156,1192,"...","..."]
["WZ08-29-01","Fahrzeugbau",1102,1036,966,908,878,909,911,944,985,1006,1021,1028,990,986,967,951,956,952,922,902,920,951,966,986,1007,1018,1030,1045,"...","..."]
["WZ08-29","Herstellung von Kraftwagen und Kraftwagenteilen",932,881,816,772,754,788,798,833,867,886,901,905,873,866,852,834,835,830,800,781,799,826,836,855,872,879,892,906,"...","..."]
["WZ08-30","Sonstiger Fahrzeugbau",170,155,150,136,124,121,113,111,118,120,120,123,117,120,115,117,121,122,122,121,121,125,130,131,135,139,138,139,"...","..."]
["WZ08-31-01","Möbelherstellung, Installation von Maschinen",860,806,770,728,706,686,678,674,668,675,671,655,632,623,608,602,612,626,637,635,646,656,658,659,657,657,661,664,"...","..."]
["WZ08-31-02","Herstellung von Möbeln und sonstigen Waren",596,564,544,517,502,488,484,480,471,475,469,457,437,429,417,409,415,414,406,402,406,409,408,409,409,409,412,414,"...","..."]
["WZ08-33","Reparatur u.Installation von Masch.u.Ausrüstungen",264,242,226,211,204,198,194,194,197,200,202,198,195,194,191,193,197,212,231,233,240,247,250,250,248,248,249,250,"...","..."]
["WZ08-D","Energieversorgung",378,361,354,342,335,324,313,304,286,265,257,255,246,252,248,246,244,242,248,249,252,253,257,255,250,251,255,259,262,"..."]
["WZ08-E","Wasserversorg.,Entsorg.,Beseitig.v.Umweltverschm.",225,233,239,250,251,254,251,251,251,253,252,248,242,243,242,239,243,247,249,249,253,257,263,266,265,267,273,285,294,"..."]
["WZ08-36","Wasserversorgung",60,59,54,57,51,49,49,47,49,49,50,48,46,47,47,46,45,45,40,40,40,39,39,38,36,35,35,35,"...","..."]
["WZ08-37-01","Abwasser-, Abfallentsorgung, Rückgewinnung",165,174,185,193,200,205,202,204,202,204,202,200,196,196,195,193,198,202,209,209,213,218,224,228,229,232,238,250,"...","..."]
["WZ08-F","Baugewerbe",2888,3000,3114,3255,3320,3222,3110,3010,2963,2888,2695,2548,2429,2349,2270,2266,2305,2295,2306,2325,2368,2401,2415,2427,2426,2450,2479,2515,2552,2570]
["WZ08-G-04","Dienstleistungsbereiche",23841,24168,24316,24694,25052,25441,25722,26248,26975,27842,27967,28118,28037,28357,28540,28933,29463,29863,30096,30369,30668,30982,31275,31592,31981,32485,32993,33434,33758,33465]
["WZ08-G-01","Handel, Verkehr, Gastgewerbe",8879,8890,8871,8849,8840,8862,8882,8993,9145,9373,9324,9284,9140,9223,9189,9229,9353,9443,9470,9469,9595,9693,9730,9785,9846,9941,10044,10179,10257,10030]
["WZ08-G","Handel, Instandhaltung und Reparatur von Kfz",5569,5590,5600,5627,5664,5712,5760,5812,5872,6022,5962,5926,5799,5819,5777,5775,5823,5863,5841,5818,5878,5900,5878,5884,5874,5900,5929,5974,6000,5948]
["WZ08-45","Kfz-Handel, Instandhaltung und Reparatur von Kfz",681,672,673,673,671,681,697,717,746,776,778,792,795,803,801,808,822,822,803,798,809,820,822,825,826,840,854,862,"...","..."]
["WZ08-46","Großhandel (ohne Handel mit Kraftfahrzeugen)",1996,2003,1989,1960,1966,1976,1981,1979,1968,2003,1980,1943,1885,1880,1868,1865,1879,1897,1877,1851,1875,1885,1873,1859,1841,1836,1849,1885,"...","..."]
["WZ08-47","Einzelhandel (ohne Handel mit Kraftfahrzeugen)",2892,2915,2938,2994,3027,3055,3082,3116,3158,3243,3204,3191,3119,3136,3108,3102,3122,3144,3161,3169,3194,3195,3183,3200,3207,3224,3226,3227,"...","..."]
["WZ08-H","Verkehr und Lagerei",2195,2151,2093,2027,1955,1893,1834,1850,1878,1896,1903,1889,1885,1899,1896,1922,1961,1995,1981,1984,2025,2059,2088,2119,2167,2211,2261,2332,2363,2349]
["WZ08-49","Landverkehr und Transport in Rohrfernleitungen",1127,1083,1043,1006,979,946,909,919,855,838,825,816,809,814,804,807,819,826,829,843,858,870,882,887,898,912,924,943,"...","..."]
["WZ08-50","Schifffahrt",42,40,36,33,31,30,29,29,29,27,26,26,25,26,28,29,29,31,31,31,30,30,29,28,27,27,25,26,"...","..."]
["WZ08-51","Luftfahrt",53,54,52,51,47,47,47,47,50,53,54,53,55,56,58,59,59,62,61,61,63,65,65,65,65,66,68,68,"...","..."]
["WZ08-52","Lagerei, sonstige Dienstleistungen für den Verkehr",463,471,466,465,457,455,458,473,567,581,583,580,584,586,588,601,619,635,615,605,628,642,650,672,697,721,739,774,"...","..."]
["WZ08-53","Post-, Kurier- und Expressdienste",510,503,496,472,441,415,391,382,377,397,415,414,412,417,418,426,435,441,445,444,446,452,462,467,480,485,505,521,"...","..."]
["WZ08-I","Gastgewerbe",1115,1149,1178,1195,1221,1257,1288,1331,1395,1455,1459,1469,1456,1505,1516,1532,1569,1585,1648,1667,1692,1734,1764,1782,1805,1830,1854,1873,1894,1733]
["WZ08-J","Information und Kommunikation",958,962,958,956,949,946,947,975,996,1084,1139,1140,1123,1135,1147,1167,1190,1205,1188,1159,1174,1193,1219,1236,1224,1252,1283,1326,1375,1391]
["WZ08-58-01","Verlagswesen, audio-visual media and Rundfunk",378,377,369,366,363,365,376,386,369,391,396,390,378,381,378,372,367,364,367,366,364,362,360,351,318,316,311,307,"...","..."]
["WZ08-58","Verlagswesen",291,287,279,275,270,269,276,279,256,270,272,264,255,260,258,252,244,240,241,239,237,235,233,222,192,189,184,178,"...","..."]
["WZ08-59-01","Audiovisuelle Medien und Rundfunk",87,90,90,91,93,96,100,107,113,121,124,126,123,121,120,120,123,124,126,127,127,127,127,129,126,127,127,129,"...","..."]
["WZ08-61","Telekommunikation",328,321,314,302,285,268,247,234,223,222,225,217,206,198,195,197,200,194,170,141,133,126,124,123,122,119,114,109,"...","..."]
["WZ08-62-01","IT- und Informationsdienstleister",252,264,275,288,301,313,324,355,404,471,518,533,539,556,574,598,623,647,651,652,677,705,735,762,784,817,858,910,"...","..."]
["WZ08-K","Erbringung von Finanz- und Versicherungsleistungen",1206,1245,1270,1276,1260,1250,1248,1255,1267,1291,1295,1298,1277,1266,1261,1254,1231,1224,1226,1216,1203,1201,1196,1187,1181,1161,1130,1109,1096,1086]
["WZ08-64","Erbringung von Finanzdienstleistungen",761,781,795,801,801,797,793,791,790,799,798,787,758,737,727,721,707,703,698,688,680,678,675,671,666,648,627,607,"...","..."]
["WZ08-65","Versicherungen, Rückversicherungen, Pensionskassen",235,244,247,244,238,235,234,234,234,235,237,245,245,240,234,224,209,199,197,192,189,189,188,184,181,173,158,154,"...","..."]
["WZ08-66","Mit Finanz- u. Versicherungsdienstl. verb. Tätigk.",210,220,228,231,221,218,221,230,243,257,260,266,274,289,300,309,315,322,331,336,334,334,333,332,334,340,345,348,"...","..."]
["WZ08-L","Grundstücks- und Wohnungswesen",264,283,305,326,348,361,392,426,452,462,456,457,457,460,463,471,474,477,464,463,461,464,465,468,468,467,473,477,481,478]
["WZ08-M-02","Unternehmensdienstleister",2315,2356,2409,2557,2708,2850,3012,3247,3533,3823,3906,3948,4024,4188,4336,4598,4870,5025,4998,5215,5391,5505,5584,5690,5820,5970,6139,6227,6201,6044]
["WZ08-M","Freiberufliche, wiss. u. techn. Dienstleistungen",1113,1169,1218,1288,1357,1430,1496,1594,1717,1860,1929,1977,2024,2094,2147,2221,2300,2374,2394,2439,2493,2561,2636,2688,2738,2785,2848,2923,2968,"..."]
["WZ08-69-01","Unternehmensnahe Beratungsleistungen",819,859,896,950,1003,1056,1105,1175,1272,1371,1412,1445,1484,1541,1581,1635,1697,1762,1784,1820,1863,1912,1969,2014,2063,2095,2145,2209,"...","..."]
["WZ08-69-02","Rechts- und Steuerberatung, Unternehmensberatung",549,576,601,637,672,707,739,786,853,921,948,975,1001,1038,1063,1089,1116,1154,1173,1201,1225,1253,1287,1315,1351,1365,1396,1437,"...","..."]
["WZ08-71","Architektur-,Ing.büros,techn.,physik.Untersuchung",270,283,295,313,331,349,366,389,419,450,464,470,483,503,518,546,581,608,611,619,638,659,682,699,712,730,749,772,"...","..."]
["WZ08-72","Forschung und Entwicklung",108,113,116,116,118,123,124,133,136,137,141,150,149,146,145,147,154,161,166,169,174,184,198,202,203,209,218,226,"...","..."]
["WZ08-73-01","Sonst.freiberufl., wissenschaftl., techn. Dienstl.",186,197,206,222,236,251,267,286,309,352,376,382,391,407,421,439,449,451,444,450,456,465,469,472,472,481,485,488,"...","..."]
["WZ08-73","Werbung und Marktforschung",107,113,118,129,138,149,159,172,191,227,247,250,252,261,268,280,285,281,260,257,257,257,253,250,247,250,248,245,"...","..."]
["WZ08-74-01","Freiberufl.,wiss.,techn.DL a.n.g., Veterinärwesen",79,84,88,93,98,102,108,114,118,125,129,132,139,146,153,159,164,170,184,193,199,208,216,222,225,231,237,243,"...","..."]
["WZ08-N","Sonstige wirtschaftliche Dienstleistungen",1202,1187,1191,1269,1351,1420,1516,1653,1816,1963,1977,1971,2000,2094,2189,2377,2570,2651,2604,2776,2898,2944,2948,3002,3082,3185,3291,3304,3233,"..."]
["WZ08-77","Vermietung von beweglichen Sachen",89,93,97,97,95,98,102,107,113,120,123,124,125,129,128,129,132,136,133,130,130,132,131,133,136,137,141,147,"...","..."]
["WZ08-78","Vermittlung und Überlassung von Arbeitskräften",136,134,122,143,175,188,214,261,294,347,361,341,356,417,476,613,749,774,656,809,911,912,881,910,937,968,1017,997,"...","..."]
["WZ08-79","Reisebüros, -veranstalter u. sonst. Reservierungen",70,72,72,72,70,68,69,71,81,84,85,86,87,88,89,91,94,96,97,96,97,99,100,103,103,103,106,110,"...","..."]
["WZ08-80-01","Unternehmensdienstleister a.n.g.",907,888,900,957,1011,1066,1131,1214,1328,1412,1408,1420,1432,1460,1496,1544,1595,1645,1718,1741,1760,1801,1836,1856,1906,1977,2027,2050,"...","..."]
["WZ08-O-03","Öffentliche Dienstleister, Erziehung, Gesundheit",8090,8229,8270,8408,8543,8711,8735,8780,8922,9059,9075,9210,9230,9248,9303,9347,9413,9540,9762,9921,9905,10003,10133,10288,10486,10716,10919,11105,11313,11473]
["WZ08-O","Öff. Verwaltung, Verteidigung, Sozialversicherung",3283,3255,3173,3136,3113,3106,3046,3000,2984,2946,2910,2878,2837,2782,2769,2757,2742,2729,2753,2747,2631,2572,2553,2550,2559,2582,2616,2646,2686,"..."]
["WZ08-P","Erziehung und Unterricht",1696,1726,1770,1796,1827,1853,1858,1869,1921,1977,2019,2064,2077,2077,2086,2123,2153,2198,2254,2299,2309,2345,2388,2421,2434,2453,2491,2529,2569,"..."]
["WZ08-Q","Gesundheits- und Sozialwesen",3111,3248,3327,3476,3603,3752,3831,3911,4017,4136,4146,4268,4316,4389,4448,4467,4518,4613,4755,4875,4965,5086,5192,5317,5493,5681,5812,5930,6058,"..."]
["WZ08-86","Gesundheitswesen",1853,1933,1981,2075,2158,2255,2302,2353,2413,2481,2478,2554,2578,2619,2620,2611,2631,2671,2723,2774,2811,2869,2915,2989,3079,3150,3187,3229,"...","..."]
["WZ08-87-01","Heime und Sozialwesen",1258,1315,1346,1401,1445,1497,1529,1558,1604,1655,1668,1714,1738,1770,1828,1856,1887,1942,2032,2101,2154,2217,2277,2328,2414,2531,2625,2701,"...","..."]
["WZ08-R-02","Sonstige Dienstleister",2129,2203,2233,2322,2404,2461,2506,2572,2660,2750,2772,2781,2786,2837,2841,2867,2932,2949,2988,2926,2939,2923,2948,2938,2956,2978,3005,3011,3035,2963]
["WZ08-R","Kunst, Unterhaltung und Erholung",382,392,394,403,422,439,453,468,492,524,535,543,543,560,574,584,595,607,617,625,629,644,655,663,670,672,683,687,693,"..."]
["WZ08-90-01","Kunst und Kultur, Glücksspiel",246,253,255,258,270,281,287,294,306,326,332,336,333,342,347,353,360,367,377,386,394,406,411,412,412,408,410,408,"...","..."]
["WZ08-93","Dienstleistungen d.Sports,d.Unterhaltg.u.Erholung",136,139,139,145,152,158,166,174,186,198,203,207,210,218,227,231,235,240,240,239,235,238,244,251,258,264,273,279,"...","..."]
["WZ08-S","Erbringung von sonstigen Dienstleistungen",1128,1164,1188,1229,1262,1280,1284,1313,1361,1402,1409,1415,1410,1442,1431,1444,1469,1493,1507,1511,1501,1499,1485,1474,1453,1464,1466,1463,1472,"..."]
["WZ08-94","Interessenvertr., kirchl. u. sonst. Vereinigungen",504,544,565,599,625,639,638,647,671,687,681,680,674,677,661,664,671,679,690,693,688,691,683,677,667,679,691,702,"...","..."]
["WZ08-95","Reparatur von DV-Geräten und Gebrauchsgütern",63,64,65,66,67,68,67,69,69,70,70,70,70,72,73,73,73,72,70,66,65,65,63,63,60,60,59,59,"...","..."]
["WZ08-96","Sonstige überwiegend persönliche Dienstleistungen",561,556,558,564,570,573,579,597,621,645,658,665,666,693,697,707,725,742,747,752,748,743,739,734,726,725,716,702,"...","..."]
["WZ08-T","Private Haushalte",619,647,651,690,720,742,769,791,807,824,828,823,833,835,836,839,868,849,864,790,809,780,808,801,833,842,856,861,870,"..."]
["WZ08-A-02","Alle Wirtschaftsbereiche",38871,38360,37863,37879,38042,38057,38040,38495,39120,39971,39859,39666,39237,39362,39311,39595,40272,40838,40903,41048,41544,42019,42350,42721,43122,43661,44262,44868,45269,44782]

{"sheet":"HI_Hilfstabelle","index":20,"n_rows":29,"n_cols":6,"rows_kept":29,"cut":false,"hidden":false,"merged":[]}
[]
[null,0,null,1992,null,"Totale Faktorproduktivität (auf Basis Bruttowertschöpfung)"]
[null,1,null,{"$f":"D2+1","v":1993},null,"Arbeitsproduktivität (Bruttowertschöpfung/Erwerbstätige)"]
[null,null,null,{"$f":"D3+1","v":1994}]
[null,null,null,1995,null,"Arithmetisches Mittel"]
[null,null,null,1996,null,"Geometrisches Mittel"]
[null,null,null,1997]
[null,null,null,1998,null,"Direkt"]
[null,null,null,1999,null,"Indirekt"]
[null,null,null,2000]
[null,null,null,2001]
[null,null,null,2002]
[null,null,null,2003]
[null,null,null,2004]
[null,null,null,2005]
[null,null,null,2006]
[null,null,null,2007]
[null,null,null,2008]
[null,null,null,2009]
[null,null,null,2010]
[null,null,null,2011]
[null,null,null,2012]
[null,null,null,2013]
[null,null,null,2014]
[null,null,null,2015]
[null,null,null,2016]
[null,null,null,2017]
[null,null,null,2018]
[null,null,null,2019]